{"text_format":"3","workbook":"xlsx","n_sheets":4,"sheets":["FILTRO","D15","D16","_BBDD"],"not_rendered":{"external_links":2,"defined_names":1,"pivot_tables":1},"read":"whole","date_system":"1900"}

{"sheet":"FILTRO","index":0,"n_rows":60,"n_cols":16,"rows_kept":60}
[]
["Establecimiento","(Todas)"]
["Comuna","(Todas)"]
["Mes","(Todas)"]
[]
["Etiquetas de fila","Suma de Col01","Suma de Col02","Suma de Col03","Suma de Col04","Suma de Col05","Suma de Col06","Suma de Col07","Suma de Col08","Suma de Col09","Suma de Col10","Suma de Col11","Suma de Col12","Suma de Col13","Suma de Col14","Suma de Col15"]
["15010100",20320,{"$nulls":3},13981,6199,2,6,65,0,34,19,14]
["15010200",83800,{"$nulls":4},5784,41935,36081]
["15010300",411,{"$nulls":3},295,116,0,0,0,0,0,0,0]
["15010400",1619,{"$nulls":4},110,928,581]
["15010500",6114,null,20,944,902,678,2191,1379]
["15020100",564,8,32,134,314,74,0,0,0,0,0,2,0]
["15020200",1307,{"$nulls":4},92,707,508]
["15020300",2,{"$nulls":4},2]
["15020400",26,{"$nulls":4},0,20,6]
["15020500",22,null,0,0,2,0,18,2]
["15030100",1462.8000000000009,471.19999999999976,489.6,501.9999999999998]
["15040100",96.39999999999999,38.800000000000004,44.8,12.8]
["15050100",156699,63096,94063,1842,4159,12758,20548,18226,33217,29122,20414,null,7546,2850,6017]
["15050200",3655,1863,1717,62,114,493,456,341,1098,687,null,317,41,24,22]
["15050500",550,278,268,152,148,250]
["15060100",2283,1077,1211,28,60,269,443,329,621,438,40,null,31,20,4]
["15060200",13,14,18,0,0,0,1,1,9,2,null,0,0,0,0]
["15060600",24,7,16,10,11,3]
["15080008",43894.5,{"$nulls":7},20202,null,14837,2842.5,6013]
["15080009",1115,{"$nulls":8},936,120,32,27]
["15080010",120,{"$nulls":7},38,null,58,20,4]
["15080011",3,{"$nulls":8},1,2,0,0]
["15080012",30,null,0,30]
["15080014",51586,{"$nulls":3},27142,24193,0,11,150,0,72,5,13]
["15080015",45728,{"$nulls":5},24424,21304]
["15080016",3091,{"$nulls":3},601,446,1254,771,0,12,9,2,0]
["15080017",2,{"$nulls":5},2]
["15080018",1525,33,74,384,558,476,0,0,0,0,0,0,0]
["15080019",820,{"$nulls":5},494,326]
["15080020",10,4,0,0,2,0,4,0,0,0,0,0,0]
["15900010",47724.700000000004,4064.5999999999995,11230.700000000017,32429.40000000009]
["15900020",1979.400000000001,173.49999999999997,364.69999999999993,1441.2000000000014]
["15900030",8470.800000000001,208.39999999999995,567.5999999999999,5729.199999999997,1140.4,736.8000000000001,81.99999999999999,6.4]
["15900040",2340.3999999999983,102.80000000000003,422.8,989.1999999999995,634.4,151.99999999999994,25.999999999999996,13.2]
["15900050",1947,1070,831,111,282,762,488,260,40,4]
["15900070",3.2,null,null,3.2]
["15901200",1589.5999999999997,61.2,150.40000000000003,641.5999999999998,457.59999999999997,275.6,3.2,0]
["15901300",786.3999999999997,44,92.8,362.79999999999995,180.8,101.20000000000003,4.8,0]
["15901400",659,374,258,31,66,279,179,102,2,0]
["15901500",486.19999999999993,37.3,60.2,388.7000000000001]
["16090100",949,950]
["16090300",229841,229914]
["16090500",458,458]
["16090600",58,58]
["16100100",949,409,540]
["16100300",230690,97588,133102]
["16100600",463,165,298]
["16100700",53,44,9]
["16200100",3868,2067,1801]
["16200210",16940,16943]
["16200220",17176,6506,10670]
["16200230",152,71,81]
["16200240",2,2]
["Total general",994478.4000000001,428200.8,258432.6,46228.10000000008,51050.200000000004,54249.6,94210,80253.59999999999,55442,31202,35586,3239.5,13689,2894,6043]

{"sheet":"D15","index":1,"n_rows":158,"n_cols":34,"rows_kept":158,"merged":[[5,1,5,11],[6,1,6,17],[8,1,11,1],[8,2,11,2],[8,3,11,3],[8,4,8,10],[8,11,8,12],[8,13,8,15],[9,4,11,4],[9,5,11,5],[9,6,11,6],[9,7,11,7],[9,8,11,8],[9,9,11,9],[9,10,11,10],[9,11,11,11],[9,12,11,12],[9,13,11,13],[9,14,11,14],[9,15,11,15],[12,1,18,1],[19,1,26,1],[27,1,29,1],[31,1,33,1],[34,1,34,2],[37,1,40,2],[37,3,40,3],[37,4,40,4],[37,5,40,5],[37,6,37,12],[37,13,37,14],[37,15,37,17],[38,6,40,6],[38,7,40,7],[38,8,40,8],[38,9,40,9],[38,10,40,10],[38,11,40,11],[38,12,40,12],[38,13,40,13],[38,14,40,14],[38,15,40,15],[38,16,40,16],[38,17,40,17],[41,1,41,2],[43,1,43,2],[45,1,45,2],[46,1,46,2],[50,1,53,1],[50,2,53,2],[50,3,53,3],[50,4,50,10],[50,11,50,12],[50,13,50,15],[51,4,53,4],[51,5,53,5],[51,6,53,6],[51,7,53,7],[51,8,53,8],[51,9,53,9],[51,10,53,10],[51,11,53,11],[51,12,53,12],[51,13,53,13],[51,14,53,14],[51,15,53,15],[54,1,60,1],[61,1,68,1],[69,1,72,1],[73,1,75,1],[76,1,76,2],[79,1,82,2],[79,3,82,3],[79,4,82,4],[79,5,82,5],[79,6,79,12],[79,13,79,14],[79,15,79,17],[80,6,82,6],[80,7,82,7],[80,8,82,8],[80,9,82,9],[80,10,82,10],[80,11,82,11],[80,12,82,12],[80,13,82,13],[80,14,82,14],[80,15,82,15],[80,16,82,16],[80,17,82,17],[83,1,83,2],[85,1,85,2],[86,1,86,2],[87,1,87,2],[88,1,88,2],[92,1,94,2],[92,3,94,3],[92,4,92,5],[92,6,94,6],[92,7,92,13],[92,14,94,14],[93,4,94,4],[93,5,94,5],[93,7,93,9],[93,10,94,10],[93,11,94,11],[93,12,94,12],[93,13,94,13],[95,1,95,2],[97,1,97,2],[99,1,99,2],[101,1,101,2],[102,1,102,2],[103,1,103,2],[104,1,104,2],[105,1,105,2]]}
[null,"SERVICIO DE SALUD"]
[null,{"$f":"CONCATENATE(\"COMUNA: \",[1]NOMBRE!$B$2,\" \",\"( \",[1]NOMBRE!$C$2,[1]NOMBRE!$D$2,[1]NOMBRE!$E$2,[1]NOMBRE!$F$2,[1]NOMBRE!$G$2,\" )\")","v":"COMUNA: 0 ( 00000 )"}]
[null,{"$f":"CONCATENATE(\"ESTABLECIMIENTO/ESTRATEGIA: \",[1]NOMBRE!$B$3,\"   \",\"( \",[1]NOMBRE!$C$3,[1]NOMBRE!$D$3,[1]NOMBRE!$E$3,[1]NOMBRE!$F$3,[1]NOMBRE!$G$3,[1]NOMBRE!$H$3,\" )\")","v":"ESTABLECIMIENTO/ESTRATEGIA: 0   ( 000000 )"}]
[null,{"$f":"CONCATENATE(\"MES: \",[1]NOMBRE!$B$6,\"  \",\"( \",[1]NOMBRE!$C$6,[1]NOMBRE!$D$6,\" )\")","v":"MES: 0  ( 00 )"}]
[null,{"$f":"CONCATENATE(\"AÑO: \",[1]NOMBRE!$B$7)","v":"AÑO: 2023"}]
[]
[null,"REM-D.15 - Programa Nacional de Alimentación Complementaria (PNAC)"]
[null,"Sección A: PNAC - Cantidad distribuida (kg) a personas intrasistema"]
[null,"Subprogramas","Productos","Total","Menores a 6 años",{"$nulls":6},"Gestantes",null,"Persona que amamanta a  hijo/a menor a 12 meses"]
[{"$nulls":4},"0 - 2 meses","3 - 5 meses","6 - 11 meses","12 - 17 meses"," 18 - 23 meses"," 24 - 47 meses"," 48 - 71 meses","Normal, sobrepeso y obesas","Bajo peso","0 a 5 meses con Lactancia Materna exclusiva","0 a 5 meses Lactancia Materna + Fórmula Láctea","6 a 11 meses Lactancia Materna"]
[]
[]
["15010100","Básico","Leche Purita Fortificada (LPF)",{"$f":"SUM(H13:P13)","v":{"v":20320,"d":"20,320"}},{"$f":"IFERROR(VLOOKUP($A13,FILTRO!$A$5:$P$59,3,FALSE),0)","v":0},{"$f":"IFERROR(VLOOKUP($A13,FILTRO!$A$5:$P$59,4,FALSE),0)","v":0},{"$f":"IFERROR(VLOOKUP($A13,FILTRO!$A$5:$P$59,5,FALSE),0)","v":0},{"$f":"IFERROR(VLOOKUP($A13,FILTRO!$A$5:$P$59,6,FALSE),0)","v":{"v":13981,"d":"13,981"}},{"$f":"IFERROR(VLOOKUP($A13,FILTRO!$A$5:$P$59,7,FALSE),0)","v":{"v":6199,"d":"6,199"}},{"$f":"IFERROR(VLOOKUP($A13,FILTRO!$A$5:$P$59,8,FALSE),0)","v":2},{"$f":"IFERROR(VLOOKUP($A13,FILTRO!$A$5:$P$59,9,FALSE),0)","v":6},{"$f":"IFERROR(VLOOKUP($A13,FILTRO!$A$5:$P$59,10,FALSE),0)","v":65},{"$f":"IFERROR(VLOOKUP($A13,FILTRO!$A$5:$P$59,11,FALSE),0)","v":0},{"$f":"IFERROR(VLOOKUP($A13,FILTRO!$A$5:$P$59,12,FALSE),0)","v":34},{"$f":"IFERROR(VLOOKUP($A13,FILTRO!$A$5:$P$59,13,FALSE),0)","v":19},{"$f":"IFERROR(VLOOKUP($A13,FILTRO!$A$5:$P$59,14,FALSE),0)","v":14}]
["15080014",null,"Purita +Pro 1",{"$f":"SUM(H14:P14)","v":{"v":51586,"d":"51,586"}},{"$f":"IFERROR(VLOOKUP($A14,FILTRO!$A$5:$P$59,3,FALSE),0)","v":0},{"$f":"IFERROR(VLOOKUP($A14,FILTRO!$A$5:$P$59,4,FALSE),0)","v":0},{"$f":"IFERROR(VLOOKUP($A14,FILTRO!$A$5:$P$59,5,FALSE),0)","v":0},{"$f":"IFERROR(VLOOKUP($A14,FILTRO!$A$5:$P$59,6,FALSE),0)","v":{"v":27142,"d":"27,142"}},{"$f":"IFERROR(VLOOKUP($A14,FILTRO!$A$5:$P$59,7,FALSE),0)","v":{"v":24193,"d":"24,193"}},{"$f":"IFERROR(VLOOKUP($A14,FILTRO!$A$5:$P$59,8,FALSE),0)","v":0},{"$f":"IFERROR(VLOOKUP($A14,FILTRO!$A$5:$P$59,9,FALSE),0)","v":11},{"$f":"IFERROR(VLOOKUP($A14,FILTRO!$A$5:$P$59,10,FALSE),0)","v":150},{"$f":"IFERROR(VLOOKUP($A14,FILTRO!$A$5:$P$59,11,FALSE),0)","v":0},{"$f":"IFERROR(VLOOKUP($A14,FILTRO!$A$5:$P$59,12,FALSE),0)","v":72},{"$f":"IFERROR(VLOOKUP($A14,FILTRO!$A$5:$P$59,13,FALSE),0)","v":5},{"$f":"IFERROR(VLOOKUP($A14,FILTRO!$A$5:$P$59,14,FALSE),0)","v":13}]
["15010200",null,"Purita Cereal (PC)",{"$f":"SUM(I15:K15)","v":{"v":83800,"d":"83,800"}},{"$f":"IFERROR(VLOOKUP($A15,FILTRO!$A$5:$P$59,3,FALSE),0)","v":0},{"$f":"IFERROR(VLOOKUP($A15,FILTRO!$A$5:$P$59,4,FALSE),0)","v":0},{"$f":"IFERROR(VLOOKUP($A15,FILTRO!$A$5:$P$59,5,FALSE),0)","v":0},{"$f":"IFERROR(VLOOKUP($A15,FILTRO!$A$5:$P$59,6,FALSE),0)","v":0},{"$f":"IFERROR(VLOOKUP($A15,FILTRO!$A$5:$P$59,7,FALSE),0)","v":{"v":5784,"d":"5,784"}},{"$f":"IFERROR(VLOOKUP($A15,FILTRO!$A$5:$P$59,8,FALSE),0)","v":{"v":41935,"d":"41,935"}},{"$f":"IFERROR(VLOOKUP($A15,FILTRO!$A$5:$P$59,9,FALSE),0)","v":{"v":36081,"d":"36,081"}},{"$f":"IFERROR(VLOOKUP($A15,FILTRO!$A$5:$P$59,10,FALSE),0)","v":0},{"$f":"IFERROR(VLOOKUP($A15,FILTRO!$A$5:$P$59,11,FALSE),0)","v":0},{"$f":"IFERROR(VLOOKUP($A15,FILTRO!$A$5:$P$59,12,FALSE),0)","v":0},{"$f":"IFERROR(VLOOKUP($A15,FILTRO!$A$5:$P$59,13,FALSE),0)","v":0},{"$f":"IFERROR(VLOOKUP($A15,FILTRO!$A$5:$P$59,14,FALSE),0)","v":0}]
["15080015",null,"Purita +Pro 2",{"$f":"SUM(J16:K16)","v":{"v":45728,"d":"45,728"}},{"$f":"IFERROR(VLOOKUP($A16,FILTRO!$A$5:$P$59,3,FALSE),0)","v":0},{"$f":"IFERROR(VLOOKUP($A16,FILTRO!$A$5:$P$59,4,FALSE),0)","v":0},{"$f":"IFERROR(VLOOKUP($A16,FILTRO!$A$5:$P$59,5,FALSE),0)","v":0},{"$f":"IFERROR(VLOOKUP($A16,FILTRO!$A$5:$P$59,6,FALSE),0)","v":0},{"$f":"IFERROR(VLOOKUP($A16,FILTRO!$A$5:$P$59,7,FALSE),0)","v":0},{"$f":"IFERROR(VLOOKUP($A16,FILTRO!$A$5:$P$59,8,FALSE),0)","v":{"v":24424,"d":"24,424"}},{"$f":"IFERROR(VLOOKUP($A16,FILTRO!$A$5:$P$59,9,FALSE),0)","v":{"v":21304,"d":"21,304"}},{"$f":"IFERROR(VLOOKUP($A16,FILTRO!$A$5:$P$59,10,FALSE),0)","v":0},{"$f":"IFERROR(VLOOKUP($A16,FILTRO!$A$5:$P$59,11,FALSE),0)","v":0},{"$f":"IFERROR(VLOOKUP($A16,FILTRO!$A$5:$P$59,12,FALSE),0)","v":0},{"$f":"IFERROR(VLOOKUP($A16,FILTRO!$A$5:$P$59,13,FALSE),0)","v":0},{"$f":"IFERROR(VLOOKUP($A16,FILTRO!$A$5:$P$59,14,FALSE),0)","v":0}]
["15080008",null,"Purita Mamá (PM)",{"$f":"SUM(N17:P17)+L17","v":43894.5},{"$f":"IFERROR(VLOOKUP($A17,FILTRO!$A$5:$P$59,3,FALSE),0)","v":0},{"$f":"IFERROR(VLOOKUP($A17,FILTRO!$A$5:$P$59,4,FALSE),0)","v":0},{"$f":"IFERROR(VLOOKUP($A17,FILTRO!$A$5:$P$59,5,FALSE),0)","v":0},{"$f":"IFERROR(VLOOKUP($A17,FILTRO!$A$5:$P$59,6,FALSE),0)","v":0},{"$f":"IFERROR(VLOOKUP($A17,FILTRO!$A$5:$P$59,7,FALSE),0)","v":0},{"$f":"IFERROR(VLOOKUP($A17,FILTRO!$A$5:$P$59,8,FALSE),0)","v":0},{"$f":"IFERROR(VLOOKUP($A17,FILTRO!$A$5:$P$59,9,FALSE),0)","v":0},{"$f":"IFERROR(VLOOKUP($A17,FILTRO!$A$5:$P$59,10,FALSE),0)","v":{"v":20202,"d":"20,202"}},{"$f":"IFERROR(VLOOKUP($A17,FILTRO!$A$5:$P$59,11,FALSE),0)","v":0},{"$f":"IFERROR(VLOOKUP($A17,FILTRO!$A$5:$P$59,12,FALSE),0)","v":{"v":14837,"d":"14,837"}},{"$f":"IFERROR(VLOOKUP($A17,FILTRO!$A$5:$P$59,13,FALSE),0)","v":{"v":2842.5,"d":"2,843"}},{"$f":"IFERROR(VLOOKUP($A17,FILTRO!$A$5:$P$59,14,FALSE),0)","v":{"v":6013,"d":"6,013"}},{"$nulls":11},{"$f":"IF(AND(OR(L13<>0,L14<>0,L17<>0),N42=\"\"),\"* No olvide ingresar el Nº de personas que retiran alimento de la sección B en el grupo de Gestantes Normal, Sobrepeso y Obesas.\",\"\")","v":""},{"$f":"IF(AND(SUM(N13,N14,N17)<>0,P42=\"\"),\"* No olvide ingresar el Nº de personas que retiran alimento de la sección B en el grupo de Madre con hijo/a menor a 6 meses con Lactancia materna exclusiva.\",\"\")","v":""},{"$f":"IF(AND(SUM(O13,O14,O17)<>0,Q42=\"\"),\"* No olvide ingresar el Nº de personas que retiran alimento de la sección D en el grupo de Madre con hijo/a menor a 6 meses con Lactancia materna predominante.\",\"\")","v":""},{"$f":"IF(AND(SUM(P13,P14,P17)<>0,R42=\"\"),\"* No olvide ingresar el Nº de personas que retiran alimento de la sección B en el grupo de Madre con hijo/a menor a 6 meses con Formula predominantes o exclusiva.\",\"\")","v":""}]
["15900010",null,"Fórmula de Inicio (FI)",{"$f":"SUM(E18:G18)","v":{"v":47724.700000000106,"d":"47724.7"}},{"$f":"IFERROR(VLOOKUP($A18,FILTRO!$A$5:$P$59,3,FALSE),0)","v":{"v":4064.5999999999995,"d":"4065"}},{"$f":"IFERROR(VLOOKUP($A18,FILTRO!$A$5:$P$59,4,FALSE),0)","v":{"v":11230.700000000017,"d":"11231"}},{"$f":"IFERROR(VLOOKUP($A18,FILTRO!$A$5:$P$59,5,FALSE),0)","v":{"v":32429.40000000009,"d":"32429"}},{"$f":"IFERROR(VLOOKUP($A18,FILTRO!$A$5:$P$59,6,FALSE),0)","v":0},{"$f":"IFERROR(VLOOKUP($A18,FILTRO!$A$5:$P$59,7,FALSE),0)","v":0},{"$f":"IFERROR(VLOOKUP($A18,FILTRO!$A$5:$P$59,8,FALSE),0)","v":0},{"$f":"IFERROR(VLOOKUP($A18,FILTRO!$A$5:$P$59,9,FALSE),0)","v":0},{"$f":"IFERROR(VLOOKUP($A18,FILTRO!$A$5:$P$59,10,FALSE),0)","v":0},{"$f":"IFERROR(VLOOKUP($A18,FILTRO!$A$5:$P$59,11,FALSE),0)","v":0},{"$f":"IFERROR(VLOOKUP($A18,FILTRO!$A$5:$P$59,12,FALSE),0)","v":0},{"$f":"IFERROR(VLOOKUP($A18,FILTRO!$A$5:$P$59,13,FALSE),0)","v":0},{"$f":"IFERROR(VLOOKUP($A18,FILTRO!$A$5:$P$59,14,FALSE),0)","v":0}]
[null,null,"Subtotal",{"$f":"SUM(E19:P19)","v":{"v":293053.20000000007,"d":"293053.200"}},{"$f":"SUM(E18)","v":{"v":4064.5999999999995,"d":"4064.600"}},{"$f":"SUM(F18)","v":{"v":11230.700000000017,"d":"11230.700"}},{"$f":"SUM(G18)","v":{"v":32429.40000000009,"d":"32429.400"}},{"$f":"SUM(H13:H14)","v":41123},{"$f":"SUM(I13:I15)","v":36176},{"$f":"SUM(J13:J16)","v":66361},{"$f":"SUM(K13:K16)","v":57402},{"$f":"SUM(L13:L18)","v":{"v":20417,"d":"20417.0"}},{"$f":"SUM(M13:M14)","v":0},{"$f":"SUM(N13:N18)","v":{"v":14943,"d":"14943.0"}},{"$f":"SUM(O13:O18)","v":2866.5},{"$f":"SUM(P13:P18)","v":{"v":6040,"d":"6040.0"}}]
["15010300","Refuerzo","Leche Purita Fortificada (LPF)",{"$f":"SUM(H20:Q20)","v":411},{"$f":"IFERROR(VLOOKUP($A20,FILTRO!$A$5:$P$59,3,FALSE),0)","v":0},{"$f":"IFERROR(VLOOKUP($A20,FILTRO!$A$5:$P$59,4,FALSE),0)","v":0},{"$f":"IFERROR(VLOOKUP($A20,FILTRO!$A$5:$P$59,5,FALSE),0)","v":0},{"$f":"IFERROR(VLOOKUP($A20,FILTRO!$A$5:$P$59,6,FALSE),0)","v":295},{"$f":"IFERROR(VLOOKUP($A20,FILTRO!$A$5:$P$59,7,FALSE),0)","v":116},{"$f":"IFERROR(VLOOKUP($A20,FILTRO!$A$5:$P$59,8,FALSE),0)","v":0},{"$f":"IFERROR(VLOOKUP($A20,FILTRO!$A$5:$P$59,9,FALSE),0)","v":0},{"$f":"IFERROR(VLOOKUP($A20,FILTRO!$A$5:$P$59,10,FALSE),0)","v":0},{"$f":"IFERROR(VLOOKUP($A20,FILTRO!$A$5:$P$59,11,FALSE),0)","v":0},{"$f":"IFERROR(VLOOKUP($A20,FILTRO!$A$5:$P$59,12,FALSE),0)","v":0},{"$f":"IFERROR(VLOOKUP($A20,FILTRO!$A$5:$P$59,13,FALSE),0)","v":0},{"$f":"IFERROR(VLOOKUP($A20,FILTRO!$A$5:$P$59,14,FALSE),0)","v":0}]
["15080016",null,"Purita +Pro 1",{"$f":"SUM(H21:Q21)","v":3095},{"$f":"IFERROR(VLOOKUP($A21,FILTRO!$A$5:$P$59,3,FALSE),0)","v":0},{"$f":"IFERROR(VLOOKUP($A21,FILTRO!$A$5:$P$59,4,FALSE),0)","v":0},{"$f":"IFERROR(VLOOKUP($A21,FILTRO!$A$5:$P$59,5,FALSE),0)","v":0},{"$f":"IFERROR(VLOOKUP($A21,FILTRO!$A$5:$P$59,6,FALSE),0)","v":601},{"$f":"IFERROR(VLOOKUP($A21,FILTRO!$A$5:$P$59,7,FALSE),0)","v":446},{"$f":"IFERROR(VLOOKUP($A21,FILTRO!$A$5:$P$59,8,FALSE),0)","v":1254},{"$f":"IFERROR(VLOOKUP($A21,FILTRO!$A$5:$P$59,9,FALSE),0)","v":771},{"$f":"IFERROR(VLOOKUP($A21,FILTRO!$A$5:$P$59,10,FALSE),0)","v":0},{"$f":"IFERROR(VLOOKUP($A21,FILTRO!$A$5:$P$59,11,FALSE),0)","v":12},{"$f":"IFERROR(VLOOKUP($A21,FILTRO!$A$5:$P$59,12,FALSE),0)","v":9},{"$f":"IFERROR(VLOOKUP($A21,FILTRO!$A$5:$P$59,13,FALSE),0)","v":2},{"$f":"IFERROR(VLOOKUP($A21,FILTRO!$A$5:$P$59,14,FALSE),0)","v":0}]
["15010400",null,"Purita Cereal (PC)",{"$f":"SUM(I22:K22)","v":1619},{"$f":"IFERROR(VLOOKUP($A22,FILTRO!$A$5:$P$59,3,FALSE),0)","v":0},{"$f":"IFERROR(VLOOKUP($A22,FILTRO!$A$5:$P$59,4,FALSE),0)","v":0},{"$f":"IFERROR(VLOOKUP($A22,FILTRO!$A$5:$P$59,5,FALSE),0)","v":0},{"$f":"IFERROR(VLOOKUP($A22,FILTRO!$A$5:$P$59,6,FALSE),0)","v":0},{"$f":"IFERROR(VLOOKUP($A22,FILTRO!$A$5:$P$59,7,FALSE),0)","v":110},{"$f":"IFERROR(VLOOKUP($A22,FILTRO!$A$5:$P$59,8,FALSE),0)","v":928},{"$f":"IFERROR(VLOOKUP($A22,FILTRO!$A$5:$P$59,9,FALSE),0)","v":581},{"$f":"IFERROR(VLOOKUP($A22,FILTRO!$A$5:$P$59,10,FALSE),0)","v":0},{"$f":"IFERROR(VLOOKUP($A22,FILTRO!$A$5:$P$59,11,FALSE),0)","v":0},{"$f":"IFERROR(VLOOKUP($A22,FILTRO!$A$5:$P$59,12,FALSE),0)","v":0},{"$f":"IFERROR(VLOOKUP($A22,FILTRO!$A$5:$P$59,13,FALSE),0)","v":0},{"$f":"IFERROR(VLOOKUP($A22,FILTRO!$A$5:$P$59,14,FALSE),0)","v":0}]
["15080017",null,"Purita +Pro 2",{"$f":"SUM(J23:K23)","v":2},{"$f":"IFERROR(VLOOKUP($A23,FILTRO!$A$5:$P$59,3,FALSE),0)","v":0},{"$f":"IFERROR(VLOOKUP($A23,FILTRO!$A$5:$P$59,4,FALSE),0)","v":0},{"$f":"IFERROR(VLOOKUP($A23,FILTRO!$A$5:$P$59,5,FALSE),0)","v":0},{"$f":"IFERROR(VLOOKUP($A23,FILTRO!$A$5:$P$59,6,FALSE),0)","v":0},{"$f":"IFERROR(VLOOKUP($A23,FILTRO!$A$5:$P$59,7,FALSE),0)","v":0},{"$f":"IFERROR(VLOOKUP($A23,FILTRO!$A$5:$P$59,8,FALSE),0)","v":2},{"$f":"IFERROR(VLOOKUP($A23,FILTRO!$A$5:$P$59,9,FALSE),0)","v":0},{"$f":"IFERROR(VLOOKUP($A23,FILTRO!$A$5:$P$59,10,FALSE),0)","v":0},{"$f":"IFERROR(VLOOKUP($A23,FILTRO!$A$5:$P$59,11,FALSE),0)","v":0},{"$f":"IFERROR(VLOOKUP($A23,FILTRO!$A$5:$P$59,12,FALSE),0)","v":0},{"$f":"IFERROR(VLOOKUP($A23,FILTRO!$A$5:$P$59,13,FALSE),0)","v":0},{"$f":"IFERROR(VLOOKUP($A23,FILTRO!$A$5:$P$59,14,FALSE),0)","v":0}]
["15010500",null,"Mi Sopita (MS)",{"$f":"SUM(F24:K24)","v":6114},{"$f":"IFERROR(VLOOKUP($A24,FILTRO!$A$5:$P$59,3,FALSE),0)","v":0},{"$f":"IFERROR(VLOOKUP($A24,FILTRO!$A$5:$P$59,4,FALSE),0)","v":20},{"$f":"IFERROR(VLOOKUP($A24,FILTRO!$A$5:$P$59,5,FALSE),0)","v":944},{"$f":"IFERROR(VLOOKUP($A24,FILTRO!$A$5:$P$59,6,FALSE),0)","v":902},{"$f":"IFERROR(VLOOKUP($A24,FILTRO!$A$5:$P$59,7,FALSE),0)","v":678},{"$f":"IFERROR(VLOOKUP($A24,FILTRO!$A$5:$P$59,8,FALSE),0)","v":2191},{"$f":"IFERROR(VLOOKUP($A24,FILTRO!$A$5:$P$59,9,FALSE),0)","v":1379},{"$f":"IFERROR(VLOOKUP($A24,FILTRO!$A$5:$P$59,10,FALSE),0)","v":0},{"$f":"IFERROR(VLOOKUP($A24,FILTRO!$A$5:$P$59,11,FALSE),0)","v":0},{"$f":"IFERROR(VLOOKUP($A24,FILTRO!$A$5:$P$59,12,FALSE),0)","v":0},{"$f":"IFERROR(VLOOKUP($A24,FILTRO!$A$5:$P$59,13,FALSE),0)","v":0},{"$f":"IFERROR(VLOOKUP($A24,FILTRO!$A$5:$P$59,14,FALSE),0)","v":0}]
["15080009",null,"Purita Mamá (PM)",{"$f":"SUM(M25:Q25)","v":1115},{"$f":"IFERROR(VLOOKUP($A25,FILTRO!$A$5:$P$59,3,FALSE),0)","v":0},{"$f":"IFERROR(VLOOKUP($A25,FILTRO!$A$5:$P$59,4,FALSE),0)","v":0},{"$f":"IFERROR(VLOOKUP($A25,FILTRO!$A$5:$P$59,5,FALSE),0)","v":0},{"$f":"IFERROR(VLOOKUP($A25,FILTRO!$A$5:$P$59,6,FALSE),0)","v":0},{"$f":"IFERROR(VLOOKUP($A25,FILTRO!$A$5:$P$59,7,FALSE),0)","v":0},{"$f":"IFERROR(VLOOKUP($A25,FILTRO!$A$5:$P$59,8,FALSE),0)","v":0},{"$f":"IFERROR(VLOOKUP($A25,FILTRO!$A$5:$P$59,9,FALSE),0)","v":0},{"$f":"IFERROR(VLOOKUP($A25,FILTRO!$A$5:$P$59,10,FALSE),0)","v":0},{"$f":"IFERROR(VLOOKUP($A25,FILTRO!$A$5:$P$59,11,FALSE),0)","v":936},{"$f":"IFERROR(VLOOKUP($A25,FILTRO!$A$5:$P$59,12,FALSE),0)","v":120},{"$f":"IFERROR(VLOOKUP($A25,FILTRO!$A$5:$P$59,13,FALSE),0)","v":32},{"$f":"IFERROR(VLOOKUP($A25,FILTRO!$A$5:$P$59,14,FALSE),0)","v":27}]
["15900020",null,"Fórmula de Inicio (FI)",{"$f":"SUM(E26:G26)","v":{"v":1979.4000000000015,"d":"1979"}},{"$f":"IFERROR(VLOOKUP($A26,FILTRO!$A$5:$P$59,3,FALSE),0)","v":{"v":173.49999999999997,"d":"174"}},{"$f":"IFERROR(VLOOKUP($A26,FILTRO!$A$5:$P$59,4,FALSE),0)","v":{"v":364.69999999999993,"d":"365"}},{"$f":"IFERROR(VLOOKUP($A26,FILTRO!$A$5:$P$59,5,FALSE),0)","v":{"v":1441.2000000000014,"d":"1441"}},{"$f":"IFERROR(VLOOKUP($A26,FILTRO!$A$5:$P$59,6,FALSE),0)","v":0},{"$f":"IFERROR(VLOOKUP($A26,FILTRO!$A$5:$P$59,7,FALSE),0)","v":0},{"$f":"IFERROR(VLOOKUP($A26,FILTRO!$A$5:$P$59,8,FALSE),0)","v":0},{"$f":"IFERROR(VLOOKUP($A26,FILTRO!$A$5:$P$59,9,FALSE),0)","v":0},{"$f":"IFERROR(VLOOKUP($A26,FILTRO!$A$5:$P$59,10,FALSE),0)","v":0},null,{"$f":"IFERROR(VLOOKUP($A26,FILTRO!$A$5:$P$59,11,FALSE),0)","v":0},{"$f":"IFERROR(VLOOKUP($A26,FILTRO!$A$5:$P$59,13,FALSE),0)","v":0},{"$f":"IFERROR(VLOOKUP($A26,FILTRO!$A$5:$P$59,14,FALSE),0)","v":0}]
[null,null,"Subtotal",{"$f":"SUM(E27:Q27)","v":{"v":14335.400000000001,"d":"14335.400"}},{"$f":"SUM(E26)","v":{"v":173.49999999999997,"d":"173.500"}},{"$f":"SUM(F20:F26)","v":{"v":384.69999999999993,"d":"384.700"}},{"$f":"SUM(G20:G26)","v":{"v":2385.2000000000016,"d":"2385.200"}},{"$f":"SUM(H20:H24)","v":1798},{"$f":"SUM(I20:I24)","v":1350},{"$f":"SUM(J20:J24)","v":4375},{"$f":"SUM(K20:K24)","v":2731},{"$f":"SUM(L20:L21)","v":{"v":0,"d":"0.0"}},{"$f":"SUM(M20:M26)","v":{"v":948,"d":"948.0"}},{"$f":"SUM(N20:N26)","v":{"v":129,"d":"129.0"}},{"$f":"SUM(O20:O26)","v":{"v":34,"d":"34.0"}},{"$f":"SUM(P20:P26)","v":{"v":27,"d":"27.0"}}]
["15030100","Prematuros ","Fórmula de Prematuros (FP)",{"$f":"SUM(E28:G28)","v":{"v":1462.7999999999995,"d":"1462.800"}},{"$f":"IFERROR(VLOOKUP($A28,FILTRO!$A$5:$P$59,3,FALSE),0)","v":{"v":471.19999999999976,"d":"471.200"}},{"$f":"IFERROR(VLOOKUP($A28,FILTRO!$A$5:$P$59,4,FALSE),0)","v":{"v":489.6,"d":"489.600"}},{"$f":"IFERROR(VLOOKUP($A28,FILTRO!$A$5:$P$59,5,FALSE),0)","v":{"v":501.9999999999998,"d":"502.000"}},{"$f":"IFERROR(VLOOKUP($A28,FILTRO!$A$5:$P$59,6,FALSE),0)","v":{"v":0,"d":"0.000"}},{"$f":"IFERROR(VLOOKUP($A28,FILTRO!$A$5:$P$59,7,FALSE),0)","v":{"v":0,"d":"0.000"}},{"$f":"IFERROR(VLOOKUP($A28,FILTRO!$A$5:$P$59,8,FALSE),0)","v":{"v":0,"d":"0.000"}},{"$f":"IFERROR(VLOOKUP($A28,FILTRO!$A$5:$P$59,9,FALSE),0)","v":{"v":0,"d":"0.000"}},{"$f":"IFERROR(VLOOKUP($A28,FILTRO!$A$5:$P$59,10,FALSE),0)","v":{"v":0,"d":"0.000"}},{"$f":"IFERROR(VLOOKUP($A28,FILTRO!$A$5:$P$59,11,FALSE),0)","v":{"v":0,"d":"0.000"}},{"$f":"IFERROR(VLOOKUP($A28,FILTRO!$A$5:$P$59,12,FALSE),0)","v":{"v":0,"d":"0.000"}},{"$f":"IFERROR(VLOOKUP($A28,FILTRO!$A$5:$P$59,13,FALSE),0)","v":{"v":0,"d":"0.000"}},{"$f":"IFERROR(VLOOKUP($A28,FILTRO!$A$5:$P$59,14,FALSE),0)","v":{"v":0,"d":"0.000"}}]
["15901500",null,"Fórmula de Incio (FI)",{"$f":"SUM(E29:G29)","v":{"v":486.2000000000001,"d":"486.200"}},{"$f":"IFERROR(VLOOKUP($A29,FILTRO!$A$5:$P$59,3,FALSE),0)","v":{"v":37.3,"d":"37.300"}},{"$f":"IFERROR(VLOOKUP($A29,FILTRO!$A$5:$P$59,4,FALSE),0)","v":{"v":60.2,"d":"60.200"}},{"$f":"IFERROR(VLOOKUP($A29,FILTRO!$A$5:$P$59,5,FALSE),0)","v":{"v":388.7000000000001,"d":"388.700"}},{"$f":"IFERROR(VLOOKUP($A29,FILTRO!$A$5:$P$59,6,FALSE),0)","v":{"v":0,"d":"0.000"}},{"$f":"IFERROR(VLOOKUP($A29,FILTRO!$A$5:$P$59,7,FALSE),0)","v":{"v":0,"d":"0.000"}},{"$f":"IFERROR(VLOOKUP($A29,FILTRO!$A$5:$P$59,8,FALSE),0)","v":{"v":0,"d":"0.000"}},{"$f":"IFERROR(VLOOKUP($A29,FILTRO!$A$5:$P$59,9,FALSE),0)","v":{"v":0,"d":"0.000"}},{"$f":"IFERROR(VLOOKUP($A29,FILTRO!$A$5:$P$59,10,FALSE),0)","v":{"v":0,"d":"0.000"}},{"$f":"IFERROR(VLOOKUP($A29,FILTRO!$A$5:$P$59,11,FALSE),0)","v":{"v":0,"d":"0.000"}},{"$f":"IFERROR(VLOOKUP($A29,FILTRO!$A$5:$P$59,12,FALSE),0)","v":{"v":0,"d":"0.000"}},{"$f":"IFERROR(VLOOKUP($A29,FILTRO!$A$5:$P$59,13,FALSE),0)","v":{"v":0,"d":"0.000"}},{"$f":"IFERROR(VLOOKUP($A29,FILTRO!$A$5:$P$59,14,FALSE),0)","v":{"v":0,"d":"0.000"}}]
["15080012",null,"Mi Sopita (MS)",{"$f":"SUM(F30:G30)","v":30},{"$f":"IFERROR(VLOOKUP($A30,FILTRO!$A$5:$P$59,3,FALSE),0)","v":{"v":0,"d":"0.000"}},{"$f":"IFERROR(VLOOKUP($A30,FILTRO!$A$5:$P$59,4,FALSE),0)","v":{"v":0,"d":"0.000"}},{"$f":"IFERROR(VLOOKUP($A30,FILTRO!$A$5:$P$59,5,FALSE),0)","v":{"v":30,"d":"30.000"}},{"$f":"IFERROR(VLOOKUP($A30,FILTRO!$A$5:$P$59,6,FALSE),0)","v":{"v":0,"d":"0.000"}},{"$f":"IFERROR(VLOOKUP($A30,FILTRO!$A$5:$P$59,7,FALSE),0)","v":{"v":0,"d":"0.000"}},{"$f":"IFERROR(VLOOKUP($A30,FILTRO!$A$5:$P$59,8,FALSE),0)","v":{"v":0,"d":"0.000"}},{"$f":"IFERROR(VLOOKUP($A30,FILTRO!$A$5:$P$59,9,FALSE),0)","v":{"v":0,"d":"0.000"}},{"$f":"IFERROR(VLOOKUP($A30,FILTRO!$A$5:$P$59,10,FALSE),0)","v":{"v":0,"d":"0.000"}},{"$f":"IFERROR(VLOOKUP($A30,FILTRO!$A$5:$P$59,11,FALSE),0)","v":{"v":0,"d":"0.000"}},{"$f":"IFERROR(VLOOKUP($A30,FILTRO!$A$5:$P$59,12,FALSE),0)","v":{"v":0,"d":"0.000"}},{"$f":"IFERROR(VLOOKUP($A30,FILTRO!$A$5:$P$59,13,FALSE),0)","v":{"v":0,"d":"0.000"}},{"$f":"IFERROR(VLOOKUP($A30,FILTRO!$A$5:$P$59,14,FALSE),0)","v":{"v":0,"d":"0.000"}}]
[null,null,"Subtotal",{"$f":"SUM(E31:Q31)","v":{"v":1978.9999999999995,"d":"1979.000"}},{"$f":"SUM(E28:E30)","v":{"v":508.4999999999998,"d":"508.500"}},{"$f":"SUM(F28:F30)","v":{"v":549.8000000000001,"d":"549.800"}},{"$f":"SUM(G28:G30)","v":{"v":920.6999999999998,"d":"920.700"}}]
["15900030","Alergia a la proteína de la leche de vaca","Fórmula Extensamente Hidrolizada (FEH)",{"$f":"SUM(E32:K32)","v":{"v":8470.799999999996,"d":"8470.800"}},{"$f":"IFERROR(VLOOKUP($A32,FILTRO!$A$5:$P$59,3,FALSE),0)","v":{"v":208.39999999999995,"d":"208.400"}},{"$f":"IFERROR(VLOOKUP($A32,FILTRO!$A$5:$P$59,4,FALSE),0)","v":{"v":567.5999999999999,"d":"567.600"}},{"$f":"IFERROR(VLOOKUP($A32,FILTRO!$A$5:$P$59,5,FALSE),0)","v":{"v":5729.199999999997,"d":"5729.200"}},{"$f":"IFERROR(VLOOKUP($A32,FILTRO!$A$5:$P$59,6,FALSE),0)","v":{"v":1140.4,"d":"1140.400"}},{"$f":"IFERROR(VLOOKUP($A32,FILTRO!$A$5:$P$59,7,FALSE),0)","v":{"v":736.8000000000001,"d":"736.800"}},{"$f":"IFERROR(VLOOKUP($A32,FILTRO!$A$5:$P$59,8,FALSE),0)","v":{"v":81.99999999999999,"d":"82.000"}},{"$f":"IFERROR(VLOOKUP($A32,FILTRO!$A$5:$P$59,9,FALSE),0)","v":{"v":6.4,"d":"6.400"}},{"$f":"IFERROR(VLOOKUP($A32,FILTRO!$A$5:$P$59,10,FALSE),0)","v":{"v":0,"d":"0.000"}},{"$f":"IFERROR(VLOOKUP($A32,FILTRO!$A$5:$P$59,11,FALSE),0)","v":{"v":0,"d":"0.000"}},{"$f":"IFERROR(VLOOKUP($A32,FILTRO!$A$5:$P$59,12,FALSE),0)","v":{"v":0,"d":"0.000"}},{"$f":"IFERROR(VLOOKUP($A32,FILTRO!$A$5:$P$59,13,FALSE),0)","v":{"v":0,"d":"0.000"}},{"$f":"IFERROR(VLOOKUP($A32,FILTRO!$A$5:$P$59,14,FALSE),0)","v":{"v":0,"d":"0.000"}}]
["15900040",null,"Fórmula Aminoacídica (FAA)",{"$f":"SUM(E33:K33)","v":{"v":2340.399999999999,"d":"2340.400"}},{"$f":"IFERROR(VLOOKUP($A33,FILTRO!$A$5:$P$59,3,FALSE),0)","v":{"v":102.80000000000003,"d":"102.800"}},{"$f":"IFERROR(VLOOKUP($A33,FILTRO!$A$5:$P$59,4,FALSE),0)","v":{"v":422.8,"d":"422.800"}},{"$f":"IFERROR(VLOOKUP($A33,FILTRO!$A$5:$P$59,5,FALSE),0)","v":{"v":989.1999999999995,"d":"989.200"}},{"$f":"IFERROR(VLOOKUP($A33,FILTRO!$A$5:$P$59,6,FALSE),0)","v":{"v":634.4,"d":"634.400"}},{"$f":"IFERROR(VLOOKUP($A33,FILTRO!$A$5:$P$59,7,FALSE),0)","v":{"v":151.99999999999994,"d":"152.000"}},{"$f":"IFERROR(VLOOKUP($A33,FILTRO!$A$5:$P$59,8,FALSE),0)","v":{"v":25.999999999999996,"d":"26.000"}},{"$f":"IFERROR(VLOOKUP($A33,FILTRO!$A$5:$P$59,9,FALSE),0)","v":{"v":13.2,"d":"13.200"}},{"$f":"IFERROR(VLOOKUP($A33,FILTRO!$A$5:$P$59,10,FALSE),0)","v":{"v":0,"d":"0.000"}},{"$f":"IFERROR(VLOOKUP($A33,FILTRO!$A$5:$P$59,11,FALSE),0)","v":{"v":0,"d":"0.000"}},{"$f":"IFERROR(VLOOKUP($A33,FILTRO!$A$5:$P$59,12,FALSE),0)","v":{"v":0,"d":"0.000"}},{"$f":"IFERROR(VLOOKUP($A33,FILTRO!$A$5:$P$59,13,FALSE),0)","v":{"v":0,"d":"0.000"}},{"$f":"IFERROR(VLOOKUP($A33,FILTRO!$A$5:$P$59,14,FALSE),0)","v":{"v":0,"d":"0.000"}}]
[null,null,"Subtotal",{"$f":"SUM(E34:Q34)","v":{"v":10811.199999999995,"d":"10811.200"}},{"$f":"SUM(E32:E33)","v":{"v":311.2,"d":"311.200"}},{"v":990.3999999999999,"d":"990.400"},{"v":6718.399999999997,"d":"6718.400"},{"v":1774.8000000000002,"d":"1774.800"},{"v":888.8,"d":"888.800"},{"v":107.99999999999999,"d":"108.000"},{"v":19.6,"d":"19.600"}]
[null,"Total",null,{"$f":"SUM(E35:Q35)","v":{"v":320178.8000000001,"d":"320178.800"}},{"$f":"+E19+E27+E31+E34","v":{"v":5057.799999999999,"d":"5057.800"}},{"v":13155.600000000017,"d":"13155.600"},{"v":42453.700000000084,"d":"42453.700"},{"v":44695.8,"d":"44695.800"},{"v":38414.8,"d":"38414.800"},{"v":70844,"d":"70844.000"},{"v":60152.6,"d":"60152.600"},{"v":20417,"d":"20417.0"},{"v":948,"d":"948.0"},{"v":15072,"d":"15072.0"},2900.5,{"v":6067,"d":"6067.0"}]
[]
[null,"Sección B: PNAC - Número de personas intrasistema que retiran"]
[null,"Subprogramas",null,"Total","Hombres","Mujeres","Menores a 6 años",{"$nulls":6},"Gestantes",null,"Persona que amamanta a  hijo/a menor a 12 meses"]
[{"$nulls":6},"0 - 2 meses","3 - 5 meses","6 - 11 meses","12 - 17 meses"," 18 - 23 meses"," 24 - 47 meses"," 48 - 71 meses","Normal, sobrepeso y obesas","Bajo peso","0 a 5 meses con Lactancia Materna exclusiva","0 a 5 meses Lactancia Materna + Fórmula Láctea","6 a 11 meses Lactancia Materna"]
[]
[]
["15050100","Básico",null,{"$f":"SUM(G42:R42)","v":156699},{"$f":"IFERROR(VLOOKUP($A42,FILTRO!$A$5:$P$59,3,FALSE),0)","v":63096},{"$f":"IFERROR(VLOOKUP($A42,FILTRO!$A$5:$P$59,4,FALSE),0)","v":94063},{"$f":"IFERROR(VLOOKUP($A42,FILTRO!$A$5:$P$59,5,FALSE),0)","v":1842},{"$f":"IFERROR(VLOOKUP($A42,FILTRO!$A$5:$P$59,6,FALSE),0)","v":4159},{"$f":"IFERROR(VLOOKUP($A42,FILTRO!$A$5:$P$59,7,FALSE),0)","v":12758},{"$f":"IFERROR(VLOOKUP($A42,FILTRO!$A$5:$P$59,8,FALSE),0)","v":20548},{"$f":"IFERROR(VLOOKUP($A42,FILTRO!$A$5:$P$59,9,FALSE),0)","v":18226},{"$f":"IFERROR(VLOOKUP($A42,FILTRO!$A$5:$P$59,10,FALSE),0)","v":33217},{"$f":"IFERROR(VLOOKUP($A42,FILTRO!$A$5:$P$59,11,FALSE),0)","v":29122},{"$f":"IFERROR(VLOOKUP($A42,FILTRO!$A$5:$P$59,12,FALSE),0)","v":20414},{"$f":"IFERROR(VLOOKUP($A42,FILTRO!$A$5:$P$59,13,FALSE),0)","v":0},{"$f":"IFERROR(VLOOKUP($A42,FILTRO!$A$5:$P$59,14,FALSE),0)","v":7546},{"$f":"IFERROR(VLOOKUP($A42,FILTRO!$A$5:$P$59,15,FALSE),0)","v":2850},{"$f":"IFERROR(VLOOKUP($A42,FILTRO!$A$5:$P$59,16,FALSE),0)","v":6017},{"$f":"AA42&AB42","v":""},{"$nulls":7},{"$f":"IF(AF42=1,\"* La suma del Total según grupo etario, gestantes y Personas que amamantan no pueden superar al Total por Sexo. \",\"\")","v":""},{"$nulls":4},{"$f":"IF(SUM(E42:F42)<SUM(G42:M42,N42,P42:R42),1,0)","v":0}]
["15050200","Refuerzo",null,{"$f":"SUM(G43:R43)","v":3655},{"$f":"IFERROR(VLOOKUP($A43,FILTRO!$A$5:$P$59,3,FALSE),0)","v":1863},{"$f":"IFERROR(VLOOKUP($A43,FILTRO!$A$5:$P$59,4,FALSE),0)","v":1717},{"$f":"IFERROR(VLOOKUP($A43,FILTRO!$A$5:$P$59,5,FALSE),0)","v":62},{"$f":"IFERROR(VLOOKUP($A43,FILTRO!$A$5:$P$59,6,FALSE),0)","v":114},{"$f":"IFERROR(VLOOKUP($A43,FILTRO!$A$5:$P$59,7,FALSE),0)","v":493},{"$f":"IFERROR(VLOOKUP($A43,FILTRO!$A$5:$P$59,8,FALSE),0)","v":456},{"$f":"IFERROR(VLOOKUP($A43,FILTRO!$A$5:$P$59,9,FALSE),0)","v":341},{"$f":"IFERROR(VLOOKUP($A43,FILTRO!$A$5:$P$59,10,FALSE),0)","v":1098},{"$f":"IFERROR(VLOOKUP($A43,FILTRO!$A$5:$P$59,11,FALSE),0)","v":687},{"$f":"IFERROR(VLOOKUP($A43,FILTRO!$A$5:$P$59,12,FALSE),0)","v":0},{"$f":"IFERROR(VLOOKUP($A43,FILTRO!$A$5:$P$59,13,FALSE),0)","v":317},{"$f":"IFERROR(VLOOKUP($A43,FILTRO!$A$5:$P$59,14,FALSE),0)","v":41},{"$f":"IFERROR(VLOOKUP($A43,FILTRO!$A$5:$P$59,15,FALSE),0)","v":24},{"$f":"IFERROR(VLOOKUP($A43,FILTRO!$A$5:$P$59,16,FALSE),0)","v":22},{"$f":"AA43&AB43","v":""},{"$nulls":7},{"$f":"IF(AF43=1,\"* La suma del Total según grupo etario, gestantes y Personas que amamantan no pueden superar al Total por Sexo. \",\"\")","v":""},{"$nulls":4},{"$f":"IF(D43<SUM(G43:M43,O43:R43),1,0)","v":0}]
["15050500","Prematuros ",null,{"$f":"SUM(G44:I44)","v":550},{"$f":"IFERROR(VLOOKUP($A44,FILTRO!$A$5:$P$59,3,FALSE),0)","v":278},{"$f":"IFERROR(VLOOKUP($A44,FILTRO!$A$5:$P$59,4,FALSE),0)","v":268},{"$f":"IFERROR(VLOOKUP($A44,FILTRO!$A$5:$P$59,5,FALSE),0)","v":152},{"$f":"IFERROR(VLOOKUP($A44,FILTRO!$A$5:$P$59,6,FALSE),0)","v":148},{"$f":"IFERROR(VLOOKUP($A44,FILTRO!$A$5:$P$59,7,FALSE),0)","v":250},{"$f":"IFERROR(VLOOKUP($A44,FILTRO!$A$5:$P$59,8,FALSE),0)","v":0},{"$f":"IFERROR(VLOOKUP($A44,FILTRO!$A$5:$P$59,9,FALSE),0)","v":0},{"$f":"IFERROR(VLOOKUP($A44,FILTRO!$A$5:$P$59,10,FALSE),0)","v":0},{"$f":"IFERROR(VLOOKUP($A44,FILTRO!$A$5:$P$59,11,FALSE),0)","v":0},{"$f":"IFERROR(VLOOKUP($A44,FILTRO!$A$5:$P$59,12,FALSE),0)","v":0},{"$f":"IFERROR(VLOOKUP($A44,FILTRO!$A$5:$P$59,13,FALSE),0)","v":0},{"$f":"IFERROR(VLOOKUP($A44,FILTRO!$A$5:$P$59,14,FALSE),0)","v":0},{"$f":"IFERROR(VLOOKUP($A44,FILTRO!$A$5:$P$59,15,FALSE),0)","v":0},{"$f":"IFERROR(VLOOKUP($A44,FILTRO!$A$5:$P$59,16,FALSE),0)","v":0},{"$f":"AA44&AB44","v":""},{"$nulls":7},{"$f":"IF(AF44=1,\"* El Total según grupo etario no puede superar al Total por Sexo. \",\"\")","v":""},{"$nulls":4},{"$f":"IF(D44<SUM(G44:M44),1,0)","v":0}]
["15900050","Alergia a la Proteína de la leche de vaca",null,{"$f":"SUM(G45:M45)","v":1947},{"$f":"IFERROR(VLOOKUP($A45,FILTRO!$A$5:$P$59,3,FALSE),0)","v":1070},{"$f":"IFERROR(VLOOKUP($A45,FILTRO!$A$5:$P$59,4,FALSE),0)","v":831},{"$f":"IFERROR(VLOOKUP($A45,FILTRO!$A$5:$P$59,5,FALSE),0)","v":111},{"$f":"IFERROR(VLOOKUP($A45,FILTRO!$A$5:$P$59,6,FALSE),0)","v":282},{"$f":"IFERROR(VLOOKUP($A45,FILTRO!$A$5:$P$59,7,FALSE),0)","v":762},{"$f":"IFERROR(VLOOKUP($A45,FILTRO!$A$5:$P$59,8,FALSE),0)","v":488},{"$f":"IFERROR(VLOOKUP($A45,FILTRO!$A$5:$P$59,9,FALSE),0)","v":260},{"$f":"IFERROR(VLOOKUP($A45,FILTRO!$A$5:$P$59,10,FALSE),0)","v":40},{"$f":"IFERROR(VLOOKUP($A45,FILTRO!$A$5:$P$59,11,FALSE),0)","v":4},{"$f":"IFERROR(VLOOKUP($A45,FILTRO!$A$5:$P$59,12,FALSE),0)","v":0},{"$f":"IFERROR(VLOOKUP($A45,FILTRO!$A$5:$P$59,13,FALSE),0)","v":0},{"$f":"IFERROR(VLOOKUP($A45,FILTRO!$A$5:$P$59,14,FALSE),0)","v":0},{"$f":"IFERROR(VLOOKUP($A45,FILTRO!$A$5:$P$59,15,FALSE),0)","v":0},{"$f":"IFERROR(VLOOKUP($A45,FILTRO!$A$5:$P$59,16,FALSE),0)","v":0},{"$f":"AA45&AB45","v":""},{"$nulls":7},{"$f":"IF(AF45=1,\"* El Total según grupo etario no puede superar al Total por Sexo. \",\"\")","v":""},{"$nulls":4},{"$f":"IF(D45<SUM(G45:M45),1,0)","v":0}]
[null,"TOTAL",null,{"$f":"SUM(E46:F46)","v":163186},{"$f":"SUM(E42:E45)","v":66307},96879,2167,4703,14263,21492,18827,34355,29813,20414,317,7587,2874,6039]
["15900060","Programas Sociales (*)",null,{"$f":"SUM(G47:R47)","v":0},{"$f":"IFERROR(VLOOKUP($A47,FILTRO!$A$5:$P$59,3,FALSE),0)","v":0},{"$f":"IFERROR(VLOOKUP($A47,FILTRO!$A$5:$P$59,4,FALSE),0)","v":0},{"$f":"IFERROR(VLOOKUP($A47,FILTRO!$A$5:$P$59,5,FALSE),0)","v":0},{"$f":"IFERROR(VLOOKUP($A47,FILTRO!$A$5:$P$59,6,FALSE),0)","v":0},{"$f":"IFERROR(VLOOKUP($A47,FILTRO!$A$5:$P$59,7,FALSE),0)","v":0},{"$f":"IFERROR(VLOOKUP($A47,FILTRO!$A$5:$P$59,8,FALSE),0)","v":0},{"$f":"IFERROR(VLOOKUP($A47,FILTRO!$A$5:$P$59,9,FALSE),0)","v":0},{"$f":"IFERROR(VLOOKUP($A47,FILTRO!$A$5:$P$59,10,FALSE),0)","v":0},{"$f":"IFERROR(VLOOKUP($A47,FILTRO!$A$5:$P$59,11,FALSE),0)","v":0},{"$f":"IFERROR(VLOOKUP($A47,FILTRO!$A$5:$P$59,12,FALSE),0)","v":0},{"$f":"IFERROR(VLOOKUP($A47,FILTRO!$A$5:$P$59,13,FALSE),0)","v":0},{"$f":"IFERROR(VLOOKUP($A47,FILTRO!$A$5:$P$59,14,FALSE),0)","v":0},{"$f":"IFERROR(VLOOKUP($A47,FILTRO!$A$5:$P$59,15,FALSE),0)","v":0},{"$f":"IFERROR(VLOOKUP($A47,FILTRO!$A$5:$P$59,16,FALSE),0)","v":0},{"$f":"AA47&AB47","v":""},{"$nulls":7},{"$f":"IF(AF47=1,\"* La suma del Total según grupo etario, gestantes y Personas que amamantan no pueden superar al Total por Sexo. \",\"\")","v":""},{"$f":"IF(AG47=1,\"* Compruebe que lo ingresado en Programas Sociales no supere al Total registrado en los subprogramas. \",\"\")","v":""},{"$f":"IF(AH47=1,\"* El Total registrado en Programas Sociales no puede ser mayor al Total registrado en los subprogramas. \",\"\")","v":""},null,null,{"$f":"IF(SUM(E47:F47)<SUM(G47:R47),1,0)","v":0},{"$f":"IF(OR(E47>E46,F47>F46,G47>G46,H47>H46,I47>I46,J47>J46,K47>K46,L47>L46,M47>M46,N47>N46,O47>O46,P47>P46,Q47>Q46,R47>R46),1,0)","v":0},{"$f":"IF(D47>D46,1,0)","v":0}]
[null,"Nota: (*) Información referencial, ya incluida en los subprogramas."]
[{"$nulls":5},{"$f":"E45:R45","v":831}]
[null,"Sección C: PNAC: Cantidad distribuida (kg) a personas extrasistema (incluye modalidad libre elección)"]
[null,"Subprogramas","Productos","Total","Menores a 6 años",{"$nulls":6},"Gestantes",null,"Persona que amamanta a  hijo/a menor a 12 meses"]
[{"$nulls":4},"0 - 2 meses","3 - 5 meses","6 - 11 meses","12 - 17 meses"," 18 - 23 meses"," 24 - 47 meses"," 48 - 71 meses","Normal, sobrepeso y obesas","Bajo peso","0 a 5 meses con Lactancia Materna exclusiva","0 a 5 meses Lactancia Materna + Fórmula Láctea","6 a 11 meses Lactancia Materna"]
[]
[]
["15020100","Básico","Leche Purita Fortificada (LPF)",{"$f":"SUM(E55:P55)","v":564},{"$f":"IFERROR(VLOOKUP($A55,FILTRO!$A$5:$P$59,3,FALSE),0)","v":8},{"$f":"IFERROR(VLOOKUP($A55,FILTRO!$A$5:$P$59,4,FALSE),0)","v":32},{"$f":"IFERROR(VLOOKUP($A55,FILTRO!$A$5:$P$59,5,FALSE),0)","v":134},{"$f":"IFERROR(VLOOKUP($A55,FILTRO!$A$5:$P$59,6,FALSE),0)","v":314},{"$f":"IFERROR(VLOOKUP($A55,FILTRO!$A$5:$P$59,7,FALSE),0)","v":74},{"$f":"IFERROR(VLOOKUP($A55,FILTRO!$A$5:$P$59,8,FALSE),0)","v":0},{"$f":"IFERROR(VLOOKUP($A55,FILTRO!$A$5:$P$59,9,FALSE),0)","v":0},{"$f":"IFERROR(VLOOKUP($A55,FILTRO!$A$5:$P$59,10,FALSE),0)","v":0},{"$f":"IFERROR(VLOOKUP($A55,FILTRO!$A$5:$P$59,11,FALSE),0)","v":0},{"$f":"IFERROR(VLOOKUP($A55,FILTRO!$A$5:$P$59,12,FALSE),0)","v":0},{"$f":"IFERROR(VLOOKUP($A55,FILTRO!$A$5:$P$59,13,FALSE),0)","v":2},{"$f":"IFERROR(VLOOKUP($A55,FILTRO!$A$5:$P$59,14,FALSE),0)","v":0},null,null,{"$f":"AA55&AB55","v":""}]
["15080018",null,"Purita +Pro 1",{"$f":"SUM(E56:P56)","v":{"v":1525,"d":"1,525"}},{"$f":"IFERROR(VLOOKUP($A56,FILTRO!$A$5:$P$59,3,FALSE),0)","v":33},{"$f":"IFERROR(VLOOKUP($A56,FILTRO!$A$5:$P$59,4,FALSE),0)","v":74},{"$f":"IFERROR(VLOOKUP($A56,FILTRO!$A$5:$P$59,5,FALSE),0)","v":384},{"$f":"IFERROR(VLOOKUP($A56,FILTRO!$A$5:$P$59,6,FALSE),0)","v":558},{"$f":"IFERROR(VLOOKUP($A56,FILTRO!$A$5:$P$59,7,FALSE),0)","v":476},{"$f":"IFERROR(VLOOKUP($A56,FILTRO!$A$5:$P$59,8,FALSE),0)","v":0},{"$f":"IFERROR(VLOOKUP($A56,FILTRO!$A$5:$P$59,9,FALSE),0)","v":0},{"$f":"IFERROR(VLOOKUP($A56,FILTRO!$A$5:$P$59,10,FALSE),0)","v":0},{"$f":"IFERROR(VLOOKUP($A56,FILTRO!$A$5:$P$59,11,FALSE),0)","v":0},{"$f":"IFERROR(VLOOKUP($A56,FILTRO!$A$5:$P$59,12,FALSE),0)","v":0},{"$f":"IFERROR(VLOOKUP($A56,FILTRO!$A$5:$P$59,13,FALSE),0)","v":0},{"$f":"IFERROR(VLOOKUP($A56,FILTRO!$A$5:$P$59,14,FALSE),0)","v":0},null,null,""]
["15020200",null,"Purita Cereal (PC)",{"$f":"SUM(I57:K57)","v":{"v":1307,"d":"1,307"}},{"$f":"IFERROR(VLOOKUP($A57,FILTRO!$A$5:$P$59,3,FALSE),0)","v":0},{"$f":"IFERROR(VLOOKUP($A57,FILTRO!$A$5:$P$59,4,FALSE),0)","v":0},{"$f":"IFERROR(VLOOKUP($A57,FILTRO!$A$5:$P$59,5,FALSE),0)","v":0},{"$f":"IFERROR(VLOOKUP($A57,FILTRO!$A$5:$P$59,6,FALSE),0)","v":0},{"$f":"IFERROR(VLOOKUP($A57,FILTRO!$A$5:$P$59,7,FALSE),0)","v":92},{"$f":"IFERROR(VLOOKUP($A57,FILTRO!$A$5:$P$59,8,FALSE),0)","v":707},{"$f":"IFERROR(VLOOKUP($A57,FILTRO!$A$5:$P$59,9,FALSE),0)","v":508},{"$f":"IFERROR(VLOOKUP($A57,FILTRO!$A$5:$P$59,10,FALSE),0)","v":0},{"$f":"IFERROR(VLOOKUP($A57,FILTRO!$A$5:$P$59,11,FALSE),0)","v":0},{"$f":"IFERROR(VLOOKUP($A57,FILTRO!$A$5:$P$59,12,FALSE),0)","v":0},{"$f":"IFERROR(VLOOKUP($A57,FILTRO!$A$5:$P$59,13,FALSE),0)","v":0},{"$f":"IFERROR(VLOOKUP($A57,FILTRO!$A$5:$P$59,14,FALSE),0)","v":0},null,null,""]
["15080019",null,"Purita +Pro 2",{"$f":"SUM(J58:K58)","v":820},{"$f":"IFERROR(VLOOKUP($A58,FILTRO!$A$5:$P$59,3,FALSE),0)","v":0},{"$f":"IFERROR(VLOOKUP($A58,FILTRO!$A$5:$P$59,4,FALSE),0)","v":0},{"$f":"IFERROR(VLOOKUP($A58,FILTRO!$A$5:$P$59,5,FALSE),0)","v":0},{"$f":"IFERROR(VLOOKUP($A58,FILTRO!$A$5:$P$59,6,FALSE),0)","v":0},{"$f":"IFERROR(VLOOKUP($A58,FILTRO!$A$5:$P$59,7,FALSE),0)","v":0},{"$f":"IFERROR(VLOOKUP($A58,FILTRO!$A$5:$P$59,8,FALSE),0)","v":494},{"$f":"IFERROR(VLOOKUP($A58,FILTRO!$A$5:$P$59,9,FALSE),0)","v":326},{"$f":"IFERROR(VLOOKUP($A58,FILTRO!$A$5:$P$59,10,FALSE),0)","v":0},{"$f":"IFERROR(VLOOKUP($A58,FILTRO!$A$5:$P$59,11,FALSE),0)","v":0},{"$f":"IFERROR(VLOOKUP($A58,FILTRO!$A$5:$P$59,12,FALSE),0)","v":0},{"$f":"IFERROR(VLOOKUP($A58,FILTRO!$A$5:$P$59,13,FALSE),0)","v":0},{"$f":"IFERROR(VLOOKUP($A58,FILTRO!$A$5:$P$59,14,FALSE),0)","v":0},null,null,""]
["15080010",null,"Purita Mamá (PM)",{"$f":"SUM(N59:P59)+L59","v":120},{"$f":"IFERROR(VLOOKUP($A59,FILTRO!$A$5:$P$59,3,FALSE),0)","v":0},{"$f":"IFERROR(VLOOKUP($A59,FILTRO!$A$5:$P$59,4,FALSE),0)","v":0},{"$f":"IFERROR(VLOOKUP($A59,FILTRO!$A$5:$P$59,5,FALSE),0)","v":0},{"$f":"IFERROR(VLOOKUP($A59,FILTRO!$A$5:$P$59,6,FALSE),0)","v":0},{"$f":"IFERROR(VLOOKUP($A59,FILTRO!$A$5:$P$59,7,FALSE),0)","v":0},{"$f":"IFERROR(VLOOKUP($A59,FILTRO!$A$5:$P$59,8,FALSE),0)","v":0},{"$f":"IFERROR(VLOOKUP($A59,FILTRO!$A$5:$P$59,9,FALSE),0)","v":0},{"$f":"IFERROR(VLOOKUP($A59,FILTRO!$A$5:$P$59,10,FALSE),0)","v":38},{"$f":"IFERROR(VLOOKUP($A59,FILTRO!$A$5:$P$59,11,FALSE),0)","v":0},{"$f":"IFERROR(VLOOKUP($A59,FILTRO!$A$5:$P$59,12,FALSE),0)","v":58},{"$f":"IFERROR(VLOOKUP($A59,FILTRO!$A$5:$P$59,13,FALSE),0)","v":20},{"$f":"IFERROR(VLOOKUP($A59,FILTRO!$A$5:$P$59,14,FALSE),0)","v":4},null,null,"",{"$nulls":8},{"$f":"IF(AND(SUM(L55,L56,L59)<>0,N84=\"\"),\"* No olvide ingresar el Nº de personas que retiran alimento de la sección D en el grupo de Gestantes Normal, Sobrepeso y Obesas.\",\"\")","v":""},{"$f":"IF(AND(SUM(N56,N55,N59)<>0,P84=\"\"),\"* No olvide ingresar el Nº de personas que retiran alimento de la sección D en el grupo de Madre con hijo/a menor a 6 meses con Lactancia materna exclusiva.\",\"\")","v":""},{"$f":"IF(AND(SUM(O57,O56,O59)<>0,Q84=\"\"),\"* No olvide ingresar el Nº de personas que retiran alimento de la sección D en el grupo de Madre con hijo/a menor a 6 meses con Lactancia materna predominante.\",\"\")","v":""},{"$f":"IF(AND(SUM(P57,P56,P59)<>0,R84=\"\"),\"No olvide ingresar el Nº de personas que retiran alimento de la sección D en el grupo de Madre con hijo/a menor a 6 meses con Fórmula predominantes o exclusiva.\",\"\")","v":""}]
["15900070",null,"Fórmula de Inicio (FI)",{"$f":"SUM(E60:G60)","v":{"v":3.2,"d":"3"}},{"$f":"IFERROR(VLOOKUP($A60,FILTRO!$A$5:$P$59,3,FALSE),0)","v":0},{"$f":"IFERROR(VLOOKUP($A60,FILTRO!$A$5:$P$59,4,FALSE),0)","v":0},{"$f":"IFERROR(VLOOKUP($A60,FILTRO!$A$5:$P$59,5,FALSE),0)","v":{"v":3.2,"d":"3"}},{"$f":"IFERROR(VLOOKUP($A60,FILTRO!$A$5:$P$59,6,FALSE),0)","v":0},{"$f":"IFERROR(VLOOKUP($A60,FILTRO!$A$5:$P$59,7,FALSE),0)","v":0},{"$f":"IFERROR(VLOOKUP($A60,FILTRO!$A$5:$P$59,8,FALSE),0)","v":0},{"$f":"IFERROR(VLOOKUP($A60,FILTRO!$A$5:$P$59,9,FALSE),0)","v":0},{"$f":"IFERROR(VLOOKUP($A60,FILTRO!$A$5:$P$59,10,FALSE),0)","v":0},{"$f":"IFERROR(VLOOKUP($A60,FILTRO!$A$5:$P$59,11,FALSE),0)","v":0},{"$f":"IFERROR(VLOOKUP($A60,FILTRO!$A$5:$P$59,12,FALSE),0)","v":0},{"$f":"IFERROR(VLOOKUP($A60,FILTRO!$A$5:$P$59,13,FALSE),0)","v":0},{"$f":"IFERROR(VLOOKUP($A60,FILTRO!$A$5:$P$59,14,FALSE),0)","v":0},null,null,""]
[null,null,"Subtotal",{"$f":"SUM(E61:P61)","v":{"v":4339.2,"d":"4,339"}},{"$f":"SUM(E55:E60)","v":{"v":41,"d":"41.000"}},{"$f":"SUM(F55:F60)","v":{"v":106,"d":"106.000"}},{"$f":"SUM(G55:G60)","v":{"v":521.2,"d":"521.200"}},{"$f":"SUM(H55:H56)","v":872},{"$f":"SUM(I55:I57)","v":642},{"$f":"SUM(J55:J58)","v":1201},{"$f":"SUM(K55:K58)","v":834},{"$f":"SUM(L55:L60)","v":{"v":38,"d":"38.0"}},{"$f":"SUM(M55:M56)","v":0},{"$f":"SUM(N55:N60)","v":{"v":58,"d":"58.0"}},{"$f":"SUM(O55:O60)","v":{"v":22,"d":"22.0"}},{"$f":"SUM(P55:P60)","v":{"v":4,"d":"4.0"}}]
["15020300","Refuerzo","Leche Purita Fortificada (LPF)",{"$f":"SUM(E62:P62)","v":2},{"$f":"IFERROR(VLOOKUP($A62,FILTRO!$A$5:$P$59,3,FALSE),0)","v":0},{"$f":"IFERROR(VLOOKUP($A62,FILTRO!$A$5:$P$59,4,FALSE),0)","v":0},{"$f":"IFERROR(VLOOKUP($A62,FILTRO!$A$5:$P$59,5,FALSE),0)","v":0},{"$f":"IFERROR(VLOOKUP($A62,FILTRO!$A$5:$P$59,6,FALSE),0)","v":0},{"$f":"IFERROR(VLOOKUP($A62,FILTRO!$A$5:$P$59,7,FALSE),0)","v":2},{"$f":"IFERROR(VLOOKUP($A62,FILTRO!$A$5:$P$59,8,FALSE),0)","v":0},{"$f":"IFERROR(VLOOKUP($A62,FILTRO!$A$5:$P$59,9,FALSE),0)","v":0},{"$f":"IFERROR(VLOOKUP($A62,FILTRO!$A$5:$P$59,10,FALSE),0)","v":0},{"$f":"IFERROR(VLOOKUP($A62,FILTRO!$A$5:$P$59,11,FALSE),0)","v":0},{"$f":"IFERROR(VLOOKUP($A62,FILTRO!$A$5:$P$59,12,FALSE),0)","v":0},{"$f":"IFERROR(VLOOKUP($A62,FILTRO!$A$5:$P$59,13,FALSE),0)","v":0},{"$f":"IFERROR(VLOOKUP($A62,FILTRO!$A$5:$P$59,14,FALSE),0)","v":0}]
["15080020",null,"Purita +Pro 1",{"$f":"SUM(E63:P63)","v":10},{"$f":"IFERROR(VLOOKUP($A63,FILTRO!$A$5:$P$59,3,FALSE),0)","v":4},{"$f":"IFERROR(VLOOKUP($A63,FILTRO!$A$5:$P$59,4,FALSE),0)","v":0},{"$f":"IFERROR(VLOOKUP($A63,FILTRO!$A$5:$P$59,5,FALSE),0)","v":0},{"$f":"IFERROR(VLOOKUP($A63,FILTRO!$A$5:$P$59,6,FALSE),0)","v":2},{"$f":"IFERROR(VLOOKUP($A63,FILTRO!$A$5:$P$59,7,FALSE),0)","v":0},{"$f":"IFERROR(VLOOKUP($A63,FILTRO!$A$5:$P$59,8,FALSE),0)","v":4},{"$f":"IFERROR(VLOOKUP($A63,FILTRO!$A$5:$P$59,9,FALSE),0)","v":0},{"$f":"IFERROR(VLOOKUP($A63,FILTRO!$A$5:$P$59,10,FALSE),0)","v":0},{"$f":"IFERROR(VLOOKUP($A63,FILTRO!$A$5:$P$59,11,FALSE),0)","v":0},{"$f":"IFERROR(VLOOKUP($A63,FILTRO!$A$5:$P$59,12,FALSE),0)","v":0},{"$f":"IFERROR(VLOOKUP($A63,FILTRO!$A$5:$P$59,13,FALSE),0)","v":0},{"$f":"IFERROR(VLOOKUP($A63,FILTRO!$A$5:$P$59,14,FALSE),0)","v":0}]
["15020400",null,"Purita Cereal (PC)",{"$f":"SUM(I64:K64)","v":26},{"$f":"IFERROR(VLOOKUP($A64,FILTRO!$A$5:$P$59,3,FALSE),0)","v":0},{"$f":"IFERROR(VLOOKUP($A64,FILTRO!$A$5:$P$59,4,FALSE),0)","v":0},{"$f":"IFERROR(VLOOKUP($A64,FILTRO!$A$5:$P$59,5,FALSE),0)","v":0},{"$f":"IFERROR(VLOOKUP($A64,FILTRO!$A$5:$P$59,6,FALSE),0)","v":0},{"$f":"IFERROR(VLOOKUP($A64,FILTRO!$A$5:$P$59,7,FALSE),0)","v":0},{"$f":"IFERROR(VLOOKUP($A64,FILTRO!$A$5:$P$59,8,FALSE),0)","v":20},{"$f":"IFERROR(VLOOKUP($A64,FILTRO!$A$5:$P$59,9,FALSE),0)","v":6},{"$f":"IFERROR(VLOOKUP($A64,FILTRO!$A$5:$P$59,10,FALSE),0)","v":0},{"$f":"IFERROR(VLOOKUP($A64,FILTRO!$A$5:$P$59,11,FALSE),0)","v":0},{"$f":"IFERROR(VLOOKUP($A64,FILTRO!$A$5:$P$59,12,FALSE),0)","v":0},{"$f":"IFERROR(VLOOKUP($A64,FILTRO!$A$5:$P$59,13,FALSE),0)","v":0},{"$f":"IFERROR(VLOOKUP($A64,FILTRO!$A$5:$P$59,14,FALSE),0)","v":0}]
["15080021",null,"Purita +Pro 2",{"$f":"SUM(J65:K65)","v":0},{"$f":"IFERROR(VLOOKUP($A65,FILTRO!$A$5:$P$59,3,FALSE),0)","v":0},{"$f":"IFERROR(VLOOKUP($A65,FILTRO!$A$5:$P$59,4,FALSE),0)","v":0},{"$f":"IFERROR(VLOOKUP($A65,FILTRO!$A$5:$P$59,5,FALSE),0)","v":0},{"$f":"IFERROR(VLOOKUP($A65,FILTRO!$A$5:$P$59,6,FALSE),0)","v":0},{"$f":"IFERROR(VLOOKUP($A65,FILTRO!$A$5:$P$59,7,FALSE),0)","v":0},{"$f":"IFERROR(VLOOKUP($A65,FILTRO!$A$5:$P$59,8,FALSE),0)","v":0},{"$f":"IFERROR(VLOOKUP($A65,FILTRO!$A$5:$P$59,9,FALSE),0)","v":0},{"$f":"IFERROR(VLOOKUP($A65,FILTRO!$A$5:$P$59,10,FALSE),0)","v":0},{"$f":"IFERROR(VLOOKUP($A65,FILTRO!$A$5:$P$59,11,FALSE),0)","v":0},{"$f":"IFERROR(VLOOKUP($A65,FILTRO!$A$5:$P$59,12,FALSE),0)","v":0},{"$f":"IFERROR(VLOOKUP($A65,FILTRO!$A$5:$P$59,13,FALSE),0)","v":0},{"$f":"IFERROR(VLOOKUP($A65,FILTRO!$A$5:$P$59,14,FALSE),0)","v":0}]
["15020500",null,"Mi Sopita (MS)",{"$f":"SUM(F66:K66)","v":22},{"$f":"IFERROR(VLOOKUP($A66,FILTRO!$A$5:$P$59,3,FALSE),0)","v":0},{"$f":"IFERROR(VLOOKUP($A66,FILTRO!$A$5:$P$59,4,FALSE),0)","v":0},{"$f":"IFERROR(VLOOKUP($A66,FILTRO!$A$5:$P$59,5,FALSE),0)","v":0},{"$f":"IFERROR(VLOOKUP($A66,FILTRO!$A$5:$P$59,6,FALSE),0)","v":2},{"$f":"IFERROR(VLOOKUP($A66,FILTRO!$A$5:$P$59,7,FALSE),0)","v":0},{"$f":"IFERROR(VLOOKUP($A66,FILTRO!$A$5:$P$59,8,FALSE),0)","v":18},{"$f":"IFERROR(VLOOKUP($A66,FILTRO!$A$5:$P$59,9,FALSE),0)","v":2},{"$f":"IFERROR(VLOOKUP($A66,FILTRO!$A$5:$P$59,10,FALSE),0)","v":0},{"$f":"IFERROR(VLOOKUP($A66,FILTRO!$A$5:$P$59,11,FALSE),0)","v":0},{"$f":"IFERROR(VLOOKUP($A66,FILTRO!$A$5:$P$59,12,FALSE),0)","v":0},{"$f":"IFERROR(VLOOKUP($A66,FILTRO!$A$5:$P$59,13,FALSE),0)","v":0},{"$f":"IFERROR(VLOOKUP($A66,FILTRO!$A$5:$P$59,14,FALSE),0)","v":0}]
["15080011",null,"Purita Mamá (PM)",{"$f":"SUM(M67:P67)","v":3},{"$f":"IFERROR(VLOOKUP($A67,FILTRO!$A$5:$P$59,3,FALSE),0)","v":0},{"$f":"IFERROR(VLOOKUP($A67,FILTRO!$A$5:$P$59,4,FALSE),0)","v":0},{"$f":"IFERROR(VLOOKUP($A67,FILTRO!$A$5:$P$59,5,FALSE),0)","v":0},{"$f":"IFERROR(VLOOKUP($A67,FILTRO!$A$5:$P$59,6,FALSE),0)","v":0},{"$f":"IFERROR(VLOOKUP($A67,FILTRO!$A$5:$P$59,7,FALSE),0)","v":0},{"$f":"IFERROR(VLOOKUP($A67,FILTRO!$A$5:$P$59,8,FALSE),0)","v":0},{"$f":"IFERROR(VLOOKUP($A67,FILTRO!$A$5:$P$59,9,FALSE),0)","v":0},{"$f":"IFERROR(VLOOKUP($A67,FILTRO!$A$5:$P$59,10,FALSE),0)","v":0},{"$f":"IFERROR(VLOOKUP($A67,FILTRO!$A$5:$P$59,11,FALSE),0)","v":1},{"$f":"IFERROR(VLOOKUP($A67,FILTRO!$A$5:$P$59,12,FALSE),0)","v":2},{"$f":"IFERROR(VLOOKUP($A67,FILTRO!$A$5:$P$59,13,FALSE),0)","v":0},{"$f":"IFERROR(VLOOKUP($A67,FILTRO!$A$5:$P$59,14,FALSE),0)","v":0}]
["15900080",null,"Fórmula de Inicio (FI)",{"$f":"SUM(E68:G68)","v":0},{"$f":"IFERROR(VLOOKUP($A68,FILTRO!$A$5:$P$59,3,FALSE),0)","v":0},{"$f":"IFERROR(VLOOKUP($A68,FILTRO!$A$5:$P$59,4,FALSE),0)","v":0},{"$f":"IFERROR(VLOOKUP($A68,FILTRO!$A$5:$P$59,5,FALSE),0)","v":0},{"$f":"IFERROR(VLOOKUP($A68,FILTRO!$A$5:$P$59,6,FALSE),0)","v":0},{"$f":"IFERROR(VLOOKUP($A68,FILTRO!$A$5:$P$59,7,FALSE),0)","v":0},{"$f":"IFERROR(VLOOKUP($A68,FILTRO!$A$5:$P$59,8,FALSE),0)","v":0},{"$f":"IFERROR(VLOOKUP($A68,FILTRO!$A$5:$P$59,9,FALSE),0)","v":0},{"$f":"IFERROR(VLOOKUP($A68,FILTRO!$A$5:$P$59,10,FALSE),0)","v":0},{"$f":"IFERROR(VLOOKUP($A68,FILTRO!$A$5:$P$59,11,FALSE),0)","v":0},{"$f":"IFERROR(VLOOKUP($A68,FILTRO!$A$5:$P$59,12,FALSE),0)","v":0},{"$f":"IFERROR(VLOOKUP($A68,FILTRO!$A$5:$P$59,13,FALSE),0)","v":0},{"$f":"IFERROR(VLOOKUP($A68,FILTRO!$A$5:$P$59,14,FALSE),0)","v":0}]
[null,null,"Subtotal",{"$f":"SUM(E69:P69)","v":63},{"$f":"SUM(E62:E68)","v":{"v":4,"d":"4.000"}},{"$f":"SUM(F62:F68)","v":{"v":0,"d":"0.000"}},{"$f":"SUM(G62:G68)","v":{"v":0,"d":"0.000"}},{"$f":"SUM(H62:H66)","v":4},{"$f":"SUM(I62:I66)","v":2},{"$f":"SUM(J62:J66)","v":42},{"$f":"SUM(K62:K66)","v":8},{"$f":"SUM(L62:L63)","v":0},{"$f":"SUM(M62:M68)","v":{"v":1,"d":"1.0"}},{"$f":"SUM(N62:N68)","v":{"v":2,"d":"2.0"}},{"$f":"SUM(O62:O68)","v":{"v":0,"d":"0.0"}},{"$f":"SUM(P62:P68)","v":{"v":0,"d":"0.0"}}]
["15040100","Prematuros ","Fórmula de Prematuros (FP)",{"$f":"SUM(E70:G70)","v":{"v":96.39999999999999,"d":"96"}},{"$f":"IFERROR(VLOOKUP($A70,FILTRO!$A$5:$P$59,3,FALSE),0)","v":{"v":38.800000000000004,"d":"38.800"}},{"$f":"IFERROR(VLOOKUP($A70,FILTRO!$A$5:$P$59,4,FALSE),0)","v":{"v":44.8,"d":"44.800"}},{"$f":"IFERROR(VLOOKUP($A70,FILTRO!$A$5:$P$59,5,FALSE),0)","v":{"v":12.8,"d":"12.800"}},{"$f":"IFERROR(VLOOKUP($A70,FILTRO!$A$5:$P$59,6,FALSE),0)","v":{"v":0,"d":"0.000"}},{"$f":"IFERROR(VLOOKUP($A70,FILTRO!$A$5:$P$59,7,FALSE),0)","v":{"v":0,"d":"0.000"}},{"$f":"IFERROR(VLOOKUP($A70,FILTRO!$A$5:$P$59,8,FALSE),0)","v":{"v":0,"d":"0.000"}},{"$f":"IFERROR(VLOOKUP($A70,FILTRO!$A$5:$P$59,9,FALSE),0)","v":{"v":0,"d":"0.000"}},{"$f":"IFERROR(VLOOKUP($A70,FILTRO!$A$5:$P$59,10,FALSE),0)","v":{"v":0,"d":"0.000"}},{"$f":"IFERROR(VLOOKUP($A70,FILTRO!$A$5:$P$59,11,FALSE),0)","v":{"v":0,"d":"0.000"}},{"$f":"IFERROR(VLOOKUP($A70,FILTRO!$A$5:$P$59,12,FALSE),0)","v":{"v":0,"d":"0.000"}},{"$f":"IFERROR(VLOOKUP($A70,FILTRO!$A$5:$P$59,13,FALSE),0)","v":{"v":0,"d":"0.000"}},{"$f":"IFERROR(VLOOKUP($A70,FILTRO!$A$5:$P$59,14,FALSE),0)","v":{"v":0,"d":"0.000"}}]
["15901600",null,"Fórmula de Incio (FI)",{"$f":"SUM(E71:G71)","v":0},{"$f":"IFERROR(VLOOKUP($A71,FILTRO!$A$5:$P$59,3,FALSE),0)","v":{"v":0,"d":"0.000"}},{"$f":"IFERROR(VLOOKUP($A71,FILTRO!$A$5:$P$59,4,FALSE),0)","v":{"v":0,"d":"0.000"}},{"$f":"IFERROR(VLOOKUP($A71,FILTRO!$A$5:$P$59,5,FALSE),0)","v":{"v":0,"d":"0.000"}},{"$f":"IFERROR(VLOOKUP($A71,FILTRO!$A$5:$P$59,6,FALSE),0)","v":{"v":0,"d":"0.000"}},{"$f":"IFERROR(VLOOKUP($A71,FILTRO!$A$5:$P$59,7,FALSE),0)","v":{"v":0,"d":"0.000"}},{"$f":"IFERROR(VLOOKUP($A71,FILTRO!$A$5:$P$59,8,FALSE),0)","v":{"v":0,"d":"0.000"}},{"$f":"IFERROR(VLOOKUP($A71,FILTRO!$A$5:$P$59,9,FALSE),0)","v":{"v":0,"d":"0.000"}},{"$f":"IFERROR(VLOOKUP($A71,FILTRO!$A$5:$P$59,10,FALSE),0)","v":{"v":0,"d":"0.000"}},{"$f":"IFERROR(VLOOKUP($A71,FILTRO!$A$5:$P$59,11,FALSE),0)","v":{"v":0,"d":"0.000"}},{"$f":"IFERROR(VLOOKUP($A71,FILTRO!$A$5:$P$59,12,FALSE),0)","v":{"v":0,"d":"0.000"}},{"$f":"IFERROR(VLOOKUP($A71,FILTRO!$A$5:$P$59,13,FALSE),0)","v":{"v":0,"d":"0.000"}},{"$f":"IFERROR(VLOOKUP($A71,FILTRO!$A$5:$P$59,14,FALSE),0)","v":{"v":0,"d":"0.000"}}]
["15080013",null,"Mi Sopita (MS)",{"$f":"SUM(F72:G72)","v":0},{"$f":"IFERROR(VLOOKUP($A72,FILTRO!$A$5:$P$59,3,FALSE),0)","v":{"v":0,"d":"0.000"}},{"$f":"IFERROR(VLOOKUP($A72,FILTRO!$A$5:$P$59,4,FALSE),0)","v":{"v":0,"d":"0.000"}},{"$f":"IFERROR(VLOOKUP($A72,FILTRO!$A$5:$P$59,5,FALSE),0)","v":{"v":0,"d":"0.000"}},{"$f":"IFERROR(VLOOKUP($A72,FILTRO!$A$5:$P$59,6,FALSE),0)","v":{"v":0,"d":"0.000"}},{"$f":"IFERROR(VLOOKUP($A72,FILTRO!$A$5:$P$59,7,FALSE),0)","v":{"v":0,"d":"0.000"}},{"$f":"IFERROR(VLOOKUP($A72,FILTRO!$A$5:$P$59,8,FALSE),0)","v":{"v":0,"d":"0.000"}},{"$f":"IFERROR(VLOOKUP($A72,FILTRO!$A$5:$P$59,9,FALSE),0)","v":{"v":0,"d":"0.000"}},{"$f":"IFERROR(VLOOKUP($A72,FILTRO!$A$5:$P$59,10,FALSE),0)","v":{"v":0,"d":"0.000"}},{"$f":"IFERROR(VLOOKUP($A72,FILTRO!$A$5:$P$59,11,FALSE),0)","v":{"v":0,"d":"0.000"}},{"$f":"IFERROR(VLOOKUP($A72,FILTRO!$A$5:$P$59,12,FALSE),0)","v":{"v":0,"d":"0.000"}},{"$f":"IFERROR(VLOOKUP($A72,FILTRO!$A$5:$P$59,13,FALSE),0)","v":{"v":0,"d":"0.000"}},{"$f":"IFERROR(VLOOKUP($A72,FILTRO!$A$5:$P$59,14,FALSE),0)","v":{"v":0,"d":"0.000"}}]
[null,null,"Subtotal",{"$f":"SUM(E73:P73)","v":{"v":96.39999999999999,"d":"96.400"}},{"$f":"SUM(E70:E72)","v":{"v":38.800000000000004,"d":"38.800"}},{"$f":"SUM(F70:F72)","v":{"v":44.8,"d":"44.800"}},{"$f":"SUM(G70:G72)","v":{"v":12.8,"d":"12.800"}}]
["15901200","Alergia a la proteína de la leche de vaca ","Fórmula Extensamente Hidrolizada (FEH)",{"$f":"SUM(E74:K74)","v":{"v":1589.5999999999997,"d":"1589.600"}},{"$f":"IFERROR(VLOOKUP($A74,FILTRO!$A$5:$P$59,3,FALSE),0)","v":{"v":61.2,"d":"61.200"}},{"$f":"IFERROR(VLOOKUP($A74,FILTRO!$A$5:$P$59,4,FALSE),0)","v":{"v":150.40000000000003,"d":"150.400"}},{"$f":"IFERROR(VLOOKUP($A74,FILTRO!$A$5:$P$59,5,FALSE),0)","v":{"v":641.5999999999998,"d":"641.600"}},{"$f":"IFERROR(VLOOKUP($A74,FILTRO!$A$5:$P$59,6,FALSE),0)","v":{"v":457.59999999999997,"d":"457.600"}},{"$f":"IFERROR(VLOOKUP($A74,FILTRO!$A$5:$P$59,7,FALSE),0)","v":{"v":275.6,"d":"275.600"}},{"$f":"IFERROR(VLOOKUP($A74,FILTRO!$A$5:$P$59,8,FALSE),0)","v":{"v":3.2,"d":"3.200"}},{"$f":"IFERROR(VLOOKUP($A74,FILTRO!$A$5:$P$59,9,FALSE),0)","v":{"v":0,"d":"0.000"}},{"$f":"IFERROR(VLOOKUP($A74,FILTRO!$A$5:$P$59,10,FALSE),0)","v":0},{"$f":"IFERROR(VLOOKUP($A74,FILTRO!$A$5:$P$59,11,FALSE),0)","v":0},{"$f":"IFERROR(VLOOKUP($A74,FILTRO!$A$5:$P$59,12,FALSE),0)","v":0},{"$f":"IFERROR(VLOOKUP($A74,FILTRO!$A$5:$P$59,13,FALSE),0)","v":0},{"$f":"IFERROR(VLOOKUP($A74,FILTRO!$A$5:$P$59,14,FALSE),0)","v":0}]
["15901300",null,"Fórmula Aminoacídica (FAA)",{"$f":"SUM(E75:K75)","v":{"v":786.4,"d":"786.400"}},{"$f":"IFERROR(VLOOKUP($A75,FILTRO!$A$5:$P$59,3,FALSE),0)","v":{"v":44,"d":"44.000"}},{"$f":"IFERROR(VLOOKUP($A75,FILTRO!$A$5:$P$59,4,FALSE),0)","v":{"v":92.8,"d":"92.800"}},{"$f":"IFERROR(VLOOKUP($A75,FILTRO!$A$5:$P$59,5,FALSE),0)","v":{"v":362.79999999999995,"d":"362.800"}},{"$f":"IFERROR(VLOOKUP($A75,FILTRO!$A$5:$P$59,6,FALSE),0)","v":{"v":180.8,"d":"180.800"}},{"$f":"IFERROR(VLOOKUP($A75,FILTRO!$A$5:$P$59,7,FALSE),0)","v":{"v":101.20000000000003,"d":"101.200"}},{"$f":"IFERROR(VLOOKUP($A75,FILTRO!$A$5:$P$59,8,FALSE),0)","v":{"v":4.8,"d":"4.800"}},{"$f":"IFERROR(VLOOKUP($A75,FILTRO!$A$5:$P$59,9,FALSE),0)","v":{"v":0,"d":"0.000"}},{"$f":"IFERROR(VLOOKUP($A75,FILTRO!$A$5:$P$59,10,FALSE),0)","v":0},{"$f":"IFERROR(VLOOKUP($A75,FILTRO!$A$5:$P$59,11,FALSE),0)","v":0},{"$f":"IFERROR(VLOOKUP($A75,FILTRO!$A$5:$P$59,12,FALSE),0)","v":0},{"$f":"IFERROR(VLOOKUP($A75,FILTRO!$A$5:$P$59,13,FALSE),0)","v":0},{"$f":"IFERROR(VLOOKUP($A75,FILTRO!$A$5:$P$59,14,FALSE),0)","v":0}]
[null,null,"Subtotal",{"$f":"SUM(E76:P76)","v":{"v":2376,"d":"2376.000"}},{"$f":"SUM(E74:E75)","v":{"v":105.2,"d":"105.200"}},{"v":243.20000000000005,"d":"243.200"},{"v":1004.3999999999997,"d":"1004.400"},{"v":638.4,"d":"638.400"},{"v":376.80000000000007,"d":"376.800"},{"v":8,"d":"8.000"},{"v":0,"d":"0.000"}]
[null,"Total",null,{"$f":"SUM(E77:P77)","v":{"v":6874.599999999999,"d":"6874.600"}},{"$f":"+E61+E69+E73+E76","v":{"v":189,"d":"189.000"}},{"v":394.00000000000006,"d":"394.000"},{"v":1538.3999999999996,"d":"1538.400"},{"v":1514.4,"d":"1514.400"},{"v":1020.8000000000001,"d":"1020.800"},{"v":1251,"d":"1251.000"},{"v":842,"d":"842.000"},{"v":38,"d":"38.00"},{"v":1,"d":"1.00"},{"v":60,"d":"60.00"},{"v":22,"d":"22.00"},{"v":4,"d":"4.00"}]
[]
[null,"Sección D: PNAC - Número de personas extrasistema que retiran"]
[null,"Subprogramas",null,"Total","Hombres"," Mujeres","Menores a 6 años",{"$nulls":6},"Gestantes",null,"Persona que amamanta a  hijo/a menor a 12 meses"]
[{"$nulls":6},"0 - 2 meses","3 - 5 meses","6 - 11 meses","12 - 17 meses"," 18 - 23 meses"," 24 - 47 meses"," 48 - 71 meses","Normal, sobrepeso y obesas","Bajo peso","0 a 5 meses con Lactancia Materna exclusiva","0 a 5 meses Lactancia Materna + Fórmula Láctea","6 a 11 meses Lactancia Materna"]
[]
[]
["15060100","Básico",null,{"$f":"SUM(G84:R84)","v":2283},{"$f":"IFERROR(VLOOKUP($A84,FILTRO!$A$5:$P$59,3,FALSE),0)","v":1077},{"$f":"IFERROR(VLOOKUP($A84,FILTRO!$A$5:$P$59,4,FALSE),0)","v":1211},{"$f":"IFERROR(VLOOKUP($A84,FILTRO!$A$5:$P$59,5,FALSE),0)","v":28},{"$f":"IFERROR(VLOOKUP($A84,FILTRO!$A$5:$P$59,6,FALSE),0)","v":60},{"$f":"IFERROR(VLOOKUP($A84,FILTRO!$A$5:$P$59,7,FALSE),0)","v":269},{"$f":"IFERROR(VLOOKUP($A84,FILTRO!$A$5:$P$59,8,FALSE),0)","v":443},{"$f":"IFERROR(VLOOKUP($A84,FILTRO!$A$5:$P$59,9,FALSE),0)","v":329},{"$f":"IFERROR(VLOOKUP($A84,FILTRO!$A$5:$P$59,10,FALSE),0)","v":621},{"$f":"IFERROR(VLOOKUP($A84,FILTRO!$A$5:$P$59,11,FALSE),0)","v":438},{"$f":"IFERROR(VLOOKUP($A84,FILTRO!$A$5:$P$59,12,FALSE),0)","v":40},{"$f":"IFERROR(VLOOKUP($A84,FILTRO!$A$5:$P$59,13,FALSE),0)","v":0},{"$f":"IFERROR(VLOOKUP($A84,FILTRO!$A$5:$P$59,14,FALSE),0)","v":31},{"$f":"IFERROR(VLOOKUP($A84,FILTRO!$A$5:$P$59,15,FALSE),0)","v":20},{"$f":"IFERROR(VLOOKUP($A84,FILTRO!$A$5:$P$59,16,FALSE),0)","v":4},{"$f":"AA84&AB84","v":""},{"$nulls":7},{"$f":"IF(AF84=1,\"* La suma del Total según grupo etario, gestantes y Personas que amamantan no pueden superar al Total por Sexo. \",\"\")","v":""},{"$nulls":4},{"$f":"IF(SUM(E84:F84)<SUM(G84:M84,N84,P84:R84),1,0)","v":0}]
["15060200","Refuerzo",null,{"$f":"SUM(G85:R85)","v":13},{"$f":"IFERROR(VLOOKUP($A85,FILTRO!$A$5:$P$59,3,FALSE),0)","v":14},{"$f":"IFERROR(VLOOKUP($A85,FILTRO!$A$5:$P$59,4,FALSE),0)","v":18},{"$f":"IFERROR(VLOOKUP($A85,FILTRO!$A$5:$P$59,5,FALSE),0)","v":0},{"$f":"IFERROR(VLOOKUP($A85,FILTRO!$A$5:$P$59,6,FALSE),0)","v":0},{"$f":"IFERROR(VLOOKUP($A85,FILTRO!$A$5:$P$59,7,FALSE),0)","v":0},{"$f":"IFERROR(VLOOKUP($A85,FILTRO!$A$5:$P$59,8,FALSE),0)","v":1},{"$f":"IFERROR(VLOOKUP($A85,FILTRO!$A$5:$P$59,9,FALSE),0)","v":1},{"$f":"IFERROR(VLOOKUP($A85,FILTRO!$A$5:$P$59,10,FALSE),0)","v":9},{"$f":"IFERROR(VLOOKUP($A85,FILTRO!$A$5:$P$59,11,FALSE),0)","v":2},{"$f":"IFERROR(VLOOKUP($A85,FILTRO!$A$5:$P$59,12,FALSE),0)","v":0},{"$f":"IFERROR(VLOOKUP($A85,FILTRO!$A$5:$P$59,13,FALSE),0)","v":0},{"$f":"IFERROR(VLOOKUP($A85,FILTRO!$A$5:$P$59,14,FALSE),0)","v":0},{"$f":"IFERROR(VLOOKUP($A85,FILTRO!$A$5:$P$59,15,FALSE),0)","v":0},{"$f":"IFERROR(VLOOKUP($A85,FILTRO!$A$5:$P$59,16,FALSE),0)","v":0},{"$f":"AA85&AB85","v":""},{"$nulls":7},{"$f":"IF(AF85=1,\"* La suma del Total según grupo etario, gestantes y Personas que amamantan no pueden superar al Total por Sexo. \",\"\")","v":""},{"$nulls":4},{"$f":"IF(D85<SUM(G85:M85,O85:R85),1,0)","v":0}]
["15060600","Prematuros ",null,{"$f":"SUM(G86:I86)","v":24},{"$f":"IFERROR(VLOOKUP($A86,FILTRO!$A$5:$P$59,3,FALSE),0)","v":7},{"$f":"IFERROR(VLOOKUP($A86,FILTRO!$A$5:$P$59,4,FALSE),0)","v":16},{"$f":"IFERROR(VLOOKUP($A86,FILTRO!$A$5:$P$59,5,FALSE),0)","v":10},{"$f":"IFERROR(VLOOKUP($A86,FILTRO!$A$5:$P$59,6,FALSE),0)","v":11},{"$f":"IFERROR(VLOOKUP($A86,FILTRO!$A$5:$P$59,7,FALSE),0)","v":3},{"$f":"IFERROR(VLOOKUP($A86,FILTRO!$A$5:$P$59,8,FALSE),0)","v":0},{"$f":"IFERROR(VLOOKUP($A86,FILTRO!$A$5:$P$59,9,FALSE),0)","v":0},{"$f":"IFERROR(VLOOKUP($A86,FILTRO!$A$5:$P$59,10,FALSE),0)","v":0},{"$f":"IFERROR(VLOOKUP($A86,FILTRO!$A$5:$P$59,11,FALSE),0)","v":0},{"$f":"IFERROR(VLOOKUP($A86,FILTRO!$A$5:$P$59,12,FALSE),0)","v":0},{"$f":"IFERROR(VLOOKUP($A86,FILTRO!$A$5:$P$59,13,FALSE),0)","v":0},{"$f":"IFERROR(VLOOKUP($A86,FILTRO!$A$5:$P$59,14,FALSE),0)","v":0},{"$f":"IFERROR(VLOOKUP($A86,FILTRO!$A$5:$P$59,15,FALSE),0)","v":0},{"$f":"IFERROR(VLOOKUP($A86,FILTRO!$A$5:$P$59,16,FALSE),0)","v":0},{"$f":"AA86&AB86","v":""},{"$nulls":7},{"$f":"IF(AF86=1,\"* El Total según grupo etario no puede superar al Total por Sexo. \",\"\")","v":""},{"$nulls":4},{"$f":"IF(D86<SUM(G86:M86),1,0)","v":0}]
["15901400","Alergia a la Proteína de la leche de vaca ",null,{"$f":"SUM(G87:M87)","v":659},{"$f":"IFERROR(VLOOKUP($A87,FILTRO!$A$5:$P$59,3,FALSE),0)","v":374},{"$f":"IFERROR(VLOOKUP($A87,FILTRO!$A$5:$P$59,4,FALSE),0)","v":258},{"$f":"IFERROR(VLOOKUP($A87,FILTRO!$A$5:$P$59,5,FALSE),0)","v":31},{"$f":"IFERROR(VLOOKUP($A87,FILTRO!$A$5:$P$59,6,FALSE),0)","v":66},{"$f":"IFERROR(VLOOKUP($A87,FILTRO!$A$5:$P$59,7,FALSE),0)","v":279},{"$f":"IFERROR(VLOOKUP($A87,FILTRO!$A$5:$P$59,8,FALSE),0)","v":179},{"$f":"IFERROR(VLOOKUP($A87,FILTRO!$A$5:$P$59,9,FALSE),0)","v":102},{"$f":"IFERROR(VLOOKUP($A87,FILTRO!$A$5:$P$59,10,FALSE),0)","v":2},{"$f":"IFERROR(VLOOKUP($A87,FILTRO!$A$5:$P$59,11,FALSE),0)","v":0},{"$f":"IFERROR(VLOOKUP($A87,FILTRO!$A$5:$P$59,12,FALSE),0)","v":0},{"$f":"IFERROR(VLOOKUP($A87,FILTRO!$A$5:$P$59,13,FALSE),0)","v":0},{"$f":"IFERROR(VLOOKUP($A87,FILTRO!$A$5:$P$59,14,FALSE),0)","v":0},{"$f":"IFERROR(VLOOKUP($A87,FILTRO!$A$5:$P$59,15,FALSE),0)","v":0},{"$f":"IFERROR(VLOOKUP($A87,FILTRO!$A$5:$P$59,16,FALSE),0)","v":0},{"$f":"AA87&AB87","v":""},{"$nulls":7},{"$f":"IF(AF87=1,\"* El Total según grupo etario no puede superar al Total por Sexo. \",\"\")","v":""},{"$nulls":4},{"$f":"IF(D87<SUM(G87:M87),1,0)","v":0}]
[null,"Total",null,{"$f":"SUM(E88:F88)","v":2975},{"$f":"SUM(E84:E87)","v":1472},1503,69,137,551,623,432,632,440,{"$f":"SUM(N84)","v":40},{"$f":"SUM(O85)","v":0},{"$f":"SUM(P84:P85)","v":31},{"$f":"SUM(Q84:Q85)","v":20},{"$f":"SUM(R84:R85)","v":4}]
["15900090","Programas Sociales (*)",null,{"$f":"SUM(G89:R89)","v":0},{"$f":"IFERROR(VLOOKUP($A89,FILTRO!$A$5:$P$59,3,FALSE),0)","v":0},{"$f":"IFERROR(VLOOKUP($A89,FILTRO!$A$5:$P$59,4,FALSE),0)","v":0},{"$f":"IFERROR(VLOOKUP($A89,FILTRO!$A$5:$P$59,5,FALSE),0)","v":0},{"$f":"IFERROR(VLOOKUP($A89,FILTRO!$A$5:$P$59,6,FALSE),0)","v":0},{"$f":"IFERROR(VLOOKUP($A89,FILTRO!$A$5:$P$59,7,FALSE),0)","v":0},{"$f":"IFERROR(VLOOKUP($A89,FILTRO!$A$5:$P$59,8,FALSE),0)","v":0},{"$f":"IFERROR(VLOOKUP($A89,FILTRO!$A$5:$P$59,9,FALSE),0)","v":0},{"$f":"IFERROR(VLOOKUP($A89,FILTRO!$A$5:$P$59,10,FALSE),0)","v":0},{"$f":"IFERROR(VLOOKUP($A89,FILTRO!$A$5:$P$59,11,FALSE),0)","v":0},{"$f":"IFERROR(VLOOKUP($A89,FILTRO!$A$5:$P$59,12,FALSE),0)","v":0},{"$f":"IFERROR(VLOOKUP($A89,FILTRO!$A$5:$P$59,13,FALSE),0)","v":0},{"$f":"IFERROR(VLOOKUP($A89,FILTRO!$A$5:$P$59,14,FALSE),0)","v":0},{"$f":"IFERROR(VLOOKUP($A89,FILTRO!$A$5:$P$59,15,FALSE),0)","v":0},{"$f":"IFERROR(VLOOKUP($A89,FILTRO!$A$5:$P$59,16,FALSE),0)","v":0},{"$f":"AA89&AB89","v":""},{"$nulls":7},{"$f":"IF(AF89=1,\"* La suma del Total según grupo etario, gestantes y Personas que amamantan no pueden superar al Total por Sexo. \",\"\")","v":""},{"$f":"IF(AG89=1,\"* Compruebe que lo ingresado en Programas Sociales no supere al Total registrado en los subprogramas. \",\"\")","v":""},{"$f":"IF(AH89=1,\"* El Total registrado en Programas Sociales no puede ser mayor al Total registrado en los subprogramas. \",\"\")","v":""},null,null,{"$f":"IF(SUM(E89:F89)<SUM(G89:R89),1,0)","v":0},{"$f":"IF(OR(E89>E88,F89>F88,G89>G88,H89>H88,I89>I88,J89>J88,K89>K88,L89>L88,M89>M88,N89>N88,O89>O88,P89>P88,Q89>Q88,R89>R88),1,0)","v":0},{"$f":"IF(D89>D88,1,0)","v":0}]
[null,"Nota: (*) Información referencial, ya incluida en los subprogramas."]
[]
[null,"Sección E: Existencia y movimiento total de productos (Intrasistema y Extrasistema)"]
[null,"Productos",null,"Saldo Mes Anterior","Ingresos",null,"Total Disponible","Egresos",{"$nulls":6},"Saldo mes siguiente"]
[{"$nulls":4},"Proveedor/Operador Logístico","Por traspaso",null,"Distribuido a Población Beneficiaria",null,null,"Mermas (Incluye faltantes)","Otros (demostraciones, donaciones, etc.)","Traspaso","Total Egresos"]
[{"$nulls":7},"Intrasistema","Extrasistema","Total"]
[null,"Leche Purita Fortificada (LPF)",{"$nulls":4},{"$f":"SUM(D96:F96)","v":0},{"$f":"D13+D20","v":20731},{"$f":"+D55+D62","v":566},{"$f":"+H96+I96","v":21297},{"$nulls":3},{"$f":"SUM(J96:M96)","v":21297},{"$f":"G96-N96","v":-21297}]
[null,"Purita +Pro 1",{"$nulls":4},0,{"$f":"D14+D21","v":54681},{"$f":"+D56+D63","v":1535},56216,{"$nulls":3},56216,-56216]
[null,"Purita Cereal (PC)",{"$nulls":4},0,{"$f":"D15+D22","v":85419},{"$f":"+D57+D64","v":1333},86752,{"$nulls":3},86752,-86752]
[null,"Purita +Pro 2",{"$nulls":4},0,{"$f":"D16+D23","v":45730},{"$f":"+D58+D65","v":820},46550,{"$nulls":3},46550,-46550]
[null,"Mi Sopita (MS)",{"$nulls":4},0,{"$f":"D24+D30","v":6144},{"$f":"+D66+D72","v":22},6166,{"$nulls":3},6166,-6166]
[null,"Purita Mamá (PM)",{"$nulls":4},{"v":0,"d":"0.0"},{"$f":"+D17+D25","v":45009.5},{"$f":"+D59+D67","v":{"v":123,"d":"123.0"}},45132.5,{"$nulls":3},45132.5,-45132.5]
[null,"Fórmula de Inicio (FI)",{"$nulls":4},{"v":0,"d":"0.000"},{"$f":"D18+D26+D29","v":{"v":50190.300000000105,"d":"50190.300"}},{"$f":"+D60+D68+D71","v":{"v":3.2,"d":"3.200"}},{"v":50193.5000000001,"d":"50193.500"},{"$nulls":3},{"v":50193.5000000001,"d":"50193.500"},{"v":-50193.5000000001,"d":"-50193.500"}]
[null,"Fórmula Prematuros",{"$nulls":4},{"v":0,"d":"0.000"},{"$f":"D28","v":{"v":1462.7999999999995,"d":"1462.800"}},{"$f":"D70","v":{"v":96.39999999999999,"d":"96.400"}},{"v":1559.1999999999996,"d":"1559.200"},{"$nulls":3},{"v":1559.1999999999996,"d":"1559.200"},{"v":-1559.1999999999996,"d":"-1559.200"}]
[null,"Fórmula Extensamente Hidrolizada (FEH)",{"$nulls":4},{"v":0,"d":"0.000"},{"$f":"D32","v":{"v":8470.799999999996,"d":"8470.800"}},{"$f":"D74","v":{"v":1589.5999999999997,"d":"1589.600"}},{"v":10060.399999999996,"d":"10060.400"},{"$nulls":3},{"v":10060.399999999996,"d":"10060.400"},{"v":-10060.399999999996,"d":"-10060.400"}]
[null,"Fórmula aminoacídica (FAA)",{"$nulls":4},{"v":0,"d":"0.000"},{"$f":"D33","v":{"v":2340.399999999999,"d":"2340.400"}},{"$f":"D75","v":{"v":786.4,"d":"786.400"}},{"v":3126.7999999999993,"d":"3126.800"},{"$nulls":3},{"v":3126.7999999999993,"d":"3126.800"},{"v":-3126.7999999999993,"d":"-3126.800"}]
[null,"Total (Kg)",null,{"$f":"SUM(D96:D105)","v":{"v":0,"d":"0.000"}},{"v":0,"d":"0.000"},{"v":0,"d":"0.000"},{"v":0,"d":"0.000"},{"v":320178.8000000001,"d":"320178.800"},{"v":6874.5999999999985,"d":"6874.600"},{"v":327053.40000000014,"d":"327053.400"},{"v":0,"d":"0.000"},{"v":0,"d":"0.000"},{"v":0,"d":"0.000"},{"v":327053.40000000014,"d":"327053.400"},{"v":-327053.40000000014,"d":"-327053.400"}]
[]
[]
[]
[]
["Codigos eliminados"]
[15030200]
[15040200]
[]
["CODIGOS NUEVOS"]
[15080014]
[15080015]
[15080016]
[15080017]
[15080018]
[15080019]
[15080020]
[15080021]
{"$rows_empty":34}
[null,{"$f":"SUM(C8:R106)","v":4267338},{"$nulls":30},{"$f":"SUM(AF1:AJ157)","v":0}]

{"sheet":"D16","index":2,"n_rows":209,"n_cols":31,"rows_kept":209,"merged":[[6,1,6,7],[8,1,8,3],[17,1,17,4],[18,1,19,1],[18,2,18,4],[27,1,27,11],[28,1,30,1],[28,2,30,2],[28,3,28,4],[28,5,30,5],[28,6,28,10],[28,11,30,11],[29,3,30,3],[29,4,30,4],[29,6,30,6],[29,7,30,7],[29,8,30,8],[29,9,30,9],[29,10,30,10],[34,1,34,6],[35,1,36,1],[35,2,35,4]]}
[null,"SERVICIO DE SALUD"]
[null,{"$f":"CONCATENATE(\"COMUNA: \",[1]NOMBRE!$B$2,\"  \",\"( \",[1]NOMBRE!$C$2,[1]NOMBRE!$D$2,[1]NOMBRE!$E$2,[1]NOMBRE!$F$2,[1]NOMBRE!$G$2,\" )\")","v":"COMUNA: 0  ( 00000 )"}]
[null,{"$f":"CONCATENATE(\"ESTABLECIMIENTO/ESTRATEGIA: \",[1]NOMBRE!$B$3,\"  \",\"( \",[1]NOMBRE!$C$3,[1]NOMBRE!$D$3,[1]NOMBRE!$E$3,[1]NOMBRE!$F$3,[1]NOMBRE!$G$3,[1]NOMBRE!$H$3,\" )\")","v":"ESTABLECIMIENTO/ESTRATEGIA: 0  ( 000000 )"}]
[null,{"$f":"CONCATENATE(\"MES: \",[1]NOMBRE!$B$6,\"  \",\"( \",[1]NOMBRE!$C$6,[1]NOMBRE!$D$6,\" )\")","v":"MES: 0  ( 00 )"}]
[null,{"$f":"CONCATENATE(\"AÑO: \",[1]NOMBRE!$B$7)","v":"AÑO: 2023"}]
[]
[null,"REM-D.16.    Programa de Alimentación Complementaria del Adulto Mayor (PACAM)"]
[]
[null,"Sección A: PACAM - Cantidad distribuida (kg)"]
[null,"Grupo Programático","Sopa/Crema","Bebida Láctea "]
["16090300","70 años y más (independiente del motivo de ingreso)",{"$f":"IFERROR(VLOOKUP($A11,FILTRO!$A$5:$P$59,2,FALSE),0)","v":{"v":229841,"d":"229,841"}},{"$f":"IFERROR(VLOOKUP($A11,FILTRO!$A$5:$P$59,3,FALSE),0)","v":{"v":229914,"d":"229,914"}},{"$f":"$AB11&\" \"&$AC11","v":"La cantidad distribuída de Sopa/Crema es distinta a la cantidad distribuída de Bebida Láctea.-  "},{"$nulls":22},{"$f":"IF(C11<>D11,\"La cantidad distribuída de Sopa/Crema es distinta a la cantidad distribuída de Bebida Láctea.- \",\"\")","v":"La cantidad distribuída de Sopa/Crema es distinta a la cantidad distribuída de Bebida Láctea.- "}]
["16200210","65 - 69 años con alteración de la funcionalidad",{"$f":"IFERROR(VLOOKUP($A12,FILTRO!$A$5:$P$59,2,FALSE),0)","v":{"v":16940,"d":"16,940"}},{"$f":"IFERROR(VLOOKUP($A12,FILTRO!$A$5:$P$59,3,FALSE),0)","v":{"v":16943,"d":"16,943"}},{"$f":"$AB12&\" \"&$AC12","v":"La cantidad distribuída de Sopa/Crema es distinta a la cantidad distribuída de Bebida Láctea.-  "},{"$nulls":22},{"$f":"IF(C12<>D12,\"La cantidad distribuída de Sopa/Crema es distinta a la cantidad distribuída de Bebida Láctea.- \",\"\")","v":"La cantidad distribuída de Sopa/Crema es distinta a la cantidad distribuída de Bebida Láctea.- "}]
["16090500","65 - 69 años en programa social (Vínculos, Familia, Calle u otro)",{"$f":"IFERROR(VLOOKUP($A13,FILTRO!$A$5:$P$59,2,FALSE),0)","v":458},{"$f":"IFERROR(VLOOKUP($A13,FILTRO!$A$5:$P$59,3,FALSE),0)","v":458},{"$f":"$AB13&\" \"&$AC13","v":" "},{"$nulls":22},{"$f":"IF(C13<>D13,\"La cantidad distribuída de Sopa/Crema es distinta a la cantidad distribuída de Bebida Láctea.- \",\"\")","v":""}]
["16090600","60 - 69 años con tuberculosis",{"$f":"IFERROR(VLOOKUP($A14,FILTRO!$A$5:$P$59,2,FALSE),0)","v":58},{"$f":"IFERROR(VLOOKUP($A14,FILTRO!$A$5:$P$59,3,FALSE),0)","v":58},{"$f":"$AB14&\" \"&$AC14","v":" "},{"$nulls":22},{"$f":"IF(C14<>D14,\"La cantidad distribuída de Sopa/Crema es distinta a la cantidad distribuída de Bebida Láctea.- \",\"\")","v":""}]
["16090100","60 - 69 años en ELEAM autorizado o similar",{"$f":"IFERROR(VLOOKUP($A15,FILTRO!$A$5:$P$59,2,FALSE),0)","v":949},{"$f":"IFERROR(VLOOKUP($A15,FILTRO!$A$5:$P$59,3,FALSE),0)","v":950},{"$f":"$AB15&\" \"&$AC15","v":"La cantidad distribuída de Sopa/Crema es distinta a la cantidad distribuída de Bebida Láctea.-  "},{"$nulls":22},{"$f":"IF(C15<>D15,\"La cantidad distribuída de Sopa/Crema es distinta a la cantidad distribuída de Bebida Láctea.- \",\"\")","v":"La cantidad distribuída de Sopa/Crema es distinta a la cantidad distribuída de Bebida Láctea.- "}]
[null,"TOTAL",{"$f":"SUM(C11:C15)","v":{"v":248246,"d":"248,246"}},{"$f":"SUM(D11:D15)","v":{"v":248323,"d":"248,323"}}]
[]
[null,"Sección B: PACAM - Número de personas que retiran",{"$nulls":11},"|"]
[null,"Grupo Programático","Sopa/Crema - Bebida Láctea"]
[null,null,"Total",{"$f":"IFERROR(VLOOKUP($A20,FILTRO!$A$5:$P$59,2,FALSE),0)","v":0},"Total Mujeres"]
["16100300","70 años y más (independiente del motivo de ingreso",{"$f":"SUM(D21:E21)","v":230690},{"$f":"IFERROR(VLOOKUP($A21,FILTRO!$A$5:$P$59,3,FALSE),0)","v":{"v":97588,"d":"97,588"}},{"$f":"IFERROR(VLOOKUP($A21,FILTRO!$A$5:$P$59,4,FALSE),0)","v":{"v":133102,"d":"133,102"}},{"$f":"$AA21","v":" No olvide que el Nº de personas que retiran debe ser igual al promedio de Kilos que retiran en Seccion A.-"},{"$nulls":20},{"$f":"IF(((C11+D11)/2)<>(D21+E21),\" No olvide que el Nº de personas que retiran debe ser igual al promedio de Kilos que retiran en Seccion A.-\",\"\")","v":" No olvide que el Nº de personas que retiran debe ser igual al promedio de Kilos que retiran en Seccion A.-"},null,{"$f":"IF($D21+$E21=0,\"\",IF($C11+$D11=\"\",IF($D21+$E21=\"\",0,1),\"\"))","v":""},{"$f":"IF(D21+E21=0,\"\",IF(C11+D11=0,\"\",IF(((C11+D11)/2)<>D21+E21,1,0)))","v":1}]
["16200220","65 - 69 años con alteración de la funcionalidad",{"$f":"SUM(D22:E22)","v":17176},{"$f":"IFERROR(VLOOKUP($A22,FILTRO!$A$5:$P$59,3,FALSE),0)","v":{"v":6506,"d":"6,506"}},{"$f":"IFERROR(VLOOKUP($A22,FILTRO!$A$5:$P$59,4,FALSE),0)","v":{"v":10670,"d":"10,670"}},{"$f":"$AA22","v":" No olvide que el Nº de personas que retiran debe ser igual al promedio de Kilos que retiran en Seccion A.-"},{"$nulls":20},{"$f":"IF(((C12+D12)/2)<>(D22+E22),\" No olvide que el Nº de personas que retiran debe ser igual al promedio de Kilos que retiran en Seccion A.-\",\"\")","v":" No olvide que el Nº de personas que retiran debe ser igual al promedio de Kilos que retiran en Seccion A.-"},null,{"$f":"IF($D22+$E22=0,\"\",IF($C12+$D12=\"\",IF($D22+$E22=\"\",0,1),\"\"))","v":""},{"$f":"IF(D22+E22=0,\"\",IF(C12+D12=0,\"\",IF(((C12+D12)/2)<>D22+E22,1,0)))","v":1}]
["16100600","65 - 69 años en programa social (Vínculos, Familia, Calle u otro)",{"$f":"SUM(D23:E23)","v":463},{"$f":"IFERROR(VLOOKUP($A23,FILTRO!$A$5:$P$59,3,FALSE),0)","v":165},{"$f":"IFERROR(VLOOKUP($A23,FILTRO!$A$5:$P$59,4,FALSE),0)","v":298},{"$f":"$AA23","v":" No olvide que el Nº de personas que retiran debe ser igual al promedio de Kilos que retiran en Seccion A.-"},{"$nulls":20},{"$f":"IF(((C13+D13)/2)<>(D23+E23),\" No olvide que el Nº de personas que retiran debe ser igual al promedio de Kilos que retiran en Seccion A.-\",\"\")","v":" No olvide que el Nº de personas que retiran debe ser igual al promedio de Kilos que retiran en Seccion A.-"},null,{"$f":"IF($D23+$E23=0,\"\",IF($C13+$D13=\"\",IF($D23+$E23=\"\",0,1),\"\"))","v":""},{"$f":"IF(D23+E23=0,\"\",IF(C13+D13=0,\"\",IF(((C13+D13)/2)<>D23+E23,1,0)))","v":1}]
["16100700","60 - 69 años con tuberculosis",{"$f":"SUM(D24:E24)","v":53},{"$f":"IFERROR(VLOOKUP($A24,FILTRO!$A$5:$P$59,3,FALSE),0)","v":44},{"$f":"IFERROR(VLOOKUP($A24,FILTRO!$A$5:$P$59,4,FALSE),0)","v":9},{"$f":"$AA24","v":" No olvide que el Nº de personas que retiran debe ser igual al promedio de Kilos que retiran en Seccion A.-"},{"$nulls":20},{"$f":"IF(((C14+D14)/2)<>(D24+E24),\" No olvide que el Nº de personas que retiran debe ser igual al promedio de Kilos que retiran en Seccion A.-\",\"\")","v":" No olvide que el Nº de personas que retiran debe ser igual al promedio de Kilos que retiran en Seccion A.-"},null,{"$f":"IF($D24+$E24=0,\"\",IF($C14+$D14=\"\",IF($D24+$E24=\"\",0,1),\"\"))","v":""},{"$f":"IF(D24+E24=0,\"\",IF(C14+D14=0,\"\",IF(((C14+D14)/2)<>D24+E24,1,0)))","v":1}]
["16100100","60 - 69 años en ELEAM autorizado o similar",{"$f":"SUM(D25:E25)","v":949},{"$f":"IFERROR(VLOOKUP($A25,FILTRO!$A$5:$P$59,3,FALSE),0)","v":409},{"$f":"IFERROR(VLOOKUP($A25,FILTRO!$A$5:$P$59,4,FALSE),0)","v":540},{"$f":"$AA25","v":" No olvide que el Nº de personas que retiran debe ser igual al promedio de Kilos que retiran en Seccion A.-"},{"$nulls":20},{"$f":"IF(((C15+D15)/2)<>(D25+E25),\" No olvide que el Nº de personas que retiran debe ser igual al promedio de Kilos que retiran en Seccion A.-\",\"\")","v":" No olvide que el Nº de personas que retiran debe ser igual al promedio de Kilos que retiran en Seccion A.-"},null,{"$f":"IF($D25+$E25=0,\"\",IF($C15+$D15=\"\",IF($D25+$E25=\"\",0,1),\"\"))","v":""},{"$f":"IF(D25+E25=0,\"\",IF(C15+D15=0,\"\",IF(((C15+D15)/2)<>D25+E25,1,0)))","v":1}]
[null,"TOTAL",{"$f":"SUM(C21:C25)","v":{"v":249331,"d":"249,331"}},{"$f":"SUM(D21:D25)","v":{"v":104712,"d":"104,712"}},{"$f":"SUM(E21:E25)","v":{"v":144619,"d":"144,619"}}]
[]
[null,"Sección C: Existencia y movimiento de productos"]
[null,"Productos","Saldo mes anterior","Ingresos",null,"Total disponible","Egresos",{"$nulls":4},"Saldo mes siguiente"]
[{"$nulls":3},"Proveedor/Operador Logístico","Por traspaso",null,"Distribuido a población beneficiaria","Mermas (Incluye faltantes)","Otros: (demostraciones, donaciones, etc.)","Traspaso","Total egresos"]
[]
[null,"Sopa/Crema",{"$nulls":3},{"$f":"SUM(C32:E32)","v":{"v":0,"d":"0.0"}},{"$f":"C16","v":{"v":248246,"d":"248,246.0"}},{"$nulls":3},{"$f":"SUM(G32:J32)","v":{"v":248246,"d":"248246.0"}},{"$f":"F32-K32","v":{"v":-248246,"d":"-248246.0"}}]
[null,"Bebida Láctea",{"$nulls":3},{"$f":"SUM(C33:E33)","v":0},{"$f":"D16","v":248323},{"$nulls":3},{"$f":"SUM(G33:J33)","v":248323},{"$f":"F33-K33","v":-248323}]
[]
[null,"Sección D: PACAM - Número de personas que retiran, pertenecientes al PRAIS (incluidos en Sección B)"]
[null,"Grupo Programático","Sopa/Crema - Bebida Láctea"]
[null,null,"Total","Total Hombres","Total Mujeres"]
["16200100","70 años y más (independiente del motivo de ingreso",{"$f":"SUM(D38:E38)","v":3868},{"$f":"IFERROR(VLOOKUP($A38,FILTRO!$A$5:$P$59,3,FALSE),0)","v":2067},{"$f":"IFERROR(VLOOKUP($A38,FILTRO!$A$5:$P$59,4,FALSE),0)","v":1801}]
["16200230","65 - 69 años con alteración de la funcionalidad",{"$f":"SUM(D39:E39)","v":152},{"$f":"IFERROR(VLOOKUP($A39,FILTRO!$A$5:$P$59,3,FALSE),0)","v":71},{"$f":"IFERROR(VLOOKUP($A39,FILTRO!$A$5:$P$59,4,FALSE),0)","v":81}]
["16200240","65 - 69 años en programa social (Vínculos, Familia, Calle u otro)",2,{"$f":"IFERROR(VLOOKUP($A40,FILTRO!$A$5:$P$59,3,FALSE),0)","v":2},{"$f":"IFERROR(VLOOKUP($A40,FILTRO!$A$5:$P$59,4,FALSE),0)","v":0}]
["16200200","60 - 69 años con tuberculosis",{"$f":"SUM(D41:E41)","v":0},{"$f":"IFERROR(VLOOKUP($A41,FILTRO!$A$5:$P$59,3,FALSE),0)","v":0},{"$f":"IFERROR(VLOOKUP($A41,FILTRO!$A$5:$P$59,4,FALSE),0)","v":0}]
["16200250","60 - 69 años en ELEAM autorizado o similar",0,{"$f":"IFERROR(VLOOKUP($A42,FILTRO!$A$5:$P$59,3,FALSE),0)","v":0},{"$f":"IFERROR(VLOOKUP($A42,FILTRO!$A$5:$P$59,4,FALSE),0)","v":0}]
[null,"TOTAL",{"$f":"SUM(C38:C42)","v":{"v":4022,"d":"4,022"}},{"$f":"SUM(D38:D42)","v":{"v":2140,"d":"2,140"}},{"$f":"SUM(E38:E42)","v":{"v":1882,"d":"1,882"}}]
[]
[]
[]
[]
["CODIGOS ELIMINADOS"]
[16200260]
[16200270]
{"$rows_empty":158}
[null,{"$f":"SUM(B9:O43)","v":2503119},{"$nulls":28},{"$f":"SUM(AE1:AF208)","v":0}]

{"sheet":"_BBDD","index":3,"n_rows":17588,"n_cols":58,"rows_kept":4500,"cut":true,"hidden":true,"bounds":{"rows_first":2000,"rows_last":500,"rows_between":2000,"halvings":0}}
["Mes","IdServicio","Ano","IdEstablecimiento","Establecimiento","Comuna","CodigoPrestacion","fechaIngreso","Col01","Col02","Col03","Col04","Col05","Col06","Col07","Col08","Col09","Col10","Col11","Col12","Col13","Col14","Col15","Col16","Col17","Col18","Col19","Col20","Col21","Col22","Col23","Col24","Col25","Col26","Col27","Col28","Col29","Col30","Col31","Col32","Col33","Col34","Col35","Col36","Col37","Col38","Col39","Col40","Col41","col42","col43","col44","col45","col46","col47","col48","col49","col50"]
[7,"5",2023,"105400",{"$f":"IFERROR(VLOOKUP(Tabla_SERIED_11_6[[#This Row],[IdEstablecimiento]],'[2]Establecimiento 2023'!$A$1:$E$183,3,FALSE),0)","v":"105400-Posta de Salud Rural Algarrobito"},{"$f":"IFERROR(VLOOKUP(Tabla_SERIED_11_6[[#This Row],[IdEstablecimiento]],'[2]Establecimiento 2023'!$A$1:$E$183,5,FALSE),0)","v":"04101-La Serena"},"15080016","2023-08-18T08:14:04",2,{"$nulls":5},2]
[7,"5",2023,"105400",{"$f":"IFERROR(VLOOKUP(Tabla_SERIED_11_6[[#This Row],[IdEstablecimiento]],'[2]Establecimiento 2023'!$A$1:$E$183,3,FALSE),0)","v":"105400-Posta de Salud Rural Algarrobito"},{"$f":"IFERROR(VLOOKUP(Tabla_SERIED_11_6[[#This Row],[IdEstablecimiento]],'[2]Establecimiento 2023'!$A$1:$E$183,5,FALSE),0)","v":"04101-La Serena"},"15900050","2023-08-18T08:14:04",1,1,null,1]
[7,"5",2023,"105400",{"$f":"IFERROR(VLOOKUP(Tabla_SERIED_11_6[[#This Row],[IdEstablecimiento]],'[2]Establecimiento 2023'!$A$1:$E$183,3,FALSE),0)","v":"105400-Posta de Salud Rural Algarrobito"},{"$f":"IFERROR(VLOOKUP(Tabla_SERIED_11_6[[#This Row],[IdEstablecimiento]],'[2]Establecimiento 2023'!$A$1:$E$183,5,FALSE),0)","v":"04101-La Serena"},"16100300","2023-08-18T08:14:04",244,97,147]
[7,"5",2023,"105401",{"$f":"IFERROR(VLOOKUP(Tabla_SERIED_11_6[[#This Row],[IdEstablecimiento]],'[2]Establecimiento 2023'!$A$1:$E$183,3,FALSE),0)","v":"105401-Posta de Salud Rural Las Rojas"},{"$f":"IFERROR(VLOOKUP(Tabla_SERIED_11_6[[#This Row],[IdEstablecimiento]],'[2]Establecimiento 2023'!$A$1:$E$183,5,FALSE),0)","v":"04101-La Serena"},"16100300","2023-08-18T08:14:33",58,29,29]
[7,"5",2023,"105402",{"$f":"IFERROR(VLOOKUP(Tabla_SERIED_11_6[[#This Row],[IdEstablecimiento]],'[2]Establecimiento 2023'!$A$1:$E$183,3,FALSE),0)","v":"105402-Posta de Salud Rural El Romero"},{"$f":"IFERROR(VLOOKUP(Tabla_SERIED_11_6[[#This Row],[IdEstablecimiento]],'[2]Establecimiento 2023'!$A$1:$E$183,5,FALSE),0)","v":"04101-La Serena"},"15080008","2023-10-17T11:09:21",8,{"$nulls":7},1,null,6,null,1]
[7,"5",2023,"105402",{"$f":"IFERROR(VLOOKUP(Tabla_SERIED_11_6[[#This Row],[IdEstablecimiento]],'[2]Establecimiento 2023'!$A$1:$E$183,3,FALSE),0)","v":"105402-Posta de Salud Rural El Romero"},{"$f":"IFERROR(VLOOKUP(Tabla_SERIED_11_6[[#This Row],[IdEstablecimiento]],'[2]Establecimiento 2023'!$A$1:$E$183,5,FALSE),0)","v":"04101-La Serena"},"15080014","2023-10-17T11:09:21",30,{"$nulls":3},14,16]
[7,"5",2023,"105402",{"$f":"IFERROR(VLOOKUP(Tabla_SERIED_11_6[[#This Row],[IdEstablecimiento]],'[2]Establecimiento 2023'!$A$1:$E$183,3,FALSE),0)","v":"105402-Posta de Salud Rural El Romero"},{"$f":"IFERROR(VLOOKUP(Tabla_SERIED_11_6[[#This Row],[IdEstablecimiento]],'[2]Establecimiento 2023'!$A$1:$E$183,5,FALSE),0)","v":"04101-La Serena"},"16100300","2023-10-17T11:09:21",60,31,29]
[7,"5",2023,"105405",{"$f":"IFERROR(VLOOKUP(Tabla_SERIED_11_6[[#This Row],[IdEstablecimiento]],'[2]Establecimiento 2023'!$A$1:$E$183,3,FALSE),0)","v":"105405-Posta de Salud Rural Guanaqueros"},{"$f":"IFERROR(VLOOKUP(Tabla_SERIED_11_6[[#This Row],[IdEstablecimiento]],'[2]Establecimiento 2023'!$A$1:$E$183,5,FALSE),0)","v":"04102-Coquimbo"},"15900010","2023-08-18T08:15:44",25.6,0,7.2,18.4]
[7,"5",2023,"105405",{"$f":"IFERROR(VLOOKUP(Tabla_SERIED_11_6[[#This Row],[IdEstablecimiento]],'[2]Establecimiento 2023'!$A$1:$E$183,3,FALSE),0)","v":"105405-Posta de Salud Rural Guanaqueros"},{"$f":"IFERROR(VLOOKUP(Tabla_SERIED_11_6[[#This Row],[IdEstablecimiento]],'[2]Establecimiento 2023'!$A$1:$E$183,5,FALSE),0)","v":"04102-Coquimbo"},"16100300","2023-08-18T08:15:44",83,38,45]
[7,"5",2023,"105407",{"$f":"IFERROR(VLOOKUP(Tabla_SERIED_11_6[[#This Row],[IdEstablecimiento]],'[2]Establecimiento 2023'!$A$1:$E$183,3,FALSE),0)","v":"105407-Posta de Salud Rural Tambillo"},{"$f":"IFERROR(VLOOKUP(Tabla_SERIED_11_6[[#This Row],[IdEstablecimiento]],'[2]Establecimiento 2023'!$A$1:$E$183,5,FALSE),0)","v":"04102-Coquimbo"},"15080008","2023-08-18T08:16:11",2,{"$nulls":7},2,null,0,0]
[7,"5",2023,"105409",{"$f":"IFERROR(VLOOKUP(Tabla_SERIED_11_6[[#This Row],[IdEstablecimiento]],'[2]Establecimiento 2023'!$A$1:$E$183,3,FALSE),0)","v":"105409-Posta de Salud Rural El Chañar"},{"$f":"IFERROR(VLOOKUP(Tabla_SERIED_11_6[[#This Row],[IdEstablecimiento]],'[2]Establecimiento 2023'!$A$1:$E$183,5,FALSE),0)","v":"04305-Rio Hurtado"},"16090300","2023-08-18T08:16:42",24,24]
[7,"5",2023,"105413",{"$f":"IFERROR(VLOOKUP(Tabla_SERIED_11_6[[#This Row],[IdEstablecimiento]],'[2]Establecimiento 2023'!$A$1:$E$183,3,FALSE),0)","v":"105413-Posta de Salud Rural Samo Alto"},{"$f":"IFERROR(VLOOKUP(Tabla_SERIED_11_6[[#This Row],[IdEstablecimiento]],'[2]Establecimiento 2023'!$A$1:$E$183,5,FALSE),0)","v":"04305-Rio Hurtado"},"15010200","2023-08-18T08:18:10",10,{"$nulls":5},4,6]
[7,"5",2023,"105413",{"$f":"IFERROR(VLOOKUP(Tabla_SERIED_11_6[[#This Row],[IdEstablecimiento]],'[2]Establecimiento 2023'!$A$1:$E$183,3,FALSE),0)","v":"105413-Posta de Salud Rural Samo Alto"},{"$f":"IFERROR(VLOOKUP(Tabla_SERIED_11_6[[#This Row],[IdEstablecimiento]],'[2]Establecimiento 2023'!$A$1:$E$183,5,FALSE),0)","v":"04305-Rio Hurtado"},"16100300","2023-08-18T08:18:10",80,28,52]
[7,"5",2023,"105413",{"$f":"IFERROR(VLOOKUP(Tabla_SERIED_11_6[[#This Row],[IdEstablecimiento]],'[2]Establecimiento 2023'!$A$1:$E$183,3,FALSE),0)","v":"105413-Posta de Salud Rural Samo Alto"},{"$f":"IFERROR(VLOOKUP(Tabla_SERIED_11_6[[#This Row],[IdEstablecimiento]],'[2]Establecimiento 2023'!$A$1:$E$183,5,FALSE),0)","v":"04305-Rio Hurtado"},"16200210","2023-08-18T08:18:10",7,7]
[7,"5",2023,"105417",{"$f":"IFERROR(VLOOKUP(Tabla_SERIED_11_6[[#This Row],[IdEstablecimiento]],'[2]Establecimiento 2023'!$A$1:$E$183,3,FALSE),0)","v":"105417-Posta de Salud Rural Alcones Bajo"},{"$f":"IFERROR(VLOOKUP(Tabla_SERIED_11_6[[#This Row],[IdEstablecimiento]],'[2]Establecimiento 2023'!$A$1:$E$183,5,FALSE),0)","v":"04301-Ovalle"},"15080014","2023-08-18T08:20:42",14,{"$nulls":3},12,2]
[7,"5",2023,"105419",{"$f":"IFERROR(VLOOKUP(Tabla_SERIED_11_6[[#This Row],[IdEstablecimiento]],'[2]Establecimiento 2023'!$A$1:$E$183,3,FALSE),0)","v":"105419-Posta de Salud Rural Las Sossas"},{"$f":"IFERROR(VLOOKUP(Tabla_SERIED_11_6[[#This Row],[IdEstablecimiento]],'[2]Establecimiento 2023'!$A$1:$E$183,5,FALSE),0)","v":"04301-Ovalle"},"15080008","2023-08-18T08:21:07",2,{"$nulls":9},2]
[7,"5",2023,"105422",{"$f":"IFERROR(VLOOKUP(Tabla_SERIED_11_6[[#This Row],[IdEstablecimiento]],'[2]Establecimiento 2023'!$A$1:$E$183,3,FALSE),0)","v":"105422-Posta de Salud Rural Hornillos"},{"$f":"IFERROR(VLOOKUP(Tabla_SERIED_11_6[[#This Row],[IdEstablecimiento]],'[2]Establecimiento 2023'!$A$1:$E$183,5,FALSE),0)","v":"04301-Ovalle"},"16200100","2023-08-18T08:21:41",1,null,1]
[7,"5",2023,"105425",{"$f":"IFERROR(VLOOKUP(Tabla_SERIED_11_6[[#This Row],[IdEstablecimiento]],'[2]Establecimiento 2023'!$A$1:$E$183,3,FALSE),0)","v":"105425-Posta de Salud Rural Chilecito"},{"$f":"IFERROR(VLOOKUP(Tabla_SERIED_11_6[[#This Row],[IdEstablecimiento]],'[2]Establecimiento 2023'!$A$1:$E$183,5,FALSE),0)","v":"04303-Monte Patria"},"15050100","2023-10-17T11:25:50",13,5,8,null,null,1,1,null,3,4,2,null,1,null,1]
[7,"5",2023,"105434",{"$f":"IFERROR(VLOOKUP(Tabla_SERIED_11_6[[#This Row],[IdEstablecimiento]],'[2]Establecimiento 2023'!$A$1:$E$183,3,FALSE),0)","v":"105434-Posta de Salud Rural San Marcos (Combarbalá)"},{"$f":"IFERROR(VLOOKUP(Tabla_SERIED_11_6[[#This Row],[IdEstablecimiento]],'[2]Establecimiento 2023'!$A$1:$E$183,5,FALSE),0)","v":"04302-Combarbalá"},"16200220","2023-08-18T08:28:04",5,null,5]
[7,"5",2023,"105435",{"$f":"IFERROR(VLOOKUP(Tabla_SERIED_11_6[[#This Row],[IdEstablecimiento]],'[2]Establecimiento 2023'!$A$1:$E$183,3,FALSE),0)","v":"105435-Posta de Salud Rural Tulahuén"},{"$f":"IFERROR(VLOOKUP(Tabla_SERIED_11_6[[#This Row],[IdEstablecimiento]],'[2]Establecimiento 2023'!$A$1:$E$183,5,FALSE),0)","v":"04303-Monte Patria"},"15080015","2023-08-18T08:28:33",18,{"$nulls":5},2,16]
[7,"5",2023,"105436",{"$f":"IFERROR(VLOOKUP(Tabla_SERIED_11_6[[#This Row],[IdEstablecimiento]],'[2]Establecimiento 2023'!$A$1:$E$183,3,FALSE),0)","v":"105436-Posta de Salud Rural El Maitén"},{"$f":"IFERROR(VLOOKUP(Tabla_SERIED_11_6[[#This Row],[IdEstablecimiento]],'[2]Establecimiento 2023'!$A$1:$E$183,5,FALSE),0)","v":"04303-Monte Patria"},"16090300","2023-08-18T08:42:15",56,56]
[7,"5",2023,"105437",{"$f":"IFERROR(VLOOKUP(Tabla_SERIED_11_6[[#This Row],[IdEstablecimiento]],'[2]Establecimiento 2023'!$A$1:$E$183,3,FALSE),0)","v":"105437-Posta de Salud Rural Chalinga"},{"$f":"IFERROR(VLOOKUP(Tabla_SERIED_11_6[[#This Row],[IdEstablecimiento]],'[2]Establecimiento 2023'!$A$1:$E$183,5,FALSE),0)","v":"04301-Ovalle"},"15010500","2023-08-18T08:38:29",2,{"$nulls":6},2]
[7,"5",2023,"105439",{"$f":"IFERROR(VLOOKUP(Tabla_SERIED_11_6[[#This Row],[IdEstablecimiento]],'[2]Establecimiento 2023'!$A$1:$E$183,3,FALSE),0)","v":"105439-Posta de Salud Rural Cerro Blanco"},{"$f":"IFERROR(VLOOKUP(Tabla_SERIED_11_6[[#This Row],[IdEstablecimiento]],'[2]Establecimiento 2023'!$A$1:$E$183,5,FALSE),0)","v":"04301-Ovalle"},"16200210","2023-08-18T08:39:33",3,3]
[7,"5",2023,"105441",{"$f":"IFERROR(VLOOKUP(Tabla_SERIED_11_6[[#This Row],[IdEstablecimiento]],'[2]Establecimiento 2023'!$A$1:$E$183,3,FALSE),0)","v":"105441-Posta de Salud Rural Manquehua"},{"$f":"IFERROR(VLOOKUP(Tabla_SERIED_11_6[[#This Row],[IdEstablecimiento]],'[2]Establecimiento 2023'!$A$1:$E$183,5,FALSE),0)","v":"04302-Combarbalá"},"16100300","2023-08-18T08:43:36",103,46,57]
[7,"5",2023,"105442",{"$f":"IFERROR(VLOOKUP(Tabla_SERIED_11_6[[#This Row],[IdEstablecimiento]],'[2]Establecimiento 2023'!$A$1:$E$183,3,FALSE),0)","v":"105442-Posta de Salud Rural San Pedro de Quiles"},{"$f":"IFERROR(VLOOKUP(Tabla_SERIED_11_6[[#This Row],[IdEstablecimiento]],'[2]Establecimiento 2023'!$A$1:$E$183,5,FALSE),0)","v":"04304-Punitaqui"},"15050100","2023-08-18T09:28:03",1,1,{"$nulls":7},1]
[7,"5",2023,"105443",{"$f":"IFERROR(VLOOKUP(Tabla_SERIED_11_6[[#This Row],[IdEstablecimiento]],'[2]Establecimiento 2023'!$A$1:$E$183,3,FALSE),0)","v":"105443-Posta de Salud Rural Cárcamo"},{"$f":"IFERROR(VLOOKUP(Tabla_SERIED_11_6[[#This Row],[IdEstablecimiento]],'[2]Establecimiento 2023'!$A$1:$E$183,5,FALSE),0)","v":"04201-Illapel"},"15050100","2023-08-18T09:28:46",14,8,6,null,1,1,2,null,5,4,null,null,1]
[7,"5",2023,"105443",{"$f":"IFERROR(VLOOKUP(Tabla_SERIED_11_6[[#This Row],[IdEstablecimiento]],'[2]Establecimiento 2023'!$A$1:$E$183,3,FALSE),0)","v":"105443-Posta de Salud Rural Cárcamo"},{"$f":"IFERROR(VLOOKUP(Tabla_SERIED_11_6[[#This Row],[IdEstablecimiento]],'[2]Establecimiento 2023'!$A$1:$E$183,5,FALSE),0)","v":"04201-Illapel"},"16200220","2023-08-18T09:28:46",6,2,4]
[7,"5",2023,"105444",{"$f":"IFERROR(VLOOKUP(Tabla_SERIED_11_6[[#This Row],[IdEstablecimiento]],'[2]Establecimiento 2023'!$A$1:$E$183,3,FALSE),0)","v":"105444-Posta de Salud Rural Huintil"},{"$f":"IFERROR(VLOOKUP(Tabla_SERIED_11_6[[#This Row],[IdEstablecimiento]],'[2]Establecimiento 2023'!$A$1:$E$183,5,FALSE),0)","v":"04201-Illapel"},"15010100","2023-08-18T09:29:59",2,{"$nulls":4},2]
[7,"5",2023,"105444",{"$f":"IFERROR(VLOOKUP(Tabla_SERIED_11_6[[#This Row],[IdEstablecimiento]],'[2]Establecimiento 2023'!$A$1:$E$183,3,FALSE),0)","v":"105444-Posta de Salud Rural Huintil"},{"$f":"IFERROR(VLOOKUP(Tabla_SERIED_11_6[[#This Row],[IdEstablecimiento]],'[2]Establecimiento 2023'!$A$1:$E$183,5,FALSE),0)","v":"04201-Illapel"},"15080008","2023-08-18T09:29:59",4,{"$nulls":9},4]
[7,"5",2023,"105445",{"$f":"IFERROR(VLOOKUP(Tabla_SERIED_11_6[[#This Row],[IdEstablecimiento]],'[2]Establecimiento 2023'!$A$1:$E$183,3,FALSE),0)","v":"105445-Posta de Salud Rural Limáhuida"},{"$f":"IFERROR(VLOOKUP(Tabla_SERIED_11_6[[#This Row],[IdEstablecimiento]],'[2]Establecimiento 2023'!$A$1:$E$183,5,FALSE),0)","v":"04201-Illapel"},"15080008","2023-08-18T09:29:05",4,{"$nulls":7},2,null,2,0,0]
[7,"5",2023,"105445",{"$f":"IFERROR(VLOOKUP(Tabla_SERIED_11_6[[#This Row],[IdEstablecimiento]],'[2]Establecimiento 2023'!$A$1:$E$183,3,FALSE),0)","v":"105445-Posta de Salud Rural Limáhuida"},{"$f":"IFERROR(VLOOKUP(Tabla_SERIED_11_6[[#This Row],[IdEstablecimiento]],'[2]Establecimiento 2023'!$A$1:$E$183,5,FALSE),0)","v":"04201-Illapel"},"16200100","2023-08-18T09:29:05",2,0,2]
[7,"5",2023,"105447",{"$f":"IFERROR(VLOOKUP(Tabla_SERIED_11_6[[#This Row],[IdEstablecimiento]],'[2]Establecimiento 2023'!$A$1:$E$183,3,FALSE),0)","v":"105447-Posta de Salud Rural Peralillo Illapel"},{"$f":"IFERROR(VLOOKUP(Tabla_SERIED_11_6[[#This Row],[IdEstablecimiento]],'[2]Establecimiento 2023'!$A$1:$E$183,5,FALSE),0)","v":"04201-Illapel"},"15080014","2023-08-18T09:30:51",10,{"$nulls":3},6,4]
[7,"5",2023,"105447",{"$f":"IFERROR(VLOOKUP(Tabla_SERIED_11_6[[#This Row],[IdEstablecimiento]],'[2]Establecimiento 2023'!$A$1:$E$183,3,FALSE),0)","v":"105447-Posta de Salud Rural Peralillo Illapel"},{"$f":"IFERROR(VLOOKUP(Tabla_SERIED_11_6[[#This Row],[IdEstablecimiento]],'[2]Establecimiento 2023'!$A$1:$E$183,5,FALSE),0)","v":"04201-Illapel"},"15900010","2023-08-18T09:30:51",3.2,null,0,3.2]
[7,"5",2023,"105449",{"$f":"IFERROR(VLOOKUP(Tabla_SERIED_11_6[[#This Row],[IdEstablecimiento]],'[2]Establecimiento 2023'!$A$1:$E$183,3,FALSE),0)","v":"105449-Posta de Salud Rural Tunga Norte"},{"$f":"IFERROR(VLOOKUP(Tabla_SERIED_11_6[[#This Row],[IdEstablecimiento]],'[2]Establecimiento 2023'!$A$1:$E$183,5,FALSE),0)","v":"04201-Illapel"},"16090300","2023-08-18T09:31:48",27,27]
[7,"5",2023,"105449",{"$f":"IFERROR(VLOOKUP(Tabla_SERIED_11_6[[#This Row],[IdEstablecimiento]],'[2]Establecimiento 2023'!$A$1:$E$183,3,FALSE),0)","v":"105449-Posta de Salud Rural Tunga Norte"},{"$f":"IFERROR(VLOOKUP(Tabla_SERIED_11_6[[#This Row],[IdEstablecimiento]],'[2]Establecimiento 2023'!$A$1:$E$183,5,FALSE),0)","v":"04201-Illapel"},"16200210","2023-08-18T09:31:48",3,3]
[7,"5",2023,"105450",{"$f":"IFERROR(VLOOKUP(Tabla_SERIED_11_6[[#This Row],[IdEstablecimiento]],'[2]Establecimiento 2023'!$A$1:$E$183,3,FALSE),0)","v":"105450-Posta de Salud Rural Mincha Norte"},{"$f":"IFERROR(VLOOKUP(Tabla_SERIED_11_6[[#This Row],[IdEstablecimiento]],'[2]Establecimiento 2023'!$A$1:$E$183,5,FALSE),0)","v":"04202-Canela"},"16200220","2023-08-18T09:32:13",13,6,7]
[7,"5",2023,"105451",{"$f":"IFERROR(VLOOKUP(Tabla_SERIED_11_6[[#This Row],[IdEstablecimiento]],'[2]Establecimiento 2023'!$A$1:$E$183,3,FALSE),0)","v":"105451-Posta de Salud Rural Agua Fría"},{"$f":"IFERROR(VLOOKUP(Tabla_SERIED_11_6[[#This Row],[IdEstablecimiento]],'[2]Establecimiento 2023'!$A$1:$E$183,5,FALSE),0)","v":"04202-Canela"},"15050100","2023-08-18T09:32:41",2,1,1,{"$nulls":4},1,1]
[7,"5",2023,"105453",{"$f":"IFERROR(VLOOKUP(Tabla_SERIED_11_6[[#This Row],[IdEstablecimiento]],'[2]Establecimiento 2023'!$A$1:$E$183,3,FALSE),0)","v":"105453-Posta de Salud Rural Tranquilla"},{"$f":"IFERROR(VLOOKUP(Tabla_SERIED_11_6[[#This Row],[IdEstablecimiento]],'[2]Establecimiento 2023'!$A$1:$E$183,5,FALSE),0)","v":"04204-Salamanca"},"15080008","2023-08-18T09:34:00",5,{"$nulls":9},4,null,1]
[7,"5",2023,"105455",{"$f":"IFERROR(VLOOKUP(Tabla_SERIED_11_6[[#This Row],[IdEstablecimiento]],'[2]Establecimiento 2023'!$A$1:$E$183,3,FALSE),0)","v":"105455-CESFAM Valle Alto"},{"$f":"IFERROR(VLOOKUP(Tabla_SERIED_11_6[[#This Row],[IdEstablecimiento]],'[2]Establecimiento 2023'!$A$1:$E$183,5,FALSE),0)","v":"04204-Salamanca"},"16090300","2023-08-18T09:35:15",62,62]
[7,"5",2023,"105456",{"$f":"IFERROR(VLOOKUP(Tabla_SERIED_11_6[[#This Row],[IdEstablecimiento]],'[2]Establecimiento 2023'!$A$1:$E$183,3,FALSE),0)","v":"105456-Posta de Salud Rural Llimpo"},{"$f":"IFERROR(VLOOKUP(Tabla_SERIED_11_6[[#This Row],[IdEstablecimiento]],'[2]Establecimiento 2023'!$A$1:$E$183,5,FALSE),0)","v":"04204-Salamanca"},"15900010","2023-08-18T09:42:10",10.4,null,7.2,3.2]
[7,"5",2023,"105457",{"$f":"IFERROR(VLOOKUP(Tabla_SERIED_11_6[[#This Row],[IdEstablecimiento]],'[2]Establecimiento 2023'!$A$1:$E$183,3,FALSE),0)","v":"105457-Posta de Salud Rural San Agustín (Salamanca)"},{"$f":"IFERROR(VLOOKUP(Tabla_SERIED_11_6[[#This Row],[IdEstablecimiento]],'[2]Establecimiento 2023'!$A$1:$E$183,5,FALSE),0)","v":"04204-Salamanca"},"16200220","2023-08-18T09:43:28",7,3,4]
[7,"5",2023,"105458",{"$f":"IFERROR(VLOOKUP(Tabla_SERIED_11_6[[#This Row],[IdEstablecimiento]],'[2]Establecimiento 2023'!$A$1:$E$183,3,FALSE),0)","v":"105458-Posta de Salud Rural Tahuinco"},{"$f":"IFERROR(VLOOKUP(Tabla_SERIED_11_6[[#This Row],[IdEstablecimiento]],'[2]Establecimiento 2023'!$A$1:$E$183,5,FALSE),0)","v":"04204-Salamanca"},"16200220","2023-08-18T09:44:06",10,3,7]
[7,"5",2023,"105460",{"$f":"IFERROR(VLOOKUP(Tabla_SERIED_11_6[[#This Row],[IdEstablecimiento]],'[2]Establecimiento 2023'!$A$1:$E$183,3,FALSE),0)","v":"105460-Centro Comunitario de Salud Familiar Cogotí 18"},{"$f":"IFERROR(VLOOKUP(Tabla_SERIED_11_6[[#This Row],[IdEstablecimiento]],'[2]Establecimiento 2023'!$A$1:$E$183,5,FALSE),0)","v":"04302-Combarbalá"},"16200210","2023-08-18T09:47:10",15,15]
[7,"5",2023,"105461",{"$f":"IFERROR(VLOOKUP(Tabla_SERIED_11_6[[#This Row],[IdEstablecimiento]],'[2]Establecimiento 2023'!$A$1:$E$183,3,FALSE),0)","v":"105461-Posta de Salud Rural El Huacho"},{"$f":"IFERROR(VLOOKUP(Tabla_SERIED_11_6[[#This Row],[IdEstablecimiento]],'[2]Establecimiento 2023'!$A$1:$E$183,5,FALSE),0)","v":"04302-Combarbalá"},"16200210","2023-08-18T09:47:41",1,1]
[7,"5",2023,"105462",{"$f":"IFERROR(VLOOKUP(Tabla_SERIED_11_6[[#This Row],[IdEstablecimiento]],'[2]Establecimiento 2023'!$A$1:$E$183,3,FALSE),0)","v":"105462-Posta de Salud Rural El Sauce (Combarbalá)"},{"$f":"IFERROR(VLOOKUP(Tabla_SERIED_11_6[[#This Row],[IdEstablecimiento]],'[2]Establecimiento 2023'!$A$1:$E$183,5,FALSE),0)","v":"04302-Combarbalá"},"16090300","2023-08-18T09:48:24",69,69]
[7,"5",2023,"105472",{"$f":"IFERROR(VLOOKUP(Tabla_SERIED_11_6[[#This Row],[IdEstablecimiento]],'[2]Establecimiento 2023'!$A$1:$E$183,3,FALSE),0)","v":"105472-Posta de Salud Rural Rivadavia"},{"$f":"IFERROR(VLOOKUP(Tabla_SERIED_11_6[[#This Row],[IdEstablecimiento]],'[2]Establecimiento 2023'!$A$1:$E$183,5,FALSE),0)","v":"04106-Vicuña"},"15010200","2023-08-18T10:05:34",10,{"$nulls":5},6,4]
[7,"5",2023,"105472",{"$f":"IFERROR(VLOOKUP(Tabla_SERIED_11_6[[#This Row],[IdEstablecimiento]],'[2]Establecimiento 2023'!$A$1:$E$183,3,FALSE),0)","v":"105472-Posta de Salud Rural Rivadavia"},{"$f":"IFERROR(VLOOKUP(Tabla_SERIED_11_6[[#This Row],[IdEstablecimiento]],'[2]Establecimiento 2023'!$A$1:$E$183,5,FALSE),0)","v":"04106-Vicuña"},"15080014","2023-08-18T10:05:34",12,{"$nulls":3},4,8]
[7,"5",2023,"105473",{"$f":"IFERROR(VLOOKUP(Tabla_SERIED_11_6[[#This Row],[IdEstablecimiento]],'[2]Establecimiento 2023'!$A$1:$E$183,3,FALSE),0)","v":"105473-Posta de Salud Rural Talcuna"},{"$f":"IFERROR(VLOOKUP(Tabla_SERIED_11_6[[#This Row],[IdEstablecimiento]],'[2]Establecimiento 2023'!$A$1:$E$183,5,FALSE),0)","v":"04106-Vicuña"},"15900010","2023-08-18T10:06:20",13.6,null,11.2,2.4]
[7,"5",2023,"105473",{"$f":"IFERROR(VLOOKUP(Tabla_SERIED_11_6[[#This Row],[IdEstablecimiento]],'[2]Establecimiento 2023'!$A$1:$E$183,3,FALSE),0)","v":"105473-Posta de Salud Rural Talcuna"},{"$f":"IFERROR(VLOOKUP(Tabla_SERIED_11_6[[#This Row],[IdEstablecimiento]],'[2]Establecimiento 2023'!$A$1:$E$183,5,FALSE),0)","v":"04106-Vicuña"},"16200210","2023-08-18T10:06:20",5,5]
[7,"5",2023,"105475",{"$f":"IFERROR(VLOOKUP(Tabla_SERIED_11_6[[#This Row],[IdEstablecimiento]],'[2]Establecimiento 2023'!$A$1:$E$183,3,FALSE),0)","v":"105475-Posta de Salud Rural Horcón (Paiguano)"},{"$f":"IFERROR(VLOOKUP(Tabla_SERIED_11_6[[#This Row],[IdEstablecimiento]],'[2]Establecimiento 2023'!$A$1:$E$183,5,FALSE),0)","v":"04105-Paihuano"},"15050200","2023-08-18T10:07:21",1,null,1,null,null,1]
[7,"5",2023,"105475",{"$f":"IFERROR(VLOOKUP(Tabla_SERIED_11_6[[#This Row],[IdEstablecimiento]],'[2]Establecimiento 2023'!$A$1:$E$183,3,FALSE),0)","v":"105475-Posta de Salud Rural Horcón (Paiguano)"},{"$f":"IFERROR(VLOOKUP(Tabla_SERIED_11_6[[#This Row],[IdEstablecimiento]],'[2]Establecimiento 2023'!$A$1:$E$183,5,FALSE),0)","v":"04105-Paihuano"},"16200220","2023-08-18T10:07:21",1,null,1]
[7,"5",2023,"105476",{"$f":"IFERROR(VLOOKUP(Tabla_SERIED_11_6[[#This Row],[IdEstablecimiento]],'[2]Establecimiento 2023'!$A$1:$E$183,3,FALSE),0)","v":"105476-Posta de Salud Rural Monte Grande"},{"$f":"IFERROR(VLOOKUP(Tabla_SERIED_11_6[[#This Row],[IdEstablecimiento]],'[2]Establecimiento 2023'!$A$1:$E$183,5,FALSE),0)","v":"04105-Paihuano"},"15010200","2023-08-18T10:07:51",6,{"$nulls":5},4,2]
[7,"5",2023,"105476",{"$f":"IFERROR(VLOOKUP(Tabla_SERIED_11_6[[#This Row],[IdEstablecimiento]],'[2]Establecimiento 2023'!$A$1:$E$183,3,FALSE),0)","v":"105476-Posta de Salud Rural Monte Grande"},{"$f":"IFERROR(VLOOKUP(Tabla_SERIED_11_6[[#This Row],[IdEstablecimiento]],'[2]Establecimiento 2023'!$A$1:$E$183,5,FALSE),0)","v":"04105-Paihuano"},"15050100","2023-08-18T10:07:51",5,2,3,{"$nulls":3},2,null,2,1]
[7,"5",2023,"105476",{"$f":"IFERROR(VLOOKUP(Tabla_SERIED_11_6[[#This Row],[IdEstablecimiento]],'[2]Establecimiento 2023'!$A$1:$E$183,3,FALSE),0)","v":"105476-Posta de Salud Rural Monte Grande"},{"$f":"IFERROR(VLOOKUP(Tabla_SERIED_11_6[[#This Row],[IdEstablecimiento]],'[2]Establecimiento 2023'!$A$1:$E$183,5,FALSE),0)","v":"04105-Paihuano"},"16100300","2023-08-18T10:07:51",15,7,8]
[7,"5",2023,"105477",{"$f":"IFERROR(VLOOKUP(Tabla_SERIED_11_6[[#This Row],[IdEstablecimiento]],'[2]Establecimiento 2023'!$A$1:$E$183,3,FALSE),0)","v":"105477-Posta de Salud Rural Pisco Elqui"},{"$f":"IFERROR(VLOOKUP(Tabla_SERIED_11_6[[#This Row],[IdEstablecimiento]],'[2]Establecimiento 2023'!$A$1:$E$183,5,FALSE),0)","v":"04105-Paihuano"},"15900010","2023-08-18T10:08:53",4,null,4]
[7,"5",2023,"105477",{"$f":"IFERROR(VLOOKUP(Tabla_SERIED_11_6[[#This Row],[IdEstablecimiento]],'[2]Establecimiento 2023'!$A$1:$E$183,3,FALSE),0)","v":"105477-Posta de Salud Rural Pisco Elqui"},{"$f":"IFERROR(VLOOKUP(Tabla_SERIED_11_6[[#This Row],[IdEstablecimiento]],'[2]Establecimiento 2023'!$A$1:$E$183,5,FALSE),0)","v":"04105-Paihuano"},"16200210","2023-08-18T10:08:53",1,1]
[7,"5",2023,"105479",{"$f":"IFERROR(VLOOKUP(Tabla_SERIED_11_6[[#This Row],[IdEstablecimiento]],'[2]Establecimiento 2023'!$A$1:$E$183,3,FALSE),0)","v":"105479-Posta de Salud Rural Guangualí"},{"$f":"IFERROR(VLOOKUP(Tabla_SERIED_11_6[[#This Row],[IdEstablecimiento]],'[2]Establecimiento 2023'!$A$1:$E$183,5,FALSE),0)","v":"04203-Los Vilos"},"16090300","2023-08-18T10:09:54",76,76]
[7,"5",2023,"105480",{"$f":"IFERROR(VLOOKUP(Tabla_SERIED_11_6[[#This Row],[IdEstablecimiento]],'[2]Establecimiento 2023'!$A$1:$E$183,3,FALSE),0)","v":"105480-Posta de Salud Rural Quilimarí"},{"$f":"IFERROR(VLOOKUP(Tabla_SERIED_11_6[[#This Row],[IdEstablecimiento]],'[2]Establecimiento 2023'!$A$1:$E$183,5,FALSE),0)","v":"04203-Los Vilos"},"15030100","2023-08-18T10:10:30",4.8,null,null,4.8]
[7,"5",2023,"105480",{"$f":"IFERROR(VLOOKUP(Tabla_SERIED_11_6[[#This Row],[IdEstablecimiento]],'[2]Establecimiento 2023'!$A$1:$E$183,3,FALSE),0)","v":"105480-Posta de Salud Rural Quilimarí"},{"$f":"IFERROR(VLOOKUP(Tabla_SERIED_11_6[[#This Row],[IdEstablecimiento]],'[2]Establecimiento 2023'!$A$1:$E$183,5,FALSE),0)","v":"04203-Los Vilos"},"15080014","2023-08-18T10:10:30",36,{"$nulls":3},22,14]
[7,"5",2023,"105481",{"$f":"IFERROR(VLOOKUP(Tabla_SERIED_11_6[[#This Row],[IdEstablecimiento]],'[2]Establecimiento 2023'!$A$1:$E$183,3,FALSE),0)","v":"105481-Posta de Salud Rural Tilama"},{"$f":"IFERROR(VLOOKUP(Tabla_SERIED_11_6[[#This Row],[IdEstablecimiento]],'[2]Establecimiento 2023'!$A$1:$E$183,5,FALSE),0)","v":"04203-Los Vilos"},"15900040","2023-08-18T10:11:01",2.8,{"$nulls":4},2.8]
[7,"5",2023,"105481",{"$f":"IFERROR(VLOOKUP(Tabla_SERIED_11_6[[#This Row],[IdEstablecimiento]],'[2]Establecimiento 2023'!$A$1:$E$183,3,FALSE),0)","v":"105481-Posta de Salud Rural Tilama"},{"$f":"IFERROR(VLOOKUP(Tabla_SERIED_11_6[[#This Row],[IdEstablecimiento]],'[2]Establecimiento 2023'!$A$1:$E$183,5,FALSE),0)","v":"04203-Los Vilos"},"16090500","2023-08-18T10:11:01",3,3]
[7,"5",2023,"105483",{"$f":"IFERROR(VLOOKUP(Tabla_SERIED_11_6[[#This Row],[IdEstablecimiento]],'[2]Establecimiento 2023'!$A$1:$E$183,3,FALSE),0)","v":"105483-Posta de Salud Rural Los Rulos"},{"$f":"IFERROR(VLOOKUP(Tabla_SERIED_11_6[[#This Row],[IdEstablecimiento]],'[2]Establecimiento 2023'!$A$1:$E$183,5,FALSE),0)","v":"04202-Canela"},"15050100","2023-08-18T10:16:23",2,1,1,{"$nulls":6},2]
[7,"5",2023,"105486",{"$f":"IFERROR(VLOOKUP(Tabla_SERIED_11_6[[#This Row],[IdEstablecimiento]],'[2]Establecimiento 2023'!$A$1:$E$183,3,FALSE),0)","v":"105486-Posta de Salud Rural Tunga Sur"},{"$f":"IFERROR(VLOOKUP(Tabla_SERIED_11_6[[#This Row],[IdEstablecimiento]],'[2]Establecimiento 2023'!$A$1:$E$183,5,FALSE),0)","v":"04201-Illapel"},"16090300","2023-08-18T10:25:44",56,56]
[7,"5",2023,"105491",{"$f":"IFERROR(VLOOKUP(Tabla_SERIED_11_6[[#This Row],[IdEstablecimiento]],'[2]Establecimiento 2023'!$A$1:$E$183,3,FALSE),0)","v":"105491-Posta de Salud Rural Quelén Bajo"},{"$f":"IFERROR(VLOOKUP(Tabla_SERIED_11_6[[#This Row],[IdEstablecimiento]],'[2]Establecimiento 2023'!$A$1:$E$183,5,FALSE),0)","v":"04204-Salamanca"},"15900070","2023-08-18T10:28:37",3.2,null,null,3.2]
[7,"5",2023,"105497",{"$f":"IFERROR(VLOOKUP(Tabla_SERIED_11_6[[#This Row],[IdEstablecimiento]],'[2]Establecimiento 2023'!$A$1:$E$183,3,FALSE),0)","v":"105497-Posta de Salud Rural Jabonería"},{"$f":"IFERROR(VLOOKUP(Tabla_SERIED_11_6[[#This Row],[IdEstablecimiento]],'[2]Establecimiento 2023'!$A$1:$E$183,5,FALSE),0)","v":"04202-Canela"},"15050100","2023-08-18T10:39:56",1,1,{"$nulls":6},1]
[7,"5",2023,"105499",{"$f":"IFERROR(VLOOKUP(Tabla_SERIED_11_6[[#This Row],[IdEstablecimiento]],'[2]Establecimiento 2023'!$A$1:$E$183,3,FALSE),0)","v":"105499-Posta de Salud Rural Lambert"},{"$f":"IFERROR(VLOOKUP(Tabla_SERIED_11_6[[#This Row],[IdEstablecimiento]],'[2]Establecimiento 2023'!$A$1:$E$183,5,FALSE),0)","v":"04101-La Serena"},"15080008","2023-08-18T10:40:48",5,{"$nulls":7},2,{"$nulls":3},3]
[7,"5",2023,"105500",{"$f":"IFERROR(VLOOKUP(Tabla_SERIED_11_6[[#This Row],[IdEstablecimiento]],'[2]Establecimiento 2023'!$A$1:$E$183,3,FALSE),0)","v":"105500-Posta de Salud Rural Caleta Hornos"},{"$f":"IFERROR(VLOOKUP(Tabla_SERIED_11_6[[#This Row],[IdEstablecimiento]],'[2]Establecimiento 2023'!$A$1:$E$183,5,FALSE),0)","v":"04104-La Higuera"},"15080014","2023-08-18T10:44:12",30,{"$nulls":3},18,12]
[7,"5",2023,"105500",{"$f":"IFERROR(VLOOKUP(Tabla_SERIED_11_6[[#This Row],[IdEstablecimiento]],'[2]Establecimiento 2023'!$A$1:$E$183,3,FALSE),0)","v":"105500-Posta de Salud Rural Caleta Hornos"},{"$f":"IFERROR(VLOOKUP(Tabla_SERIED_11_6[[#This Row],[IdEstablecimiento]],'[2]Establecimiento 2023'!$A$1:$E$183,5,FALSE),0)","v":"04104-La Higuera"},"15900050","2023-08-18T10:44:12",1,1,{"$nulls":4},1]
[7,"5",2023,"105503",{"$f":"IFERROR(VLOOKUP(Tabla_SERIED_11_6[[#This Row],[IdEstablecimiento]],'[2]Establecimiento 2023'!$A$1:$E$183,3,FALSE),0)","v":"105503-Posta de Salud Rural Tabaqueros"},{"$f":"IFERROR(VLOOKUP(Tabla_SERIED_11_6[[#This Row],[IdEstablecimiento]],'[2]Establecimiento 2023'!$A$1:$E$183,5,FALSE),0)","v":"04305-Rio Hurtado"},"15010200","2023-08-18T10:45:07",6,{"$nulls":5},2,4]
[7,"5",2023,"105504",{"$f":"IFERROR(VLOOKUP(Tabla_SERIED_11_6[[#This Row],[IdEstablecimiento]],'[2]Establecimiento 2023'!$A$1:$E$183,3,FALSE),0)","v":"105504-Posta de Salud Rural Socavón"},{"$f":"IFERROR(VLOOKUP(Tabla_SERIED_11_6[[#This Row],[IdEstablecimiento]],'[2]Establecimiento 2023'!$A$1:$E$183,5,FALSE),0)","v":"04201-Illapel"},"15010200","2023-08-18T10:45:32",12,{"$nulls":5},6,6]
[7,"5",2023,"105506",{"$f":"IFERROR(VLOOKUP(Tabla_SERIED_11_6[[#This Row],[IdEstablecimiento]],'[2]Establecimiento 2023'!$A$1:$E$183,3,FALSE),0)","v":"105506-Posta de Salud Rural El Trapiche"},{"$f":"IFERROR(VLOOKUP(Tabla_SERIED_11_6[[#This Row],[IdEstablecimiento]],'[2]Establecimiento 2023'!$A$1:$E$183,5,FALSE),0)","v":"04104-La Higuera"},"15010200","2023-08-18T10:46:29",12,{"$nulls":5},4,8]
[7,"5",2023,"105506",{"$f":"IFERROR(VLOOKUP(Tabla_SERIED_11_6[[#This Row],[IdEstablecimiento]],'[2]Establecimiento 2023'!$A$1:$E$183,3,FALSE),0)","v":"105506-Posta de Salud Rural El Trapiche"},{"$f":"IFERROR(VLOOKUP(Tabla_SERIED_11_6[[#This Row],[IdEstablecimiento]],'[2]Establecimiento 2023'!$A$1:$E$183,5,FALSE),0)","v":"04104-La Higuera"},"15050200","2023-08-18T10:46:29",1,1,{"$nulls":5},1]
[7,"5",2023,"105507",{"$f":"IFERROR(VLOOKUP(Tabla_SERIED_11_6[[#This Row],[IdEstablecimiento]],'[2]Establecimiento 2023'!$A$1:$E$183,3,FALSE),0)","v":"105507-Posta de Salud Rural Huamalata"},{"$f":"IFERROR(VLOOKUP(Tabla_SERIED_11_6[[#This Row],[IdEstablecimiento]],'[2]Establecimiento 2023'!$A$1:$E$183,5,FALSE),0)","v":"04301-Ovalle"},"15080014","2023-08-18T10:47:03",16,{"$nulls":3},8,8]
[7,"5",2023,"105507",{"$f":"IFERROR(VLOOKUP(Tabla_SERIED_11_6[[#This Row],[IdEstablecimiento]],'[2]Establecimiento 2023'!$A$1:$E$183,3,FALSE),0)","v":"105507-Posta de Salud Rural Huamalata"},{"$f":"IFERROR(VLOOKUP(Tabla_SERIED_11_6[[#This Row],[IdEstablecimiento]],'[2]Establecimiento 2023'!$A$1:$E$183,5,FALSE),0)","v":"04301-Ovalle"},"16200210","2023-08-18T10:47:03",16,16]
[7,"5",2023,"105507",{"$f":"IFERROR(VLOOKUP(Tabla_SERIED_11_6[[#This Row],[IdEstablecimiento]],'[2]Establecimiento 2023'!$A$1:$E$183,3,FALSE),0)","v":"105507-Posta de Salud Rural Huamalata"},{"$f":"IFERROR(VLOOKUP(Tabla_SERIED_11_6[[#This Row],[IdEstablecimiento]],'[2]Establecimiento 2023'!$A$1:$E$183,5,FALSE),0)","v":"04301-Ovalle"},"16200220","2023-08-18T10:47:03",16,4,12]
[7,"5",2023,"105508",{"$f":"IFERROR(VLOOKUP(Tabla_SERIED_11_6[[#This Row],[IdEstablecimiento]],'[2]Establecimiento 2023'!$A$1:$E$183,3,FALSE),0)","v":"105508-Posta de Salud Rural El Parral de Quiles"},{"$f":"IFERROR(VLOOKUP(Tabla_SERIED_11_6[[#This Row],[IdEstablecimiento]],'[2]Establecimiento 2023'!$A$1:$E$183,5,FALSE),0)","v":"04304-Punitaqui"},"15050100","2023-08-18T10:47:30",2,1,1,{"$nulls":5},2]
[7,"5",2023,"105510",{"$f":"IFERROR(VLOOKUP(Tabla_SERIED_11_6[[#This Row],[IdEstablecimiento]],'[2]Establecimiento 2023'!$A$1:$E$183,3,FALSE),0)","v":"105510-Posta de Salud Rural Recoleta"},{"$f":"IFERROR(VLOOKUP(Tabla_SERIED_11_6[[#This Row],[IdEstablecimiento]],'[2]Establecimiento 2023'!$A$1:$E$183,5,FALSE),0)","v":"04301-Ovalle"},"15080008","2023-08-18T10:48:23",12,{"$nulls":7},8,null,null,3,1]
[7,"5",2023,"105511",{"$f":"IFERROR(VLOOKUP(Tabla_SERIED_11_6[[#This Row],[IdEstablecimiento]],'[2]Establecimiento 2023'!$A$1:$E$183,3,FALSE),0)","v":"105511-Posta de Salud Rural Los Cóndores"},{"$f":"IFERROR(VLOOKUP(Tabla_SERIED_11_6[[#This Row],[IdEstablecimiento]],'[2]Establecimiento 2023'!$A$1:$E$183,5,FALSE),0)","v":"04203-Los Vilos"},"16090300","2023-08-18T10:48:54",50,50]
[7,"5",2023,"105701",{"$f":"IFERROR(VLOOKUP(Tabla_SERIED_11_6[[#This Row],[IdEstablecimiento]],'[2]Establecimiento 2023'!$A$1:$E$183,3,FALSE),0)","v":"105701-Centro Comunitario de Salud Familiar Villa Alemania"},{"$f":"IFERROR(VLOOKUP(Tabla_SERIED_11_6[[#This Row],[IdEstablecimiento]],'[2]Establecimiento 2023'!$A$1:$E$183,5,FALSE),0)","v":"04101-La Serena"},"15900010","2023-08-18T10:49:54",3.6,null,2.7,0.9]
[7,"5",2023,"105701",{"$f":"IFERROR(VLOOKUP(Tabla_SERIED_11_6[[#This Row],[IdEstablecimiento]],'[2]Establecimiento 2023'!$A$1:$E$183,3,FALSE),0)","v":"105701-Centro Comunitario de Salud Familiar Villa Alemania"},{"$f":"IFERROR(VLOOKUP(Tabla_SERIED_11_6[[#This Row],[IdEstablecimiento]],'[2]Establecimiento 2023'!$A$1:$E$183,5,FALSE),0)","v":"04101-La Serena"},"16200210","2023-08-18T10:49:54",16,16]
[7,"5",2023,"105701",{"$f":"IFERROR(VLOOKUP(Tabla_SERIED_11_6[[#This Row],[IdEstablecimiento]],'[2]Establecimiento 2023'!$A$1:$E$183,3,FALSE),0)","v":"105701-Centro Comunitario de Salud Familiar Villa Alemania"},{"$f":"IFERROR(VLOOKUP(Tabla_SERIED_11_6[[#This Row],[IdEstablecimiento]],'[2]Establecimiento 2023'!$A$1:$E$183,5,FALSE),0)","v":"04101-La Serena"},"16200220","2023-08-18T10:49:54",16,5,11]
[7,"5",2023,"105722",{"$f":"IFERROR(VLOOKUP(Tabla_SERIED_11_6[[#This Row],[IdEstablecimiento]],'[2]Establecimiento 2023'!$A$1:$E$183,3,FALSE),0)","v":"105722-Centro Comunitario de Salud Familiar San José de la Dehesa"},{"$f":"IFERROR(VLOOKUP(Tabla_SERIED_11_6[[#This Row],[IdEstablecimiento]],'[2]Establecimiento 2023'!$A$1:$E$183,5,FALSE),0)","v":"04301-Ovalle"},"15900020","2023-08-18T10:51:15",3.2,1.6,null,1.6]
[7,"5",2023,"200258",{"$f":"IFERROR(VLOOKUP(Tabla_SERIED_11_6[[#This Row],[IdEstablecimiento]],'[2]Establecimiento 2023'!$A$1:$E$183,3,FALSE),0)","v":"200258-Centro Comunitario de Salud Familiar Los Copihues"},{"$f":"IFERROR(VLOOKUP(Tabla_SERIED_11_6[[#This Row],[IdEstablecimiento]],'[2]Establecimiento 2023'!$A$1:$E$183,5,FALSE),0)","v":"04301-Ovalle"},"15080014","2023-08-18T11:08:51",58,{"$nulls":3},28,30]
[7,"5",2023,"200258",{"$f":"IFERROR(VLOOKUP(Tabla_SERIED_11_6[[#This Row],[IdEstablecimiento]],'[2]Establecimiento 2023'!$A$1:$E$183,3,FALSE),0)","v":"200258-Centro Comunitario de Salud Familiar Los Copihues"},{"$f":"IFERROR(VLOOKUP(Tabla_SERIED_11_6[[#This Row],[IdEstablecimiento]],'[2]Establecimiento 2023'!$A$1:$E$183,5,FALSE),0)","v":"04301-Ovalle"},"15900010","2023-08-18T11:08:51",16.8,0,1.6,15.2]
[7,"5",2023,"200258",{"$f":"IFERROR(VLOOKUP(Tabla_SERIED_11_6[[#This Row],[IdEstablecimiento]],'[2]Establecimiento 2023'!$A$1:$E$183,3,FALSE),0)","v":"200258-Centro Comunitario de Salud Familiar Los Copihues"},{"$f":"IFERROR(VLOOKUP(Tabla_SERIED_11_6[[#This Row],[IdEstablecimiento]],'[2]Establecimiento 2023'!$A$1:$E$183,5,FALSE),0)","v":"04301-Ovalle"},"15901200","2023-08-18T11:08:51",3.6,0,0,0,3.6,0]
[7,"5",2023,"200273",{"$f":"IFERROR(VLOOKUP(Tabla_SERIED_11_6[[#This Row],[IdEstablecimiento]],'[2]Establecimiento 2023'!$A$1:$E$183,3,FALSE),0)","v":"200273-Centro Comunitario de Salud Familiar Punta Mira"},{"$f":"IFERROR(VLOOKUP(Tabla_SERIED_11_6[[#This Row],[IdEstablecimiento]],'[2]Establecimiento 2023'!$A$1:$E$183,5,FALSE),0)","v":"04102-Coquimbo"},"15080008","2023-08-18T11:09:21",27,{"$nulls":7},8,null,12,0,7]
[7,"5",2023,"200273",{"$f":"IFERROR(VLOOKUP(Tabla_SERIED_11_6[[#This Row],[IdEstablecimiento]],'[2]Establecimiento 2023'!$A$1:$E$183,3,FALSE),0)","v":"200273-Centro Comunitario de Salud Familiar Punta Mira"},{"$f":"IFERROR(VLOOKUP(Tabla_SERIED_11_6[[#This Row],[IdEstablecimiento]],'[2]Establecimiento 2023'!$A$1:$E$183,5,FALSE),0)","v":"04102-Coquimbo"},"15080014","2023-08-18T11:09:21",20,{"$nulls":3},4,16,0,0,0,0,0,0,0]
[7,"5",2023,"200366",{"$f":"IFERROR(VLOOKUP(Tabla_SERIED_11_6[[#This Row],[IdEstablecimiento]],'[2]Establecimiento 2023'!$A$1:$E$183,3,FALSE),0)","v":"200366-Centro de Salud Familiar Urbano de Illapel"},{"$f":"IFERROR(VLOOKUP(Tabla_SERIED_11_6[[#This Row],[IdEstablecimiento]],'[2]Establecimiento 2023'!$A$1:$E$183,5,FALSE),0)","v":"04201-Illapel"},"15900030","2023-08-18T11:09:47",2,null,null,2]
[7,"5",2023,"200402",{"$f":"IFERROR(VLOOKUP(Tabla_SERIED_11_6[[#This Row],[IdEstablecimiento]],'[2]Establecimiento 2023'!$A$1:$E$183,3,FALSE),0)","v":"200402-Centro Comunitario de Salud Familiar Arcos de Pinamar"},{"$f":"IFERROR(VLOOKUP(Tabla_SERIED_11_6[[#This Row],[IdEstablecimiento]],'[2]Establecimiento 2023'!$A$1:$E$183,5,FALSE),0)","v":"04101-La Serena"},"16100300","2023-08-18T11:11:34",64,31,33]
[7,"5",2023,"200494",{"$f":"IFERROR(VLOOKUP(Tabla_SERIED_11_6[[#This Row],[IdEstablecimiento]],'[2]Establecimiento 2023'!$A$1:$E$183,3,FALSE),0)","v":"200494-Centro de Salud Familiar El Sauce"},{"$f":"IFERROR(VLOOKUP(Tabla_SERIED_11_6[[#This Row],[IdEstablecimiento]],'[2]Establecimiento 2023'!$A$1:$E$183,5,FALSE),0)","v":"04102-Coquimbo"},"15010500","2023-08-18T11:11:57",24,null,null,2,8,2,8,4]
[7,"5",2023,"200494",{"$f":"IFERROR(VLOOKUP(Tabla_SERIED_11_6[[#This Row],[IdEstablecimiento]],'[2]Establecimiento 2023'!$A$1:$E$183,3,FALSE),0)","v":"200494-Centro de Salud Familiar El Sauce"},{"$f":"IFERROR(VLOOKUP(Tabla_SERIED_11_6[[#This Row],[IdEstablecimiento]],'[2]Establecimiento 2023'!$A$1:$E$183,5,FALSE),0)","v":"04102-Coquimbo"},"16090300","2023-08-18T11:11:57",336,336]
[7,"5",2023,"200494",{"$f":"IFERROR(VLOOKUP(Tabla_SERIED_11_6[[#This Row],[IdEstablecimiento]],'[2]Establecimiento 2023'!$A$1:$E$183,3,FALSE),0)","v":"200494-Centro de Salud Familiar El Sauce"},{"$f":"IFERROR(VLOOKUP(Tabla_SERIED_11_6[[#This Row],[IdEstablecimiento]],'[2]Establecimiento 2023'!$A$1:$E$183,5,FALSE),0)","v":"04102-Coquimbo"},"16200220","2023-08-18T11:11:57",44,16,28]
[7,"5",2023,"200538",{"$f":"IFERROR(VLOOKUP(Tabla_SERIED_11_6[[#This Row],[IdEstablecimiento]],'[2]Establecimiento 2023'!$A$1:$E$183,3,FALSE),0)","v":"200538-Centro de Salud Familiar San Isidro Calingasta"},{"$f":"IFERROR(VLOOKUP(Tabla_SERIED_11_6[[#This Row],[IdEstablecimiento]],'[2]Establecimiento 2023'!$A$1:$E$183,5,FALSE),0)","v":"04106-Vicuña"},"15010500","2023-08-18T11:12:48",10,{"$nulls":4},2,8]
[7,"5",2023,"200538",{"$f":"IFERROR(VLOOKUP(Tabla_SERIED_11_6[[#This Row],[IdEstablecimiento]],'[2]Establecimiento 2023'!$A$1:$E$183,3,FALSE),0)","v":"200538-Centro de Salud Familiar San Isidro Calingasta"},{"$f":"IFERROR(VLOOKUP(Tabla_SERIED_11_6[[#This Row],[IdEstablecimiento]],'[2]Establecimiento 2023'!$A$1:$E$183,5,FALSE),0)","v":"04106-Vicuña"},"15900010","2023-08-18T11:12:48",26.4,2.4,null,24]
[7,"5",2023,"200569",{"$f":"IFERROR(VLOOKUP(Tabla_SERIED_11_6[[#This Row],[IdEstablecimiento]],'[2]Establecimiento 2023'!$A$1:$E$183,3,FALSE),0)","v":"200569-Centro de Salud Familiar Fray Jorge"},{"$f":"IFERROR(VLOOKUP(Tabla_SERIED_11_6[[#This Row],[IdEstablecimiento]],'[2]Establecimiento 2023'!$A$1:$E$183,5,FALSE),0)","v":"04301-Ovalle"},"15010200","2023-08-18T11:13:13",464,{"$nulls":5},262,202]
[7,"5",2023,"200569",{"$f":"IFERROR(VLOOKUP(Tabla_SERIED_11_6[[#This Row],[IdEstablecimiento]],'[2]Establecimiento 2023'!$A$1:$E$183,3,FALSE),0)","v":"200569-Centro de Salud Familiar Fray Jorge"},{"$f":"IFERROR(VLOOKUP(Tabla_SERIED_11_6[[#This Row],[IdEstablecimiento]],'[2]Establecimiento 2023'!$A$1:$E$183,5,FALSE),0)","v":"04301-Ovalle"},"15010400","2023-08-18T11:13:13",2,{"$nulls":5},2,0]
[7,"5",2023,"105104",{"$f":"IFERROR(VLOOKUP(Tabla_SERIED_11_6[[#This Row],[IdEstablecimiento]],'[2]Establecimiento 2023'!$A$1:$E$183,3,FALSE),0)","v":"105104-Hospital de Salamanca"},{"$f":"IFERROR(VLOOKUP(Tabla_SERIED_11_6[[#This Row],[IdEstablecimiento]],'[2]Establecimiento 2023'!$A$1:$E$183,5,FALSE),0)","v":"105104-Hospital Salamanca"},"15080008","2023-08-18T07:49:07",76,{"$nulls":7},40,null,30,0,6]
[7,"5",2023,"105104",{"$f":"IFERROR(VLOOKUP(Tabla_SERIED_11_6[[#This Row],[IdEstablecimiento]],'[2]Establecimiento 2023'!$A$1:$E$183,3,FALSE),0)","v":"105104-Hospital de Salamanca"},{"$f":"IFERROR(VLOOKUP(Tabla_SERIED_11_6[[#This Row],[IdEstablecimiento]],'[2]Establecimiento 2023'!$A$1:$E$183,5,FALSE),0)","v":"105104-Hospital Salamanca"},"15900040","2023-08-18T07:49:07",3.2,null,null,3.2]
[7,"5",2023,"105104",{"$f":"IFERROR(VLOOKUP(Tabla_SERIED_11_6[[#This Row],[IdEstablecimiento]],'[2]Establecimiento 2023'!$A$1:$E$183,3,FALSE),0)","v":"105104-Hospital de Salamanca"},{"$f":"IFERROR(VLOOKUP(Tabla_SERIED_11_6[[#This Row],[IdEstablecimiento]],'[2]Establecimiento 2023'!$A$1:$E$183,5,FALSE),0)","v":"105104-Hospital Salamanca"},"15901200","2023-08-18T07:49:07",4.4,null,null,4.4]
[7,"5",2023,"105105",{"$f":"IFERROR(VLOOKUP(Tabla_SERIED_11_6[[#This Row],[IdEstablecimiento]],'[2]Establecimiento 2023'!$A$1:$E$183,3,FALSE),0)","v":"105105-Hospital San Juan de Dios (Combarbalá)"},{"$f":"IFERROR(VLOOKUP(Tabla_SERIED_11_6[[#This Row],[IdEstablecimiento]],'[2]Establecimiento 2023'!$A$1:$E$183,5,FALSE),0)","v":"105105-Hospital Combarbalá"},"15080008","2023-08-18T07:55:46",61,{"$nulls":7},16,null,28,3,14]
[7,"5",2023,"105105",{"$f":"IFERROR(VLOOKUP(Tabla_SERIED_11_6[[#This Row],[IdEstablecimiento]],'[2]Establecimiento 2023'!$A$1:$E$183,3,FALSE),0)","v":"105105-Hospital San Juan de Dios (Combarbalá)"},{"$f":"IFERROR(VLOOKUP(Tabla_SERIED_11_6[[#This Row],[IdEstablecimiento]],'[2]Establecimiento 2023'!$A$1:$E$183,5,FALSE),0)","v":"105105-Hospital Combarbalá"},"15900030","2023-08-18T07:55:46",11.2,null,null,2.8,4.4,4]
[7,"5",2023,"105106",{"$f":"IFERROR(VLOOKUP(Tabla_SERIED_11_6[[#This Row],[IdEstablecimiento]],'[2]Establecimiento 2023'!$A$1:$E$183,3,FALSE),0)","v":"105106-Hospital Dr. José Arraño (Andacollo)"},{"$f":"IFERROR(VLOOKUP(Tabla_SERIED_11_6[[#This Row],[IdEstablecimiento]],'[2]Establecimiento 2023'!$A$1:$E$183,5,FALSE),0)","v":"105106-Hospital Andacollo"},"15020200","2023-08-18T07:56:41",4,{"$nulls":5},4]
[7,"5",2023,"105106",{"$f":"IFERROR(VLOOKUP(Tabla_SERIED_11_6[[#This Row],[IdEstablecimiento]],'[2]Establecimiento 2023'!$A$1:$E$183,3,FALSE),0)","v":"105106-Hospital Dr. José Arraño (Andacollo)"},{"$f":"IFERROR(VLOOKUP(Tabla_SERIED_11_6[[#This Row],[IdEstablecimiento]],'[2]Establecimiento 2023'!$A$1:$E$183,5,FALSE),0)","v":"105106-Hospital Andacollo"},"15900010","2023-08-18T07:56:41",84.8,9.6,22.4,52.8]
[7,"5",2023,"105107",{"$f":"IFERROR(VLOOKUP(Tabla_SERIED_11_6[[#This Row],[IdEstablecimiento]],'[2]Establecimiento 2023'!$A$1:$E$183,3,FALSE),0)","v":"105107-Hospital San Juan de Dios (Vicuña)"},{"$f":"IFERROR(VLOOKUP(Tabla_SERIED_11_6[[#This Row],[IdEstablecimiento]],'[2]Establecimiento 2023'!$A$1:$E$183,5,FALSE),0)","v":"105107-Hospital Vicuña"},"16200220","2023-08-18T07:57:30",13,3,10]
[7,"5",2023,"105108",{"$f":"IFERROR(VLOOKUP(Tabla_SERIED_11_6[[#This Row],[IdEstablecimiento]],'[2]Establecimiento 2023'!$A$1:$E$183,3,FALSE),0)","v":"105108-Hospital San Pedro (Los Vilos)"},{"$f":"IFERROR(VLOOKUP(Tabla_SERIED_11_6[[#This Row],[IdEstablecimiento]],'[2]Establecimiento 2023'!$A$1:$E$183,5,FALSE),0)","v":"105108-Hospital Los Vilos"},"15010200","2023-08-18T07:58:46",36,{"$nulls":5},26,10]
[7,"5",2023,"105108",{"$f":"IFERROR(VLOOKUP(Tabla_SERIED_11_6[[#This Row],[IdEstablecimiento]],'[2]Establecimiento 2023'!$A$1:$E$183,3,FALSE),0)","v":"105108-Hospital San Pedro (Los Vilos)"},{"$f":"IFERROR(VLOOKUP(Tabla_SERIED_11_6[[#This Row],[IdEstablecimiento]],'[2]Establecimiento 2023'!$A$1:$E$183,5,FALSE),0)","v":"105108-Hospital Los Vilos"},"15900010","2023-08-18T07:58:46",220,24.8,53.6,141.6]
[7,"5",2023,"105108",{"$f":"IFERROR(VLOOKUP(Tabla_SERIED_11_6[[#This Row],[IdEstablecimiento]],'[2]Establecimiento 2023'!$A$1:$E$183,3,FALSE),0)","v":"105108-Hospital San Pedro (Los Vilos)"},{"$f":"IFERROR(VLOOKUP(Tabla_SERIED_11_6[[#This Row],[IdEstablecimiento]],'[2]Establecimiento 2023'!$A$1:$E$183,5,FALSE),0)","v":"105108-Hospital Los Vilos"},"15900040","2023-08-18T07:58:46",10.8,null,2.4,3.6,4.8]
[7,"5",2023,"105300",{"$f":"IFERROR(VLOOKUP(Tabla_SERIED_11_6[[#This Row],[IdEstablecimiento]],'[2]Establecimiento 2023'!$A$1:$E$183,3,FALSE),0)","v":"105300-Centro de Salud Familiar Cardenal Caro"},{"$f":"IFERROR(VLOOKUP(Tabla_SERIED_11_6[[#This Row],[IdEstablecimiento]],'[2]Establecimiento 2023'!$A$1:$E$183,5,FALSE),0)","v":"04101-La Serena"},"15050200","2023-08-18T07:59:29",6,2,4,{"$nulls":6},2,null,4]
[7,"5",2023,"105300",{"$f":"IFERROR(VLOOKUP(Tabla_SERIED_11_6[[#This Row],[IdEstablecimiento]],'[2]Establecimiento 2023'!$A$1:$E$183,3,FALSE),0)","v":"105300-Centro de Salud Familiar Cardenal Caro"},{"$f":"IFERROR(VLOOKUP(Tabla_SERIED_11_6[[#This Row],[IdEstablecimiento]],'[2]Establecimiento 2023'!$A$1:$E$183,5,FALSE),0)","v":"04101-La Serena"},"15080015","2023-08-18T07:59:29",335,{"$nulls":5},196,139]
[7,"5",2023,"105300",{"$f":"IFERROR(VLOOKUP(Tabla_SERIED_11_6[[#This Row],[IdEstablecimiento]],'[2]Establecimiento 2023'!$A$1:$E$183,3,FALSE),0)","v":"105300-Centro de Salud Familiar Cardenal Caro"},{"$f":"IFERROR(VLOOKUP(Tabla_SERIED_11_6[[#This Row],[IdEstablecimiento]],'[2]Establecimiento 2023'!$A$1:$E$183,5,FALSE),0)","v":"04101-La Serena"},"15080019","2023-08-18T07:59:29",24,{"$nulls":5},18,6]
[7,"5",2023,"105300",{"$f":"IFERROR(VLOOKUP(Tabla_SERIED_11_6[[#This Row],[IdEstablecimiento]],'[2]Establecimiento 2023'!$A$1:$E$183,3,FALSE),0)","v":"105300-Centro de Salud Familiar Cardenal Caro"},{"$f":"IFERROR(VLOOKUP(Tabla_SERIED_11_6[[#This Row],[IdEstablecimiento]],'[2]Establecimiento 2023'!$A$1:$E$183,5,FALSE),0)","v":"04101-La Serena"},"16090300","2023-08-18T07:59:29",1165,1165]
[7,"5",2023,"105301",{"$f":"IFERROR(VLOOKUP(Tabla_SERIED_11_6[[#This Row],[IdEstablecimiento]],'[2]Establecimiento 2023'!$A$1:$E$183,3,FALSE),0)","v":"105301-Centro de Salud Familiar Las Compañías"},{"$f":"IFERROR(VLOOKUP(Tabla_SERIED_11_6[[#This Row],[IdEstablecimiento]],'[2]Establecimiento 2023'!$A$1:$E$183,5,FALSE),0)","v":"04101-La Serena"},"15060100","2023-08-18T08:00:07",7,5,2,null,null,1,3,2,1]
[7,"5",2023,"105301",{"$f":"IFERROR(VLOOKUP(Tabla_SERIED_11_6[[#This Row],[IdEstablecimiento]],'[2]Establecimiento 2023'!$A$1:$E$183,3,FALSE),0)","v":"105301-Centro de Salud Familiar Las Compañías"},{"$f":"IFERROR(VLOOKUP(Tabla_SERIED_11_6[[#This Row],[IdEstablecimiento]],'[2]Establecimiento 2023'!$A$1:$E$183,5,FALSE),0)","v":"04101-La Serena"},"15080019","2023-08-18T08:00:07",2,{"$nulls":5},2]
[7,"5",2023,"105301",{"$f":"IFERROR(VLOOKUP(Tabla_SERIED_11_6[[#This Row],[IdEstablecimiento]],'[2]Establecimiento 2023'!$A$1:$E$183,3,FALSE),0)","v":"105301-Centro de Salud Familiar Las Compañías"},{"$f":"IFERROR(VLOOKUP(Tabla_SERIED_11_6[[#This Row],[IdEstablecimiento]],'[2]Establecimiento 2023'!$A$1:$E$183,5,FALSE),0)","v":"04101-La Serena"},"16100300","2023-08-18T08:00:07",680,271,409]
[7,"5",2023,"105301",{"$f":"IFERROR(VLOOKUP(Tabla_SERIED_11_6[[#This Row],[IdEstablecimiento]],'[2]Establecimiento 2023'!$A$1:$E$183,3,FALSE),0)","v":"105301-Centro de Salud Familiar Las Compañías"},{"$f":"IFERROR(VLOOKUP(Tabla_SERIED_11_6[[#This Row],[IdEstablecimiento]],'[2]Establecimiento 2023'!$A$1:$E$183,5,FALSE),0)","v":"04101-La Serena"},"16100600","2023-08-18T08:00:07",2,0,2]
[7,"5",2023,"105303",{"$f":"IFERROR(VLOOKUP(Tabla_SERIED_11_6[[#This Row],[IdEstablecimiento]],'[2]Establecimiento 2023'!$A$1:$E$183,3,FALSE),0)","v":"105303-Centro de Salud Familiar San Juan"},{"$f":"IFERROR(VLOOKUP(Tabla_SERIED_11_6[[#This Row],[IdEstablecimiento]],'[2]Establecimiento 2023'!$A$1:$E$183,5,FALSE),0)","v":"04102-Coquimbo"},"15080009","2023-10-17T09:58:05",6,{"$nulls":8},6,0,0,0]
[7,"5",2023,"105303",{"$f":"IFERROR(VLOOKUP(Tabla_SERIED_11_6[[#This Row],[IdEstablecimiento]],'[2]Establecimiento 2023'!$A$1:$E$183,3,FALSE),0)","v":"105303-Centro de Salud Familiar San Juan"},{"$f":"IFERROR(VLOOKUP(Tabla_SERIED_11_6[[#This Row],[IdEstablecimiento]],'[2]Establecimiento 2023'!$A$1:$E$183,5,FALSE),0)","v":"04102-Coquimbo"},"15080015","2023-10-17T09:58:05",193,{"$nulls":5},106,87]
[7,"5",2023,"105304",{"$f":"IFERROR(VLOOKUP(Tabla_SERIED_11_6[[#This Row],[IdEstablecimiento]],'[2]Establecimiento 2023'!$A$1:$E$183,3,FALSE),0)","v":"105304-Centro de Salud Familiar Santa Cecilia"},{"$f":"IFERROR(VLOOKUP(Tabla_SERIED_11_6[[#This Row],[IdEstablecimiento]],'[2]Establecimiento 2023'!$A$1:$E$183,5,FALSE),0)","v":"04102-Coquimbo"},"15080009","2023-08-18T08:01:59",6,{"$nulls":8},6,0,0,0]
[7,"5",2023,"105307",{"$f":"IFERROR(VLOOKUP(Tabla_SERIED_11_6[[#This Row],[IdEstablecimiento]],'[2]Establecimiento 2023'!$A$1:$E$183,3,FALSE),0)","v":"105307-Centro de Salud Familiar Monte Patria"},{"$f":"IFERROR(VLOOKUP(Tabla_SERIED_11_6[[#This Row],[IdEstablecimiento]],'[2]Establecimiento 2023'!$A$1:$E$183,5,FALSE),0)","v":"04303-Monte Patria"},"15010500","2023-10-17T10:01:52",6,null,null,4,null,2]
[7,"5",2023,"105308",{"$f":"IFERROR(VLOOKUP(Tabla_SERIED_11_6[[#This Row],[IdEstablecimiento]],'[2]Establecimiento 2023'!$A$1:$E$183,3,FALSE),0)","v":"105308-Centro de Salud Familiar Punitaqui"},{"$f":"IFERROR(VLOOKUP(Tabla_SERIED_11_6[[#This Row],[IdEstablecimiento]],'[2]Establecimiento 2023'!$A$1:$E$183,5,FALSE),0)","v":"04304-Punitaqui"},"15080014","2023-08-18T08:04:29",156,{"$nulls":3},78,78]
[7,"5",2023,"105311",{"$f":"IFERROR(VLOOKUP(Tabla_SERIED_11_6[[#This Row],[IdEstablecimiento]],'[2]Establecimiento 2023'!$A$1:$E$183,3,FALSE),0)","v":"105311-Centro de Salud Familiar Chañaral Alto"},{"$f":"IFERROR(VLOOKUP(Tabla_SERIED_11_6[[#This Row],[IdEstablecimiento]],'[2]Establecimiento 2023'!$A$1:$E$183,5,FALSE),0)","v":"04303-Monte Patria"},"15050100","2023-10-17T10:04:21",112,48,64,null,null,11,16,12,27,20,15,null,7,null,4]
[7,"5",2023,"105313",{"$f":"IFERROR(VLOOKUP(Tabla_SERIED_11_6[[#This Row],[IdEstablecimiento]],'[2]Establecimiento 2023'!$A$1:$E$183,3,FALSE),0)","v":"105313-Centro de Salud Familiar Dr. Emilio Schaffhauser"},{"$f":"IFERROR(VLOOKUP(Tabla_SERIED_11_6[[#This Row],[IdEstablecimiento]],'[2]Establecimiento 2023'!$A$1:$E$183,5,FALSE),0)","v":"04101-La Serena"},"15010500","2023-08-18T08:07:08",24,{"$nulls":3},2,4,8,10]
[7,"5",2023,"105315",{"$f":"IFERROR(VLOOKUP(Tabla_SERIED_11_6[[#This Row],[IdEstablecimiento]],'[2]Establecimiento 2023'!$A$1:$E$183,3,FALSE),0)","v":"105315-Centro de Salud Familiar Cerrillos de Tamaya"},{"$f":"IFERROR(VLOOKUP(Tabla_SERIED_11_6[[#This Row],[IdEstablecimiento]],'[2]Establecimiento 2023'!$A$1:$E$183,5,FALSE),0)","v":"04301-Ovalle"},"15050100","2023-08-18T08:08:23",239,71,168,6,6,12,34,26,50,37,35,null,16,10,7]
[7,"5",2023,"105315",{"$f":"IFERROR(VLOOKUP(Tabla_SERIED_11_6[[#This Row],[IdEstablecimiento]],'[2]Establecimiento 2023'!$A$1:$E$183,3,FALSE),0)","v":"105315-Centro de Salud Familiar Cerrillos de Tamaya"},{"$f":"IFERROR(VLOOKUP(Tabla_SERIED_11_6[[#This Row],[IdEstablecimiento]],'[2]Establecimiento 2023'!$A$1:$E$183,5,FALSE),0)","v":"04301-Ovalle"},"15900030","2023-08-18T08:08:23",4.4,4.4]
[7,"5",2023,"105315",{"$f":"IFERROR(VLOOKUP(Tabla_SERIED_11_6[[#This Row],[IdEstablecimiento]],'[2]Establecimiento 2023'!$A$1:$E$183,3,FALSE),0)","v":"105315-Centro de Salud Familiar Cerrillos de Tamaya"},{"$f":"IFERROR(VLOOKUP(Tabla_SERIED_11_6[[#This Row],[IdEstablecimiento]],'[2]Establecimiento 2023'!$A$1:$E$183,5,FALSE),0)","v":"04301-Ovalle"},"16100300","2023-08-18T08:08:23",294,142,152]
[7,"5",2023,"105317",{"$f":"IFERROR(VLOOKUP(Tabla_SERIED_11_6[[#This Row],[IdEstablecimiento]],'[2]Establecimiento 2023'!$A$1:$E$183,3,FALSE),0)","v":"105317-Centro de Salud Familiar Jorge Jordán Domic"},{"$f":"IFERROR(VLOOKUP(Tabla_SERIED_11_6[[#This Row],[IdEstablecimiento]],'[2]Establecimiento 2023'!$A$1:$E$183,5,FALSE),0)","v":"04301-Ovalle"},"15080015","2023-08-18T08:08:52",533,{"$nulls":5},268,265]
[7,"5",2023,"105318",{"$f":"IFERROR(VLOOKUP(Tabla_SERIED_11_6[[#This Row],[IdEstablecimiento]],'[2]Establecimiento 2023'!$A$1:$E$183,3,FALSE),0)","v":"105318-Centro de Salud Familiar El Palqui"},{"$f":"IFERROR(VLOOKUP(Tabla_SERIED_11_6[[#This Row],[IdEstablecimiento]],'[2]Establecimiento 2023'!$A$1:$E$183,5,FALSE),0)","v":"04303-Monte Patria"},"15080016","2023-08-18T08:09:26",22,{"$nulls":3},6,2,12,2]
[7,"5",2023,"105318",{"$f":"IFERROR(VLOOKUP(Tabla_SERIED_11_6[[#This Row],[IdEstablecimiento]],'[2]Establecimiento 2023'!$A$1:$E$183,3,FALSE),0)","v":"105318-Centro de Salud Familiar El Palqui"},{"$f":"IFERROR(VLOOKUP(Tabla_SERIED_11_6[[#This Row],[IdEstablecimiento]],'[2]Establecimiento 2023'!$A$1:$E$183,5,FALSE),0)","v":"04303-Monte Patria"},"15900040","2023-08-18T08:09:26",12,null,null,8.8,3.2]
[7,"5",2023,"105319",{"$f":"IFERROR(VLOOKUP(Tabla_SERIED_11_6[[#This Row],[IdEstablecimiento]],'[2]Establecimiento 2023'!$A$1:$E$183,3,FALSE),0)","v":"105319-Centro de Salud Familiar Cardenal Raúl Silva Henríquez de La Serena"},{"$f":"IFERROR(VLOOKUP(Tabla_SERIED_11_6[[#This Row],[IdEstablecimiento]],'[2]Establecimiento 2023'!$A$1:$E$183,5,FALSE),0)","v":"04101-La Serena"},"16100100","2023-08-18T08:10:17",12,6,6]
[7,"5",2023,"105321",{"$f":"IFERROR(VLOOKUP(Tabla_SERIED_11_6[[#This Row],[IdEstablecimiento]],'[2]Establecimiento 2023'!$A$1:$E$183,3,FALSE),0)","v":"105321-Centro de Salud Familiar Tongoy"},{"$f":"IFERROR(VLOOKUP(Tabla_SERIED_11_6[[#This Row],[IdEstablecimiento]],'[2]Establecimiento 2023'!$A$1:$E$183,5,FALSE),0)","v":"04102-Coquimbo"},"15010500","2023-08-18T08:11:01",8,null,null,2,2,0,4]
[7,"5",2023,"105321",{"$f":"IFERROR(VLOOKUP(Tabla_SERIED_11_6[[#This Row],[IdEstablecimiento]],'[2]Establecimiento 2023'!$A$1:$E$183,3,FALSE),0)","v":"105321-Centro de Salud Familiar Tongoy"},{"$f":"IFERROR(VLOOKUP(Tabla_SERIED_11_6[[#This Row],[IdEstablecimiento]],'[2]Establecimiento 2023'!$A$1:$E$183,5,FALSE),0)","v":"04102-Coquimbo"},"15080008","2023-08-18T08:11:01",51,{"$nulls":7},28,null,18,null,5]
[7,"5",2023,"105322",{"$f":"IFERROR(VLOOKUP(Tabla_SERIED_11_6[[#This Row],[IdEstablecimiento]],'[2]Establecimiento 2023'!$A$1:$E$183,3,FALSE),0)","v":"105322-Centro de Salud Familiar Marcos Macuada"},{"$f":"IFERROR(VLOOKUP(Tabla_SERIED_11_6[[#This Row],[IdEstablecimiento]],'[2]Establecimiento 2023'!$A$1:$E$183,5,FALSE),0)","v":"04301-Ovalle"},"15050500","2023-08-18T08:11:28",2,null,2,0,2,0]
[7,"5",2023,"105322",{"$f":"IFERROR(VLOOKUP(Tabla_SERIED_11_6[[#This Row],[IdEstablecimiento]],'[2]Establecimiento 2023'!$A$1:$E$183,3,FALSE),0)","v":"105322-Centro de Salud Familiar Marcos Macuada"},{"$f":"IFERROR(VLOOKUP(Tabla_SERIED_11_6[[#This Row],[IdEstablecimiento]],'[2]Establecimiento 2023'!$A$1:$E$183,5,FALSE),0)","v":"04301-Ovalle"},"15080008","2023-08-18T08:11:28",127,{"$nulls":7},65,null,46,6,10]
[7,"5",2023,"105322",{"$f":"IFERROR(VLOOKUP(Tabla_SERIED_11_6[[#This Row],[IdEstablecimiento]],'[2]Establecimiento 2023'!$A$1:$E$183,3,FALSE),0)","v":"105322-Centro de Salud Familiar Marcos Macuada"},{"$f":"IFERROR(VLOOKUP(Tabla_SERIED_11_6[[#This Row],[IdEstablecimiento]],'[2]Establecimiento 2023'!$A$1:$E$183,5,FALSE),0)","v":"04301-Ovalle"},"15080018","2023-08-18T08:11:28",8,0,0,0,6,2,0,0,0,0,0,0,0]
[7,"5",2023,"105323",{"$f":"IFERROR(VLOOKUP(Tabla_SERIED_11_6[[#This Row],[IdEstablecimiento]],'[2]Establecimiento 2023'!$A$1:$E$183,3,FALSE),0)","v":"105323-Centro de Salud Familiar Dr. Sergio Aguilar Delgado"},{"$f":"IFERROR(VLOOKUP(Tabla_SERIED_11_6[[#This Row],[IdEstablecimiento]],'[2]Establecimiento 2023'!$A$1:$E$183,5,FALSE),0)","v":"04102-Coquimbo"},"15050200","2023-08-18T08:12:04",27,17,10,1,3,8,3,2,8,2]
[7,"5",2023,"105323",{"$f":"IFERROR(VLOOKUP(Tabla_SERIED_11_6[[#This Row],[IdEstablecimiento]],'[2]Establecimiento 2023'!$A$1:$E$183,3,FALSE),0)","v":"105323-Centro de Salud Familiar Dr. Sergio Aguilar Delgado"},{"$f":"IFERROR(VLOOKUP(Tabla_SERIED_11_6[[#This Row],[IdEstablecimiento]],'[2]Establecimiento 2023'!$A$1:$E$183,5,FALSE),0)","v":"04102-Coquimbo"},"15060600","2023-08-18T08:12:04",1,null,1,1]
[7,"5",2023,"105323",{"$f":"IFERROR(VLOOKUP(Tabla_SERIED_11_6[[#This Row],[IdEstablecimiento]],'[2]Establecimiento 2023'!$A$1:$E$183,3,FALSE),0)","v":"105323-Centro de Salud Familiar Dr. Sergio Aguilar Delgado"},{"$f":"IFERROR(VLOOKUP(Tabla_SERIED_11_6[[#This Row],[IdEstablecimiento]],'[2]Establecimiento 2023'!$A$1:$E$183,5,FALSE),0)","v":"04102-Coquimbo"},"15900020","2023-08-18T08:12:04",36,3.2,10.4,22.4]
[7,"5",2023,"105324",{"$f":"IFERROR(VLOOKUP(Tabla_SERIED_11_6[[#This Row],[IdEstablecimiento]],'[2]Establecimiento 2023'!$A$1:$E$183,3,FALSE),0)","v":"105324-Centro de Salud Familiar Sotaquí"},{"$f":"IFERROR(VLOOKUP(Tabla_SERIED_11_6[[#This Row],[IdEstablecimiento]],'[2]Establecimiento 2023'!$A$1:$E$183,5,FALSE),0)","v":"04301-Ovalle"},"15080018","2023-08-18T08:12:32",2,null,null,2]
[7,"5",2023,"105325",{"$f":"IFERROR(VLOOKUP(Tabla_SERIED_11_6[[#This Row],[IdEstablecimiento]],'[2]Establecimiento 2023'!$A$1:$E$183,3,FALSE),0)","v":"105325-Centro de Salud Familiar Juan Pablo II (La Serena)"},{"$f":"IFERROR(VLOOKUP(Tabla_SERIED_11_6[[#This Row],[IdEstablecimiento]],'[2]Establecimiento 2023'!$A$1:$E$183,5,FALSE),0)","v":"04101-La Serena"},"15020200","2023-08-18T08:13:06",6,{"$nulls":5},2,4]
[7,"5",2023,"105325",{"$f":"IFERROR(VLOOKUP(Tabla_SERIED_11_6[[#This Row],[IdEstablecimiento]],'[2]Establecimiento 2023'!$A$1:$E$183,3,FALSE),0)","v":"105325-Centro de Salud Familiar Juan Pablo II (La Serena)"},{"$f":"IFERROR(VLOOKUP(Tabla_SERIED_11_6[[#This Row],[IdEstablecimiento]],'[2]Establecimiento 2023'!$A$1:$E$183,5,FALSE),0)","v":"04101-La Serena"},"15050500","2023-08-18T08:13:06",5,2,3,1,3,1]
[7,"5",2023,"105325",{"$f":"IFERROR(VLOOKUP(Tabla_SERIED_11_6[[#This Row],[IdEstablecimiento]],'[2]Establecimiento 2023'!$A$1:$E$183,3,FALSE),0)","v":"105325-Centro de Salud Familiar Juan Pablo II (La Serena)"},{"$f":"IFERROR(VLOOKUP(Tabla_SERIED_11_6[[#This Row],[IdEstablecimiento]],'[2]Establecimiento 2023'!$A$1:$E$183,5,FALSE),0)","v":"04101-La Serena"},"15060100","2023-08-18T08:13:06",6,4,2,0,1,0,2,0,1,2,0,null,0,0,0]
[7,"5",2023,"105325",{"$f":"IFERROR(VLOOKUP(Tabla_SERIED_11_6[[#This Row],[IdEstablecimiento]],'[2]Establecimiento 2023'!$A$1:$E$183,3,FALSE),0)","v":"105325-Centro de Salud Familiar Juan Pablo II (La Serena)"},{"$f":"IFERROR(VLOOKUP(Tabla_SERIED_11_6[[#This Row],[IdEstablecimiento]],'[2]Establecimiento 2023'!$A$1:$E$183,5,FALSE),0)","v":"04101-La Serena"},"16200210","2023-08-18T08:13:06",67,67]
[7,"5",2023,"105400",{"$f":"IFERROR(VLOOKUP(Tabla_SERIED_11_6[[#This Row],[IdEstablecimiento]],'[2]Establecimiento 2023'!$A$1:$E$183,3,FALSE),0)","v":"105400-Posta de Salud Rural Algarrobito"},{"$f":"IFERROR(VLOOKUP(Tabla_SERIED_11_6[[#This Row],[IdEstablecimiento]],'[2]Establecimiento 2023'!$A$1:$E$183,5,FALSE),0)","v":"04101-La Serena"},"15080015","2023-08-18T08:14:04",76,{"$nulls":5},28,48]
[8,"5",2023,"105104",{"$f":"IFERROR(VLOOKUP(Tabla_SERIED_11_6[[#This Row],[IdEstablecimiento]],'[2]Establecimiento 2023'!$A$1:$E$183,3,FALSE),0)","v":"105104-Hospital de Salamanca"},{"$f":"IFERROR(VLOOKUP(Tabla_SERIED_11_6[[#This Row],[IdEstablecimiento]],'[2]Establecimiento 2023'!$A$1:$E$183,5,FALSE),0)","v":"105104-Hospital Salamanca"},"15080015","2023-09-15T11:46:01",222,{"$nulls":5},124,98]
[8,"5",2023,"105104",{"$f":"IFERROR(VLOOKUP(Tabla_SERIED_11_6[[#This Row],[IdEstablecimiento]],'[2]Establecimiento 2023'!$A$1:$E$183,3,FALSE),0)","v":"105104-Hospital de Salamanca"},{"$f":"IFERROR(VLOOKUP(Tabla_SERIED_11_6[[#This Row],[IdEstablecimiento]],'[2]Establecimiento 2023'!$A$1:$E$183,5,FALSE),0)","v":"105104-Hospital Salamanca"},"16090300","2023-09-15T11:46:01",514,514]
[8,"5",2023,"105104",{"$f":"IFERROR(VLOOKUP(Tabla_SERIED_11_6[[#This Row],[IdEstablecimiento]],'[2]Establecimiento 2023'!$A$1:$E$183,3,FALSE),0)","v":"105104-Hospital de Salamanca"},{"$f":"IFERROR(VLOOKUP(Tabla_SERIED_11_6[[#This Row],[IdEstablecimiento]],'[2]Establecimiento 2023'!$A$1:$E$183,5,FALSE),0)","v":"105104-Hospital Salamanca"},"16200220","2023-09-15T11:46:01",6,2,4]
[8,"5",2023,"105106",{"$f":"IFERROR(VLOOKUP(Tabla_SERIED_11_6[[#This Row],[IdEstablecimiento]],'[2]Establecimiento 2023'!$A$1:$E$183,3,FALSE),0)","v":"105106-Hospital Dr. José Arraño (Andacollo)"},{"$f":"IFERROR(VLOOKUP(Tabla_SERIED_11_6[[#This Row],[IdEstablecimiento]],'[2]Establecimiento 2023'!$A$1:$E$183,5,FALSE),0)","v":"105106-Hospital Andacollo"},"15080014","2023-09-15T11:50:39",110,{"$nulls":3},68,42]
[8,"5",2023,"105107",{"$f":"IFERROR(VLOOKUP(Tabla_SERIED_11_6[[#This Row],[IdEstablecimiento]],'[2]Establecimiento 2023'!$A$1:$E$183,3,FALSE),0)","v":"105107-Hospital San Juan de Dios (Vicuña)"},{"$f":"IFERROR(VLOOKUP(Tabla_SERIED_11_6[[#This Row],[IdEstablecimiento]],'[2]Establecimiento 2023'!$A$1:$E$183,5,FALSE),0)","v":"105107-Hospital Vicuña"},"15080014","2023-09-15T11:53:17",196,{"$nulls":3},106,90]
[8,"5",2023,"105107",{"$f":"IFERROR(VLOOKUP(Tabla_SERIED_11_6[[#This Row],[IdEstablecimiento]],'[2]Establecimiento 2023'!$A$1:$E$183,3,FALSE),0)","v":"105107-Hospital San Juan de Dios (Vicuña)"},{"$f":"IFERROR(VLOOKUP(Tabla_SERIED_11_6[[#This Row],[IdEstablecimiento]],'[2]Establecimiento 2023'!$A$1:$E$183,5,FALSE),0)","v":"105107-Hospital Vicuña"},"15080016","2023-09-15T11:53:17",14,{"$nulls":4},2,8,4]
[8,"5",2023,"105108",{"$f":"IFERROR(VLOOKUP(Tabla_SERIED_11_6[[#This Row],[IdEstablecimiento]],'[2]Establecimiento 2023'!$A$1:$E$183,3,FALSE),0)","v":"105108-Hospital San Pedro (Los Vilos)"},{"$f":"IFERROR(VLOOKUP(Tabla_SERIED_11_6[[#This Row],[IdEstablecimiento]],'[2]Establecimiento 2023'!$A$1:$E$183,5,FALSE),0)","v":"105108-Hospital Los Vilos"},"15080015","2023-09-15T11:53:14",335,{"$nulls":5},198,137]
[8,"5",2023,"105301",{"$f":"IFERROR(VLOOKUP(Tabla_SERIED_11_6[[#This Row],[IdEstablecimiento]],'[2]Establecimiento 2023'!$A$1:$E$183,3,FALSE),0)","v":"105301-Centro de Salud Familiar Las Compañías"},{"$f":"IFERROR(VLOOKUP(Tabla_SERIED_11_6[[#This Row],[IdEstablecimiento]],'[2]Establecimiento 2023'!$A$1:$E$183,5,FALSE),0)","v":"04101-La Serena"},"15080008","2023-09-15T11:54:49",128,{"$nulls":7},64,null,34,4,26]
[8,"5",2023,"105301",{"$f":"IFERROR(VLOOKUP(Tabla_SERIED_11_6[[#This Row],[IdEstablecimiento]],'[2]Establecimiento 2023'!$A$1:$E$183,3,FALSE),0)","v":"105301-Centro de Salud Familiar Las Compañías"},{"$f":"IFERROR(VLOOKUP(Tabla_SERIED_11_6[[#This Row],[IdEstablecimiento]],'[2]Establecimiento 2023'!$A$1:$E$183,5,FALSE),0)","v":"04101-La Serena"},"15080015","2023-09-15T11:54:49",346,{"$nulls":5},190,156]
[8,"5",2023,"105301",{"$f":"IFERROR(VLOOKUP(Tabla_SERIED_11_6[[#This Row],[IdEstablecimiento]],'[2]Establecimiento 2023'!$A$1:$E$183,3,FALSE),0)","v":"105301-Centro de Salud Familiar Las Compañías"},{"$f":"IFERROR(VLOOKUP(Tabla_SERIED_11_6[[#This Row],[IdEstablecimiento]],'[2]Establecimiento 2023'!$A$1:$E$183,5,FALSE),0)","v":"04101-La Serena"},"15900040","2023-09-15T11:54:49",13.2,null,null,4.4,8.8]
[8,"5",2023,"105302",{"$f":"IFERROR(VLOOKUP(Tabla_SERIED_11_6[[#This Row],[IdEstablecimiento]],'[2]Establecimiento 2023'!$A$1:$E$183,3,FALSE),0)","v":"105302-Centro de Salud Familiar Pedro Aguirre Cerda"},{"$f":"IFERROR(VLOOKUP(Tabla_SERIED_11_6[[#This Row],[IdEstablecimiento]],'[2]Establecimiento 2023'!$A$1:$E$183,5,FALSE),0)","v":"04101-La Serena"},"15050100","2023-09-15T11:55:42",743,275,468,12,10,92,96,90,114,122,102,null,43,6,56]
[8,"5",2023,"105302",{"$f":"IFERROR(VLOOKUP(Tabla_SERIED_11_6[[#This Row],[IdEstablecimiento]],'[2]Establecimiento 2023'!$A$1:$E$183,3,FALSE),0)","v":"105302-Centro de Salud Familiar Pedro Aguirre Cerda"},{"$f":"IFERROR(VLOOKUP(Tabla_SERIED_11_6[[#This Row],[IdEstablecimiento]],'[2]Establecimiento 2023'!$A$1:$E$183,5,FALSE),0)","v":"04101-La Serena"},"16200210","2023-09-15T11:55:42",74,74]
[8,"5",2023,"105303",{"$f":"IFERROR(VLOOKUP(Tabla_SERIED_11_6[[#This Row],[IdEstablecimiento]],'[2]Establecimiento 2023'!$A$1:$E$183,3,FALSE),0)","v":"105303-Centro de Salud Familiar San Juan"},{"$f":"IFERROR(VLOOKUP(Tabla_SERIED_11_6[[#This Row],[IdEstablecimiento]],'[2]Establecimiento 2023'!$A$1:$E$183,5,FALSE),0)","v":"04102-Coquimbo"},"15080015","2023-10-17T09:58:43",441,{"$nulls":5},242,199]
[8,"5",2023,"105303",{"$f":"IFERROR(VLOOKUP(Tabla_SERIED_11_6[[#This Row],[IdEstablecimiento]],'[2]Establecimiento 2023'!$A$1:$E$183,3,FALSE),0)","v":"105303-Centro de Salud Familiar San Juan"},{"$f":"IFERROR(VLOOKUP(Tabla_SERIED_11_6[[#This Row],[IdEstablecimiento]],'[2]Establecimiento 2023'!$A$1:$E$183,5,FALSE),0)","v":"04102-Coquimbo"},"16100300","2023-10-17T09:58:43",831,336,495]
[8,"5",2023,"105304",{"$f":"IFERROR(VLOOKUP(Tabla_SERIED_11_6[[#This Row],[IdEstablecimiento]],'[2]Establecimiento 2023'!$A$1:$E$183,3,FALSE),0)","v":"105304-Centro de Salud Familiar Santa Cecilia"},{"$f":"IFERROR(VLOOKUP(Tabla_SERIED_11_6[[#This Row],[IdEstablecimiento]],'[2]Establecimiento 2023'!$A$1:$E$183,5,FALSE),0)","v":"04102-Coquimbo"},"15080018","2023-09-15T11:56:49",6,0,0,2,0,4]
[8,"5",2023,"105304",{"$f":"IFERROR(VLOOKUP(Tabla_SERIED_11_6[[#This Row],[IdEstablecimiento]],'[2]Establecimiento 2023'!$A$1:$E$183,3,FALSE),0)","v":"105304-Centro de Salud Familiar Santa Cecilia"},{"$f":"IFERROR(VLOOKUP(Tabla_SERIED_11_6[[#This Row],[IdEstablecimiento]],'[2]Establecimiento 2023'!$A$1:$E$183,5,FALSE),0)","v":"04102-Coquimbo"},"15900050","2023-09-15T11:56:49",1,0,1,0,1,0,0,0]
[8,"5",2023,"105304",{"$f":"IFERROR(VLOOKUP(Tabla_SERIED_11_6[[#This Row],[IdEstablecimiento]],'[2]Establecimiento 2023'!$A$1:$E$183,3,FALSE),0)","v":"105304-Centro de Salud Familiar Santa Cecilia"},{"$f":"IFERROR(VLOOKUP(Tabla_SERIED_11_6[[#This Row],[IdEstablecimiento]],'[2]Establecimiento 2023'!$A$1:$E$183,5,FALSE),0)","v":"04102-Coquimbo"},"16090300","2023-09-15T11:56:49",612,612]
[8,"5",2023,"105304",{"$f":"IFERROR(VLOOKUP(Tabla_SERIED_11_6[[#This Row],[IdEstablecimiento]],'[2]Establecimiento 2023'!$A$1:$E$183,3,FALSE),0)","v":"105304-Centro de Salud Familiar Santa Cecilia"},{"$f":"IFERROR(VLOOKUP(Tabla_SERIED_11_6[[#This Row],[IdEstablecimiento]],'[2]Establecimiento 2023'!$A$1:$E$183,5,FALSE),0)","v":"04102-Coquimbo"},"16100300","2023-09-15T11:56:49",612,232,380]
[8,"5",2023,"105307",{"$f":"IFERROR(VLOOKUP(Tabla_SERIED_11_6[[#This Row],[IdEstablecimiento]],'[2]Establecimiento 2023'!$A$1:$E$183,3,FALSE),0)","v":"105307-Centro de Salud Familiar Monte Patria"},{"$f":"IFERROR(VLOOKUP(Tabla_SERIED_11_6[[#This Row],[IdEstablecimiento]],'[2]Establecimiento 2023'!$A$1:$E$183,5,FALSE),0)","v":"04303-Monte Patria"},"15050100","2023-09-15T11:58:27",293,131,162,2,4,19,34,38,61,54,34,null,28,3,16]
[8,"5",2023,"105307",{"$f":"IFERROR(VLOOKUP(Tabla_SERIED_11_6[[#This Row],[IdEstablecimiento]],'[2]Establecimiento 2023'!$A$1:$E$183,3,FALSE),0)","v":"105307-Centro de Salud Familiar Monte Patria"},{"$f":"IFERROR(VLOOKUP(Tabla_SERIED_11_6[[#This Row],[IdEstablecimiento]],'[2]Establecimiento 2023'!$A$1:$E$183,5,FALSE),0)","v":"04303-Monte Patria"},"15050200","2023-09-15T11:58:27",3,2,1,null,null,1,null,1,1]
[8,"5",2023,"105308",{"$f":"IFERROR(VLOOKUP(Tabla_SERIED_11_6[[#This Row],[IdEstablecimiento]],'[2]Establecimiento 2023'!$A$1:$E$183,3,FALSE),0)","v":"105308-Centro de Salud Familiar Punitaqui"},{"$f":"IFERROR(VLOOKUP(Tabla_SERIED_11_6[[#This Row],[IdEstablecimiento]],'[2]Establecimiento 2023'!$A$1:$E$183,5,FALSE),0)","v":"04304-Punitaqui"},"15050100","2023-09-15T11:59:36",440,194,246,2,15,65,50,53,83,81,53,null,28,null,10]
[8,"5",2023,"105308",{"$f":"IFERROR(VLOOKUP(Tabla_SERIED_11_6[[#This Row],[IdEstablecimiento]],'[2]Establecimiento 2023'!$A$1:$E$183,3,FALSE),0)","v":"105308-Centro de Salud Familiar Punitaqui"},{"$f":"IFERROR(VLOOKUP(Tabla_SERIED_11_6[[#This Row],[IdEstablecimiento]],'[2]Establecimiento 2023'!$A$1:$E$183,5,FALSE),0)","v":"04304-Punitaqui"},"15080008","2023-09-15T11:59:36",119,{"$nulls":7},53,null,56,null,10]
[8,"5",2023,"105308",{"$f":"IFERROR(VLOOKUP(Tabla_SERIED_11_6[[#This Row],[IdEstablecimiento]],'[2]Establecimiento 2023'!$A$1:$E$183,3,FALSE),0)","v":"105308-Centro de Salud Familiar Punitaqui"},{"$f":"IFERROR(VLOOKUP(Tabla_SERIED_11_6[[#This Row],[IdEstablecimiento]],'[2]Establecimiento 2023'!$A$1:$E$183,5,FALSE),0)","v":"04304-Punitaqui"},"15080014","2023-09-15T11:59:36",206,{"$nulls":3},100,106]
[8,"5",2023,"105308",{"$f":"IFERROR(VLOOKUP(Tabla_SERIED_11_6[[#This Row],[IdEstablecimiento]],'[2]Establecimiento 2023'!$A$1:$E$183,3,FALSE),0)","v":"105308-Centro de Salud Familiar Punitaqui"},{"$f":"IFERROR(VLOOKUP(Tabla_SERIED_11_6[[#This Row],[IdEstablecimiento]],'[2]Establecimiento 2023'!$A$1:$E$183,5,FALSE),0)","v":"04304-Punitaqui"},"15900040","2023-09-15T11:59:36",4.8,{"$nulls":4},4.8]
[8,"5",2023,"105309",{"$f":"IFERROR(VLOOKUP(Tabla_SERIED_11_6[[#This Row],[IdEstablecimiento]],'[2]Establecimiento 2023'!$A$1:$E$183,3,FALSE),0)","v":"105309-Centro de Salud Familiar Canela"},{"$f":"IFERROR(VLOOKUP(Tabla_SERIED_11_6[[#This Row],[IdEstablecimiento]],'[2]Establecimiento 2023'!$A$1:$E$183,5,FALSE),0)","v":"04202-Canela"},"15010200","2023-09-15T11:59:47",6,{"$nulls":6},6]
[8,"5",2023,"105309",{"$f":"IFERROR(VLOOKUP(Tabla_SERIED_11_6[[#This Row],[IdEstablecimiento]],'[2]Establecimiento 2023'!$A$1:$E$183,3,FALSE),0)","v":"105309-Centro de Salud Familiar Canela"},{"$f":"IFERROR(VLOOKUP(Tabla_SERIED_11_6[[#This Row],[IdEstablecimiento]],'[2]Establecimiento 2023'!$A$1:$E$183,5,FALSE),0)","v":"04202-Canela"},"15900010","2023-09-15T11:59:47",69.6,15.2,8,46.4]
[8,"5",2023,"105309",{"$f":"IFERROR(VLOOKUP(Tabla_SERIED_11_6[[#This Row],[IdEstablecimiento]],'[2]Establecimiento 2023'!$A$1:$E$183,3,FALSE),0)","v":"105309-Centro de Salud Familiar Canela"},{"$f":"IFERROR(VLOOKUP(Tabla_SERIED_11_6[[#This Row],[IdEstablecimiento]],'[2]Establecimiento 2023'!$A$1:$E$183,5,FALSE),0)","v":"04202-Canela"},"15900030","2023-09-15T11:59:47",8.8,null,null,2.4,null,6.4]
[8,"5",2023,"105309",{"$f":"IFERROR(VLOOKUP(Tabla_SERIED_11_6[[#This Row],[IdEstablecimiento]],'[2]Establecimiento 2023'!$A$1:$E$183,3,FALSE),0)","v":"105309-Centro de Salud Familiar Canela"},{"$f":"IFERROR(VLOOKUP(Tabla_SERIED_11_6[[#This Row],[IdEstablecimiento]],'[2]Establecimiento 2023'!$A$1:$E$183,5,FALSE),0)","v":"04202-Canela"},"16090500","2023-09-15T11:59:47",2,2]
[8,"5",2023,"105312",{"$f":"IFERROR(VLOOKUP(Tabla_SERIED_11_6[[#This Row],[IdEstablecimiento]],'[2]Establecimiento 2023'!$A$1:$E$183,3,FALSE),0)","v":"105312-Centro de Salud Familiar Carén"},{"$f":"IFERROR(VLOOKUP(Tabla_SERIED_11_6[[#This Row],[IdEstablecimiento]],'[2]Establecimiento 2023'!$A$1:$E$183,5,FALSE),0)","v":"04303-Monte Patria"},"15080008","2023-09-15T12:07:17",26,{"$nulls":7},10,null,10,1,5]
[8,"5",2023,"105313",{"$f":"IFERROR(VLOOKUP(Tabla_SERIED_11_6[[#This Row],[IdEstablecimiento]],'[2]Establecimiento 2023'!$A$1:$E$183,3,FALSE),0)","v":"105313-Centro de Salud Familiar Dr. Emilio Schaffhauser"},{"$f":"IFERROR(VLOOKUP(Tabla_SERIED_11_6[[#This Row],[IdEstablecimiento]],'[2]Establecimiento 2023'!$A$1:$E$183,5,FALSE),0)","v":"04101-La Serena"},"15050500","2023-09-25T09:20:26",2,1,1,1,null,1]
[8,"5",2023,"105313",{"$f":"IFERROR(VLOOKUP(Tabla_SERIED_11_6[[#This Row],[IdEstablecimiento]],'[2]Establecimiento 2023'!$A$1:$E$183,3,FALSE),0)","v":"105313-Centro de Salud Familiar Dr. Emilio Schaffhauser"},{"$f":"IFERROR(VLOOKUP(Tabla_SERIED_11_6[[#This Row],[IdEstablecimiento]],'[2]Establecimiento 2023'!$A$1:$E$183,5,FALSE),0)","v":"04101-La Serena"},"15901200","2023-09-25T09:20:26",8.8,null,4.4,4.4]
[8,"5",2023,"105313",{"$f":"IFERROR(VLOOKUP(Tabla_SERIED_11_6[[#This Row],[IdEstablecimiento]],'[2]Establecimiento 2023'!$A$1:$E$183,3,FALSE),0)","v":"105313-Centro de Salud Familiar Dr. Emilio Schaffhauser"},{"$f":"IFERROR(VLOOKUP(Tabla_SERIED_11_6[[#This Row],[IdEstablecimiento]],'[2]Establecimiento 2023'!$A$1:$E$183,5,FALSE),0)","v":"04101-La Serena"},"16200220","2023-09-25T09:20:26",108,34,74]
[8,"5",2023,"105314",{"$f":"IFERROR(VLOOKUP(Tabla_SERIED_11_6[[#This Row],[IdEstablecimiento]],'[2]Establecimiento 2023'!$A$1:$E$183,3,FALSE),0)","v":"105314-Centro de Salud Familiar La Higuera"},{"$f":"IFERROR(VLOOKUP(Tabla_SERIED_11_6[[#This Row],[IdEstablecimiento]],'[2]Establecimiento 2023'!$A$1:$E$183,5,FALSE),0)","v":"04104-La Higuera"},"16200210","2023-10-17T10:17:15",11,11]
[8,"5",2023,"105314",{"$f":"IFERROR(VLOOKUP(Tabla_SERIED_11_6[[#This Row],[IdEstablecimiento]],'[2]Establecimiento 2023'!$A$1:$E$183,3,FALSE),0)","v":"105314-Centro de Salud Familiar La Higuera"},{"$f":"IFERROR(VLOOKUP(Tabla_SERIED_11_6[[#This Row],[IdEstablecimiento]],'[2]Establecimiento 2023'!$A$1:$E$183,5,FALSE),0)","v":"04104-La Higuera"},"16200220","2023-10-17T10:17:15",11,4,7]
[8,"5",2023,"105315",{"$f":"IFERROR(VLOOKUP(Tabla_SERIED_11_6[[#This Row],[IdEstablecimiento]],'[2]Establecimiento 2023'!$A$1:$E$183,3,FALSE),0)","v":"105315-Centro de Salud Familiar Cerrillos de Tamaya"},{"$f":"IFERROR(VLOOKUP(Tabla_SERIED_11_6[[#This Row],[IdEstablecimiento]],'[2]Establecimiento 2023'!$A$1:$E$183,5,FALSE),0)","v":"04301-Ovalle"},"15900020","2023-09-15T12:07:20",8,null,null,8]
[8,"5",2023,"105315",{"$f":"IFERROR(VLOOKUP(Tabla_SERIED_11_6[[#This Row],[IdEstablecimiento]],'[2]Establecimiento 2023'!$A$1:$E$183,3,FALSE),0)","v":"105315-Centro de Salud Familiar Cerrillos de Tamaya"},{"$f":"IFERROR(VLOOKUP(Tabla_SERIED_11_6[[#This Row],[IdEstablecimiento]],'[2]Establecimiento 2023'!$A$1:$E$183,5,FALSE),0)","v":"04301-Ovalle"},"15900040","2023-09-15T12:07:20",4.4,{"$nulls":3},4.4]
[8,"5",2023,"105317",{"$f":"IFERROR(VLOOKUP(Tabla_SERIED_11_6[[#This Row],[IdEstablecimiento]],'[2]Establecimiento 2023'!$A$1:$E$183,3,FALSE),0)","v":"105317-Centro de Salud Familiar Jorge Jordán Domic"},{"$f":"IFERROR(VLOOKUP(Tabla_SERIED_11_6[[#This Row],[IdEstablecimiento]],'[2]Establecimiento 2023'!$A$1:$E$183,5,FALSE),0)","v":"04301-Ovalle"},"15901500","2023-09-15T12:16:19",5.6,5.6]
[8,"5",2023,"105319",{"$f":"IFERROR(VLOOKUP(Tabla_SERIED_11_6[[#This Row],[IdEstablecimiento]],'[2]Establecimiento 2023'!$A$1:$E$183,3,FALSE),0)","v":"105319-Centro de Salud Familiar Cardenal Raúl Silva Henríquez de La Serena"},{"$f":"IFERROR(VLOOKUP(Tabla_SERIED_11_6[[#This Row],[IdEstablecimiento]],'[2]Establecimiento 2023'!$A$1:$E$183,5,FALSE),0)","v":"04101-La Serena"},"15080019","2023-09-15T12:17:37",8,{"$nulls":5},4,4]
[8,"5",2023,"105319",{"$f":"IFERROR(VLOOKUP(Tabla_SERIED_11_6[[#This Row],[IdEstablecimiento]],'[2]Establecimiento 2023'!$A$1:$E$183,3,FALSE),0)","v":"105319-Centro de Salud Familiar Cardenal Raúl Silva Henríquez de La Serena"},{"$f":"IFERROR(VLOOKUP(Tabla_SERIED_11_6[[#This Row],[IdEstablecimiento]],'[2]Establecimiento 2023'!$A$1:$E$183,5,FALSE),0)","v":"04101-La Serena"},"16200220","2023-09-15T12:17:37",68,29,39]
[8,"5",2023,"105321",{"$f":"IFERROR(VLOOKUP(Tabla_SERIED_11_6[[#This Row],[IdEstablecimiento]],'[2]Establecimiento 2023'!$A$1:$E$183,3,FALSE),0)","v":"105321-Centro de Salud Familiar Tongoy"},{"$f":"IFERROR(VLOOKUP(Tabla_SERIED_11_6[[#This Row],[IdEstablecimiento]],'[2]Establecimiento 2023'!$A$1:$E$183,5,FALSE),0)","v":"04102-Coquimbo"},"15030100","2023-09-15T12:17:40",2.8,2,0,0.8]
[8,"5",2023,"105322",{"$f":"IFERROR(VLOOKUP(Tabla_SERIED_11_6[[#This Row],[IdEstablecimiento]],'[2]Establecimiento 2023'!$A$1:$E$183,3,FALSE),0)","v":"105322-Centro de Salud Familiar Marcos Macuada"},{"$f":"IFERROR(VLOOKUP(Tabla_SERIED_11_6[[#This Row],[IdEstablecimiento]],'[2]Establecimiento 2023'!$A$1:$E$183,5,FALSE),0)","v":"04301-Ovalle"},"15050200","2023-09-15T12:19:18",7,3,4,0,0,1,1,null,1,2,null,2,0,0,0]
[8,"5",2023,"105322",{"$f":"IFERROR(VLOOKUP(Tabla_SERIED_11_6[[#This Row],[IdEstablecimiento]],'[2]Establecimiento 2023'!$A$1:$E$183,3,FALSE),0)","v":"105322-Centro de Salud Familiar Marcos Macuada"},{"$f":"IFERROR(VLOOKUP(Tabla_SERIED_11_6[[#This Row],[IdEstablecimiento]],'[2]Establecimiento 2023'!$A$1:$E$183,5,FALSE),0)","v":"04301-Ovalle"},"16090500","2023-09-15T12:19:18",2,2]
[8,"5",2023,"105323",{"$f":"IFERROR(VLOOKUP(Tabla_SERIED_11_6[[#This Row],[IdEstablecimiento]],'[2]Establecimiento 2023'!$A$1:$E$183,3,FALSE),0)","v":"105323-Centro de Salud Familiar Dr. Sergio Aguilar Delgado"},{"$f":"IFERROR(VLOOKUP(Tabla_SERIED_11_6[[#This Row],[IdEstablecimiento]],'[2]Establecimiento 2023'!$A$1:$E$183,5,FALSE),0)","v":"04102-Coquimbo"},"15010500","2023-09-15T12:19:22",43,null,1,10,10,4,14,4]
[8,"5",2023,"105323",{"$f":"IFERROR(VLOOKUP(Tabla_SERIED_11_6[[#This Row],[IdEstablecimiento]],'[2]Establecimiento 2023'!$A$1:$E$183,3,FALSE),0)","v":"105323-Centro de Salud Familiar Dr. Sergio Aguilar Delgado"},{"$f":"IFERROR(VLOOKUP(Tabla_SERIED_11_6[[#This Row],[IdEstablecimiento]],'[2]Establecimiento 2023'!$A$1:$E$183,5,FALSE),0)","v":"04102-Coquimbo"},"15050100","2023-09-15T12:19:22",643,233,410,7,16,69,83,71,121,97,88,null,25,19,47]
[8,"5",2023,"105326",{"$f":"IFERROR(VLOOKUP(Tabla_SERIED_11_6[[#This Row],[IdEstablecimiento]],'[2]Establecimiento 2023'!$A$1:$E$183,3,FALSE),0)","v":"105326-Centro de Salud Familiar Villa San Rafael de Rozas"},{"$f":"IFERROR(VLOOKUP(Tabla_SERIED_11_6[[#This Row],[IdEstablecimiento]],'[2]Establecimiento 2023'!$A$1:$E$183,5,FALSE),0)","v":"04201-Illapel"},"15050100","2023-09-15T12:21:59",206,86,120,null,5,11,30,30,48,48,19,null,6,1,8]
[8,"5",2023,"105326",{"$f":"IFERROR(VLOOKUP(Tabla_SERIED_11_6[[#This Row],[IdEstablecimiento]],'[2]Establecimiento 2023'!$A$1:$E$183,3,FALSE),0)","v":"105326-Centro de Salud Familiar Villa San Rafael de Rozas"},{"$f":"IFERROR(VLOOKUP(Tabla_SERIED_11_6[[#This Row],[IdEstablecimiento]],'[2]Establecimiento 2023'!$A$1:$E$183,5,FALSE),0)","v":"04201-Illapel"},"15080014","2023-09-15T12:21:59",122,{"$nulls":3},60,60,null,null,2]
[8,"5",2023,"105326",{"$f":"IFERROR(VLOOKUP(Tabla_SERIED_11_6[[#This Row],[IdEstablecimiento]],'[2]Establecimiento 2023'!$A$1:$E$183,3,FALSE),0)","v":"105326-Centro de Salud Familiar Villa San Rafael de Rozas"},{"$f":"IFERROR(VLOOKUP(Tabla_SERIED_11_6[[#This Row],[IdEstablecimiento]],'[2]Establecimiento 2023'!$A$1:$E$183,5,FALSE),0)","v":"04201-Illapel"},"16090500","2023-09-15T12:21:59",5,5]
[8,"5",2023,"105401",{"$f":"IFERROR(VLOOKUP(Tabla_SERIED_11_6[[#This Row],[IdEstablecimiento]],'[2]Establecimiento 2023'!$A$1:$E$183,3,FALSE),0)","v":"105401-Posta de Salud Rural Las Rojas"},{"$f":"IFERROR(VLOOKUP(Tabla_SERIED_11_6[[#This Row],[IdEstablecimiento]],'[2]Establecimiento 2023'!$A$1:$E$183,5,FALSE),0)","v":"04101-La Serena"},"15050500","2023-09-15T12:23:17",1,null,1,null,null,1]
[8,"5",2023,"105405",{"$f":"IFERROR(VLOOKUP(Tabla_SERIED_11_6[[#This Row],[IdEstablecimiento]],'[2]Establecimiento 2023'!$A$1:$E$183,3,FALSE),0)","v":"105405-Posta de Salud Rural Guanaqueros"},{"$f":"IFERROR(VLOOKUP(Tabla_SERIED_11_6[[#This Row],[IdEstablecimiento]],'[2]Establecimiento 2023'!$A$1:$E$183,5,FALSE),0)","v":"04102-Coquimbo"},"15010500","2023-09-15T12:24:58",2,{"$nulls":3},0,0,0,2]
[8,"5",2023,"105405",{"$f":"IFERROR(VLOOKUP(Tabla_SERIED_11_6[[#This Row],[IdEstablecimiento]],'[2]Establecimiento 2023'!$A$1:$E$183,3,FALSE),0)","v":"105405-Posta de Salud Rural Guanaqueros"},{"$f":"IFERROR(VLOOKUP(Tabla_SERIED_11_6[[#This Row],[IdEstablecimiento]],'[2]Establecimiento 2023'!$A$1:$E$183,5,FALSE),0)","v":"04102-Coquimbo"},"15050100","2023-09-15T12:24:58",77,31,46,2,2,5,14,11,19,13,8,null,3,null,0]
[8,"5",2023,"105405",{"$f":"IFERROR(VLOOKUP(Tabla_SERIED_11_6[[#This Row],[IdEstablecimiento]],'[2]Establecimiento 2023'!$A$1:$E$183,3,FALSE),0)","v":"105405-Posta de Salud Rural Guanaqueros"},{"$f":"IFERROR(VLOOKUP(Tabla_SERIED_11_6[[#This Row],[IdEstablecimiento]],'[2]Establecimiento 2023'!$A$1:$E$183,5,FALSE),0)","v":"04102-Coquimbo"},"16090300","2023-09-15T12:24:58",76,76]
[8,"5",2023,"105407",{"$f":"IFERROR(VLOOKUP(Tabla_SERIED_11_6[[#This Row],[IdEstablecimiento]],'[2]Establecimiento 2023'!$A$1:$E$183,3,FALSE),0)","v":"105407-Posta de Salud Rural Tambillo"},{"$f":"IFERROR(VLOOKUP(Tabla_SERIED_11_6[[#This Row],[IdEstablecimiento]],'[2]Establecimiento 2023'!$A$1:$E$183,5,FALSE),0)","v":"04102-Coquimbo"},"16200210","2023-09-15T12:25:00",4,4]
[8,"5",2023,"105409",{"$f":"IFERROR(VLOOKUP(Tabla_SERIED_11_6[[#This Row],[IdEstablecimiento]],'[2]Establecimiento 2023'!$A$1:$E$183,3,FALSE),0)","v":"105409-Posta de Salud Rural El Chañar"},{"$f":"IFERROR(VLOOKUP(Tabla_SERIED_11_6[[#This Row],[IdEstablecimiento]],'[2]Establecimiento 2023'!$A$1:$E$183,5,FALSE),0)","v":"04305-Rio Hurtado"},"15080014","2023-09-15T15:32:49",2,{"$nulls":3},2]
[8,"5",2023,"105413",{"$f":"IFERROR(VLOOKUP(Tabla_SERIED_11_6[[#This Row],[IdEstablecimiento]],'[2]Establecimiento 2023'!$A$1:$E$183,3,FALSE),0)","v":"105413-Posta de Salud Rural Samo Alto"},{"$f":"IFERROR(VLOOKUP(Tabla_SERIED_11_6[[#This Row],[IdEstablecimiento]],'[2]Establecimiento 2023'!$A$1:$E$183,5,FALSE),0)","v":"04305-Rio Hurtado"},"15050100","2023-09-15T15:33:51",13,9,4,{"$nulls":5},7,5,1]
[8,"5",2023,"105414",{"$f":"IFERROR(VLOOKUP(Tabla_SERIED_11_6[[#This Row],[IdEstablecimiento]],'[2]Establecimiento 2023'!$A$1:$E$183,3,FALSE),0)","v":"105414-Posta de Salud Rural Serón"},{"$f":"IFERROR(VLOOKUP(Tabla_SERIED_11_6[[#This Row],[IdEstablecimiento]],'[2]Establecimiento 2023'!$A$1:$E$183,5,FALSE),0)","v":"04305-Rio Hurtado"},"15050100","2023-09-15T15:34:57",13,7,6,{"$nulls":3},1,null,4,6,1,null,null,1]
[8,"5",2023,"105414",{"$f":"IFERROR(VLOOKUP(Tabla_SERIED_11_6[[#This Row],[IdEstablecimiento]],'[2]Establecimiento 2023'!$A$1:$E$183,3,FALSE),0)","v":"105414-Posta de Salud Rural Serón"},{"$f":"IFERROR(VLOOKUP(Tabla_SERIED_11_6[[#This Row],[IdEstablecimiento]],'[2]Establecimiento 2023'!$A$1:$E$183,5,FALSE),0)","v":"04305-Rio Hurtado"},"15901500","2023-09-15T15:34:57",4.8,null,null,4.8]
[8,"5",2023,"105414",{"$f":"IFERROR(VLOOKUP(Tabla_SERIED_11_6[[#This Row],[IdEstablecimiento]],'[2]Establecimiento 2023'!$A$1:$E$183,3,FALSE),0)","v":"105414-Posta de Salud Rural Serón"},{"$f":"IFERROR(VLOOKUP(Tabla_SERIED_11_6[[#This Row],[IdEstablecimiento]],'[2]Establecimiento 2023'!$A$1:$E$183,5,FALSE),0)","v":"04305-Rio Hurtado"},"16090300","2023-09-15T15:34:57",30,30]
[8,"5",2023,"105415",{"$f":"IFERROR(VLOOKUP(Tabla_SERIED_11_6[[#This Row],[IdEstablecimiento]],'[2]Establecimiento 2023'!$A$1:$E$183,3,FALSE),0)","v":"105415-Posta de Salud Rural Barraza"},{"$f":"IFERROR(VLOOKUP(Tabla_SERIED_11_6[[#This Row],[IdEstablecimiento]],'[2]Establecimiento 2023'!$A$1:$E$183,5,FALSE),0)","v":"04301-Ovalle"},"15050100","2023-09-15T15:38:53",22,9,13,{"$nulls":3},7,4,6,null,3,null,2]
[8,"5",2023,"105419",{"$f":"IFERROR(VLOOKUP(Tabla_SERIED_11_6[[#This Row],[IdEstablecimiento]],'[2]Establecimiento 2023'!$A$1:$E$183,3,FALSE),0)","v":"105419-Posta de Salud Rural Las Sossas"},{"$f":"IFERROR(VLOOKUP(Tabla_SERIED_11_6[[#This Row],[IdEstablecimiento]],'[2]Establecimiento 2023'!$A$1:$E$183,5,FALSE),0)","v":"04301-Ovalle"},"15080008","2023-09-15T15:41:27",2,{"$nulls":9},2]
[8,"5",2023,"105425",{"$f":"IFERROR(VLOOKUP(Tabla_SERIED_11_6[[#This Row],[IdEstablecimiento]],'[2]Establecimiento 2023'!$A$1:$E$183,3,FALSE),0)","v":"105425-Posta de Salud Rural Chilecito"},{"$f":"IFERROR(VLOOKUP(Tabla_SERIED_11_6[[#This Row],[IdEstablecimiento]],'[2]Establecimiento 2023'!$A$1:$E$183,5,FALSE),0)","v":"04303-Monte Patria"},"16200210","2023-09-25T14:04:24",4,4]
[8,"5",2023,"105430",{"$f":"IFERROR(VLOOKUP(Tabla_SERIED_11_6[[#This Row],[IdEstablecimiento]],'[2]Establecimiento 2023'!$A$1:$E$183,3,FALSE),0)","v":"105430-Posta de Salud Rural Mialqui"},{"$f":"IFERROR(VLOOKUP(Tabla_SERIED_11_6[[#This Row],[IdEstablecimiento]],'[2]Establecimiento 2023'!$A$1:$E$183,5,FALSE),0)","v":"04303-Monte Patria"},"15050100","2023-09-15T16:30:20",13,3,10,null,null,2,null,5,3,1,1,{"$nulls":3},1]
[8,"5",2023,"105432",{"$f":"IFERROR(VLOOKUP(Tabla_SERIED_11_6[[#This Row],[IdEstablecimiento]],'[2]Establecimiento 2023'!$A$1:$E$183,3,FALSE),0)","v":"105432-Posta de Salud Rural Rapel (Monte Patria)"},{"$f":"IFERROR(VLOOKUP(Tabla_SERIED_11_6[[#This Row],[IdEstablecimiento]],'[2]Establecimiento 2023'!$A$1:$E$183,5,FALSE),0)","v":"04303-Monte Patria"},"15080014","2023-09-25T14:04:27",10,{"$nulls":3},10]
[8,"5",2023,"105434",{"$f":"IFERROR(VLOOKUP(Tabla_SERIED_11_6[[#This Row],[IdEstablecimiento]],'[2]Establecimiento 2023'!$A$1:$E$183,3,FALSE),0)","v":"105434-Posta de Salud Rural San Marcos (Combarbalá)"},{"$f":"IFERROR(VLOOKUP(Tabla_SERIED_11_6[[#This Row],[IdEstablecimiento]],'[2]Establecimiento 2023'!$A$1:$E$183,5,FALSE),0)","v":"04302-Combarbalá"},"16200210","2023-09-25T09:39:34",6,6]
[8,"5",2023,"105435",{"$f":"IFERROR(VLOOKUP(Tabla_SERIED_11_6[[#This Row],[IdEstablecimiento]],'[2]Establecimiento 2023'!$A$1:$E$183,3,FALSE),0)","v":"105435-Posta de Salud Rural Tulahuén"},{"$f":"IFERROR(VLOOKUP(Tabla_SERIED_11_6[[#This Row],[IdEstablecimiento]],'[2]Establecimiento 2023'!$A$1:$E$183,5,FALSE),0)","v":"04303-Monte Patria"},"16200220","2023-09-25T09:40:41",7,7]
[8,"5",2023,"105436",{"$f":"IFERROR(VLOOKUP(Tabla_SERIED_11_6[[#This Row],[IdEstablecimiento]],'[2]Establecimiento 2023'!$A$1:$E$183,3,FALSE),0)","v":"105436-Posta de Salud Rural El Maitén"},{"$f":"IFERROR(VLOOKUP(Tabla_SERIED_11_6[[#This Row],[IdEstablecimiento]],'[2]Establecimiento 2023'!$A$1:$E$183,5,FALSE),0)","v":"04303-Monte Patria"},"16090300","2023-09-25T09:40:44",52,52]
[8,"5",2023,"105437",{"$f":"IFERROR(VLOOKUP(Tabla_SERIED_11_6[[#This Row],[IdEstablecimiento]],'[2]Establecimiento 2023'!$A$1:$E$183,3,FALSE),0)","v":"105437-Posta de Salud Rural Chalinga"},{"$f":"IFERROR(VLOOKUP(Tabla_SERIED_11_6[[#This Row],[IdEstablecimiento]],'[2]Establecimiento 2023'!$A$1:$E$183,5,FALSE),0)","v":"04301-Ovalle"},"15010400","2023-09-25T09:41:41",2,{"$nulls":6},2]
[8,"5",2023,"105439",{"$f":"IFERROR(VLOOKUP(Tabla_SERIED_11_6[[#This Row],[IdEstablecimiento]],'[2]Establecimiento 2023'!$A$1:$E$183,3,FALSE),0)","v":"105439-Posta de Salud Rural Cerro Blanco"},{"$f":"IFERROR(VLOOKUP(Tabla_SERIED_11_6[[#This Row],[IdEstablecimiento]],'[2]Establecimiento 2023'!$A$1:$E$183,5,FALSE),0)","v":"04301-Ovalle"},"15050100","2023-09-25T09:41:48",2,1,1,{"$nulls":3},1,{"$nulls":7},1]
[8,"5",2023,"105442",{"$f":"IFERROR(VLOOKUP(Tabla_SERIED_11_6[[#This Row],[IdEstablecimiento]],'[2]Establecimiento 2023'!$A$1:$E$183,3,FALSE),0)","v":"105442-Posta de Salud Rural San Pedro de Quiles"},{"$f":"IFERROR(VLOOKUP(Tabla_SERIED_11_6[[#This Row],[IdEstablecimiento]],'[2]Establecimiento 2023'!$A$1:$E$183,5,FALSE),0)","v":"04304-Punitaqui"},"15050100","2023-09-25T09:44:06",6,null,5,{"$nulls":5},1,5]
[8,"5",2023,"105442",{"$f":"IFERROR(VLOOKUP(Tabla_SERIED_11_6[[#This Row],[IdEstablecimiento]],'[2]Establecimiento 2023'!$A$1:$E$183,3,FALSE),0)","v":"105442-Posta de Salud Rural San Pedro de Quiles"},{"$f":"IFERROR(VLOOKUP(Tabla_SERIED_11_6[[#This Row],[IdEstablecimiento]],'[2]Establecimiento 2023'!$A$1:$E$183,5,FALSE),0)","v":"04304-Punitaqui"},"16090300","2023-09-25T09:44:06",29,29]
[8,"5",2023,"105443",{"$f":"IFERROR(VLOOKUP(Tabla_SERIED_11_6[[#This Row],[IdEstablecimiento]],'[2]Establecimiento 2023'!$A$1:$E$183,3,FALSE),0)","v":"105443-Posta de Salud Rural Cárcamo"},{"$f":"IFERROR(VLOOKUP(Tabla_SERIED_11_6[[#This Row],[IdEstablecimiento]],'[2]Establecimiento 2023'!$A$1:$E$183,5,FALSE),0)","v":"04201-Illapel"},"16200210","2023-09-25T09:44:09",6,6]
[8,"5",2023,"105444",{"$f":"IFERROR(VLOOKUP(Tabla_SERIED_11_6[[#This Row],[IdEstablecimiento]],'[2]Establecimiento 2023'!$A$1:$E$183,3,FALSE),0)","v":"105444-Posta de Salud Rural Huintil"},{"$f":"IFERROR(VLOOKUP(Tabla_SERIED_11_6[[#This Row],[IdEstablecimiento]],'[2]Establecimiento 2023'!$A$1:$E$183,5,FALSE),0)","v":"04201-Illapel"},"15050200","2023-09-25T09:45:17",1,1,{"$nulls":3},1]
[8,"5",2023,"105445",{"$f":"IFERROR(VLOOKUP(Tabla_SERIED_11_6[[#This Row],[IdEstablecimiento]],'[2]Establecimiento 2023'!$A$1:$E$183,3,FALSE),0)","v":"105445-Posta de Salud Rural Limáhuida"},{"$f":"IFERROR(VLOOKUP(Tabla_SERIED_11_6[[#This Row],[IdEstablecimiento]],'[2]Establecimiento 2023'!$A$1:$E$183,5,FALSE),0)","v":"04201-Illapel"},"15050100","2023-09-25T09:45:56",17,8,9,{"$nulls":5},7,7,1,null,1,0,1]
[8,"5",2023,"105445",{"$f":"IFERROR(VLOOKUP(Tabla_SERIED_11_6[[#This Row],[IdEstablecimiento]],'[2]Establecimiento 2023'!$A$1:$E$183,3,FALSE),0)","v":"105445-Posta de Salud Rural Limáhuida"},{"$f":"IFERROR(VLOOKUP(Tabla_SERIED_11_6[[#This Row],[IdEstablecimiento]],'[2]Establecimiento 2023'!$A$1:$E$183,5,FALSE),0)","v":"04201-Illapel"},"16100300","2023-09-25T09:45:56",42,16,26]
[8,"5",2023,"105445",{"$f":"IFERROR(VLOOKUP(Tabla_SERIED_11_6[[#This Row],[IdEstablecimiento]],'[2]Establecimiento 2023'!$A$1:$E$183,3,FALSE),0)","v":"105445-Posta de Salud Rural Limáhuida"},{"$f":"IFERROR(VLOOKUP(Tabla_SERIED_11_6[[#This Row],[IdEstablecimiento]],'[2]Establecimiento 2023'!$A$1:$E$183,5,FALSE),0)","v":"04201-Illapel"},"16200210","2023-09-25T09:45:56",3,3]
[8,"5",2023,"105446",{"$f":"IFERROR(VLOOKUP(Tabla_SERIED_11_6[[#This Row],[IdEstablecimiento]],'[2]Establecimiento 2023'!$A$1:$E$183,3,FALSE),0)","v":"105446-Posta de Salud Rural Matancilla"},{"$f":"IFERROR(VLOOKUP(Tabla_SERIED_11_6[[#This Row],[IdEstablecimiento]],'[2]Establecimiento 2023'!$A$1:$E$183,5,FALSE),0)","v":"04201-Illapel"},"16200220","2023-09-25T09:47:10",3,3,0]
[8,"5",2023,"105448",{"$f":"IFERROR(VLOOKUP(Tabla_SERIED_11_6[[#This Row],[IdEstablecimiento]],'[2]Establecimiento 2023'!$A$1:$E$183,3,FALSE),0)","v":"105448-Posta de Salud Rural Santa Virginia"},{"$f":"IFERROR(VLOOKUP(Tabla_SERIED_11_6[[#This Row],[IdEstablecimiento]],'[2]Establecimiento 2023'!$A$1:$E$183,5,FALSE),0)","v":"04201-Illapel"},"16200210","2023-09-25T09:48:26",12,12]
[8,"5",2023,"105449",{"$f":"IFERROR(VLOOKUP(Tabla_SERIED_11_6[[#This Row],[IdEstablecimiento]],'[2]Establecimiento 2023'!$A$1:$E$183,3,FALSE),0)","v":"105449-Posta de Salud Rural Tunga Norte"},{"$f":"IFERROR(VLOOKUP(Tabla_SERIED_11_6[[#This Row],[IdEstablecimiento]],'[2]Establecimiento 2023'!$A$1:$E$183,5,FALSE),0)","v":"04201-Illapel"},"16100300","2023-09-25T09:48:28",28,13,15]
[8,"5",2023,"105452",{"$f":"IFERROR(VLOOKUP(Tabla_SERIED_11_6[[#This Row],[IdEstablecimiento]],'[2]Establecimiento 2023'!$A$1:$E$183,3,FALSE),0)","v":"105452-Posta de Salud Rural Cuncumén(Salamanca)"},{"$f":"IFERROR(VLOOKUP(Tabla_SERIED_11_6[[#This Row],[IdEstablecimiento]],'[2]Establecimiento 2023'!$A$1:$E$183,5,FALSE),0)","v":"04204-Salamanca"},"16200210","2023-09-25T09:50:52",3,3]
[8,"5",2023,"105456",{"$f":"IFERROR(VLOOKUP(Tabla_SERIED_11_6[[#This Row],[IdEstablecimiento]],'[2]Establecimiento 2023'!$A$1:$E$183,3,FALSE),0)","v":"105456-Posta de Salud Rural Llimpo"},{"$f":"IFERROR(VLOOKUP(Tabla_SERIED_11_6[[#This Row],[IdEstablecimiento]],'[2]Establecimiento 2023'!$A$1:$E$183,5,FALSE),0)","v":"04204-Salamanca"},"15050100","2023-09-25T09:53:44",22,12,10,null,2,1,null,1,3,8,2,null,1,1,3]
[8,"5",2023,"105456",{"$f":"IFERROR(VLOOKUP(Tabla_SERIED_11_6[[#This Row],[IdEstablecimiento]],'[2]Establecimiento 2023'!$A$1:$E$183,3,FALSE),0)","v":"105456-Posta de Salud Rural Llimpo"},{"$f":"IFERROR(VLOOKUP(Tabla_SERIED_11_6[[#This Row],[IdEstablecimiento]],'[2]Establecimiento 2023'!$A$1:$E$183,5,FALSE),0)","v":"04204-Salamanca"},"16200210","2023-09-25T09:53:44",2,2]
[8,"5",2023,"105457",{"$f":"IFERROR(VLOOKUP(Tabla_SERIED_11_6[[#This Row],[IdEstablecimiento]],'[2]Establecimiento 2023'!$A$1:$E$183,3,FALSE),0)","v":"105457-Posta de Salud Rural San Agustín (Salamanca)"},{"$f":"IFERROR(VLOOKUP(Tabla_SERIED_11_6[[#This Row],[IdEstablecimiento]],'[2]Establecimiento 2023'!$A$1:$E$183,5,FALSE),0)","v":"04204-Salamanca"},"15080008","2023-09-25T09:53:56",1,{"$nulls":7},1]
[8,"5",2023,"105458",{"$f":"IFERROR(VLOOKUP(Tabla_SERIED_11_6[[#This Row],[IdEstablecimiento]],'[2]Establecimiento 2023'!$A$1:$E$183,3,FALSE),0)","v":"105458-Posta de Salud Rural Tahuinco"},{"$f":"IFERROR(VLOOKUP(Tabla_SERIED_11_6[[#This Row],[IdEstablecimiento]],'[2]Establecimiento 2023'!$A$1:$E$183,5,FALSE),0)","v":"04204-Salamanca"},"15080014","2023-09-25T09:55:16",32,{"$nulls":3},18,14]
[8,"5",2023,"105458",{"$f":"IFERROR(VLOOKUP(Tabla_SERIED_11_6[[#This Row],[IdEstablecimiento]],'[2]Establecimiento 2023'!$A$1:$E$183,3,FALSE),0)","v":"105458-Posta de Salud Rural Tahuinco"},{"$f":"IFERROR(VLOOKUP(Tabla_SERIED_11_6[[#This Row],[IdEstablecimiento]],'[2]Establecimiento 2023'!$A$1:$E$183,5,FALSE),0)","v":"04204-Salamanca"},"16100300","2023-09-25T09:55:16",173,78,95]
[8,"5",2023,"105460",{"$f":"IFERROR(VLOOKUP(Tabla_SERIED_11_6[[#This Row],[IdEstablecimiento]],'[2]Establecimiento 2023'!$A$1:$E$183,3,FALSE),0)","v":"105460-Centro Comunitario de Salud Familiar Cogotí 18"},{"$f":"IFERROR(VLOOKUP(Tabla_SERIED_11_6[[#This Row],[IdEstablecimiento]],'[2]Establecimiento 2023'!$A$1:$E$183,5,FALSE),0)","v":"04302-Combarbalá"},"15050500","2023-09-25T09:58:22",1,1,null,null,1]
[8,"5",2023,"105460",{"$f":"IFERROR(VLOOKUP(Tabla_SERIED_11_6[[#This Row],[IdEstablecimiento]],'[2]Establecimiento 2023'!$A$1:$E$183,3,FALSE),0)","v":"105460-Centro Comunitario de Salud Familiar Cogotí 18"},{"$f":"IFERROR(VLOOKUP(Tabla_SERIED_11_6[[#This Row],[IdEstablecimiento]],'[2]Establecimiento 2023'!$A$1:$E$183,5,FALSE),0)","v":"04302-Combarbalá"},"16090500","2023-09-25T09:58:22",2,2]
[8,"5",2023,"105460",{"$f":"IFERROR(VLOOKUP(Tabla_SERIED_11_6[[#This Row],[IdEstablecimiento]],'[2]Establecimiento 2023'!$A$1:$E$183,3,FALSE),0)","v":"105460-Centro Comunitario de Salud Familiar Cogotí 18"},{"$f":"IFERROR(VLOOKUP(Tabla_SERIED_11_6[[#This Row],[IdEstablecimiento]],'[2]Establecimiento 2023'!$A$1:$E$183,5,FALSE),0)","v":"04302-Combarbalá"},"16100600","2023-09-25T09:58:22",2,1,1]
[8,"5",2023,"105461",{"$f":"IFERROR(VLOOKUP(Tabla_SERIED_11_6[[#This Row],[IdEstablecimiento]],'[2]Establecimiento 2023'!$A$1:$E$183,3,FALSE),0)","v":"105461-Posta de Salud Rural El Huacho"},{"$f":"IFERROR(VLOOKUP(Tabla_SERIED_11_6[[#This Row],[IdEstablecimiento]],'[2]Establecimiento 2023'!$A$1:$E$183,5,FALSE),0)","v":"04302-Combarbalá"},"16100300","2023-09-25T09:58:19",42,15,27]
[8,"5",2023,"105462",{"$f":"IFERROR(VLOOKUP(Tabla_SERIED_11_6[[#This Row],[IdEstablecimiento]],'[2]Establecimiento 2023'!$A$1:$E$183,3,FALSE),0)","v":"105462-Posta de Salud Rural El Sauce (Combarbalá)"},{"$f":"IFERROR(VLOOKUP(Tabla_SERIED_11_6[[#This Row],[IdEstablecimiento]],'[2]Establecimiento 2023'!$A$1:$E$183,5,FALSE),0)","v":"04302-Combarbalá"},"15080014","2023-09-25T09:59:43",6,{"$nulls":3},6]
[8,"5",2023,"105462",{"$f":"IFERROR(VLOOKUP(Tabla_SERIED_11_6[[#This Row],[IdEstablecimiento]],'[2]Establecimiento 2023'!$A$1:$E$183,3,FALSE),0)","v":"105462-Posta de Salud Rural El Sauce (Combarbalá)"},{"$f":"IFERROR(VLOOKUP(Tabla_SERIED_11_6[[#This Row],[IdEstablecimiento]],'[2]Establecimiento 2023'!$A$1:$E$183,5,FALSE),0)","v":"04302-Combarbalá"},"16090300","2023-09-25T09:59:43",68,68]
[8,"5",2023,"105463",{"$f":"IFERROR(VLOOKUP(Tabla_SERIED_11_6[[#This Row],[IdEstablecimiento]],'[2]Establecimiento 2023'!$A$1:$E$183,3,FALSE),0)","v":"105463-Posta de Salud Rural Quilitapia"},{"$f":"IFERROR(VLOOKUP(Tabla_SERIED_11_6[[#This Row],[IdEstablecimiento]],'[2]Establecimiento 2023'!$A$1:$E$183,5,FALSE),0)","v":"04302-Combarbalá"},"15080014","2023-09-25T09:59:53",6,{"$nulls":3},6]
[8,"5",2023,"105463",{"$f":"IFERROR(VLOOKUP(Tabla_SERIED_11_6[[#This Row],[IdEstablecimiento]],'[2]Establecimiento 2023'!$A$1:$E$183,3,FALSE),0)","v":"105463-Posta de Salud Rural Quilitapia"},{"$f":"IFERROR(VLOOKUP(Tabla_SERIED_11_6[[#This Row],[IdEstablecimiento]],'[2]Establecimiento 2023'!$A$1:$E$183,5,FALSE),0)","v":"04302-Combarbalá"},"15080015","2023-09-25T09:59:53",8,{"$nulls":5},8]
[8,"5",2023,"105465",{"$f":"IFERROR(VLOOKUP(Tabla_SERIED_11_6[[#This Row],[IdEstablecimiento]],'[2]Establecimiento 2023'!$A$1:$E$183,3,FALSE),0)","v":"105465-Posta de Salud Rural Ramadilla"},{"$f":"IFERROR(VLOOKUP(Tabla_SERIED_11_6[[#This Row],[IdEstablecimiento]],'[2]Establecimiento 2023'!$A$1:$E$183,5,FALSE),0)","v":"04302-Combarbalá"},"16200210","2023-09-25T10:01:06",10,10]
[8,"5",2023,"105467",{"$f":"IFERROR(VLOOKUP(Tabla_SERIED_11_6[[#This Row],[IdEstablecimiento]],'[2]Establecimiento 2023'!$A$1:$E$183,3,FALSE),0)","v":"105467-Posta de Salud Rural Diaguitas"},{"$f":"IFERROR(VLOOKUP(Tabla_SERIED_11_6[[#This Row],[IdEstablecimiento]],'[2]Establecimiento 2023'!$A$1:$E$183,5,FALSE),0)","v":"04106-Vicuña"},"15080014","2023-09-25T10:04:25",8,{"$nulls":3},4,4]
[8,"5",2023,"105468",{"$f":"IFERROR(VLOOKUP(Tabla_SERIED_11_6[[#This Row],[IdEstablecimiento]],'[2]Establecimiento 2023'!$A$1:$E$183,3,FALSE),0)","v":"105468-Posta de Salud Rural El Molle"},{"$f":"IFERROR(VLOOKUP(Tabla_SERIED_11_6[[#This Row],[IdEstablecimiento]],'[2]Establecimiento 2023'!$A$1:$E$183,5,FALSE),0)","v":"04106-Vicuña"},"15080014","2023-09-25T10:05:35",4,{"$nulls":3},4]
[8,"5",2023,"105471",{"$f":"IFERROR(VLOOKUP(Tabla_SERIED_11_6[[#This Row],[IdEstablecimiento]],'[2]Establecimiento 2023'!$A$1:$E$183,3,FALSE),0)","v":"105471-Posta de Salud Rural Peralillo Vicuña"},{"$f":"IFERROR(VLOOKUP(Tabla_SERIED_11_6[[#This Row],[IdEstablecimiento]],'[2]Establecimiento 2023'!$A$1:$E$183,5,FALSE),0)","v":"04106-Vicuña"},"15900010","2023-09-25T10:07:13",15.2,2.4,null,12.8]
[8,"5",2023,"105472",{"$f":"IFERROR(VLOOKUP(Tabla_SERIED_11_6[[#This Row],[IdEstablecimiento]],'[2]Establecimiento 2023'!$A$1:$E$183,3,FALSE),0)","v":"105472-Posta de Salud Rural Rivadavia"},{"$f":"IFERROR(VLOOKUP(Tabla_SERIED_11_6[[#This Row],[IdEstablecimiento]],'[2]Establecimiento 2023'!$A$1:$E$183,5,FALSE),0)","v":"04106-Vicuña"},"15080014","2023-09-25T10:22:56",10,{"$nulls":3},2,8]
[8,"5",2023,"105473",{"$f":"IFERROR(VLOOKUP(Tabla_SERIED_11_6[[#This Row],[IdEstablecimiento]],'[2]Establecimiento 2023'!$A$1:$E$183,3,FALSE),0)","v":"105473-Posta de Salud Rural Talcuna"},{"$f":"IFERROR(VLOOKUP(Tabla_SERIED_11_6[[#This Row],[IdEstablecimiento]],'[2]Establecimiento 2023'!$A$1:$E$183,5,FALSE),0)","v":"04106-Vicuña"},"15900010","2023-09-25T10:23:03",17.6,null,14.4,3.2]
[8,"5",2023,"105474",{"$f":"IFERROR(VLOOKUP(Tabla_SERIED_11_6[[#This Row],[IdEstablecimiento]],'[2]Establecimiento 2023'!$A$1:$E$183,3,FALSE),0)","v":"105474-Posta de Salud Rural Chapilca"},{"$f":"IFERROR(VLOOKUP(Tabla_SERIED_11_6[[#This Row],[IdEstablecimiento]],'[2]Establecimiento 2023'!$A$1:$E$183,5,FALSE),0)","v":"04106-Vicuña"},"15050100","2023-09-25T10:24:36",6,4,2,1,null,null,1,null,1,2,1]
[8,"5",2023,"105475",{"$f":"IFERROR(VLOOKUP(Tabla_SERIED_11_6[[#This Row],[IdEstablecimiento]],'[2]Establecimiento 2023'!$A$1:$E$183,3,FALSE),0)","v":"105475-Posta de Salud Rural Horcón (Paiguano)"},{"$f":"IFERROR(VLOOKUP(Tabla_SERIED_11_6[[#This Row],[IdEstablecimiento]],'[2]Establecimiento 2023'!$A$1:$E$183,5,FALSE),0)","v":"04105-Paihuano"},"15010500","2023-09-25T10:24:17",2,{"$nulls":3},2]
[8,"5",2023,"105476",{"$f":"IFERROR(VLOOKUP(Tabla_SERIED_11_6[[#This Row],[IdEstablecimiento]],'[2]Establecimiento 2023'!$A$1:$E$183,3,FALSE),0)","v":"105476-Posta de Salud Rural Monte Grande"},{"$f":"IFERROR(VLOOKUP(Tabla_SERIED_11_6[[#This Row],[IdEstablecimiento]],'[2]Establecimiento 2023'!$A$1:$E$183,5,FALSE),0)","v":"04105-Paihuano"},"16090300","2023-09-25T10:25:36",14,14]
[8,"5",2023,"105477",{"$f":"IFERROR(VLOOKUP(Tabla_SERIED_11_6[[#This Row],[IdEstablecimiento]],'[2]Establecimiento 2023'!$A$1:$E$183,3,FALSE),0)","v":"105477-Posta de Salud Rural Pisco Elqui"},{"$f":"IFERROR(VLOOKUP(Tabla_SERIED_11_6[[#This Row],[IdEstablecimiento]],'[2]Establecimiento 2023'!$A$1:$E$183,5,FALSE),0)","v":"04105-Paihuano"},"15050200","2023-09-25T10:25:45",1,null,1,{"$nulls":5},1]
[8,"5",2023,"105477",{"$f":"IFERROR(VLOOKUP(Tabla_SERIED_11_6[[#This Row],[IdEstablecimiento]],'[2]Establecimiento 2023'!$A$1:$E$183,3,FALSE),0)","v":"105477-Posta de Salud Rural Pisco Elqui"},{"$f":"IFERROR(VLOOKUP(Tabla_SERIED_11_6[[#This Row],[IdEstablecimiento]],'[2]Establecimiento 2023'!$A$1:$E$183,5,FALSE),0)","v":"04105-Paihuano"},"15900010","2023-09-25T10:25:45",4,null,null,4]
[8,"5",2023,"105478",{"$f":"IFERROR(VLOOKUP(Tabla_SERIED_11_6[[#This Row],[IdEstablecimiento]],'[2]Establecimiento 2023'!$A$1:$E$183,3,FALSE),0)","v":"105478-Posta de Salud Rural Caimanes"},{"$f":"IFERROR(VLOOKUP(Tabla_SERIED_11_6[[#This Row],[IdEstablecimiento]],'[2]Establecimiento 2023'!$A$1:$E$183,5,FALSE),0)","v":"04203-Los Vilos"},"16200220","2023-09-25T10:26:53",1,1,0]
[8,"5",2023,"105480",{"$f":"IFERROR(VLOOKUP(Tabla_SERIED_11_6[[#This Row],[IdEstablecimiento]],'[2]Establecimiento 2023'!$A$1:$E$183,3,FALSE),0)","v":"105480-Posta de Salud Rural Quilimarí"},{"$f":"IFERROR(VLOOKUP(Tabla_SERIED_11_6[[#This Row],[IdEstablecimiento]],'[2]Establecimiento 2023'!$A$1:$E$183,5,FALSE),0)","v":"04203-Los Vilos"},"15080015","2023-09-25T10:28:06",38,{"$nulls":5},18,20]
[8,"5",2023,"105484",{"$f":"IFERROR(VLOOKUP(Tabla_SERIED_11_6[[#This Row],[IdEstablecimiento]],'[2]Establecimiento 2023'!$A$1:$E$183,3,FALSE),0)","v":"105484-Posta de Salud Rural Huentelauquén"},{"$f":"IFERROR(VLOOKUP(Tabla_SERIED_11_6[[#This Row],[IdEstablecimiento]],'[2]Establecimiento 2023'!$A$1:$E$183,5,FALSE),0)","v":"04202-Canela"},"16200220","2023-09-25T10:31:28",1,1]
[8,"5",2023,"105485",{"$f":"IFERROR(VLOOKUP(Tabla_SERIED_11_6[[#This Row],[IdEstablecimiento]],'[2]Establecimiento 2023'!$A$1:$E$183,3,FALSE),0)","v":"105485-Posta de Salud Rural Plan de Hornos"},{"$f":"IFERROR(VLOOKUP(Tabla_SERIED_11_6[[#This Row],[IdEstablecimiento]],'[2]Establecimiento 2023'!$A$1:$E$183,5,FALSE),0)","v":"04201-Illapel"},"16090300","2023-09-25T10:31:30",78,78]
[8,"5",2023,"105487",{"$f":"IFERROR(VLOOKUP(Tabla_SERIED_11_6[[#This Row],[IdEstablecimiento]],'[2]Establecimiento 2023'!$A$1:$E$183,3,FALSE),0)","v":"105487-Posta de Salud Rural Cañas Uno"},{"$f":"IFERROR(VLOOKUP(Tabla_SERIED_11_6[[#This Row],[IdEstablecimiento]],'[2]Establecimiento 2023'!$A$1:$E$183,5,FALSE),0)","v":"04201-Illapel"},"16090300","2023-09-25T10:32:49",156,156]
[8,"5",2023,"105489",{"$f":"IFERROR(VLOOKUP(Tabla_SERIED_11_6[[#This Row],[IdEstablecimiento]],'[2]Establecimiento 2023'!$A$1:$E$183,3,FALSE),0)","v":"105489-Posta de Salud Rural Ramadas de Tulahuén"},{"$f":"IFERROR(VLOOKUP(Tabla_SERIED_11_6[[#This Row],[IdEstablecimiento]],'[2]Establecimiento 2023'!$A$1:$E$183,5,FALSE),0)","v":"04303-Monte Patria"},"16200210","2023-09-25T10:34:06",5,5]
[8,"5",2023,"105490",{"$f":"IFERROR(VLOOKUP(Tabla_SERIED_11_6[[#This Row],[IdEstablecimiento]],'[2]Establecimiento 2023'!$A$1:$E$183,3,FALSE),0)","v":"105490-Posta de Salud Rural El Durazno(Combarbalá)"},{"$f":"IFERROR(VLOOKUP(Tabla_SERIED_11_6[[#This Row],[IdEstablecimiento]],'[2]Establecimiento 2023'!$A$1:$E$183,5,FALSE),0)","v":"04302-Combarbalá"},"15080014","2023-09-25T10:35:14",2,{"$nulls":3},2]
[8,"5",2023,"105490",{"$f":"IFERROR(VLOOKUP(Tabla_SERIED_11_6[[#This Row],[IdEstablecimiento]],'[2]Establecimiento 2023'!$A$1:$E$183,3,FALSE),0)","v":"105490-Posta de Salud Rural El Durazno(Combarbalá)"},{"$f":"IFERROR(VLOOKUP(Tabla_SERIED_11_6[[#This Row],[IdEstablecimiento]],'[2]Establecimiento 2023'!$A$1:$E$183,5,FALSE),0)","v":"04302-Combarbalá"},"16200210","2023-09-25T10:35:14",12,12]
[8,"5",2023,"105491",{"$f":"IFERROR(VLOOKUP(Tabla_SERIED_11_6[[#This Row],[IdEstablecimiento]],'[2]Establecimiento 2023'!$A$1:$E$183,3,FALSE),0)","v":"105491-Posta de Salud Rural Quelén Bajo"},{"$f":"IFERROR(VLOOKUP(Tabla_SERIED_11_6[[#This Row],[IdEstablecimiento]],'[2]Establecimiento 2023'!$A$1:$E$183,5,FALSE),0)","v":"04204-Salamanca"},"15080014","2023-09-25T10:35:19",25,{"$nulls":3},16,8,null,null,1]
[8,"5",2023,"105499",{"$f":"IFERROR(VLOOKUP(Tabla_SERIED_11_6[[#This Row],[IdEstablecimiento]],'[2]Establecimiento 2023'!$A$1:$E$183,3,FALSE),0)","v":"105499-Posta de Salud Rural Lambert"},{"$f":"IFERROR(VLOOKUP(Tabla_SERIED_11_6[[#This Row],[IdEstablecimiento]],'[2]Establecimiento 2023'!$A$1:$E$183,5,FALSE),0)","v":"04101-La Serena"},"15080014","2023-09-25T10:39:37",16,{"$nulls":3},10,6]
[8,"5",2023,"105503",{"$f":"IFERROR(VLOOKUP(Tabla_SERIED_11_6[[#This Row],[IdEstablecimiento]],'[2]Establecimiento 2023'!$A$1:$E$183,3,FALSE),0)","v":"105503-Posta de Salud Rural Tabaqueros"},{"$f":"IFERROR(VLOOKUP(Tabla_SERIED_11_6[[#This Row],[IdEstablecimiento]],'[2]Establecimiento 2023'!$A$1:$E$183,5,FALSE),0)","v":"04305-Rio Hurtado"},"15050100","2023-09-25T10:51:12",5,null,5,{"$nulls":6},1,3,null,1]
[8,"5",2023,"105505",{"$f":"IFERROR(VLOOKUP(Tabla_SERIED_11_6[[#This Row],[IdEstablecimiento]],'[2]Establecimiento 2023'!$A$1:$E$183,3,FALSE),0)","v":"105505-Posta de Salud Rural Los Choros"},{"$f":"IFERROR(VLOOKUP(Tabla_SERIED_11_6[[#This Row],[IdEstablecimiento]],'[2]Establecimiento 2023'!$A$1:$E$183,5,FALSE),0)","v":"04104-La Higuera"},"15080008","2023-10-17T15:13:24",1,{"$nulls":7},1]
[8,"5",2023,"105505",{"$f":"IFERROR(VLOOKUP(Tabla_SERIED_11_6[[#This Row],[IdEstablecimiento]],'[2]Establecimiento 2023'!$A$1:$E$183,3,FALSE),0)","v":"105505-Posta de Salud Rural Los Choros"},{"$f":"IFERROR(VLOOKUP(Tabla_SERIED_11_6[[#This Row],[IdEstablecimiento]],'[2]Establecimiento 2023'!$A$1:$E$183,5,FALSE),0)","v":"04104-La Higuera"},"16090300","2023-10-17T15:13:24",20,20]
[8,"5",2023,"105506",{"$f":"IFERROR(VLOOKUP(Tabla_SERIED_11_6[[#This Row],[IdEstablecimiento]],'[2]Establecimiento 2023'!$A$1:$E$183,3,FALSE),0)","v":"105506-Posta de Salud Rural El Trapiche"},{"$f":"IFERROR(VLOOKUP(Tabla_SERIED_11_6[[#This Row],[IdEstablecimiento]],'[2]Establecimiento 2023'!$A$1:$E$183,5,FALSE),0)","v":"04104-La Higuera"},"16200220","2023-10-17T15:15:27",6,null,6]
[8,"5",2023,"105509",{"$f":"IFERROR(VLOOKUP(Tabla_SERIED_11_6[[#This Row],[IdEstablecimiento]],'[2]Establecimiento 2023'!$A$1:$E$183,3,FALSE),0)","v":"105509-Posta de Salud Rural Gualliguaica"},{"$f":"IFERROR(VLOOKUP(Tabla_SERIED_11_6[[#This Row],[IdEstablecimiento]],'[2]Establecimiento 2023'!$A$1:$E$183,5,FALSE),0)","v":"04106-Vicuña"},"16100300","2023-09-25T10:54:09",23,8,15]
[8,"5",2023,"105510",{"$f":"IFERROR(VLOOKUP(Tabla_SERIED_11_6[[#This Row],[IdEstablecimiento]],'[2]Establecimiento 2023'!$A$1:$E$183,3,FALSE),0)","v":"105510-Posta de Salud Rural Recoleta"},{"$f":"IFERROR(VLOOKUP(Tabla_SERIED_11_6[[#This Row],[IdEstablecimiento]],'[2]Establecimiento 2023'!$A$1:$E$183,5,FALSE),0)","v":"04301-Ovalle"},"15080008","2023-09-25T10:56:01",10,{"$nulls":7},8,null,null,2]
[9,"5",2023,"105105",{"$f":"IFERROR(VLOOKUP(Tabla_SERIED_11_6[[#This Row],[IdEstablecimiento]],'[2]Establecimiento 2023'!$A$1:$E$183,3,FALSE),0)","v":"105105-Hospital San Juan de Dios (Combarbalá)"},{"$f":"IFERROR(VLOOKUP(Tabla_SERIED_11_6[[#This Row],[IdEstablecimiento]],'[2]Establecimiento 2023'!$A$1:$E$183,5,FALSE),0)","v":"105105-Hospital Combarbalá"},"15030100","2023-10-17T09:51:49",4.8,null,4.8]
[9,"5",2023,"105105",{"$f":"IFERROR(VLOOKUP(Tabla_SERIED_11_6[[#This Row],[IdEstablecimiento]],'[2]Establecimiento 2023'!$A$1:$E$183,3,FALSE),0)","v":"105105-Hospital San Juan de Dios (Combarbalá)"},{"$f":"IFERROR(VLOOKUP(Tabla_SERIED_11_6[[#This Row],[IdEstablecimiento]],'[2]Establecimiento 2023'!$A$1:$E$183,5,FALSE),0)","v":"105105-Hospital Combarbalá"},"15080015","2023-10-17T09:51:49",200,{"$nulls":5},86,114]
[9,"5",2023,"105105",{"$f":"IFERROR(VLOOKUP(Tabla_SERIED_11_6[[#This Row],[IdEstablecimiento]],'[2]Establecimiento 2023'!$A$1:$E$183,3,FALSE),0)","v":"105105-Hospital San Juan de Dios (Combarbalá)"},{"$f":"IFERROR(VLOOKUP(Tabla_SERIED_11_6[[#This Row],[IdEstablecimiento]],'[2]Establecimiento 2023'!$A$1:$E$183,5,FALSE),0)","v":"105105-Hospital Combarbalá"},"15900020","2023-10-17T09:51:49",0.8,null,null,0.8]
[9,"5",2023,"105106",{"$f":"IFERROR(VLOOKUP(Tabla_SERIED_11_6[[#This Row],[IdEstablecimiento]],'[2]Establecimiento 2023'!$A$1:$E$183,3,FALSE),0)","v":"105106-Hospital Dr. José Arraño (Andacollo)"},{"$f":"IFERROR(VLOOKUP(Tabla_SERIED_11_6[[#This Row],[IdEstablecimiento]],'[2]Establecimiento 2023'!$A$1:$E$183,5,FALSE),0)","v":"105106-Hospital Andacollo"},"15900010","2023-10-17T09:51:53",65.6,9.6,16,40]
[9,"5",2023,"105106",{"$f":"IFERROR(VLOOKUP(Tabla_SERIED_11_6[[#This Row],[IdEstablecimiento]],'[2]Establecimiento 2023'!$A$1:$E$183,3,FALSE),0)","v":"105106-Hospital Dr. José Arraño (Andacollo)"},{"$f":"IFERROR(VLOOKUP(Tabla_SERIED_11_6[[#This Row],[IdEstablecimiento]],'[2]Establecimiento 2023'!$A$1:$E$183,5,FALSE),0)","v":"105106-Hospital Andacollo"},"15900030","2023-10-17T09:51:53",2.8,{"$nulls":3},2.8]
[9,"5",2023,"105106",{"$f":"IFERROR(VLOOKUP(Tabla_SERIED_11_6[[#This Row],[IdEstablecimiento]],'[2]Establecimiento 2023'!$A$1:$E$183,3,FALSE),0)","v":"105106-Hospital Dr. José Arraño (Andacollo)"},{"$f":"IFERROR(VLOOKUP(Tabla_SERIED_11_6[[#This Row],[IdEstablecimiento]],'[2]Establecimiento 2023'!$A$1:$E$183,5,FALSE),0)","v":"105106-Hospital Andacollo"},"15900040","2023-10-17T09:51:53",4.4,{"$nulls":3},4.4]
[9,"5",2023,"105106",{"$f":"IFERROR(VLOOKUP(Tabla_SERIED_11_6[[#This Row],[IdEstablecimiento]],'[2]Establecimiento 2023'!$A$1:$E$183,3,FALSE),0)","v":"105106-Hospital Dr. José Arraño (Andacollo)"},{"$f":"IFERROR(VLOOKUP(Tabla_SERIED_11_6[[#This Row],[IdEstablecimiento]],'[2]Establecimiento 2023'!$A$1:$E$183,5,FALSE),0)","v":"105106-Hospital Andacollo"},"16090300","2023-10-17T09:51:53",366,366]
[9,"5",2023,"105107",{"$f":"IFERROR(VLOOKUP(Tabla_SERIED_11_6[[#This Row],[IdEstablecimiento]],'[2]Establecimiento 2023'!$A$1:$E$183,3,FALSE),0)","v":"105107-Hospital San Juan de Dios (Vicuña)"},{"$f":"IFERROR(VLOOKUP(Tabla_SERIED_11_6[[#This Row],[IdEstablecimiento]],'[2]Establecimiento 2023'!$A$1:$E$183,5,FALSE),0)","v":"105107-Hospital Vicuña"},"15900010","2023-10-17T09:53:51",75.8,5.6,18.2,52]
[9,"5",2023,"105108",{"$f":"IFERROR(VLOOKUP(Tabla_SERIED_11_6[[#This Row],[IdEstablecimiento]],'[2]Establecimiento 2023'!$A$1:$E$183,3,FALSE),0)","v":"105108-Hospital San Pedro (Los Vilos)"},{"$f":"IFERROR(VLOOKUP(Tabla_SERIED_11_6[[#This Row],[IdEstablecimiento]],'[2]Establecimiento 2023'!$A$1:$E$183,5,FALSE),0)","v":"105108-Hospital Los Vilos"},"15050200","2023-10-17T09:54:40",7,4,3,null,null,1,null,2,2,2]
[9,"5",2023,"105301",{"$f":"IFERROR(VLOOKUP(Tabla_SERIED_11_6[[#This Row],[IdEstablecimiento]],'[2]Establecimiento 2023'!$A$1:$E$183,3,FALSE),0)","v":"105301-Centro de Salud Familiar Las Compañías"},{"$f":"IFERROR(VLOOKUP(Tabla_SERIED_11_6[[#This Row],[IdEstablecimiento]],'[2]Establecimiento 2023'!$A$1:$E$183,5,FALSE),0)","v":"04101-La Serena"},"15900030","2023-10-17T09:57:10",16,null,null,7.2,null,8.8]
[9,"5",2023,"105302",{"$f":"IFERROR(VLOOKUP(Tabla_SERIED_11_6[[#This Row],[IdEstablecimiento]],'[2]Establecimiento 2023'!$A$1:$E$183,3,FALSE),0)","v":"105302-Centro de Salud Familiar Pedro Aguirre Cerda"},{"$f":"IFERROR(VLOOKUP(Tabla_SERIED_11_6[[#This Row],[IdEstablecimiento]],'[2]Establecimiento 2023'!$A$1:$E$183,5,FALSE),0)","v":"04101-La Serena"},"15080018","2023-10-17T09:56:49",21,1,null,6,8,6]
[9,"5",2023,"105302",{"$f":"IFERROR(VLOOKUP(Tabla_SERIED_11_6[[#This Row],[IdEstablecimiento]],'[2]Establecimiento 2023'!$A$1:$E$183,3,FALSE),0)","v":"105302-Centro de Salud Familiar Pedro Aguirre Cerda"},{"$f":"IFERROR(VLOOKUP(Tabla_SERIED_11_6[[#This Row],[IdEstablecimiento]],'[2]Establecimiento 2023'!$A$1:$E$183,5,FALSE),0)","v":"04101-La Serena"},"16090600","2023-10-17T09:56:49",2,2]
[9,"5",2023,"105304",{"$f":"IFERROR(VLOOKUP(Tabla_SERIED_11_6[[#This Row],[IdEstablecimiento]],'[2]Establecimiento 2023'!$A$1:$E$183,3,FALSE),0)","v":"105304-Centro de Salud Familiar Santa Cecilia"},{"$f":"IFERROR(VLOOKUP(Tabla_SERIED_11_6[[#This Row],[IdEstablecimiento]],'[2]Establecimiento 2023'!$A$1:$E$183,5,FALSE),0)","v":"04102-Coquimbo"},"15900050","2023-10-17T09:59:19",2,1,1,0,0,2,0,0]
[9,"5",2023,"105304",{"$f":"IFERROR(VLOOKUP(Tabla_SERIED_11_6[[#This Row],[IdEstablecimiento]],'[2]Establecimiento 2023'!$A$1:$E$183,3,FALSE),0)","v":"105304-Centro de Salud Familiar Santa Cecilia"},{"$f":"IFERROR(VLOOKUP(Tabla_SERIED_11_6[[#This Row],[IdEstablecimiento]],'[2]Establecimiento 2023'!$A$1:$E$183,5,FALSE),0)","v":"04102-Coquimbo"},"16100300","2023-10-17T09:59:19",554,202,352]
[9,"5",2023,"105305",{"$f":"IFERROR(VLOOKUP(Tabla_SERIED_11_6[[#This Row],[IdEstablecimiento]],'[2]Establecimiento 2023'!$A$1:$E$183,3,FALSE),0)","v":"105305-Centro de Salud Familiar Tierras Blancas"},{"$f":"IFERROR(VLOOKUP(Tabla_SERIED_11_6[[#This Row],[IdEstablecimiento]],'[2]Establecimiento 2023'!$A$1:$E$183,5,FALSE),0)","v":"04102-Coquimbo"},"15050200","2023-10-17T10:00:18",14,5,4,{"$nulls":3},2,1,3,3,null,5]
[9,"5",2023,"105305",{"$f":"IFERROR(VLOOKUP(Tabla_SERIED_11_6[[#This Row],[IdEstablecimiento]],'[2]Establecimiento 2023'!$A$1:$E$183,3,FALSE),0)","v":"105305-Centro de Salud Familiar Tierras Blancas"},{"$f":"IFERROR(VLOOKUP(Tabla_SERIED_11_6[[#This Row],[IdEstablecimiento]],'[2]Establecimiento 2023'!$A$1:$E$183,5,FALSE),0)","v":"04102-Coquimbo"},"16100300","2023-10-17T10:00:18",776,296,480]
[9,"5",2023,"105306",{"$f":"IFERROR(VLOOKUP(Tabla_SERIED_11_6[[#This Row],[IdEstablecimiento]],'[2]Establecimiento 2023'!$A$1:$E$183,3,FALSE),0)","v":"105306-Centro de Salud Familiar Paihuano"},{"$f":"IFERROR(VLOOKUP(Tabla_SERIED_11_6[[#This Row],[IdEstablecimiento]],'[2]Establecimiento 2023'!$A$1:$E$183,5,FALSE),0)","v":"04105-Paihuano"},"15010500","2023-10-17T10:00:47",2,null,null,2]
[9,"5",2023,"105306",{"$f":"IFERROR(VLOOKUP(Tabla_SERIED_11_6[[#This Row],[IdEstablecimiento]],'[2]Establecimiento 2023'!$A$1:$E$183,3,FALSE),0)","v":"105306-Centro de Salud Familiar Paihuano"},{"$f":"IFERROR(VLOOKUP(Tabla_SERIED_11_6[[#This Row],[IdEstablecimiento]],'[2]Establecimiento 2023'!$A$1:$E$183,5,FALSE),0)","v":"04105-Paihuano"},"15050200","2023-10-17T10:00:47",1,1,0,0,0,1,0,0,0,0,null,0,0,0,0]
[9,"5",2023,"105306",{"$f":"IFERROR(VLOOKUP(Tabla_SERIED_11_6[[#This Row],[IdEstablecimiento]],'[2]Establecimiento 2023'!$A$1:$E$183,3,FALSE),0)","v":"105306-Centro de Salud Familiar Paihuano"},{"$f":"IFERROR(VLOOKUP(Tabla_SERIED_11_6[[#This Row],[IdEstablecimiento]],'[2]Establecimiento 2023'!$A$1:$E$183,5,FALSE),0)","v":"04105-Paihuano"},"15900030","2023-10-17T10:00:47",7.2,4.4,null,2.8]
[9,"5",2023,"105309",{"$f":"IFERROR(VLOOKUP(Tabla_SERIED_11_6[[#This Row],[IdEstablecimiento]],'[2]Establecimiento 2023'!$A$1:$E$183,3,FALSE),0)","v":"105309-Centro de Salud Familiar Canela"},{"$f":"IFERROR(VLOOKUP(Tabla_SERIED_11_6[[#This Row],[IdEstablecimiento]],'[2]Establecimiento 2023'!$A$1:$E$183,5,FALSE),0)","v":"04202-Canela"},"16100700","2023-10-17T10:02:58",1,1,0]
[9,"5",2023,"105311",{"$f":"IFERROR(VLOOKUP(Tabla_SERIED_11_6[[#This Row],[IdEstablecimiento]],'[2]Establecimiento 2023'!$A$1:$E$183,3,FALSE),0)","v":"105311-Centro de Salud Familiar Chañaral Alto"},{"$f":"IFERROR(VLOOKUP(Tabla_SERIED_11_6[[#This Row],[IdEstablecimiento]],'[2]Establecimiento 2023'!$A$1:$E$183,5,FALSE),0)","v":"04303-Monte Patria"},"15900010","2023-10-17T10:03:53",20.8,null,null,20.8]
[9,"5",2023,"105311",{"$f":"IFERROR(VLOOKUP(Tabla_SERIED_11_6[[#This Row],[IdEstablecimiento]],'[2]Establecimiento 2023'!$A$1:$E$183,3,FALSE),0)","v":"105311-Centro de Salud Familiar Chañaral Alto"},{"$f":"IFERROR(VLOOKUP(Tabla_SERIED_11_6[[#This Row],[IdEstablecimiento]],'[2]Establecimiento 2023'!$A$1:$E$183,5,FALSE),0)","v":"04303-Monte Patria"},"16200210","2023-10-17T10:03:53",30,30]
[9,"5",2023,"105313",{"$f":"IFERROR(VLOOKUP(Tabla_SERIED_11_6[[#This Row],[IdEstablecimiento]],'[2]Establecimiento 2023'!$A$1:$E$183,3,FALSE),0)","v":"105313-Centro de Salud Familiar Dr. Emilio Schaffhauser"},{"$f":"IFERROR(VLOOKUP(Tabla_SERIED_11_6[[#This Row],[IdEstablecimiento]],'[2]Establecimiento 2023'!$A$1:$E$183,5,FALSE),0)","v":"04101-La Serena"},"15900010","2023-10-17T10:06:10",226.6,17,40.8,168.8]
[9,"5",2023,"105313",{"$f":"IFERROR(VLOOKUP(Tabla_SERIED_11_6[[#This Row],[IdEstablecimiento]],'[2]Establecimiento 2023'!$A$1:$E$183,3,FALSE),0)","v":"105313-Centro de Salud Familiar Dr. Emilio Schaffhauser"},{"$f":"IFERROR(VLOOKUP(Tabla_SERIED_11_6[[#This Row],[IdEstablecimiento]],'[2]Establecimiento 2023'!$A$1:$E$183,5,FALSE),0)","v":"04101-La Serena"},"15900030","2023-10-17T10:06:10",46,8.8,1.6,7.2,20.8,7.6]
[9,"5",2023,"105313",{"$f":"IFERROR(VLOOKUP(Tabla_SERIED_11_6[[#This Row],[IdEstablecimiento]],'[2]Establecimiento 2023'!$A$1:$E$183,3,FALSE),0)","v":"105313-Centro de Salud Familiar Dr. Emilio Schaffhauser"},{"$f":"IFERROR(VLOOKUP(Tabla_SERIED_11_6[[#This Row],[IdEstablecimiento]],'[2]Establecimiento 2023'!$A$1:$E$183,5,FALSE),0)","v":"04101-La Serena"},"15901200","2023-10-17T10:06:10",13.2,null,4.4,null,4.4,4.4]
[9,"5",2023,"105313",{"$f":"IFERROR(VLOOKUP(Tabla_SERIED_11_6[[#This Row],[IdEstablecimiento]],'[2]Establecimiento 2023'!$A$1:$E$183,3,FALSE),0)","v":"105313-Centro de Salud Familiar Dr. Emilio Schaffhauser"},{"$f":"IFERROR(VLOOKUP(Tabla_SERIED_11_6[[#This Row],[IdEstablecimiento]],'[2]Establecimiento 2023'!$A$1:$E$183,5,FALSE),0)","v":"04101-La Serena"},"15901300","2023-10-17T10:06:10",4.4,null,null,4.4]
[9,"5",2023,"105314",{"$f":"IFERROR(VLOOKUP(Tabla_SERIED_11_6[[#This Row],[IdEstablecimiento]],'[2]Establecimiento 2023'!$A$1:$E$183,3,FALSE),0)","v":"105314-Centro de Salud Familiar La Higuera"},{"$f":"IFERROR(VLOOKUP(Tabla_SERIED_11_6[[#This Row],[IdEstablecimiento]],'[2]Establecimiento 2023'!$A$1:$E$183,5,FALSE),0)","v":"04104-La Higuera"},"15050100","2023-10-17T10:16:58",44,19,25,1,3,6,3,6,10,5,9,null,1]
[9,"5",2023,"105315",{"$f":"IFERROR(VLOOKUP(Tabla_SERIED_11_6[[#This Row],[IdEstablecimiento]],'[2]Establecimiento 2023'!$A$1:$E$183,3,FALSE),0)","v":"105315-Centro de Salud Familiar Cerrillos de Tamaya"},{"$f":"IFERROR(VLOOKUP(Tabla_SERIED_11_6[[#This Row],[IdEstablecimiento]],'[2]Establecimiento 2023'!$A$1:$E$183,5,FALSE),0)","v":"04301-Ovalle"},"16100300","2023-10-17T15:50:02",294,142,152]
[9,"5",2023,"105315",{"$f":"IFERROR(VLOOKUP(Tabla_SERIED_11_6[[#This Row],[IdEstablecimiento]],'[2]Establecimiento 2023'!$A$1:$E$183,3,FALSE),0)","v":"105315-Centro de Salud Familiar Cerrillos de Tamaya"},{"$f":"IFERROR(VLOOKUP(Tabla_SERIED_11_6[[#This Row],[IdEstablecimiento]],'[2]Establecimiento 2023'!$A$1:$E$183,5,FALSE),0)","v":"04301-Ovalle"},"16200210","2023-10-17T15:50:02",18,18]
[9,"5",2023,"105317",{"$f":"IFERROR(VLOOKUP(Tabla_SERIED_11_6[[#This Row],[IdEstablecimiento]],'[2]Establecimiento 2023'!$A$1:$E$183,3,FALSE),0)","v":"105317-Centro de Salud Familiar Jorge Jordán Domic"},{"$f":"IFERROR(VLOOKUP(Tabla_SERIED_11_6[[#This Row],[IdEstablecimiento]],'[2]Establecimiento 2023'!$A$1:$E$183,5,FALSE),0)","v":"04301-Ovalle"},"15080008","2023-10-17T10:55:44",149,{"$nulls":7},52,null,46,21,30]
[9,"5",2023,"105319",{"$f":"IFERROR(VLOOKUP(Tabla_SERIED_11_6[[#This Row],[IdEstablecimiento]],'[2]Establecimiento 2023'!$A$1:$E$183,3,FALSE),0)","v":"105319-Centro de Salud Familiar Cardenal Raúl Silva Henríquez de La Serena"},{"$f":"IFERROR(VLOOKUP(Tabla_SERIED_11_6[[#This Row],[IdEstablecimiento]],'[2]Establecimiento 2023'!$A$1:$E$183,5,FALSE),0)","v":"04101-La Serena"},"15010500","2023-10-17T11:01:16",4,{"$nulls":4},2,null,2]
[9,"5",2023,"105319",{"$f":"IFERROR(VLOOKUP(Tabla_SERIED_11_6[[#This Row],[IdEstablecimiento]],'[2]Establecimiento 2023'!$A$1:$E$183,3,FALSE),0)","v":"105319-Centro de Salud Familiar Cardenal Raúl Silva Henríquez de La Serena"},{"$f":"IFERROR(VLOOKUP(Tabla_SERIED_11_6[[#This Row],[IdEstablecimiento]],'[2]Establecimiento 2023'!$A$1:$E$183,5,FALSE),0)","v":"04101-La Serena"},"15080019","2023-10-17T11:01:16",4,{"$nulls":6},4]
[9,"5",2023,"105321",{"$f":"IFERROR(VLOOKUP(Tabla_SERIED_11_6[[#This Row],[IdEstablecimiento]],'[2]Establecimiento 2023'!$A$1:$E$183,3,FALSE),0)","v":"105321-Centro de Salud Familiar Tongoy"},{"$f":"IFERROR(VLOOKUP(Tabla_SERIED_11_6[[#This Row],[IdEstablecimiento]],'[2]Establecimiento 2023'!$A$1:$E$183,5,FALSE),0)","v":"04102-Coquimbo"},"15050100","2023-10-17T11:02:58",185,78,107,4,5,25,24,19,38,30,23,null,8,0,9]
[9,"5",2023,"105321",{"$f":"IFERROR(VLOOKUP(Tabla_SERIED_11_6[[#This Row],[IdEstablecimiento]],'[2]Establecimiento 2023'!$A$1:$E$183,3,FALSE),0)","v":"105321-Centro de Salud Familiar Tongoy"},{"$f":"IFERROR(VLOOKUP(Tabla_SERIED_11_6[[#This Row],[IdEstablecimiento]],'[2]Establecimiento 2023'!$A$1:$E$183,5,FALSE),0)","v":"04102-Coquimbo"},"15050200","2023-10-17T11:02:58",3,2,1,null,0,0,1,0,2,null,null,0]
[9,"5",2023,"105321",{"$f":"IFERROR(VLOOKUP(Tabla_SERIED_11_6[[#This Row],[IdEstablecimiento]],'[2]Establecimiento 2023'!$A$1:$E$183,3,FALSE),0)","v":"105321-Centro de Salud Familiar Tongoy"},{"$f":"IFERROR(VLOOKUP(Tabla_SERIED_11_6[[#This Row],[IdEstablecimiento]],'[2]Establecimiento 2023'!$A$1:$E$183,5,FALSE),0)","v":"04102-Coquimbo"},"16200210","2023-10-17T11:02:58",5,5]
[9,"5",2023,"105322",{"$f":"IFERROR(VLOOKUP(Tabla_SERIED_11_6[[#This Row],[IdEstablecimiento]],'[2]Establecimiento 2023'!$A$1:$E$183,3,FALSE),0)","v":"105322-Centro de Salud Familiar Marcos Macuada"},{"$f":"IFERROR(VLOOKUP(Tabla_SERIED_11_6[[#This Row],[IdEstablecimiento]],'[2]Establecimiento 2023'!$A$1:$E$183,5,FALSE),0)","v":"04301-Ovalle"},"15080016","2023-10-17T11:04:22",4,{"$nulls":3},2,0,0,2,0,0,0,0,0]
[9,"5",2023,"105323",{"$f":"IFERROR(VLOOKUP(Tabla_SERIED_11_6[[#This Row],[IdEstablecimiento]],'[2]Establecimiento 2023'!$A$1:$E$183,3,FALSE),0)","v":"105323-Centro de Salud Familiar Dr. Sergio Aguilar Delgado"},{"$f":"IFERROR(VLOOKUP(Tabla_SERIED_11_6[[#This Row],[IdEstablecimiento]],'[2]Establecimiento 2023'!$A$1:$E$183,5,FALSE),0)","v":"04102-Coquimbo"},"15050100","2023-10-17T11:04:16",542,216,326,10,15,62,79,59,98,81,67,null,13,19,39]
[9,"5",2023,"105323",{"$f":"IFERROR(VLOOKUP(Tabla_SERIED_11_6[[#This Row],[IdEstablecimiento]],'[2]Establecimiento 2023'!$A$1:$E$183,3,FALSE),0)","v":"105323-Centro de Salud Familiar Dr. Sergio Aguilar Delgado"},{"$f":"IFERROR(VLOOKUP(Tabla_SERIED_11_6[[#This Row],[IdEstablecimiento]],'[2]Establecimiento 2023'!$A$1:$E$183,5,FALSE),0)","v":"04102-Coquimbo"},"15900020","2023-10-17T11:04:16",27.2,2.4,11.2,13.6]
[9,"5",2023,"105324",{"$f":"IFERROR(VLOOKUP(Tabla_SERIED_11_6[[#This Row],[IdEstablecimiento]],'[2]Establecimiento 2023'!$A$1:$E$183,3,FALSE),0)","v":"105324-Centro de Salud Familiar Sotaquí"},{"$f":"IFERROR(VLOOKUP(Tabla_SERIED_11_6[[#This Row],[IdEstablecimiento]],'[2]Establecimiento 2023'!$A$1:$E$183,5,FALSE),0)","v":"04301-Ovalle"},"15050100","2023-10-17T11:06:34",139,61,78,null,2,9,28,20,30,22,12,null,5,6,5]
[9,"5",2023,"105324",{"$f":"IFERROR(VLOOKUP(Tabla_SERIED_11_6[[#This Row],[IdEstablecimiento]],'[2]Establecimiento 2023'!$A$1:$E$183,3,FALSE),0)","v":"105324-Centro de Salud Familiar Sotaquí"},{"$f":"IFERROR(VLOOKUP(Tabla_SERIED_11_6[[#This Row],[IdEstablecimiento]],'[2]Establecimiento 2023'!$A$1:$E$183,5,FALSE),0)","v":"04301-Ovalle"},"15080008","2023-10-17T11:06:34",32,{"$nulls":7},12,null,10,6,4]
[9,"5",2023,"105324",{"$f":"IFERROR(VLOOKUP(Tabla_SERIED_11_6[[#This Row],[IdEstablecimiento]],'[2]Establecimiento 2023'!$A$1:$E$183,3,FALSE),0)","v":"105324-Centro de Salud Familiar Sotaquí"},{"$f":"IFERROR(VLOOKUP(Tabla_SERIED_11_6[[#This Row],[IdEstablecimiento]],'[2]Establecimiento 2023'!$A$1:$E$183,5,FALSE),0)","v":"04301-Ovalle"},"15080014","2023-10-17T11:06:34",97,{"$nulls":3},56,40,{"$nulls":6},1]
[9,"5",2023,"105324",{"$f":"IFERROR(VLOOKUP(Tabla_SERIED_11_6[[#This Row],[IdEstablecimiento]],'[2]Establecimiento 2023'!$A$1:$E$183,3,FALSE),0)","v":"105324-Centro de Salud Familiar Sotaquí"},{"$f":"IFERROR(VLOOKUP(Tabla_SERIED_11_6[[#This Row],[IdEstablecimiento]],'[2]Establecimiento 2023'!$A$1:$E$183,5,FALSE),0)","v":"04301-Ovalle"},"15080015","2023-10-17T11:06:34",104,{"$nulls":5},60,44]
[9,"5",2023,"105324",{"$f":"IFERROR(VLOOKUP(Tabla_SERIED_11_6[[#This Row],[IdEstablecimiento]],'[2]Establecimiento 2023'!$A$1:$E$183,3,FALSE),0)","v":"105324-Centro de Salud Familiar Sotaquí"},{"$f":"IFERROR(VLOOKUP(Tabla_SERIED_11_6[[#This Row],[IdEstablecimiento]],'[2]Establecimiento 2023'!$A$1:$E$183,5,FALSE),0)","v":"04301-Ovalle"},"16090300","2023-10-17T11:06:34",241,241]
[9,"5",2023,"105325",{"$f":"IFERROR(VLOOKUP(Tabla_SERIED_11_6[[#This Row],[IdEstablecimiento]],'[2]Establecimiento 2023'!$A$1:$E$183,3,FALSE),0)","v":"105325-Centro de Salud Familiar Juan Pablo II (La Serena)"},{"$f":"IFERROR(VLOOKUP(Tabla_SERIED_11_6[[#This Row],[IdEstablecimiento]],'[2]Establecimiento 2023'!$A$1:$E$183,5,FALSE),0)","v":"04101-La Serena"},"15080015","2023-10-17T11:06:28",493,{"$nulls":5},250,243]
[9,"5",2023,"105325",{"$f":"IFERROR(VLOOKUP(Tabla_SERIED_11_6[[#This Row],[IdEstablecimiento]],'[2]Establecimiento 2023'!$A$1:$E$183,3,FALSE),0)","v":"105325-Centro de Salud Familiar Juan Pablo II (La Serena)"},{"$f":"IFERROR(VLOOKUP(Tabla_SERIED_11_6[[#This Row],[IdEstablecimiento]],'[2]Establecimiento 2023'!$A$1:$E$183,5,FALSE),0)","v":"04101-La Serena"},"15900010","2023-10-17T11:06:28",287.2,14.4,72.8,200]
[9,"5",2023,"105325",{"$f":"IFERROR(VLOOKUP(Tabla_SERIED_11_6[[#This Row],[IdEstablecimiento]],'[2]Establecimiento 2023'!$A$1:$E$183,3,FALSE),0)","v":"105325-Centro de Salud Familiar Juan Pablo II (La Serena)"},{"$f":"IFERROR(VLOOKUP(Tabla_SERIED_11_6[[#This Row],[IdEstablecimiento]],'[2]Establecimiento 2023'!$A$1:$E$183,5,FALSE),0)","v":"04101-La Serena"},"16200100","2023-10-17T11:06:28",2,1,1]
[9,"5",2023,"105402",{"$f":"IFERROR(VLOOKUP(Tabla_SERIED_11_6[[#This Row],[IdEstablecimiento]],'[2]Establecimiento 2023'!$A$1:$E$183,3,FALSE),0)","v":"105402-Posta de Salud Rural El Romero"},{"$f":"IFERROR(VLOOKUP(Tabla_SERIED_11_6[[#This Row],[IdEstablecimiento]],'[2]Establecimiento 2023'!$A$1:$E$183,5,FALSE),0)","v":"04101-La Serena"},"15050200","2023-10-17T11:09:25",1,1,{"$nulls":6},1]
[9,"5",2023,"105407",{"$f":"IFERROR(VLOOKUP(Tabla_SERIED_11_6[[#This Row],[IdEstablecimiento]],'[2]Establecimiento 2023'!$A$1:$E$183,3,FALSE),0)","v":"105407-Posta de Salud Rural Tambillo"},{"$f":"IFERROR(VLOOKUP(Tabla_SERIED_11_6[[#This Row],[IdEstablecimiento]],'[2]Establecimiento 2023'!$A$1:$E$183,5,FALSE),0)","v":"04102-Coquimbo"},"15900050","2023-10-17T11:12:30",1,1,0,0,1,0,0,0]
[9,"5",2023,"105409",{"$f":"IFERROR(VLOOKUP(Tabla_SERIED_11_6[[#This Row],[IdEstablecimiento]],'[2]Establecimiento 2023'!$A$1:$E$183,3,FALSE),0)","v":"105409-Posta de Salud Rural El Chañar"},{"$f":"IFERROR(VLOOKUP(Tabla_SERIED_11_6[[#This Row],[IdEstablecimiento]],'[2]Establecimiento 2023'!$A$1:$E$183,5,FALSE),0)","v":"04305-Rio Hurtado"},"16100300","2023-10-17T11:13:38",24,8,16]
[9,"5",2023,"105410",{"$f":"IFERROR(VLOOKUP(Tabla_SERIED_11_6[[#This Row],[IdEstablecimiento]],'[2]Establecimiento 2023'!$A$1:$E$183,3,FALSE),0)","v":"105410-Posta de Salud Rural Hurtado"},{"$f":"IFERROR(VLOOKUP(Tabla_SERIED_11_6[[#This Row],[IdEstablecimiento]],'[2]Establecimiento 2023'!$A$1:$E$183,5,FALSE),0)","v":"04305-Rio Hurtado"},"16200210","2023-10-17T11:17:18",2,2]
[9,"5",2023,"105413",{"$f":"IFERROR(VLOOKUP(Tabla_SERIED_11_6[[#This Row],[IdEstablecimiento]],'[2]Establecimiento 2023'!$A$1:$E$183,3,FALSE),0)","v":"105413-Posta de Salud Rural Samo Alto"},{"$f":"IFERROR(VLOOKUP(Tabla_SERIED_11_6[[#This Row],[IdEstablecimiento]],'[2]Establecimiento 2023'!$A$1:$E$183,5,FALSE),0)","v":"04305-Rio Hurtado"},"16090300","2023-10-17T11:19:13",84,84]
[9,"5",2023,"105413",{"$f":"IFERROR(VLOOKUP(Tabla_SERIED_11_6[[#This Row],[IdEstablecimiento]],'[2]Establecimiento 2023'!$A$1:$E$183,3,FALSE),0)","v":"105413-Posta de Salud Rural Samo Alto"},{"$f":"IFERROR(VLOOKUP(Tabla_SERIED_11_6[[#This Row],[IdEstablecimiento]],'[2]Establecimiento 2023'!$A$1:$E$183,5,FALSE),0)","v":"04305-Rio Hurtado"},"16200220","2023-10-17T11:19:13",6,2,4]
[9,"5",2023,"105415",{"$f":"IFERROR(VLOOKUP(Tabla_SERIED_11_6[[#This Row],[IdEstablecimiento]],'[2]Establecimiento 2023'!$A$1:$E$183,3,FALSE),0)","v":"105415-Posta de Salud Rural Barraza"},{"$f":"IFERROR(VLOOKUP(Tabla_SERIED_11_6[[#This Row],[IdEstablecimiento]],'[2]Establecimiento 2023'!$A$1:$E$183,5,FALSE),0)","v":"04301-Ovalle"},"15010200","2023-10-17T11:20:19",41,{"$nulls":5},12,29]
[9,"5",2023,"105415",{"$f":"IFERROR(VLOOKUP(Tabla_SERIED_11_6[[#This Row],[IdEstablecimiento]],'[2]Establecimiento 2023'!$A$1:$E$183,3,FALSE),0)","v":"105415-Posta de Salud Rural Barraza"},{"$f":"IFERROR(VLOOKUP(Tabla_SERIED_11_6[[#This Row],[IdEstablecimiento]],'[2]Establecimiento 2023'!$A$1:$E$183,5,FALSE),0)","v":"04301-Ovalle"},"16090300","2023-10-17T11:20:19",167,167]
[9,"5",2023,"105415",{"$f":"IFERROR(VLOOKUP(Tabla_SERIED_11_6[[#This Row],[IdEstablecimiento]],'[2]Establecimiento 2023'!$A$1:$E$183,3,FALSE),0)","v":"105415-Posta de Salud Rural Barraza"},{"$f":"IFERROR(VLOOKUP(Tabla_SERIED_11_6[[#This Row],[IdEstablecimiento]],'[2]Establecimiento 2023'!$A$1:$E$183,5,FALSE),0)","v":"04301-Ovalle"},"16100300","2023-10-17T11:20:19",167,72,95]
[9,"5",2023,"105417",{"$f":"IFERROR(VLOOKUP(Tabla_SERIED_11_6[[#This Row],[IdEstablecimiento]],'[2]Establecimiento 2023'!$A$1:$E$183,3,FALSE),0)","v":"105417-Posta de Salud Rural Alcones Bajo"},{"$f":"IFERROR(VLOOKUP(Tabla_SERIED_11_6[[#This Row],[IdEstablecimiento]],'[2]Establecimiento 2023'!$A$1:$E$183,5,FALSE),0)","v":"04301-Ovalle"},"15010500","2023-10-17T11:21:25",2,null,null,2]
[9,"5",2023,"105417",{"$f":"IFERROR(VLOOKUP(Tabla_SERIED_11_6[[#This Row],[IdEstablecimiento]],'[2]Establecimiento 2023'!$A$1:$E$183,3,FALSE),0)","v":"105417-Posta de Salud Rural Alcones Bajo"},{"$f":"IFERROR(VLOOKUP(Tabla_SERIED_11_6[[#This Row],[IdEstablecimiento]],'[2]Establecimiento 2023'!$A$1:$E$183,5,FALSE),0)","v":"04301-Ovalle"},"15080008","2023-10-17T11:21:25",11,{"$nulls":7},3,null,6,null,2]
[9,"5",2023,"105422",{"$f":"IFERROR(VLOOKUP(Tabla_SERIED_11_6[[#This Row],[IdEstablecimiento]],'[2]Establecimiento 2023'!$A$1:$E$183,3,FALSE),0)","v":"105422-Posta de Salud Rural Hornillos"},{"$f":"IFERROR(VLOOKUP(Tabla_SERIED_11_6[[#This Row],[IdEstablecimiento]],'[2]Establecimiento 2023'!$A$1:$E$183,5,FALSE),0)","v":"04301-Ovalle"},"16200100","2023-10-17T11:24:30",1,1]
[9,"5",2023,"105425",{"$f":"IFERROR(VLOOKUP(Tabla_SERIED_11_6[[#This Row],[IdEstablecimiento]],'[2]Establecimiento 2023'!$A$1:$E$183,3,FALSE),0)","v":"105425-Posta de Salud Rural Chilecito"},{"$f":"IFERROR(VLOOKUP(Tabla_SERIED_11_6[[#This Row],[IdEstablecimiento]],'[2]Establecimiento 2023'!$A$1:$E$183,5,FALSE),0)","v":"04303-Monte Patria"},"15080008","2023-10-17T11:25:07",4,{"$nulls":7},1,null,null,1,2]
[9,"5",2023,"105427",{"$f":"IFERROR(VLOOKUP(Tabla_SERIED_11_6[[#This Row],[IdEstablecimiento]],'[2]Establecimiento 2023'!$A$1:$E$183,3,FALSE),0)","v":"105427-Posta de Salud Rural Hacienda Valdivia"},{"$f":"IFERROR(VLOOKUP(Tabla_SERIED_11_6[[#This Row],[IdEstablecimiento]],'[2]Establecimiento 2023'!$A$1:$E$183,5,FALSE),0)","v":"04303-Monte Patria"},"15080014","2023-10-17T11:26:28",8,{"$nulls":3},4,4]
[9,"5",2023,"105427",{"$f":"IFERROR(VLOOKUP(Tabla_SERIED_11_6[[#This Row],[IdEstablecimiento]],'[2]Establecimiento 2023'!$A$1:$E$183,3,FALSE),0)","v":"105427-Posta de Salud Rural Hacienda Valdivia"},{"$f":"IFERROR(VLOOKUP(Tabla_SERIED_11_6[[#This Row],[IdEstablecimiento]],'[2]Establecimiento 2023'!$A$1:$E$183,5,FALSE),0)","v":"04303-Monte Patria"},"16200210","2023-10-17T11:26:28",3,3]
[9,"5",2023,"105433",{"$f":"IFERROR(VLOOKUP(Tabla_SERIED_11_6[[#This Row],[IdEstablecimiento]],'[2]Establecimiento 2023'!$A$1:$E$183,3,FALSE),0)","v":"105433-Posta de Salud Rural San Lorenzo (Combarbalá)"},{"$f":"IFERROR(VLOOKUP(Tabla_SERIED_11_6[[#This Row],[IdEstablecimiento]],'[2]Establecimiento 2023'!$A$1:$E$183,5,FALSE),0)","v":"04302-Combarbalá"},"16200220","2023-10-17T11:31:34",3,1,2]
[9,"5",2023,"105435",{"$f":"IFERROR(VLOOKUP(Tabla_SERIED_11_6[[#This Row],[IdEstablecimiento]],'[2]Establecimiento 2023'!$A$1:$E$183,3,FALSE),0)","v":"105435-Posta de Salud Rural Tulahuén"},{"$f":"IFERROR(VLOOKUP(Tabla_SERIED_11_6[[#This Row],[IdEstablecimiento]],'[2]Establecimiento 2023'!$A$1:$E$183,5,FALSE),0)","v":"04303-Monte Patria"},"15010500","2023-10-17T11:34:19",4,{"$nulls":3},2,null,null,2]
[9,"5",2023,"105435",{"$f":"IFERROR(VLOOKUP(Tabla_SERIED_11_6[[#This Row],[IdEstablecimiento]],'[2]Establecimiento 2023'!$A$1:$E$183,3,FALSE),0)","v":"105435-Posta de Salud Rural Tulahuén"},{"$f":"IFERROR(VLOOKUP(Tabla_SERIED_11_6[[#This Row],[IdEstablecimiento]],'[2]Establecimiento 2023'!$A$1:$E$183,5,FALSE),0)","v":"04303-Monte Patria"},"15080008","2023-10-17T11:34:19",14,{"$nulls":7},1,null,12,null,1]
[9,"5",2023,"105435",{"$f":"IFERROR(VLOOKUP(Tabla_SERIED_11_6[[#This Row],[IdEstablecimiento]],'[2]Establecimiento 2023'!$A$1:$E$183,3,FALSE),0)","v":"105435-Posta de Salud Rural Tulahuén"},{"$f":"IFERROR(VLOOKUP(Tabla_SERIED_11_6[[#This Row],[IdEstablecimiento]],'[2]Establecimiento 2023'!$A$1:$E$183,5,FALSE),0)","v":"04303-Monte Patria"},"15080015","2023-10-17T11:34:19",34,{"$nulls":5},18,16]
[9,"5",2023,"105440",{"$f":"IFERROR(VLOOKUP(Tabla_SERIED_11_6[[#This Row],[IdEstablecimiento]],'[2]Establecimiento 2023'!$A$1:$E$183,3,FALSE),0)","v":"105440-Posta de Salud Rural Divisadero"},{"$f":"IFERROR(VLOOKUP(Tabla_SERIED_11_6[[#This Row],[IdEstablecimiento]],'[2]Establecimiento 2023'!$A$1:$E$183,5,FALSE),0)","v":"04304-Punitaqui"},"16090300","2023-10-17T11:41:23",58,58]
[9,"5",2023,"105443",{"$f":"IFERROR(VLOOKUP(Tabla_SERIED_11_6[[#This Row],[IdEstablecimiento]],'[2]Establecimiento 2023'!$A$1:$E$183,3,FALSE),0)","v":"105443-Posta de Salud Rural Cárcamo"},{"$f":"IFERROR(VLOOKUP(Tabla_SERIED_11_6[[#This Row],[IdEstablecimiento]],'[2]Establecimiento 2023'!$A$1:$E$183,5,FALSE),0)","v":"04201-Illapel"},"15080015","2023-10-17T11:43:39",5,{"$nulls":5},1,4]
[9,"5",2023,"105444",{"$f":"IFERROR(VLOOKUP(Tabla_SERIED_11_6[[#This Row],[IdEstablecimiento]],'[2]Establecimiento 2023'!$A$1:$E$183,3,FALSE),0)","v":"105444-Posta de Salud Rural Huintil"},{"$f":"IFERROR(VLOOKUP(Tabla_SERIED_11_6[[#This Row],[IdEstablecimiento]],'[2]Establecimiento 2023'!$A$1:$E$183,5,FALSE),0)","v":"04201-Illapel"},"15080014","2023-10-17T11:44:06",8,{"$nulls":3},6,2]
[9,"5",2023,"105445",{"$f":"IFERROR(VLOOKUP(Tabla_SERIED_11_6[[#This Row],[IdEstablecimiento]],'[2]Establecimiento 2023'!$A$1:$E$183,3,FALSE),0)","v":"105445-Posta de Salud Rural Limáhuida"},{"$f":"IFERROR(VLOOKUP(Tabla_SERIED_11_6[[#This Row],[IdEstablecimiento]],'[2]Establecimiento 2023'!$A$1:$E$183,5,FALSE),0)","v":"04201-Illapel"},"16090300","2023-10-17T11:45:24",38,38]
[9,"5",2023,"105445",{"$f":"IFERROR(VLOOKUP(Tabla_SERIED_11_6[[#This Row],[IdEstablecimiento]],'[2]Establecimiento 2023'!$A$1:$E$183,3,FALSE),0)","v":"105445-Posta de Salud Rural Limáhuida"},{"$f":"IFERROR(VLOOKUP(Tabla_SERIED_11_6[[#This Row],[IdEstablecimiento]],'[2]Establecimiento 2023'!$A$1:$E$183,5,FALSE),0)","v":"04201-Illapel"},"16200210","2023-10-17T11:45:24",5,5]
[9,"5",2023,"105448",{"$f":"IFERROR(VLOOKUP(Tabla_SERIED_11_6[[#This Row],[IdEstablecimiento]],'[2]Establecimiento 2023'!$A$1:$E$183,3,FALSE),0)","v":"105448-Posta de Salud Rural Santa Virginia"},{"$f":"IFERROR(VLOOKUP(Tabla_SERIED_11_6[[#This Row],[IdEstablecimiento]],'[2]Establecimiento 2023'!$A$1:$E$183,5,FALSE),0)","v":"04201-Illapel"},"16200210","2023-10-17T11:47:40",14,14]
[9,"5",2023,"105451",{"$f":"IFERROR(VLOOKUP(Tabla_SERIED_11_6[[#This Row],[IdEstablecimiento]],'[2]Establecimiento 2023'!$A$1:$E$183,3,FALSE),0)","v":"105451-Posta de Salud Rural Agua Fría"},{"$f":"IFERROR(VLOOKUP(Tabla_SERIED_11_6[[#This Row],[IdEstablecimiento]],'[2]Establecimiento 2023'!$A$1:$E$183,5,FALSE),0)","v":"04202-Canela"},"15050100","2023-10-17T11:49:28",1,null,1,{"$nulls":5},1]
[9,"5",2023,"105451",{"$f":"IFERROR(VLOOKUP(Tabla_SERIED_11_6[[#This Row],[IdEstablecimiento]],'[2]Establecimiento 2023'!$A$1:$E$183,3,FALSE),0)","v":"105451-Posta de Salud Rural Agua Fría"},{"$f":"IFERROR(VLOOKUP(Tabla_SERIED_11_6[[#This Row],[IdEstablecimiento]],'[2]Establecimiento 2023'!$A$1:$E$183,5,FALSE),0)","v":"04202-Canela"},"16100300","2023-10-17T11:49:28",83,45,38]
[9,"5",2023,"105455",{"$f":"IFERROR(VLOOKUP(Tabla_SERIED_11_6[[#This Row],[IdEstablecimiento]],'[2]Establecimiento 2023'!$A$1:$E$183,3,FALSE),0)","v":"105455-CESFAM Valle Alto"},{"$f":"IFERROR(VLOOKUP(Tabla_SERIED_11_6[[#This Row],[IdEstablecimiento]],'[2]Establecimiento 2023'!$A$1:$E$183,5,FALSE),0)","v":"04204-Salamanca"},"15010500","2023-10-17T11:52:35",2,null,null,2]
[9,"5",2023,"105455",{"$f":"IFERROR(VLOOKUP(Tabla_SERIED_11_6[[#This Row],[IdEstablecimiento]],'[2]Establecimiento 2023'!$A$1:$E$183,3,FALSE),0)","v":"105455-CESFAM Valle Alto"},{"$f":"IFERROR(VLOOKUP(Tabla_SERIED_11_6[[#This Row],[IdEstablecimiento]],'[2]Establecimiento 2023'!$A$1:$E$183,5,FALSE),0)","v":"04204-Salamanca"},"15060100","2023-10-17T11:52:35",3,2,1,{"$nulls":3},2,null,1]
[9,"5",2023,"105456",{"$f":"IFERROR(VLOOKUP(Tabla_SERIED_11_6[[#This Row],[IdEstablecimiento]],'[2]Establecimiento 2023'!$A$1:$E$183,3,FALSE),0)","v":"105456-Posta de Salud Rural Llimpo"},{"$f":"IFERROR(VLOOKUP(Tabla_SERIED_11_6[[#This Row],[IdEstablecimiento]],'[2]Establecimiento 2023'!$A$1:$E$183,5,FALSE),0)","v":"04204-Salamanca"},"15080014","2023-10-17T11:53:06",10,{"$nulls":3},6,4]
[9,"5",2023,"105460",{"$f":"IFERROR(VLOOKUP(Tabla_SERIED_11_6[[#This Row],[IdEstablecimiento]],'[2]Establecimiento 2023'!$A$1:$E$183,3,FALSE),0)","v":"105460-Centro Comunitario de Salud Familiar Cogotí 18"},{"$f":"IFERROR(VLOOKUP(Tabla_SERIED_11_6[[#This Row],[IdEstablecimiento]],'[2]Establecimiento 2023'!$A$1:$E$183,5,FALSE),0)","v":"04302-Combarbalá"},"15010500","2023-10-17T11:55:52",2,{"$nulls":6},2]
[9,"5",2023,"105460",{"$f":"IFERROR(VLOOKUP(Tabla_SERIED_11_6[[#This Row],[IdEstablecimiento]],'[2]Establecimiento 2023'!$A$1:$E$183,3,FALSE),0)","v":"105460-Centro Comunitario de Salud Familiar Cogotí 18"},{"$f":"IFERROR(VLOOKUP(Tabla_SERIED_11_6[[#This Row],[IdEstablecimiento]],'[2]Establecimiento 2023'!$A$1:$E$183,5,FALSE),0)","v":"04302-Combarbalá"},"15080016","2023-10-17T11:55:52",2,{"$nulls":6},2]
[9,"5",2023,"105464",{"$f":"IFERROR(VLOOKUP(Tabla_SERIED_11_6[[#This Row],[IdEstablecimiento]],'[2]Establecimiento 2023'!$A$1:$E$183,3,FALSE),0)","v":"105464-Posta de Salud Rural La Ligua"},{"$f":"IFERROR(VLOOKUP(Tabla_SERIED_11_6[[#This Row],[IdEstablecimiento]],'[2]Establecimiento 2023'!$A$1:$E$183,5,FALSE),0)","v":"04302-Combarbalá"},"15050100","2023-10-17T12:00:47",8,4,4,{"$nulls":4},3,null,2,1,null,2]
[9,"5",2023,"105464",{"$f":"IFERROR(VLOOKUP(Tabla_SERIED_11_6[[#This Row],[IdEstablecimiento]],'[2]Establecimiento 2023'!$A$1:$E$183,3,FALSE),0)","v":"105464-Posta de Salud Rural La Ligua"},{"$f":"IFERROR(VLOOKUP(Tabla_SERIED_11_6[[#This Row],[IdEstablecimiento]],'[2]Establecimiento 2023'!$A$1:$E$183,5,FALSE),0)","v":"04302-Combarbalá"},"16200210","2023-10-17T12:00:47",5,5]
[9,"5",2023,"105467",{"$f":"IFERROR(VLOOKUP(Tabla_SERIED_11_6[[#This Row],[IdEstablecimiento]],'[2]Establecimiento 2023'!$A$1:$E$183,3,FALSE),0)","v":"105467-Posta de Salud Rural Diaguitas"},{"$f":"IFERROR(VLOOKUP(Tabla_SERIED_11_6[[#This Row],[IdEstablecimiento]],'[2]Establecimiento 2023'!$A$1:$E$183,5,FALSE),0)","v":"04106-Vicuña"},"15010500","2023-10-17T12:07:13",2,{"$nulls":3},2]
[9,"5",2023,"105467",{"$f":"IFERROR(VLOOKUP(Tabla_SERIED_11_6[[#This Row],[IdEstablecimiento]],'[2]Establecimiento 2023'!$A$1:$E$183,3,FALSE),0)","v":"105467-Posta de Salud Rural Diaguitas"},{"$f":"IFERROR(VLOOKUP(Tabla_SERIED_11_6[[#This Row],[IdEstablecimiento]],'[2]Establecimiento 2023'!$A$1:$E$183,5,FALSE),0)","v":"04106-Vicuña"},"15900010","2023-10-17T12:07:13",12,null,null,12]
[9,"5",2023,"105467",{"$f":"IFERROR(VLOOKUP(Tabla_SERIED_11_6[[#This Row],[IdEstablecimiento]],'[2]Establecimiento 2023'!$A$1:$E$183,3,FALSE),0)","v":"105467-Posta de Salud Rural Diaguitas"},{"$f":"IFERROR(VLOOKUP(Tabla_SERIED_11_6[[#This Row],[IdEstablecimiento]],'[2]Establecimiento 2023'!$A$1:$E$183,5,FALSE),0)","v":"04106-Vicuña"},"16090300","2023-10-17T12:07:13",32,32]
[9,"5",2023,"105467",{"$f":"IFERROR(VLOOKUP(Tabla_SERIED_11_6[[#This Row],[IdEstablecimiento]],'[2]Establecimiento 2023'!$A$1:$E$183,3,FALSE),0)","v":"105467-Posta de Salud Rural Diaguitas"},{"$f":"IFERROR(VLOOKUP(Tabla_SERIED_11_6[[#This Row],[IdEstablecimiento]],'[2]Establecimiento 2023'!$A$1:$E$183,5,FALSE),0)","v":"04106-Vicuña"},"16200220","2023-10-17T12:07:13",3,2,1]
[9,"5",2023,"105468",{"$f":"IFERROR(VLOOKUP(Tabla_SERIED_11_6[[#This Row],[IdEstablecimiento]],'[2]Establecimiento 2023'!$A$1:$E$183,3,FALSE),0)","v":"105468-Posta de Salud Rural El Molle"},{"$f":"IFERROR(VLOOKUP(Tabla_SERIED_11_6[[#This Row],[IdEstablecimiento]],'[2]Establecimiento 2023'!$A$1:$E$183,5,FALSE),0)","v":"04106-Vicuña"},"15900010","2023-10-17T14:04:13",8,null,null,8]
[9,"5",2023,"105471",{"$f":"IFERROR(VLOOKUP(Tabla_SERIED_11_6[[#This Row],[IdEstablecimiento]],'[2]Establecimiento 2023'!$A$1:$E$183,3,FALSE),0)","v":"105471-Posta de Salud Rural Peralillo Vicuña"},{"$f":"IFERROR(VLOOKUP(Tabla_SERIED_11_6[[#This Row],[IdEstablecimiento]],'[2]Establecimiento 2023'!$A$1:$E$183,5,FALSE),0)","v":"04106-Vicuña"},"15900010","2023-10-17T14:05:27",8.8,1.6,null,7.2]
[9,"5",2023,"105472",{"$f":"IFERROR(VLOOKUP(Tabla_SERIED_11_6[[#This Row],[IdEstablecimiento]],'[2]Establecimiento 2023'!$A$1:$E$183,3,FALSE),0)","v":"105472-Posta de Salud Rural Rivadavia"},{"$f":"IFERROR(VLOOKUP(Tabla_SERIED_11_6[[#This Row],[IdEstablecimiento]],'[2]Establecimiento 2023'!$A$1:$E$183,5,FALSE),0)","v":"04106-Vicuña"},"16100600","2023-10-17T14:07:06",3,1,2]
[9,"5",2023,"105473",{"$f":"IFERROR(VLOOKUP(Tabla_SERIED_11_6[[#This Row],[IdEstablecimiento]],'[2]Establecimiento 2023'!$A$1:$E$183,3,FALSE),0)","v":"105473-Posta de Salud Rural Talcuna"},{"$f":"IFERROR(VLOOKUP(Tabla_SERIED_11_6[[#This Row],[IdEstablecimiento]],'[2]Establecimiento 2023'!$A$1:$E$183,5,FALSE),0)","v":"04106-Vicuña"},"15900010","2023-10-17T14:07:03",12.6,null,null,12.6]
[9,"5",2023,"105473",{"$f":"IFERROR(VLOOKUP(Tabla_SERIED_11_6[[#This Row],[IdEstablecimiento]],'[2]Establecimiento 2023'!$A$1:$E$183,3,FALSE),0)","v":"105473-Posta de Salud Rural Talcuna"},{"$f":"IFERROR(VLOOKUP(Tabla_SERIED_11_6[[#This Row],[IdEstablecimiento]],'[2]Establecimiento 2023'!$A$1:$E$183,5,FALSE),0)","v":"04106-Vicuña"},"16090300","2023-10-17T14:07:03",56,56]
[9,"5",2023,"105474",{"$f":"IFERROR(VLOOKUP(Tabla_SERIED_11_6[[#This Row],[IdEstablecimiento]],'[2]Establecimiento 2023'!$A$1:$E$183,3,FALSE),0)","v":"105474-Posta de Salud Rural Chapilca"},{"$f":"IFERROR(VLOOKUP(Tabla_SERIED_11_6[[#This Row],[IdEstablecimiento]],'[2]Establecimiento 2023'!$A$1:$E$183,5,FALSE),0)","v":"04106-Vicuña"},"15050100","2023-10-17T14:08:14",3,1,2,{"$nulls":3},1,null,null,1,1]
[9,"5",2023,"105474",{"$f":"IFERROR(VLOOKUP(Tabla_SERIED_11_6[[#This Row],[IdEstablecimiento]],'[2]Establecimiento 2023'!$A$1:$E$183,3,FALSE),0)","v":"105474-Posta de Salud Rural Chapilca"},{"$f":"IFERROR(VLOOKUP(Tabla_SERIED_11_6[[#This Row],[IdEstablecimiento]],'[2]Establecimiento 2023'!$A$1:$E$183,5,FALSE),0)","v":"04106-Vicuña"},"15080014","2023-10-17T14:08:14",2,{"$nulls":3},2]
[9,"5",2023,"105478",{"$f":"IFERROR(VLOOKUP(Tabla_SERIED_11_6[[#This Row],[IdEstablecimiento]],'[2]Establecimiento 2023'!$A$1:$E$183,3,FALSE),0)","v":"105478-Posta de Salud Rural Caimanes"},{"$f":"IFERROR(VLOOKUP(Tabla_SERIED_11_6[[#This Row],[IdEstablecimiento]],'[2]Establecimiento 2023'!$A$1:$E$183,5,FALSE),0)","v":"04203-Los Vilos"},"15050100","2023-10-17T14:41:36",31,10,21,null,2,1,3,1,10,11,3]
[9,"5",2023,"105478",{"$f":"IFERROR(VLOOKUP(Tabla_SERIED_11_6[[#This Row],[IdEstablecimiento]],'[2]Establecimiento 2023'!$A$1:$E$183,3,FALSE),0)","v":"105478-Posta de Salud Rural Caimanes"},{"$f":"IFERROR(VLOOKUP(Tabla_SERIED_11_6[[#This Row],[IdEstablecimiento]],'[2]Establecimiento 2023'!$A$1:$E$183,5,FALSE),0)","v":"04203-Los Vilos"},"15080008","2023-10-17T14:41:36",3,{"$nulls":7},3]
[9,"5",2023,"105478",{"$f":"IFERROR(VLOOKUP(Tabla_SERIED_11_6[[#This Row],[IdEstablecimiento]],'[2]Establecimiento 2023'!$A$1:$E$183,3,FALSE),0)","v":"105478-Posta de Salud Rural Caimanes"},{"$f":"IFERROR(VLOOKUP(Tabla_SERIED_11_6[[#This Row],[IdEstablecimiento]],'[2]Establecimiento 2023'!$A$1:$E$183,5,FALSE),0)","v":"04203-Los Vilos"},"15080016","2023-10-17T14:41:36",2,{"$nulls":4},2]
[9,"5",2023,"105478",{"$f":"IFERROR(VLOOKUP(Tabla_SERIED_11_6[[#This Row],[IdEstablecimiento]],'[2]Establecimiento 2023'!$A$1:$E$183,3,FALSE),0)","v":"105478-Posta de Salud Rural Caimanes"},{"$f":"IFERROR(VLOOKUP(Tabla_SERIED_11_6[[#This Row],[IdEstablecimiento]],'[2]Establecimiento 2023'!$A$1:$E$183,5,FALSE),0)","v":"04203-Los Vilos"},"15900040","2023-10-17T14:41:36",4.8,{"$nulls":3},4.8]
[9,"5",2023,"105479",{"$f":"IFERROR(VLOOKUP(Tabla_SERIED_11_6[[#This Row],[IdEstablecimiento]],'[2]Establecimiento 2023'!$A$1:$E$183,3,FALSE),0)","v":"105479-Posta de Salud Rural Guangualí"},{"$f":"IFERROR(VLOOKUP(Tabla_SERIED_11_6[[#This Row],[IdEstablecimiento]],'[2]Establecimiento 2023'!$A$1:$E$183,5,FALSE),0)","v":"04203-Los Vilos"},"15080015","2023-10-17T14:41:33",30,{"$nulls":5},14,16]
[9,"5",2023,"105480",{"$f":"IFERROR(VLOOKUP(Tabla_SERIED_11_6[[#This Row],[IdEstablecimiento]],'[2]Establecimiento 2023'!$A$1:$E$183,3,FALSE),0)","v":"105480-Posta de Salud Rural Quilimarí"},{"$f":"IFERROR(VLOOKUP(Tabla_SERIED_11_6[[#This Row],[IdEstablecimiento]],'[2]Establecimiento 2023'!$A$1:$E$183,5,FALSE),0)","v":"04203-Los Vilos"},"15900030","2023-10-17T14:44:35",3.2,null,null,3.2]
[9,"5",2023,"105476",{"$f":"IFERROR(VLOOKUP(Tabla_SERIED_11_6[[#This Row],[IdEstablecimiento]],'[2]Establecimiento 2023'!$A$1:$E$183,3,FALSE),0)","v":"105476-Posta de Salud Rural Monte Grande"},{"$f":"IFERROR(VLOOKUP(Tabla_SERIED_11_6[[#This Row],[IdEstablecimiento]],'[2]Establecimiento 2023'!$A$1:$E$183,5,FALSE),0)","v":"04105-Paihuano"},"15080014","2023-11-22T13:06:48",4,{"$nulls":4},4]
[9,"5",2023,"105477",{"$f":"IFERROR(VLOOKUP(Tabla_SERIED_11_6[[#This Row],[IdEstablecimiento]],'[2]Establecimiento 2023'!$A$1:$E$183,3,FALSE),0)","v":"105477-Posta de Salud Rural Pisco Elqui"},{"$f":"IFERROR(VLOOKUP(Tabla_SERIED_11_6[[#This Row],[IdEstablecimiento]],'[2]Establecimiento 2023'!$A$1:$E$183,5,FALSE),0)","v":"04105-Paihuano"},"15080014","2023-11-22T13:07:54",10,{"$nulls":3},4,6]
[9,"5",2023,"105480",{"$f":"IFERROR(VLOOKUP(Tabla_SERIED_11_6[[#This Row],[IdEstablecimiento]],'[2]Establecimiento 2023'!$A$1:$E$183,3,FALSE),0)","v":"105480-Posta de Salud Rural Quilimarí"},{"$f":"IFERROR(VLOOKUP(Tabla_SERIED_11_6[[#This Row],[IdEstablecimiento]],'[2]Establecimiento 2023'!$A$1:$E$183,5,FALSE),0)","v":"04203-Los Vilos"},"16100600","2023-10-17T14:44:35",1,1,0]
[9,"5",2023,"105481",{"$f":"IFERROR(VLOOKUP(Tabla_SERIED_11_6[[#This Row],[IdEstablecimiento]],'[2]Establecimiento 2023'!$A$1:$E$183,3,FALSE),0)","v":"105481-Posta de Salud Rural Tilama"},{"$f":"IFERROR(VLOOKUP(Tabla_SERIED_11_6[[#This Row],[IdEstablecimiento]],'[2]Establecimiento 2023'!$A$1:$E$183,5,FALSE),0)","v":"04203-Los Vilos"},"16090300","2023-10-17T14:44:31",22,22]
[9,"5",2023,"105483",{"$f":"IFERROR(VLOOKUP(Tabla_SERIED_11_6[[#This Row],[IdEstablecimiento]],'[2]Establecimiento 2023'!$A$1:$E$183,3,FALSE),0)","v":"105483-Posta de Salud Rural Los Rulos"},{"$f":"IFERROR(VLOOKUP(Tabla_SERIED_11_6[[#This Row],[IdEstablecimiento]],'[2]Establecimiento 2023'!$A$1:$E$183,5,FALSE),0)","v":"04202-Canela"},"15050100","2023-10-17T14:45:41",2,1,1,{"$nulls":6},2]
[9,"5",2023,"105487",{"$f":"IFERROR(VLOOKUP(Tabla_SERIED_11_6[[#This Row],[IdEstablecimiento]],'[2]Establecimiento 2023'!$A$1:$E$183,3,FALSE),0)","v":"105487-Posta de Salud Rural Cañas Uno"},{"$f":"IFERROR(VLOOKUP(Tabla_SERIED_11_6[[#This Row],[IdEstablecimiento]],'[2]Establecimiento 2023'!$A$1:$E$183,5,FALSE),0)","v":"04201-Illapel"},"15080015","2023-10-17T14:48:51",10,{"$nulls":6},10]
[9,"5",2023,"105489",{"$f":"IFERROR(VLOOKUP(Tabla_SERIED_11_6[[#This Row],[IdEstablecimiento]],'[2]Establecimiento 2023'!$A$1:$E$183,3,FALSE),0)","v":"105489-Posta de Salud Rural Ramadas de Tulahuén"},{"$f":"IFERROR(VLOOKUP(Tabla_SERIED_11_6[[#This Row],[IdEstablecimiento]],'[2]Establecimiento 2023'!$A$1:$E$183,5,FALSE),0)","v":"04303-Monte Patria"},"16090300","2023-10-17T14:50:18",36,36]
[9,"5",2023,"105496",{"$f":"IFERROR(VLOOKUP(Tabla_SERIED_11_6[[#This Row],[IdEstablecimiento]],'[2]Establecimiento 2023'!$A$1:$E$183,3,FALSE),0)","v":"105496-Posta de Salud Rural Pintacura Sur"},{"$f":"IFERROR(VLOOKUP(Tabla_SERIED_11_6[[#This Row],[IdEstablecimiento]],'[2]Establecimiento 2023'!$A$1:$E$183,5,FALSE),0)","v":"04201-Illapel"},"15080015","2023-10-17T14:56:55",1,{"$nulls":5},1]
[9,"5",2023,"105503",{"$f":"IFERROR(VLOOKUP(Tabla_SERIED_11_6[[#This Row],[IdEstablecimiento]],'[2]Establecimiento 2023'!$A$1:$E$183,3,FALSE),0)","v":"105503-Posta de Salud Rural Tabaqueros"},{"$f":"IFERROR(VLOOKUP(Tabla_SERIED_11_6[[#This Row],[IdEstablecimiento]],'[2]Establecimiento 2023'!$A$1:$E$183,5,FALSE),0)","v":"04305-Rio Hurtado"},"16100300","2023-10-17T15:08:35",25,13,12]
[9,"5",2023,"105504",{"$f":"IFERROR(VLOOKUP(Tabla_SERIED_11_6[[#This Row],[IdEstablecimiento]],'[2]Establecimiento 2023'!$A$1:$E$183,3,FALSE),0)","v":"105504-Posta de Salud Rural Socavón"},{"$f":"IFERROR(VLOOKUP(Tabla_SERIED_11_6[[#This Row],[IdEstablecimiento]],'[2]Establecimiento 2023'!$A$1:$E$183,5,FALSE),0)","v":"04201-Illapel"},"15010200","2023-10-17T15:09:09",3,{"$nulls":5},3]
[9,"5",2023,"105504",{"$f":"IFERROR(VLOOKUP(Tabla_SERIED_11_6[[#This Row],[IdEstablecimiento]],'[2]Establecimiento 2023'!$A$1:$E$183,3,FALSE),0)","v":"105504-Posta de Salud Rural Socavón"},{"$f":"IFERROR(VLOOKUP(Tabla_SERIED_11_6[[#This Row],[IdEstablecimiento]],'[2]Establecimiento 2023'!$A$1:$E$183,5,FALSE),0)","v":"04201-Illapel"},"16100300","2023-10-17T15:09:09",32,13,19]
[9,"5",2023,"105506",{"$f":"IFERROR(VLOOKUP(Tabla_SERIED_11_6[[#This Row],[IdEstablecimiento]],'[2]Establecimiento 2023'!$A$1:$E$183,3,FALSE),0)","v":"105506-Posta de Salud Rural El Trapiche"},{"$f":"IFERROR(VLOOKUP(Tabla_SERIED_11_6[[#This Row],[IdEstablecimiento]],'[2]Establecimiento 2023'!$A$1:$E$183,5,FALSE),0)","v":"04104-La Higuera"},"16200210","2023-10-17T15:15:20",6,6]
[9,"5",2023,"105506",{"$f":"IFERROR(VLOOKUP(Tabla_SERIED_11_6[[#This Row],[IdEstablecimiento]],'[2]Establecimiento 2023'!$A$1:$E$183,3,FALSE),0)","v":"105506-Posta de Salud Rural El Trapiche"},{"$f":"IFERROR(VLOOKUP(Tabla_SERIED_11_6[[#This Row],[IdEstablecimiento]],'[2]Establecimiento 2023'!$A$1:$E$183,5,FALSE),0)","v":"04104-La Higuera"},"16200220","2023-10-17T15:15:20",6,null,6]
[9,"5",2023,"105507",{"$f":"IFERROR(VLOOKUP(Tabla_SERIED_11_6[[#This Row],[IdEstablecimiento]],'[2]Establecimiento 2023'!$A$1:$E$183,3,FALSE),0)","v":"105507-Posta de Salud Rural Huamalata"},{"$f":"IFERROR(VLOOKUP(Tabla_SERIED_11_6[[#This Row],[IdEstablecimiento]],'[2]Establecimiento 2023'!$A$1:$E$183,5,FALSE),0)","v":"04301-Ovalle"},"16200220","2023-10-17T15:33:07",15,4,11]
[9,"5",2023,"105509",{"$f":"IFERROR(VLOOKUP(Tabla_SERIED_11_6[[#This Row],[IdEstablecimiento]],'[2]Establecimiento 2023'!$A$1:$E$183,3,FALSE),0)","v":"105509-Posta de Salud Rural Gualliguaica"},{"$f":"IFERROR(VLOOKUP(Tabla_SERIED_11_6[[#This Row],[IdEstablecimiento]],'[2]Establecimiento 2023'!$A$1:$E$183,5,FALSE),0)","v":"04106-Vicuña"},"15050100","2023-10-17T15:34:26",11,5,6,null,null,0,1,2,1,5,2,null,0]
[9,"5",2023,"105509",{"$f":"IFERROR(VLOOKUP(Tabla_SERIED_11_6[[#This Row],[IdEstablecimiento]],'[2]Establecimiento 2023'!$A$1:$E$183,3,FALSE),0)","v":"105509-Posta de Salud Rural Gualliguaica"},{"$f":"IFERROR(VLOOKUP(Tabla_SERIED_11_6[[#This Row],[IdEstablecimiento]],'[2]Establecimiento 2023'!$A$1:$E$183,5,FALSE),0)","v":"04106-Vicuña"},"15080008","2023-10-17T15:34:26",2,{"$nulls":7},2]
[9,"5",2023,"105700",{"$f":"IFERROR(VLOOKUP(Tabla_SERIED_11_6[[#This Row],[IdEstablecimiento]],'[2]Establecimiento 2023'!$A$1:$E$183,3,FALSE),0)","v":"105700-Centro Comunitario de Salud Familiar Villa el Indio"},{"$f":"IFERROR(VLOOKUP(Tabla_SERIED_11_6[[#This Row],[IdEstablecimiento]],'[2]Establecimiento 2023'!$A$1:$E$183,5,FALSE),0)","v":"04101-La Serena"},"15080014","2023-10-17T15:36:26",12,{"$nulls":3},4,8]
[9,"5",2023,"105701",{"$f":"IFERROR(VLOOKUP(Tabla_SERIED_11_6[[#This Row],[IdEstablecimiento]],'[2]Establecimiento 2023'!$A$1:$E$183,3,FALSE),0)","v":"105701-Centro Comunitario de Salud Familiar Villa Alemania"},{"$f":"IFERROR(VLOOKUP(Tabla_SERIED_11_6[[#This Row],[IdEstablecimiento]],'[2]Establecimiento 2023'!$A$1:$E$183,5,FALSE),0)","v":"04101-La Serena"},"15080014","2023-10-17T15:36:54",36,{"$nulls":3},10,26]
[9,"5",2023,"105722",{"$f":"IFERROR(VLOOKUP(Tabla_SERIED_11_6[[#This Row],[IdEstablecimiento]],'[2]Establecimiento 2023'!$A$1:$E$183,3,FALSE),0)","v":"105722-Centro Comunitario de Salud Familiar San José de la Dehesa"},{"$f":"IFERROR(VLOOKUP(Tabla_SERIED_11_6[[#This Row],[IdEstablecimiento]],'[2]Establecimiento 2023'!$A$1:$E$183,5,FALSE),0)","v":"04301-Ovalle"},"15010500","2023-10-17T15:39:04",3,null,1,{"$nulls":3},2]
[9,"5",2023,"105723",{"$f":"IFERROR(VLOOKUP(Tabla_SERIED_11_6[[#This Row],[IdEstablecimiento]],'[2]Establecimiento 2023'!$A$1:$E$183,3,FALSE),0)","v":"105723-Centro Comunitario de Salud Familiar Limarí"},{"$f":"IFERROR(VLOOKUP(Tabla_SERIED_11_6[[#This Row],[IdEstablecimiento]],'[2]Establecimiento 2023'!$A$1:$E$183,5,FALSE),0)","v":"04301-Ovalle"},"15900010","2023-10-17T15:39:00",21.6,null,5.6,16]
[9,"5",2023,"105723",{"$f":"IFERROR(VLOOKUP(Tabla_SERIED_11_6[[#This Row],[IdEstablecimiento]],'[2]Establecimiento 2023'!$A$1:$E$183,3,FALSE),0)","v":"105723-Centro Comunitario de Salud Familiar Limarí"},{"$f":"IFERROR(VLOOKUP(Tabla_SERIED_11_6[[#This Row],[IdEstablecimiento]],'[2]Establecimiento 2023'!$A$1:$E$183,5,FALSE),0)","v":"04301-Ovalle"},"16090300","2023-10-17T15:39:00",239,239]
[9,"5",2023,"200258",{"$f":"IFERROR(VLOOKUP(Tabla_SERIED_11_6[[#This Row],[IdEstablecimiento]],'[2]Establecimiento 2023'!$A$1:$E$183,3,FALSE),0)","v":"200258-Centro Comunitario de Salud Familiar Los Copihues"},{"$f":"IFERROR(VLOOKUP(Tabla_SERIED_11_6[[#This Row],[IdEstablecimiento]],'[2]Establecimiento 2023'!$A$1:$E$183,5,FALSE),0)","v":"04301-Ovalle"},"15080014","2023-10-17T15:40:47",50,{"$nulls":3},22,28]
[9,"5",2023,"105318",{"$f":"IFERROR(VLOOKUP(Tabla_SERIED_11_6[[#This Row],[IdEstablecimiento]],'[2]Establecimiento 2023'!$A$1:$E$183,3,FALSE),0)","v":"105318-Centro de Salud Familiar El Palqui"},{"$f":"IFERROR(VLOOKUP(Tabla_SERIED_11_6[[#This Row],[IdEstablecimiento]],'[2]Establecimiento 2023'!$A$1:$E$183,5,FALSE),0)","v":"04303-Monte Patria"},"16200230","2023-10-17T11:00:51",5,4,1]
[9,"5",2023,"105321",{"$f":"IFERROR(VLOOKUP(Tabla_SERIED_11_6[[#This Row],[IdEstablecimiento]],'[2]Establecimiento 2023'!$A$1:$E$183,3,FALSE),0)","v":"105321-Centro de Salud Familiar Tongoy"},{"$f":"IFERROR(VLOOKUP(Tabla_SERIED_11_6[[#This Row],[IdEstablecimiento]],'[2]Establecimiento 2023'!$A$1:$E$183,5,FALSE),0)","v":"04102-Coquimbo"},"16090300","2023-10-17T11:02:58",165,165]
[9,"5",2023,"105322",{"$f":"IFERROR(VLOOKUP(Tabla_SERIED_11_6[[#This Row],[IdEstablecimiento]],'[2]Establecimiento 2023'!$A$1:$E$183,3,FALSE),0)","v":"105322-Centro de Salud Familiar Marcos Macuada"},{"$f":"IFERROR(VLOOKUP(Tabla_SERIED_11_6[[#This Row],[IdEstablecimiento]],'[2]Establecimiento 2023'!$A$1:$E$183,5,FALSE),0)","v":"04301-Ovalle"},"15050100","2023-10-17T11:04:22",411,177,234,7,9,40,46,59,87,91,47,null,8,9,8]
[9,"5",2023,"105322",{"$f":"IFERROR(VLOOKUP(Tabla_SERIED_11_6[[#This Row],[IdEstablecimiento]],'[2]Establecimiento 2023'!$A$1:$E$183,3,FALSE),0)","v":"105322-Centro de Salud Familiar Marcos Macuada"},{"$f":"IFERROR(VLOOKUP(Tabla_SERIED_11_6[[#This Row],[IdEstablecimiento]],'[2]Establecimiento 2023'!$A$1:$E$183,5,FALSE),0)","v":"04301-Ovalle"},"16090300","2023-10-17T11:04:22",758,758]
[9,"5",2023,"105323",{"$f":"IFERROR(VLOOKUP(Tabla_SERIED_11_6[[#This Row],[IdEstablecimiento]],'[2]Establecimiento 2023'!$A$1:$E$183,3,FALSE),0)","v":"105323-Centro de Salud Familiar Dr. Sergio Aguilar Delgado"},{"$f":"IFERROR(VLOOKUP(Tabla_SERIED_11_6[[#This Row],[IdEstablecimiento]],'[2]Establecimiento 2023'!$A$1:$E$183,5,FALSE),0)","v":"04102-Coquimbo"},"15080019","2023-10-17T11:04:16",14,{"$nulls":5},4,10]
[9,"5",2023,"105323",{"$f":"IFERROR(VLOOKUP(Tabla_SERIED_11_6[[#This Row],[IdEstablecimiento]],'[2]Establecimiento 2023'!$A$1:$E$183,3,FALSE),0)","v":"105323-Centro de Salud Familiar Dr. Sergio Aguilar Delgado"},{"$f":"IFERROR(VLOOKUP(Tabla_SERIED_11_6[[#This Row],[IdEstablecimiento]],'[2]Establecimiento 2023'!$A$1:$E$183,5,FALSE),0)","v":"04102-Coquimbo"},"16200230","2023-10-17T11:04:16",1,1]
[9,"5",2023,"105324",{"$f":"IFERROR(VLOOKUP(Tabla_SERIED_11_6[[#This Row],[IdEstablecimiento]],'[2]Establecimiento 2023'!$A$1:$E$183,3,FALSE),0)","v":"105324-Centro de Salud Familiar Sotaquí"},{"$f":"IFERROR(VLOOKUP(Tabla_SERIED_11_6[[#This Row],[IdEstablecimiento]],'[2]Establecimiento 2023'!$A$1:$E$183,5,FALSE),0)","v":"04301-Ovalle"},"15010500","2023-10-17T11:06:34",20,{"$nulls":3},2,2,6,10]
[9,"5",2023,"105324",{"$f":"IFERROR(VLOOKUP(Tabla_SERIED_11_6[[#This Row],[IdEstablecimiento]],'[2]Establecimiento 2023'!$A$1:$E$183,3,FALSE),0)","v":"105324-Centro de Salud Familiar Sotaquí"},{"$f":"IFERROR(VLOOKUP(Tabla_SERIED_11_6[[#This Row],[IdEstablecimiento]],'[2]Establecimiento 2023'!$A$1:$E$183,5,FALSE),0)","v":"04301-Ovalle"},"15080016","2023-10-17T11:06:34",20,{"$nulls":3},2,2,6,10]
[9,"5",2023,"105325",{"$f":"IFERROR(VLOOKUP(Tabla_SERIED_11_6[[#This Row],[IdEstablecimiento]],'[2]Establecimiento 2023'!$A$1:$E$183,3,FALSE),0)","v":"105325-Centro de Salud Familiar Juan Pablo II (La Serena)"},{"$f":"IFERROR(VLOOKUP(Tabla_SERIED_11_6[[#This Row],[IdEstablecimiento]],'[2]Establecimiento 2023'!$A$1:$E$183,5,FALSE),0)","v":"04101-La Serena"},"15900050","2023-10-17T11:06:28",8,5,3,0,3,2,1,2]
[9,"5",2023,"105326",{"$f":"IFERROR(VLOOKUP(Tabla_SERIED_11_6[[#This Row],[IdEstablecimiento]],'[2]Establecimiento 2023'!$A$1:$E$183,3,FALSE),0)","v":"105326-Centro de Salud Familiar Villa San Rafael de Rozas"},{"$f":"IFERROR(VLOOKUP(Tabla_SERIED_11_6[[#This Row],[IdEstablecimiento]],'[2]Establecimiento 2023'!$A$1:$E$183,5,FALSE),0)","v":"04201-Illapel"},"15010500","2023-10-17T11:07:10",11,null,1,4,2,null,2,2]
[9,"5",2023,"105326",{"$f":"IFERROR(VLOOKUP(Tabla_SERIED_11_6[[#This Row],[IdEstablecimiento]],'[2]Establecimiento 2023'!$A$1:$E$183,3,FALSE),0)","v":"105326-Centro de Salud Familiar Villa San Rafael de Rozas"},{"$f":"IFERROR(VLOOKUP(Tabla_SERIED_11_6[[#This Row],[IdEstablecimiento]],'[2]Establecimiento 2023'!$A$1:$E$183,5,FALSE),0)","v":"04201-Illapel"},"15050100","2023-10-17T11:07:10",181,94,87,null,3,7,26,22,59,41,9,null,6,1,7]
[9,"5",2023,"105326",{"$f":"IFERROR(VLOOKUP(Tabla_SERIED_11_6[[#This Row],[IdEstablecimiento]],'[2]Establecimiento 2023'!$A$1:$E$183,3,FALSE),0)","v":"105326-Centro de Salud Familiar Villa San Rafael de Rozas"},{"$f":"IFERROR(VLOOKUP(Tabla_SERIED_11_6[[#This Row],[IdEstablecimiento]],'[2]Establecimiento 2023'!$A$1:$E$183,5,FALSE),0)","v":"04201-Illapel"},"15900010","2023-10-17T11:07:10",28.8,null,10.4,18.4]
[9,"5",2023,"105326",{"$f":"IFERROR(VLOOKUP(Tabla_SERIED_11_6[[#This Row],[IdEstablecimiento]],'[2]Establecimiento 2023'!$A$1:$E$183,3,FALSE),0)","v":"105326-Centro de Salud Familiar Villa San Rafael de Rozas"},{"$f":"IFERROR(VLOOKUP(Tabla_SERIED_11_6[[#This Row],[IdEstablecimiento]],'[2]Establecimiento 2023'!$A$1:$E$183,5,FALSE),0)","v":"04201-Illapel"},"15900030","2023-10-17T11:07:10",4.4,null,null,4.4]
[9,"5",2023,"105326",{"$f":"IFERROR(VLOOKUP(Tabla_SERIED_11_6[[#This Row],[IdEstablecimiento]],'[2]Establecimiento 2023'!$A$1:$E$183,3,FALSE),0)","v":"105326-Centro de Salud Familiar Villa San Rafael de Rozas"},{"$f":"IFERROR(VLOOKUP(Tabla_SERIED_11_6[[#This Row],[IdEstablecimiento]],'[2]Establecimiento 2023'!$A$1:$E$183,5,FALSE),0)","v":"04201-Illapel"},"15900050","2023-10-17T11:07:10",1,1,{"$nulls":3},1]
[9,"5",2023,"105326",{"$f":"IFERROR(VLOOKUP(Tabla_SERIED_11_6[[#This Row],[IdEstablecimiento]],'[2]Establecimiento 2023'!$A$1:$E$183,3,FALSE),0)","v":"105326-Centro de Salud Familiar Villa San Rafael de Rozas"},{"$f":"IFERROR(VLOOKUP(Tabla_SERIED_11_6[[#This Row],[IdEstablecimiento]],'[2]Establecimiento 2023'!$A$1:$E$183,5,FALSE),0)","v":"04201-Illapel"},"16100300","2023-10-17T11:07:10",177,72,105]
[9,"5",2023,"105326",{"$f":"IFERROR(VLOOKUP(Tabla_SERIED_11_6[[#This Row],[IdEstablecimiento]],'[2]Establecimiento 2023'!$A$1:$E$183,3,FALSE),0)","v":"105326-Centro de Salud Familiar Villa San Rafael de Rozas"},{"$f":"IFERROR(VLOOKUP(Tabla_SERIED_11_6[[#This Row],[IdEstablecimiento]],'[2]Establecimiento 2023'!$A$1:$E$183,5,FALSE),0)","v":"04201-Illapel"},"16100600","2023-10-17T11:07:10",3,1,2]
[9,"5",2023,"105400",{"$f":"IFERROR(VLOOKUP(Tabla_SERIED_11_6[[#This Row],[IdEstablecimiento]],'[2]Establecimiento 2023'!$A$1:$E$183,3,FALSE),0)","v":"105400-Posta de Salud Rural Algarrobito"},{"$f":"IFERROR(VLOOKUP(Tabla_SERIED_11_6[[#This Row],[IdEstablecimiento]],'[2]Establecimiento 2023'!$A$1:$E$183,5,FALSE),0)","v":"04101-La Serena"},"16090300","2023-10-17T11:07:46",239,239]
[9,"5",2023,"105401",{"$f":"IFERROR(VLOOKUP(Tabla_SERIED_11_6[[#This Row],[IdEstablecimiento]],'[2]Establecimiento 2023'!$A$1:$E$183,3,FALSE),0)","v":"105401-Posta de Salud Rural Las Rojas"},{"$f":"IFERROR(VLOOKUP(Tabla_SERIED_11_6[[#This Row],[IdEstablecimiento]],'[2]Establecimiento 2023'!$A$1:$E$183,5,FALSE),0)","v":"04101-La Serena"},"15080015","2023-10-17T11:08:18",12,{"$nulls":5},10,2]
[9,"5",2023,"105402",{"$f":"IFERROR(VLOOKUP(Tabla_SERIED_11_6[[#This Row],[IdEstablecimiento]],'[2]Establecimiento 2023'!$A$1:$E$183,3,FALSE),0)","v":"105402-Posta de Salud Rural El Romero"},{"$f":"IFERROR(VLOOKUP(Tabla_SERIED_11_6[[#This Row],[IdEstablecimiento]],'[2]Establecimiento 2023'!$A$1:$E$183,5,FALSE),0)","v":"04101-La Serena"},"15050100","2023-10-17T11:09:25",39,21,18,null,null,3,5,10,8,6,2,null,5]
[9,"5",2023,"105402",{"$f":"IFERROR(VLOOKUP(Tabla_SERIED_11_6[[#This Row],[IdEstablecimiento]],'[2]Establecimiento 2023'!$A$1:$E$183,3,FALSE),0)","v":"105402-Posta de Salud Rural El Romero"},{"$f":"IFERROR(VLOOKUP(Tabla_SERIED_11_6[[#This Row],[IdEstablecimiento]],'[2]Establecimiento 2023'!$A$1:$E$183,5,FALSE),0)","v":"04101-La Serena"},"15900010","2023-10-17T11:09:25",6.4,null,null,6.4]
[9,"5",2023,"105405",{"$f":"IFERROR(VLOOKUP(Tabla_SERIED_11_6[[#This Row],[IdEstablecimiento]],'[2]Establecimiento 2023'!$A$1:$E$183,3,FALSE),0)","v":"105405-Posta de Salud Rural Guanaqueros"},{"$f":"IFERROR(VLOOKUP(Tabla_SERIED_11_6[[#This Row],[IdEstablecimiento]],'[2]Establecimiento 2023'!$A$1:$E$183,5,FALSE),0)","v":"04102-Coquimbo"},"15080008","2023-10-17T11:13:10",6,{"$nulls":7},2,null,4,null,0]
[9,"5",2023,"105407",{"$f":"IFERROR(VLOOKUP(Tabla_SERIED_11_6[[#This Row],[IdEstablecimiento]],'[2]Establecimiento 2023'!$A$1:$E$183,3,FALSE),0)","v":"105407-Posta de Salud Rural Tambillo"},{"$f":"IFERROR(VLOOKUP(Tabla_SERIED_11_6[[#This Row],[IdEstablecimiento]],'[2]Establecimiento 2023'!$A$1:$E$183,5,FALSE),0)","v":"04102-Coquimbo"},"15050100","2023-10-17T11:12:30",15,6,9,0,0,0,6,2,2,2,3,null,0,0,0]
[9,"5",2023,"105407",{"$f":"IFERROR(VLOOKUP(Tabla_SERIED_11_6[[#This Row],[IdEstablecimiento]],'[2]Establecimiento 2023'!$A$1:$E$183,3,FALSE),0)","v":"105407-Posta de Salud Rural Tambillo"},{"$f":"IFERROR(VLOOKUP(Tabla_SERIED_11_6[[#This Row],[IdEstablecimiento]],'[2]Establecimiento 2023'!$A$1:$E$183,5,FALSE),0)","v":"04102-Coquimbo"},"15080015","2023-10-17T11:12:30",7,{"$nulls":5},4,3]
[9,"5",2023,"105323",{"$f":"IFERROR(VLOOKUP(Tabla_SERIED_11_6[[#This Row],[IdEstablecimiento]],'[2]Establecimiento 2023'!$A$1:$E$183,3,FALSE),0)","v":"105323-Centro de Salud Familiar Dr. Sergio Aguilar Delgado"},{"$f":"IFERROR(VLOOKUP(Tabla_SERIED_11_6[[#This Row],[IdEstablecimiento]],'[2]Establecimiento 2023'!$A$1:$E$183,5,FALSE),0)","v":"04102-Coquimbo"},"16200220","2023-10-17T11:04:16",59,23,36]
[9,"5",2023,"105324",{"$f":"IFERROR(VLOOKUP(Tabla_SERIED_11_6[[#This Row],[IdEstablecimiento]],'[2]Establecimiento 2023'!$A$1:$E$183,3,FALSE),0)","v":"105324-Centro de Salud Familiar Sotaquí"},{"$f":"IFERROR(VLOOKUP(Tabla_SERIED_11_6[[#This Row],[IdEstablecimiento]],'[2]Establecimiento 2023'!$A$1:$E$183,5,FALSE),0)","v":"04301-Ovalle"},"15900020","2023-10-17T11:06:34",23.2,null,4,19.2]
[9,"5",2023,"105325",{"$f":"IFERROR(VLOOKUP(Tabla_SERIED_11_6[[#This Row],[IdEstablecimiento]],'[2]Establecimiento 2023'!$A$1:$E$183,3,FALSE),0)","v":"105325-Centro de Salud Familiar Juan Pablo II (La Serena)"},{"$f":"IFERROR(VLOOKUP(Tabla_SERIED_11_6[[#This Row],[IdEstablecimiento]],'[2]Establecimiento 2023'!$A$1:$E$183,5,FALSE),0)","v":"04101-La Serena"},"15010500","2023-10-17T11:06:28",34,null,0,4,4,2,12,12]
[9,"5",2023,"105325",{"$f":"IFERROR(VLOOKUP(Tabla_SERIED_11_6[[#This Row],[IdEstablecimiento]],'[2]Establecimiento 2023'!$A$1:$E$183,3,FALSE),0)","v":"105325-Centro de Salud Familiar Juan Pablo II (La Serena)"},{"$f":"IFERROR(VLOOKUP(Tabla_SERIED_11_6[[#This Row],[IdEstablecimiento]],'[2]Establecimiento 2023'!$A$1:$E$183,5,FALSE),0)","v":"04101-La Serena"},"15080018","2023-10-17T11:06:28",10,0,0,0,0,10]
[9,"5",2023,"105325",{"$f":"IFERROR(VLOOKUP(Tabla_SERIED_11_6[[#This Row],[IdEstablecimiento]],'[2]Establecimiento 2023'!$A$1:$E$183,3,FALSE),0)","v":"105325-Centro de Salud Familiar Juan Pablo II (La Serena)"},{"$f":"IFERROR(VLOOKUP(Tabla_SERIED_11_6[[#This Row],[IdEstablecimiento]],'[2]Establecimiento 2023'!$A$1:$E$183,5,FALSE),0)","v":"04101-La Serena"},"16200210","2023-10-17T11:06:28",54,54]
[9,"5",2023,"105400",{"$f":"IFERROR(VLOOKUP(Tabla_SERIED_11_6[[#This Row],[IdEstablecimiento]],'[2]Establecimiento 2023'!$A$1:$E$183,3,FALSE),0)","v":"105400-Posta de Salud Rural Algarrobito"},{"$f":"IFERROR(VLOOKUP(Tabla_SERIED_11_6[[#This Row],[IdEstablecimiento]],'[2]Establecimiento 2023'!$A$1:$E$183,5,FALSE),0)","v":"04101-La Serena"},"15080008","2023-10-17T11:07:46",9,{"$nulls":7},9]
[9,"5",2023,"105400",{"$f":"IFERROR(VLOOKUP(Tabla_SERIED_11_6[[#This Row],[IdEstablecimiento]],'[2]Establecimiento 2023'!$A$1:$E$183,3,FALSE),0)","v":"105400-Posta de Salud Rural Algarrobito"},{"$f":"IFERROR(VLOOKUP(Tabla_SERIED_11_6[[#This Row],[IdEstablecimiento]],'[2]Establecimiento 2023'!$A$1:$E$183,5,FALSE),0)","v":"04101-La Serena"},"15900030","2023-10-17T11:07:46",4,null,null,4]
[9,"5",2023,"105405",{"$f":"IFERROR(VLOOKUP(Tabla_SERIED_11_6[[#This Row],[IdEstablecimiento]],'[2]Establecimiento 2023'!$A$1:$E$183,3,FALSE),0)","v":"105405-Posta de Salud Rural Guanaqueros"},{"$f":"IFERROR(VLOOKUP(Tabla_SERIED_11_6[[#This Row],[IdEstablecimiento]],'[2]Establecimiento 2023'!$A$1:$E$183,5,FALSE),0)","v":"04102-Coquimbo"},"15080015","2023-10-17T11:13:10",32,{"$nulls":5},28,4]
[9,"5",2023,"105407",{"$f":"IFERROR(VLOOKUP(Tabla_SERIED_11_6[[#This Row],[IdEstablecimiento]],'[2]Establecimiento 2023'!$A$1:$E$183,3,FALSE),0)","v":"105407-Posta de Salud Rural Tambillo"},{"$f":"IFERROR(VLOOKUP(Tabla_SERIED_11_6[[#This Row],[IdEstablecimiento]],'[2]Establecimiento 2023'!$A$1:$E$183,5,FALSE),0)","v":"04102-Coquimbo"},"16200220","2023-10-17T11:12:30",4,2,2]
[9,"5",2023,"105410",{"$f":"IFERROR(VLOOKUP(Tabla_SERIED_11_6[[#This Row],[IdEstablecimiento]],'[2]Establecimiento 2023'!$A$1:$E$183,3,FALSE),0)","v":"105410-Posta de Salud Rural Hurtado"},{"$f":"IFERROR(VLOOKUP(Tabla_SERIED_11_6[[#This Row],[IdEstablecimiento]],'[2]Establecimiento 2023'!$A$1:$E$183,5,FALSE),0)","v":"04305-Rio Hurtado"},"15900010","2023-10-17T11:17:18",3.2,null,null,3.2]
[9,"5",2023,"105413",{"$f":"IFERROR(VLOOKUP(Tabla_SERIED_11_6[[#This Row],[IdEstablecimiento]],'[2]Establecimiento 2023'!$A$1:$E$183,3,FALSE),0)","v":"105413-Posta de Salud Rural Samo Alto"},{"$f":"IFERROR(VLOOKUP(Tabla_SERIED_11_6[[#This Row],[IdEstablecimiento]],'[2]Establecimiento 2023'!$A$1:$E$183,5,FALSE),0)","v":"04305-Rio Hurtado"},"16200210","2023-10-17T11:19:13",6,6]
[9,"5",2023,"105416",{"$f":"IFERROR(VLOOKUP(Tabla_SERIED_11_6[[#This Row],[IdEstablecimiento]],'[2]Establecimiento 2023'!$A$1:$E$183,3,FALSE),0)","v":"105416-Posta de Salud Rural Camarico (Ovalle)"},{"$f":"IFERROR(VLOOKUP(Tabla_SERIED_11_6[[#This Row],[IdEstablecimiento]],'[2]Establecimiento 2023'!$A$1:$E$183,5,FALSE),0)","v":"04301-Ovalle"},"16100300","2023-10-17T11:21:31",97,44,53]
[9,"5",2023,"105416",{"$f":"IFERROR(VLOOKUP(Tabla_SERIED_11_6[[#This Row],[IdEstablecimiento]],'[2]Establecimiento 2023'!$A$1:$E$183,3,FALSE),0)","v":"105416-Posta de Salud Rural Camarico (Ovalle)"},{"$f":"IFERROR(VLOOKUP(Tabla_SERIED_11_6[[#This Row],[IdEstablecimiento]],'[2]Establecimiento 2023'!$A$1:$E$183,5,FALSE),0)","v":"04301-Ovalle"},"16200210","2023-10-17T11:21:31",13,13]
[9,"5",2023,"105417",{"$f":"IFERROR(VLOOKUP(Tabla_SERIED_11_6[[#This Row],[IdEstablecimiento]],'[2]Establecimiento 2023'!$A$1:$E$183,3,FALSE),0)","v":"105417-Posta de Salud Rural Alcones Bajo"},{"$f":"IFERROR(VLOOKUP(Tabla_SERIED_11_6[[#This Row],[IdEstablecimiento]],'[2]Establecimiento 2023'!$A$1:$E$183,5,FALSE),0)","v":"04301-Ovalle"},"15050100","2023-10-17T11:21:25",24,8,16,null,null,2,5,1,3,5,3,null,3,null,2]
[9,"5",2023,"105419",{"$f":"IFERROR(VLOOKUP(Tabla_SERIED_11_6[[#This Row],[IdEstablecimiento]],'[2]Establecimiento 2023'!$A$1:$E$183,3,FALSE),0)","v":"105419-Posta de Salud Rural Las Sossas"},{"$f":"IFERROR(VLOOKUP(Tabla_SERIED_11_6[[#This Row],[IdEstablecimiento]],'[2]Establecimiento 2023'!$A$1:$E$183,5,FALSE),0)","v":"04301-Ovalle"},"15050100","2023-10-17T11:23:59",4,3,1,{"$nulls":5},2,1,null,null,1]
[9,"5",2023,"105428",{"$f":"IFERROR(VLOOKUP(Tabla_SERIED_11_6[[#This Row],[IdEstablecimiento]],'[2]Establecimiento 2023'!$A$1:$E$183,3,FALSE),0)","v":"105428-Posta de Salud Rural Huatulame"},{"$f":"IFERROR(VLOOKUP(Tabla_SERIED_11_6[[#This Row],[IdEstablecimiento]],'[2]Establecimiento 2023'!$A$1:$E$183,5,FALSE),0)","v":"04303-Monte Patria"},"15080014","2023-10-17T11:27:21",6,{"$nulls":3},2,4]
[9,"5",2023,"105428",{"$f":"IFERROR(VLOOKUP(Tabla_SERIED_11_6[[#This Row],[IdEstablecimiento]],'[2]Establecimiento 2023'!$A$1:$E$183,3,FALSE),0)","v":"105428-Posta de Salud Rural Huatulame"},{"$f":"IFERROR(VLOOKUP(Tabla_SERIED_11_6[[#This Row],[IdEstablecimiento]],'[2]Establecimiento 2023'!$A$1:$E$183,5,FALSE),0)","v":"04303-Monte Patria"},"16200210","2023-10-17T11:27:21",9,9]
[9,"5",2023,"105430",{"$f":"IFERROR(VLOOKUP(Tabla_SERIED_11_6[[#This Row],[IdEstablecimiento]],'[2]Establecimiento 2023'!$A$1:$E$183,3,FALSE),0)","v":"105430-Posta de Salud Rural Mialqui"},{"$f":"IFERROR(VLOOKUP(Tabla_SERIED_11_6[[#This Row],[IdEstablecimiento]],'[2]Establecimiento 2023'!$A$1:$E$183,5,FALSE),0)","v":"04303-Monte Patria"},"16200210","2023-10-17T11:28:45",13,13]
[9,"5",2023,"105430",{"$f":"IFERROR(VLOOKUP(Tabla_SERIED_11_6[[#This Row],[IdEstablecimiento]],'[2]Establecimiento 2023'!$A$1:$E$183,3,FALSE),0)","v":"105430-Posta de Salud Rural Mialqui"},{"$f":"IFERROR(VLOOKUP(Tabla_SERIED_11_6[[#This Row],[IdEstablecimiento]],'[2]Establecimiento 2023'!$A$1:$E$183,5,FALSE),0)","v":"04303-Monte Patria"},"16200220","2023-10-17T11:28:45",13,5,8]
[9,"5",2023,"105432",{"$f":"IFERROR(VLOOKUP(Tabla_SERIED_11_6[[#This Row],[IdEstablecimiento]],'[2]Establecimiento 2023'!$A$1:$E$183,3,FALSE),0)","v":"105432-Posta de Salud Rural Rapel (Monte Patria)"},{"$f":"IFERROR(VLOOKUP(Tabla_SERIED_11_6[[#This Row],[IdEstablecimiento]],'[2]Establecimiento 2023'!$A$1:$E$183,5,FALSE),0)","v":"04303-Monte Patria"},"15080014","2023-10-17T11:29:54",8,{"$nulls":3},6,2]
[9,"5",2023,"105434",{"$f":"IFERROR(VLOOKUP(Tabla_SERIED_11_6[[#This Row],[IdEstablecimiento]],'[2]Establecimiento 2023'!$A$1:$E$183,3,FALSE),0)","v":"105434-Posta de Salud Rural San Marcos (Combarbalá)"},{"$f":"IFERROR(VLOOKUP(Tabla_SERIED_11_6[[#This Row],[IdEstablecimiento]],'[2]Establecimiento 2023'!$A$1:$E$183,5,FALSE),0)","v":"04302-Combarbalá"},"15080008","2023-10-17T11:32:09",3,{"$nulls":7},1,null,null,1,1]
[9,"5",2023,"105434",{"$f":"IFERROR(VLOOKUP(Tabla_SERIED_11_6[[#This Row],[IdEstablecimiento]],'[2]Establecimiento 2023'!$A$1:$E$183,3,FALSE),0)","v":"105434-Posta de Salud Rural San Marcos (Combarbalá)"},{"$f":"IFERROR(VLOOKUP(Tabla_SERIED_11_6[[#This Row],[IdEstablecimiento]],'[2]Establecimiento 2023'!$A$1:$E$183,5,FALSE),0)","v":"04302-Combarbalá"},"16200100","2023-10-17T11:32:09",3,1,2]
[9,"5",2023,"105436",{"$f":"IFERROR(VLOOKUP(Tabla_SERIED_11_6[[#This Row],[IdEstablecimiento]],'[2]Establecimiento 2023'!$A$1:$E$183,3,FALSE),0)","v":"105436-Posta de Salud Rural El Maitén"},{"$f":"IFERROR(VLOOKUP(Tabla_SERIED_11_6[[#This Row],[IdEstablecimiento]],'[2]Establecimiento 2023'!$A$1:$E$183,5,FALSE),0)","v":"04303-Monte Patria"},"15080008","2023-10-17T11:35:26",4,{"$nulls":7},1,null,2,null,1]
[9,"5",2023,"105436",{"$f":"IFERROR(VLOOKUP(Tabla_SERIED_11_6[[#This Row],[IdEstablecimiento]],'[2]Establecimiento 2023'!$A$1:$E$183,3,FALSE),0)","v":"105436-Posta de Salud Rural El Maitén"},{"$f":"IFERROR(VLOOKUP(Tabla_SERIED_11_6[[#This Row],[IdEstablecimiento]],'[2]Establecimiento 2023'!$A$1:$E$183,5,FALSE),0)","v":"04303-Monte Patria"},"15080014","2023-10-17T11:35:26",6,{"$nulls":3},4,2]
[9,"5",2023,"105106",{"$f":"IFERROR(VLOOKUP(Tabla_SERIED_11_6[[#This Row],[IdEstablecimiento]],'[2]Establecimiento 2023'!$A$1:$E$183,3,FALSE),0)","v":"105106-Hospital Dr. José Arraño (Andacollo)"},{"$f":"IFERROR(VLOOKUP(Tabla_SERIED_11_6[[#This Row],[IdEstablecimiento]],'[2]Establecimiento 2023'!$A$1:$E$183,5,FALSE),0)","v":"105106-Hospital Andacollo"},"15050100","2023-10-17T09:51:53",221,100,121,6,9,18,36,20,53,45,22,null,3,7,2]
[9,"5",2023,"105106",{"$f":"IFERROR(VLOOKUP(Tabla_SERIED_11_6[[#This Row],[IdEstablecimiento]],'[2]Establecimiento 2023'!$A$1:$E$183,3,FALSE),0)","v":"105106-Hospital Dr. José Arraño (Andacollo)"},{"$f":"IFERROR(VLOOKUP(Tabla_SERIED_11_6[[#This Row],[IdEstablecimiento]],'[2]Establecimiento 2023'!$A$1:$E$183,5,FALSE),0)","v":"105106-Hospital Andacollo"},"16200210","2023-10-17T09:51:53",33,33]
[9,"5",2023,"105107",{"$f":"IFERROR(VLOOKUP(Tabla_SERIED_11_6[[#This Row],[IdEstablecimiento]],'[2]Establecimiento 2023'!$A$1:$E$183,3,FALSE),0)","v":"105107-Hospital San Juan de Dios (Vicuña)"},{"$f":"IFERROR(VLOOKUP(Tabla_SERIED_11_6[[#This Row],[IdEstablecimiento]],'[2]Establecimiento 2023'!$A$1:$E$183,5,FALSE),0)","v":"105107-Hospital Vicuña"},"15050200","2023-10-17T09:53:51",9,4,5,null,1,null,1,null,4,3]
[9,"5",2023,"105107",{"$f":"IFERROR(VLOOKUP(Tabla_SERIED_11_6[[#This Row],[IdEstablecimiento]],'[2]Establecimiento 2023'!$A$1:$E$183,3,FALSE),0)","v":"105107-Hospital San Juan de Dios (Vicuña)"},{"$f":"IFERROR(VLOOKUP(Tabla_SERIED_11_6[[#This Row],[IdEstablecimiento]],'[2]Establecimiento 2023'!$A$1:$E$183,5,FALSE),0)","v":"105107-Hospital Vicuña"},"15080019","2023-10-17T09:53:51",6,{"$nulls":5},2,4]
[9,"5",2023,"105107",{"$f":"IFERROR(VLOOKUP(Tabla_SERIED_11_6[[#This Row],[IdEstablecimiento]],'[2]Establecimiento 2023'!$A$1:$E$183,3,FALSE),0)","v":"105107-Hospital San Juan de Dios (Vicuña)"},{"$f":"IFERROR(VLOOKUP(Tabla_SERIED_11_6[[#This Row],[IdEstablecimiento]],'[2]Establecimiento 2023'!$A$1:$E$183,5,FALSE),0)","v":"105107-Hospital Vicuña"},"16200210","2023-10-17T09:53:51",9,9]
[9,"5",2023,"105105",{"$f":"IFERROR(VLOOKUP(Tabla_SERIED_11_6[[#This Row],[IdEstablecimiento]],'[2]Establecimiento 2023'!$A$1:$E$183,3,FALSE),0)","v":"105105-Hospital San Juan de Dios (Combarbalá)"},{"$f":"IFERROR(VLOOKUP(Tabla_SERIED_11_6[[#This Row],[IdEstablecimiento]],'[2]Establecimiento 2023'!$A$1:$E$183,5,FALSE),0)","v":"105105-Hospital Combarbalá"},"15050200","2023-10-17T09:51:49",8,5,3,null,null,1,null,null,3,4]
[9,"5",2023,"105105",{"$f":"IFERROR(VLOOKUP(Tabla_SERIED_11_6[[#This Row],[IdEstablecimiento]],'[2]Establecimiento 2023'!$A$1:$E$183,3,FALSE),0)","v":"105105-Hospital San Juan de Dios (Combarbalá)"},{"$f":"IFERROR(VLOOKUP(Tabla_SERIED_11_6[[#This Row],[IdEstablecimiento]],'[2]Establecimiento 2023'!$A$1:$E$183,5,FALSE),0)","v":"105105-Hospital Combarbalá"},"16200210","2023-10-17T09:51:49",23,23]
[9,"5",2023,"105106",{"$f":"IFERROR(VLOOKUP(Tabla_SERIED_11_6[[#This Row],[IdEstablecimiento]],'[2]Establecimiento 2023'!$A$1:$E$183,3,FALSE),0)","v":"105106-Hospital Dr. José Arraño (Andacollo)"},{"$f":"IFERROR(VLOOKUP(Tabla_SERIED_11_6[[#This Row],[IdEstablecimiento]],'[2]Establecimiento 2023'!$A$1:$E$183,5,FALSE),0)","v":"105106-Hospital Andacollo"},"15080019","2023-10-17T09:51:53",4,{"$nulls":5},2,2]
[9,"5",2023,"105106",{"$f":"IFERROR(VLOOKUP(Tabla_SERIED_11_6[[#This Row],[IdEstablecimiento]],'[2]Establecimiento 2023'!$A$1:$E$183,3,FALSE),0)","v":"105106-Hospital Dr. José Arraño (Andacollo)"},{"$f":"IFERROR(VLOOKUP(Tabla_SERIED_11_6[[#This Row],[IdEstablecimiento]],'[2]Establecimiento 2023'!$A$1:$E$183,5,FALSE),0)","v":"105106-Hospital Andacollo"},"16090600","2023-10-17T09:51:53",1,1]
[9,"5",2023,"105107",{"$f":"IFERROR(VLOOKUP(Tabla_SERIED_11_6[[#This Row],[IdEstablecimiento]],'[2]Establecimiento 2023'!$A$1:$E$183,3,FALSE),0)","v":"105107-Hospital San Juan de Dios (Vicuña)"},{"$f":"IFERROR(VLOOKUP(Tabla_SERIED_11_6[[#This Row],[IdEstablecimiento]],'[2]Establecimiento 2023'!$A$1:$E$183,5,FALSE),0)","v":"105107-Hospital Vicuña"},"15010500","2023-10-17T09:53:51",16,{"$nulls":3},2,null,8,6]
[9,"5",2023,"105107",{"$f":"IFERROR(VLOOKUP(Tabla_SERIED_11_6[[#This Row],[IdEstablecimiento]],'[2]Establecimiento 2023'!$A$1:$E$183,3,FALSE),0)","v":"105107-Hospital San Juan de Dios (Vicuña)"},{"$f":"IFERROR(VLOOKUP(Tabla_SERIED_11_6[[#This Row],[IdEstablecimiento]],'[2]Establecimiento 2023'!$A$1:$E$183,5,FALSE),0)","v":"105107-Hospital Vicuña"},"16200220","2023-10-17T09:53:51",9,4,5]
[9,"5",2023,"105108",{"$f":"IFERROR(VLOOKUP(Tabla_SERIED_11_6[[#This Row],[IdEstablecimiento]],'[2]Establecimiento 2023'!$A$1:$E$183,3,FALSE),0)","v":"105108-Hospital San Pedro (Los Vilos)"},{"$f":"IFERROR(VLOOKUP(Tabla_SERIED_11_6[[#This Row],[IdEstablecimiento]],'[2]Establecimiento 2023'!$A$1:$E$183,5,FALSE),0)","v":"105108-Hospital Los Vilos"},"15010500","2023-10-17T09:54:40",14,null,null,2,null,4,4,4]
[9,"5",2023,"105300",{"$f":"IFERROR(VLOOKUP(Tabla_SERIED_11_6[[#This Row],[IdEstablecimiento]],'[2]Establecimiento 2023'!$A$1:$E$183,3,FALSE),0)","v":"105300-Centro de Salud Familiar Cardenal Caro"},{"$f":"IFERROR(VLOOKUP(Tabla_SERIED_11_6[[#This Row],[IdEstablecimiento]],'[2]Establecimiento 2023'!$A$1:$E$183,5,FALSE),0)","v":"04101-La Serena"},"15901400","2023-10-17T09:56:24",21,{"$nulls":3},2,11,4,4]
[9,"5",2023,"105300",{"$f":"IFERROR(VLOOKUP(Tabla_SERIED_11_6[[#This Row],[IdEstablecimiento]],'[2]Establecimiento 2023'!$A$1:$E$183,3,FALSE),0)","v":"105300-Centro de Salud Familiar Cardenal Caro"},{"$f":"IFERROR(VLOOKUP(Tabla_SERIED_11_6[[#This Row],[IdEstablecimiento]],'[2]Establecimiento 2023'!$A$1:$E$183,5,FALSE),0)","v":"04101-La Serena"},"16100300","2023-10-17T09:56:24",1131,463,668]
[9,"5",2023,"105301",{"$f":"IFERROR(VLOOKUP(Tabla_SERIED_11_6[[#This Row],[IdEstablecimiento]],'[2]Establecimiento 2023'!$A$1:$E$183,3,FALSE),0)","v":"105301-Centro de Salud Familiar Las Compañías"},{"$f":"IFERROR(VLOOKUP(Tabla_SERIED_11_6[[#This Row],[IdEstablecimiento]],'[2]Establecimiento 2023'!$A$1:$E$183,5,FALSE),0)","v":"04101-La Serena"},"15010500","2023-10-17T09:57:10",8,null,null,4,null,2,2]
[9,"5",2023,"105301",{"$f":"IFERROR(VLOOKUP(Tabla_SERIED_11_6[[#This Row],[IdEstablecimiento]],'[2]Establecimiento 2023'!$A$1:$E$183,3,FALSE),0)","v":"105301-Centro de Salud Familiar Las Compañías"},{"$f":"IFERROR(VLOOKUP(Tabla_SERIED_11_6[[#This Row],[IdEstablecimiento]],'[2]Establecimiento 2023'!$A$1:$E$183,5,FALSE),0)","v":"04101-La Serena"},"15080018","2023-10-17T09:57:10",4,{"$nulls":3},2,2]
[9,"5",2023,"105301",{"$f":"IFERROR(VLOOKUP(Tabla_SERIED_11_6[[#This Row],[IdEstablecimiento]],'[2]Establecimiento 2023'!$A$1:$E$183,3,FALSE),0)","v":"105301-Centro de Salud Familiar Las Compañías"},{"$f":"IFERROR(VLOOKUP(Tabla_SERIED_11_6[[#This Row],[IdEstablecimiento]],'[2]Establecimiento 2023'!$A$1:$E$183,5,FALSE),0)","v":"04101-La Serena"},"15080019","2023-10-17T09:57:10",6,{"$nulls":5},4,2]
[9,"5",2023,"105301",{"$f":"IFERROR(VLOOKUP(Tabla_SERIED_11_6[[#This Row],[IdEstablecimiento]],'[2]Establecimiento 2023'!$A$1:$E$183,3,FALSE),0)","v":"105301-Centro de Salud Familiar Las Compañías"},{"$f":"IFERROR(VLOOKUP(Tabla_SERIED_11_6[[#This Row],[IdEstablecimiento]],'[2]Establecimiento 2023'!$A$1:$E$183,5,FALSE),0)","v":"04101-La Serena"},"15900040","2023-10-17T09:57:10",8,null,3.6,4.4]
[9,"5",2023,"105302",{"$f":"IFERROR(VLOOKUP(Tabla_SERIED_11_6[[#This Row],[IdEstablecimiento]],'[2]Establecimiento 2023'!$A$1:$E$183,3,FALSE),0)","v":"105302-Centro de Salud Familiar Pedro Aguirre Cerda"},{"$f":"IFERROR(VLOOKUP(Tabla_SERIED_11_6[[#This Row],[IdEstablecimiento]],'[2]Establecimiento 2023'!$A$1:$E$183,5,FALSE),0)","v":"04101-La Serena"},"15080014","2023-10-17T09:56:49",338,{"$nulls":3},194,144]
[9,"5",2023,"105302",{"$f":"IFERROR(VLOOKUP(Tabla_SERIED_11_6[[#This Row],[IdEstablecimiento]],'[2]Establecimiento 2023'!$A$1:$E$183,3,FALSE),0)","v":"105302-Centro de Salud Familiar Pedro Aguirre Cerda"},{"$f":"IFERROR(VLOOKUP(Tabla_SERIED_11_6[[#This Row],[IdEstablecimiento]],'[2]Establecimiento 2023'!$A$1:$E$183,5,FALSE),0)","v":"04101-La Serena"},"15080019","2023-10-17T09:56:49",20,{"$nulls":5},12,8]
[9,"5",2023,"105302",{"$f":"IFERROR(VLOOKUP(Tabla_SERIED_11_6[[#This Row],[IdEstablecimiento]],'[2]Establecimiento 2023'!$A$1:$E$183,3,FALSE),0)","v":"105302-Centro de Salud Familiar Pedro Aguirre Cerda"},{"$f":"IFERROR(VLOOKUP(Tabla_SERIED_11_6[[#This Row],[IdEstablecimiento]],'[2]Establecimiento 2023'!$A$1:$E$183,5,FALSE),0)","v":"04101-La Serena"},"15901300","2023-10-17T09:56:49",12.4,4.8,null,3.6,4]
[9,"5",2023,"105304",{"$f":"IFERROR(VLOOKUP(Tabla_SERIED_11_6[[#This Row],[IdEstablecimiento]],'[2]Establecimiento 2023'!$A$1:$E$183,3,FALSE),0)","v":"105304-Centro de Salud Familiar Santa Cecilia"},{"$f":"IFERROR(VLOOKUP(Tabla_SERIED_11_6[[#This Row],[IdEstablecimiento]],'[2]Establecimiento 2023'!$A$1:$E$183,5,FALSE),0)","v":"04102-Coquimbo"},"16200210","2023-10-17T09:59:19",71,71]
[9,"5",2023,"105108",{"$f":"IFERROR(VLOOKUP(Tabla_SERIED_11_6[[#This Row],[IdEstablecimiento]],'[2]Establecimiento 2023'!$A$1:$E$183,3,FALSE),0)","v":"105108-Hospital San Pedro (Los Vilos)"},{"$f":"IFERROR(VLOOKUP(Tabla_SERIED_11_6[[#This Row],[IdEstablecimiento]],'[2]Establecimiento 2023'!$A$1:$E$183,5,FALSE),0)","v":"105108-Hospital Los Vilos"},"15050500","2023-10-17T09:54:40",2,1,1,null,1,1]
[9,"5",2023,"105300",{"$f":"IFERROR(VLOOKUP(Tabla_SERIED_11_6[[#This Row],[IdEstablecimiento]],'[2]Establecimiento 2023'!$A$1:$E$183,3,FALSE),0)","v":"105300-Centro de Salud Familiar Cardenal Caro"},{"$f":"IFERROR(VLOOKUP(Tabla_SERIED_11_6[[#This Row],[IdEstablecimiento]],'[2]Establecimiento 2023'!$A$1:$E$183,5,FALSE),0)","v":"04101-La Serena"},"15080014","2023-10-17T09:56:24",274,{"$nulls":3},158,116]
[9,"5",2023,"105409",{"$f":"IFERROR(VLOOKUP(Tabla_SERIED_11_6[[#This Row],[IdEstablecimiento]],'[2]Establecimiento 2023'!$A$1:$E$183,3,FALSE),0)","v":"105409-Posta de Salud Rural El Chañar"},{"$f":"IFERROR(VLOOKUP(Tabla_SERIED_11_6[[#This Row],[IdEstablecimiento]],'[2]Establecimiento 2023'!$A$1:$E$183,5,FALSE),0)","v":"04305-Rio Hurtado"},"15050100","2023-10-17T11:13:38",2,null,2,{"$nulls":3},1,null,1]
[9,"5",2023,"105410",{"$f":"IFERROR(VLOOKUP(Tabla_SERIED_11_6[[#This Row],[IdEstablecimiento]],'[2]Establecimiento 2023'!$A$1:$E$183,3,FALSE),0)","v":"105410-Posta de Salud Rural Hurtado"},{"$f":"IFERROR(VLOOKUP(Tabla_SERIED_11_6[[#This Row],[IdEstablecimiento]],'[2]Establecimiento 2023'!$A$1:$E$183,5,FALSE),0)","v":"04305-Rio Hurtado"},"16100300","2023-10-17T11:17:18",39,18,21]
[9,"5",2023,"105411",{"$f":"IFERROR(VLOOKUP(Tabla_SERIED_11_6[[#This Row],[IdEstablecimiento]],'[2]Establecimiento 2023'!$A$1:$E$183,3,FALSE),0)","v":"105411-Posta de Salud Rural Las Breas (Río Hurtado)"},{"$f":"IFERROR(VLOOKUP(Tabla_SERIED_11_6[[#This Row],[IdEstablecimiento]],'[2]Establecimiento 2023'!$A$1:$E$183,5,FALSE),0)","v":"04305-Rio Hurtado"},"15050200","2023-10-17T11:19:18",1,1,{"$nulls":5},1]
[9,"5",2023,"105411",{"$f":"IFERROR(VLOOKUP(Tabla_SERIED_11_6[[#This Row],[IdEstablecimiento]],'[2]Establecimiento 2023'!$A$1:$E$183,3,FALSE),0)","v":"105411-Posta de Salud Rural Las Breas (Río Hurtado)"},{"$f":"IFERROR(VLOOKUP(Tabla_SERIED_11_6[[#This Row],[IdEstablecimiento]],'[2]Establecimiento 2023'!$A$1:$E$183,5,FALSE),0)","v":"04305-Rio Hurtado"},"15900010","2023-10-17T11:19:18",3.2,null,null,3.2]
[9,"5",2023,"105413",{"$f":"IFERROR(VLOOKUP(Tabla_SERIED_11_6[[#This Row],[IdEstablecimiento]],'[2]Establecimiento 2023'!$A$1:$E$183,3,FALSE),0)","v":"105413-Posta de Salud Rural Samo Alto"},{"$f":"IFERROR(VLOOKUP(Tabla_SERIED_11_6[[#This Row],[IdEstablecimiento]],'[2]Establecimiento 2023'!$A$1:$E$183,5,FALSE),0)","v":"04305-Rio Hurtado"},"15080015","2023-10-17T11:19:13",10,{"$nulls":5},4,6]
[9,"5",2023,"105414",{"$f":"IFERROR(VLOOKUP(Tabla_SERIED_11_6[[#This Row],[IdEstablecimiento]],'[2]Establecimiento 2023'!$A$1:$E$183,3,FALSE),0)","v":"105414-Posta de Salud Rural Serón"},{"$f":"IFERROR(VLOOKUP(Tabla_SERIED_11_6[[#This Row],[IdEstablecimiento]],'[2]Establecimiento 2023'!$A$1:$E$183,5,FALSE),0)","v":"04305-Rio Hurtado"},"15050100","2023-10-17T11:19:49",10,5,6,{"$nulls":3},3,null,2,4,1]
[9,"5",2023,"105414",{"$f":"IFERROR(VLOOKUP(Tabla_SERIED_11_6[[#This Row],[IdEstablecimiento]],'[2]Establecimiento 2023'!$A$1:$E$183,3,FALSE),0)","v":"105414-Posta de Salud Rural Serón"},{"$f":"IFERROR(VLOOKUP(Tabla_SERIED_11_6[[#This Row],[IdEstablecimiento]],'[2]Establecimiento 2023'!$A$1:$E$183,5,FALSE),0)","v":"04305-Rio Hurtado"},"15080008","2023-10-17T11:19:49",1,{"$nulls":7},1]
[9,"5",2023,"105414",{"$f":"IFERROR(VLOOKUP(Tabla_SERIED_11_6[[#This Row],[IdEstablecimiento]],'[2]Establecimiento 2023'!$A$1:$E$183,3,FALSE),0)","v":"105414-Posta de Salud Rural Serón"},{"$f":"IFERROR(VLOOKUP(Tabla_SERIED_11_6[[#This Row],[IdEstablecimiento]],'[2]Establecimiento 2023'!$A$1:$E$183,5,FALSE),0)","v":"04305-Rio Hurtado"},"16100300","2023-10-17T11:19:49",33,13,20]
[9,"5",2023,"105415",{"$f":"IFERROR(VLOOKUP(Tabla_SERIED_11_6[[#This Row],[IdEstablecimiento]],'[2]Establecimiento 2023'!$A$1:$E$183,3,FALSE),0)","v":"105415-Posta de Salud Rural Barraza"},{"$f":"IFERROR(VLOOKUP(Tabla_SERIED_11_6[[#This Row],[IdEstablecimiento]],'[2]Establecimiento 2023'!$A$1:$E$183,5,FALSE),0)","v":"04301-Ovalle"},"15010100","2023-10-17T11:20:19",10,{"$nulls":3},6,4]
[9,"5",2023,"105416",{"$f":"IFERROR(VLOOKUP(Tabla_SERIED_11_6[[#This Row],[IdEstablecimiento]],'[2]Establecimiento 2023'!$A$1:$E$183,3,FALSE),0)","v":"105416-Posta de Salud Rural Camarico (Ovalle)"},{"$f":"IFERROR(VLOOKUP(Tabla_SERIED_11_6[[#This Row],[IdEstablecimiento]],'[2]Establecimiento 2023'!$A$1:$E$183,5,FALSE),0)","v":"04301-Ovalle"},"15010400","2023-10-17T11:21:31",2,{"$nulls":6},2]
[9,"5",2023,"105416",{"$f":"IFERROR(VLOOKUP(Tabla_SERIED_11_6[[#This Row],[IdEstablecimiento]],'[2]Establecimiento 2023'!$A$1:$E$183,3,FALSE),0)","v":"105416-Posta de Salud Rural Camarico (Ovalle)"},{"$f":"IFERROR(VLOOKUP(Tabla_SERIED_11_6[[#This Row],[IdEstablecimiento]],'[2]Establecimiento 2023'!$A$1:$E$183,5,FALSE),0)","v":"04301-Ovalle"},"15050100","2023-10-17T11:21:31",23,13,10,null,null,1,2,3,3,9,3,null,1,null,1]
[9,"5",2023,"105416",{"$f":"IFERROR(VLOOKUP(Tabla_SERIED_11_6[[#This Row],[IdEstablecimiento]],'[2]Establecimiento 2023'!$A$1:$E$183,3,FALSE),0)","v":"105416-Posta de Salud Rural Camarico (Ovalle)"},{"$f":"IFERROR(VLOOKUP(Tabla_SERIED_11_6[[#This Row],[IdEstablecimiento]],'[2]Establecimiento 2023'!$A$1:$E$183,5,FALSE),0)","v":"04301-Ovalle"},"16090300","2023-10-17T11:21:31",97,97]
[9,"5",2023,"105417",{"$f":"IFERROR(VLOOKUP(Tabla_SERIED_11_6[[#This Row],[IdEstablecimiento]],'[2]Establecimiento 2023'!$A$1:$E$183,3,FALSE),0)","v":"105417-Posta de Salud Rural Alcones Bajo"},{"$f":"IFERROR(VLOOKUP(Tabla_SERIED_11_6[[#This Row],[IdEstablecimiento]],'[2]Establecimiento 2023'!$A$1:$E$183,5,FALSE),0)","v":"04301-Ovalle"},"15900020","2023-10-17T11:21:25",0.8,null,null,0.8]
[9,"5",2023,"105427",{"$f":"IFERROR(VLOOKUP(Tabla_SERIED_11_6[[#This Row],[IdEstablecimiento]],'[2]Establecimiento 2023'!$A$1:$E$183,3,FALSE),0)","v":"105427-Posta de Salud Rural Hacienda Valdivia"},{"$f":"IFERROR(VLOOKUP(Tabla_SERIED_11_6[[#This Row],[IdEstablecimiento]],'[2]Establecimiento 2023'!$A$1:$E$183,5,FALSE),0)","v":"04303-Monte Patria"},"15080008","2023-10-17T11:26:28",8,{"$nulls":7},4,null,4]
[9,"5",2023,"105430",{"$f":"IFERROR(VLOOKUP(Tabla_SERIED_11_6[[#This Row],[IdEstablecimiento]],'[2]Establecimiento 2023'!$A$1:$E$183,3,FALSE),0)","v":"105430-Posta de Salud Rural Mialqui"},{"$f":"IFERROR(VLOOKUP(Tabla_SERIED_11_6[[#This Row],[IdEstablecimiento]],'[2]Establecimiento 2023'!$A$1:$E$183,5,FALSE),0)","v":"04303-Monte Patria"},"15080008","2023-10-17T11:28:45",2,{"$nulls":7},2]
[9,"5",2023,"105430",{"$f":"IFERROR(VLOOKUP(Tabla_SERIED_11_6[[#This Row],[IdEstablecimiento]],'[2]Establecimiento 2023'!$A$1:$E$183,3,FALSE),0)","v":"105430-Posta de Salud Rural Mialqui"},{"$f":"IFERROR(VLOOKUP(Tabla_SERIED_11_6[[#This Row],[IdEstablecimiento]],'[2]Establecimiento 2023'!$A$1:$E$183,5,FALSE),0)","v":"04303-Monte Patria"},"15080015","2023-10-17T11:28:45",2,{"$nulls":6},2]
[9,"5",2023,"105431",{"$f":"IFERROR(VLOOKUP(Tabla_SERIED_11_6[[#This Row],[IdEstablecimiento]],'[2]Establecimiento 2023'!$A$1:$E$183,3,FALSE),0)","v":"105431-Posta de Salud Rural Pedregal"},{"$f":"IFERROR(VLOOKUP(Tabla_SERIED_11_6[[#This Row],[IdEstablecimiento]],'[2]Establecimiento 2023'!$A$1:$E$183,5,FALSE),0)","v":"04303-Monte Patria"},"15080008","2023-10-17T11:29:24",1,{"$nulls":11},1]
[9,"5",2023,"105431",{"$f":"IFERROR(VLOOKUP(Tabla_SERIED_11_6[[#This Row],[IdEstablecimiento]],'[2]Establecimiento 2023'!$A$1:$E$183,3,FALSE),0)","v":"105431-Posta de Salud Rural Pedregal"},{"$f":"IFERROR(VLOOKUP(Tabla_SERIED_11_6[[#This Row],[IdEstablecimiento]],'[2]Establecimiento 2023'!$A$1:$E$183,5,FALSE),0)","v":"04303-Monte Patria"},"15080014","2023-10-17T11:29:24",2,{"$nulls":3},2]
[9,"5",2023,"105432",{"$f":"IFERROR(VLOOKUP(Tabla_SERIED_11_6[[#This Row],[IdEstablecimiento]],'[2]Establecimiento 2023'!$A$1:$E$183,3,FALSE),0)","v":"105432-Posta de Salud Rural Rapel (Monte Patria)"},{"$f":"IFERROR(VLOOKUP(Tabla_SERIED_11_6[[#This Row],[IdEstablecimiento]],'[2]Establecimiento 2023'!$A$1:$E$183,5,FALSE),0)","v":"04303-Monte Patria"},"15050100","2023-10-17T11:29:54",18,6,12,null,null,1,3,1,7,3,2,{"$nulls":3},1]
[9,"5",2023,"105432",{"$f":"IFERROR(VLOOKUP(Tabla_SERIED_11_6[[#This Row],[IdEstablecimiento]],'[2]Establecimiento 2023'!$A$1:$E$183,3,FALSE),0)","v":"105432-Posta de Salud Rural Rapel (Monte Patria)"},{"$f":"IFERROR(VLOOKUP(Tabla_SERIED_11_6[[#This Row],[IdEstablecimiento]],'[2]Establecimiento 2023'!$A$1:$E$183,5,FALSE),0)","v":"04303-Monte Patria"},"15080015","2023-10-17T11:29:54",20,{"$nulls":5},14,6]
[9,"5",2023,"105434",{"$f":"IFERROR(VLOOKUP(Tabla_SERIED_11_6[[#This Row],[IdEstablecimiento]],'[2]Establecimiento 2023'!$A$1:$E$183,3,FALSE),0)","v":"105434-Posta de Salud Rural San Marcos (Combarbalá)"},{"$f":"IFERROR(VLOOKUP(Tabla_SERIED_11_6[[#This Row],[IdEstablecimiento]],'[2]Establecimiento 2023'!$A$1:$E$183,5,FALSE),0)","v":"04302-Combarbalá"},"16200220","2023-10-17T11:32:09",6,1,5]
[9,"5",2023,"105435",{"$f":"IFERROR(VLOOKUP(Tabla_SERIED_11_6[[#This Row],[IdEstablecimiento]],'[2]Establecimiento 2023'!$A$1:$E$183,3,FALSE),0)","v":"105435-Posta de Salud Rural Tulahuén"},{"$f":"IFERROR(VLOOKUP(Tabla_SERIED_11_6[[#This Row],[IdEstablecimiento]],'[2]Establecimiento 2023'!$A$1:$E$183,5,FALSE),0)","v":"04303-Monte Patria"},"16200210","2023-10-17T11:34:19",7,7]
[9,"5",2023,"105436",{"$f":"IFERROR(VLOOKUP(Tabla_SERIED_11_6[[#This Row],[IdEstablecimiento]],'[2]Establecimiento 2023'!$A$1:$E$183,3,FALSE),0)","v":"105436-Posta de Salud Rural El Maitén"},{"$f":"IFERROR(VLOOKUP(Tabla_SERIED_11_6[[#This Row],[IdEstablecimiento]],'[2]Establecimiento 2023'!$A$1:$E$183,5,FALSE),0)","v":"04303-Monte Patria"},"16200210","2023-10-17T11:35:26",1,1]
[9,"5",2023,"105437",{"$f":"IFERROR(VLOOKUP(Tabla_SERIED_11_6[[#This Row],[IdEstablecimiento]],'[2]Establecimiento 2023'!$A$1:$E$183,3,FALSE),0)","v":"105437-Posta de Salud Rural Chalinga"},{"$f":"IFERROR(VLOOKUP(Tabla_SERIED_11_6[[#This Row],[IdEstablecimiento]],'[2]Establecimiento 2023'!$A$1:$E$183,5,FALSE),0)","v":"04301-Ovalle"},"15030100","2023-10-17T11:35:22",4,null,null,4]
[9,"5",2023,"105301",{"$f":"IFERROR(VLOOKUP(Tabla_SERIED_11_6[[#This Row],[IdEstablecimiento]],'[2]Establecimiento 2023'!$A$1:$E$183,3,FALSE),0)","v":"105301-Centro de Salud Familiar Las Compañías"},{"$f":"IFERROR(VLOOKUP(Tabla_SERIED_11_6[[#This Row],[IdEstablecimiento]],'[2]Establecimiento 2023'!$A$1:$E$183,5,FALSE),0)","v":"04101-La Serena"},"15080016","2023-10-17T09:57:10",4,{"$nulls":4},2,2]
[9,"5",2023,"105301",{"$f":"IFERROR(VLOOKUP(Tabla_SERIED_11_6[[#This Row],[IdEstablecimiento]],'[2]Establecimiento 2023'!$A$1:$E$183,3,FALSE),0)","v":"105301-Centro de Salud Familiar Las Compañías"},{"$f":"IFERROR(VLOOKUP(Tabla_SERIED_11_6[[#This Row],[IdEstablecimiento]],'[2]Establecimiento 2023'!$A$1:$E$183,5,FALSE),0)","v":"04101-La Serena"},"15900050","2023-10-17T09:57:10",6,3,3,null,1,3,null,2]
[9,"5",2023,"105301",{"$f":"IFERROR(VLOOKUP(Tabla_SERIED_11_6[[#This Row],[IdEstablecimiento]],'[2]Establecimiento 2023'!$A$1:$E$183,3,FALSE),0)","v":"105301-Centro de Salud Familiar Las Compañías"},{"$f":"IFERROR(VLOOKUP(Tabla_SERIED_11_6[[#This Row],[IdEstablecimiento]],'[2]Establecimiento 2023'!$A$1:$E$183,5,FALSE),0)","v":"04101-La Serena"},"16090300","2023-10-17T09:57:10",606,606]
[9,"5",2023,"105302",{"$f":"IFERROR(VLOOKUP(Tabla_SERIED_11_6[[#This Row],[IdEstablecimiento]],'[2]Establecimiento 2023'!$A$1:$E$183,3,FALSE),0)","v":"105302-Centro de Salud Familiar Pedro Aguirre Cerda"},{"$f":"IFERROR(VLOOKUP(Tabla_SERIED_11_6[[#This Row],[IdEstablecimiento]],'[2]Establecimiento 2023'!$A$1:$E$183,5,FALSE),0)","v":"04101-La Serena"},"15080016","2023-10-17T09:56:49",8,{"$nulls":5},6,2]
[9,"5",2023,"105304",{"$f":"IFERROR(VLOOKUP(Tabla_SERIED_11_6[[#This Row],[IdEstablecimiento]],'[2]Establecimiento 2023'!$A$1:$E$183,3,FALSE),0)","v":"105304-Centro de Salud Familiar Santa Cecilia"},{"$f":"IFERROR(VLOOKUP(Tabla_SERIED_11_6[[#This Row],[IdEstablecimiento]],'[2]Establecimiento 2023'!$A$1:$E$183,5,FALSE),0)","v":"04102-Coquimbo"},"15900030","2023-10-17T09:59:19",7.2,0,0,7.2,0,0]
[9,"5",2023,"105307",{"$f":"IFERROR(VLOOKUP(Tabla_SERIED_11_6[[#This Row],[IdEstablecimiento]],'[2]Establecimiento 2023'!$A$1:$E$183,3,FALSE),0)","v":"105307-Centro de Salud Familiar Monte Patria"},{"$f":"IFERROR(VLOOKUP(Tabla_SERIED_11_6[[#This Row],[IdEstablecimiento]],'[2]Establecimiento 2023'!$A$1:$E$183,5,FALSE),0)","v":"04303-Monte Patria"},"15050100","2023-10-17T10:01:17",283,137,146,2,1,20,32,35,58,61,34,null,21,2,17]
[9,"5",2023,"105307",{"$f":"IFERROR(VLOOKUP(Tabla_SERIED_11_6[[#This Row],[IdEstablecimiento]],'[2]Establecimiento 2023'!$A$1:$E$183,3,FALSE),0)","v":"105307-Centro de Salud Familiar Monte Patria"},{"$f":"IFERROR(VLOOKUP(Tabla_SERIED_11_6[[#This Row],[IdEstablecimiento]],'[2]Establecimiento 2023'!$A$1:$E$183,5,FALSE),0)","v":"04303-Monte Patria"},"15900040","2023-10-17T10:01:17",13.2,null,4.4,4.4,null,4.4]
[9,"5",2023,"105307",{"$f":"IFERROR(VLOOKUP(Tabla_SERIED_11_6[[#This Row],[IdEstablecimiento]],'[2]Establecimiento 2023'!$A$1:$E$183,3,FALSE),0)","v":"105307-Centro de Salud Familiar Monte Patria"},{"$f":"IFERROR(VLOOKUP(Tabla_SERIED_11_6[[#This Row],[IdEstablecimiento]],'[2]Establecimiento 2023'!$A$1:$E$183,5,FALSE),0)","v":"04303-Monte Patria"},"16200210","2023-10-17T10:01:17",37,37]
[9,"5",2023,"105309",{"$f":"IFERROR(VLOOKUP(Tabla_SERIED_11_6[[#This Row],[IdEstablecimiento]],'[2]Establecimiento 2023'!$A$1:$E$183,3,FALSE),0)","v":"105309-Centro de Salud Familiar Canela"},{"$f":"IFERROR(VLOOKUP(Tabla_SERIED_11_6[[#This Row],[IdEstablecimiento]],'[2]Establecimiento 2023'!$A$1:$E$183,5,FALSE),0)","v":"04202-Canela"},"15080008","2023-10-17T10:02:58",30,{"$nulls":7},11,null,12,2,5]
[9,"5",2023,"105309",{"$f":"IFERROR(VLOOKUP(Tabla_SERIED_11_6[[#This Row],[IdEstablecimiento]],'[2]Establecimiento 2023'!$A$1:$E$183,3,FALSE),0)","v":"105309-Centro de Salud Familiar Canela"},{"$f":"IFERROR(VLOOKUP(Tabla_SERIED_11_6[[#This Row],[IdEstablecimiento]],'[2]Establecimiento 2023'!$A$1:$E$183,5,FALSE),0)","v":"04202-Canela"},"15080014","2023-10-17T10:02:58",74,{"$nulls":3},40,34]
[9,"5",2023,"105309",{"$f":"IFERROR(VLOOKUP(Tabla_SERIED_11_6[[#This Row],[IdEstablecimiento]],'[2]Establecimiento 2023'!$A$1:$E$183,3,FALSE),0)","v":"105309-Centro de Salud Familiar Canela"},{"$f":"IFERROR(VLOOKUP(Tabla_SERIED_11_6[[#This Row],[IdEstablecimiento]],'[2]Establecimiento 2023'!$A$1:$E$183,5,FALSE),0)","v":"04202-Canela"},"16200210","2023-10-17T10:02:58",21,21]
[9,"5",2023,"105313",{"$f":"IFERROR(VLOOKUP(Tabla_SERIED_11_6[[#This Row],[IdEstablecimiento]],'[2]Establecimiento 2023'!$A$1:$E$183,3,FALSE),0)","v":"105313-Centro de Salud Familiar Dr. Emilio Schaffhauser"},{"$f":"IFERROR(VLOOKUP(Tabla_SERIED_11_6[[#This Row],[IdEstablecimiento]],'[2]Establecimiento 2023'!$A$1:$E$183,5,FALSE),0)","v":"04101-La Serena"},"15050200","2023-10-17T10:06:10",11,4,7,{"$nulls":4},2,1,6,null,null,2]
[9,"5",2023,"105313",{"$f":"IFERROR(VLOOKUP(Tabla_SERIED_11_6[[#This Row],[IdEstablecimiento]],'[2]Establecimiento 2023'!$A$1:$E$183,3,FALSE),0)","v":"105313-Centro de Salud Familiar Dr. Emilio Schaffhauser"},{"$f":"IFERROR(VLOOKUP(Tabla_SERIED_11_6[[#This Row],[IdEstablecimiento]],'[2]Establecimiento 2023'!$A$1:$E$183,5,FALSE),0)","v":"04101-La Serena"},"16100700","2023-10-17T10:06:10",1,null,1]
[9,"5",2023,"105313",{"$f":"IFERROR(VLOOKUP(Tabla_SERIED_11_6[[#This Row],[IdEstablecimiento]],'[2]Establecimiento 2023'!$A$1:$E$183,3,FALSE),0)","v":"105313-Centro de Salud Familiar Dr. Emilio Schaffhauser"},{"$f":"IFERROR(VLOOKUP(Tabla_SERIED_11_6[[#This Row],[IdEstablecimiento]],'[2]Establecimiento 2023'!$A$1:$E$183,5,FALSE),0)","v":"04101-La Serena"},"16200220","2023-10-17T10:06:10",99,31,68]
[9,"5",2023,"105315",{"$f":"IFERROR(VLOOKUP(Tabla_SERIED_11_6[[#This Row],[IdEstablecimiento]],'[2]Establecimiento 2023'!$A$1:$E$183,3,FALSE),0)","v":"105315-Centro de Salud Familiar Cerrillos de Tamaya"},{"$f":"IFERROR(VLOOKUP(Tabla_SERIED_11_6[[#This Row],[IdEstablecimiento]],'[2]Establecimiento 2023'!$A$1:$E$183,5,FALSE),0)","v":"04301-Ovalle"},"15080008","2023-10-17T15:50:02",84,{"$nulls":7},35,null,32,10,7]
[9,"5",2023,"105315",{"$f":"IFERROR(VLOOKUP(Tabla_SERIED_11_6[[#This Row],[IdEstablecimiento]],'[2]Establecimiento 2023'!$A$1:$E$183,3,FALSE),0)","v":"105315-Centro de Salud Familiar Cerrillos de Tamaya"},{"$f":"IFERROR(VLOOKUP(Tabla_SERIED_11_6[[#This Row],[IdEstablecimiento]],'[2]Establecimiento 2023'!$A$1:$E$183,5,FALSE),0)","v":"04301-Ovalle"},"15080015","2023-10-17T15:50:02",67,{"$nulls":5},2,65]
[9,"5",2023,"105315",{"$f":"IFERROR(VLOOKUP(Tabla_SERIED_11_6[[#This Row],[IdEstablecimiento]],'[2]Establecimiento 2023'!$A$1:$E$183,3,FALSE),0)","v":"105315-Centro de Salud Familiar Cerrillos de Tamaya"},{"$f":"IFERROR(VLOOKUP(Tabla_SERIED_11_6[[#This Row],[IdEstablecimiento]],'[2]Establecimiento 2023'!$A$1:$E$183,5,FALSE),0)","v":"04301-Ovalle"},"15900010","2023-10-17T15:50:02",70.4,16.8,20,33.6]
[9,"5",2023,"105317",{"$f":"IFERROR(VLOOKUP(Tabla_SERIED_11_6[[#This Row],[IdEstablecimiento]],'[2]Establecimiento 2023'!$A$1:$E$183,3,FALSE),0)","v":"105317-Centro de Salud Familiar Jorge Jordán Domic"},{"$f":"IFERROR(VLOOKUP(Tabla_SERIED_11_6[[#This Row],[IdEstablecimiento]],'[2]Establecimiento 2023'!$A$1:$E$183,5,FALSE),0)","v":"04301-Ovalle"},"15080019","2023-10-17T10:55:44",4,{"$nulls":5},2,2]
[9,"5",2023,"105318",{"$f":"IFERROR(VLOOKUP(Tabla_SERIED_11_6[[#This Row],[IdEstablecimiento]],'[2]Establecimiento 2023'!$A$1:$E$183,3,FALSE),0)","v":"105318-Centro de Salud Familiar El Palqui"},{"$f":"IFERROR(VLOOKUP(Tabla_SERIED_11_6[[#This Row],[IdEstablecimiento]],'[2]Establecimiento 2023'!$A$1:$E$183,5,FALSE),0)","v":"04303-Monte Patria"},"15050100","2023-10-17T11:00:51",301,114,187,1,4,8,38,38,71,57,53,null,16,8,7]
[9,"5",2023,"105318",{"$f":"IFERROR(VLOOKUP(Tabla_SERIED_11_6[[#This Row],[IdEstablecimiento]],'[2]Establecimiento 2023'!$A$1:$E$183,3,FALSE),0)","v":"105318-Centro de Salud Familiar El Palqui"},{"$f":"IFERROR(VLOOKUP(Tabla_SERIED_11_6[[#This Row],[IdEstablecimiento]],'[2]Establecimiento 2023'!$A$1:$E$183,5,FALSE),0)","v":"04303-Monte Patria"},"15080009","2023-10-17T11:00:51",3,{"$nulls":8},3]
[9,"5",2023,"105318",{"$f":"IFERROR(VLOOKUP(Tabla_SERIED_11_6[[#This Row],[IdEstablecimiento]],'[2]Establecimiento 2023'!$A$1:$E$183,3,FALSE),0)","v":"105318-Centro de Salud Familiar El Palqui"},{"$f":"IFERROR(VLOOKUP(Tabla_SERIED_11_6[[#This Row],[IdEstablecimiento]],'[2]Establecimiento 2023'!$A$1:$E$183,5,FALSE),0)","v":"04303-Monte Patria"},"16100600","2023-10-17T11:00:51",21,7,14]
[9,"5",2023,"105305",{"$f":"IFERROR(VLOOKUP(Tabla_SERIED_11_6[[#This Row],[IdEstablecimiento]],'[2]Establecimiento 2023'!$A$1:$E$183,3,FALSE),0)","v":"105305-Centro de Salud Familiar Tierras Blancas"},{"$f":"IFERROR(VLOOKUP(Tabla_SERIED_11_6[[#This Row],[IdEstablecimiento]],'[2]Establecimiento 2023'!$A$1:$E$183,5,FALSE),0)","v":"04102-Coquimbo"},"15080009","2023-10-17T10:00:18",15,{"$nulls":8},15]
[9,"5",2023,"105305",{"$f":"IFERROR(VLOOKUP(Tabla_SERIED_11_6[[#This Row],[IdEstablecimiento]],'[2]Establecimiento 2023'!$A$1:$E$183,3,FALSE),0)","v":"105305-Centro de Salud Familiar Tierras Blancas"},{"$f":"IFERROR(VLOOKUP(Tabla_SERIED_11_6[[#This Row],[IdEstablecimiento]],'[2]Establecimiento 2023'!$A$1:$E$183,5,FALSE),0)","v":"04102-Coquimbo"},"15080015","2023-10-17T10:00:18",537,{"$nulls":5},286,251]
[9,"5",2023,"105437",{"$f":"IFERROR(VLOOKUP(Tabla_SERIED_11_6[[#This Row],[IdEstablecimiento]],'[2]Establecimiento 2023'!$A$1:$E$183,3,FALSE),0)","v":"105437-Posta de Salud Rural Chalinga"},{"$f":"IFERROR(VLOOKUP(Tabla_SERIED_11_6[[#This Row],[IdEstablecimiento]],'[2]Establecimiento 2023'!$A$1:$E$183,5,FALSE),0)","v":"04301-Ovalle"},"15050100","2023-10-17T11:35:22",13,5,8,{"$nulls":4},1,4,5,null,null,1,null,2]
[9,"5",2023,"105437",{"$f":"IFERROR(VLOOKUP(Tabla_SERIED_11_6[[#This Row],[IdEstablecimiento]],'[2]Establecimiento 2023'!$A$1:$E$183,3,FALSE),0)","v":"105437-Posta de Salud Rural Chalinga"},{"$f":"IFERROR(VLOOKUP(Tabla_SERIED_11_6[[#This Row],[IdEstablecimiento]],'[2]Establecimiento 2023'!$A$1:$E$183,5,FALSE),0)","v":"04301-Ovalle"},"15901500","2023-10-17T11:35:22",4,null,null,4]
[9,"5",2023,"105443",{"$f":"IFERROR(VLOOKUP(Tabla_SERIED_11_6[[#This Row],[IdEstablecimiento]],'[2]Establecimiento 2023'!$A$1:$E$183,3,FALSE),0)","v":"105443-Posta de Salud Rural Cárcamo"},{"$f":"IFERROR(VLOOKUP(Tabla_SERIED_11_6[[#This Row],[IdEstablecimiento]],'[2]Establecimiento 2023'!$A$1:$E$183,5,FALSE),0)","v":"04201-Illapel"},"15050100","2023-10-17T11:43:39",17,9,8,1,null,4,2,1,6,2,null,null,1]
[9,"5",2023,"105444",{"$f":"IFERROR(VLOOKUP(Tabla_SERIED_11_6[[#This Row],[IdEstablecimiento]],'[2]Establecimiento 2023'!$A$1:$E$183,3,FALSE),0)","v":"105444-Posta de Salud Rural Huintil"},{"$f":"IFERROR(VLOOKUP(Tabla_SERIED_11_6[[#This Row],[IdEstablecimiento]],'[2]Establecimiento 2023'!$A$1:$E$183,5,FALSE),0)","v":"04201-Illapel"},"16100300","2023-10-17T11:44:06",57,28,29]
[9,"5",2023,"105445",{"$f":"IFERROR(VLOOKUP(Tabla_SERIED_11_6[[#This Row],[IdEstablecimiento]],'[2]Establecimiento 2023'!$A$1:$E$183,3,FALSE),0)","v":"105445-Posta de Salud Rural Limáhuida"},{"$f":"IFERROR(VLOOKUP(Tabla_SERIED_11_6[[#This Row],[IdEstablecimiento]],'[2]Establecimiento 2023'!$A$1:$E$183,5,FALSE),0)","v":"04201-Illapel"},"15900040","2023-10-17T11:45:24",2,null,2]
[9,"5",2023,"105448",{"$f":"IFERROR(VLOOKUP(Tabla_SERIED_11_6[[#This Row],[IdEstablecimiento]],'[2]Establecimiento 2023'!$A$1:$E$183,3,FALSE),0)","v":"105448-Posta de Salud Rural Santa Virginia"},{"$f":"IFERROR(VLOOKUP(Tabla_SERIED_11_6[[#This Row],[IdEstablecimiento]],'[2]Establecimiento 2023'!$A$1:$E$183,5,FALSE),0)","v":"04201-Illapel"},"15080008","2023-10-17T11:47:40",7,{"$nulls":7},2,null,4,null,1]
[9,"5",2023,"105451",{"$f":"IFERROR(VLOOKUP(Tabla_SERIED_11_6[[#This Row],[IdEstablecimiento]],'[2]Establecimiento 2023'!$A$1:$E$183,3,FALSE),0)","v":"105451-Posta de Salud Rural Agua Fría"},{"$f":"IFERROR(VLOOKUP(Tabla_SERIED_11_6[[#This Row],[IdEstablecimiento]],'[2]Establecimiento 2023'!$A$1:$E$183,5,FALSE),0)","v":"04202-Canela"},"16090300","2023-10-17T11:49:28",83,83]
[9,"5",2023,"105451",{"$f":"IFERROR(VLOOKUP(Tabla_SERIED_11_6[[#This Row],[IdEstablecimiento]],'[2]Establecimiento 2023'!$A$1:$E$183,3,FALSE),0)","v":"105451-Posta de Salud Rural Agua Fría"},{"$f":"IFERROR(VLOOKUP(Tabla_SERIED_11_6[[#This Row],[IdEstablecimiento]],'[2]Establecimiento 2023'!$A$1:$E$183,5,FALSE),0)","v":"04202-Canela"},"16200220","2023-10-17T11:49:28",5,1,4]
[9,"5",2023,"105453",{"$f":"IFERROR(VLOOKUP(Tabla_SERIED_11_6[[#This Row],[IdEstablecimiento]],'[2]Establecimiento 2023'!$A$1:$E$183,3,FALSE),0)","v":"105453-Posta de Salud Rural Tranquilla"},{"$f":"IFERROR(VLOOKUP(Tabla_SERIED_11_6[[#This Row],[IdEstablecimiento]],'[2]Establecimiento 2023'!$A$1:$E$183,5,FALSE),0)","v":"04204-Salamanca"},"15050100","2023-10-17T11:50:47",40,18,22,null,1,1,2,2,17,14,1,null,1,1]
[9,"5",2023,"105453",{"$f":"IFERROR(VLOOKUP(Tabla_SERIED_11_6[[#This Row],[IdEstablecimiento]],'[2]Establecimiento 2023'!$A$1:$E$183,3,FALSE),0)","v":"105453-Posta de Salud Rural Tranquilla"},{"$f":"IFERROR(VLOOKUP(Tabla_SERIED_11_6[[#This Row],[IdEstablecimiento]],'[2]Establecimiento 2023'!$A$1:$E$183,5,FALSE),0)","v":"04204-Salamanca"},"16200210","2023-10-17T11:50:47",2,2]
[9,"5",2023,"105454",{"$f":"IFERROR(VLOOKUP(Tabla_SERIED_11_6[[#This Row],[IdEstablecimiento]],'[2]Establecimiento 2023'!$A$1:$E$183,3,FALSE),0)","v":"105454-Posta de Salud Rural Cunlagua"},{"$f":"IFERROR(VLOOKUP(Tabla_SERIED_11_6[[#This Row],[IdEstablecimiento]],'[2]Establecimiento 2023'!$A$1:$E$183,5,FALSE),0)","v":"04204-Salamanca"},"15010200","2023-10-17T11:51:48",6,{"$nulls":5},6]
[9,"5",2023,"105455",{"$f":"IFERROR(VLOOKUP(Tabla_SERIED_11_6[[#This Row],[IdEstablecimiento]],'[2]Establecimiento 2023'!$A$1:$E$183,3,FALSE),0)","v":"105455-CESFAM Valle Alto"},{"$f":"IFERROR(VLOOKUP(Tabla_SERIED_11_6[[#This Row],[IdEstablecimiento]],'[2]Establecimiento 2023'!$A$1:$E$183,5,FALSE),0)","v":"04204-Salamanca"},"15050200","2023-10-17T11:52:35",1,null,1,null,null,1]
[9,"5",2023,"105455",{"$f":"IFERROR(VLOOKUP(Tabla_SERIED_11_6[[#This Row],[IdEstablecimiento]],'[2]Establecimiento 2023'!$A$1:$E$183,3,FALSE),0)","v":"105455-CESFAM Valle Alto"},{"$f":"IFERROR(VLOOKUP(Tabla_SERIED_11_6[[#This Row],[IdEstablecimiento]],'[2]Establecimiento 2023'!$A$1:$E$183,5,FALSE),0)","v":"04204-Salamanca"},"15080019","2023-10-17T11:52:35",2,{"$nulls":5},2]
[9,"5",2023,"105455",{"$f":"IFERROR(VLOOKUP(Tabla_SERIED_11_6[[#This Row],[IdEstablecimiento]],'[2]Establecimiento 2023'!$A$1:$E$183,3,FALSE),0)","v":"105455-CESFAM Valle Alto"},{"$f":"IFERROR(VLOOKUP(Tabla_SERIED_11_6[[#This Row],[IdEstablecimiento]],'[2]Establecimiento 2023'!$A$1:$E$183,5,FALSE),0)","v":"04204-Salamanca"},"15900020","2023-10-17T11:52:35",2.4,null,null,2.4]
[9,"5",2023,"105455",{"$f":"IFERROR(VLOOKUP(Tabla_SERIED_11_6[[#This Row],[IdEstablecimiento]],'[2]Establecimiento 2023'!$A$1:$E$183,3,FALSE),0)","v":"105455-CESFAM Valle Alto"},{"$f":"IFERROR(VLOOKUP(Tabla_SERIED_11_6[[#This Row],[IdEstablecimiento]],'[2]Establecimiento 2023'!$A$1:$E$183,5,FALSE),0)","v":"04204-Salamanca"},"16100300","2023-10-17T11:52:35",72,33,39]
[9,"5",2023,"105455",{"$f":"IFERROR(VLOOKUP(Tabla_SERIED_11_6[[#This Row],[IdEstablecimiento]],'[2]Establecimiento 2023'!$A$1:$E$183,3,FALSE),0)","v":"105455-CESFAM Valle Alto"},{"$f":"IFERROR(VLOOKUP(Tabla_SERIED_11_6[[#This Row],[IdEstablecimiento]],'[2]Establecimiento 2023'!$A$1:$E$183,5,FALSE),0)","v":"04204-Salamanca"},"16200220","2023-10-17T11:52:35",2,2]
[9,"5",2023,"105456",{"$f":"IFERROR(VLOOKUP(Tabla_SERIED_11_6[[#This Row],[IdEstablecimiento]],'[2]Establecimiento 2023'!$A$1:$E$183,3,FALSE),0)","v":"105456-Posta de Salud Rural Llimpo"},{"$f":"IFERROR(VLOOKUP(Tabla_SERIED_11_6[[#This Row],[IdEstablecimiento]],'[2]Establecimiento 2023'!$A$1:$E$183,5,FALSE),0)","v":"04204-Salamanca"},"15010500","2023-10-17T11:53:06",2,{"$nulls":5},2]
[9,"5",2023,"105458",{"$f":"IFERROR(VLOOKUP(Tabla_SERIED_11_6[[#This Row],[IdEstablecimiento]],'[2]Establecimiento 2023'!$A$1:$E$183,3,FALSE),0)","v":"105458-Posta de Salud Rural Tahuinco"},{"$f":"IFERROR(VLOOKUP(Tabla_SERIED_11_6[[#This Row],[IdEstablecimiento]],'[2]Establecimiento 2023'!$A$1:$E$183,5,FALSE),0)","v":"04204-Salamanca"},"16090300","2023-10-17T11:54:22",192,192]
[9,"5",2023,"105459",{"$f":"IFERROR(VLOOKUP(Tabla_SERIED_11_6[[#This Row],[IdEstablecimiento]],'[2]Establecimiento 2023'!$A$1:$E$183,3,FALSE),0)","v":"105459-Posta de Salud Rural Barrancas"},{"$f":"IFERROR(VLOOKUP(Tabla_SERIED_11_6[[#This Row],[IdEstablecimiento]],'[2]Establecimiento 2023'!$A$1:$E$183,5,FALSE),0)","v":"04302-Combarbalá"},"15080014","2023-10-17T11:55:56",9,{"$nulls":4},8,null,null,1]
[9,"5",2023,"105460",{"$f":"IFERROR(VLOOKUP(Tabla_SERIED_11_6[[#This Row],[IdEstablecimiento]],'[2]Establecimiento 2023'!$A$1:$E$183,3,FALSE),0)","v":"105460-Centro Comunitario de Salud Familiar Cogotí 18"},{"$f":"IFERROR(VLOOKUP(Tabla_SERIED_11_6[[#This Row],[IdEstablecimiento]],'[2]Establecimiento 2023'!$A$1:$E$183,5,FALSE),0)","v":"04302-Combarbalá"},"15080008","2023-10-17T11:55:52",6,{"$nulls":7},1,null,2,null,3]
[9,"5",2023,"105461",{"$f":"IFERROR(VLOOKUP(Tabla_SERIED_11_6[[#This Row],[IdEstablecimiento]],'[2]Establecimiento 2023'!$A$1:$E$183,3,FALSE),0)","v":"105461-Posta de Salud Rural El Huacho"},{"$f":"IFERROR(VLOOKUP(Tabla_SERIED_11_6[[#This Row],[IdEstablecimiento]],'[2]Establecimiento 2023'!$A$1:$E$183,5,FALSE),0)","v":"04302-Combarbalá"},"15080015","2023-10-17T11:57:11",4,{"$nulls":6},4]
[9,"5",2023,"105461",{"$f":"IFERROR(VLOOKUP(Tabla_SERIED_11_6[[#This Row],[IdEstablecimiento]],'[2]Establecimiento 2023'!$A$1:$E$183,3,FALSE),0)","v":"105461-Posta de Salud Rural El Huacho"},{"$f":"IFERROR(VLOOKUP(Tabla_SERIED_11_6[[#This Row],[IdEstablecimiento]],'[2]Establecimiento 2023'!$A$1:$E$183,5,FALSE),0)","v":"04302-Combarbalá"},"16090300","2023-10-17T11:57:11",36,36]
[9,"5",2023,"105463",{"$f":"IFERROR(VLOOKUP(Tabla_SERIED_11_6[[#This Row],[IdEstablecimiento]],'[2]Establecimiento 2023'!$A$1:$E$183,3,FALSE),0)","v":"105463-Posta de Salud Rural Quilitapia"},{"$f":"IFERROR(VLOOKUP(Tabla_SERIED_11_6[[#This Row],[IdEstablecimiento]],'[2]Establecimiento 2023'!$A$1:$E$183,5,FALSE),0)","v":"04302-Combarbalá"},"15050100","2023-10-17T12:00:52",14,8,6,null,1,null,5,null,4,3,{"$nulls":4},1]
[9,"5",2023,"105465",{"$f":"IFERROR(VLOOKUP(Tabla_SERIED_11_6[[#This Row],[IdEstablecimiento]],'[2]Establecimiento 2023'!$A$1:$E$183,3,FALSE),0)","v":"105465-Posta de Salud Rural Ramadilla"},{"$f":"IFERROR(VLOOKUP(Tabla_SERIED_11_6[[#This Row],[IdEstablecimiento]],'[2]Establecimiento 2023'!$A$1:$E$183,5,FALSE),0)","v":"04302-Combarbalá"},"16200220","2023-10-17T12:02:49",8,4,4]
[9,"5",2023,"105440",{"$f":"IFERROR(VLOOKUP(Tabla_SERIED_11_6[[#This Row],[IdEstablecimiento]],'[2]Establecimiento 2023'!$A$1:$E$183,3,FALSE),0)","v":"105440-Posta de Salud Rural Divisadero"},{"$f":"IFERROR(VLOOKUP(Tabla_SERIED_11_6[[#This Row],[IdEstablecimiento]],'[2]Establecimiento 2023'!$A$1:$E$183,5,FALSE),0)","v":"04304-Punitaqui"},"16100300","2023-10-17T11:41:23",58,29,29]
[9,"5",2023,"105441",{"$f":"IFERROR(VLOOKUP(Tabla_SERIED_11_6[[#This Row],[IdEstablecimiento]],'[2]Establecimiento 2023'!$A$1:$E$183,3,FALSE),0)","v":"105441-Posta de Salud Rural Manquehua"},{"$f":"IFERROR(VLOOKUP(Tabla_SERIED_11_6[[#This Row],[IdEstablecimiento]],'[2]Establecimiento 2023'!$A$1:$E$183,5,FALSE),0)","v":"04302-Combarbalá"},"15080015","2023-10-17T11:42:03",18,{"$nulls":5},8,10]
[9,"5",2023,"105441",{"$f":"IFERROR(VLOOKUP(Tabla_SERIED_11_6[[#This Row],[IdEstablecimiento]],'[2]Establecimiento 2023'!$A$1:$E$183,3,FALSE),0)","v":"105441-Posta de Salud Rural Manquehua"},{"$f":"IFERROR(VLOOKUP(Tabla_SERIED_11_6[[#This Row],[IdEstablecimiento]],'[2]Establecimiento 2023'!$A$1:$E$183,5,FALSE),0)","v":"04302-Combarbalá"},"16100300","2023-10-17T11:42:03",105,43,62]
[9,"5",2023,"105441",{"$f":"IFERROR(VLOOKUP(Tabla_SERIED_11_6[[#This Row],[IdEstablecimiento]],'[2]Establecimiento 2023'!$A$1:$E$183,3,FALSE),0)","v":"105441-Posta de Salud Rural Manquehua"},{"$f":"IFERROR(VLOOKUP(Tabla_SERIED_11_6[[#This Row],[IdEstablecimiento]],'[2]Establecimiento 2023'!$A$1:$E$183,5,FALSE),0)","v":"04302-Combarbalá"},"16200230","2023-10-17T11:42:03",1,null,1]
[9,"5",2023,"105443",{"$f":"IFERROR(VLOOKUP(Tabla_SERIED_11_6[[#This Row],[IdEstablecimiento]],'[2]Establecimiento 2023'!$A$1:$E$183,3,FALSE),0)","v":"105443-Posta de Salud Rural Cárcamo"},{"$f":"IFERROR(VLOOKUP(Tabla_SERIED_11_6[[#This Row],[IdEstablecimiento]],'[2]Establecimiento 2023'!$A$1:$E$183,5,FALSE),0)","v":"04201-Illapel"},"15080008","2023-10-17T11:43:39",2,{"$nulls":9},2]
[9,"5",2023,"105444",{"$f":"IFERROR(VLOOKUP(Tabla_SERIED_11_6[[#This Row],[IdEstablecimiento]],'[2]Establecimiento 2023'!$A$1:$E$183,3,FALSE),0)","v":"105444-Posta de Salud Rural Huintil"},{"$f":"IFERROR(VLOOKUP(Tabla_SERIED_11_6[[#This Row],[IdEstablecimiento]],'[2]Establecimiento 2023'!$A$1:$E$183,5,FALSE),0)","v":"04201-Illapel"},"16200230","2023-10-17T11:44:06",1,null,1]
[9,"5",2023,"105445",{"$f":"IFERROR(VLOOKUP(Tabla_SERIED_11_6[[#This Row],[IdEstablecimiento]],'[2]Establecimiento 2023'!$A$1:$E$183,3,FALSE),0)","v":"105445-Posta de Salud Rural Limáhuida"},{"$f":"IFERROR(VLOOKUP(Tabla_SERIED_11_6[[#This Row],[IdEstablecimiento]],'[2]Establecimiento 2023'!$A$1:$E$183,5,FALSE),0)","v":"04201-Illapel"},"15080014","2023-10-17T11:45:24",2,{"$nulls":4},2]
[9,"5",2023,"105448",{"$f":"IFERROR(VLOOKUP(Tabla_SERIED_11_6[[#This Row],[IdEstablecimiento]],'[2]Establecimiento 2023'!$A$1:$E$183,3,FALSE),0)","v":"105448-Posta de Salud Rural Santa Virginia"},{"$f":"IFERROR(VLOOKUP(Tabla_SERIED_11_6[[#This Row],[IdEstablecimiento]],'[2]Establecimiento 2023'!$A$1:$E$183,5,FALSE),0)","v":"04201-Illapel"},"15080015","2023-10-17T11:47:40",8,{"$nulls":5},6,2]
[9,"5",2023,"105450",{"$f":"IFERROR(VLOOKUP(Tabla_SERIED_11_6[[#This Row],[IdEstablecimiento]],'[2]Establecimiento 2023'!$A$1:$E$183,3,FALSE),0)","v":"105450-Posta de Salud Rural Mincha Norte"},{"$f":"IFERROR(VLOOKUP(Tabla_SERIED_11_6[[#This Row],[IdEstablecimiento]],'[2]Establecimiento 2023'!$A$1:$E$183,5,FALSE),0)","v":"04202-Canela"},"15050100","2023-10-17T11:48:56",14,7,7,{"$nulls":3},5,null,1,8]
[9,"5",2023,"105452",{"$f":"IFERROR(VLOOKUP(Tabla_SERIED_11_6[[#This Row],[IdEstablecimiento]],'[2]Establecimiento 2023'!$A$1:$E$183,3,FALSE),0)","v":"105452-Posta de Salud Rural Cuncumén(Salamanca)"},{"$f":"IFERROR(VLOOKUP(Tabla_SERIED_11_6[[#This Row],[IdEstablecimiento]],'[2]Establecimiento 2023'!$A$1:$E$183,5,FALSE),0)","v":"04204-Salamanca"},"16200220","2023-10-17T11:50:01",1,0,1]
[9,"5",2023,"105453",{"$f":"IFERROR(VLOOKUP(Tabla_SERIED_11_6[[#This Row],[IdEstablecimiento]],'[2]Establecimiento 2023'!$A$1:$E$183,3,FALSE),0)","v":"105453-Posta de Salud Rural Tranquilla"},{"$f":"IFERROR(VLOOKUP(Tabla_SERIED_11_6[[#This Row],[IdEstablecimiento]],'[2]Establecimiento 2023'!$A$1:$E$183,5,FALSE),0)","v":"04204-Salamanca"},"15010500","2023-10-17T11:50:47",4,{"$nulls":4},2,null,2]
[9,"5",2023,"105453",{"$f":"IFERROR(VLOOKUP(Tabla_SERIED_11_6[[#This Row],[IdEstablecimiento]],'[2]Establecimiento 2023'!$A$1:$E$183,3,FALSE),0)","v":"105453-Posta de Salud Rural Tranquilla"},{"$f":"IFERROR(VLOOKUP(Tabla_SERIED_11_6[[#This Row],[IdEstablecimiento]],'[2]Establecimiento 2023'!$A$1:$E$183,5,FALSE),0)","v":"04204-Salamanca"},"15050200","2023-10-17T11:50:47",2,2,{"$nulls":5},1,null,1]
[9,"5",2023,"105453",{"$f":"IFERROR(VLOOKUP(Tabla_SERIED_11_6[[#This Row],[IdEstablecimiento]],'[2]Establecimiento 2023'!$A$1:$E$183,3,FALSE),0)","v":"105453-Posta de Salud Rural Tranquilla"},{"$f":"IFERROR(VLOOKUP(Tabla_SERIED_11_6[[#This Row],[IdEstablecimiento]],'[2]Establecimiento 2023'!$A$1:$E$183,5,FALSE),0)","v":"04204-Salamanca"},"15080016","2023-10-17T11:50:47",4,{"$nulls":4},2,null,2]
[9,"5",2023,"105453",{"$f":"IFERROR(VLOOKUP(Tabla_SERIED_11_6[[#This Row],[IdEstablecimiento]],'[2]Establecimiento 2023'!$A$1:$E$183,3,FALSE),0)","v":"105453-Posta de Salud Rural Tranquilla"},{"$f":"IFERROR(VLOOKUP(Tabla_SERIED_11_6[[#This Row],[IdEstablecimiento]],'[2]Establecimiento 2023'!$A$1:$E$183,5,FALSE),0)","v":"04204-Salamanca"},"15900010","2023-10-17T11:50:47",5.6,null,2.4,3.2]
[9,"5",2023,"105455",{"$f":"IFERROR(VLOOKUP(Tabla_SERIED_11_6[[#This Row],[IdEstablecimiento]],'[2]Establecimiento 2023'!$A$1:$E$183,3,FALSE),0)","v":"105455-CESFAM Valle Alto"},{"$f":"IFERROR(VLOOKUP(Tabla_SERIED_11_6[[#This Row],[IdEstablecimiento]],'[2]Establecimiento 2023'!$A$1:$E$183,5,FALSE),0)","v":"04204-Salamanca"},"15050100","2023-10-17T11:52:35",44,18,26,null,1,3,4,5,5,11,6,null,3,1,5]
[9,"5",2023,"105456",{"$f":"IFERROR(VLOOKUP(Tabla_SERIED_11_6[[#This Row],[IdEstablecimiento]],'[2]Establecimiento 2023'!$A$1:$E$183,3,FALSE),0)","v":"105456-Posta de Salud Rural Llimpo"},{"$f":"IFERROR(VLOOKUP(Tabla_SERIED_11_6[[#This Row],[IdEstablecimiento]],'[2]Establecimiento 2023'!$A$1:$E$183,5,FALSE),0)","v":"04204-Salamanca"},"15080008","2023-10-17T11:53:06",14,{"$nulls":7},3,null,6,2,3]
[9,"5",2023,"105456",{"$f":"IFERROR(VLOOKUP(Tabla_SERIED_11_6[[#This Row],[IdEstablecimiento]],'[2]Establecimiento 2023'!$A$1:$E$183,3,FALSE),0)","v":"105456-Posta de Salud Rural Llimpo"},{"$f":"IFERROR(VLOOKUP(Tabla_SERIED_11_6[[#This Row],[IdEstablecimiento]],'[2]Establecimiento 2023'!$A$1:$E$183,5,FALSE),0)","v":"04204-Salamanca"},"15900010","2023-10-17T11:53:06",9.6,null,3.2,6.4]
[9,"5",2023,"105456",{"$f":"IFERROR(VLOOKUP(Tabla_SERIED_11_6[[#This Row],[IdEstablecimiento]],'[2]Establecimiento 2023'!$A$1:$E$183,3,FALSE),0)","v":"105456-Posta de Salud Rural Llimpo"},{"$f":"IFERROR(VLOOKUP(Tabla_SERIED_11_6[[#This Row],[IdEstablecimiento]],'[2]Establecimiento 2023'!$A$1:$E$183,5,FALSE),0)","v":"04204-Salamanca"},"16090300","2023-10-17T11:53:06",69,69]
[9,"5",2023,"105458",{"$f":"IFERROR(VLOOKUP(Tabla_SERIED_11_6[[#This Row],[IdEstablecimiento]],'[2]Establecimiento 2023'!$A$1:$E$183,3,FALSE),0)","v":"105458-Posta de Salud Rural Tahuinco"},{"$f":"IFERROR(VLOOKUP(Tabla_SERIED_11_6[[#This Row],[IdEstablecimiento]],'[2]Establecimiento 2023'!$A$1:$E$183,5,FALSE),0)","v":"04204-Salamanca"},"15900010","2023-10-17T11:54:22",4.8,null,null,4.8]
[9,"5",2023,"105463",{"$f":"IFERROR(VLOOKUP(Tabla_SERIED_11_6[[#This Row],[IdEstablecimiento]],'[2]Establecimiento 2023'!$A$1:$E$183,3,FALSE),0)","v":"105463-Posta de Salud Rural Quilitapia"},{"$f":"IFERROR(VLOOKUP(Tabla_SERIED_11_6[[#This Row],[IdEstablecimiento]],'[2]Establecimiento 2023'!$A$1:$E$183,5,FALSE),0)","v":"04302-Combarbalá"},"15900050","2023-10-17T12:00:52",2,1,1,null,1,{"$nulls":3},1]
[9,"5",2023,"105463",{"$f":"IFERROR(VLOOKUP(Tabla_SERIED_11_6[[#This Row],[IdEstablecimiento]],'[2]Establecimiento 2023'!$A$1:$E$183,3,FALSE),0)","v":"105463-Posta de Salud Rural Quilitapia"},{"$f":"IFERROR(VLOOKUP(Tabla_SERIED_11_6[[#This Row],[IdEstablecimiento]],'[2]Establecimiento 2023'!$A$1:$E$183,5,FALSE),0)","v":"04302-Combarbalá"},"16090300","2023-10-17T12:00:52",92,92]
[9,"5",2023,"105464",{"$f":"IFERROR(VLOOKUP(Tabla_SERIED_11_6[[#This Row],[IdEstablecimiento]],'[2]Establecimiento 2023'!$A$1:$E$183,3,FALSE),0)","v":"105464-Posta de Salud Rural La Ligua"},{"$f":"IFERROR(VLOOKUP(Tabla_SERIED_11_6[[#This Row],[IdEstablecimiento]],'[2]Establecimiento 2023'!$A$1:$E$183,5,FALSE),0)","v":"04302-Combarbalá"},"16200220","2023-10-17T12:00:47",5,2,3]
[9,"5",2023,"105466",{"$f":"IFERROR(VLOOKUP(Tabla_SERIED_11_6[[#This Row],[IdEstablecimiento]],'[2]Establecimiento 2023'!$A$1:$E$183,3,FALSE),0)","v":"105466-Posta de Salud Rural Valle Hermoso"},{"$f":"IFERROR(VLOOKUP(Tabla_SERIED_11_6[[#This Row],[IdEstablecimiento]],'[2]Establecimiento 2023'!$A$1:$E$183,5,FALSE),0)","v":"04302-Combarbalá"},"16090300","2023-10-17T12:07:20",29,29]
[9,"5",2023,"105466",{"$f":"IFERROR(VLOOKUP(Tabla_SERIED_11_6[[#This Row],[IdEstablecimiento]],'[2]Establecimiento 2023'!$A$1:$E$183,3,FALSE),0)","v":"105466-Posta de Salud Rural Valle Hermoso"},{"$f":"IFERROR(VLOOKUP(Tabla_SERIED_11_6[[#This Row],[IdEstablecimiento]],'[2]Establecimiento 2023'!$A$1:$E$183,5,FALSE),0)","v":"04302-Combarbalá"},"16200210","2023-10-17T12:07:20",14,14]
[9,"5",2023,"105467",{"$f":"IFERROR(VLOOKUP(Tabla_SERIED_11_6[[#This Row],[IdEstablecimiento]],'[2]Establecimiento 2023'!$A$1:$E$183,3,FALSE),0)","v":"105467-Posta de Salud Rural Diaguitas"},{"$f":"IFERROR(VLOOKUP(Tabla_SERIED_11_6[[#This Row],[IdEstablecimiento]],'[2]Establecimiento 2023'!$A$1:$E$183,5,FALSE),0)","v":"04106-Vicuña"},"15050200","2023-10-17T12:07:13",1,null,1,{"$nulls":3},1]
[9,"5",2023,"105467",{"$f":"IFERROR(VLOOKUP(Tabla_SERIED_11_6[[#This Row],[IdEstablecimiento]],'[2]Establecimiento 2023'!$A$1:$E$183,3,FALSE),0)","v":"105467-Posta de Salud Rural Diaguitas"},{"$f":"IFERROR(VLOOKUP(Tabla_SERIED_11_6[[#This Row],[IdEstablecimiento]],'[2]Establecimiento 2023'!$A$1:$E$183,5,FALSE),0)","v":"04106-Vicuña"},"16200210","2023-10-17T12:07:13",3,3]
[9,"5",2023,"105469",{"$f":"IFERROR(VLOOKUP(Tabla_SERIED_11_6[[#This Row],[IdEstablecimiento]],'[2]Establecimiento 2023'!$A$1:$E$183,3,FALSE),0)","v":"105469-Posta de Salud Rural El Tambo (Vicuña)"},{"$f":"IFERROR(VLOOKUP(Tabla_SERIED_11_6[[#This Row],[IdEstablecimiento]],'[2]Establecimiento 2023'!$A$1:$E$183,5,FALSE),0)","v":"04106-Vicuña"},"16090300","2023-10-17T14:04:10",58,58]
[9,"5",2023,"105469",{"$f":"IFERROR(VLOOKUP(Tabla_SERIED_11_6[[#This Row],[IdEstablecimiento]],'[2]Establecimiento 2023'!$A$1:$E$183,3,FALSE),0)","v":"105469-Posta de Salud Rural El Tambo (Vicuña)"},{"$f":"IFERROR(VLOOKUP(Tabla_SERIED_11_6[[#This Row],[IdEstablecimiento]],'[2]Establecimiento 2023'!$A$1:$E$183,5,FALSE),0)","v":"04106-Vicuña"},"16100300","2023-10-17T14:04:10",58,18,40]
[9,"5",2023,"105471",{"$f":"IFERROR(VLOOKUP(Tabla_SERIED_11_6[[#This Row],[IdEstablecimiento]],'[2]Establecimiento 2023'!$A$1:$E$183,3,FALSE),0)","v":"105471-Posta de Salud Rural Peralillo Vicuña"},{"$f":"IFERROR(VLOOKUP(Tabla_SERIED_11_6[[#This Row],[IdEstablecimiento]],'[2]Establecimiento 2023'!$A$1:$E$183,5,FALSE),0)","v":"04106-Vicuña"},"15080014","2023-10-17T14:05:27",12,{"$nulls":3},6,4,null,2]
[9,"5",2023,"105471",{"$f":"IFERROR(VLOOKUP(Tabla_SERIED_11_6[[#This Row],[IdEstablecimiento]],'[2]Establecimiento 2023'!$A$1:$E$183,3,FALSE),0)","v":"105471-Posta de Salud Rural Peralillo Vicuña"},{"$f":"IFERROR(VLOOKUP(Tabla_SERIED_11_6[[#This Row],[IdEstablecimiento]],'[2]Establecimiento 2023'!$A$1:$E$183,5,FALSE),0)","v":"04106-Vicuña"},"16090300","2023-10-17T14:05:27",74,74]
[9,"5",2023,"105473",{"$f":"IFERROR(VLOOKUP(Tabla_SERIED_11_6[[#This Row],[IdEstablecimiento]],'[2]Establecimiento 2023'!$A$1:$E$183,3,FALSE),0)","v":"105473-Posta de Salud Rural Talcuna"},{"$f":"IFERROR(VLOOKUP(Tabla_SERIED_11_6[[#This Row],[IdEstablecimiento]],'[2]Establecimiento 2023'!$A$1:$E$183,5,FALSE),0)","v":"04106-Vicuña"},"15050100","2023-10-17T14:07:03",29,13,16,null,null,4,5,3,6,8,2,null,1]
[9,"5",2023,"105481",{"$f":"IFERROR(VLOOKUP(Tabla_SERIED_11_6[[#This Row],[IdEstablecimiento]],'[2]Establecimiento 2023'!$A$1:$E$183,3,FALSE),0)","v":"105481-Posta de Salud Rural Tilama"},{"$f":"IFERROR(VLOOKUP(Tabla_SERIED_11_6[[#This Row],[IdEstablecimiento]],'[2]Establecimiento 2023'!$A$1:$E$183,5,FALSE),0)","v":"04203-Los Vilos"},"15050200","2023-10-17T14:44:31",1,1,0,{"$nulls":5},1]
[9,"5",2023,"105482",{"$f":"IFERROR(VLOOKUP(Tabla_SERIED_11_6[[#This Row],[IdEstablecimiento]],'[2]Establecimiento 2023'!$A$1:$E$183,3,FALSE),0)","v":"105482-Posta de Salud Rural Canela Alta"},{"$f":"IFERROR(VLOOKUP(Tabla_SERIED_11_6[[#This Row],[IdEstablecimiento]],'[2]Establecimiento 2023'!$A$1:$E$183,5,FALSE),0)","v":"04202-Canela"},"16090300","2023-10-17T14:45:43",90,90]
[9,"5",2023,"105483",{"$f":"IFERROR(VLOOKUP(Tabla_SERIED_11_6[[#This Row],[IdEstablecimiento]],'[2]Establecimiento 2023'!$A$1:$E$183,3,FALSE),0)","v":"105483-Posta de Salud Rural Los Rulos"},{"$f":"IFERROR(VLOOKUP(Tabla_SERIED_11_6[[#This Row],[IdEstablecimiento]],'[2]Establecimiento 2023'!$A$1:$E$183,5,FALSE),0)","v":"04202-Canela"},"16100300","2023-10-17T14:45:41",34,11,23]
[9,"5",2023,"105484",{"$f":"IFERROR(VLOOKUP(Tabla_SERIED_11_6[[#This Row],[IdEstablecimiento]],'[2]Establecimiento 2023'!$A$1:$E$183,3,FALSE),0)","v":"105484-Posta de Salud Rural Huentelauquén"},{"$f":"IFERROR(VLOOKUP(Tabla_SERIED_11_6[[#This Row],[IdEstablecimiento]],'[2]Establecimiento 2023'!$A$1:$E$183,5,FALSE),0)","v":"04202-Canela"},"16100300","2023-10-17T14:47:04",53,20,33]
[9,"5",2023,"105486",{"$f":"IFERROR(VLOOKUP(Tabla_SERIED_11_6[[#This Row],[IdEstablecimiento]],'[2]Establecimiento 2023'!$A$1:$E$183,3,FALSE),0)","v":"105486-Posta de Salud Rural Tunga Sur"},{"$f":"IFERROR(VLOOKUP(Tabla_SERIED_11_6[[#This Row],[IdEstablecimiento]],'[2]Establecimiento 2023'!$A$1:$E$183,5,FALSE),0)","v":"04201-Illapel"},"16090300","2023-10-17T14:48:59",54,54]
[9,"5",2023,"105487",{"$f":"IFERROR(VLOOKUP(Tabla_SERIED_11_6[[#This Row],[IdEstablecimiento]],'[2]Establecimiento 2023'!$A$1:$E$183,3,FALSE),0)","v":"105487-Posta de Salud Rural Cañas Uno"},{"$f":"IFERROR(VLOOKUP(Tabla_SERIED_11_6[[#This Row],[IdEstablecimiento]],'[2]Establecimiento 2023'!$A$1:$E$183,5,FALSE),0)","v":"04201-Illapel"},"16090300","2023-10-17T14:48:51",135,135]
[9,"5",2023,"105487",{"$f":"IFERROR(VLOOKUP(Tabla_SERIED_11_6[[#This Row],[IdEstablecimiento]],'[2]Establecimiento 2023'!$A$1:$E$183,3,FALSE),0)","v":"105487-Posta de Salud Rural Cañas Uno"},{"$f":"IFERROR(VLOOKUP(Tabla_SERIED_11_6[[#This Row],[IdEstablecimiento]],'[2]Establecimiento 2023'!$A$1:$E$183,5,FALSE),0)","v":"04201-Illapel"},"16200210","2023-10-17T14:48:51",41,41]
[9,"5",2023,"105488",{"$f":"IFERROR(VLOOKUP(Tabla_SERIED_11_6[[#This Row],[IdEstablecimiento]],'[2]Establecimiento 2023'!$A$1:$E$183,3,FALSE),0)","v":"105488-Posta de Salud Rural Espíritu Santo"},{"$f":"IFERROR(VLOOKUP(Tabla_SERIED_11_6[[#This Row],[IdEstablecimiento]],'[2]Establecimiento 2023'!$A$1:$E$183,5,FALSE),0)","v":"04202-Canela"},"16090300","2023-10-17T14:50:15",23,23]
[9,"5",2023,"105491",{"$f":"IFERROR(VLOOKUP(Tabla_SERIED_11_6[[#This Row],[IdEstablecimiento]],'[2]Establecimiento 2023'!$A$1:$E$183,3,FALSE),0)","v":"105491-Posta de Salud Rural Quelén Bajo"},{"$f":"IFERROR(VLOOKUP(Tabla_SERIED_11_6[[#This Row],[IdEstablecimiento]],'[2]Establecimiento 2023'!$A$1:$E$183,5,FALSE),0)","v":"04204-Salamanca"},"16100300","2023-10-17T14:51:37",141,77,64]
[9,"5",2023,"105491",{"$f":"IFERROR(VLOOKUP(Tabla_SERIED_11_6[[#This Row],[IdEstablecimiento]],'[2]Establecimiento 2023'!$A$1:$E$183,3,FALSE),0)","v":"105491-Posta de Salud Rural Quelén Bajo"},{"$f":"IFERROR(VLOOKUP(Tabla_SERIED_11_6[[#This Row],[IdEstablecimiento]],'[2]Establecimiento 2023'!$A$1:$E$183,5,FALSE),0)","v":"04204-Salamanca"},"16200210","2023-10-17T14:51:37",4,4]
[9,"5",2023,"105492",{"$f":"IFERROR(VLOOKUP(Tabla_SERIED_11_6[[#This Row],[IdEstablecimiento]],'[2]Establecimiento 2023'!$A$1:$E$183,3,FALSE),0)","v":"105492-Posta de Salud Rural Camisa"},{"$f":"IFERROR(VLOOKUP(Tabla_SERIED_11_6[[#This Row],[IdEstablecimiento]],'[2]Establecimiento 2023'!$A$1:$E$183,5,FALSE),0)","v":"04204-Salamanca"},"15010200","2023-10-17T14:54:13",32,{"$nulls":5},20,12]
[9,"5",2023,"105492",{"$f":"IFERROR(VLOOKUP(Tabla_SERIED_11_6[[#This Row],[IdEstablecimiento]],'[2]Establecimiento 2023'!$A$1:$E$183,3,FALSE),0)","v":"105492-Posta de Salud Rural Camisa"},{"$f":"IFERROR(VLOOKUP(Tabla_SERIED_11_6[[#This Row],[IdEstablecimiento]],'[2]Establecimiento 2023'!$A$1:$E$183,5,FALSE),0)","v":"04204-Salamanca"},"15080015","2023-10-17T14:54:13",2,{"$nulls":5},2]
[9,"5",2023,"105492",{"$f":"IFERROR(VLOOKUP(Tabla_SERIED_11_6[[#This Row],[IdEstablecimiento]],'[2]Establecimiento 2023'!$A$1:$E$183,3,FALSE),0)","v":"105492-Posta de Salud Rural Camisa"},{"$f":"IFERROR(VLOOKUP(Tabla_SERIED_11_6[[#This Row],[IdEstablecimiento]],'[2]Establecimiento 2023'!$A$1:$E$183,5,FALSE),0)","v":"04204-Salamanca"},"16200210","2023-10-17T14:54:13",4,4]
[9,"5",2023,"105493",{"$f":"IFERROR(VLOOKUP(Tabla_SERIED_11_6[[#This Row],[IdEstablecimiento]],'[2]Establecimiento 2023'!$A$1:$E$183,3,FALSE),0)","v":"105493-Posta de Salud Rural Mincha Sur"},{"$f":"IFERROR(VLOOKUP(Tabla_SERIED_11_6[[#This Row],[IdEstablecimiento]],'[2]Establecimiento 2023'!$A$1:$E$183,5,FALSE),0)","v":"04202-Canela"},"15080014","2023-10-17T14:54:07",2,{"$nulls":4},2]
[9,"5",2023,"105493",{"$f":"IFERROR(VLOOKUP(Tabla_SERIED_11_6[[#This Row],[IdEstablecimiento]],'[2]Establecimiento 2023'!$A$1:$E$183,3,FALSE),0)","v":"105493-Posta de Salud Rural Mincha Sur"},{"$f":"IFERROR(VLOOKUP(Tabla_SERIED_11_6[[#This Row],[IdEstablecimiento]],'[2]Establecimiento 2023'!$A$1:$E$183,5,FALSE),0)","v":"04202-Canela"},"16200220","2023-10-17T14:54:07",2,0,2]
[9,"5",2023,"105496",{"$f":"IFERROR(VLOOKUP(Tabla_SERIED_11_6[[#This Row],[IdEstablecimiento]],'[2]Establecimiento 2023'!$A$1:$E$183,3,FALSE),0)","v":"105496-Posta de Salud Rural Pintacura Sur"},{"$f":"IFERROR(VLOOKUP(Tabla_SERIED_11_6[[#This Row],[IdEstablecimiento]],'[2]Establecimiento 2023'!$A$1:$E$183,5,FALSE),0)","v":"04201-Illapel"},"15050100","2023-10-17T14:56:55",7,5,2,null,1,null,null,0,2,3,1]
[9,"5",2023,"105498",{"$f":"IFERROR(VLOOKUP(Tabla_SERIED_11_6[[#This Row],[IdEstablecimiento]],'[2]Establecimiento 2023'!$A$1:$E$183,3,FALSE),0)","v":"105498-Posta de Salud Rural Quebrada Linares"},{"$f":"IFERROR(VLOOKUP(Tabla_SERIED_11_6[[#This Row],[IdEstablecimiento]],'[2]Establecimiento 2023'!$A$1:$E$183,5,FALSE),0)","v":"04202-Canela"},"16090300","2023-10-17T15:02:54",21,21]
[9,"5",2023,"105467",{"$f":"IFERROR(VLOOKUP(Tabla_SERIED_11_6[[#This Row],[IdEstablecimiento]],'[2]Establecimiento 2023'!$A$1:$E$183,3,FALSE),0)","v":"105467-Posta de Salud Rural Diaguitas"},{"$f":"IFERROR(VLOOKUP(Tabla_SERIED_11_6[[#This Row],[IdEstablecimiento]],'[2]Establecimiento 2023'!$A$1:$E$183,5,FALSE),0)","v":"04106-Vicuña"},"16100300","2023-10-17T12:07:13",32,14,18]
[9,"5",2023,"105468",{"$f":"IFERROR(VLOOKUP(Tabla_SERIED_11_6[[#This Row],[IdEstablecimiento]],'[2]Establecimiento 2023'!$A$1:$E$183,3,FALSE),0)","v":"105468-Posta de Salud Rural El Molle"},{"$f":"IFERROR(VLOOKUP(Tabla_SERIED_11_6[[#This Row],[IdEstablecimiento]],'[2]Establecimiento 2023'!$A$1:$E$183,5,FALSE),0)","v":"04106-Vicuña"},"15080008","2023-10-17T14:04:13",3,{"$nulls":7},3,null,0]
[9,"5",2023,"105473",{"$f":"IFERROR(VLOOKUP(Tabla_SERIED_11_6[[#This Row],[IdEstablecimiento]],'[2]Establecimiento 2023'!$A$1:$E$183,3,FALSE),0)","v":"105473-Posta de Salud Rural Talcuna"},{"$f":"IFERROR(VLOOKUP(Tabla_SERIED_11_6[[#This Row],[IdEstablecimiento]],'[2]Establecimiento 2023'!$A$1:$E$183,5,FALSE),0)","v":"04106-Vicuña"},"15080008","2023-10-17T14:07:03",3,{"$nulls":7},2,null,1]
[9,"5",2023,"105473",{"$f":"IFERROR(VLOOKUP(Tabla_SERIED_11_6[[#This Row],[IdEstablecimiento]],'[2]Establecimiento 2023'!$A$1:$E$183,3,FALSE),0)","v":"105473-Posta de Salud Rural Talcuna"},{"$f":"IFERROR(VLOOKUP(Tabla_SERIED_11_6[[#This Row],[IdEstablecimiento]],'[2]Establecimiento 2023'!$A$1:$E$183,5,FALSE),0)","v":"04106-Vicuña"},"15080014","2023-10-17T14:07:03",16,{"$nulls":3},10,6]
[9,"5",2023,"105473",{"$f":"IFERROR(VLOOKUP(Tabla_SERIED_11_6[[#This Row],[IdEstablecimiento]],'[2]Establecimiento 2023'!$A$1:$E$183,3,FALSE),0)","v":"105473-Posta de Salud Rural Talcuna"},{"$f":"IFERROR(VLOOKUP(Tabla_SERIED_11_6[[#This Row],[IdEstablecimiento]],'[2]Establecimiento 2023'!$A$1:$E$183,5,FALSE),0)","v":"04106-Vicuña"},"16200210","2023-10-17T14:07:03",4,4]
[9,"5",2023,"105474",{"$f":"IFERROR(VLOOKUP(Tabla_SERIED_11_6[[#This Row],[IdEstablecimiento]],'[2]Establecimiento 2023'!$A$1:$E$183,3,FALSE),0)","v":"105474-Posta de Salud Rural Chapilca"},{"$f":"IFERROR(VLOOKUP(Tabla_SERIED_11_6[[#This Row],[IdEstablecimiento]],'[2]Establecimiento 2023'!$A$1:$E$183,5,FALSE),0)","v":"04106-Vicuña"},"16090300","2023-10-17T14:08:14",17,17]
[9,"5",2023,"105478",{"$f":"IFERROR(VLOOKUP(Tabla_SERIED_11_6[[#This Row],[IdEstablecimiento]],'[2]Establecimiento 2023'!$A$1:$E$183,3,FALSE),0)","v":"105478-Posta de Salud Rural Caimanes"},{"$f":"IFERROR(VLOOKUP(Tabla_SERIED_11_6[[#This Row],[IdEstablecimiento]],'[2]Establecimiento 2023'!$A$1:$E$183,5,FALSE),0)","v":"04203-Los Vilos"},"15900050","2023-10-17T14:41:36",1,1,0,{"$nulls":3},1]
[9,"5",2023,"105481",{"$f":"IFERROR(VLOOKUP(Tabla_SERIED_11_6[[#This Row],[IdEstablecimiento]],'[2]Establecimiento 2023'!$A$1:$E$183,3,FALSE),0)","v":"105481-Posta de Salud Rural Tilama"},{"$f":"IFERROR(VLOOKUP(Tabla_SERIED_11_6[[#This Row],[IdEstablecimiento]],'[2]Establecimiento 2023'!$A$1:$E$183,5,FALSE),0)","v":"04203-Los Vilos"},"15080016","2023-10-17T14:44:31",2,{"$nulls":5},2]
[9,"5",2023,"105482",{"$f":"IFERROR(VLOOKUP(Tabla_SERIED_11_6[[#This Row],[IdEstablecimiento]],'[2]Establecimiento 2023'!$A$1:$E$183,3,FALSE),0)","v":"105482-Posta de Salud Rural Canela Alta"},{"$f":"IFERROR(VLOOKUP(Tabla_SERIED_11_6[[#This Row],[IdEstablecimiento]],'[2]Establecimiento 2023'!$A$1:$E$183,5,FALSE),0)","v":"04202-Canela"},"16100300","2023-10-17T14:45:43",90,41,49]
[9,"5",2023,"105483",{"$f":"IFERROR(VLOOKUP(Tabla_SERIED_11_6[[#This Row],[IdEstablecimiento]],'[2]Establecimiento 2023'!$A$1:$E$183,3,FALSE),0)","v":"105483-Posta de Salud Rural Los Rulos"},{"$f":"IFERROR(VLOOKUP(Tabla_SERIED_11_6[[#This Row],[IdEstablecimiento]],'[2]Establecimiento 2023'!$A$1:$E$183,5,FALSE),0)","v":"04202-Canela"},"16200220","2023-10-17T14:45:41",2,0,2]
[9,"5",2023,"105484",{"$f":"IFERROR(VLOOKUP(Tabla_SERIED_11_6[[#This Row],[IdEstablecimiento]],'[2]Establecimiento 2023'!$A$1:$E$183,3,FALSE),0)","v":"105484-Posta de Salud Rural Huentelauquén"},{"$f":"IFERROR(VLOOKUP(Tabla_SERIED_11_6[[#This Row],[IdEstablecimiento]],'[2]Establecimiento 2023'!$A$1:$E$183,5,FALSE),0)","v":"04202-Canela"},"15080014","2023-10-17T14:47:04",2,{"$nulls":4},2]
[9,"5",2023,"105485",{"$f":"IFERROR(VLOOKUP(Tabla_SERIED_11_6[[#This Row],[IdEstablecimiento]],'[2]Establecimiento 2023'!$A$1:$E$183,3,FALSE),0)","v":"105485-Posta de Salud Rural Plan de Hornos"},{"$f":"IFERROR(VLOOKUP(Tabla_SERIED_11_6[[#This Row],[IdEstablecimiento]],'[2]Establecimiento 2023'!$A$1:$E$183,5,FALSE),0)","v":"04201-Illapel"},"16090300","2023-10-17T14:46:57",76,76]
[9,"5",2023,"105485",{"$f":"IFERROR(VLOOKUP(Tabla_SERIED_11_6[[#This Row],[IdEstablecimiento]],'[2]Establecimiento 2023'!$A$1:$E$183,3,FALSE),0)","v":"105485-Posta de Salud Rural Plan de Hornos"},{"$f":"IFERROR(VLOOKUP(Tabla_SERIED_11_6[[#This Row],[IdEstablecimiento]],'[2]Establecimiento 2023'!$A$1:$E$183,5,FALSE),0)","v":"04201-Illapel"},"16200220","2023-10-17T14:46:57",9,6,3]
[9,"5",2023,"105477",{"$f":"IFERROR(VLOOKUP(Tabla_SERIED_11_6[[#This Row],[IdEstablecimiento]],'[2]Establecimiento 2023'!$A$1:$E$183,3,FALSE),0)","v":"105477-Posta de Salud Rural Pisco Elqui"},{"$f":"IFERROR(VLOOKUP(Tabla_SERIED_11_6[[#This Row],[IdEstablecimiento]],'[2]Establecimiento 2023'!$A$1:$E$183,5,FALSE),0)","v":"04105-Paihuano"},"15080015","2023-11-22T13:07:54",10,{"$nulls":5},8,2]
[9,"5",2023,"105486",{"$f":"IFERROR(VLOOKUP(Tabla_SERIED_11_6[[#This Row],[IdEstablecimiento]],'[2]Establecimiento 2023'!$A$1:$E$183,3,FALSE),0)","v":"105486-Posta de Salud Rural Tunga Sur"},{"$f":"IFERROR(VLOOKUP(Tabla_SERIED_11_6[[#This Row],[IdEstablecimiento]],'[2]Establecimiento 2023'!$A$1:$E$183,5,FALSE),0)","v":"04201-Illapel"},"15010200","2023-10-17T14:48:59",12,{"$nulls":5},12]
[9,"5",2023,"105486",{"$f":"IFERROR(VLOOKUP(Tabla_SERIED_11_6[[#This Row],[IdEstablecimiento]],'[2]Establecimiento 2023'!$A$1:$E$183,3,FALSE),0)","v":"105486-Posta de Salud Rural Tunga Sur"},{"$f":"IFERROR(VLOOKUP(Tabla_SERIED_11_6[[#This Row],[IdEstablecimiento]],'[2]Establecimiento 2023'!$A$1:$E$183,5,FALSE),0)","v":"04201-Illapel"},"15080008","2023-10-17T14:48:59",2,{"$nulls":9},2]
[9,"5",2023,"105486",{"$f":"IFERROR(VLOOKUP(Tabla_SERIED_11_6[[#This Row],[IdEstablecimiento]],'[2]Establecimiento 2023'!$A$1:$E$183,3,FALSE),0)","v":"105486-Posta de Salud Rural Tunga Sur"},{"$f":"IFERROR(VLOOKUP(Tabla_SERIED_11_6[[#This Row],[IdEstablecimiento]],'[2]Establecimiento 2023'!$A$1:$E$183,5,FALSE),0)","v":"04201-Illapel"},"16200210","2023-10-17T14:48:59",12,12]
[9,"5",2023,"105487",{"$f":"IFERROR(VLOOKUP(Tabla_SERIED_11_6[[#This Row],[IdEstablecimiento]],'[2]Establecimiento 2023'!$A$1:$E$183,3,FALSE),0)","v":"105487-Posta de Salud Rural Cañas Uno"},{"$f":"IFERROR(VLOOKUP(Tabla_SERIED_11_6[[#This Row],[IdEstablecimiento]],'[2]Establecimiento 2023'!$A$1:$E$183,5,FALSE),0)","v":"04201-Illapel"},"16200220","2023-10-17T14:48:51",41,18,23]
[9,"5",2023,"105489",{"$f":"IFERROR(VLOOKUP(Tabla_SERIED_11_6[[#This Row],[IdEstablecimiento]],'[2]Establecimiento 2023'!$A$1:$E$183,3,FALSE),0)","v":"105489-Posta de Salud Rural Ramadas de Tulahuén"},{"$f":"IFERROR(VLOOKUP(Tabla_SERIED_11_6[[#This Row],[IdEstablecimiento]],'[2]Establecimiento 2023'!$A$1:$E$183,5,FALSE),0)","v":"04303-Monte Patria"},"15050100","2023-10-17T14:50:18",4,3,1,{"$nulls":4},1,2,1]
[9,"5",2023,"105492",{"$f":"IFERROR(VLOOKUP(Tabla_SERIED_11_6[[#This Row],[IdEstablecimiento]],'[2]Establecimiento 2023'!$A$1:$E$183,3,FALSE),0)","v":"105492-Posta de Salud Rural Camisa"},{"$f":"IFERROR(VLOOKUP(Tabla_SERIED_11_6[[#This Row],[IdEstablecimiento]],'[2]Establecimiento 2023'!$A$1:$E$183,5,FALSE),0)","v":"04204-Salamanca"},"15080014","2023-10-17T14:54:13",4,{"$nulls":4},4]
[9,"5",2023,"105493",{"$f":"IFERROR(VLOOKUP(Tabla_SERIED_11_6[[#This Row],[IdEstablecimiento]],'[2]Establecimiento 2023'!$A$1:$E$183,3,FALSE),0)","v":"105493-Posta de Salud Rural Mincha Sur"},{"$f":"IFERROR(VLOOKUP(Tabla_SERIED_11_6[[#This Row],[IdEstablecimiento]],'[2]Establecimiento 2023'!$A$1:$E$183,5,FALSE),0)","v":"04202-Canela"},"15080008","2023-10-17T14:54:07",1,{"$nulls":7},1]
[9,"5",2023,"105493",{"$f":"IFERROR(VLOOKUP(Tabla_SERIED_11_6[[#This Row],[IdEstablecimiento]],'[2]Establecimiento 2023'!$A$1:$E$183,3,FALSE),0)","v":"105493-Posta de Salud Rural Mincha Sur"},{"$f":"IFERROR(VLOOKUP(Tabla_SERIED_11_6[[#This Row],[IdEstablecimiento]],'[2]Establecimiento 2023'!$A$1:$E$183,5,FALSE),0)","v":"04202-Canela"},"16090300","2023-10-17T14:54:07",27,27]
[9,"5",2023,"105498",{"$f":"IFERROR(VLOOKUP(Tabla_SERIED_11_6[[#This Row],[IdEstablecimiento]],'[2]Establecimiento 2023'!$A$1:$E$183,3,FALSE),0)","v":"105498-Posta de Salud Rural Quebrada Linares"},{"$f":"IFERROR(VLOOKUP(Tabla_SERIED_11_6[[#This Row],[IdEstablecimiento]],'[2]Establecimiento 2023'!$A$1:$E$183,5,FALSE),0)","v":"04202-Canela"},"15050100","2023-10-17T15:02:54",1,null,1,{"$nulls":6},1]
[9,"5",2023,"105498",{"$f":"IFERROR(VLOOKUP(Tabla_SERIED_11_6[[#This Row],[IdEstablecimiento]],'[2]Establecimiento 2023'!$A$1:$E$183,3,FALSE),0)","v":"105498-Posta de Salud Rural Quebrada Linares"},{"$f":"IFERROR(VLOOKUP(Tabla_SERIED_11_6[[#This Row],[IdEstablecimiento]],'[2]Establecimiento 2023'!$A$1:$E$183,5,FALSE),0)","v":"04202-Canela"},"15080015","2023-10-17T15:02:54",2,{"$nulls":6},2]
[9,"5",2023,"105105",{"$f":"IFERROR(VLOOKUP(Tabla_SERIED_11_6[[#This Row],[IdEstablecimiento]],'[2]Establecimiento 2023'!$A$1:$E$183,3,FALSE),0)","v":"105105-Hospital San Juan de Dios (Combarbalá)"},{"$f":"IFERROR(VLOOKUP(Tabla_SERIED_11_6[[#This Row],[IdEstablecimiento]],'[2]Establecimiento 2023'!$A$1:$E$183,5,FALSE),0)","v":"105105-Hospital Combarbalá"},"15080008","2023-10-17T09:51:49",61,{"$nulls":7},19,null,28,2,12]
[9,"5",2023,"105105",{"$f":"IFERROR(VLOOKUP(Tabla_SERIED_11_6[[#This Row],[IdEstablecimiento]],'[2]Establecimiento 2023'!$A$1:$E$183,3,FALSE),0)","v":"105105-Hospital San Juan de Dios (Combarbalá)"},{"$f":"IFERROR(VLOOKUP(Tabla_SERIED_11_6[[#This Row],[IdEstablecimiento]],'[2]Establecimiento 2023'!$A$1:$E$183,5,FALSE),0)","v":"105105-Hospital Combarbalá"},"16100300","2023-10-17T09:51:49",373,145,228]
[9,"5",2023,"105106",{"$f":"IFERROR(VLOOKUP(Tabla_SERIED_11_6[[#This Row],[IdEstablecimiento]],'[2]Establecimiento 2023'!$A$1:$E$183,3,FALSE),0)","v":"105106-Hospital Dr. José Arraño (Andacollo)"},{"$f":"IFERROR(VLOOKUP(Tabla_SERIED_11_6[[#This Row],[IdEstablecimiento]],'[2]Establecimiento 2023'!$A$1:$E$183,5,FALSE),0)","v":"105106-Hospital Andacollo"},"15050200","2023-10-17T09:51:53",4,1,3,{"$nulls":5},1,3]
[9,"5",2023,"105107",{"$f":"IFERROR(VLOOKUP(Tabla_SERIED_11_6[[#This Row],[IdEstablecimiento]],'[2]Establecimiento 2023'!$A$1:$E$183,3,FALSE),0)","v":"105107-Hospital San Juan de Dios (Vicuña)"},{"$f":"IFERROR(VLOOKUP(Tabla_SERIED_11_6[[#This Row],[IdEstablecimiento]],'[2]Establecimiento 2023'!$A$1:$E$183,5,FALSE),0)","v":"105107-Hospital Vicuña"},"15060100","2023-10-17T09:53:51",4,2,2,{"$nulls":4},1,1,2]
[9,"5",2023,"105108",{"$f":"IFERROR(VLOOKUP(Tabla_SERIED_11_6[[#This Row],[IdEstablecimiento]],'[2]Establecimiento 2023'!$A$1:$E$183,3,FALSE),0)","v":"105108-Hospital San Pedro (Los Vilos)"},{"$f":"IFERROR(VLOOKUP(Tabla_SERIED_11_6[[#This Row],[IdEstablecimiento]],'[2]Establecimiento 2023'!$A$1:$E$183,5,FALSE),0)","v":"105108-Hospital Los Vilos"},"15080016","2023-10-17T09:54:40",12,{"$nulls":4},4,4,4]
[9,"5",2023,"105108",{"$f":"IFERROR(VLOOKUP(Tabla_SERIED_11_6[[#This Row],[IdEstablecimiento]],'[2]Establecimiento 2023'!$A$1:$E$183,3,FALSE),0)","v":"105108-Hospital San Pedro (Los Vilos)"},{"$f":"IFERROR(VLOOKUP(Tabla_SERIED_11_6[[#This Row],[IdEstablecimiento]],'[2]Establecimiento 2023'!$A$1:$E$183,5,FALSE),0)","v":"105108-Hospital Los Vilos"},"15900030","2023-10-17T09:54:40",28.8,2.8,null,14,6.8,5.2]
[9,"5",2023,"105108",{"$f":"IFERROR(VLOOKUP(Tabla_SERIED_11_6[[#This Row],[IdEstablecimiento]],'[2]Establecimiento 2023'!$A$1:$E$183,3,FALSE),0)","v":"105108-Hospital San Pedro (Los Vilos)"},{"$f":"IFERROR(VLOOKUP(Tabla_SERIED_11_6[[#This Row],[IdEstablecimiento]],'[2]Establecimiento 2023'!$A$1:$E$183,5,FALSE),0)","v":"105108-Hospital Los Vilos"},"16200210","2023-10-17T09:54:40",10,10]
[9,"5",2023,"105300",{"$f":"IFERROR(VLOOKUP(Tabla_SERIED_11_6[[#This Row],[IdEstablecimiento]],'[2]Establecimiento 2023'!$A$1:$E$183,3,FALSE),0)","v":"105300-Centro de Salud Familiar Cardenal Caro"},{"$f":"IFERROR(VLOOKUP(Tabla_SERIED_11_6[[#This Row],[IdEstablecimiento]],'[2]Establecimiento 2023'!$A$1:$E$183,5,FALSE),0)","v":"04101-La Serena"},"15010500","2023-10-17T09:56:24",2,{"$nulls":3},2]
[9,"5",2023,"105300",{"$f":"IFERROR(VLOOKUP(Tabla_SERIED_11_6[[#This Row],[IdEstablecimiento]],'[2]Establecimiento 2023'!$A$1:$E$183,3,FALSE),0)","v":"105300-Centro de Salud Familiar Cardenal Caro"},{"$f":"IFERROR(VLOOKUP(Tabla_SERIED_11_6[[#This Row],[IdEstablecimiento]],'[2]Establecimiento 2023'!$A$1:$E$183,5,FALSE),0)","v":"04101-La Serena"},"16100700","2023-10-17T09:56:24",4,2,2]
[9,"5",2023,"105301",{"$f":"IFERROR(VLOOKUP(Tabla_SERIED_11_6[[#This Row],[IdEstablecimiento]],'[2]Establecimiento 2023'!$A$1:$E$183,3,FALSE),0)","v":"105301-Centro de Salud Familiar Las Compañías"},{"$f":"IFERROR(VLOOKUP(Tabla_SERIED_11_6[[#This Row],[IdEstablecimiento]],'[2]Establecimiento 2023'!$A$1:$E$183,5,FALSE),0)","v":"04101-La Serena"},"15080014","2023-10-17T09:57:10",220,{"$nulls":3},136,84]
[9,"5",2023,"105301",{"$f":"IFERROR(VLOOKUP(Tabla_SERIED_11_6[[#This Row],[IdEstablecimiento]],'[2]Establecimiento 2023'!$A$1:$E$183,3,FALSE),0)","v":"105301-Centro de Salud Familiar Las Compañías"},{"$f":"IFERROR(VLOOKUP(Tabla_SERIED_11_6[[#This Row],[IdEstablecimiento]],'[2]Establecimiento 2023'!$A$1:$E$183,5,FALSE),0)","v":"04101-La Serena"},"16200210","2023-10-17T09:57:10",98,98]
[9,"5",2023,"105302",{"$f":"IFERROR(VLOOKUP(Tabla_SERIED_11_6[[#This Row],[IdEstablecimiento]],'[2]Establecimiento 2023'!$A$1:$E$183,3,FALSE),0)","v":"105302-Centro de Salud Familiar Pedro Aguirre Cerda"},{"$f":"IFERROR(VLOOKUP(Tabla_SERIED_11_6[[#This Row],[IdEstablecimiento]],'[2]Establecimiento 2023'!$A$1:$E$183,5,FALSE),0)","v":"04101-La Serena"},"15900020","2023-10-17T09:56:49",13.6,5.6,null,8]
[9,"5",2023,"105302",{"$f":"IFERROR(VLOOKUP(Tabla_SERIED_11_6[[#This Row],[IdEstablecimiento]],'[2]Establecimiento 2023'!$A$1:$E$183,3,FALSE),0)","v":"105302-Centro de Salud Familiar Pedro Aguirre Cerda"},{"$f":"IFERROR(VLOOKUP(Tabla_SERIED_11_6[[#This Row],[IdEstablecimiento]],'[2]Establecimiento 2023'!$A$1:$E$183,5,FALSE),0)","v":"04101-La Serena"},"15901200","2023-10-17T09:56:49",3.2,{"$nulls":3},3.2]
[9,"5",2023,"105302",{"$f":"IFERROR(VLOOKUP(Tabla_SERIED_11_6[[#This Row],[IdEstablecimiento]],'[2]Establecimiento 2023'!$A$1:$E$183,3,FALSE),0)","v":"105302-Centro de Salud Familiar Pedro Aguirre Cerda"},{"$f":"IFERROR(VLOOKUP(Tabla_SERIED_11_6[[#This Row],[IdEstablecimiento]],'[2]Establecimiento 2023'!$A$1:$E$183,5,FALSE),0)","v":"04101-La Serena"},"16200210","2023-10-17T09:56:49",64,64]
[9,"5",2023,"105304",{"$f":"IFERROR(VLOOKUP(Tabla_SERIED_11_6[[#This Row],[IdEstablecimiento]],'[2]Establecimiento 2023'!$A$1:$E$183,3,FALSE),0)","v":"105304-Centro de Salud Familiar Santa Cecilia"},{"$f":"IFERROR(VLOOKUP(Tabla_SERIED_11_6[[#This Row],[IdEstablecimiento]],'[2]Establecimiento 2023'!$A$1:$E$183,5,FALSE),0)","v":"04102-Coquimbo"},"15080019","2023-10-17T09:59:19",4,{"$nulls":5},4,0]
[9,"5",2023,"105305",{"$f":"IFERROR(VLOOKUP(Tabla_SERIED_11_6[[#This Row],[IdEstablecimiento]],'[2]Establecimiento 2023'!$A$1:$E$183,3,FALSE),0)","v":"105305-Centro de Salud Familiar Tierras Blancas"},{"$f":"IFERROR(VLOOKUP(Tabla_SERIED_11_6[[#This Row],[IdEstablecimiento]],'[2]Establecimiento 2023'!$A$1:$E$183,5,FALSE),0)","v":"04102-Coquimbo"},"16090300","2023-10-17T10:00:18",776,776]
[9,"5",2023,"105307",{"$f":"IFERROR(VLOOKUP(Tabla_SERIED_11_6[[#This Row],[IdEstablecimiento]],'[2]Establecimiento 2023'!$A$1:$E$183,3,FALSE),0)","v":"105307-Centro de Salud Familiar Monte Patria"},{"$f":"IFERROR(VLOOKUP(Tabla_SERIED_11_6[[#This Row],[IdEstablecimiento]],'[2]Establecimiento 2023'!$A$1:$E$183,5,FALSE),0)","v":"04303-Monte Patria"},"15080014","2023-10-17T10:01:17",134,{"$nulls":3},64,70]
[9,"5",2023,"105308",{"$f":"IFERROR(VLOOKUP(Tabla_SERIED_11_6[[#This Row],[IdEstablecimiento]],'[2]Establecimiento 2023'!$A$1:$E$183,3,FALSE),0)","v":"105308-Centro de Salud Familiar Punitaqui"},{"$f":"IFERROR(VLOOKUP(Tabla_SERIED_11_6[[#This Row],[IdEstablecimiento]],'[2]Establecimiento 2023'!$A$1:$E$183,5,FALSE),0)","v":"04304-Punitaqui"},"15050500","2023-10-17T10:02:23",1,1,null,null,1]
[9,"5",2023,"105308",{"$f":"IFERROR(VLOOKUP(Tabla_SERIED_11_6[[#This Row],[IdEstablecimiento]],'[2]Establecimiento 2023'!$A$1:$E$183,3,FALSE),0)","v":"105308-Centro de Salud Familiar Punitaqui"},{"$f":"IFERROR(VLOOKUP(Tabla_SERIED_11_6[[#This Row],[IdEstablecimiento]],'[2]Establecimiento 2023'!$A$1:$E$183,5,FALSE),0)","v":"04304-Punitaqui"},"15080009","2023-10-17T10:02:23",6,{"$nulls":8},6]
[9,"5",2023,"105309",{"$f":"IFERROR(VLOOKUP(Tabla_SERIED_11_6[[#This Row],[IdEstablecimiento]],'[2]Establecimiento 2023'!$A$1:$E$183,3,FALSE),0)","v":"105309-Centro de Salud Familiar Canela"},{"$f":"IFERROR(VLOOKUP(Tabla_SERIED_11_6[[#This Row],[IdEstablecimiento]],'[2]Establecimiento 2023'!$A$1:$E$183,5,FALSE),0)","v":"04202-Canela"},"15900030","2023-10-17T10:02:58",10,null,null,2.4,null,7.6]
[9,"5",2023,"105309",{"$f":"IFERROR(VLOOKUP(Tabla_SERIED_11_6[[#This Row],[IdEstablecimiento]],'[2]Establecimiento 2023'!$A$1:$E$183,3,FALSE),0)","v":"105309-Centro de Salud Familiar Canela"},{"$f":"IFERROR(VLOOKUP(Tabla_SERIED_11_6[[#This Row],[IdEstablecimiento]],'[2]Establecimiento 2023'!$A$1:$E$183,5,FALSE),0)","v":"04202-Canela"},"15900050","2023-10-17T10:02:58",3,3,{"$nulls":3},1,null,2]
[9,"5",2023,"105309",{"$f":"IFERROR(VLOOKUP(Tabla_SERIED_11_6[[#This Row],[IdEstablecimiento]],'[2]Establecimiento 2023'!$A$1:$E$183,3,FALSE),0)","v":"105309-Centro de Salud Familiar Canela"},{"$f":"IFERROR(VLOOKUP(Tabla_SERIED_11_6[[#This Row],[IdEstablecimiento]],'[2]Establecimiento 2023'!$A$1:$E$183,5,FALSE),0)","v":"04202-Canela"},"16090600","2023-10-17T10:02:58",1,1]
[9,"5",2023,"105311",{"$f":"IFERROR(VLOOKUP(Tabla_SERIED_11_6[[#This Row],[IdEstablecimiento]],'[2]Establecimiento 2023'!$A$1:$E$183,3,FALSE),0)","v":"105311-Centro de Salud Familiar Chañaral Alto"},{"$f":"IFERROR(VLOOKUP(Tabla_SERIED_11_6[[#This Row],[IdEstablecimiento]],'[2]Establecimiento 2023'!$A$1:$E$183,5,FALSE),0)","v":"04303-Monte Patria"},"15080014","2023-10-17T10:03:53",52,{"$nulls":3},30,22]
[9,"5",2023,"105313",{"$f":"IFERROR(VLOOKUP(Tabla_SERIED_11_6[[#This Row],[IdEstablecimiento]],'[2]Establecimiento 2023'!$A$1:$E$183,3,FALSE),0)","v":"105313-Centro de Salud Familiar Dr. Emilio Schaffhauser"},{"$f":"IFERROR(VLOOKUP(Tabla_SERIED_11_6[[#This Row],[IdEstablecimiento]],'[2]Establecimiento 2023'!$A$1:$E$183,5,FALSE),0)","v":"04101-La Serena"},"15030100","2023-10-17T10:06:10",6.8,2.4,null,4.4]
[9,"5",2023,"105313",{"$f":"IFERROR(VLOOKUP(Tabla_SERIED_11_6[[#This Row],[IdEstablecimiento]],'[2]Establecimiento 2023'!$A$1:$E$183,3,FALSE),0)","v":"105313-Centro de Salud Familiar Dr. Emilio Schaffhauser"},{"$f":"IFERROR(VLOOKUP(Tabla_SERIED_11_6[[#This Row],[IdEstablecimiento]],'[2]Establecimiento 2023'!$A$1:$E$183,5,FALSE),0)","v":"04101-La Serena"},"15080014","2023-10-17T10:06:10",378,{"$nulls":3},212,157,null,null,3,null,6]
[9,"5",2023,"105313",{"$f":"IFERROR(VLOOKUP(Tabla_SERIED_11_6[[#This Row],[IdEstablecimiento]],'[2]Establecimiento 2023'!$A$1:$E$183,3,FALSE),0)","v":"105313-Centro de Salud Familiar Dr. Emilio Schaffhauser"},{"$f":"IFERROR(VLOOKUP(Tabla_SERIED_11_6[[#This Row],[IdEstablecimiento]],'[2]Establecimiento 2023'!$A$1:$E$183,5,FALSE),0)","v":"04101-La Serena"},"16200210","2023-10-17T10:06:10",100,99]
[9,"5",2023,"105315",{"$f":"IFERROR(VLOOKUP(Tabla_SERIED_11_6[[#This Row],[IdEstablecimiento]],'[2]Establecimiento 2023'!$A$1:$E$183,3,FALSE),0)","v":"105315-Centro de Salud Familiar Cerrillos de Tamaya"},{"$f":"IFERROR(VLOOKUP(Tabla_SERIED_11_6[[#This Row],[IdEstablecimiento]],'[2]Establecimiento 2023'!$A$1:$E$183,5,FALSE),0)","v":"04301-Ovalle"},"15010200","2023-10-17T15:50:02",107,{"$nulls":5},98,9]
[9,"5",2023,"105317",{"$f":"IFERROR(VLOOKUP(Tabla_SERIED_11_6[[#This Row],[IdEstablecimiento]],'[2]Establecimiento 2023'!$A$1:$E$183,3,FALSE),0)","v":"105317-Centro de Salud Familiar Jorge Jordán Domic"},{"$f":"IFERROR(VLOOKUP(Tabla_SERIED_11_6[[#This Row],[IdEstablecimiento]],'[2]Establecimiento 2023'!$A$1:$E$183,5,FALSE),0)","v":"04301-Ovalle"},"15030100","2023-10-17T10:55:44",4,null,4]
[9,"5",2023,"105317",{"$f":"IFERROR(VLOOKUP(Tabla_SERIED_11_6[[#This Row],[IdEstablecimiento]],'[2]Establecimiento 2023'!$A$1:$E$183,3,FALSE),0)","v":"105317-Centro de Salud Familiar Jorge Jordán Domic"},{"$f":"IFERROR(VLOOKUP(Tabla_SERIED_11_6[[#This Row],[IdEstablecimiento]],'[2]Establecimiento 2023'!$A$1:$E$183,5,FALSE),0)","v":"04301-Ovalle"},"15050500","2023-10-17T10:55:44",6,2,4,3,2,1]
[9,"5",2023,"105317",{"$f":"IFERROR(VLOOKUP(Tabla_SERIED_11_6[[#This Row],[IdEstablecimiento]],'[2]Establecimiento 2023'!$A$1:$E$183,3,FALSE),0)","v":"105317-Centro de Salud Familiar Jorge Jordán Domic"},{"$f":"IFERROR(VLOOKUP(Tabla_SERIED_11_6[[#This Row],[IdEstablecimiento]],'[2]Establecimiento 2023'!$A$1:$E$183,5,FALSE),0)","v":"04301-Ovalle"},"15060100","2023-10-17T10:55:44",6,2,4,null,null,1,1,2,1,1]
[9,"5",2023,"105317",{"$f":"IFERROR(VLOOKUP(Tabla_SERIED_11_6[[#This Row],[IdEstablecimiento]],'[2]Establecimiento 2023'!$A$1:$E$183,3,FALSE),0)","v":"105317-Centro de Salud Familiar Jorge Jordán Domic"},{"$f":"IFERROR(VLOOKUP(Tabla_SERIED_11_6[[#This Row],[IdEstablecimiento]],'[2]Establecimiento 2023'!$A$1:$E$183,5,FALSE),0)","v":"04301-Ovalle"},"15080009","2023-10-17T10:55:44",3,{"$nulls":9},3]
[9,"5",2023,"105317",{"$f":"IFERROR(VLOOKUP(Tabla_SERIED_11_6[[#This Row],[IdEstablecimiento]],'[2]Establecimiento 2023'!$A$1:$E$183,3,FALSE),0)","v":"105317-Centro de Salud Familiar Jorge Jordán Domic"},{"$f":"IFERROR(VLOOKUP(Tabla_SERIED_11_6[[#This Row],[IdEstablecimiento]],'[2]Establecimiento 2023'!$A$1:$E$183,5,FALSE),0)","v":"04301-Ovalle"},"16200100","2023-10-17T10:55:44",48,28,20]
[9,"5",2023,"105318",{"$f":"IFERROR(VLOOKUP(Tabla_SERIED_11_6[[#This Row],[IdEstablecimiento]],'[2]Establecimiento 2023'!$A$1:$E$183,3,FALSE),0)","v":"105318-Centro de Salud Familiar El Palqui"},{"$f":"IFERROR(VLOOKUP(Tabla_SERIED_11_6[[#This Row],[IdEstablecimiento]],'[2]Establecimiento 2023'!$A$1:$E$183,5,FALSE),0)","v":"04303-Monte Patria"},"16090500","2023-10-17T11:00:51",21,21]
[9,"5",2023,"105322",{"$f":"IFERROR(VLOOKUP(Tabla_SERIED_11_6[[#This Row],[IdEstablecimiento]],'[2]Establecimiento 2023'!$A$1:$E$183,3,FALSE),0)","v":"105322-Centro de Salud Familiar Marcos Macuada"},{"$f":"IFERROR(VLOOKUP(Tabla_SERIED_11_6[[#This Row],[IdEstablecimiento]],'[2]Establecimiento 2023'!$A$1:$E$183,5,FALSE),0)","v":"04301-Ovalle"},"15030100","2023-10-17T11:04:22",8,5.2,0,2.8]
[9,"5",2023,"105322",{"$f":"IFERROR(VLOOKUP(Tabla_SERIED_11_6[[#This Row],[IdEstablecimiento]],'[2]Establecimiento 2023'!$A$1:$E$183,3,FALSE),0)","v":"105322-Centro de Salud Familiar Marcos Macuada"},{"$f":"IFERROR(VLOOKUP(Tabla_SERIED_11_6[[#This Row],[IdEstablecimiento]],'[2]Establecimiento 2023'!$A$1:$E$183,5,FALSE),0)","v":"04301-Ovalle"},"15900010","2023-10-17T11:04:22",152,18.4,26.4,107.2]
[9,"5",2023,"105322",{"$f":"IFERROR(VLOOKUP(Tabla_SERIED_11_6[[#This Row],[IdEstablecimiento]],'[2]Establecimiento 2023'!$A$1:$E$183,3,FALSE),0)","v":"105322-Centro de Salud Familiar Marcos Macuada"},{"$f":"IFERROR(VLOOKUP(Tabla_SERIED_11_6[[#This Row],[IdEstablecimiento]],'[2]Establecimiento 2023'!$A$1:$E$183,5,FALSE),0)","v":"04301-Ovalle"},"15900050","2023-10-17T11:04:22",9,4,5,1,1,4,2,1,0,0]
[9,"5",2023,"105322",{"$f":"IFERROR(VLOOKUP(Tabla_SERIED_11_6[[#This Row],[IdEstablecimiento]],'[2]Establecimiento 2023'!$A$1:$E$183,3,FALSE),0)","v":"105322-Centro de Salud Familiar Marcos Macuada"},{"$f":"IFERROR(VLOOKUP(Tabla_SERIED_11_6[[#This Row],[IdEstablecimiento]],'[2]Establecimiento 2023'!$A$1:$E$183,5,FALSE),0)","v":"04301-Ovalle"},"16100300","2023-10-17T11:04:22",758,310,448]
[9,"5",2023,"105323",{"$f":"IFERROR(VLOOKUP(Tabla_SERIED_11_6[[#This Row],[IdEstablecimiento]],'[2]Establecimiento 2023'!$A$1:$E$183,3,FALSE),0)","v":"105323-Centro de Salud Familiar Dr. Sergio Aguilar Delgado"},{"$f":"IFERROR(VLOOKUP(Tabla_SERIED_11_6[[#This Row],[IdEstablecimiento]],'[2]Establecimiento 2023'!$A$1:$E$183,5,FALSE),0)","v":"04102-Coquimbo"},"15080018","2023-10-17T11:04:16",28,4,2,10,2,10]
[9,"5",2023,"105323",{"$f":"IFERROR(VLOOKUP(Tabla_SERIED_11_6[[#This Row],[IdEstablecimiento]],'[2]Establecimiento 2023'!$A$1:$E$183,3,FALSE),0)","v":"105323-Centro de Salud Familiar Dr. Sergio Aguilar Delgado"},{"$f":"IFERROR(VLOOKUP(Tabla_SERIED_11_6[[#This Row],[IdEstablecimiento]],'[2]Establecimiento 2023'!$A$1:$E$183,5,FALSE),0)","v":"04102-Coquimbo"},"16200210","2023-10-17T11:04:16",59,59]
[9,"5",2023,"105325",{"$f":"IFERROR(VLOOKUP(Tabla_SERIED_11_6[[#This Row],[IdEstablecimiento]],'[2]Establecimiento 2023'!$A$1:$E$183,3,FALSE),0)","v":"105325-Centro de Salud Familiar Juan Pablo II (La Serena)"},{"$f":"IFERROR(VLOOKUP(Tabla_SERIED_11_6[[#This Row],[IdEstablecimiento]],'[2]Establecimiento 2023'!$A$1:$E$183,5,FALSE),0)","v":"04101-La Serena"},"15900040","2023-10-17T11:06:28",13.2,0,8.8,0,4.4,0]
[9,"5",2023,"105326",{"$f":"IFERROR(VLOOKUP(Tabla_SERIED_11_6[[#This Row],[IdEstablecimiento]],'[2]Establecimiento 2023'!$A$1:$E$183,3,FALSE),0)","v":"105326-Centro de Salud Familiar Villa San Rafael de Rozas"},{"$f":"IFERROR(VLOOKUP(Tabla_SERIED_11_6[[#This Row],[IdEstablecimiento]],'[2]Establecimiento 2023'!$A$1:$E$183,5,FALSE),0)","v":"04201-Illapel"},"15080009","2023-10-17T11:07:10",4,{"$nulls":8},3,null,1]
[9,"5",2023,"105400",{"$f":"IFERROR(VLOOKUP(Tabla_SERIED_11_6[[#This Row],[IdEstablecimiento]],'[2]Establecimiento 2023'!$A$1:$E$183,3,FALSE),0)","v":"105400-Posta de Salud Rural Algarrobito"},{"$f":"IFERROR(VLOOKUP(Tabla_SERIED_11_6[[#This Row],[IdEstablecimiento]],'[2]Establecimiento 2023'!$A$1:$E$183,5,FALSE),0)","v":"04101-La Serena"},"15050200","2023-10-17T11:07:46",1,1,{"$nulls":6},1]
[9,"5",2023,"105400",{"$f":"IFERROR(VLOOKUP(Tabla_SERIED_11_6[[#This Row],[IdEstablecimiento]],'[2]Establecimiento 2023'!$A$1:$E$183,3,FALSE),0)","v":"105400-Posta de Salud Rural Algarrobito"},{"$f":"IFERROR(VLOOKUP(Tabla_SERIED_11_6[[#This Row],[IdEstablecimiento]],'[2]Establecimiento 2023'!$A$1:$E$183,5,FALSE),0)","v":"04101-La Serena"},"15080015","2023-10-17T11:07:46",64,{"$nulls":5},34,30]
[9,"5",2023,"105401",{"$f":"IFERROR(VLOOKUP(Tabla_SERIED_11_6[[#This Row],[IdEstablecimiento]],'[2]Establecimiento 2023'!$A$1:$E$183,3,FALSE),0)","v":"105401-Posta de Salud Rural Las Rojas"},{"$f":"IFERROR(VLOOKUP(Tabla_SERIED_11_6[[#This Row],[IdEstablecimiento]],'[2]Establecimiento 2023'!$A$1:$E$183,5,FALSE),0)","v":"04101-La Serena"},"15010500","2023-10-17T11:08:18",2,{"$nulls":4},2]
[9,"5",2023,"105401",{"$f":"IFERROR(VLOOKUP(Tabla_SERIED_11_6[[#This Row],[IdEstablecimiento]],'[2]Establecimiento 2023'!$A$1:$E$183,3,FALSE),0)","v":"105401-Posta de Salud Rural Las Rojas"},{"$f":"IFERROR(VLOOKUP(Tabla_SERIED_11_6[[#This Row],[IdEstablecimiento]],'[2]Establecimiento 2023'!$A$1:$E$183,5,FALSE),0)","v":"04101-La Serena"},"16100300","2023-10-17T11:08:18",64,37,27]
[9,"5",2023,"105402",{"$f":"IFERROR(VLOOKUP(Tabla_SERIED_11_6[[#This Row],[IdEstablecimiento]],'[2]Establecimiento 2023'!$A$1:$E$183,3,FALSE),0)","v":"105402-Posta de Salud Rural El Romero"},{"$f":"IFERROR(VLOOKUP(Tabla_SERIED_11_6[[#This Row],[IdEstablecimiento]],'[2]Establecimiento 2023'!$A$1:$E$183,5,FALSE),0)","v":"04101-La Serena"},"16100300","2023-10-17T11:09:25",52,30,22]
[9,"5",2023,"105405",{"$f":"IFERROR(VLOOKUP(Tabla_SERIED_11_6[[#This Row],[IdEstablecimiento]],'[2]Establecimiento 2023'!$A$1:$E$183,3,FALSE),0)","v":"105405-Posta de Salud Rural Guanaqueros"},{"$f":"IFERROR(VLOOKUP(Tabla_SERIED_11_6[[#This Row],[IdEstablecimiento]],'[2]Establecimiento 2023'!$A$1:$E$183,5,FALSE),0)","v":"04102-Coquimbo"},"16200220","2023-10-17T11:13:10",1,0,1]
[9,"5",2023,"105409",{"$f":"IFERROR(VLOOKUP(Tabla_SERIED_11_6[[#This Row],[IdEstablecimiento]],'[2]Establecimiento 2023'!$A$1:$E$183,3,FALSE),0)","v":"105409-Posta de Salud Rural El Chañar"},{"$f":"IFERROR(VLOOKUP(Tabla_SERIED_11_6[[#This Row],[IdEstablecimiento]],'[2]Establecimiento 2023'!$A$1:$E$183,5,FALSE),0)","v":"04305-Rio Hurtado"},"15080014","2023-10-17T11:13:38",2,{"$nulls":3},2]
[9,"5",2023,"105410",{"$f":"IFERROR(VLOOKUP(Tabla_SERIED_11_6[[#This Row],[IdEstablecimiento]],'[2]Establecimiento 2023'!$A$1:$E$183,3,FALSE),0)","v":"105410-Posta de Salud Rural Hurtado"},{"$f":"IFERROR(VLOOKUP(Tabla_SERIED_11_6[[#This Row],[IdEstablecimiento]],'[2]Establecimiento 2023'!$A$1:$E$183,5,FALSE),0)","v":"04305-Rio Hurtado"},"15080008","2023-10-17T11:17:18",1,{"$nulls":7},1]
[9,"5",2023,"105411",{"$f":"IFERROR(VLOOKUP(Tabla_SERIED_11_6[[#This Row],[IdEstablecimiento]],'[2]Establecimiento 2023'!$A$1:$E$183,3,FALSE),0)","v":"105411-Posta de Salud Rural Las Breas (Río Hurtado)"},{"$f":"IFERROR(VLOOKUP(Tabla_SERIED_11_6[[#This Row],[IdEstablecimiento]],'[2]Establecimiento 2023'!$A$1:$E$183,5,FALSE),0)","v":"04305-Rio Hurtado"},"15080016","2023-10-17T11:19:18",2,{"$nulls":4},2]
[9,"5",2023,"105416",{"$f":"IFERROR(VLOOKUP(Tabla_SERIED_11_6[[#This Row],[IdEstablecimiento]],'[2]Establecimiento 2023'!$A$1:$E$183,3,FALSE),0)","v":"105416-Posta de Salud Rural Camarico (Ovalle)"},{"$f":"IFERROR(VLOOKUP(Tabla_SERIED_11_6[[#This Row],[IdEstablecimiento]],'[2]Establecimiento 2023'!$A$1:$E$183,5,FALSE),0)","v":"04301-Ovalle"},"16200220","2023-10-17T11:21:31",13,3,10]
[9,"5",2023,"105419",{"$f":"IFERROR(VLOOKUP(Tabla_SERIED_11_6[[#This Row],[IdEstablecimiento]],'[2]Establecimiento 2023'!$A$1:$E$183,3,FALSE),0)","v":"105419-Posta de Salud Rural Las Sossas"},{"$f":"IFERROR(VLOOKUP(Tabla_SERIED_11_6[[#This Row],[IdEstablecimiento]],'[2]Establecimiento 2023'!$A$1:$E$183,5,FALSE),0)","v":"04301-Ovalle"},"16100300","2023-10-17T11:23:59",48,22,26]
[9,"5",2023,"105422",{"$f":"IFERROR(VLOOKUP(Tabla_SERIED_11_6[[#This Row],[IdEstablecimiento]],'[2]Establecimiento 2023'!$A$1:$E$183,3,FALSE),0)","v":"105422-Posta de Salud Rural Hornillos"},{"$f":"IFERROR(VLOOKUP(Tabla_SERIED_11_6[[#This Row],[IdEstablecimiento]],'[2]Establecimiento 2023'!$A$1:$E$183,5,FALSE),0)","v":"04301-Ovalle"},"15080008","2023-10-17T11:24:30",1,{"$nulls":7},1]
[9,"5",2023,"105425",{"$f":"IFERROR(VLOOKUP(Tabla_SERIED_11_6[[#This Row],[IdEstablecimiento]],'[2]Establecimiento 2023'!$A$1:$E$183,3,FALSE),0)","v":"105425-Posta de Salud Rural Chilecito"},{"$f":"IFERROR(VLOOKUP(Tabla_SERIED_11_6[[#This Row],[IdEstablecimiento]],'[2]Establecimiento 2023'!$A$1:$E$183,5,FALSE),0)","v":"04303-Monte Patria"},"15010500","2023-10-17T11:25:07",2,{"$nulls":5},2]
[9,"5",2023,"105427",{"$f":"IFERROR(VLOOKUP(Tabla_SERIED_11_6[[#This Row],[IdEstablecimiento]],'[2]Establecimiento 2023'!$A$1:$E$183,3,FALSE),0)","v":"105427-Posta de Salud Rural Hacienda Valdivia"},{"$f":"IFERROR(VLOOKUP(Tabla_SERIED_11_6[[#This Row],[IdEstablecimiento]],'[2]Establecimiento 2023'!$A$1:$E$183,5,FALSE),0)","v":"04303-Monte Patria"},"15080015","2023-10-17T11:26:28",4,{"$nulls":5},2,2]
[9,"5",2023,"105428",{"$f":"IFERROR(VLOOKUP(Tabla_SERIED_11_6[[#This Row],[IdEstablecimiento]],'[2]Establecimiento 2023'!$A$1:$E$183,3,FALSE),0)","v":"105428-Posta de Salud Rural Huatulame"},{"$f":"IFERROR(VLOOKUP(Tabla_SERIED_11_6[[#This Row],[IdEstablecimiento]],'[2]Establecimiento 2023'!$A$1:$E$183,5,FALSE),0)","v":"04303-Monte Patria"},"15050100","2023-10-17T11:27:21",13,6,7,{"$nulls":3},1,2,2,3,1,null,4]
[9,"5",2023,"105428",{"$f":"IFERROR(VLOOKUP(Tabla_SERIED_11_6[[#This Row],[IdEstablecimiento]],'[2]Establecimiento 2023'!$A$1:$E$183,3,FALSE),0)","v":"105428-Posta de Salud Rural Huatulame"},{"$f":"IFERROR(VLOOKUP(Tabla_SERIED_11_6[[#This Row],[IdEstablecimiento]],'[2]Establecimiento 2023'!$A$1:$E$183,5,FALSE),0)","v":"04303-Monte Patria"},"16200220","2023-10-17T11:27:21",9,2,7]
[9,"5",2023,"105430",{"$f":"IFERROR(VLOOKUP(Tabla_SERIED_11_6[[#This Row],[IdEstablecimiento]],'[2]Establecimiento 2023'!$A$1:$E$183,3,FALSE),0)","v":"105430-Posta de Salud Rural Mialqui"},{"$f":"IFERROR(VLOOKUP(Tabla_SERIED_11_6[[#This Row],[IdEstablecimiento]],'[2]Establecimiento 2023'!$A$1:$E$183,5,FALSE),0)","v":"04303-Monte Patria"},"15080016","2023-10-17T11:28:45",2,{"$nulls":6},2]
[9,"5",2023,"105431",{"$f":"IFERROR(VLOOKUP(Tabla_SERIED_11_6[[#This Row],[IdEstablecimiento]],'[2]Establecimiento 2023'!$A$1:$E$183,3,FALSE),0)","v":"105431-Posta de Salud Rural Pedregal"},{"$f":"IFERROR(VLOOKUP(Tabla_SERIED_11_6[[#This Row],[IdEstablecimiento]],'[2]Establecimiento 2023'!$A$1:$E$183,5,FALSE),0)","v":"04303-Monte Patria"},"15050100","2023-10-17T11:29:24",7,4,3,null,null,1,1,null,1,3,{"$nulls":4},1]
[9,"5",2023,"105431",{"$f":"IFERROR(VLOOKUP(Tabla_SERIED_11_6[[#This Row],[IdEstablecimiento]],'[2]Establecimiento 2023'!$A$1:$E$183,3,FALSE),0)","v":"105431-Posta de Salud Rural Pedregal"},{"$f":"IFERROR(VLOOKUP(Tabla_SERIED_11_6[[#This Row],[IdEstablecimiento]],'[2]Establecimiento 2023'!$A$1:$E$183,5,FALSE),0)","v":"04303-Monte Patria"},"16200210","2023-10-17T11:29:24",3,3]
[9,"5",2023,"105432",{"$f":"IFERROR(VLOOKUP(Tabla_SERIED_11_6[[#This Row],[IdEstablecimiento]],'[2]Establecimiento 2023'!$A$1:$E$183,3,FALSE),0)","v":"105432-Posta de Salud Rural Rapel (Monte Patria)"},{"$f":"IFERROR(VLOOKUP(Tabla_SERIED_11_6[[#This Row],[IdEstablecimiento]],'[2]Establecimiento 2023'!$A$1:$E$183,5,FALSE),0)","v":"04303-Monte Patria"},"16200210","2023-10-17T11:29:54",6,6]
[9,"5",2023,"105433",{"$f":"IFERROR(VLOOKUP(Tabla_SERIED_11_6[[#This Row],[IdEstablecimiento]],'[2]Establecimiento 2023'!$A$1:$E$183,3,FALSE),0)","v":"105433-Posta de Salud Rural San Lorenzo (Combarbalá)"},{"$f":"IFERROR(VLOOKUP(Tabla_SERIED_11_6[[#This Row],[IdEstablecimiento]],'[2]Establecimiento 2023'!$A$1:$E$183,5,FALSE),0)","v":"04302-Combarbalá"},"16100300","2023-10-17T11:31:34",19,9,10]
[9,"5",2023,"105434",{"$f":"IFERROR(VLOOKUP(Tabla_SERIED_11_6[[#This Row],[IdEstablecimiento]],'[2]Establecimiento 2023'!$A$1:$E$183,3,FALSE),0)","v":"105434-Posta de Salud Rural San Marcos (Combarbalá)"},{"$f":"IFERROR(VLOOKUP(Tabla_SERIED_11_6[[#This Row],[IdEstablecimiento]],'[2]Establecimiento 2023'!$A$1:$E$183,5,FALSE),0)","v":"04302-Combarbalá"},"15080014","2023-10-17T11:32:09",6,{"$nulls":3},6]
[9,"5",2023,"105435",{"$f":"IFERROR(VLOOKUP(Tabla_SERIED_11_6[[#This Row],[IdEstablecimiento]],'[2]Establecimiento 2023'!$A$1:$E$183,3,FALSE),0)","v":"105435-Posta de Salud Rural Tulahuén"},{"$f":"IFERROR(VLOOKUP(Tabla_SERIED_11_6[[#This Row],[IdEstablecimiento]],'[2]Establecimiento 2023'!$A$1:$E$183,5,FALSE),0)","v":"04303-Monte Patria"},"15080014","2023-10-17T11:34:19",6,{"$nulls":3},6]
[9,"5",2023,"105436",{"$f":"IFERROR(VLOOKUP(Tabla_SERIED_11_6[[#This Row],[IdEstablecimiento]],'[2]Establecimiento 2023'!$A$1:$E$183,3,FALSE),0)","v":"105436-Posta de Salud Rural El Maitén"},{"$f":"IFERROR(VLOOKUP(Tabla_SERIED_11_6[[#This Row],[IdEstablecimiento]],'[2]Establecimiento 2023'!$A$1:$E$183,5,FALSE),0)","v":"04303-Monte Patria"},"16090300","2023-10-17T11:35:26",49,49]
[9,"5",2023,"105437",{"$f":"IFERROR(VLOOKUP(Tabla_SERIED_11_6[[#This Row],[IdEstablecimiento]],'[2]Establecimiento 2023'!$A$1:$E$183,3,FALSE),0)","v":"105437-Posta de Salud Rural Chalinga"},{"$f":"IFERROR(VLOOKUP(Tabla_SERIED_11_6[[#This Row],[IdEstablecimiento]],'[2]Establecimiento 2023'!$A$1:$E$183,5,FALSE),0)","v":"04301-Ovalle"},"15050500","2023-10-17T11:35:22",2,null,2,null,null,2]
[9,"5",2023,"105437",{"$f":"IFERROR(VLOOKUP(Tabla_SERIED_11_6[[#This Row],[IdEstablecimiento]],'[2]Establecimiento 2023'!$A$1:$E$183,3,FALSE),0)","v":"105437-Posta de Salud Rural Chalinga"},{"$f":"IFERROR(VLOOKUP(Tabla_SERIED_11_6[[#This Row],[IdEstablecimiento]],'[2]Establecimiento 2023'!$A$1:$E$183,5,FALSE),0)","v":"04301-Ovalle"},"16200220","2023-10-17T11:35:22",17,8,9]
[9,"5",2023,"105439",{"$f":"IFERROR(VLOOKUP(Tabla_SERIED_11_6[[#This Row],[IdEstablecimiento]],'[2]Establecimiento 2023'!$A$1:$E$183,3,FALSE),0)","v":"105439-Posta de Salud Rural Cerro Blanco"},{"$f":"IFERROR(VLOOKUP(Tabla_SERIED_11_6[[#This Row],[IdEstablecimiento]],'[2]Establecimiento 2023'!$A$1:$E$183,5,FALSE),0)","v":"04301-Ovalle"},"16090300","2023-10-17T11:41:27",47,47]
[9,"5",2023,"105439",{"$f":"IFERROR(VLOOKUP(Tabla_SERIED_11_6[[#This Row],[IdEstablecimiento]],'[2]Establecimiento 2023'!$A$1:$E$183,3,FALSE),0)","v":"105439-Posta de Salud Rural Cerro Blanco"},{"$f":"IFERROR(VLOOKUP(Tabla_SERIED_11_6[[#This Row],[IdEstablecimiento]],'[2]Establecimiento 2023'!$A$1:$E$183,5,FALSE),0)","v":"04301-Ovalle"},"16200210","2023-10-17T11:41:27",2,2]
[9,"5",2023,"105443",{"$f":"IFERROR(VLOOKUP(Tabla_SERIED_11_6[[#This Row],[IdEstablecimiento]],'[2]Establecimiento 2023'!$A$1:$E$183,3,FALSE),0)","v":"105443-Posta de Salud Rural Cárcamo"},{"$f":"IFERROR(VLOOKUP(Tabla_SERIED_11_6[[#This Row],[IdEstablecimiento]],'[2]Establecimiento 2023'!$A$1:$E$183,5,FALSE),0)","v":"04201-Illapel"},"16200210","2023-10-17T11:43:39",6,6]
[9,"5",2023,"105443",{"$f":"IFERROR(VLOOKUP(Tabla_SERIED_11_6[[#This Row],[IdEstablecimiento]],'[2]Establecimiento 2023'!$A$1:$E$183,3,FALSE),0)","v":"105443-Posta de Salud Rural Cárcamo"},{"$f":"IFERROR(VLOOKUP(Tabla_SERIED_11_6[[#This Row],[IdEstablecimiento]],'[2]Establecimiento 2023'!$A$1:$E$183,5,FALSE),0)","v":"04201-Illapel"},"16200220","2023-10-17T11:43:39",6,2,4]
[9,"5",2023,"105444",{"$f":"IFERROR(VLOOKUP(Tabla_SERIED_11_6[[#This Row],[IdEstablecimiento]],'[2]Establecimiento 2023'!$A$1:$E$183,3,FALSE),0)","v":"105444-Posta de Salud Rural Huintil"},{"$f":"IFERROR(VLOOKUP(Tabla_SERIED_11_6[[#This Row],[IdEstablecimiento]],'[2]Establecimiento 2023'!$A$1:$E$183,5,FALSE),0)","v":"04201-Illapel"},"15010200","2023-10-17T11:44:06",10,{"$nulls":5},6,4]
[9,"5",2023,"105444",{"$f":"IFERROR(VLOOKUP(Tabla_SERIED_11_6[[#This Row],[IdEstablecimiento]],'[2]Establecimiento 2023'!$A$1:$E$183,3,FALSE),0)","v":"105444-Posta de Salud Rural Huintil"},{"$f":"IFERROR(VLOOKUP(Tabla_SERIED_11_6[[#This Row],[IdEstablecimiento]],'[2]Establecimiento 2023'!$A$1:$E$183,5,FALSE),0)","v":"04201-Illapel"},"16200220","2023-10-17T11:44:06",13,5,8]
[9,"5",2023,"105445",{"$f":"IFERROR(VLOOKUP(Tabla_SERIED_11_6[[#This Row],[IdEstablecimiento]],'[2]Establecimiento 2023'!$A$1:$E$183,3,FALSE),0)","v":"105445-Posta de Salud Rural Limáhuida"},{"$f":"IFERROR(VLOOKUP(Tabla_SERIED_11_6[[#This Row],[IdEstablecimiento]],'[2]Establecimiento 2023'!$A$1:$E$183,5,FALSE),0)","v":"04201-Illapel"},"16200100","2023-10-17T11:45:24",2,0,2]
[9,"5",2023,"105447",{"$f":"IFERROR(VLOOKUP(Tabla_SERIED_11_6[[#This Row],[IdEstablecimiento]],'[2]Establecimiento 2023'!$A$1:$E$183,3,FALSE),0)","v":"105447-Posta de Salud Rural Peralillo Illapel"},{"$f":"IFERROR(VLOOKUP(Tabla_SERIED_11_6[[#This Row],[IdEstablecimiento]],'[2]Establecimiento 2023'!$A$1:$E$183,5,FALSE),0)","v":"04201-Illapel"},"16100300","2023-10-17T11:46:43",47,19,28]
[9,"5",2023,"105448",{"$f":"IFERROR(VLOOKUP(Tabla_SERIED_11_6[[#This Row],[IdEstablecimiento]],'[2]Establecimiento 2023'!$A$1:$E$183,3,FALSE),0)","v":"105448-Posta de Salud Rural Santa Virginia"},{"$f":"IFERROR(VLOOKUP(Tabla_SERIED_11_6[[#This Row],[IdEstablecimiento]],'[2]Establecimiento 2023'!$A$1:$E$183,5,FALSE),0)","v":"04201-Illapel"},"16090300","2023-10-17T11:47:40",41,41]
[9,"5",2023,"105448",{"$f":"IFERROR(VLOOKUP(Tabla_SERIED_11_6[[#This Row],[IdEstablecimiento]],'[2]Establecimiento 2023'!$A$1:$E$183,3,FALSE),0)","v":"105448-Posta de Salud Rural Santa Virginia"},{"$f":"IFERROR(VLOOKUP(Tabla_SERIED_11_6[[#This Row],[IdEstablecimiento]],'[2]Establecimiento 2023'!$A$1:$E$183,5,FALSE),0)","v":"04201-Illapel"},"16100300","2023-10-17T11:47:40",41,17,24]
[9,"5",2023,"105449",{"$f":"IFERROR(VLOOKUP(Tabla_SERIED_11_6[[#This Row],[IdEstablecimiento]],'[2]Establecimiento 2023'!$A$1:$E$183,3,FALSE),0)","v":"105449-Posta de Salud Rural Tunga Norte"},{"$f":"IFERROR(VLOOKUP(Tabla_SERIED_11_6[[#This Row],[IdEstablecimiento]],'[2]Establecimiento 2023'!$A$1:$E$183,5,FALSE),0)","v":"04201-Illapel"},"16100300","2023-10-17T11:48:22",28,13,15]
[9,"5",2023,"105449",{"$f":"IFERROR(VLOOKUP(Tabla_SERIED_11_6[[#This Row],[IdEstablecimiento]],'[2]Establecimiento 2023'!$A$1:$E$183,3,FALSE),0)","v":"105449-Posta de Salud Rural Tunga Norte"},{"$f":"IFERROR(VLOOKUP(Tabla_SERIED_11_6[[#This Row],[IdEstablecimiento]],'[2]Establecimiento 2023'!$A$1:$E$183,5,FALSE),0)","v":"04201-Illapel"},"16200220","2023-10-17T11:48:22",3,0,3]
[9,"5",2023,"105452",{"$f":"IFERROR(VLOOKUP(Tabla_SERIED_11_6[[#This Row],[IdEstablecimiento]],'[2]Establecimiento 2023'!$A$1:$E$183,3,FALSE),0)","v":"105452-Posta de Salud Rural Cuncumén(Salamanca)"},{"$f":"IFERROR(VLOOKUP(Tabla_SERIED_11_6[[#This Row],[IdEstablecimiento]],'[2]Establecimiento 2023'!$A$1:$E$183,5,FALSE),0)","v":"04204-Salamanca"},"15080015","2023-10-17T11:50:01",8,{"$nulls":5},2,6]
[9,"5",2023,"105454",{"$f":"IFERROR(VLOOKUP(Tabla_SERIED_11_6[[#This Row],[IdEstablecimiento]],'[2]Establecimiento 2023'!$A$1:$E$183,3,FALSE),0)","v":"105454-Posta de Salud Rural Cunlagua"},{"$f":"IFERROR(VLOOKUP(Tabla_SERIED_11_6[[#This Row],[IdEstablecimiento]],'[2]Establecimiento 2023'!$A$1:$E$183,5,FALSE),0)","v":"04204-Salamanca"},"16090300","2023-10-17T11:51:48",47,47]
[9,"5",2023,"105455",{"$f":"IFERROR(VLOOKUP(Tabla_SERIED_11_6[[#This Row],[IdEstablecimiento]],'[2]Establecimiento 2023'!$A$1:$E$183,3,FALSE),0)","v":"105455-CESFAM Valle Alto"},{"$f":"IFERROR(VLOOKUP(Tabla_SERIED_11_6[[#This Row],[IdEstablecimiento]],'[2]Establecimiento 2023'!$A$1:$E$183,5,FALSE),0)","v":"04204-Salamanca"},"15900010","2023-10-17T11:52:35",7.2,null,2.4,4.8]
[9,"5",2023,"105455",{"$f":"IFERROR(VLOOKUP(Tabla_SERIED_11_6[[#This Row],[IdEstablecimiento]],'[2]Establecimiento 2023'!$A$1:$E$183,3,FALSE),0)","v":"105455-CESFAM Valle Alto"},{"$f":"IFERROR(VLOOKUP(Tabla_SERIED_11_6[[#This Row],[IdEstablecimiento]],'[2]Establecimiento 2023'!$A$1:$E$183,5,FALSE),0)","v":"04204-Salamanca"},"16200210","2023-10-17T11:52:35",2,2]
[9,"5",2023,"105456",{"$f":"IFERROR(VLOOKUP(Tabla_SERIED_11_6[[#This Row],[IdEstablecimiento]],'[2]Establecimiento 2023'!$A$1:$E$183,3,FALSE),0)","v":"105456-Posta de Salud Rural Llimpo"},{"$f":"IFERROR(VLOOKUP(Tabla_SERIED_11_6[[#This Row],[IdEstablecimiento]],'[2]Establecimiento 2023'!$A$1:$E$183,5,FALSE),0)","v":"04204-Salamanca"},"15010200","2023-10-17T11:53:06",58,{"$nulls":5},18,40]
[9,"5",2023,"105458",{"$f":"IFERROR(VLOOKUP(Tabla_SERIED_11_6[[#This Row],[IdEstablecimiento]],'[2]Establecimiento 2023'!$A$1:$E$183,3,FALSE),0)","v":"105458-Posta de Salud Rural Tahuinco"},{"$f":"IFERROR(VLOOKUP(Tabla_SERIED_11_6[[#This Row],[IdEstablecimiento]],'[2]Establecimiento 2023'!$A$1:$E$183,5,FALSE),0)","v":"04204-Salamanca"},"16100300","2023-10-17T11:54:22",192,89,103]
[9,"5",2023,"105460",{"$f":"IFERROR(VLOOKUP(Tabla_SERIED_11_6[[#This Row],[IdEstablecimiento]],'[2]Establecimiento 2023'!$A$1:$E$183,3,FALSE),0)","v":"105460-Centro Comunitario de Salud Familiar Cogotí 18"},{"$f":"IFERROR(VLOOKUP(Tabla_SERIED_11_6[[#This Row],[IdEstablecimiento]],'[2]Establecimiento 2023'!$A$1:$E$183,5,FALSE),0)","v":"04302-Combarbalá"},"15050500","2023-10-17T11:55:52",1,1,{"$nulls":3},1]
[9,"5",2023,"105463",{"$f":"IFERROR(VLOOKUP(Tabla_SERIED_11_6[[#This Row],[IdEstablecimiento]],'[2]Establecimiento 2023'!$A$1:$E$183,3,FALSE),0)","v":"105463-Posta de Salud Rural Quilitapia"},{"$f":"IFERROR(VLOOKUP(Tabla_SERIED_11_6[[#This Row],[IdEstablecimiento]],'[2]Establecimiento 2023'!$A$1:$E$183,5,FALSE),0)","v":"04302-Combarbalá"},"15080015","2023-10-17T12:00:52",14,{"$nulls":5},8,6]
[9,"5",2023,"105464",{"$f":"IFERROR(VLOOKUP(Tabla_SERIED_11_6[[#This Row],[IdEstablecimiento]],'[2]Establecimiento 2023'!$A$1:$E$183,3,FALSE),0)","v":"105464-Posta de Salud Rural La Ligua"},{"$f":"IFERROR(VLOOKUP(Tabla_SERIED_11_6[[#This Row],[IdEstablecimiento]],'[2]Establecimiento 2023'!$A$1:$E$183,5,FALSE),0)","v":"04302-Combarbalá"},"15080015","2023-10-17T12:00:47",4,{"$nulls":6},4]
[9,"5",2023,"105464",{"$f":"IFERROR(VLOOKUP(Tabla_SERIED_11_6[[#This Row],[IdEstablecimiento]],'[2]Establecimiento 2023'!$A$1:$E$183,3,FALSE),0)","v":"105464-Posta de Salud Rural La Ligua"},{"$f":"IFERROR(VLOOKUP(Tabla_SERIED_11_6[[#This Row],[IdEstablecimiento]],'[2]Establecimiento 2023'!$A$1:$E$183,5,FALSE),0)","v":"04302-Combarbalá"},"16100300","2023-10-17T12:00:47",80,33,47]
[9,"5",2023,"105465",{"$f":"IFERROR(VLOOKUP(Tabla_SERIED_11_6[[#This Row],[IdEstablecimiento]],'[2]Establecimiento 2023'!$A$1:$E$183,3,FALSE),0)","v":"105465-Posta de Salud Rural Ramadilla"},{"$f":"IFERROR(VLOOKUP(Tabla_SERIED_11_6[[#This Row],[IdEstablecimiento]],'[2]Establecimiento 2023'!$A$1:$E$183,5,FALSE),0)","v":"04302-Combarbalá"},"15080008","2023-10-17T12:02:49",5,{"$nulls":9},4,null,1]
[9,"5",2023,"105465",{"$f":"IFERROR(VLOOKUP(Tabla_SERIED_11_6[[#This Row],[IdEstablecimiento]],'[2]Establecimiento 2023'!$A$1:$E$183,3,FALSE),0)","v":"105465-Posta de Salud Rural Ramadilla"},{"$f":"IFERROR(VLOOKUP(Tabla_SERIED_11_6[[#This Row],[IdEstablecimiento]],'[2]Establecimiento 2023'!$A$1:$E$183,5,FALSE),0)","v":"04302-Combarbalá"},"15080014","2023-10-17T12:02:49",2,{"$nulls":4},2]
[9,"5",2023,"105465",{"$f":"IFERROR(VLOOKUP(Tabla_SERIED_11_6[[#This Row],[IdEstablecimiento]],'[2]Establecimiento 2023'!$A$1:$E$183,3,FALSE),0)","v":"105465-Posta de Salud Rural Ramadilla"},{"$f":"IFERROR(VLOOKUP(Tabla_SERIED_11_6[[#This Row],[IdEstablecimiento]],'[2]Establecimiento 2023'!$A$1:$E$183,5,FALSE),0)","v":"04302-Combarbalá"},"15080015","2023-10-17T12:02:49",14,{"$nulls":5},10,4]
[9,"5",2023,"105467",{"$f":"IFERROR(VLOOKUP(Tabla_SERIED_11_6[[#This Row],[IdEstablecimiento]],'[2]Establecimiento 2023'!$A$1:$E$183,3,FALSE),0)","v":"105467-Posta de Salud Rural Diaguitas"},{"$f":"IFERROR(VLOOKUP(Tabla_SERIED_11_6[[#This Row],[IdEstablecimiento]],'[2]Establecimiento 2023'!$A$1:$E$183,5,FALSE),0)","v":"04106-Vicuña"},"15080015","2023-10-17T12:07:13",14,{"$nulls":5},8,6]
[9,"5",2023,"105467",{"$f":"IFERROR(VLOOKUP(Tabla_SERIED_11_6[[#This Row],[IdEstablecimiento]],'[2]Establecimiento 2023'!$A$1:$E$183,3,FALSE),0)","v":"105467-Posta de Salud Rural Diaguitas"},{"$f":"IFERROR(VLOOKUP(Tabla_SERIED_11_6[[#This Row],[IdEstablecimiento]],'[2]Establecimiento 2023'!$A$1:$E$183,5,FALSE),0)","v":"04106-Vicuña"},"15080016","2023-10-17T12:07:13",2,{"$nulls":3},2]
[9,"5",2023,"105469",{"$f":"IFERROR(VLOOKUP(Tabla_SERIED_11_6[[#This Row],[IdEstablecimiento]],'[2]Establecimiento 2023'!$A$1:$E$183,3,FALSE),0)","v":"105469-Posta de Salud Rural El Tambo (Vicuña)"},{"$f":"IFERROR(VLOOKUP(Tabla_SERIED_11_6[[#This Row],[IdEstablecimiento]],'[2]Establecimiento 2023'!$A$1:$E$183,5,FALSE),0)","v":"04106-Vicuña"},"15900010","2023-10-17T14:04:10",7.5,null,1.6,5.9]
[9,"5",2023,"105471",{"$f":"IFERROR(VLOOKUP(Tabla_SERIED_11_6[[#This Row],[IdEstablecimiento]],'[2]Establecimiento 2023'!$A$1:$E$183,3,FALSE),0)","v":"105471-Posta de Salud Rural Peralillo Vicuña"},{"$f":"IFERROR(VLOOKUP(Tabla_SERIED_11_6[[#This Row],[IdEstablecimiento]],'[2]Establecimiento 2023'!$A$1:$E$183,5,FALSE),0)","v":"04106-Vicuña"},"15080008","2023-10-17T14:05:27",3,{"$nulls":7},1,null,2]
[9,"5",2023,"105480",{"$f":"IFERROR(VLOOKUP(Tabla_SERIED_11_6[[#This Row],[IdEstablecimiento]],'[2]Establecimiento 2023'!$A$1:$E$183,3,FALSE),0)","v":"105480-Posta de Salud Rural Quilimarí"},{"$f":"IFERROR(VLOOKUP(Tabla_SERIED_11_6[[#This Row],[IdEstablecimiento]],'[2]Establecimiento 2023'!$A$1:$E$183,5,FALSE),0)","v":"04203-Los Vilos"},"16100300","2023-10-17T14:44:35",93,37,56]
[9,"5",2023,"105485",{"$f":"IFERROR(VLOOKUP(Tabla_SERIED_11_6[[#This Row],[IdEstablecimiento]],'[2]Establecimiento 2023'!$A$1:$E$183,3,FALSE),0)","v":"105485-Posta de Salud Rural Plan de Hornos"},{"$f":"IFERROR(VLOOKUP(Tabla_SERIED_11_6[[#This Row],[IdEstablecimiento]],'[2]Establecimiento 2023'!$A$1:$E$183,5,FALSE),0)","v":"04201-Illapel"},"15050100","2023-10-17T14:46:57",17,8,9,null,1,null,1,3,7,1,2,null,1,null,1]
[9,"5",2023,"105485",{"$f":"IFERROR(VLOOKUP(Tabla_SERIED_11_6[[#This Row],[IdEstablecimiento]],'[2]Establecimiento 2023'!$A$1:$E$183,3,FALSE),0)","v":"105485-Posta de Salud Rural Plan de Hornos"},{"$f":"IFERROR(VLOOKUP(Tabla_SERIED_11_6[[#This Row],[IdEstablecimiento]],'[2]Establecimiento 2023'!$A$1:$E$183,5,FALSE),0)","v":"04201-Illapel"},"15080008","2023-10-17T14:46:57",5,{"$nulls":7},2,null,2,null,1]
[9,"5",2023,"105485",{"$f":"IFERROR(VLOOKUP(Tabla_SERIED_11_6[[#This Row],[IdEstablecimiento]],'[2]Establecimiento 2023'!$A$1:$E$183,3,FALSE),0)","v":"105485-Posta de Salud Rural Plan de Hornos"},{"$f":"IFERROR(VLOOKUP(Tabla_SERIED_11_6[[#This Row],[IdEstablecimiento]],'[2]Establecimiento 2023'!$A$1:$E$183,5,FALSE),0)","v":"04201-Illapel"},"16200210","2023-10-17T14:46:57",9,9]
[9,"5",2023,"105487",{"$f":"IFERROR(VLOOKUP(Tabla_SERIED_11_6[[#This Row],[IdEstablecimiento]],'[2]Establecimiento 2023'!$A$1:$E$183,3,FALSE),0)","v":"105487-Posta de Salud Rural Cañas Uno"},{"$f":"IFERROR(VLOOKUP(Tabla_SERIED_11_6[[#This Row],[IdEstablecimiento]],'[2]Establecimiento 2023'!$A$1:$E$183,5,FALSE),0)","v":"04201-Illapel"},"15010200","2023-10-17T14:48:51",61,{"$nulls":5},40,21]
[9,"5",2023,"105487",{"$f":"IFERROR(VLOOKUP(Tabla_SERIED_11_6[[#This Row],[IdEstablecimiento]],'[2]Establecimiento 2023'!$A$1:$E$183,3,FALSE),0)","v":"105487-Posta de Salud Rural Cañas Uno"},{"$f":"IFERROR(VLOOKUP(Tabla_SERIED_11_6[[#This Row],[IdEstablecimiento]],'[2]Establecimiento 2023'!$A$1:$E$183,5,FALSE),0)","v":"04201-Illapel"},"15050200","2023-10-17T14:48:51",1,null,1,{"$nulls":8},1]
[9,"5",2023,"105488",{"$f":"IFERROR(VLOOKUP(Tabla_SERIED_11_6[[#This Row],[IdEstablecimiento]],'[2]Establecimiento 2023'!$A$1:$E$183,3,FALSE),0)","v":"105488-Posta de Salud Rural Espíritu Santo"},{"$f":"IFERROR(VLOOKUP(Tabla_SERIED_11_6[[#This Row],[IdEstablecimiento]],'[2]Establecimiento 2023'!$A$1:$E$183,5,FALSE),0)","v":"04202-Canela"},"15080015","2023-10-17T14:50:15",2,{"$nulls":5},2]
[9,"5",2023,"105488",{"$f":"IFERROR(VLOOKUP(Tabla_SERIED_11_6[[#This Row],[IdEstablecimiento]],'[2]Establecimiento 2023'!$A$1:$E$183,3,FALSE),0)","v":"105488-Posta de Salud Rural Espíritu Santo"},{"$f":"IFERROR(VLOOKUP(Tabla_SERIED_11_6[[#This Row],[IdEstablecimiento]],'[2]Establecimiento 2023'!$A$1:$E$183,5,FALSE),0)","v":"04202-Canela"},"16100300","2023-10-17T14:50:15",23,16,7]
[9,"5",2023,"105490",{"$f":"IFERROR(VLOOKUP(Tabla_SERIED_11_6[[#This Row],[IdEstablecimiento]],'[2]Establecimiento 2023'!$A$1:$E$183,3,FALSE),0)","v":"105490-Posta de Salud Rural El Durazno(Combarbalá)"},{"$f":"IFERROR(VLOOKUP(Tabla_SERIED_11_6[[#This Row],[IdEstablecimiento]],'[2]Establecimiento 2023'!$A$1:$E$183,5,FALSE),0)","v":"04302-Combarbalá"},"15050100","2023-10-17T14:51:41",4,1,3,{"$nulls":3},2,null,2]
[9,"5",2023,"105496",{"$f":"IFERROR(VLOOKUP(Tabla_SERIED_11_6[[#This Row],[IdEstablecimiento]],'[2]Establecimiento 2023'!$A$1:$E$183,3,FALSE),0)","v":"105496-Posta de Salud Rural Pintacura Sur"},{"$f":"IFERROR(VLOOKUP(Tabla_SERIED_11_6[[#This Row],[IdEstablecimiento]],'[2]Establecimiento 2023'!$A$1:$E$183,5,FALSE),0)","v":"04201-Illapel"},"15050200","2023-10-17T14:56:55",1,null,1,{"$nulls":3},1]
[9,"5",2023,"105496",{"$f":"IFERROR(VLOOKUP(Tabla_SERIED_11_6[[#This Row],[IdEstablecimiento]],'[2]Establecimiento 2023'!$A$1:$E$183,3,FALSE),0)","v":"105496-Posta de Salud Rural Pintacura Sur"},{"$f":"IFERROR(VLOOKUP(Tabla_SERIED_11_6[[#This Row],[IdEstablecimiento]],'[2]Establecimiento 2023'!$A$1:$E$183,5,FALSE),0)","v":"04201-Illapel"},"15080016","2023-10-17T14:56:55",2,{"$nulls":3},2]
[9,"5",2023,"105496",{"$f":"IFERROR(VLOOKUP(Tabla_SERIED_11_6[[#This Row],[IdEstablecimiento]],'[2]Establecimiento 2023'!$A$1:$E$183,3,FALSE),0)","v":"105496-Posta de Salud Rural Pintacura Sur"},{"$f":"IFERROR(VLOOKUP(Tabla_SERIED_11_6[[#This Row],[IdEstablecimiento]],'[2]Establecimiento 2023'!$A$1:$E$183,5,FALSE),0)","v":"04201-Illapel"},"15900010","2023-10-17T14:56:55",4,null,4]
[9,"5",2023,"105496",{"$f":"IFERROR(VLOOKUP(Tabla_SERIED_11_6[[#This Row],[IdEstablecimiento]],'[2]Establecimiento 2023'!$A$1:$E$183,3,FALSE),0)","v":"105496-Posta de Salud Rural Pintacura Sur"},{"$f":"IFERROR(VLOOKUP(Tabla_SERIED_11_6[[#This Row],[IdEstablecimiento]],'[2]Establecimiento 2023'!$A$1:$E$183,5,FALSE),0)","v":"04201-Illapel"},"16100300","2023-10-17T14:56:55",44,23,21]
[9,"5",2023,"105497",{"$f":"IFERROR(VLOOKUP(Tabla_SERIED_11_6[[#This Row],[IdEstablecimiento]],'[2]Establecimiento 2023'!$A$1:$E$183,3,FALSE),0)","v":"105497-Posta de Salud Rural Jabonería"},{"$f":"IFERROR(VLOOKUP(Tabla_SERIED_11_6[[#This Row],[IdEstablecimiento]],'[2]Establecimiento 2023'!$A$1:$E$183,5,FALSE),0)","v":"04202-Canela"},"16100300","2023-10-17T14:56:58",24,10,14]
[9,"5",2023,"105497",{"$f":"IFERROR(VLOOKUP(Tabla_SERIED_11_6[[#This Row],[IdEstablecimiento]],'[2]Establecimiento 2023'!$A$1:$E$183,3,FALSE),0)","v":"105497-Posta de Salud Rural Jabonería"},{"$f":"IFERROR(VLOOKUP(Tabla_SERIED_11_6[[#This Row],[IdEstablecimiento]],'[2]Establecimiento 2023'!$A$1:$E$183,5,FALSE),0)","v":"04202-Canela"},"16200220","2023-10-17T14:56:58",2,1,1]
[9,"5",2023,"105498",{"$f":"IFERROR(VLOOKUP(Tabla_SERIED_11_6[[#This Row],[IdEstablecimiento]],'[2]Establecimiento 2023'!$A$1:$E$183,3,FALSE),0)","v":"105498-Posta de Salud Rural Quebrada Linares"},{"$f":"IFERROR(VLOOKUP(Tabla_SERIED_11_6[[#This Row],[IdEstablecimiento]],'[2]Establecimiento 2023'!$A$1:$E$183,5,FALSE),0)","v":"04202-Canela"},"16100300","2023-10-17T15:02:54",21,12,9]
[9,"5",2023,"105500",{"$f":"IFERROR(VLOOKUP(Tabla_SERIED_11_6[[#This Row],[IdEstablecimiento]],'[2]Establecimiento 2023'!$A$1:$E$183,3,FALSE),0)","v":"105500-Posta de Salud Rural Caleta Hornos"},{"$f":"IFERROR(VLOOKUP(Tabla_SERIED_11_6[[#This Row],[IdEstablecimiento]],'[2]Establecimiento 2023'!$A$1:$E$183,5,FALSE),0)","v":"04104-La Higuera"},"15900050","2023-10-17T15:06:03",1,1,{"$nulls":4},1]
[9,"5",2023,"105500",{"$f":"IFERROR(VLOOKUP(Tabla_SERIED_11_6[[#This Row],[IdEstablecimiento]],'[2]Establecimiento 2023'!$A$1:$E$183,3,FALSE),0)","v":"105500-Posta de Salud Rural Caleta Hornos"},{"$f":"IFERROR(VLOOKUP(Tabla_SERIED_11_6[[#This Row],[IdEstablecimiento]],'[2]Establecimiento 2023'!$A$1:$E$183,5,FALSE),0)","v":"04104-La Higuera"},"16200220","2023-10-17T15:06:03",3,1,2]
[9,"5",2023,"105503",{"$f":"IFERROR(VLOOKUP(Tabla_SERIED_11_6[[#This Row],[IdEstablecimiento]],'[2]Establecimiento 2023'!$A$1:$E$183,3,FALSE),0)","v":"105503-Posta de Salud Rural Tabaqueros"},{"$f":"IFERROR(VLOOKUP(Tabla_SERIED_11_6[[#This Row],[IdEstablecimiento]],'[2]Establecimiento 2023'!$A$1:$E$183,5,FALSE),0)","v":"04305-Rio Hurtado"},"16200220","2023-10-17T15:08:35",5,2,3]
[9,"5",2023,"105504",{"$f":"IFERROR(VLOOKUP(Tabla_SERIED_11_6[[#This Row],[IdEstablecimiento]],'[2]Establecimiento 2023'!$A$1:$E$183,3,FALSE),0)","v":"105504-Posta de Salud Rural Socavón"},{"$f":"IFERROR(VLOOKUP(Tabla_SERIED_11_6[[#This Row],[IdEstablecimiento]],'[2]Establecimiento 2023'!$A$1:$E$183,5,FALSE),0)","v":"04201-Illapel"},"15080015","2023-10-17T15:09:09",9,{"$nulls":5},5,4]
[9,"5",2023,"105504",{"$f":"IFERROR(VLOOKUP(Tabla_SERIED_11_6[[#This Row],[IdEstablecimiento]],'[2]Establecimiento 2023'!$A$1:$E$183,3,FALSE),0)","v":"105504-Posta de Salud Rural Socavón"},{"$f":"IFERROR(VLOOKUP(Tabla_SERIED_11_6[[#This Row],[IdEstablecimiento]],'[2]Establecimiento 2023'!$A$1:$E$183,5,FALSE),0)","v":"04201-Illapel"},"16200210","2023-10-17T15:09:09",10,10]
[9,"5",2023,"105505",{"$f":"IFERROR(VLOOKUP(Tabla_SERIED_11_6[[#This Row],[IdEstablecimiento]],'[2]Establecimiento 2023'!$A$1:$E$183,3,FALSE),0)","v":"105505-Posta de Salud Rural Los Choros"},{"$f":"IFERROR(VLOOKUP(Tabla_SERIED_11_6[[#This Row],[IdEstablecimiento]],'[2]Establecimiento 2023'!$A$1:$E$183,5,FALSE),0)","v":"04104-La Higuera"},"15080014","2023-10-17T15:13:21",8,{"$nulls":3},2,6]
[9,"5",2023,"105505",{"$f":"IFERROR(VLOOKUP(Tabla_SERIED_11_6[[#This Row],[IdEstablecimiento]],'[2]Establecimiento 2023'!$A$1:$E$183,3,FALSE),0)","v":"105505-Posta de Salud Rural Los Choros"},{"$f":"IFERROR(VLOOKUP(Tabla_SERIED_11_6[[#This Row],[IdEstablecimiento]],'[2]Establecimiento 2023'!$A$1:$E$183,5,FALSE),0)","v":"04104-La Higuera"},"16100300","2023-10-17T15:13:21",29,11,18]
[9,"5",2023,"105507",{"$f":"IFERROR(VLOOKUP(Tabla_SERIED_11_6[[#This Row],[IdEstablecimiento]],'[2]Establecimiento 2023'!$A$1:$E$183,3,FALSE),0)","v":"105507-Posta de Salud Rural Huamalata"},{"$f":"IFERROR(VLOOKUP(Tabla_SERIED_11_6[[#This Row],[IdEstablecimiento]],'[2]Establecimiento 2023'!$A$1:$E$183,5,FALSE),0)","v":"04301-Ovalle"},"15050100","2023-10-17T15:33:07",25,8,17,null,1,3,3,6,4,5,3]
[9,"5",2023,"105510",{"$f":"IFERROR(VLOOKUP(Tabla_SERIED_11_6[[#This Row],[IdEstablecimiento]],'[2]Establecimiento 2023'!$A$1:$E$183,3,FALSE),0)","v":"105510-Posta de Salud Rural Recoleta"},{"$f":"IFERROR(VLOOKUP(Tabla_SERIED_11_6[[#This Row],[IdEstablecimiento]],'[2]Establecimiento 2023'!$A$1:$E$183,5,FALSE),0)","v":"04301-Ovalle"},"15080015","2023-10-17T15:34:58",22,{"$nulls":5},12,10]
[9,"5",2023,"105511",{"$f":"IFERROR(VLOOKUP(Tabla_SERIED_11_6[[#This Row],[IdEstablecimiento]],'[2]Establecimiento 2023'!$A$1:$E$183,3,FALSE),0)","v":"105511-Posta de Salud Rural Los Cóndores"},{"$f":"IFERROR(VLOOKUP(Tabla_SERIED_11_6[[#This Row],[IdEstablecimiento]],'[2]Establecimiento 2023'!$A$1:$E$183,5,FALSE),0)","v":"04203-Los Vilos"},"15050100","2023-10-17T15:35:31",41,13,28,1,1,2,4,5,11,10,2,null,1,2,2]
[9,"5",2023,"105511",{"$f":"IFERROR(VLOOKUP(Tabla_SERIED_11_6[[#This Row],[IdEstablecimiento]],'[2]Establecimiento 2023'!$A$1:$E$183,3,FALSE),0)","v":"105511-Posta de Salud Rural Los Cóndores"},{"$f":"IFERROR(VLOOKUP(Tabla_SERIED_11_6[[#This Row],[IdEstablecimiento]],'[2]Establecimiento 2023'!$A$1:$E$183,5,FALSE),0)","v":"04203-Los Vilos"},"15080015","2023-10-17T15:35:31",42,{"$nulls":5},22,20]
[9,"5",2023,"105511",{"$f":"IFERROR(VLOOKUP(Tabla_SERIED_11_6[[#This Row],[IdEstablecimiento]],'[2]Establecimiento 2023'!$A$1:$E$183,3,FALSE),0)","v":"105511-Posta de Salud Rural Los Cóndores"},{"$f":"IFERROR(VLOOKUP(Tabla_SERIED_11_6[[#This Row],[IdEstablecimiento]],'[2]Establecimiento 2023'!$A$1:$E$183,5,FALSE),0)","v":"04203-Los Vilos"},"16100600","2023-10-17T15:35:31",1,0,1]
[9,"5",2023,"105701",{"$f":"IFERROR(VLOOKUP(Tabla_SERIED_11_6[[#This Row],[IdEstablecimiento]],'[2]Establecimiento 2023'!$A$1:$E$183,3,FALSE),0)","v":"105701-Centro Comunitario de Salud Familiar Villa Alemania"},{"$f":"IFERROR(VLOOKUP(Tabla_SERIED_11_6[[#This Row],[IdEstablecimiento]],'[2]Establecimiento 2023'!$A$1:$E$183,5,FALSE),0)","v":"04101-La Serena"},"15050100","2023-10-17T15:36:54",62,22,40,2,null,3,5,13,13,10,9,null,1,1,5]
[9,"5",2023,"105702",{"$f":"IFERROR(VLOOKUP(Tabla_SERIED_11_6[[#This Row],[IdEstablecimiento]],'[2]Establecimiento 2023'!$A$1:$E$183,3,FALSE),0)","v":"105702-Centro Comunitario de Salud Familiar Lambert"},{"$f":"IFERROR(VLOOKUP(Tabla_SERIED_11_6[[#This Row],[IdEstablecimiento]],'[2]Establecimiento 2023'!$A$1:$E$183,5,FALSE),0)","v":"04101-La Serena"},"15080014","2023-10-17T15:37:26",32,{"$nulls":3},22,10]
[9,"5",2023,"105702",{"$f":"IFERROR(VLOOKUP(Tabla_SERIED_11_6[[#This Row],[IdEstablecimiento]],'[2]Establecimiento 2023'!$A$1:$E$183,3,FALSE),0)","v":"105702-Centro Comunitario de Salud Familiar Lambert"},{"$f":"IFERROR(VLOOKUP(Tabla_SERIED_11_6[[#This Row],[IdEstablecimiento]],'[2]Establecimiento 2023'!$A$1:$E$183,5,FALSE),0)","v":"04101-La Serena"},"15900050","2023-10-17T15:37:26",1,null,1,{"$nulls":3},1]
[9,"5",2023,"105722",{"$f":"IFERROR(VLOOKUP(Tabla_SERIED_11_6[[#This Row],[IdEstablecimiento]],'[2]Establecimiento 2023'!$A$1:$E$183,3,FALSE),0)","v":"105722-Centro Comunitario de Salud Familiar San José de la Dehesa"},{"$f":"IFERROR(VLOOKUP(Tabla_SERIED_11_6[[#This Row],[IdEstablecimiento]],'[2]Establecimiento 2023'!$A$1:$E$183,5,FALSE),0)","v":"04301-Ovalle"},"16200220","2023-10-17T15:39:04",12,4,8]
[9,"5",2023,"105723",{"$f":"IFERROR(VLOOKUP(Tabla_SERIED_11_6[[#This Row],[IdEstablecimiento]],'[2]Establecimiento 2023'!$A$1:$E$183,3,FALSE),0)","v":"105723-Centro Comunitario de Salud Familiar Limarí"},{"$f":"IFERROR(VLOOKUP(Tabla_SERIED_11_6[[#This Row],[IdEstablecimiento]],'[2]Establecimiento 2023'!$A$1:$E$183,5,FALSE),0)","v":"04301-Ovalle"},"16100300","2023-10-17T15:39:00",239,81,158]
[9,"5",2023,"105723",{"$f":"IFERROR(VLOOKUP(Tabla_SERIED_11_6[[#This Row],[IdEstablecimiento]],'[2]Establecimiento 2023'!$A$1:$E$183,3,FALSE),0)","v":"105723-Centro Comunitario de Salud Familiar Limarí"},{"$f":"IFERROR(VLOOKUP(Tabla_SERIED_11_6[[#This Row],[IdEstablecimiento]],'[2]Establecimiento 2023'!$A$1:$E$183,5,FALSE),0)","v":"04301-Ovalle"},"16200210","2023-10-17T15:39:00",4,4]
[9,"5",2023,"200273",{"$f":"IFERROR(VLOOKUP(Tabla_SERIED_11_6[[#This Row],[IdEstablecimiento]],'[2]Establecimiento 2023'!$A$1:$E$183,3,FALSE),0)","v":"200273-Centro Comunitario de Salud Familiar Punta Mira"},{"$f":"IFERROR(VLOOKUP(Tabla_SERIED_11_6[[#This Row],[IdEstablecimiento]],'[2]Establecimiento 2023'!$A$1:$E$183,5,FALSE),0)","v":"04102-Coquimbo"},"15050100","2023-10-17T15:40:43",74,25,49,0,1,7,6,7,18,21,5,null,3,0,6]
[9,"5",2023,"200366",{"$f":"IFERROR(VLOOKUP(Tabla_SERIED_11_6[[#This Row],[IdEstablecimiento]],'[2]Establecimiento 2023'!$A$1:$E$183,3,FALSE),0)","v":"200366-Centro de Salud Familiar Urbano de Illapel"},{"$f":"IFERROR(VLOOKUP(Tabla_SERIED_11_6[[#This Row],[IdEstablecimiento]],'[2]Establecimiento 2023'!$A$1:$E$183,5,FALSE),0)","v":"04201-Illapel"},"15080008","2023-10-17T15:41:37",66,{"$nulls":7},45,null,12,null,9]
[9,"5",2023,"200366",{"$f":"IFERROR(VLOOKUP(Tabla_SERIED_11_6[[#This Row],[IdEstablecimiento]],'[2]Establecimiento 2023'!$A$1:$E$183,3,FALSE),0)","v":"200366-Centro de Salud Familiar Urbano de Illapel"},{"$f":"IFERROR(VLOOKUP(Tabla_SERIED_11_6[[#This Row],[IdEstablecimiento]],'[2]Establecimiento 2023'!$A$1:$E$183,5,FALSE),0)","v":"04201-Illapel"},"15080015","2023-10-17T15:41:37",320,{"$nulls":5},172,148]
[9,"5",2023,"200366",{"$f":"IFERROR(VLOOKUP(Tabla_SERIED_11_6[[#This Row],[IdEstablecimiento]],'[2]Establecimiento 2023'!$A$1:$E$183,3,FALSE),0)","v":"200366-Centro de Salud Familiar Urbano de Illapel"},{"$f":"IFERROR(VLOOKUP(Tabla_SERIED_11_6[[#This Row],[IdEstablecimiento]],'[2]Establecimiento 2023'!$A$1:$E$183,5,FALSE),0)","v":"04201-Illapel"},"15900020","2023-10-17T15:41:37",2.4,null,null,2.4]
[9,"5",2023,"200366",{"$f":"IFERROR(VLOOKUP(Tabla_SERIED_11_6[[#This Row],[IdEstablecimiento]],'[2]Establecimiento 2023'!$A$1:$E$183,3,FALSE),0)","v":"200366-Centro de Salud Familiar Urbano de Illapel"},{"$f":"IFERROR(VLOOKUP(Tabla_SERIED_11_6[[#This Row],[IdEstablecimiento]],'[2]Establecimiento 2023'!$A$1:$E$183,5,FALSE),0)","v":"04201-Illapel"},"16100300","2023-10-17T15:41:37",686,236,450]
[9,"5",2023,"200367",{"$f":"IFERROR(VLOOKUP(Tabla_SERIED_11_6[[#This Row],[IdEstablecimiento]],'[2]Establecimiento 2023'!$A$1:$E$183,3,FALSE),0)","v":"200367-Centro Comunitario de Salud Familiar Colonia Limarí"},{"$f":"IFERROR(VLOOKUP(Tabla_SERIED_11_6[[#This Row],[IdEstablecimiento]],'[2]Establecimiento 2023'!$A$1:$E$183,5,FALSE),0)","v":"04301-Ovalle"},"15080008","2023-10-17T15:42:04",16,{"$nulls":7},4,null,10,1,1]
[9,"5",2023,"200367",{"$f":"IFERROR(VLOOKUP(Tabla_SERIED_11_6[[#This Row],[IdEstablecimiento]],'[2]Establecimiento 2023'!$A$1:$E$183,3,FALSE),0)","v":"200367-Centro Comunitario de Salud Familiar Colonia Limarí"},{"$f":"IFERROR(VLOOKUP(Tabla_SERIED_11_6[[#This Row],[IdEstablecimiento]],'[2]Establecimiento 2023'!$A$1:$E$183,5,FALSE),0)","v":"04301-Ovalle"},"16090300","2023-10-17T15:42:04",154,154]
[9,"5",2023,"200402",{"$f":"IFERROR(VLOOKUP(Tabla_SERIED_11_6[[#This Row],[IdEstablecimiento]],'[2]Establecimiento 2023'!$A$1:$E$183,3,FALSE),0)","v":"200402-Centro Comunitario de Salud Familiar Arcos de Pinamar"},{"$f":"IFERROR(VLOOKUP(Tabla_SERIED_11_6[[#This Row],[IdEstablecimiento]],'[2]Establecimiento 2023'!$A$1:$E$183,5,FALSE),0)","v":"04101-La Serena"},"15050200","2023-10-17T15:43:12",2,2,0,{"$nulls":3},2]
[9,"5",2023,"200402",{"$f":"IFERROR(VLOOKUP(Tabla_SERIED_11_6[[#This Row],[IdEstablecimiento]],'[2]Establecimiento 2023'!$A$1:$E$183,3,FALSE),0)","v":"200402-Centro Comunitario de Salud Familiar Arcos de Pinamar"},{"$f":"IFERROR(VLOOKUP(Tabla_SERIED_11_6[[#This Row],[IdEstablecimiento]],'[2]Establecimiento 2023'!$A$1:$E$183,5,FALSE),0)","v":"04101-La Serena"},"15080008","2023-10-17T15:43:12",39,{"$nulls":7},14,null,16,4,5]
[9,"5",2023,"200402",{"$f":"IFERROR(VLOOKUP(Tabla_SERIED_11_6[[#This Row],[IdEstablecimiento]],'[2]Establecimiento 2023'!$A$1:$E$183,3,FALSE),0)","v":"200402-Centro Comunitario de Salud Familiar Arcos de Pinamar"},{"$f":"IFERROR(VLOOKUP(Tabla_SERIED_11_6[[#This Row],[IdEstablecimiento]],'[2]Establecimiento 2023'!$A$1:$E$183,5,FALSE),0)","v":"04101-La Serena"},"15080014","2023-10-17T15:43:12",32,{"$nulls":3},20,12]
[9,"5",2023,"200494",{"$f":"IFERROR(VLOOKUP(Tabla_SERIED_11_6[[#This Row],[IdEstablecimiento]],'[2]Establecimiento 2023'!$A$1:$E$183,3,FALSE),0)","v":"200494-Centro de Salud Familiar El Sauce"},{"$f":"IFERROR(VLOOKUP(Tabla_SERIED_11_6[[#This Row],[IdEstablecimiento]],'[2]Establecimiento 2023'!$A$1:$E$183,5,FALSE),0)","v":"04102-Coquimbo"},"16200210","2023-10-17T15:43:08",45,45]
[9,"5",2023,"200499",{"$f":"IFERROR(VLOOKUP(Tabla_SERIED_11_6[[#This Row],[IdEstablecimiento]],'[2]Establecimiento 2023'!$A$1:$E$183,3,FALSE),0)","v":"200499-Centro de Salud Familiar Rural Pan de Azúcar"},{"$f":"IFERROR(VLOOKUP(Tabla_SERIED_11_6[[#This Row],[IdEstablecimiento]],'[2]Establecimiento 2023'!$A$1:$E$183,5,FALSE),0)","v":"04102-Coquimbo"},"15080014","2023-10-17T15:43:43",176,{"$nulls":3},98,78]
[9,"5",2023,"200538",{"$f":"IFERROR(VLOOKUP(Tabla_SERIED_11_6[[#This Row],[IdEstablecimiento]],'[2]Establecimiento 2023'!$A$1:$E$183,3,FALSE),0)","v":"200538-Centro de Salud Familiar San Isidro Calingasta"},{"$f":"IFERROR(VLOOKUP(Tabla_SERIED_11_6[[#This Row],[IdEstablecimiento]],'[2]Establecimiento 2023'!$A$1:$E$183,5,FALSE),0)","v":"04106-Vicuña"},"15080008","2023-10-17T15:45:21",17,{"$nulls":7},6,null,4,5,2]
[7,"5",2023,"200569",{"$f":"IFERROR(VLOOKUP(Tabla_SERIED_11_6[[#This Row],[IdEstablecimiento]],'[2]Establecimiento 2023'!$A$1:$E$183,3,FALSE),0)","v":"200569-Centro de Salud Familiar Fray Jorge"},{"$f":"IFERROR(VLOOKUP(Tabla_SERIED_11_6[[#This Row],[IdEstablecimiento]],'[2]Establecimiento 2023'!$A$1:$E$183,5,FALSE),0)","v":"04301-Ovalle"},"15080016","2023-08-18T11:13:13",30,{"$nulls":3},0,6,12,12]
[7,"5",2023,"200569",{"$f":"IFERROR(VLOOKUP(Tabla_SERIED_11_6[[#This Row],[IdEstablecimiento]],'[2]Establecimiento 2023'!$A$1:$E$183,3,FALSE),0)","v":"200569-Centro de Salud Familiar Fray Jorge"},{"$f":"IFERROR(VLOOKUP(Tabla_SERIED_11_6[[#This Row],[IdEstablecimiento]],'[2]Establecimiento 2023'!$A$1:$E$183,5,FALSE),0)","v":"04301-Ovalle"},"15900020","2023-08-18T11:13:13",6.4,0,0,6.4]
[7,"5",2023,"200569",{"$f":"IFERROR(VLOOKUP(Tabla_SERIED_11_6[[#This Row],[IdEstablecimiento]],'[2]Establecimiento 2023'!$A$1:$E$183,3,FALSE),0)","v":"200569-Centro de Salud Familiar Fray Jorge"},{"$f":"IFERROR(VLOOKUP(Tabla_SERIED_11_6[[#This Row],[IdEstablecimiento]],'[2]Establecimiento 2023'!$A$1:$E$183,5,FALSE),0)","v":"04301-Ovalle"},"15900050","2023-08-18T11:13:13",10,6,4,2,1,5,2,0]
[7,"5",2023,"200607",{"$f":"IFERROR(VLOOKUP(Tabla_SERIED_11_6[[#This Row],[IdEstablecimiento]],'[2]Establecimiento 2023'!$A$1:$E$183,3,FALSE),0)","v":"200607-Centro de Salud Familiar Lila Cortés Godoy"},{"$f":"IFERROR(VLOOKUP(Tabla_SERIED_11_6[[#This Row],[IdEstablecimiento]],'[2]Establecimiento 2023'!$A$1:$E$183,5,FALSE),0)","v":"04102-Coquimbo"},"15050100","2023-08-18T11:13:34",772,294,478,16,17,68,118,85,165,143,88,null,41,31]
[7,"5",2023,"200607",{"$f":"IFERROR(VLOOKUP(Tabla_SERIED_11_6[[#This Row],[IdEstablecimiento]],'[2]Establecimiento 2023'!$A$1:$E$183,3,FALSE),0)","v":"200607-Centro de Salud Familiar Lila Cortés Godoy"},{"$f":"IFERROR(VLOOKUP(Tabla_SERIED_11_6[[#This Row],[IdEstablecimiento]],'[2]Establecimiento 2023'!$A$1:$E$183,5,FALSE),0)","v":"04102-Coquimbo"},"15080014","2023-08-18T11:13:34",408,{"$nulls":3},236,170,null,null,1,null,1]
[9,"5",2023,"105105",{"$f":"IFERROR(VLOOKUP(Tabla_SERIED_11_6[[#This Row],[IdEstablecimiento]],'[2]Establecimiento 2023'!$A$1:$E$183,3,FALSE),0)","v":"105105-Hospital San Juan de Dios (Combarbalá)"},{"$f":"IFERROR(VLOOKUP(Tabla_SERIED_11_6[[#This Row],[IdEstablecimiento]],'[2]Establecimiento 2023'!$A$1:$E$183,5,FALSE),0)","v":"105105-Hospital Combarbalá"},"15900040","2023-10-17T09:51:49",8.4,{"$nulls":3},8.4]
[9,"5",2023,"105105",{"$f":"IFERROR(VLOOKUP(Tabla_SERIED_11_6[[#This Row],[IdEstablecimiento]],'[2]Establecimiento 2023'!$A$1:$E$183,3,FALSE),0)","v":"105105-Hospital San Juan de Dios (Combarbalá)"},{"$f":"IFERROR(VLOOKUP(Tabla_SERIED_11_6[[#This Row],[IdEstablecimiento]],'[2]Establecimiento 2023'!$A$1:$E$183,5,FALSE),0)","v":"105105-Hospital Combarbalá"},"16200220","2023-10-17T09:51:49",23,8,15]
[9,"5",2023,"105106",{"$f":"IFERROR(VLOOKUP(Tabla_SERIED_11_6[[#This Row],[IdEstablecimiento]],'[2]Establecimiento 2023'!$A$1:$E$183,3,FALSE),0)","v":"105106-Hospital Dr. José Arraño (Andacollo)"},{"$f":"IFERROR(VLOOKUP(Tabla_SERIED_11_6[[#This Row],[IdEstablecimiento]],'[2]Establecimiento 2023'!$A$1:$E$183,5,FALSE),0)","v":"105106-Hospital Andacollo"},"15080014","2023-10-17T09:51:53",112,{"$nulls":3},72,40]
[9,"5",2023,"105106",{"$f":"IFERROR(VLOOKUP(Tabla_SERIED_11_6[[#This Row],[IdEstablecimiento]],'[2]Establecimiento 2023'!$A$1:$E$183,3,FALSE),0)","v":"105106-Hospital Dr. José Arraño (Andacollo)"},{"$f":"IFERROR(VLOOKUP(Tabla_SERIED_11_6[[#This Row],[IdEstablecimiento]],'[2]Establecimiento 2023'!$A$1:$E$183,5,FALSE),0)","v":"105106-Hospital Andacollo"},"15900050","2023-10-17T09:51:53",2,2,{"$nulls":4},2]
[9,"5",2023,"105107",{"$f":"IFERROR(VLOOKUP(Tabla_SERIED_11_6[[#This Row],[IdEstablecimiento]],'[2]Establecimiento 2023'!$A$1:$E$183,3,FALSE),0)","v":"105107-Hospital San Juan de Dios (Vicuña)"},{"$f":"IFERROR(VLOOKUP(Tabla_SERIED_11_6[[#This Row],[IdEstablecimiento]],'[2]Establecimiento 2023'!$A$1:$E$183,5,FALSE),0)","v":"105107-Hospital Vicuña"},"15080014","2023-10-17T09:53:51",196,{"$nulls":3},104,92]
[9,"5",2023,"105108",{"$f":"IFERROR(VLOOKUP(Tabla_SERIED_11_6[[#This Row],[IdEstablecimiento]],'[2]Establecimiento 2023'!$A$1:$E$183,3,FALSE),0)","v":"105108-Hospital San Pedro (Los Vilos)"},{"$f":"IFERROR(VLOOKUP(Tabla_SERIED_11_6[[#This Row],[IdEstablecimiento]],'[2]Establecimiento 2023'!$A$1:$E$183,5,FALSE),0)","v":"105108-Hospital Los Vilos"},"15080008","2023-10-17T09:54:40",101,{"$nulls":7},40,null,26,18,17]
[9,"5",2023,"105108",{"$f":"IFERROR(VLOOKUP(Tabla_SERIED_11_6[[#This Row],[IdEstablecimiento]],'[2]Establecimiento 2023'!$A$1:$E$183,3,FALSE),0)","v":"105108-Hospital San Pedro (Los Vilos)"},{"$f":"IFERROR(VLOOKUP(Tabla_SERIED_11_6[[#This Row],[IdEstablecimiento]],'[2]Establecimiento 2023'!$A$1:$E$183,5,FALSE),0)","v":"105108-Hospital Los Vilos"},"15080014","2023-10-17T09:54:40",198,{"$nulls":3},102,96]
[9,"5",2023,"105108",{"$f":"IFERROR(VLOOKUP(Tabla_SERIED_11_6[[#This Row],[IdEstablecimiento]],'[2]Establecimiento 2023'!$A$1:$E$183,3,FALSE),0)","v":"105108-Hospital San Pedro (Los Vilos)"},{"$f":"IFERROR(VLOOKUP(Tabla_SERIED_11_6[[#This Row],[IdEstablecimiento]],'[2]Establecimiento 2023'!$A$1:$E$183,5,FALSE),0)","v":"105108-Hospital Los Vilos"},"15900010","2023-10-17T09:54:40",211.6,36,66.5,109.1]
[9,"5",2023,"105108",{"$f":"IFERROR(VLOOKUP(Tabla_SERIED_11_6[[#This Row],[IdEstablecimiento]],'[2]Establecimiento 2023'!$A$1:$E$183,3,FALSE),0)","v":"105108-Hospital San Pedro (Los Vilos)"},{"$f":"IFERROR(VLOOKUP(Tabla_SERIED_11_6[[#This Row],[IdEstablecimiento]],'[2]Establecimiento 2023'!$A$1:$E$183,5,FALSE),0)","v":"105108-Hospital Los Vilos"},"16200220","2023-10-17T09:54:40",10,4,6]
[9,"5",2023,"105300",{"$f":"IFERROR(VLOOKUP(Tabla_SERIED_11_6[[#This Row],[IdEstablecimiento]],'[2]Establecimiento 2023'!$A$1:$E$183,3,FALSE),0)","v":"105300-Centro de Salud Familiar Cardenal Caro"},{"$f":"IFERROR(VLOOKUP(Tabla_SERIED_11_6[[#This Row],[IdEstablecimiento]],'[2]Establecimiento 2023'!$A$1:$E$183,5,FALSE),0)","v":"04101-La Serena"},"15080018","2023-10-17T09:56:24",56,2,4,18,14,18]
[9,"5",2023,"105302",{"$f":"IFERROR(VLOOKUP(Tabla_SERIED_11_6[[#This Row],[IdEstablecimiento]],'[2]Establecimiento 2023'!$A$1:$E$183,3,FALSE),0)","v":"105302-Centro de Salud Familiar Pedro Aguirre Cerda"},{"$f":"IFERROR(VLOOKUP(Tabla_SERIED_11_6[[#This Row],[IdEstablecimiento]],'[2]Establecimiento 2023'!$A$1:$E$183,5,FALSE),0)","v":"04101-La Serena"},"15010500","2023-10-17T09:56:49",16,null,null,4,4,null,6,2]
[9,"5",2023,"105302",{"$f":"IFERROR(VLOOKUP(Tabla_SERIED_11_6[[#This Row],[IdEstablecimiento]],'[2]Establecimiento 2023'!$A$1:$E$183,3,FALSE),0)","v":"105302-Centro de Salud Familiar Pedro Aguirre Cerda"},{"$f":"IFERROR(VLOOKUP(Tabla_SERIED_11_6[[#This Row],[IdEstablecimiento]],'[2]Establecimiento 2023'!$A$1:$E$183,5,FALSE),0)","v":"04101-La Serena"},"16200220","2023-10-17T09:56:49",64,22,42]
[9,"5",2023,"105304",{"$f":"IFERROR(VLOOKUP(Tabla_SERIED_11_6[[#This Row],[IdEstablecimiento]],'[2]Establecimiento 2023'!$A$1:$E$183,3,FALSE),0)","v":"105304-Centro de Salud Familiar Santa Cecilia"},{"$f":"IFERROR(VLOOKUP(Tabla_SERIED_11_6[[#This Row],[IdEstablecimiento]],'[2]Establecimiento 2023'!$A$1:$E$183,5,FALSE),0)","v":"04102-Coquimbo"},"15080014","2023-10-17T09:59:19",281,{"$nulls":3},138,140,null,null,3]
[9,"5",2023,"105305",{"$f":"IFERROR(VLOOKUP(Tabla_SERIED_11_6[[#This Row],[IdEstablecimiento]],'[2]Establecimiento 2023'!$A$1:$E$183,3,FALSE),0)","v":"105305-Centro de Salud Familiar Tierras Blancas"},{"$f":"IFERROR(VLOOKUP(Tabla_SERIED_11_6[[#This Row],[IdEstablecimiento]],'[2]Establecimiento 2023'!$A$1:$E$183,5,FALSE),0)","v":"04102-Coquimbo"},"15080016","2023-10-17T10:00:18",18,{"$nulls":3},4,2,6,6]
[9,"5",2023,"105306",{"$f":"IFERROR(VLOOKUP(Tabla_SERIED_11_6[[#This Row],[IdEstablecimiento]],'[2]Establecimiento 2023'!$A$1:$E$183,3,FALSE),0)","v":"105306-Centro de Salud Familiar Paihuano"},{"$f":"IFERROR(VLOOKUP(Tabla_SERIED_11_6[[#This Row],[IdEstablecimiento]],'[2]Establecimiento 2023'!$A$1:$E$183,5,FALSE),0)","v":"04105-Paihuano"},"15900010","2023-10-17T10:00:47",20.8,12,null,8.8]
[9,"5",2023,"105307",{"$f":"IFERROR(VLOOKUP(Tabla_SERIED_11_6[[#This Row],[IdEstablecimiento]],'[2]Establecimiento 2023'!$A$1:$E$183,3,FALSE),0)","v":"105307-Centro de Salud Familiar Monte Patria"},{"$f":"IFERROR(VLOOKUP(Tabla_SERIED_11_6[[#This Row],[IdEstablecimiento]],'[2]Establecimiento 2023'!$A$1:$E$183,5,FALSE),0)","v":"04303-Monte Patria"},"16100300","2023-10-17T10:01:17",283,131,152]
[9,"5",2023,"105307",{"$f":"IFERROR(VLOOKUP(Tabla_SERIED_11_6[[#This Row],[IdEstablecimiento]],'[2]Establecimiento 2023'!$A$1:$E$183,3,FALSE),0)","v":"105307-Centro de Salud Familiar Monte Patria"},{"$f":"IFERROR(VLOOKUP(Tabla_SERIED_11_6[[#This Row],[IdEstablecimiento]],'[2]Establecimiento 2023'!$A$1:$E$183,5,FALSE),0)","v":"04303-Monte Patria"},"16200100","2023-10-17T10:01:17",1,null,1]
[9,"5",2023,"105307",{"$f":"IFERROR(VLOOKUP(Tabla_SERIED_11_6[[#This Row],[IdEstablecimiento]],'[2]Establecimiento 2023'!$A$1:$E$183,3,FALSE),0)","v":"105307-Centro de Salud Familiar Monte Patria"},{"$f":"IFERROR(VLOOKUP(Tabla_SERIED_11_6[[#This Row],[IdEstablecimiento]],'[2]Establecimiento 2023'!$A$1:$E$183,5,FALSE),0)","v":"04303-Monte Patria"},"16200220","2023-10-17T10:01:17",37,11,26]
[9,"5",2023,"105308",{"$f":"IFERROR(VLOOKUP(Tabla_SERIED_11_6[[#This Row],[IdEstablecimiento]],'[2]Establecimiento 2023'!$A$1:$E$183,3,FALSE),0)","v":"105308-Centro de Salud Familiar Punitaqui"},{"$f":"IFERROR(VLOOKUP(Tabla_SERIED_11_6[[#This Row],[IdEstablecimiento]],'[2]Establecimiento 2023'!$A$1:$E$183,5,FALSE),0)","v":"04304-Punitaqui"},"15010500","2023-10-17T10:02:23",8,null,null,2,null,null,6]
[9,"5",2023,"105308",{"$f":"IFERROR(VLOOKUP(Tabla_SERIED_11_6[[#This Row],[IdEstablecimiento]],'[2]Establecimiento 2023'!$A$1:$E$183,3,FALSE),0)","v":"105308-Centro de Salud Familiar Punitaqui"},{"$f":"IFERROR(VLOOKUP(Tabla_SERIED_11_6[[#This Row],[IdEstablecimiento]],'[2]Establecimiento 2023'!$A$1:$E$183,5,FALSE),0)","v":"04304-Punitaqui"},"15030100","2023-10-17T10:02:23",4.8,null,4.8]
[9,"5",2023,"105308",{"$f":"IFERROR(VLOOKUP(Tabla_SERIED_11_6[[#This Row],[IdEstablecimiento]],'[2]Establecimiento 2023'!$A$1:$E$183,3,FALSE),0)","v":"105308-Centro de Salud Familiar Punitaqui"},{"$f":"IFERROR(VLOOKUP(Tabla_SERIED_11_6[[#This Row],[IdEstablecimiento]],'[2]Establecimiento 2023'!$A$1:$E$183,5,FALSE),0)","v":"04304-Punitaqui"},"15050200","2023-10-17T10:02:23",6,4,2,null,null,1,null,null,3,null,null,2]
[9,"5",2023,"105308",{"$f":"IFERROR(VLOOKUP(Tabla_SERIED_11_6[[#This Row],[IdEstablecimiento]],'[2]Establecimiento 2023'!$A$1:$E$183,3,FALSE),0)","v":"105308-Centro de Salud Familiar Punitaqui"},{"$f":"IFERROR(VLOOKUP(Tabla_SERIED_11_6[[#This Row],[IdEstablecimiento]],'[2]Establecimiento 2023'!$A$1:$E$183,5,FALSE),0)","v":"04304-Punitaqui"},"15080015","2023-10-17T10:02:23",241,{"$nulls":5},108,133]
[9,"5",2023,"105309",{"$f":"IFERROR(VLOOKUP(Tabla_SERIED_11_6[[#This Row],[IdEstablecimiento]],'[2]Establecimiento 2023'!$A$1:$E$183,3,FALSE),0)","v":"105309-Centro de Salud Familiar Canela"},{"$f":"IFERROR(VLOOKUP(Tabla_SERIED_11_6[[#This Row],[IdEstablecimiento]],'[2]Establecimiento 2023'!$A$1:$E$183,5,FALSE),0)","v":"04202-Canela"},"15900020","2023-10-17T10:02:58",57.6,7.2,10.4,40]
[9,"5",2023,"105309",{"$f":"IFERROR(VLOOKUP(Tabla_SERIED_11_6[[#This Row],[IdEstablecimiento]],'[2]Establecimiento 2023'!$A$1:$E$183,3,FALSE),0)","v":"105309-Centro de Salud Familiar Canela"},{"$f":"IFERROR(VLOOKUP(Tabla_SERIED_11_6[[#This Row],[IdEstablecimiento]],'[2]Establecimiento 2023'!$A$1:$E$183,5,FALSE),0)","v":"04202-Canela"},"16090500","2023-10-17T10:02:58",1,1]
[9,"5",2023,"105309",{"$f":"IFERROR(VLOOKUP(Tabla_SERIED_11_6[[#This Row],[IdEstablecimiento]],'[2]Establecimiento 2023'!$A$1:$E$183,3,FALSE),0)","v":"105309-Centro de Salud Familiar Canela"},{"$f":"IFERROR(VLOOKUP(Tabla_SERIED_11_6[[#This Row],[IdEstablecimiento]],'[2]Establecimiento 2023'!$A$1:$E$183,5,FALSE),0)","v":"04202-Canela"},"16200100","2023-10-17T10:02:58",2,1,1]
[9,"5",2023,"105311",{"$f":"IFERROR(VLOOKUP(Tabla_SERIED_11_6[[#This Row],[IdEstablecimiento]],'[2]Establecimiento 2023'!$A$1:$E$183,3,FALSE),0)","v":"105311-Centro de Salud Familiar Chañaral Alto"},{"$f":"IFERROR(VLOOKUP(Tabla_SERIED_11_6[[#This Row],[IdEstablecimiento]],'[2]Establecimiento 2023'!$A$1:$E$183,5,FALSE),0)","v":"04303-Monte Patria"},"15080016","2023-10-17T10:03:53",12,{"$nulls":3},2,4,2,4]
[9,"5",2023,"105311",{"$f":"IFERROR(VLOOKUP(Tabla_SERIED_11_6[[#This Row],[IdEstablecimiento]],'[2]Establecimiento 2023'!$A$1:$E$183,3,FALSE),0)","v":"105311-Centro de Salud Familiar Chañaral Alto"},{"$f":"IFERROR(VLOOKUP(Tabla_SERIED_11_6[[#This Row],[IdEstablecimiento]],'[2]Establecimiento 2023'!$A$1:$E$183,5,FALSE),0)","v":"04303-Monte Patria"},"15900040","2023-10-17T10:03:53",3.2,{"$nulls":4},3.2]
[9,"5",2023,"105313",{"$f":"IFERROR(VLOOKUP(Tabla_SERIED_11_6[[#This Row],[IdEstablecimiento]],'[2]Establecimiento 2023'!$A$1:$E$183,3,FALSE),0)","v":"105313-Centro de Salud Familiar Dr. Emilio Schaffhauser"},{"$f":"IFERROR(VLOOKUP(Tabla_SERIED_11_6[[#This Row],[IdEstablecimiento]],'[2]Establecimiento 2023'!$A$1:$E$183,5,FALSE),0)","v":"04101-La Serena"},"15050100","2023-10-17T10:06:10",691,249,442,9,13,65,106,79,128,78,130,null,37,10,36]
[9,"5",2023,"105313",{"$f":"IFERROR(VLOOKUP(Tabla_SERIED_11_6[[#This Row],[IdEstablecimiento]],'[2]Establecimiento 2023'!$A$1:$E$183,3,FALSE),0)","v":"105313-Centro de Salud Familiar Dr. Emilio Schaffhauser"},{"$f":"IFERROR(VLOOKUP(Tabla_SERIED_11_6[[#This Row],[IdEstablecimiento]],'[2]Establecimiento 2023'!$A$1:$E$183,5,FALSE),0)","v":"04101-La Serena"},"15080015","2023-10-17T10:06:10",412,{"$nulls":5},256,156]
[9,"5",2023,"105313",{"$f":"IFERROR(VLOOKUP(Tabla_SERIED_11_6[[#This Row],[IdEstablecimiento]],'[2]Establecimiento 2023'!$A$1:$E$183,3,FALSE),0)","v":"105313-Centro de Salud Familiar Dr. Emilio Schaffhauser"},{"$f":"IFERROR(VLOOKUP(Tabla_SERIED_11_6[[#This Row],[IdEstablecimiento]],'[2]Establecimiento 2023'!$A$1:$E$183,5,FALSE),0)","v":"04101-La Serena"},"15080016","2023-10-17T10:06:10",18,{"$nulls":4},4,2,12]
[9,"5",2023,"105315",{"$f":"IFERROR(VLOOKUP(Tabla_SERIED_11_6[[#This Row],[IdEstablecimiento]],'[2]Establecimiento 2023'!$A$1:$E$183,3,FALSE),0)","v":"105315-Centro de Salud Familiar Cerrillos de Tamaya"},{"$f":"IFERROR(VLOOKUP(Tabla_SERIED_11_6[[#This Row],[IdEstablecimiento]],'[2]Establecimiento 2023'!$A$1:$E$183,5,FALSE),0)","v":"04301-Ovalle"},"15900030","2023-10-17T15:50:02",4.4,4.4]
[9,"5",2023,"105315",{"$f":"IFERROR(VLOOKUP(Tabla_SERIED_11_6[[#This Row],[IdEstablecimiento]],'[2]Establecimiento 2023'!$A$1:$E$183,3,FALSE),0)","v":"105315-Centro de Salud Familiar Cerrillos de Tamaya"},{"$f":"IFERROR(VLOOKUP(Tabla_SERIED_11_6[[#This Row],[IdEstablecimiento]],'[2]Establecimiento 2023'!$A$1:$E$183,5,FALSE),0)","v":"04301-Ovalle"},"15900040","2023-10-17T15:50:02",8.8,null,4.4,null,4.4]
[9,"5",2023,"105317",{"$f":"IFERROR(VLOOKUP(Tabla_SERIED_11_6[[#This Row],[IdEstablecimiento]],'[2]Establecimiento 2023'!$A$1:$E$183,3,FALSE),0)","v":"105317-Centro de Salud Familiar Jorge Jordán Domic"},{"$f":"IFERROR(VLOOKUP(Tabla_SERIED_11_6[[#This Row],[IdEstablecimiento]],'[2]Establecimiento 2023'!$A$1:$E$183,5,FALSE),0)","v":"04301-Ovalle"},"15010500","2023-10-17T10:55:44",14,{"$nulls":3},2,null,8,4]
[9,"5",2023,"105317",{"$f":"IFERROR(VLOOKUP(Tabla_SERIED_11_6[[#This Row],[IdEstablecimiento]],'[2]Establecimiento 2023'!$A$1:$E$183,3,FALSE),0)","v":"105317-Centro de Salud Familiar Jorge Jordán Domic"},{"$f":"IFERROR(VLOOKUP(Tabla_SERIED_11_6[[#This Row],[IdEstablecimiento]],'[2]Establecimiento 2023'!$A$1:$E$183,5,FALSE),0)","v":"04301-Ovalle"},"15080016","2023-10-17T10:55:44",14,{"$nulls":3},2,null,8,4]
[9,"5",2023,"105318",{"$f":"IFERROR(VLOOKUP(Tabla_SERIED_11_6[[#This Row],[IdEstablecimiento]],'[2]Establecimiento 2023'!$A$1:$E$183,3,FALSE),0)","v":"105318-Centro de Salud Familiar El Palqui"},{"$f":"IFERROR(VLOOKUP(Tabla_SERIED_11_6[[#This Row],[IdEstablecimiento]],'[2]Establecimiento 2023'!$A$1:$E$183,5,FALSE),0)","v":"04303-Monte Patria"},"15900030","2023-10-17T11:00:51",4.4,{"$nulls":3},4.4]
[9,"5",2023,"105318",{"$f":"IFERROR(VLOOKUP(Tabla_SERIED_11_6[[#This Row],[IdEstablecimiento]],'[2]Establecimiento 2023'!$A$1:$E$183,3,FALSE),0)","v":"105318-Centro de Salud Familiar El Palqui"},{"$f":"IFERROR(VLOOKUP(Tabla_SERIED_11_6[[#This Row],[IdEstablecimiento]],'[2]Establecimiento 2023'!$A$1:$E$183,5,FALSE),0)","v":"04303-Monte Patria"},"16200220","2023-10-17T11:00:51",20,9,11]
[9,"5",2023,"105319",{"$f":"IFERROR(VLOOKUP(Tabla_SERIED_11_6[[#This Row],[IdEstablecimiento]],'[2]Establecimiento 2023'!$A$1:$E$183,3,FALSE),0)","v":"105319-Centro de Salud Familiar Cardenal Raúl Silva Henríquez de La Serena"},{"$f":"IFERROR(VLOOKUP(Tabla_SERIED_11_6[[#This Row],[IdEstablecimiento]],'[2]Establecimiento 2023'!$A$1:$E$183,5,FALSE),0)","v":"04101-La Serena"},"15080016","2023-10-17T11:01:16",4,{"$nulls":4},2,null,2]
[9,"5",2023,"105319",{"$f":"IFERROR(VLOOKUP(Tabla_SERIED_11_6[[#This Row],[IdEstablecimiento]],'[2]Establecimiento 2023'!$A$1:$E$183,3,FALSE),0)","v":"105319-Centro de Salud Familiar Cardenal Raúl Silva Henríquez de La Serena"},{"$f":"IFERROR(VLOOKUP(Tabla_SERIED_11_6[[#This Row],[IdEstablecimiento]],'[2]Establecimiento 2023'!$A$1:$E$183,5,FALSE),0)","v":"04101-La Serena"},"15900010","2023-10-17T11:01:16",260,20,60.8,179.2]
[9,"5",2023,"105321",{"$f":"IFERROR(VLOOKUP(Tabla_SERIED_11_6[[#This Row],[IdEstablecimiento]],'[2]Establecimiento 2023'!$A$1:$E$183,3,FALSE),0)","v":"105321-Centro de Salud Familiar Tongoy"},{"$f":"IFERROR(VLOOKUP(Tabla_SERIED_11_6[[#This Row],[IdEstablecimiento]],'[2]Establecimiento 2023'!$A$1:$E$183,5,FALSE),0)","v":"04102-Coquimbo"},"15080014","2023-10-17T11:02:58",86,{"$nulls":3},48,38,null,null,0]
[9,"5",2023,"105321",{"$f":"IFERROR(VLOOKUP(Tabla_SERIED_11_6[[#This Row],[IdEstablecimiento]],'[2]Establecimiento 2023'!$A$1:$E$183,3,FALSE),0)","v":"105321-Centro de Salud Familiar Tongoy"},{"$f":"IFERROR(VLOOKUP(Tabla_SERIED_11_6[[#This Row],[IdEstablecimiento]],'[2]Establecimiento 2023'!$A$1:$E$183,5,FALSE),0)","v":"04102-Coquimbo"},"15900010","2023-10-17T11:02:58",95.2,12,14.4,68.8]
[9,"5",2023,"105322",{"$f":"IFERROR(VLOOKUP(Tabla_SERIED_11_6[[#This Row],[IdEstablecimiento]],'[2]Establecimiento 2023'!$A$1:$E$183,3,FALSE),0)","v":"105322-Centro de Salud Familiar Marcos Macuada"},{"$f":"IFERROR(VLOOKUP(Tabla_SERIED_11_6[[#This Row],[IdEstablecimiento]],'[2]Establecimiento 2023'!$A$1:$E$183,5,FALSE),0)","v":"04301-Ovalle"},"15080008","2023-10-17T11:04:22",80,{"$nulls":7},47,null,16,9,8]
[9,"5",2023,"105322",{"$f":"IFERROR(VLOOKUP(Tabla_SERIED_11_6[[#This Row],[IdEstablecimiento]],'[2]Establecimiento 2023'!$A$1:$E$183,3,FALSE),0)","v":"105322-Centro de Salud Familiar Marcos Macuada"},{"$f":"IFERROR(VLOOKUP(Tabla_SERIED_11_6[[#This Row],[IdEstablecimiento]],'[2]Establecimiento 2023'!$A$1:$E$183,5,FALSE),0)","v":"04301-Ovalle"},"16200220","2023-10-17T11:04:22",52,20,32]
[9,"5",2023,"105323",{"$f":"IFERROR(VLOOKUP(Tabla_SERIED_11_6[[#This Row],[IdEstablecimiento]],'[2]Establecimiento 2023'!$A$1:$E$183,3,FALSE),0)","v":"105323-Centro de Salud Familiar Dr. Sergio Aguilar Delgado"},{"$f":"IFERROR(VLOOKUP(Tabla_SERIED_11_6[[#This Row],[IdEstablecimiento]],'[2]Establecimiento 2023'!$A$1:$E$183,5,FALSE),0)","v":"04102-Coquimbo"},"15900050","2023-10-17T11:04:16",3,1,2,{"$nulls":3},2,null,1]
[9,"5",2023,"105323",{"$f":"IFERROR(VLOOKUP(Tabla_SERIED_11_6[[#This Row],[IdEstablecimiento]],'[2]Establecimiento 2023'!$A$1:$E$183,3,FALSE),0)","v":"105323-Centro de Salud Familiar Dr. Sergio Aguilar Delgado"},{"$f":"IFERROR(VLOOKUP(Tabla_SERIED_11_6[[#This Row],[IdEstablecimiento]],'[2]Establecimiento 2023'!$A$1:$E$183,5,FALSE),0)","v":"04102-Coquimbo"},"15901200","2023-10-17T11:04:16",21.2,null,null,7.6,8.8,4.8]
[9,"5",2023,"105324",{"$f":"IFERROR(VLOOKUP(Tabla_SERIED_11_6[[#This Row],[IdEstablecimiento]],'[2]Establecimiento 2023'!$A$1:$E$183,3,FALSE),0)","v":"105324-Centro de Salud Familiar Sotaquí"},{"$f":"IFERROR(VLOOKUP(Tabla_SERIED_11_6[[#This Row],[IdEstablecimiento]],'[2]Establecimiento 2023'!$A$1:$E$183,5,FALSE),0)","v":"04301-Ovalle"},"15901200","2023-10-17T11:06:34",4.4,{"$nulls":4},4.4]
[9,"5",2023,"105325",{"$f":"IFERROR(VLOOKUP(Tabla_SERIED_11_6[[#This Row],[IdEstablecimiento]],'[2]Establecimiento 2023'!$A$1:$E$183,3,FALSE),0)","v":"105325-Centro de Salud Familiar Juan Pablo II (La Serena)"},{"$f":"IFERROR(VLOOKUP(Tabla_SERIED_11_6[[#This Row],[IdEstablecimiento]],'[2]Establecimiento 2023'!$A$1:$E$183,5,FALSE),0)","v":"04101-La Serena"},"15050100","2023-10-17T11:06:28",667,255,412,8,24,75,73,83,125,123,89,null,23,12,32]
[9,"5",2023,"105325",{"$f":"IFERROR(VLOOKUP(Tabla_SERIED_11_6[[#This Row],[IdEstablecimiento]],'[2]Establecimiento 2023'!$A$1:$E$183,3,FALSE),0)","v":"105325-Centro de Salud Familiar Juan Pablo II (La Serena)"},{"$f":"IFERROR(VLOOKUP(Tabla_SERIED_11_6[[#This Row],[IdEstablecimiento]],'[2]Establecimiento 2023'!$A$1:$E$183,5,FALSE),0)","v":"04101-La Serena"},"15060100","2023-10-17T11:06:28",9,5,4,0,0,0,0,5,1,3,0,null,0,0,0]
[9,"5",2023,"105326",{"$f":"IFERROR(VLOOKUP(Tabla_SERIED_11_6[[#This Row],[IdEstablecimiento]],'[2]Establecimiento 2023'!$A$1:$E$183,3,FALSE),0)","v":"105326-Centro de Salud Familiar Villa San Rafael de Rozas"},{"$f":"IFERROR(VLOOKUP(Tabla_SERIED_11_6[[#This Row],[IdEstablecimiento]],'[2]Establecimiento 2023'!$A$1:$E$183,5,FALSE),0)","v":"04201-Illapel"},"15050500","2023-10-17T11:07:10",1,null,1,null,null,1]
[9,"5",2023,"105400",{"$f":"IFERROR(VLOOKUP(Tabla_SERIED_11_6[[#This Row],[IdEstablecimiento]],'[2]Establecimiento 2023'!$A$1:$E$183,3,FALSE),0)","v":"105400-Posta de Salud Rural Algarrobito"},{"$f":"IFERROR(VLOOKUP(Tabla_SERIED_11_6[[#This Row],[IdEstablecimiento]],'[2]Establecimiento 2023'!$A$1:$E$183,5,FALSE),0)","v":"04101-La Serena"},"15080014","2023-10-17T11:07:46",30,{"$nulls":3},14,16]
[9,"5",2023,"105402",{"$f":"IFERROR(VLOOKUP(Tabla_SERIED_11_6[[#This Row],[IdEstablecimiento]],'[2]Establecimiento 2023'!$A$1:$E$183,3,FALSE),0)","v":"105402-Posta de Salud Rural El Romero"},{"$f":"IFERROR(VLOOKUP(Tabla_SERIED_11_6[[#This Row],[IdEstablecimiento]],'[2]Establecimiento 2023'!$A$1:$E$183,5,FALSE),0)","v":"04101-La Serena"},"15080015","2023-10-17T11:09:25",28,{"$nulls":5},16,12]
[9,"5",2023,"105405",{"$f":"IFERROR(VLOOKUP(Tabla_SERIED_11_6[[#This Row],[IdEstablecimiento]],'[2]Establecimiento 2023'!$A$1:$E$183,3,FALSE),0)","v":"105405-Posta de Salud Rural Guanaqueros"},{"$f":"IFERROR(VLOOKUP(Tabla_SERIED_11_6[[#This Row],[IdEstablecimiento]],'[2]Establecimiento 2023'!$A$1:$E$183,5,FALSE),0)","v":"04102-Coquimbo"},"16100300","2023-10-17T11:13:10",65,30,35]
[9,"5",2023,"105407",{"$f":"IFERROR(VLOOKUP(Tabla_SERIED_11_6[[#This Row],[IdEstablecimiento]],'[2]Establecimiento 2023'!$A$1:$E$183,3,FALSE),0)","v":"105407-Posta de Salud Rural Tambillo"},{"$f":"IFERROR(VLOOKUP(Tabla_SERIED_11_6[[#This Row],[IdEstablecimiento]],'[2]Establecimiento 2023'!$A$1:$E$183,5,FALSE),0)","v":"04102-Coquimbo"},"16100300","2023-10-17T11:12:30",43,14,29]
[9,"5",2023,"105409",{"$f":"IFERROR(VLOOKUP(Tabla_SERIED_11_6[[#This Row],[IdEstablecimiento]],'[2]Establecimiento 2023'!$A$1:$E$183,3,FALSE),0)","v":"105409-Posta de Salud Rural El Chañar"},{"$f":"IFERROR(VLOOKUP(Tabla_SERIED_11_6[[#This Row],[IdEstablecimiento]],'[2]Establecimiento 2023'!$A$1:$E$183,5,FALSE),0)","v":"04305-Rio Hurtado"},"16090300","2023-10-17T11:13:38",24,24]
[9,"5",2023,"105414",{"$f":"IFERROR(VLOOKUP(Tabla_SERIED_11_6[[#This Row],[IdEstablecimiento]],'[2]Establecimiento 2023'!$A$1:$E$183,3,FALSE),0)","v":"105414-Posta de Salud Rural Serón"},{"$f":"IFERROR(VLOOKUP(Tabla_SERIED_11_6[[#This Row],[IdEstablecimiento]],'[2]Establecimiento 2023'!$A$1:$E$183,5,FALSE),0)","v":"04305-Rio Hurtado"},"15080014","2023-10-17T11:19:49",6,{"$nulls":3},6]
[9,"5",2023,"105415",{"$f":"IFERROR(VLOOKUP(Tabla_SERIED_11_6[[#This Row],[IdEstablecimiento]],'[2]Establecimiento 2023'!$A$1:$E$183,3,FALSE),0)","v":"105415-Posta de Salud Rural Barraza"},{"$f":"IFERROR(VLOOKUP(Tabla_SERIED_11_6[[#This Row],[IdEstablecimiento]],'[2]Establecimiento 2023'!$A$1:$E$183,5,FALSE),0)","v":"04301-Ovalle"},"15050100","2023-10-17T11:20:19",30,14,16,{"$nulls":3},3,2,6,15,1,null,3]
[9,"5",2023,"105416",{"$f":"IFERROR(VLOOKUP(Tabla_SERIED_11_6[[#This Row],[IdEstablecimiento]],'[2]Establecimiento 2023'!$A$1:$E$183,3,FALSE),0)","v":"105416-Posta de Salud Rural Camarico (Ovalle)"},{"$f":"IFERROR(VLOOKUP(Tabla_SERIED_11_6[[#This Row],[IdEstablecimiento]],'[2]Establecimiento 2023'!$A$1:$E$183,5,FALSE),0)","v":"04301-Ovalle"},"15080016","2023-10-17T11:21:31",2,{"$nulls":5},2]
[9,"5",2023,"105416",{"$f":"IFERROR(VLOOKUP(Tabla_SERIED_11_6[[#This Row],[IdEstablecimiento]],'[2]Establecimiento 2023'!$A$1:$E$183,3,FALSE),0)","v":"105416-Posta de Salud Rural Camarico (Ovalle)"},{"$f":"IFERROR(VLOOKUP(Tabla_SERIED_11_6[[#This Row],[IdEstablecimiento]],'[2]Establecimiento 2023'!$A$1:$E$183,5,FALSE),0)","v":"04301-Ovalle"},"15900010","2023-10-17T11:21:31",0.8,null,null,0.8]
[9,"5",2023,"105425",{"$f":"IFERROR(VLOOKUP(Tabla_SERIED_11_6[[#This Row],[IdEstablecimiento]],'[2]Establecimiento 2023'!$A$1:$E$183,3,FALSE),0)","v":"105425-Posta de Salud Rural Chilecito"},{"$f":"IFERROR(VLOOKUP(Tabla_SERIED_11_6[[#This Row],[IdEstablecimiento]],'[2]Establecimiento 2023'!$A$1:$E$183,5,FALSE),0)","v":"04303-Monte Patria"},"16200210","2023-10-17T11:25:07",1,1]
[9,"5",2023,"105427",{"$f":"IFERROR(VLOOKUP(Tabla_SERIED_11_6[[#This Row],[IdEstablecimiento]],'[2]Establecimiento 2023'!$A$1:$E$183,3,FALSE),0)","v":"105427-Posta de Salud Rural Hacienda Valdivia"},{"$f":"IFERROR(VLOOKUP(Tabla_SERIED_11_6[[#This Row],[IdEstablecimiento]],'[2]Establecimiento 2023'!$A$1:$E$183,5,FALSE),0)","v":"04303-Monte Patria"},"15050200","2023-10-17T11:26:28",1,1,{"$nulls":6},1]
[9,"5",2023,"105428",{"$f":"IFERROR(VLOOKUP(Tabla_SERIED_11_6[[#This Row],[IdEstablecimiento]],'[2]Establecimiento 2023'!$A$1:$E$183,3,FALSE),0)","v":"105428-Posta de Salud Rural Huatulame"},{"$f":"IFERROR(VLOOKUP(Tabla_SERIED_11_6[[#This Row],[IdEstablecimiento]],'[2]Establecimiento 2023'!$A$1:$E$183,5,FALSE),0)","v":"04303-Monte Patria"},"15080008","2023-10-17T11:27:21",9,{"$nulls":7},1,null,8]
[9,"5",2023,"105428",{"$f":"IFERROR(VLOOKUP(Tabla_SERIED_11_6[[#This Row],[IdEstablecimiento]],'[2]Establecimiento 2023'!$A$1:$E$183,3,FALSE),0)","v":"105428-Posta de Salud Rural Huatulame"},{"$f":"IFERROR(VLOOKUP(Tabla_SERIED_11_6[[#This Row],[IdEstablecimiento]],'[2]Establecimiento 2023'!$A$1:$E$183,5,FALSE),0)","v":"04303-Monte Patria"},"16090300","2023-10-17T11:27:21",75,75]
[9,"5",2023,"105433",{"$f":"IFERROR(VLOOKUP(Tabla_SERIED_11_6[[#This Row],[IdEstablecimiento]],'[2]Establecimiento 2023'!$A$1:$E$183,3,FALSE),0)","v":"105433-Posta de Salud Rural San Lorenzo (Combarbalá)"},{"$f":"IFERROR(VLOOKUP(Tabla_SERIED_11_6[[#This Row],[IdEstablecimiento]],'[2]Establecimiento 2023'!$A$1:$E$183,5,FALSE),0)","v":"04302-Combarbalá"},"16090300","2023-10-17T11:31:34",19,19]
[9,"5",2023,"105434",{"$f":"IFERROR(VLOOKUP(Tabla_SERIED_11_6[[#This Row],[IdEstablecimiento]],'[2]Establecimiento 2023'!$A$1:$E$183,3,FALSE),0)","v":"105434-Posta de Salud Rural San Marcos (Combarbalá)"},{"$f":"IFERROR(VLOOKUP(Tabla_SERIED_11_6[[#This Row],[IdEstablecimiento]],'[2]Establecimiento 2023'!$A$1:$E$183,5,FALSE),0)","v":"04302-Combarbalá"},"15050200","2023-10-17T11:32:09",1,null,1,{"$nulls":3},1]
[9,"5",2023,"105434",{"$f":"IFERROR(VLOOKUP(Tabla_SERIED_11_6[[#This Row],[IdEstablecimiento]],'[2]Establecimiento 2023'!$A$1:$E$183,3,FALSE),0)","v":"105434-Posta de Salud Rural San Marcos (Combarbalá)"},{"$f":"IFERROR(VLOOKUP(Tabla_SERIED_11_6[[#This Row],[IdEstablecimiento]],'[2]Establecimiento 2023'!$A$1:$E$183,5,FALSE),0)","v":"04302-Combarbalá"},"15900010","2023-10-17T11:32:09",4,null,1.6,2.4]
[9,"5",2023,"105434",{"$f":"IFERROR(VLOOKUP(Tabla_SERIED_11_6[[#This Row],[IdEstablecimiento]],'[2]Establecimiento 2023'!$A$1:$E$183,3,FALSE),0)","v":"105434-Posta de Salud Rural San Marcos (Combarbalá)"},{"$f":"IFERROR(VLOOKUP(Tabla_SERIED_11_6[[#This Row],[IdEstablecimiento]],'[2]Establecimiento 2023'!$A$1:$E$183,5,FALSE),0)","v":"04302-Combarbalá"},"16200210","2023-10-17T11:32:09",6,6]
[9,"5",2023,"105435",{"$f":"IFERROR(VLOOKUP(Tabla_SERIED_11_6[[#This Row],[IdEstablecimiento]],'[2]Establecimiento 2023'!$A$1:$E$183,3,FALSE),0)","v":"105435-Posta de Salud Rural Tulahuén"},{"$f":"IFERROR(VLOOKUP(Tabla_SERIED_11_6[[#This Row],[IdEstablecimiento]],'[2]Establecimiento 2023'!$A$1:$E$183,5,FALSE),0)","v":"04303-Monte Patria"},"15080016","2023-10-17T11:34:19",4,{"$nulls":3},2,null,null,2]
[9,"5",2023,"105445",{"$f":"IFERROR(VLOOKUP(Tabla_SERIED_11_6[[#This Row],[IdEstablecimiento]],'[2]Establecimiento 2023'!$A$1:$E$183,3,FALSE),0)","v":"105445-Posta de Salud Rural Limáhuida"},{"$f":"IFERROR(VLOOKUP(Tabla_SERIED_11_6[[#This Row],[IdEstablecimiento]],'[2]Establecimiento 2023'!$A$1:$E$183,5,FALSE),0)","v":"04201-Illapel"},"15080008","2023-10-17T11:45:24",3,{"$nulls":7},1,null,2]
[9,"5",2023,"105447",{"$f":"IFERROR(VLOOKUP(Tabla_SERIED_11_6[[#This Row],[IdEstablecimiento]],'[2]Establecimiento 2023'!$A$1:$E$183,3,FALSE),0)","v":"105447-Posta de Salud Rural Peralillo Illapel"},{"$f":"IFERROR(VLOOKUP(Tabla_SERIED_11_6[[#This Row],[IdEstablecimiento]],'[2]Establecimiento 2023'!$A$1:$E$183,5,FALSE),0)","v":"04201-Illapel"},"15010200","2023-10-17T11:46:43",10,{"$nulls":5},10]
[9,"5",2023,"105448",{"$f":"IFERROR(VLOOKUP(Tabla_SERIED_11_6[[#This Row],[IdEstablecimiento]],'[2]Establecimiento 2023'!$A$1:$E$183,3,FALSE),0)","v":"105448-Posta de Salud Rural Santa Virginia"},{"$f":"IFERROR(VLOOKUP(Tabla_SERIED_11_6[[#This Row],[IdEstablecimiento]],'[2]Establecimiento 2023'!$A$1:$E$183,5,FALSE),0)","v":"04201-Illapel"},"15080014","2023-10-17T11:47:40",20,{"$nulls":3},6,14]
[9,"5",2023,"105450",{"$f":"IFERROR(VLOOKUP(Tabla_SERIED_11_6[[#This Row],[IdEstablecimiento]],'[2]Establecimiento 2023'!$A$1:$E$183,3,FALSE),0)","v":"105450-Posta de Salud Rural Mincha Norte"},{"$f":"IFERROR(VLOOKUP(Tabla_SERIED_11_6[[#This Row],[IdEstablecimiento]],'[2]Establecimiento 2023'!$A$1:$E$183,5,FALSE),0)","v":"04202-Canela"},"16090300","2023-10-17T11:48:56",235,235]
[9,"5",2023,"105450",{"$f":"IFERROR(VLOOKUP(Tabla_SERIED_11_6[[#This Row],[IdEstablecimiento]],'[2]Establecimiento 2023'!$A$1:$E$183,3,FALSE),0)","v":"105450-Posta de Salud Rural Mincha Norte"},{"$f":"IFERROR(VLOOKUP(Tabla_SERIED_11_6[[#This Row],[IdEstablecimiento]],'[2]Establecimiento 2023'!$A$1:$E$183,5,FALSE),0)","v":"04202-Canela"},"16200220","2023-10-17T11:48:56",12,5,7]
[9,"5",2023,"105452",{"$f":"IFERROR(VLOOKUP(Tabla_SERIED_11_6[[#This Row],[IdEstablecimiento]],'[2]Establecimiento 2023'!$A$1:$E$183,3,FALSE),0)","v":"105452-Posta de Salud Rural Cuncumén(Salamanca)"},{"$f":"IFERROR(VLOOKUP(Tabla_SERIED_11_6[[#This Row],[IdEstablecimiento]],'[2]Establecimiento 2023'!$A$1:$E$183,5,FALSE),0)","v":"04204-Salamanca"},"16090300","2023-10-17T11:50:01",38,38]
[9,"5",2023,"105452",{"$f":"IFERROR(VLOOKUP(Tabla_SERIED_11_6[[#This Row],[IdEstablecimiento]],'[2]Establecimiento 2023'!$A$1:$E$183,3,FALSE),0)","v":"105452-Posta de Salud Rural Cuncumén(Salamanca)"},{"$f":"IFERROR(VLOOKUP(Tabla_SERIED_11_6[[#This Row],[IdEstablecimiento]],'[2]Establecimiento 2023'!$A$1:$E$183,5,FALSE),0)","v":"04204-Salamanca"},"16100300","2023-10-17T11:50:01",38,18,20]
[9,"5",2023,"105456",{"$f":"IFERROR(VLOOKUP(Tabla_SERIED_11_6[[#This Row],[IdEstablecimiento]],'[2]Establecimiento 2023'!$A$1:$E$183,3,FALSE),0)","v":"105456-Posta de Salud Rural Llimpo"},{"$f":"IFERROR(VLOOKUP(Tabla_SERIED_11_6[[#This Row],[IdEstablecimiento]],'[2]Establecimiento 2023'!$A$1:$E$183,5,FALSE),0)","v":"04204-Salamanca"},"15050200","2023-10-17T11:53:06",1,1,{"$nulls":6},1]
[9,"5",2023,"105456",{"$f":"IFERROR(VLOOKUP(Tabla_SERIED_11_6[[#This Row],[IdEstablecimiento]],'[2]Establecimiento 2023'!$A$1:$E$183,3,FALSE),0)","v":"105456-Posta de Salud Rural Llimpo"},{"$f":"IFERROR(VLOOKUP(Tabla_SERIED_11_6[[#This Row],[IdEstablecimiento]],'[2]Establecimiento 2023'!$A$1:$E$183,5,FALSE),0)","v":"04204-Salamanca"},"16100300","2023-10-17T11:53:06",69,32,37]
[9,"5",2023,"105457",{"$f":"IFERROR(VLOOKUP(Tabla_SERIED_11_6[[#This Row],[IdEstablecimiento]],'[2]Establecimiento 2023'!$A$1:$E$183,3,FALSE),0)","v":"105457-Posta de Salud Rural San Agustín (Salamanca)"},{"$f":"IFERROR(VLOOKUP(Tabla_SERIED_11_6[[#This Row],[IdEstablecimiento]],'[2]Establecimiento 2023'!$A$1:$E$183,5,FALSE),0)","v":"04204-Salamanca"},"16200210","2023-10-17T11:53:40",5,5]
[9,"5",2023,"105459",{"$f":"IFERROR(VLOOKUP(Tabla_SERIED_11_6[[#This Row],[IdEstablecimiento]],'[2]Establecimiento 2023'!$A$1:$E$183,3,FALSE),0)","v":"105459-Posta de Salud Rural Barrancas"},{"$f":"IFERROR(VLOOKUP(Tabla_SERIED_11_6[[#This Row],[IdEstablecimiento]],'[2]Establecimiento 2023'!$A$1:$E$183,5,FALSE),0)","v":"04302-Combarbalá"},"15080008","2023-10-17T11:55:56",1,{"$nulls":7},1]
[9,"5",2023,"105460",{"$f":"IFERROR(VLOOKUP(Tabla_SERIED_11_6[[#This Row],[IdEstablecimiento]],'[2]Establecimiento 2023'!$A$1:$E$183,3,FALSE),0)","v":"105460-Centro Comunitario de Salud Familiar Cogotí 18"},{"$f":"IFERROR(VLOOKUP(Tabla_SERIED_11_6[[#This Row],[IdEstablecimiento]],'[2]Establecimiento 2023'!$A$1:$E$183,5,FALSE),0)","v":"04302-Combarbalá"},"15901500","2023-10-17T11:55:52",4,null,null,4]
[9,"5",2023,"105462",{"$f":"IFERROR(VLOOKUP(Tabla_SERIED_11_6[[#This Row],[IdEstablecimiento]],'[2]Establecimiento 2023'!$A$1:$E$183,3,FALSE),0)","v":"105462-Posta de Salud Rural El Sauce (Combarbalá)"},{"$f":"IFERROR(VLOOKUP(Tabla_SERIED_11_6[[#This Row],[IdEstablecimiento]],'[2]Establecimiento 2023'!$A$1:$E$183,5,FALSE),0)","v":"04302-Combarbalá"},"15080014","2023-10-17T11:57:06",6,{"$nulls":3},4,2]
[9,"5",2023,"105465",{"$f":"IFERROR(VLOOKUP(Tabla_SERIED_11_6[[#This Row],[IdEstablecimiento]],'[2]Establecimiento 2023'!$A$1:$E$183,3,FALSE),0)","v":"105465-Posta de Salud Rural Ramadilla"},{"$f":"IFERROR(VLOOKUP(Tabla_SERIED_11_6[[#This Row],[IdEstablecimiento]],'[2]Establecimiento 2023'!$A$1:$E$183,5,FALSE),0)","v":"04302-Combarbalá"},"16100300","2023-10-17T12:02:49",84,33,51]
[9,"5",2023,"105468",{"$f":"IFERROR(VLOOKUP(Tabla_SERIED_11_6[[#This Row],[IdEstablecimiento]],'[2]Establecimiento 2023'!$A$1:$E$183,3,FALSE),0)","v":"105468-Posta de Salud Rural El Molle"},{"$f":"IFERROR(VLOOKUP(Tabla_SERIED_11_6[[#This Row],[IdEstablecimiento]],'[2]Establecimiento 2023'!$A$1:$E$183,5,FALSE),0)","v":"04106-Vicuña"},"15080015","2023-10-17T14:04:13",28,{"$nulls":5},14,14]
[9,"5",2023,"105469",{"$f":"IFERROR(VLOOKUP(Tabla_SERIED_11_6[[#This Row],[IdEstablecimiento]],'[2]Establecimiento 2023'!$A$1:$E$183,3,FALSE),0)","v":"105469-Posta de Salud Rural El Tambo (Vicuña)"},{"$f":"IFERROR(VLOOKUP(Tabla_SERIED_11_6[[#This Row],[IdEstablecimiento]],'[2]Establecimiento 2023'!$A$1:$E$183,5,FALSE),0)","v":"04106-Vicuña"},"15050200","2023-10-17T14:04:10",1,{"$nulls":8},0,{"$nulls":3},1]
[9,"5",2023,"105470",{"$f":"IFERROR(VLOOKUP(Tabla_SERIED_11_6[[#This Row],[IdEstablecimiento]],'[2]Establecimiento 2023'!$A$1:$E$183,3,FALSE),0)","v":"105470-Posta de Salud Rural Huanta"},{"$f":"IFERROR(VLOOKUP(Tabla_SERIED_11_6[[#This Row],[IdEstablecimiento]],'[2]Establecimiento 2023'!$A$1:$E$183,5,FALSE),0)","v":"04106-Vicuña"},"16100300","2023-10-17T14:05:30",7,3,4]
[9,"5",2023,"105471",{"$f":"IFERROR(VLOOKUP(Tabla_SERIED_11_6[[#This Row],[IdEstablecimiento]],'[2]Establecimiento 2023'!$A$1:$E$183,3,FALSE),0)","v":"105471-Posta de Salud Rural Peralillo Vicuña"},{"$f":"IFERROR(VLOOKUP(Tabla_SERIED_11_6[[#This Row],[IdEstablecimiento]],'[2]Establecimiento 2023'!$A$1:$E$183,5,FALSE),0)","v":"04106-Vicuña"},"15080015","2023-10-17T14:05:27",32,{"$nulls":5},24,8]
[9,"5",2023,"105475",{"$f":"IFERROR(VLOOKUP(Tabla_SERIED_11_6[[#This Row],[IdEstablecimiento]],'[2]Establecimiento 2023'!$A$1:$E$183,3,FALSE),0)","v":"105475-Posta de Salud Rural Horcón (Paiguano)"},{"$f":"IFERROR(VLOOKUP(Tabla_SERIED_11_6[[#This Row],[IdEstablecimiento]],'[2]Establecimiento 2023'!$A$1:$E$183,5,FALSE),0)","v":"04105-Paihuano"},"15080015","2023-10-17T17:06:01",4,{"$nulls":5},2,2]
[9,"5",2023,"105478",{"$f":"IFERROR(VLOOKUP(Tabla_SERIED_11_6[[#This Row],[IdEstablecimiento]],'[2]Establecimiento 2023'!$A$1:$E$183,3,FALSE),0)","v":"105478-Posta de Salud Rural Caimanes"},{"$f":"IFERROR(VLOOKUP(Tabla_SERIED_11_6[[#This Row],[IdEstablecimiento]],'[2]Establecimiento 2023'!$A$1:$E$183,5,FALSE),0)","v":"04203-Los Vilos"},"15010500","2023-10-17T14:41:36",2,{"$nulls":4},2]
[9,"5",2023,"105478",{"$f":"IFERROR(VLOOKUP(Tabla_SERIED_11_6[[#This Row],[IdEstablecimiento]],'[2]Establecimiento 2023'!$A$1:$E$183,3,FALSE),0)","v":"105478-Posta de Salud Rural Caimanes"},{"$f":"IFERROR(VLOOKUP(Tabla_SERIED_11_6[[#This Row],[IdEstablecimiento]],'[2]Establecimiento 2023'!$A$1:$E$183,5,FALSE),0)","v":"04203-Los Vilos"},"15050200","2023-10-17T14:41:36",1,1,0,{"$nulls":4},1]
[9,"5",2023,"105479",{"$f":"IFERROR(VLOOKUP(Tabla_SERIED_11_6[[#This Row],[IdEstablecimiento]],'[2]Establecimiento 2023'!$A$1:$E$183,3,FALSE),0)","v":"105479-Posta de Salud Rural Guangualí"},{"$f":"IFERROR(VLOOKUP(Tabla_SERIED_11_6[[#This Row],[IdEstablecimiento]],'[2]Establecimiento 2023'!$A$1:$E$183,5,FALSE),0)","v":"04203-Los Vilos"},"16200220","2023-10-17T14:41:33",1,0,1]
[9,"5",2023,"105480",{"$f":"IFERROR(VLOOKUP(Tabla_SERIED_11_6[[#This Row],[IdEstablecimiento]],'[2]Establecimiento 2023'!$A$1:$E$183,3,FALSE),0)","v":"105480-Posta de Salud Rural Quilimarí"},{"$f":"IFERROR(VLOOKUP(Tabla_SERIED_11_6[[#This Row],[IdEstablecimiento]],'[2]Establecimiento 2023'!$A$1:$E$183,5,FALSE),0)","v":"04203-Los Vilos"},"15900050","2023-10-17T14:44:35",1,1,0,null,null,1]
[9,"5",2023,"105476",{"$f":"IFERROR(VLOOKUP(Tabla_SERIED_11_6[[#This Row],[IdEstablecimiento]],'[2]Establecimiento 2023'!$A$1:$E$183,3,FALSE),0)","v":"105476-Posta de Salud Rural Monte Grande"},{"$f":"IFERROR(VLOOKUP(Tabla_SERIED_11_6[[#This Row],[IdEstablecimiento]],'[2]Establecimiento 2023'!$A$1:$E$183,5,FALSE),0)","v":"04105-Paihuano"},"15010200","2023-11-22T13:06:48",7,{"$nulls":6},7]
[9,"5",2023,"105482",{"$f":"IFERROR(VLOOKUP(Tabla_SERIED_11_6[[#This Row],[IdEstablecimiento]],'[2]Establecimiento 2023'!$A$1:$E$183,3,FALSE),0)","v":"105482-Posta de Salud Rural Canela Alta"},{"$f":"IFERROR(VLOOKUP(Tabla_SERIED_11_6[[#This Row],[IdEstablecimiento]],'[2]Establecimiento 2023'!$A$1:$E$183,5,FALSE),0)","v":"04202-Canela"},"15080014","2023-10-17T14:45:43",6,{"$nulls":3},4,2]
[9,"5",2023,"105483",{"$f":"IFERROR(VLOOKUP(Tabla_SERIED_11_6[[#This Row],[IdEstablecimiento]],'[2]Establecimiento 2023'!$A$1:$E$183,3,FALSE),0)","v":"105483-Posta de Salud Rural Los Rulos"},{"$f":"IFERROR(VLOOKUP(Tabla_SERIED_11_6[[#This Row],[IdEstablecimiento]],'[2]Establecimiento 2023'!$A$1:$E$183,5,FALSE),0)","v":"04202-Canela"},"15080015","2023-10-17T14:45:41",4,{"$nulls":6},4]
[9,"5",2023,"105483",{"$f":"IFERROR(VLOOKUP(Tabla_SERIED_11_6[[#This Row],[IdEstablecimiento]],'[2]Establecimiento 2023'!$A$1:$E$183,3,FALSE),0)","v":"105483-Posta de Salud Rural Los Rulos"},{"$f":"IFERROR(VLOOKUP(Tabla_SERIED_11_6[[#This Row],[IdEstablecimiento]],'[2]Establecimiento 2023'!$A$1:$E$183,5,FALSE),0)","v":"04202-Canela"},"16090300","2023-10-17T14:45:41",34,34]
[9,"5",2023,"105485",{"$f":"IFERROR(VLOOKUP(Tabla_SERIED_11_6[[#This Row],[IdEstablecimiento]],'[2]Establecimiento 2023'!$A$1:$E$183,3,FALSE),0)","v":"105485-Posta de Salud Rural Plan de Hornos"},{"$f":"IFERROR(VLOOKUP(Tabla_SERIED_11_6[[#This Row],[IdEstablecimiento]],'[2]Establecimiento 2023'!$A$1:$E$183,5,FALSE),0)","v":"04201-Illapel"},"15900010","2023-10-17T14:46:57",3.2,null,3.2]
[9,"5",2023,"105486",{"$f":"IFERROR(VLOOKUP(Tabla_SERIED_11_6[[#This Row],[IdEstablecimiento]],'[2]Establecimiento 2023'!$A$1:$E$183,3,FALSE),0)","v":"105486-Posta de Salud Rural Tunga Sur"},{"$f":"IFERROR(VLOOKUP(Tabla_SERIED_11_6[[#This Row],[IdEstablecimiento]],'[2]Establecimiento 2023'!$A$1:$E$183,5,FALSE),0)","v":"04201-Illapel"},"16100300","2023-10-17T14:48:59",54,24,30]
[9,"5",2023,"105487",{"$f":"IFERROR(VLOOKUP(Tabla_SERIED_11_6[[#This Row],[IdEstablecimiento]],'[2]Establecimiento 2023'!$A$1:$E$183,3,FALSE),0)","v":"105487-Posta de Salud Rural Cañas Uno"},{"$f":"IFERROR(VLOOKUP(Tabla_SERIED_11_6[[#This Row],[IdEstablecimiento]],'[2]Establecimiento 2023'!$A$1:$E$183,5,FALSE),0)","v":"04201-Illapel"},"15080008","2023-10-17T14:48:51",11,{"$nulls":7},5,null,4,null,2]
[9,"5",2023,"105488",{"$f":"IFERROR(VLOOKUP(Tabla_SERIED_11_6[[#This Row],[IdEstablecimiento]],'[2]Establecimiento 2023'!$A$1:$E$183,3,FALSE),0)","v":"105488-Posta de Salud Rural Espíritu Santo"},{"$f":"IFERROR(VLOOKUP(Tabla_SERIED_11_6[[#This Row],[IdEstablecimiento]],'[2]Establecimiento 2023'!$A$1:$E$183,5,FALSE),0)","v":"04202-Canela"},"15050100","2023-10-17T14:50:15",3,3,1,{"$nulls":3},1,1,1]
[9,"5",2023,"105489",{"$f":"IFERROR(VLOOKUP(Tabla_SERIED_11_6[[#This Row],[IdEstablecimiento]],'[2]Establecimiento 2023'!$A$1:$E$183,3,FALSE),0)","v":"105489-Posta de Salud Rural Ramadas de Tulahuén"},{"$f":"IFERROR(VLOOKUP(Tabla_SERIED_11_6[[#This Row],[IdEstablecimiento]],'[2]Establecimiento 2023'!$A$1:$E$183,5,FALSE),0)","v":"04303-Monte Patria"},"16200210","2023-10-17T14:50:18",4,4]
[9,"5",2023,"105490",{"$f":"IFERROR(VLOOKUP(Tabla_SERIED_11_6[[#This Row],[IdEstablecimiento]],'[2]Establecimiento 2023'!$A$1:$E$183,3,FALSE),0)","v":"105490-Posta de Salud Rural El Durazno(Combarbalá)"},{"$f":"IFERROR(VLOOKUP(Tabla_SERIED_11_6[[#This Row],[IdEstablecimiento]],'[2]Establecimiento 2023'!$A$1:$E$183,5,FALSE),0)","v":"04302-Combarbalá"},"15080014","2023-10-17T14:51:41",4,{"$nulls":3},4]
[9,"5",2023,"105491",{"$f":"IFERROR(VLOOKUP(Tabla_SERIED_11_6[[#This Row],[IdEstablecimiento]],'[2]Establecimiento 2023'!$A$1:$E$183,3,FALSE),0)","v":"105491-Posta de Salud Rural Quelén Bajo"},{"$f":"IFERROR(VLOOKUP(Tabla_SERIED_11_6[[#This Row],[IdEstablecimiento]],'[2]Establecimiento 2023'!$A$1:$E$183,5,FALSE),0)","v":"04204-Salamanca"},"15080016","2023-10-17T14:51:37",6,{"$nulls":5},2,4]
[9,"5",2023,"105492",{"$f":"IFERROR(VLOOKUP(Tabla_SERIED_11_6[[#This Row],[IdEstablecimiento]],'[2]Establecimiento 2023'!$A$1:$E$183,3,FALSE),0)","v":"105492-Posta de Salud Rural Camisa"},{"$f":"IFERROR(VLOOKUP(Tabla_SERIED_11_6[[#This Row],[IdEstablecimiento]],'[2]Establecimiento 2023'!$A$1:$E$183,5,FALSE),0)","v":"04204-Salamanca"},"16100300","2023-10-17T14:54:13",53,26,27]
[9,"5",2023,"105496",{"$f":"IFERROR(VLOOKUP(Tabla_SERIED_11_6[[#This Row],[IdEstablecimiento]],'[2]Establecimiento 2023'!$A$1:$E$183,3,FALSE),0)","v":"105496-Posta de Salud Rural Pintacura Sur"},{"$f":"IFERROR(VLOOKUP(Tabla_SERIED_11_6[[#This Row],[IdEstablecimiento]],'[2]Establecimiento 2023'!$A$1:$E$183,5,FALSE),0)","v":"04201-Illapel"},"16200220","2023-10-17T14:56:55",10,7,3]
[9,"5",2023,"105497",{"$f":"IFERROR(VLOOKUP(Tabla_SERIED_11_6[[#This Row],[IdEstablecimiento]],'[2]Establecimiento 2023'!$A$1:$E$183,3,FALSE),0)","v":"105497-Posta de Salud Rural Jabonería"},{"$f":"IFERROR(VLOOKUP(Tabla_SERIED_11_6[[#This Row],[IdEstablecimiento]],'[2]Establecimiento 2023'!$A$1:$E$183,5,FALSE),0)","v":"04202-Canela"},"15050100","2023-10-17T14:56:58",1,1,{"$nulls":6},1]
[9,"5",2023,"105499",{"$f":"IFERROR(VLOOKUP(Tabla_SERIED_11_6[[#This Row],[IdEstablecimiento]],'[2]Establecimiento 2023'!$A$1:$E$183,3,FALSE),0)","v":"105499-Posta de Salud Rural Lambert"},{"$f":"IFERROR(VLOOKUP(Tabla_SERIED_11_6[[#This Row],[IdEstablecimiento]],'[2]Establecimiento 2023'!$A$1:$E$183,5,FALSE),0)","v":"04101-La Serena"},"15900010","2023-10-17T15:02:58",9.6,null,1.6,8]
[9,"5",2023,"105503",{"$f":"IFERROR(VLOOKUP(Tabla_SERIED_11_6[[#This Row],[IdEstablecimiento]],'[2]Establecimiento 2023'!$A$1:$E$183,3,FALSE),0)","v":"105503-Posta de Salud Rural Tabaqueros"},{"$f":"IFERROR(VLOOKUP(Tabla_SERIED_11_6[[#This Row],[IdEstablecimiento]],'[2]Establecimiento 2023'!$A$1:$E$183,5,FALSE),0)","v":"04305-Rio Hurtado"},"15010500","2023-10-17T15:08:35",2,{"$nulls":6},2]
[9,"5",2023,"105503",{"$f":"IFERROR(VLOOKUP(Tabla_SERIED_11_6[[#This Row],[IdEstablecimiento]],'[2]Establecimiento 2023'!$A$1:$E$183,3,FALSE),0)","v":"105503-Posta de Salud Rural Tabaqueros"},{"$f":"IFERROR(VLOOKUP(Tabla_SERIED_11_6[[#This Row],[IdEstablecimiento]],'[2]Establecimiento 2023'!$A$1:$E$183,5,FALSE),0)","v":"04305-Rio Hurtado"},"15080016","2023-10-17T15:08:35",2,{"$nulls":6},2]
[9,"5",2023,"105505",{"$f":"IFERROR(VLOOKUP(Tabla_SERIED_11_6[[#This Row],[IdEstablecimiento]],'[2]Establecimiento 2023'!$A$1:$E$183,3,FALSE),0)","v":"105505-Posta de Salud Rural Los Choros"},{"$f":"IFERROR(VLOOKUP(Tabla_SERIED_11_6[[#This Row],[IdEstablecimiento]],'[2]Establecimiento 2023'!$A$1:$E$183,5,FALSE),0)","v":"04104-La Higuera"},"15010500","2023-10-17T15:13:21",2,{"$nulls":5},2]
[9,"5",2023,"105505",{"$f":"IFERROR(VLOOKUP(Tabla_SERIED_11_6[[#This Row],[IdEstablecimiento]],'[2]Establecimiento 2023'!$A$1:$E$183,3,FALSE),0)","v":"105505-Posta de Salud Rural Los Choros"},{"$f":"IFERROR(VLOOKUP(Tabla_SERIED_11_6[[#This Row],[IdEstablecimiento]],'[2]Establecimiento 2023'!$A$1:$E$183,5,FALSE),0)","v":"04104-La Higuera"},"15080008","2023-10-17T15:13:21",3,{"$nulls":7},3]
[9,"5",2023,"105505",{"$f":"IFERROR(VLOOKUP(Tabla_SERIED_11_6[[#This Row],[IdEstablecimiento]],'[2]Establecimiento 2023'!$A$1:$E$183,3,FALSE),0)","v":"105505-Posta de Salud Rural Los Choros"},{"$f":"IFERROR(VLOOKUP(Tabla_SERIED_11_6[[#This Row],[IdEstablecimiento]],'[2]Establecimiento 2023'!$A$1:$E$183,5,FALSE),0)","v":"04104-La Higuera"},"15080016","2023-10-17T15:13:21",2,{"$nulls":5},2]
[9,"5",2023,"105506",{"$f":"IFERROR(VLOOKUP(Tabla_SERIED_11_6[[#This Row],[IdEstablecimiento]],'[2]Establecimiento 2023'!$A$1:$E$183,3,FALSE),0)","v":"105506-Posta de Salud Rural El Trapiche"},{"$f":"IFERROR(VLOOKUP(Tabla_SERIED_11_6[[#This Row],[IdEstablecimiento]],'[2]Establecimiento 2023'!$A$1:$E$183,5,FALSE),0)","v":"04104-La Higuera"},"15050200","2023-10-17T15:15:20",1,1,{"$nulls":5},1]
[9,"5",2023,"105507",{"$f":"IFERROR(VLOOKUP(Tabla_SERIED_11_6[[#This Row],[IdEstablecimiento]],'[2]Establecimiento 2023'!$A$1:$E$183,3,FALSE),0)","v":"105507-Posta de Salud Rural Huamalata"},{"$f":"IFERROR(VLOOKUP(Tabla_SERIED_11_6[[#This Row],[IdEstablecimiento]],'[2]Establecimiento 2023'!$A$1:$E$183,5,FALSE),0)","v":"04301-Ovalle"},"15080014","2023-10-17T15:33:07",18,{"$nulls":3},6,12]
[9,"5",2023,"105507",{"$f":"IFERROR(VLOOKUP(Tabla_SERIED_11_6[[#This Row],[IdEstablecimiento]],'[2]Establecimiento 2023'!$A$1:$E$183,3,FALSE),0)","v":"105507-Posta de Salud Rural Huamalata"},{"$f":"IFERROR(VLOOKUP(Tabla_SERIED_11_6[[#This Row],[IdEstablecimiento]],'[2]Establecimiento 2023'!$A$1:$E$183,5,FALSE),0)","v":"04301-Ovalle"},"15900010","2023-10-17T15:33:07",8.8,null,3.2,5.6]
[9,"5",2023,"105507",{"$f":"IFERROR(VLOOKUP(Tabla_SERIED_11_6[[#This Row],[IdEstablecimiento]],'[2]Establecimiento 2023'!$A$1:$E$183,3,FALSE),0)","v":"105507-Posta de Salud Rural Huamalata"},{"$f":"IFERROR(VLOOKUP(Tabla_SERIED_11_6[[#This Row],[IdEstablecimiento]],'[2]Establecimiento 2023'!$A$1:$E$183,5,FALSE),0)","v":"04301-Ovalle"},"16200230","2023-10-17T15:33:07",5,4,1]
[9,"5",2023,"105509",{"$f":"IFERROR(VLOOKUP(Tabla_SERIED_11_6[[#This Row],[IdEstablecimiento]],'[2]Establecimiento 2023'!$A$1:$E$183,3,FALSE),0)","v":"105509-Posta de Salud Rural Gualliguaica"},{"$f":"IFERROR(VLOOKUP(Tabla_SERIED_11_6[[#This Row],[IdEstablecimiento]],'[2]Establecimiento 2023'!$A$1:$E$183,5,FALSE),0)","v":"04106-Vicuña"},"16100300","2023-10-17T15:34:26",24,9,15]
[9,"5",2023,"105510",{"$f":"IFERROR(VLOOKUP(Tabla_SERIED_11_6[[#This Row],[IdEstablecimiento]],'[2]Establecimiento 2023'!$A$1:$E$183,3,FALSE),0)","v":"105510-Posta de Salud Rural Recoleta"},{"$f":"IFERROR(VLOOKUP(Tabla_SERIED_11_6[[#This Row],[IdEstablecimiento]],'[2]Establecimiento 2023'!$A$1:$E$183,5,FALSE),0)","v":"04301-Ovalle"},"16100300","2023-10-17T15:34:58",114,59,55]
[9,"5",2023,"105511",{"$f":"IFERROR(VLOOKUP(Tabla_SERIED_11_6[[#This Row],[IdEstablecimiento]],'[2]Establecimiento 2023'!$A$1:$E$183,3,FALSE),0)","v":"105511-Posta de Salud Rural Los Cóndores"},{"$f":"IFERROR(VLOOKUP(Tabla_SERIED_11_6[[#This Row],[IdEstablecimiento]],'[2]Establecimiento 2023'!$A$1:$E$183,5,FALSE),0)","v":"04203-Los Vilos"},"15080014","2023-10-17T15:35:31",18,{"$nulls":3},8,10]
[9,"5",2023,"105700",{"$f":"IFERROR(VLOOKUP(Tabla_SERIED_11_6[[#This Row],[IdEstablecimiento]],'[2]Establecimiento 2023'!$A$1:$E$183,3,FALSE),0)","v":"105700-Centro Comunitario de Salud Familiar Villa el Indio"},{"$f":"IFERROR(VLOOKUP(Tabla_SERIED_11_6[[#This Row],[IdEstablecimiento]],'[2]Establecimiento 2023'!$A$1:$E$183,5,FALSE),0)","v":"04101-La Serena"},"15080008","2023-10-17T15:36:26",8,{"$nulls":7},2,null,4,null,2]
[9,"5",2023,"105702",{"$f":"IFERROR(VLOOKUP(Tabla_SERIED_11_6[[#This Row],[IdEstablecimiento]],'[2]Establecimiento 2023'!$A$1:$E$183,3,FALSE),0)","v":"105702-Centro Comunitario de Salud Familiar Lambert"},{"$f":"IFERROR(VLOOKUP(Tabla_SERIED_11_6[[#This Row],[IdEstablecimiento]],'[2]Establecimiento 2023'!$A$1:$E$183,5,FALSE),0)","v":"04101-La Serena"},"15050100","2023-10-17T15:37:26",62,23,39,null,1,3,11,5,17,9,13,null,3]
[9,"5",2023,"105723",{"$f":"IFERROR(VLOOKUP(Tabla_SERIED_11_6[[#This Row],[IdEstablecimiento]],'[2]Establecimiento 2023'!$A$1:$E$183,3,FALSE),0)","v":"105723-Centro Comunitario de Salud Familiar Limarí"},{"$f":"IFERROR(VLOOKUP(Tabla_SERIED_11_6[[#This Row],[IdEstablecimiento]],'[2]Establecimiento 2023'!$A$1:$E$183,5,FALSE),0)","v":"04301-Ovalle"},"15080008","2023-10-17T15:39:00",18,{"$nulls":7},11,null,4,1,2]
[9,"5",2023,"105723",{"$f":"IFERROR(VLOOKUP(Tabla_SERIED_11_6[[#This Row],[IdEstablecimiento]],'[2]Establecimiento 2023'!$A$1:$E$183,3,FALSE),0)","v":"105723-Centro Comunitario de Salud Familiar Limarí"},{"$f":"IFERROR(VLOOKUP(Tabla_SERIED_11_6[[#This Row],[IdEstablecimiento]],'[2]Establecimiento 2023'!$A$1:$E$183,5,FALSE),0)","v":"04301-Ovalle"},"15080019","2023-10-17T15:39:00",2,{"$nulls":5},2]
[9,"5",2023,"200258",{"$f":"IFERROR(VLOOKUP(Tabla_SERIED_11_6[[#This Row],[IdEstablecimiento]],'[2]Establecimiento 2023'!$A$1:$E$183,3,FALSE),0)","v":"200258-Centro Comunitario de Salud Familiar Los Copihues"},{"$f":"IFERROR(VLOOKUP(Tabla_SERIED_11_6[[#This Row],[IdEstablecimiento]],'[2]Establecimiento 2023'!$A$1:$E$183,5,FALSE),0)","v":"04301-Ovalle"},"15080008","2023-10-17T15:40:47",16,{"$nulls":7},5,null,4,3,4]
[9,"5",2023,"200366",{"$f":"IFERROR(VLOOKUP(Tabla_SERIED_11_6[[#This Row],[IdEstablecimiento]],'[2]Establecimiento 2023'!$A$1:$E$183,3,FALSE),0)","v":"200366-Centro de Salud Familiar Urbano de Illapel"},{"$f":"IFERROR(VLOOKUP(Tabla_SERIED_11_6[[#This Row],[IdEstablecimiento]],'[2]Establecimiento 2023'!$A$1:$E$183,5,FALSE),0)","v":"04201-Illapel"},"15080016","2023-10-17T15:41:37",40,{"$nulls":3},10,4,22,4]
[9,"5",2023,"200366",{"$f":"IFERROR(VLOOKUP(Tabla_SERIED_11_6[[#This Row],[IdEstablecimiento]],'[2]Establecimiento 2023'!$A$1:$E$183,3,FALSE),0)","v":"200366-Centro de Salud Familiar Urbano de Illapel"},{"$f":"IFERROR(VLOOKUP(Tabla_SERIED_11_6[[#This Row],[IdEstablecimiento]],'[2]Establecimiento 2023'!$A$1:$E$183,5,FALSE),0)","v":"04201-Illapel"},"15900030","2023-10-17T15:41:37",3.2,{"$nulls":3},3.2]
[9,"5",2023,"200367",{"$f":"IFERROR(VLOOKUP(Tabla_SERIED_11_6[[#This Row],[IdEstablecimiento]],'[2]Establecimiento 2023'!$A$1:$E$183,3,FALSE),0)","v":"200367-Centro Comunitario de Salud Familiar Colonia Limarí"},{"$f":"IFERROR(VLOOKUP(Tabla_SERIED_11_6[[#This Row],[IdEstablecimiento]],'[2]Establecimiento 2023'!$A$1:$E$183,5,FALSE),0)","v":"04301-Ovalle"},"15050100","2023-10-17T15:42:04",52,20,32,1,null,1,7,8,10,14,4,null,5,1,1]
[9,"5",2023,"200367",{"$f":"IFERROR(VLOOKUP(Tabla_SERIED_11_6[[#This Row],[IdEstablecimiento]],'[2]Establecimiento 2023'!$A$1:$E$183,3,FALSE),0)","v":"200367-Centro Comunitario de Salud Familiar Colonia Limarí"},{"$f":"IFERROR(VLOOKUP(Tabla_SERIED_11_6[[#This Row],[IdEstablecimiento]],'[2]Establecimiento 2023'!$A$1:$E$183,5,FALSE),0)","v":"04301-Ovalle"},"15080014","2023-10-17T15:42:04",30,{"$nulls":3},14,16]
[9,"5",2023,"200367",{"$f":"IFERROR(VLOOKUP(Tabla_SERIED_11_6[[#This Row],[IdEstablecimiento]],'[2]Establecimiento 2023'!$A$1:$E$183,3,FALSE),0)","v":"200367-Centro Comunitario de Salud Familiar Colonia Limarí"},{"$f":"IFERROR(VLOOKUP(Tabla_SERIED_11_6[[#This Row],[IdEstablecimiento]],'[2]Establecimiento 2023'!$A$1:$E$183,5,FALSE),0)","v":"04301-Ovalle"},"15080016","2023-10-17T15:42:04",2,{"$nulls":6},2]
[9,"5",2023,"200367",{"$f":"IFERROR(VLOOKUP(Tabla_SERIED_11_6[[#This Row],[IdEstablecimiento]],'[2]Establecimiento 2023'!$A$1:$E$183,3,FALSE),0)","v":"200367-Centro Comunitario de Salud Familiar Colonia Limarí"},{"$f":"IFERROR(VLOOKUP(Tabla_SERIED_11_6[[#This Row],[IdEstablecimiento]],'[2]Establecimiento 2023'!$A$1:$E$183,5,FALSE),0)","v":"04301-Ovalle"},"15900010","2023-10-17T15:42:04",2.4,0.8,null,1.6]
[9,"5",2023,"200402",{"$f":"IFERROR(VLOOKUP(Tabla_SERIED_11_6[[#This Row],[IdEstablecimiento]],'[2]Establecimiento 2023'!$A$1:$E$183,3,FALSE),0)","v":"200402-Centro Comunitario de Salud Familiar Arcos de Pinamar"},{"$f":"IFERROR(VLOOKUP(Tabla_SERIED_11_6[[#This Row],[IdEstablecimiento]],'[2]Establecimiento 2023'!$A$1:$E$183,5,FALSE),0)","v":"04101-La Serena"},"15050100","2023-10-17T15:43:12",94,43,51,2,6,6,10,6,16,17,14,null,8,4,5]
[9,"5",2023,"200494",{"$f":"IFERROR(VLOOKUP(Tabla_SERIED_11_6[[#This Row],[IdEstablecimiento]],'[2]Establecimiento 2023'!$A$1:$E$183,3,FALSE),0)","v":"200494-Centro de Salud Familiar El Sauce"},{"$f":"IFERROR(VLOOKUP(Tabla_SERIED_11_6[[#This Row],[IdEstablecimiento]],'[2]Establecimiento 2023'!$A$1:$E$183,5,FALSE),0)","v":"04102-Coquimbo"},"15080008","2023-10-17T15:43:08",162,{"$nulls":7},60,null,64,18,20]
[9,"5",2023,"200494",{"$f":"IFERROR(VLOOKUP(Tabla_SERIED_11_6[[#This Row],[IdEstablecimiento]],'[2]Establecimiento 2023'!$A$1:$E$183,3,FALSE),0)","v":"200494-Centro de Salud Familiar El Sauce"},{"$f":"IFERROR(VLOOKUP(Tabla_SERIED_11_6[[#This Row],[IdEstablecimiento]],'[2]Establecimiento 2023'!$A$1:$E$183,5,FALSE),0)","v":"04102-Coquimbo"},"15080015","2023-10-17T15:43:08",440,{"$nulls":5},250,190]
[9,"5",2023,"200494",{"$f":"IFERROR(VLOOKUP(Tabla_SERIED_11_6[[#This Row],[IdEstablecimiento]],'[2]Establecimiento 2023'!$A$1:$E$183,3,FALSE),0)","v":"200494-Centro de Salud Familiar El Sauce"},{"$f":"IFERROR(VLOOKUP(Tabla_SERIED_11_6[[#This Row],[IdEstablecimiento]],'[2]Establecimiento 2023'!$A$1:$E$183,5,FALSE),0)","v":"04102-Coquimbo"},"15901400","2023-10-17T15:43:08",2,1,1,null,null,2]
[9,"5",2023,"200494",{"$f":"IFERROR(VLOOKUP(Tabla_SERIED_11_6[[#This Row],[IdEstablecimiento]],'[2]Establecimiento 2023'!$A$1:$E$183,3,FALSE),0)","v":"200494-Centro de Salud Familiar El Sauce"},{"$f":"IFERROR(VLOOKUP(Tabla_SERIED_11_6[[#This Row],[IdEstablecimiento]],'[2]Establecimiento 2023'!$A$1:$E$183,5,FALSE),0)","v":"04102-Coquimbo"},"16200230","2023-10-17T15:43:08",4,2,2]
[9,"5",2023,"200499",{"$f":"IFERROR(VLOOKUP(Tabla_SERIED_11_6[[#This Row],[IdEstablecimiento]],'[2]Establecimiento 2023'!$A$1:$E$183,3,FALSE),0)","v":"200499-Centro de Salud Familiar Rural Pan de Azúcar"},{"$f":"IFERROR(VLOOKUP(Tabla_SERIED_11_6[[#This Row],[IdEstablecimiento]],'[2]Establecimiento 2023'!$A$1:$E$183,5,FALSE),0)","v":"04102-Coquimbo"},"15900010","2023-10-17T15:43:43",132.8,11.2,27.2,94.4]
[9,"5",2023,"200499",{"$f":"IFERROR(VLOOKUP(Tabla_SERIED_11_6[[#This Row],[IdEstablecimiento]],'[2]Establecimiento 2023'!$A$1:$E$183,3,FALSE),0)","v":"200499-Centro de Salud Familiar Rural Pan de Azúcar"},{"$f":"IFERROR(VLOOKUP(Tabla_SERIED_11_6[[#This Row],[IdEstablecimiento]],'[2]Establecimiento 2023'!$A$1:$E$183,5,FALSE),0)","v":"04102-Coquimbo"},"16090300","2023-10-17T15:43:43",417,417]
[9,"5",2023,"200499",{"$f":"IFERROR(VLOOKUP(Tabla_SERIED_11_6[[#This Row],[IdEstablecimiento]],'[2]Establecimiento 2023'!$A$1:$E$183,3,FALSE),0)","v":"200499-Centro de Salud Familiar Rural Pan de Azúcar"},{"$f":"IFERROR(VLOOKUP(Tabla_SERIED_11_6[[#This Row],[IdEstablecimiento]],'[2]Establecimiento 2023'!$A$1:$E$183,5,FALSE),0)","v":"04102-Coquimbo"},"16200220","2023-10-17T15:43:43",43,20,23]
[9,"5",2023,"200538",{"$f":"IFERROR(VLOOKUP(Tabla_SERIED_11_6[[#This Row],[IdEstablecimiento]],'[2]Establecimiento 2023'!$A$1:$E$183,3,FALSE),0)","v":"200538-Centro de Salud Familiar San Isidro Calingasta"},{"$f":"IFERROR(VLOOKUP(Tabla_SERIED_11_6[[#This Row],[IdEstablecimiento]],'[2]Establecimiento 2023'!$A$1:$E$183,5,FALSE),0)","v":"04106-Vicuña"},"15010500","2023-10-17T15:45:21",10,{"$nulls":4},2,6,2]
[9,"5",2023,"200538",{"$f":"IFERROR(VLOOKUP(Tabla_SERIED_11_6[[#This Row],[IdEstablecimiento]],'[2]Establecimiento 2023'!$A$1:$E$183,3,FALSE),0)","v":"200538-Centro de Salud Familiar San Isidro Calingasta"},{"$f":"IFERROR(VLOOKUP(Tabla_SERIED_11_6[[#This Row],[IdEstablecimiento]],'[2]Establecimiento 2023'!$A$1:$E$183,5,FALSE),0)","v":"04106-Vicuña"},"15050100","2023-10-17T15:45:21",110,48,62,2,2,5,11,20,41,14,6,null,2,5,2]
[9,"5",2023,"105105",{"$f":"IFERROR(VLOOKUP(Tabla_SERIED_11_6[[#This Row],[IdEstablecimiento]],'[2]Establecimiento 2023'!$A$1:$E$183,3,FALSE),0)","v":"105105-Hospital San Juan de Dios (Combarbalá)"},{"$f":"IFERROR(VLOOKUP(Tabla_SERIED_11_6[[#This Row],[IdEstablecimiento]],'[2]Establecimiento 2023'!$A$1:$E$183,5,FALSE),0)","v":"105105-Hospital Combarbalá"},"16090300","2023-10-17T09:51:49",373,373]
[9,"5",2023,"105106",{"$f":"IFERROR(VLOOKUP(Tabla_SERIED_11_6[[#This Row],[IdEstablecimiento]],'[2]Establecimiento 2023'!$A$1:$E$183,3,FALSE),0)","v":"105106-Hospital Dr. José Arraño (Andacollo)"},{"$f":"IFERROR(VLOOKUP(Tabla_SERIED_11_6[[#This Row],[IdEstablecimiento]],'[2]Establecimiento 2023'!$A$1:$E$183,5,FALSE),0)","v":"105106-Hospital Andacollo"},"15080008","2023-10-17T09:51:53",37,{"$nulls":7},22,null,6,7,2]
[9,"5",2023,"105107",{"$f":"IFERROR(VLOOKUP(Tabla_SERIED_11_6[[#This Row],[IdEstablecimiento]],'[2]Establecimiento 2023'!$A$1:$E$183,3,FALSE),0)","v":"105107-Hospital San Juan de Dios (Vicuña)"},{"$f":"IFERROR(VLOOKUP(Tabla_SERIED_11_6[[#This Row],[IdEstablecimiento]],'[2]Establecimiento 2023'!$A$1:$E$183,5,FALSE),0)","v":"105107-Hospital Vicuña"},"15901200","2023-10-17T09:53:51",4,{"$nulls":3},4]
[9,"5",2023,"105300",{"$f":"IFERROR(VLOOKUP(Tabla_SERIED_11_6[[#This Row],[IdEstablecimiento]],'[2]Establecimiento 2023'!$A$1:$E$183,3,FALSE),0)","v":"105300-Centro de Salud Familiar Cardenal Caro"},{"$f":"IFERROR(VLOOKUP(Tabla_SERIED_11_6[[#This Row],[IdEstablecimiento]],'[2]Establecimiento 2023'!$A$1:$E$183,5,FALSE),0)","v":"04101-La Serena"},"15080008","2023-10-17T09:56:24",162,{"$nulls":7},68,null,56,3,35]
[9,"5",2023,"105300",{"$f":"IFERROR(VLOOKUP(Tabla_SERIED_11_6[[#This Row],[IdEstablecimiento]],'[2]Establecimiento 2023'!$A$1:$E$183,3,FALSE),0)","v":"105300-Centro de Salud Familiar Cardenal Caro"},{"$f":"IFERROR(VLOOKUP(Tabla_SERIED_11_6[[#This Row],[IdEstablecimiento]],'[2]Establecimiento 2023'!$A$1:$E$183,5,FALSE),0)","v":"04101-La Serena"},"15080016","2023-10-17T09:56:24",2,{"$nulls":3},2]
[9,"5",2023,"105300",{"$f":"IFERROR(VLOOKUP(Tabla_SERIED_11_6[[#This Row],[IdEstablecimiento]],'[2]Establecimiento 2023'!$A$1:$E$183,3,FALSE),0)","v":"105300-Centro de Salud Familiar Cardenal Caro"},{"$f":"IFERROR(VLOOKUP(Tabla_SERIED_11_6[[#This Row],[IdEstablecimiento]],'[2]Establecimiento 2023'!$A$1:$E$183,5,FALSE),0)","v":"04101-La Serena"},"15080019","2023-10-17T09:56:24",36,{"$nulls":5},30,6]
[9,"5",2023,"105300",{"$f":"IFERROR(VLOOKUP(Tabla_SERIED_11_6[[#This Row],[IdEstablecimiento]],'[2]Establecimiento 2023'!$A$1:$E$183,3,FALSE),0)","v":"105300-Centro de Salud Familiar Cardenal Caro"},{"$f":"IFERROR(VLOOKUP(Tabla_SERIED_11_6[[#This Row],[IdEstablecimiento]],'[2]Establecimiento 2023'!$A$1:$E$183,5,FALSE),0)","v":"04101-La Serena"},"16200210","2023-10-17T09:56:24",28,28]
[9,"5",2023,"105301",{"$f":"IFERROR(VLOOKUP(Tabla_SERIED_11_6[[#This Row],[IdEstablecimiento]],'[2]Establecimiento 2023'!$A$1:$E$183,3,FALSE),0)","v":"105301-Centro de Salud Familiar Las Compañías"},{"$f":"IFERROR(VLOOKUP(Tabla_SERIED_11_6[[#This Row],[IdEstablecimiento]],'[2]Establecimiento 2023'!$A$1:$E$183,5,FALSE),0)","v":"04101-La Serena"},"15080015","2023-10-17T09:57:10",293,{"$nulls":5},166,127]
[9,"5",2023,"105302",{"$f":"IFERROR(VLOOKUP(Tabla_SERIED_11_6[[#This Row],[IdEstablecimiento]],'[2]Establecimiento 2023'!$A$1:$E$183,3,FALSE),0)","v":"105302-Centro de Salud Familiar Pedro Aguirre Cerda"},{"$f":"IFERROR(VLOOKUP(Tabla_SERIED_11_6[[#This Row],[IdEstablecimiento]],'[2]Establecimiento 2023'!$A$1:$E$183,5,FALSE),0)","v":"04101-La Serena"},"15050200","2023-10-17T09:56:49",13,8,5,4,null,2,null,2,3,1,null,1]
[9,"5",2023,"105302",{"$f":"IFERROR(VLOOKUP(Tabla_SERIED_11_6[[#This Row],[IdEstablecimiento]],'[2]Establecimiento 2023'!$A$1:$E$183,3,FALSE),0)","v":"105302-Centro de Salud Familiar Pedro Aguirre Cerda"},{"$f":"IFERROR(VLOOKUP(Tabla_SERIED_11_6[[#This Row],[IdEstablecimiento]],'[2]Establecimiento 2023'!$A$1:$E$183,5,FALSE),0)","v":"04101-La Serena"},"15900030","2023-10-17T09:56:49",31.2,null,null,12,4.4,14.8]
[9,"5",2023,"105302",{"$f":"IFERROR(VLOOKUP(Tabla_SERIED_11_6[[#This Row],[IdEstablecimiento]],'[2]Establecimiento 2023'!$A$1:$E$183,3,FALSE),0)","v":"105302-Centro de Salud Familiar Pedro Aguirre Cerda"},{"$f":"IFERROR(VLOOKUP(Tabla_SERIED_11_6[[#This Row],[IdEstablecimiento]],'[2]Establecimiento 2023'!$A$1:$E$183,5,FALSE),0)","v":"04101-La Serena"},"15900050","2023-10-17T09:56:49",17,9,8,1,1,6,3,6]
[9,"5",2023,"105302",{"$f":"IFERROR(VLOOKUP(Tabla_SERIED_11_6[[#This Row],[IdEstablecimiento]],'[2]Establecimiento 2023'!$A$1:$E$183,3,FALSE),0)","v":"105302-Centro de Salud Familiar Pedro Aguirre Cerda"},{"$f":"IFERROR(VLOOKUP(Tabla_SERIED_11_6[[#This Row],[IdEstablecimiento]],'[2]Establecimiento 2023'!$A$1:$E$183,5,FALSE),0)","v":"04101-La Serena"},"16090300","2023-10-17T09:56:49",673,673]
[9,"5",2023,"105304",{"$f":"IFERROR(VLOOKUP(Tabla_SERIED_11_6[[#This Row],[IdEstablecimiento]],'[2]Establecimiento 2023'!$A$1:$E$183,3,FALSE),0)","v":"105304-Centro de Salud Familiar Santa Cecilia"},{"$f":"IFERROR(VLOOKUP(Tabla_SERIED_11_6[[#This Row],[IdEstablecimiento]],'[2]Establecimiento 2023'!$A$1:$E$183,5,FALSE),0)","v":"04102-Coquimbo"},"15050100","2023-10-17T09:59:19",627,229,398,8,18,57,69,70,143,113,92,null,18,6,33]
[9,"5",2023,"105304",{"$f":"IFERROR(VLOOKUP(Tabla_SERIED_11_6[[#This Row],[IdEstablecimiento]],'[2]Establecimiento 2023'!$A$1:$E$183,3,FALSE),0)","v":"105304-Centro de Salud Familiar Santa Cecilia"},{"$f":"IFERROR(VLOOKUP(Tabla_SERIED_11_6[[#This Row],[IdEstablecimiento]],'[2]Establecimiento 2023'!$A$1:$E$183,5,FALSE),0)","v":"04102-Coquimbo"},"15050200","2023-10-17T09:59:19",20,10,10,0,2,7,5,0,4,1,null,1,0,0,0]
[9,"5",2023,"105304",{"$f":"IFERROR(VLOOKUP(Tabla_SERIED_11_6[[#This Row],[IdEstablecimiento]],'[2]Establecimiento 2023'!$A$1:$E$183,3,FALSE),0)","v":"105304-Centro de Salud Familiar Santa Cecilia"},{"$f":"IFERROR(VLOOKUP(Tabla_SERIED_11_6[[#This Row],[IdEstablecimiento]],'[2]Establecimiento 2023'!$A$1:$E$183,5,FALSE),0)","v":"04102-Coquimbo"},"15080018","2023-10-17T09:59:19",8,0,0,0,2,6]
[9,"5",2023,"105304",{"$f":"IFERROR(VLOOKUP(Tabla_SERIED_11_6[[#This Row],[IdEstablecimiento]],'[2]Establecimiento 2023'!$A$1:$E$183,3,FALSE),0)","v":"105304-Centro de Salud Familiar Santa Cecilia"},{"$f":"IFERROR(VLOOKUP(Tabla_SERIED_11_6[[#This Row],[IdEstablecimiento]],'[2]Establecimiento 2023'!$A$1:$E$183,5,FALSE),0)","v":"04102-Coquimbo"},"15900020","2023-10-17T09:59:19",25.6,0,7.2,18.4]
[9,"5",2023,"105305",{"$f":"IFERROR(VLOOKUP(Tabla_SERIED_11_6[[#This Row],[IdEstablecimiento]],'[2]Establecimiento 2023'!$A$1:$E$183,3,FALSE),0)","v":"105305-Centro de Salud Familiar Tierras Blancas"},{"$f":"IFERROR(VLOOKUP(Tabla_SERIED_11_6[[#This Row],[IdEstablecimiento]],'[2]Establecimiento 2023'!$A$1:$E$183,5,FALSE),0)","v":"04102-Coquimbo"},"15060100","2023-10-17T10:00:18",11,4,7,{"$nulls":3},3,2,5,1]
[9,"5",2023,"105306",{"$f":"IFERROR(VLOOKUP(Tabla_SERIED_11_6[[#This Row],[IdEstablecimiento]],'[2]Establecimiento 2023'!$A$1:$E$183,3,FALSE),0)","v":"105306-Centro de Salud Familiar Paihuano"},{"$f":"IFERROR(VLOOKUP(Tabla_SERIED_11_6[[#This Row],[IdEstablecimiento]],'[2]Establecimiento 2023'!$A$1:$E$183,5,FALSE),0)","v":"04105-Paihuano"},"15080008","2023-10-17T10:00:47",13,{"$nulls":7},9,null,2,2]
[9,"5",2023,"105306",{"$f":"IFERROR(VLOOKUP(Tabla_SERIED_11_6[[#This Row],[IdEstablecimiento]],'[2]Establecimiento 2023'!$A$1:$E$183,3,FALSE),0)","v":"105306-Centro de Salud Familiar Paihuano"},{"$f":"IFERROR(VLOOKUP(Tabla_SERIED_11_6[[#This Row],[IdEstablecimiento]],'[2]Establecimiento 2023'!$A$1:$E$183,5,FALSE),0)","v":"04105-Paihuano"},"15080015","2023-10-17T10:00:47",30,{"$nulls":5},16,14]
[9,"5",2023,"105306",{"$f":"IFERROR(VLOOKUP(Tabla_SERIED_11_6[[#This Row],[IdEstablecimiento]],'[2]Establecimiento 2023'!$A$1:$E$183,3,FALSE),0)","v":"105306-Centro de Salud Familiar Paihuano"},{"$f":"IFERROR(VLOOKUP(Tabla_SERIED_11_6[[#This Row],[IdEstablecimiento]],'[2]Establecimiento 2023'!$A$1:$E$183,5,FALSE),0)","v":"04105-Paihuano"},"15900020","2023-10-17T10:00:47",3.2,null,null,3.2]
[9,"5",2023,"105307",{"$f":"IFERROR(VLOOKUP(Tabla_SERIED_11_6[[#This Row],[IdEstablecimiento]],'[2]Establecimiento 2023'!$A$1:$E$183,3,FALSE),0)","v":"105307-Centro de Salud Familiar Monte Patria"},{"$f":"IFERROR(VLOOKUP(Tabla_SERIED_11_6[[#This Row],[IdEstablecimiento]],'[2]Establecimiento 2023'!$A$1:$E$183,5,FALSE),0)","v":"04303-Monte Patria"},"15050200","2023-10-17T10:01:17",3,1,2,{"$nulls":3},1,null,2]
[9,"5",2023,"105307",{"$f":"IFERROR(VLOOKUP(Tabla_SERIED_11_6[[#This Row],[IdEstablecimiento]],'[2]Establecimiento 2023'!$A$1:$E$183,3,FALSE),0)","v":"105307-Centro de Salud Familiar Monte Patria"},{"$f":"IFERROR(VLOOKUP(Tabla_SERIED_11_6[[#This Row],[IdEstablecimiento]],'[2]Establecimiento 2023'!$A$1:$E$183,5,FALSE),0)","v":"04303-Monte Patria"},"15080015","2023-10-17T10:01:17",237,{"$nulls":5},116,121]
[9,"5",2023,"105308",{"$f":"IFERROR(VLOOKUP(Tabla_SERIED_11_6[[#This Row],[IdEstablecimiento]],'[2]Establecimiento 2023'!$A$1:$E$183,3,FALSE),0)","v":"105308-Centro de Salud Familiar Punitaqui"},{"$f":"IFERROR(VLOOKUP(Tabla_SERIED_11_6[[#This Row],[IdEstablecimiento]],'[2]Establecimiento 2023'!$A$1:$E$183,5,FALSE),0)","v":"04304-Punitaqui"},"15080014","2023-10-17T10:02:23",134,{"$nulls":3},66,68]
[9,"5",2023,"200258",{"$f":"IFERROR(VLOOKUP(Tabla_SERIED_11_6[[#This Row],[IdEstablecimiento]],'[2]Establecimiento 2023'!$A$1:$E$183,3,FALSE),0)","v":"200258-Centro Comunitario de Salud Familiar Los Copihues"},{"$f":"IFERROR(VLOOKUP(Tabla_SERIED_11_6[[#This Row],[IdEstablecimiento]],'[2]Establecimiento 2023'!$A$1:$E$183,5,FALSE),0)","v":"04301-Ovalle"},"15080019","2023-10-17T15:40:47",2,{"$nulls":5},0,2]
[9,"5",2023,"200258",{"$f":"IFERROR(VLOOKUP(Tabla_SERIED_11_6[[#This Row],[IdEstablecimiento]],'[2]Establecimiento 2023'!$A$1:$E$183,3,FALSE),0)","v":"200258-Centro Comunitario de Salud Familiar Los Copihues"},{"$f":"IFERROR(VLOOKUP(Tabla_SERIED_11_6[[#This Row],[IdEstablecimiento]],'[2]Establecimiento 2023'!$A$1:$E$183,5,FALSE),0)","v":"04301-Ovalle"},"16200220","2023-10-17T15:40:47",12,5,7]
[9,"5",2023,"200273",{"$f":"IFERROR(VLOOKUP(Tabla_SERIED_11_6[[#This Row],[IdEstablecimiento]],'[2]Establecimiento 2023'!$A$1:$E$183,3,FALSE),0)","v":"200273-Centro Comunitario de Salud Familiar Punta Mira"},{"$f":"IFERROR(VLOOKUP(Tabla_SERIED_11_6[[#This Row],[IdEstablecimiento]],'[2]Establecimiento 2023'!$A$1:$E$183,5,FALSE),0)","v":"04102-Coquimbo"},"15060100","2023-10-17T15:40:43",2,0,2,0,0,0,0,0,0,1,0,null,1,0,0]
[9,"5",2023,"200273",{"$f":"IFERROR(VLOOKUP(Tabla_SERIED_11_6[[#This Row],[IdEstablecimiento]],'[2]Establecimiento 2023'!$A$1:$E$183,3,FALSE),0)","v":"200273-Centro Comunitario de Salud Familiar Punta Mira"},{"$f":"IFERROR(VLOOKUP(Tabla_SERIED_11_6[[#This Row],[IdEstablecimiento]],'[2]Establecimiento 2023'!$A$1:$E$183,5,FALSE),0)","v":"04102-Coquimbo"},"16200210","2023-10-17T15:40:43",1,1]
[9,"5",2023,"200366",{"$f":"IFERROR(VLOOKUP(Tabla_SERIED_11_6[[#This Row],[IdEstablecimiento]],'[2]Establecimiento 2023'!$A$1:$E$183,3,FALSE),0)","v":"200366-Centro de Salud Familiar Urbano de Illapel"},{"$f":"IFERROR(VLOOKUP(Tabla_SERIED_11_6[[#This Row],[IdEstablecimiento]],'[2]Establecimiento 2023'!$A$1:$E$183,5,FALSE),0)","v":"04201-Illapel"},"15010500","2023-10-17T15:41:37",44,null,null,2,10,4,22,6]
[9,"5",2023,"200366",{"$f":"IFERROR(VLOOKUP(Tabla_SERIED_11_6[[#This Row],[IdEstablecimiento]],'[2]Establecimiento 2023'!$A$1:$E$183,3,FALSE),0)","v":"200366-Centro de Salud Familiar Urbano de Illapel"},{"$f":"IFERROR(VLOOKUP(Tabla_SERIED_11_6[[#This Row],[IdEstablecimiento]],'[2]Establecimiento 2023'!$A$1:$E$183,5,FALSE),0)","v":"04201-Illapel"},"15900010","2023-10-17T15:41:37",60.8,15.2,18.4,27.2]
[9,"5",2023,"200366",{"$f":"IFERROR(VLOOKUP(Tabla_SERIED_11_6[[#This Row],[IdEstablecimiento]],'[2]Establecimiento 2023'!$A$1:$E$183,3,FALSE),0)","v":"200366-Centro de Salud Familiar Urbano de Illapel"},{"$f":"IFERROR(VLOOKUP(Tabla_SERIED_11_6[[#This Row],[IdEstablecimiento]],'[2]Establecimiento 2023'!$A$1:$E$183,5,FALSE),0)","v":"04201-Illapel"},"15901400","2023-10-17T15:41:37",4,3,1,null,null,1,null,3]
[9,"5",2023,"200402",{"$f":"IFERROR(VLOOKUP(Tabla_SERIED_11_6[[#This Row],[IdEstablecimiento]],'[2]Establecimiento 2023'!$A$1:$E$183,3,FALSE),0)","v":"200402-Centro Comunitario de Salud Familiar Arcos de Pinamar"},{"$f":"IFERROR(VLOOKUP(Tabla_SERIED_11_6[[#This Row],[IdEstablecimiento]],'[2]Establecimiento 2023'!$A$1:$E$183,5,FALSE),0)","v":"04101-La Serena"},"15900050","2023-10-17T15:43:12",4,{"$nulls":3},3,1]
[9,"5",2023,"200402",{"$f":"IFERROR(VLOOKUP(Tabla_SERIED_11_6[[#This Row],[IdEstablecimiento]],'[2]Establecimiento 2023'!$A$1:$E$183,3,FALSE),0)","v":"200402-Centro Comunitario de Salud Familiar Arcos de Pinamar"},{"$f":"IFERROR(VLOOKUP(Tabla_SERIED_11_6[[#This Row],[IdEstablecimiento]],'[2]Establecimiento 2023'!$A$1:$E$183,5,FALSE),0)","v":"04101-La Serena"},"16090300","2023-10-17T15:43:12",66,66]
[9,"5",2023,"200494",{"$f":"IFERROR(VLOOKUP(Tabla_SERIED_11_6[[#This Row],[IdEstablecimiento]],'[2]Establecimiento 2023'!$A$1:$E$183,3,FALSE),0)","v":"200494-Centro de Salud Familiar El Sauce"},{"$f":"IFERROR(VLOOKUP(Tabla_SERIED_11_6[[#This Row],[IdEstablecimiento]],'[2]Establecimiento 2023'!$A$1:$E$183,5,FALSE),0)","v":"04102-Coquimbo"},"15900050","2023-10-17T15:43:08",9,3,6,null,1,2,2,3,1]
[9,"5",2023,"200494",{"$f":"IFERROR(VLOOKUP(Tabla_SERIED_11_6[[#This Row],[IdEstablecimiento]],'[2]Establecimiento 2023'!$A$1:$E$183,3,FALSE),0)","v":"200494-Centro de Salud Familiar El Sauce"},{"$f":"IFERROR(VLOOKUP(Tabla_SERIED_11_6[[#This Row],[IdEstablecimiento]],'[2]Establecimiento 2023'!$A$1:$E$183,5,FALSE),0)","v":"04102-Coquimbo"},"15901200","2023-10-17T15:43:08",3.2,null,null,3.2]
[9,"5",2023,"200499",{"$f":"IFERROR(VLOOKUP(Tabla_SERIED_11_6[[#This Row],[IdEstablecimiento]],'[2]Establecimiento 2023'!$A$1:$E$183,3,FALSE),0)","v":"200499-Centro de Salud Familiar Rural Pan de Azúcar"},{"$f":"IFERROR(VLOOKUP(Tabla_SERIED_11_6[[#This Row],[IdEstablecimiento]],'[2]Establecimiento 2023'!$A$1:$E$183,5,FALSE),0)","v":"04102-Coquimbo"},"15080008","2023-10-17T15:43:43",98,{"$nulls":7},50,null,34,5,9]
[9,"5",2023,"200569",{"$f":"IFERROR(VLOOKUP(Tabla_SERIED_11_6[[#This Row],[IdEstablecimiento]],'[2]Establecimiento 2023'!$A$1:$E$183,3,FALSE),0)","v":"200569-Centro de Salud Familiar Fray Jorge"},{"$f":"IFERROR(VLOOKUP(Tabla_SERIED_11_6[[#This Row],[IdEstablecimiento]],'[2]Establecimiento 2023'!$A$1:$E$183,5,FALSE),0)","v":"04301-Ovalle"},"15030100","2023-10-17T15:45:54",8.8,0,0,8.8]
[9,"5",2023,"200569",{"$f":"IFERROR(VLOOKUP(Tabla_SERIED_11_6[[#This Row],[IdEstablecimiento]],'[2]Establecimiento 2023'!$A$1:$E$183,3,FALSE),0)","v":"200569-Centro de Salud Familiar Fray Jorge"},{"$f":"IFERROR(VLOOKUP(Tabla_SERIED_11_6[[#This Row],[IdEstablecimiento]],'[2]Establecimiento 2023'!$A$1:$E$183,5,FALSE),0)","v":"04301-Ovalle"},"15901200","2023-10-17T15:45:54",6.8,{"$nulls":3},3.6,3.2]
[9,"5",2023,"200607",{"$f":"IFERROR(VLOOKUP(Tabla_SERIED_11_6[[#This Row],[IdEstablecimiento]],'[2]Establecimiento 2023'!$A$1:$E$183,3,FALSE),0)","v":"200607-Centro de Salud Familiar Lila Cortés Godoy"},{"$f":"IFERROR(VLOOKUP(Tabla_SERIED_11_6[[#This Row],[IdEstablecimiento]],'[2]Establecimiento 2023'!$A$1:$E$183,5,FALSE),0)","v":"04102-Coquimbo"},"15080016","2023-10-17T15:46:21",12,{"$nulls":3},2,2,6,2]
[9,"5",2023,"200607",{"$f":"IFERROR(VLOOKUP(Tabla_SERIED_11_6[[#This Row],[IdEstablecimiento]],'[2]Establecimiento 2023'!$A$1:$E$183,3,FALSE),0)","v":"200607-Centro de Salud Familiar Lila Cortés Godoy"},{"$f":"IFERROR(VLOOKUP(Tabla_SERIED_11_6[[#This Row],[IdEstablecimiento]],'[2]Establecimiento 2023'!$A$1:$E$183,5,FALSE),0)","v":"04102-Coquimbo"},"16200220","2023-10-17T15:46:21",60,29,31]
[9,"5",2023,"105325",{"$f":"IFERROR(VLOOKUP(Tabla_SERIED_11_6[[#This Row],[IdEstablecimiento]],'[2]Establecimiento 2023'!$A$1:$E$183,3,FALSE),0)","v":"105325-Centro de Salud Familiar Juan Pablo II (La Serena)"},{"$f":"IFERROR(VLOOKUP(Tabla_SERIED_11_6[[#This Row],[IdEstablecimiento]],'[2]Establecimiento 2023'!$A$1:$E$183,5,FALSE),0)","v":"04101-La Serena"},"15050200","2023-10-17T11:06:28",19,12,7,0,0,2,2,1,6,6,null,2,0,0,0]
[9,"5",2023,"105325",{"$f":"IFERROR(VLOOKUP(Tabla_SERIED_11_6[[#This Row],[IdEstablecimiento]],'[2]Establecimiento 2023'!$A$1:$E$183,3,FALSE),0)","v":"105325-Centro de Salud Familiar Juan Pablo II (La Serena)"},{"$f":"IFERROR(VLOOKUP(Tabla_SERIED_11_6[[#This Row],[IdEstablecimiento]],'[2]Establecimiento 2023'!$A$1:$E$183,5,FALSE),0)","v":"04101-La Serena"},"15080016","2023-10-17T11:06:28",30,{"$nulls":3},4,2,12,12]
[9,"5",2023,"105325",{"$f":"IFERROR(VLOOKUP(Tabla_SERIED_11_6[[#This Row],[IdEstablecimiento]],'[2]Establecimiento 2023'!$A$1:$E$183,3,FALSE),0)","v":"105325-Centro de Salud Familiar Juan Pablo II (La Serena)"},{"$f":"IFERROR(VLOOKUP(Tabla_SERIED_11_6[[#This Row],[IdEstablecimiento]],'[2]Establecimiento 2023'!$A$1:$E$183,5,FALSE),0)","v":"04101-La Serena"},"16100300","2023-10-17T11:06:28",368,128,240]
[9,"5",2023,"105326",{"$f":"IFERROR(VLOOKUP(Tabla_SERIED_11_6[[#This Row],[IdEstablecimiento]],'[2]Establecimiento 2023'!$A$1:$E$183,3,FALSE),0)","v":"105326-Centro de Salud Familiar Villa San Rafael de Rozas"},{"$f":"IFERROR(VLOOKUP(Tabla_SERIED_11_6[[#This Row],[IdEstablecimiento]],'[2]Establecimiento 2023'!$A$1:$E$183,5,FALSE),0)","v":"04201-Illapel"},"15060100","2023-10-17T11:07:10",1,null,1,{"$nulls":5},1]
[9,"5",2023,"105400",{"$f":"IFERROR(VLOOKUP(Tabla_SERIED_11_6[[#This Row],[IdEstablecimiento]],'[2]Establecimiento 2023'!$A$1:$E$183,3,FALSE),0)","v":"105400-Posta de Salud Rural Algarrobito"},{"$f":"IFERROR(VLOOKUP(Tabla_SERIED_11_6[[#This Row],[IdEstablecimiento]],'[2]Establecimiento 2023'!$A$1:$E$183,5,FALSE),0)","v":"04101-La Serena"},"15010500","2023-10-17T11:07:46",2,{"$nulls":5},2]
[9,"5",2023,"105401",{"$f":"IFERROR(VLOOKUP(Tabla_SERIED_11_6[[#This Row],[IdEstablecimiento]],'[2]Establecimiento 2023'!$A$1:$E$183,3,FALSE),0)","v":"105401-Posta de Salud Rural Las Rojas"},{"$f":"IFERROR(VLOOKUP(Tabla_SERIED_11_6[[#This Row],[IdEstablecimiento]],'[2]Establecimiento 2023'!$A$1:$E$183,5,FALSE),0)","v":"04101-La Serena"},"15030100","2023-10-17T11:08:18",1.6,null,1.6]
[9,"5",2023,"105402",{"$f":"IFERROR(VLOOKUP(Tabla_SERIED_11_6[[#This Row],[IdEstablecimiento]],'[2]Establecimiento 2023'!$A$1:$E$183,3,FALSE),0)","v":"105402-Posta de Salud Rural El Romero"},{"$f":"IFERROR(VLOOKUP(Tabla_SERIED_11_6[[#This Row],[IdEstablecimiento]],'[2]Establecimiento 2023'!$A$1:$E$183,5,FALSE),0)","v":"04101-La Serena"},"16090300","2023-10-17T11:09:25",52,52]
[9,"5",2023,"105407",{"$f":"IFERROR(VLOOKUP(Tabla_SERIED_11_6[[#This Row],[IdEstablecimiento]],'[2]Establecimiento 2023'!$A$1:$E$183,3,FALSE),0)","v":"105407-Posta de Salud Rural Tambillo"},{"$f":"IFERROR(VLOOKUP(Tabla_SERIED_11_6[[#This Row],[IdEstablecimiento]],'[2]Establecimiento 2023'!$A$1:$E$183,5,FALSE),0)","v":"04102-Coquimbo"},"15080008","2023-10-17T11:12:30",3,{"$nulls":7},3,null,0,0,0]
[9,"5",2023,"105414",{"$f":"IFERROR(VLOOKUP(Tabla_SERIED_11_6[[#This Row],[IdEstablecimiento]],'[2]Establecimiento 2023'!$A$1:$E$183,3,FALSE),0)","v":"105414-Posta de Salud Rural Serón"},{"$f":"IFERROR(VLOOKUP(Tabla_SERIED_11_6[[#This Row],[IdEstablecimiento]],'[2]Establecimiento 2023'!$A$1:$E$183,5,FALSE),0)","v":"04305-Rio Hurtado"},"16200220","2023-10-17T11:19:49",2,2]
[9,"5",2023,"105415",{"$f":"IFERROR(VLOOKUP(Tabla_SERIED_11_6[[#This Row],[IdEstablecimiento]],'[2]Establecimiento 2023'!$A$1:$E$183,3,FALSE),0)","v":"105415-Posta de Salud Rural Barraza"},{"$f":"IFERROR(VLOOKUP(Tabla_SERIED_11_6[[#This Row],[IdEstablecimiento]],'[2]Establecimiento 2023'!$A$1:$E$183,5,FALSE),0)","v":"04301-Ovalle"},"15080008","2023-10-17T11:20:19",7,{"$nulls":7},1,null,6]
[9,"5",2023,"105419",{"$f":"IFERROR(VLOOKUP(Tabla_SERIED_11_6[[#This Row],[IdEstablecimiento]],'[2]Establecimiento 2023'!$A$1:$E$183,3,FALSE),0)","v":"105419-Posta de Salud Rural Las Sossas"},{"$f":"IFERROR(VLOOKUP(Tabla_SERIED_11_6[[#This Row],[IdEstablecimiento]],'[2]Establecimiento 2023'!$A$1:$E$183,5,FALSE),0)","v":"04301-Ovalle"},"15080008","2023-10-17T11:23:59",2,{"$nulls":9},2]
[9,"5",2023,"105422",{"$f":"IFERROR(VLOOKUP(Tabla_SERIED_11_6[[#This Row],[IdEstablecimiento]],'[2]Establecimiento 2023'!$A$1:$E$183,3,FALSE),0)","v":"105422-Posta de Salud Rural Hornillos"},{"$f":"IFERROR(VLOOKUP(Tabla_SERIED_11_6[[#This Row],[IdEstablecimiento]],'[2]Establecimiento 2023'!$A$1:$E$183,5,FALSE),0)","v":"04301-Ovalle"},"15050100","2023-10-17T11:24:30",12,5,7,{"$nulls":3},2,3,1,5,1]
[9,"5",2023,"105422",{"$f":"IFERROR(VLOOKUP(Tabla_SERIED_11_6[[#This Row],[IdEstablecimiento]],'[2]Establecimiento 2023'!$A$1:$E$183,3,FALSE),0)","v":"105422-Posta de Salud Rural Hornillos"},{"$f":"IFERROR(VLOOKUP(Tabla_SERIED_11_6[[#This Row],[IdEstablecimiento]],'[2]Establecimiento 2023'!$A$1:$E$183,5,FALSE),0)","v":"04301-Ovalle"},"16090300","2023-10-17T11:24:30",41,41]
[9,"5",2023,"105425",{"$f":"IFERROR(VLOOKUP(Tabla_SERIED_11_6[[#This Row],[IdEstablecimiento]],'[2]Establecimiento 2023'!$A$1:$E$183,3,FALSE),0)","v":"105425-Posta de Salud Rural Chilecito"},{"$f":"IFERROR(VLOOKUP(Tabla_SERIED_11_6[[#This Row],[IdEstablecimiento]],'[2]Establecimiento 2023'!$A$1:$E$183,5,FALSE),0)","v":"04303-Monte Patria"},"15050200","2023-10-17T11:25:07",1,1,{"$nulls":6},1]
[9,"5",2023,"105425",{"$f":"IFERROR(VLOOKUP(Tabla_SERIED_11_6[[#This Row],[IdEstablecimiento]],'[2]Establecimiento 2023'!$A$1:$E$183,3,FALSE),0)","v":"105425-Posta de Salud Rural Chilecito"},{"$f":"IFERROR(VLOOKUP(Tabla_SERIED_11_6[[#This Row],[IdEstablecimiento]],'[2]Establecimiento 2023'!$A$1:$E$183,5,FALSE),0)","v":"04303-Monte Patria"},"15080016","2023-10-17T11:25:07",2,{"$nulls":5},2]
[9,"5",2023,"105425",{"$f":"IFERROR(VLOOKUP(Tabla_SERIED_11_6[[#This Row],[IdEstablecimiento]],'[2]Establecimiento 2023'!$A$1:$E$183,3,FALSE),0)","v":"105425-Posta de Salud Rural Chilecito"},{"$f":"IFERROR(VLOOKUP(Tabla_SERIED_11_6[[#This Row],[IdEstablecimiento]],'[2]Establecimiento 2023'!$A$1:$E$183,5,FALSE),0)","v":"04303-Monte Patria"},"15900010","2023-10-17T11:25:07",3.3,null,3.3]
[9,"5",2023,"105427",{"$f":"IFERROR(VLOOKUP(Tabla_SERIED_11_6[[#This Row],[IdEstablecimiento]],'[2]Establecimiento 2023'!$A$1:$E$183,3,FALSE),0)","v":"105427-Posta de Salud Rural Hacienda Valdivia"},{"$f":"IFERROR(VLOOKUP(Tabla_SERIED_11_6[[#This Row],[IdEstablecimiento]],'[2]Establecimiento 2023'!$A$1:$E$183,5,FALSE),0)","v":"04303-Monte Patria"},"16100300","2023-10-17T11:26:28",49,20,29]
[9,"5",2023,"105427",{"$f":"IFERROR(VLOOKUP(Tabla_SERIED_11_6[[#This Row],[IdEstablecimiento]],'[2]Establecimiento 2023'!$A$1:$E$183,3,FALSE),0)","v":"105427-Posta de Salud Rural Hacienda Valdivia"},{"$f":"IFERROR(VLOOKUP(Tabla_SERIED_11_6[[#This Row],[IdEstablecimiento]],'[2]Establecimiento 2023'!$A$1:$E$183,5,FALSE),0)","v":"04303-Monte Patria"},"16200220","2023-10-17T11:26:28",3,0,3]
[9,"5",2023,"105430",{"$f":"IFERROR(VLOOKUP(Tabla_SERIED_11_6[[#This Row],[IdEstablecimiento]],'[2]Establecimiento 2023'!$A$1:$E$183,3,FALSE),0)","v":"105430-Posta de Salud Rural Mialqui"},{"$f":"IFERROR(VLOOKUP(Tabla_SERIED_11_6[[#This Row],[IdEstablecimiento]],'[2]Establecimiento 2023'!$A$1:$E$183,5,FALSE),0)","v":"04303-Monte Patria"},"16100300","2023-10-17T11:28:45",34,21,13]
[9,"5",2023,"105431",{"$f":"IFERROR(VLOOKUP(Tabla_SERIED_11_6[[#This Row],[IdEstablecimiento]],'[2]Establecimiento 2023'!$A$1:$E$183,3,FALSE),0)","v":"105431-Posta de Salud Rural Pedregal"},{"$f":"IFERROR(VLOOKUP(Tabla_SERIED_11_6[[#This Row],[IdEstablecimiento]],'[2]Establecimiento 2023'!$A$1:$E$183,5,FALSE),0)","v":"04303-Monte Patria"},"16090300","2023-10-17T11:29:24",60,60]
[9,"5",2023,"105433",{"$f":"IFERROR(VLOOKUP(Tabla_SERIED_11_6[[#This Row],[IdEstablecimiento]],'[2]Establecimiento 2023'!$A$1:$E$183,3,FALSE),0)","v":"105433-Posta de Salud Rural San Lorenzo (Combarbalá)"},{"$f":"IFERROR(VLOOKUP(Tabla_SERIED_11_6[[#This Row],[IdEstablecimiento]],'[2]Establecimiento 2023'!$A$1:$E$183,5,FALSE),0)","v":"04302-Combarbalá"},"15080015","2023-10-17T11:31:34",2,{"$nulls":6},2]
[9,"5",2023,"105434",{"$f":"IFERROR(VLOOKUP(Tabla_SERIED_11_6[[#This Row],[IdEstablecimiento]],'[2]Establecimiento 2023'!$A$1:$E$183,3,FALSE),0)","v":"105434-Posta de Salud Rural San Marcos (Combarbalá)"},{"$f":"IFERROR(VLOOKUP(Tabla_SERIED_11_6[[#This Row],[IdEstablecimiento]],'[2]Establecimiento 2023'!$A$1:$E$183,5,FALSE),0)","v":"04302-Combarbalá"},"16090300","2023-10-17T11:32:09",53,53]
[9,"5",2023,"105434",{"$f":"IFERROR(VLOOKUP(Tabla_SERIED_11_6[[#This Row],[IdEstablecimiento]],'[2]Establecimiento 2023'!$A$1:$E$183,3,FALSE),0)","v":"105434-Posta de Salud Rural San Marcos (Combarbalá)"},{"$f":"IFERROR(VLOOKUP(Tabla_SERIED_11_6[[#This Row],[IdEstablecimiento]],'[2]Establecimiento 2023'!$A$1:$E$183,5,FALSE),0)","v":"04302-Combarbalá"},"16100300","2023-10-17T11:32:09",53,23,30]
[9,"5",2023,"105435",{"$f":"IFERROR(VLOOKUP(Tabla_SERIED_11_6[[#This Row],[IdEstablecimiento]],'[2]Establecimiento 2023'!$A$1:$E$183,3,FALSE),0)","v":"105435-Posta de Salud Rural Tulahuén"},{"$f":"IFERROR(VLOOKUP(Tabla_SERIED_11_6[[#This Row],[IdEstablecimiento]],'[2]Establecimiento 2023'!$A$1:$E$183,5,FALSE),0)","v":"04303-Monte Patria"},"15900010","2023-10-17T11:34:19",2.4,null,null,2.4]
[9,"5",2023,"105443",{"$f":"IFERROR(VLOOKUP(Tabla_SERIED_11_6[[#This Row],[IdEstablecimiento]],'[2]Establecimiento 2023'!$A$1:$E$183,3,FALSE),0)","v":"105443-Posta de Salud Rural Cárcamo"},{"$f":"IFERROR(VLOOKUP(Tabla_SERIED_11_6[[#This Row],[IdEstablecimiento]],'[2]Establecimiento 2023'!$A$1:$E$183,5,FALSE),0)","v":"04201-Illapel"},"15010200","2023-10-17T11:43:39",15,{"$nulls":5},15]
[9,"5",2023,"105443",{"$f":"IFERROR(VLOOKUP(Tabla_SERIED_11_6[[#This Row],[IdEstablecimiento]],'[2]Establecimiento 2023'!$A$1:$E$183,3,FALSE),0)","v":"105443-Posta de Salud Rural Cárcamo"},{"$f":"IFERROR(VLOOKUP(Tabla_SERIED_11_6[[#This Row],[IdEstablecimiento]],'[2]Establecimiento 2023'!$A$1:$E$183,5,FALSE),0)","v":"04201-Illapel"},"15900010","2023-10-17T11:43:39",16.8,4,null,12.8]
[9,"5",2023,"105443",{"$f":"IFERROR(VLOOKUP(Tabla_SERIED_11_6[[#This Row],[IdEstablecimiento]],'[2]Establecimiento 2023'!$A$1:$E$183,3,FALSE),0)","v":"105443-Posta de Salud Rural Cárcamo"},{"$f":"IFERROR(VLOOKUP(Tabla_SERIED_11_6[[#This Row],[IdEstablecimiento]],'[2]Establecimiento 2023'!$A$1:$E$183,5,FALSE),0)","v":"04201-Illapel"},"16090300","2023-10-17T11:43:39",116,116]
[9,"5",2023,"105443",{"$f":"IFERROR(VLOOKUP(Tabla_SERIED_11_6[[#This Row],[IdEstablecimiento]],'[2]Establecimiento 2023'!$A$1:$E$183,3,FALSE),0)","v":"105443-Posta de Salud Rural Cárcamo"},{"$f":"IFERROR(VLOOKUP(Tabla_SERIED_11_6[[#This Row],[IdEstablecimiento]],'[2]Establecimiento 2023'!$A$1:$E$183,5,FALSE),0)","v":"04201-Illapel"},"16100300","2023-10-17T11:43:39",116,52,64]
[9,"5",2023,"105444",{"$f":"IFERROR(VLOOKUP(Tabla_SERIED_11_6[[#This Row],[IdEstablecimiento]],'[2]Establecimiento 2023'!$A$1:$E$183,3,FALSE),0)","v":"105444-Posta de Salud Rural Huintil"},{"$f":"IFERROR(VLOOKUP(Tabla_SERIED_11_6[[#This Row],[IdEstablecimiento]],'[2]Establecimiento 2023'!$A$1:$E$183,5,FALSE),0)","v":"04201-Illapel"},"15080015","2023-10-17T11:44:06",10,{"$nulls":5},6,4]
[9,"5",2023,"105445",{"$f":"IFERROR(VLOOKUP(Tabla_SERIED_11_6[[#This Row],[IdEstablecimiento]],'[2]Establecimiento 2023'!$A$1:$E$183,3,FALSE),0)","v":"105445-Posta de Salud Rural Limáhuida"},{"$f":"IFERROR(VLOOKUP(Tabla_SERIED_11_6[[#This Row],[IdEstablecimiento]],'[2]Establecimiento 2023'!$A$1:$E$183,5,FALSE),0)","v":"04201-Illapel"},"15050100","2023-10-17T11:45:24",12,6,6,{"$nulls":4},1,6,3,1,null,1]
[9,"5",2023,"105445",{"$f":"IFERROR(VLOOKUP(Tabla_SERIED_11_6[[#This Row],[IdEstablecimiento]],'[2]Establecimiento 2023'!$A$1:$E$183,3,FALSE),0)","v":"105445-Posta de Salud Rural Limáhuida"},{"$f":"IFERROR(VLOOKUP(Tabla_SERIED_11_6[[#This Row],[IdEstablecimiento]],'[2]Establecimiento 2023'!$A$1:$E$183,5,FALSE),0)","v":"04201-Illapel"},"16100300","2023-10-17T11:45:24",38,16,22]
[9,"5",2023,"105446",{"$f":"IFERROR(VLOOKUP(Tabla_SERIED_11_6[[#This Row],[IdEstablecimiento]],'[2]Establecimiento 2023'!$A$1:$E$183,3,FALSE),0)","v":"105446-Posta de Salud Rural Matancilla"},{"$f":"IFERROR(VLOOKUP(Tabla_SERIED_11_6[[#This Row],[IdEstablecimiento]],'[2]Establecimiento 2023'!$A$1:$E$183,5,FALSE),0)","v":"04201-Illapel"},"15080015","2023-10-17T11:45:59",2,{"$nulls":6},2]
[9,"5",2023,"105448",{"$f":"IFERROR(VLOOKUP(Tabla_SERIED_11_6[[#This Row],[IdEstablecimiento]],'[2]Establecimiento 2023'!$A$1:$E$183,3,FALSE),0)","v":"105448-Posta de Salud Rural Santa Virginia"},{"$f":"IFERROR(VLOOKUP(Tabla_SERIED_11_6[[#This Row],[IdEstablecimiento]],'[2]Establecimiento 2023'!$A$1:$E$183,5,FALSE),0)","v":"04201-Illapel"},"15010200","2023-10-17T11:47:40",8,{"$nulls":5},6,2]
[9,"5",2023,"105449",{"$f":"IFERROR(VLOOKUP(Tabla_SERIED_11_6[[#This Row],[IdEstablecimiento]],'[2]Establecimiento 2023'!$A$1:$E$183,3,FALSE),0)","v":"105449-Posta de Salud Rural Tunga Norte"},{"$f":"IFERROR(VLOOKUP(Tabla_SERIED_11_6[[#This Row],[IdEstablecimiento]],'[2]Establecimiento 2023'!$A$1:$E$183,5,FALSE),0)","v":"04201-Illapel"},"15050100","2023-10-17T11:48:22",1,1,{"$nulls":5},1]
[9,"5",2023,"105449",{"$f":"IFERROR(VLOOKUP(Tabla_SERIED_11_6[[#This Row],[IdEstablecimiento]],'[2]Establecimiento 2023'!$A$1:$E$183,3,FALSE),0)","v":"105449-Posta de Salud Rural Tunga Norte"},{"$f":"IFERROR(VLOOKUP(Tabla_SERIED_11_6[[#This Row],[IdEstablecimiento]],'[2]Establecimiento 2023'!$A$1:$E$183,5,FALSE),0)","v":"04201-Illapel"},"16090500","2023-10-17T11:48:22",1,1]
[9,"5",2023,"105452",{"$f":"IFERROR(VLOOKUP(Tabla_SERIED_11_6[[#This Row],[IdEstablecimiento]],'[2]Establecimiento 2023'!$A$1:$E$183,3,FALSE),0)","v":"105452-Posta de Salud Rural Cuncumén(Salamanca)"},{"$f":"IFERROR(VLOOKUP(Tabla_SERIED_11_6[[#This Row],[IdEstablecimiento]],'[2]Establecimiento 2023'!$A$1:$E$183,5,FALSE),0)","v":"04204-Salamanca"},"15010200","2023-10-17T11:50:01",12,{"$nulls":5},8,4]
[9,"5",2023,"105453",{"$f":"IFERROR(VLOOKUP(Tabla_SERIED_11_6[[#This Row],[IdEstablecimiento]],'[2]Establecimiento 2023'!$A$1:$E$183,3,FALSE),0)","v":"105453-Posta de Salud Rural Tranquilla"},{"$f":"IFERROR(VLOOKUP(Tabla_SERIED_11_6[[#This Row],[IdEstablecimiento]],'[2]Establecimiento 2023'!$A$1:$E$183,5,FALSE),0)","v":"04204-Salamanca"},"15080014","2023-10-17T11:50:47",9,{"$nulls":3},4,4,null,null,1]
[9,"5",2023,"105454",{"$f":"IFERROR(VLOOKUP(Tabla_SERIED_11_6[[#This Row],[IdEstablecimiento]],'[2]Establecimiento 2023'!$A$1:$E$183,3,FALSE),0)","v":"105454-Posta de Salud Rural Cunlagua"},{"$f":"IFERROR(VLOOKUP(Tabla_SERIED_11_6[[#This Row],[IdEstablecimiento]],'[2]Establecimiento 2023'!$A$1:$E$183,5,FALSE),0)","v":"04204-Salamanca"},"16100300","2023-10-17T11:51:48",47,28,19]
[9,"5",2023,"105455",{"$f":"IFERROR(VLOOKUP(Tabla_SERIED_11_6[[#This Row],[IdEstablecimiento]],'[2]Establecimiento 2023'!$A$1:$E$183,3,FALSE),0)","v":"105455-CESFAM Valle Alto"},{"$f":"IFERROR(VLOOKUP(Tabla_SERIED_11_6[[#This Row],[IdEstablecimiento]],'[2]Establecimiento 2023'!$A$1:$E$183,5,FALSE),0)","v":"04204-Salamanca"},"15900040","2023-10-17T11:52:35",2.8,{"$nulls":3},2.8]
[9,"5",2023,"105456",{"$f":"IFERROR(VLOOKUP(Tabla_SERIED_11_6[[#This Row],[IdEstablecimiento]],'[2]Establecimiento 2023'!$A$1:$E$183,3,FALSE),0)","v":"105456-Posta de Salud Rural Llimpo"},{"$f":"IFERROR(VLOOKUP(Tabla_SERIED_11_6[[#This Row],[IdEstablecimiento]],'[2]Establecimiento 2023'!$A$1:$E$183,5,FALSE),0)","v":"04204-Salamanca"},"16200210","2023-10-17T11:53:06",2,2]
[9,"5",2023,"105458",{"$f":"IFERROR(VLOOKUP(Tabla_SERIED_11_6[[#This Row],[IdEstablecimiento]],'[2]Establecimiento 2023'!$A$1:$E$183,3,FALSE),0)","v":"105458-Posta de Salud Rural Tahuinco"},{"$f":"IFERROR(VLOOKUP(Tabla_SERIED_11_6[[#This Row],[IdEstablecimiento]],'[2]Establecimiento 2023'!$A$1:$E$183,5,FALSE),0)","v":"04204-Salamanca"},"15050100","2023-10-17T11:54:22",82,35,47,null,null,2,7,9,34,23,3,null,1,2,1]
[9,"5",2023,"105458",{"$f":"IFERROR(VLOOKUP(Tabla_SERIED_11_6[[#This Row],[IdEstablecimiento]],'[2]Establecimiento 2023'!$A$1:$E$183,3,FALSE),0)","v":"105458-Posta de Salud Rural Tahuinco"},{"$f":"IFERROR(VLOOKUP(Tabla_SERIED_11_6[[#This Row],[IdEstablecimiento]],'[2]Establecimiento 2023'!$A$1:$E$183,5,FALSE),0)","v":"04204-Salamanca"},"15080014","2023-10-17T11:54:22",32,{"$nulls":3},14,18]
[9,"5",2023,"105459",{"$f":"IFERROR(VLOOKUP(Tabla_SERIED_11_6[[#This Row],[IdEstablecimiento]],'[2]Establecimiento 2023'!$A$1:$E$183,3,FALSE),0)","v":"105459-Posta de Salud Rural Barrancas"},{"$f":"IFERROR(VLOOKUP(Tabla_SERIED_11_6[[#This Row],[IdEstablecimiento]],'[2]Establecimiento 2023'!$A$1:$E$183,5,FALSE),0)","v":"04302-Combarbalá"},"15050100","2023-10-17T11:55:56",9,5,4,{"$nulls":4},4,1,2,2]
[9,"5",2023,"105460",{"$f":"IFERROR(VLOOKUP(Tabla_SERIED_11_6[[#This Row],[IdEstablecimiento]],'[2]Establecimiento 2023'!$A$1:$E$183,3,FALSE),0)","v":"105460-Centro Comunitario de Salud Familiar Cogotí 18"},{"$f":"IFERROR(VLOOKUP(Tabla_SERIED_11_6[[#This Row],[IdEstablecimiento]],'[2]Establecimiento 2023'!$A$1:$E$183,5,FALSE),0)","v":"04302-Combarbalá"},"16090300","2023-10-17T11:55:52",97,97]
[9,"5",2023,"105460",{"$f":"IFERROR(VLOOKUP(Tabla_SERIED_11_6[[#This Row],[IdEstablecimiento]],'[2]Establecimiento 2023'!$A$1:$E$183,3,FALSE),0)","v":"105460-Centro Comunitario de Salud Familiar Cogotí 18"},{"$f":"IFERROR(VLOOKUP(Tabla_SERIED_11_6[[#This Row],[IdEstablecimiento]],'[2]Establecimiento 2023'!$A$1:$E$183,5,FALSE),0)","v":"04302-Combarbalá"},"16200210","2023-10-17T11:55:52",17,17]
[9,"5",2023,"105460",{"$f":"IFERROR(VLOOKUP(Tabla_SERIED_11_6[[#This Row],[IdEstablecimiento]],'[2]Establecimiento 2023'!$A$1:$E$183,3,FALSE),0)","v":"105460-Centro Comunitario de Salud Familiar Cogotí 18"},{"$f":"IFERROR(VLOOKUP(Tabla_SERIED_11_6[[#This Row],[IdEstablecimiento]],'[2]Establecimiento 2023'!$A$1:$E$183,5,FALSE),0)","v":"04302-Combarbalá"},"16200220","2023-10-17T11:55:52",17,10,7]
[9,"5",2023,"105461",{"$f":"IFERROR(VLOOKUP(Tabla_SERIED_11_6[[#This Row],[IdEstablecimiento]],'[2]Establecimiento 2023'!$A$1:$E$183,3,FALSE),0)","v":"105461-Posta de Salud Rural El Huacho"},{"$f":"IFERROR(VLOOKUP(Tabla_SERIED_11_6[[#This Row],[IdEstablecimiento]],'[2]Establecimiento 2023'!$A$1:$E$183,5,FALSE),0)","v":"04302-Combarbalá"},"16200210","2023-10-17T11:57:11",2,2]
[9,"5",2023,"105463",{"$f":"IFERROR(VLOOKUP(Tabla_SERIED_11_6[[#This Row],[IdEstablecimiento]],'[2]Establecimiento 2023'!$A$1:$E$183,3,FALSE),0)","v":"105463-Posta de Salud Rural Quilitapia"},{"$f":"IFERROR(VLOOKUP(Tabla_SERIED_11_6[[#This Row],[IdEstablecimiento]],'[2]Establecimiento 2023'!$A$1:$E$183,5,FALSE),0)","v":"04302-Combarbalá"},"15900040","2023-10-17T12:00:52",3.6,null,3.6]
[9,"5",2023,"105464",{"$f":"IFERROR(VLOOKUP(Tabla_SERIED_11_6[[#This Row],[IdEstablecimiento]],'[2]Establecimiento 2023'!$A$1:$E$183,3,FALSE),0)","v":"105464-Posta de Salud Rural La Ligua"},{"$f":"IFERROR(VLOOKUP(Tabla_SERIED_11_6[[#This Row],[IdEstablecimiento]],'[2]Establecimiento 2023'!$A$1:$E$183,5,FALSE),0)","v":"04302-Combarbalá"},"15080014","2023-10-17T12:00:47",6,{"$nulls":4},6]
[9,"5",2023,"105464",{"$f":"IFERROR(VLOOKUP(Tabla_SERIED_11_6[[#This Row],[IdEstablecimiento]],'[2]Establecimiento 2023'!$A$1:$E$183,3,FALSE),0)","v":"105464-Posta de Salud Rural La Ligua"},{"$f":"IFERROR(VLOOKUP(Tabla_SERIED_11_6[[#This Row],[IdEstablecimiento]],'[2]Establecimiento 2023'!$A$1:$E$183,5,FALSE),0)","v":"04302-Combarbalá"},"16090500","2023-10-17T12:00:47",1,1]
[9,"5",2023,"105464",{"$f":"IFERROR(VLOOKUP(Tabla_SERIED_11_6[[#This Row],[IdEstablecimiento]],'[2]Establecimiento 2023'!$A$1:$E$183,3,FALSE),0)","v":"105464-Posta de Salud Rural La Ligua"},{"$f":"IFERROR(VLOOKUP(Tabla_SERIED_11_6[[#This Row],[IdEstablecimiento]],'[2]Establecimiento 2023'!$A$1:$E$183,5,FALSE),0)","v":"04302-Combarbalá"},"16200100","2023-10-17T12:00:47",4,2,2]
[9,"5",2023,"105465",{"$f":"IFERROR(VLOOKUP(Tabla_SERIED_11_6[[#This Row],[IdEstablecimiento]],'[2]Establecimiento 2023'!$A$1:$E$183,3,FALSE),0)","v":"105465-Posta de Salud Rural Ramadilla"},{"$f":"IFERROR(VLOOKUP(Tabla_SERIED_11_6[[#This Row],[IdEstablecimiento]],'[2]Establecimiento 2023'!$A$1:$E$183,5,FALSE),0)","v":"04302-Combarbalá"},"15050100","2023-10-17T12:02:49",11,8,3,{"$nulls":4},1,5,2,null,null,2,null,1]
[9,"5",2023,"105466",{"$f":"IFERROR(VLOOKUP(Tabla_SERIED_11_6[[#This Row],[IdEstablecimiento]],'[2]Establecimiento 2023'!$A$1:$E$183,3,FALSE),0)","v":"105466-Posta de Salud Rural Valle Hermoso"},{"$f":"IFERROR(VLOOKUP(Tabla_SERIED_11_6[[#This Row],[IdEstablecimiento]],'[2]Establecimiento 2023'!$A$1:$E$183,5,FALSE),0)","v":"04302-Combarbalá"},"15080008","2023-10-17T12:07:20",1,{"$nulls":7},1]
[9,"5",2023,"105466",{"$f":"IFERROR(VLOOKUP(Tabla_SERIED_11_6[[#This Row],[IdEstablecimiento]],'[2]Establecimiento 2023'!$A$1:$E$183,3,FALSE),0)","v":"105466-Posta de Salud Rural Valle Hermoso"},{"$f":"IFERROR(VLOOKUP(Tabla_SERIED_11_6[[#This Row],[IdEstablecimiento]],'[2]Establecimiento 2023'!$A$1:$E$183,5,FALSE),0)","v":"04302-Combarbalá"},"16100300","2023-10-17T12:07:20",29,12,17]
[9,"5",2023,"105468",{"$f":"IFERROR(VLOOKUP(Tabla_SERIED_11_6[[#This Row],[IdEstablecimiento]],'[2]Establecimiento 2023'!$A$1:$E$183,3,FALSE),0)","v":"105468-Posta de Salud Rural El Molle"},{"$f":"IFERROR(VLOOKUP(Tabla_SERIED_11_6[[#This Row],[IdEstablecimiento]],'[2]Establecimiento 2023'!$A$1:$E$183,5,FALSE),0)","v":"04106-Vicuña"},"15080014","2023-10-17T14:04:13",10,{"$nulls":3},4,6]
[9,"5",2023,"105469",{"$f":"IFERROR(VLOOKUP(Tabla_SERIED_11_6[[#This Row],[IdEstablecimiento]],'[2]Establecimiento 2023'!$A$1:$E$183,3,FALSE),0)","v":"105469-Posta de Salud Rural El Tambo (Vicuña)"},{"$f":"IFERROR(VLOOKUP(Tabla_SERIED_11_6[[#This Row],[IdEstablecimiento]],'[2]Establecimiento 2023'!$A$1:$E$183,5,FALSE),0)","v":"04106-Vicuña"},"16200220","2023-10-17T14:04:10",2,1,1]
[9,"5",2023,"105472",{"$f":"IFERROR(VLOOKUP(Tabla_SERIED_11_6[[#This Row],[IdEstablecimiento]],'[2]Establecimiento 2023'!$A$1:$E$183,3,FALSE),0)","v":"105472-Posta de Salud Rural Rivadavia"},{"$f":"IFERROR(VLOOKUP(Tabla_SERIED_11_6[[#This Row],[IdEstablecimiento]],'[2]Establecimiento 2023'!$A$1:$E$183,5,FALSE),0)","v":"04106-Vicuña"},"15010500","2023-10-17T14:07:06",4,{"$nulls":3},2,null,2]
[9,"5",2023,"105473",{"$f":"IFERROR(VLOOKUP(Tabla_SERIED_11_6[[#This Row],[IdEstablecimiento]],'[2]Establecimiento 2023'!$A$1:$E$183,3,FALSE),0)","v":"105473-Posta de Salud Rural Talcuna"},{"$f":"IFERROR(VLOOKUP(Tabla_SERIED_11_6[[#This Row],[IdEstablecimiento]],'[2]Establecimiento 2023'!$A$1:$E$183,5,FALSE),0)","v":"04106-Vicuña"},"16100300","2023-10-17T14:07:03",56,28,28]
[9,"5",2023,"105474",{"$f":"IFERROR(VLOOKUP(Tabla_SERIED_11_6[[#This Row],[IdEstablecimiento]],'[2]Establecimiento 2023'!$A$1:$E$183,3,FALSE),0)","v":"105474-Posta de Salud Rural Chapilca"},{"$f":"IFERROR(VLOOKUP(Tabla_SERIED_11_6[[#This Row],[IdEstablecimiento]],'[2]Establecimiento 2023'!$A$1:$E$183,5,FALSE),0)","v":"04106-Vicuña"},"15080015","2023-10-17T14:08:14",2,{"$nulls":6},2]
[9,"5",2023,"105478",{"$f":"IFERROR(VLOOKUP(Tabla_SERIED_11_6[[#This Row],[IdEstablecimiento]],'[2]Establecimiento 2023'!$A$1:$E$183,3,FALSE),0)","v":"105478-Posta de Salud Rural Caimanes"},{"$f":"IFERROR(VLOOKUP(Tabla_SERIED_11_6[[#This Row],[IdEstablecimiento]],'[2]Establecimiento 2023'!$A$1:$E$183,5,FALSE),0)","v":"04203-Los Vilos"},"15080015","2023-10-17T14:41:36",42,{"$nulls":5},20,22]
[9,"5",2023,"105478",{"$f":"IFERROR(VLOOKUP(Tabla_SERIED_11_6[[#This Row],[IdEstablecimiento]],'[2]Establecimiento 2023'!$A$1:$E$183,3,FALSE),0)","v":"105478-Posta de Salud Rural Caimanes"},{"$f":"IFERROR(VLOOKUP(Tabla_SERIED_11_6[[#This Row],[IdEstablecimiento]],'[2]Establecimiento 2023'!$A$1:$E$183,5,FALSE),0)","v":"04203-Los Vilos"},"16100300","2023-10-17T14:41:36",29,17,12]
[9,"5",2023,"105479",{"$f":"IFERROR(VLOOKUP(Tabla_SERIED_11_6[[#This Row],[IdEstablecimiento]],'[2]Establecimiento 2023'!$A$1:$E$183,3,FALSE),0)","v":"105479-Posta de Salud Rural Guangualí"},{"$f":"IFERROR(VLOOKUP(Tabla_SERIED_11_6[[#This Row],[IdEstablecimiento]],'[2]Establecimiento 2023'!$A$1:$E$183,5,FALSE),0)","v":"04203-Los Vilos"},"15900010","2023-10-17T14:41:33",6.4,null,3.2,3.2]
[9,"5",2023,"105480",{"$f":"IFERROR(VLOOKUP(Tabla_SERIED_11_6[[#This Row],[IdEstablecimiento]],'[2]Establecimiento 2023'!$A$1:$E$183,3,FALSE),0)","v":"105480-Posta de Salud Rural Quilimarí"},{"$f":"IFERROR(VLOOKUP(Tabla_SERIED_11_6[[#This Row],[IdEstablecimiento]],'[2]Establecimiento 2023'!$A$1:$E$183,5,FALSE),0)","v":"04203-Los Vilos"},"15050100","2023-10-17T14:44:35",70,30,40,4,3,8,13,10,12,17,3,null,0,0,0]
[9,"5",2023,"105476",{"$f":"IFERROR(VLOOKUP(Tabla_SERIED_11_6[[#This Row],[IdEstablecimiento]],'[2]Establecimiento 2023'!$A$1:$E$183,3,FALSE),0)","v":"105476-Posta de Salud Rural Monte Grande"},{"$f":"IFERROR(VLOOKUP(Tabla_SERIED_11_6[[#This Row],[IdEstablecimiento]],'[2]Establecimiento 2023'!$A$1:$E$183,5,FALSE),0)","v":"04105-Paihuano"},"15080015","2023-11-22T13:06:48",3,{"$nulls":6},3]
[9,"5",2023,"105477",{"$f":"IFERROR(VLOOKUP(Tabla_SERIED_11_6[[#This Row],[IdEstablecimiento]],'[2]Establecimiento 2023'!$A$1:$E$183,3,FALSE),0)","v":"105477-Posta de Salud Rural Pisco Elqui"},{"$f":"IFERROR(VLOOKUP(Tabla_SERIED_11_6[[#This Row],[IdEstablecimiento]],'[2]Establecimiento 2023'!$A$1:$E$183,5,FALSE),0)","v":"04105-Paihuano"},"15080016","2023-11-22T13:07:54",2,{"$nulls":5},2]
[9,"5",2023,"105477",{"$f":"IFERROR(VLOOKUP(Tabla_SERIED_11_6[[#This Row],[IdEstablecimiento]],'[2]Establecimiento 2023'!$A$1:$E$183,3,FALSE),0)","v":"105477-Posta de Salud Rural Pisco Elqui"},{"$f":"IFERROR(VLOOKUP(Tabla_SERIED_11_6[[#This Row],[IdEstablecimiento]],'[2]Establecimiento 2023'!$A$1:$E$183,5,FALSE),0)","v":"04105-Paihuano"},"15010500","2023-11-22T13:07:54",2,{"$nulls":5},2]
[9,"5",2023,"105481",{"$f":"IFERROR(VLOOKUP(Tabla_SERIED_11_6[[#This Row],[IdEstablecimiento]],'[2]Establecimiento 2023'!$A$1:$E$183,3,FALSE),0)","v":"105481-Posta de Salud Rural Tilama"},{"$f":"IFERROR(VLOOKUP(Tabla_SERIED_11_6[[#This Row],[IdEstablecimiento]],'[2]Establecimiento 2023'!$A$1:$E$183,5,FALSE),0)","v":"04203-Los Vilos"},"15050100","2023-10-17T14:44:31",8,3,5,0,0,0,4,0,1,2,0,null,1,0,0]
[9,"5",2023,"105481",{"$f":"IFERROR(VLOOKUP(Tabla_SERIED_11_6[[#This Row],[IdEstablecimiento]],'[2]Establecimiento 2023'!$A$1:$E$183,3,FALSE),0)","v":"105481-Posta de Salud Rural Tilama"},{"$f":"IFERROR(VLOOKUP(Tabla_SERIED_11_6[[#This Row],[IdEstablecimiento]],'[2]Establecimiento 2023'!$A$1:$E$183,5,FALSE),0)","v":"04203-Los Vilos"},"15080014","2023-10-17T14:44:31",8,{"$nulls":3},8]
[9,"5",2023,"105481",{"$f":"IFERROR(VLOOKUP(Tabla_SERIED_11_6[[#This Row],[IdEstablecimiento]],'[2]Establecimiento 2023'!$A$1:$E$183,3,FALSE),0)","v":"105481-Posta de Salud Rural Tilama"},{"$f":"IFERROR(VLOOKUP(Tabla_SERIED_11_6[[#This Row],[IdEstablecimiento]],'[2]Establecimiento 2023'!$A$1:$E$183,5,FALSE),0)","v":"04203-Los Vilos"},"16100600","2023-10-17T14:44:31",3,1,2]
[9,"5",2023,"105487",{"$f":"IFERROR(VLOOKUP(Tabla_SERIED_11_6[[#This Row],[IdEstablecimiento]],'[2]Establecimiento 2023'!$A$1:$E$183,3,FALSE),0)","v":"105487-Posta de Salud Rural Cañas Uno"},{"$f":"IFERROR(VLOOKUP(Tabla_SERIED_11_6[[#This Row],[IdEstablecimiento]],'[2]Establecimiento 2023'!$A$1:$E$183,5,FALSE),0)","v":"04201-Illapel"},"15050100","2023-10-17T14:48:51",46,15,31,2,null,1,5,6,14,10,4,null,2,null,2]
[9,"5",2023,"105487",{"$f":"IFERROR(VLOOKUP(Tabla_SERIED_11_6[[#This Row],[IdEstablecimiento]],'[2]Establecimiento 2023'!$A$1:$E$183,3,FALSE),0)","v":"105487-Posta de Salud Rural Cañas Uno"},{"$f":"IFERROR(VLOOKUP(Tabla_SERIED_11_6[[#This Row],[IdEstablecimiento]],'[2]Establecimiento 2023'!$A$1:$E$183,5,FALSE),0)","v":"04201-Illapel"},"15900010","2023-10-17T14:48:51",8.8,6.4,null,2.4]
[9,"5",2023,"105489",{"$f":"IFERROR(VLOOKUP(Tabla_SERIED_11_6[[#This Row],[IdEstablecimiento]],'[2]Establecimiento 2023'!$A$1:$E$183,3,FALSE),0)","v":"105489-Posta de Salud Rural Ramadas de Tulahuén"},{"$f":"IFERROR(VLOOKUP(Tabla_SERIED_11_6[[#This Row],[IdEstablecimiento]],'[2]Establecimiento 2023'!$A$1:$E$183,5,FALSE),0)","v":"04303-Monte Patria"},"15080015","2023-10-17T14:50:18",6,{"$nulls":5},4,2]
[9,"5",2023,"105489",{"$f":"IFERROR(VLOOKUP(Tabla_SERIED_11_6[[#This Row],[IdEstablecimiento]],'[2]Establecimiento 2023'!$A$1:$E$183,3,FALSE),0)","v":"105489-Posta de Salud Rural Ramadas de Tulahuén"},{"$f":"IFERROR(VLOOKUP(Tabla_SERIED_11_6[[#This Row],[IdEstablecimiento]],'[2]Establecimiento 2023'!$A$1:$E$183,5,FALSE),0)","v":"04303-Monte Patria"},"16200220","2023-10-17T14:50:18",4,1,3]
[9,"5",2023,"105490",{"$f":"IFERROR(VLOOKUP(Tabla_SERIED_11_6[[#This Row],[IdEstablecimiento]],'[2]Establecimiento 2023'!$A$1:$E$183,3,FALSE),0)","v":"105490-Posta de Salud Rural El Durazno(Combarbalá)"},{"$f":"IFERROR(VLOOKUP(Tabla_SERIED_11_6[[#This Row],[IdEstablecimiento]],'[2]Establecimiento 2023'!$A$1:$E$183,5,FALSE),0)","v":"04302-Combarbalá"},"16100300","2023-10-17T14:51:41",39,18,21]
[9,"5",2023,"105490",{"$f":"IFERROR(VLOOKUP(Tabla_SERIED_11_6[[#This Row],[IdEstablecimiento]],'[2]Establecimiento 2023'!$A$1:$E$183,3,FALSE),0)","v":"105490-Posta de Salud Rural El Durazno(Combarbalá)"},{"$f":"IFERROR(VLOOKUP(Tabla_SERIED_11_6[[#This Row],[IdEstablecimiento]],'[2]Establecimiento 2023'!$A$1:$E$183,5,FALSE),0)","v":"04302-Combarbalá"},"16200220","2023-10-17T14:51:41",12,6,6]
[9,"5",2023,"105491",{"$f":"IFERROR(VLOOKUP(Tabla_SERIED_11_6[[#This Row],[IdEstablecimiento]],'[2]Establecimiento 2023'!$A$1:$E$183,3,FALSE),0)","v":"105491-Posta de Salud Rural Quelén Bajo"},{"$f":"IFERROR(VLOOKUP(Tabla_SERIED_11_6[[#This Row],[IdEstablecimiento]],'[2]Establecimiento 2023'!$A$1:$E$183,5,FALSE),0)","v":"04204-Salamanca"},"15050100","2023-10-17T14:51:37",64,29,35,null,null,2,6,5,16,24,5,null,4,null,2]
[9,"5",2023,"105491",{"$f":"IFERROR(VLOOKUP(Tabla_SERIED_11_6[[#This Row],[IdEstablecimiento]],'[2]Establecimiento 2023'!$A$1:$E$183,3,FALSE),0)","v":"105491-Posta de Salud Rural Quelén Bajo"},{"$f":"IFERROR(VLOOKUP(Tabla_SERIED_11_6[[#This Row],[IdEstablecimiento]],'[2]Establecimiento 2023'!$A$1:$E$183,5,FALSE),0)","v":"04204-Salamanca"},"15050200","2023-10-17T14:51:37",5,1,4,null,null,2,null,null,1,2]
[9,"5",2023,"105491",{"$f":"IFERROR(VLOOKUP(Tabla_SERIED_11_6[[#This Row],[IdEstablecimiento]],'[2]Establecimiento 2023'!$A$1:$E$183,3,FALSE),0)","v":"105491-Posta de Salud Rural Quelén Bajo"},{"$f":"IFERROR(VLOOKUP(Tabla_SERIED_11_6[[#This Row],[IdEstablecimiento]],'[2]Establecimiento 2023'!$A$1:$E$183,5,FALSE),0)","v":"04204-Salamanca"},"15900010","2023-10-17T14:51:37",6.4,null,null,6.4]
[9,"5",2023,"105305",{"$f":"IFERROR(VLOOKUP(Tabla_SERIED_11_6[[#This Row],[IdEstablecimiento]],'[2]Establecimiento 2023'!$A$1:$E$183,3,FALSE),0)","v":"105305-Centro de Salud Familiar Tierras Blancas"},{"$f":"IFERROR(VLOOKUP(Tabla_SERIED_11_6[[#This Row],[IdEstablecimiento]],'[2]Establecimiento 2023'!$A$1:$E$183,5,FALSE),0)","v":"04102-Coquimbo"},"15080019","2023-10-17T10:00:18",12,{"$nulls":5},10,2]
[9,"5",2023,"105305",{"$f":"IFERROR(VLOOKUP(Tabla_SERIED_11_6[[#This Row],[IdEstablecimiento]],'[2]Establecimiento 2023'!$A$1:$E$183,3,FALSE),0)","v":"105305-Centro de Salud Familiar Tierras Blancas"},{"$f":"IFERROR(VLOOKUP(Tabla_SERIED_11_6[[#This Row],[IdEstablecimiento]],'[2]Establecimiento 2023'!$A$1:$E$183,5,FALSE),0)","v":"04102-Coquimbo"},"16200100","2023-10-17T10:00:18",26,15,11]
[9,"5",2023,"105308",{"$f":"IFERROR(VLOOKUP(Tabla_SERIED_11_6[[#This Row],[IdEstablecimiento]],'[2]Establecimiento 2023'!$A$1:$E$183,3,FALSE),0)","v":"105308-Centro de Salud Familiar Punitaqui"},{"$f":"IFERROR(VLOOKUP(Tabla_SERIED_11_6[[#This Row],[IdEstablecimiento]],'[2]Establecimiento 2023'!$A$1:$E$183,5,FALSE),0)","v":"04304-Punitaqui"},"15080016","2023-10-17T10:02:23",6,{"$nulls":5},6]
[9,"5",2023,"105308",{"$f":"IFERROR(VLOOKUP(Tabla_SERIED_11_6[[#This Row],[IdEstablecimiento]],'[2]Establecimiento 2023'!$A$1:$E$183,3,FALSE),0)","v":"105308-Centro de Salud Familiar Punitaqui"},{"$f":"IFERROR(VLOOKUP(Tabla_SERIED_11_6[[#This Row],[IdEstablecimiento]],'[2]Establecimiento 2023'!$A$1:$E$183,5,FALSE),0)","v":"04304-Punitaqui"},"15900050","2023-10-17T10:02:23",3,1,2,1,null,1,null,1]
[9,"5",2023,"105309",{"$f":"IFERROR(VLOOKUP(Tabla_SERIED_11_6[[#This Row],[IdEstablecimiento]],'[2]Establecimiento 2023'!$A$1:$E$183,3,FALSE),0)","v":"105309-Centro de Salud Familiar Canela"},{"$f":"IFERROR(VLOOKUP(Tabla_SERIED_11_6[[#This Row],[IdEstablecimiento]],'[2]Establecimiento 2023'!$A$1:$E$183,5,FALSE),0)","v":"04202-Canela"},"15080009","2023-10-17T10:02:58",3,{"$nulls":8},3]
[9,"5",2023,"105309",{"$f":"IFERROR(VLOOKUP(Tabla_SERIED_11_6[[#This Row],[IdEstablecimiento]],'[2]Establecimiento 2023'!$A$1:$E$183,3,FALSE),0)","v":"105309-Centro de Salud Familiar Canela"},{"$f":"IFERROR(VLOOKUP(Tabla_SERIED_11_6[[#This Row],[IdEstablecimiento]],'[2]Establecimiento 2023'!$A$1:$E$183,5,FALSE),0)","v":"04202-Canela"},"16100600","2023-10-17T10:02:58",1,0,1]
[9,"5",2023,"105309",{"$f":"IFERROR(VLOOKUP(Tabla_SERIED_11_6[[#This Row],[IdEstablecimiento]],'[2]Establecimiento 2023'!$A$1:$E$183,3,FALSE),0)","v":"105309-Centro de Salud Familiar Canela"},{"$f":"IFERROR(VLOOKUP(Tabla_SERIED_11_6[[#This Row],[IdEstablecimiento]],'[2]Establecimiento 2023'!$A$1:$E$183,5,FALSE),0)","v":"04202-Canela"},"16200220","2023-10-17T10:02:58",21,8,13]
[9,"5",2023,"105311",{"$f":"IFERROR(VLOOKUP(Tabla_SERIED_11_6[[#This Row],[IdEstablecimiento]],'[2]Establecimiento 2023'!$A$1:$E$183,3,FALSE),0)","v":"105311-Centro de Salud Familiar Chañaral Alto"},{"$f":"IFERROR(VLOOKUP(Tabla_SERIED_11_6[[#This Row],[IdEstablecimiento]],'[2]Establecimiento 2023'!$A$1:$E$183,5,FALSE),0)","v":"04303-Monte Patria"},"15900020","2023-10-17T10:03:53",3.2,null,null,3.2]
[9,"5",2023,"105311",{"$f":"IFERROR(VLOOKUP(Tabla_SERIED_11_6[[#This Row],[IdEstablecimiento]],'[2]Establecimiento 2023'!$A$1:$E$183,3,FALSE),0)","v":"105311-Centro de Salud Familiar Chañaral Alto"},{"$f":"IFERROR(VLOOKUP(Tabla_SERIED_11_6[[#This Row],[IdEstablecimiento]],'[2]Establecimiento 2023'!$A$1:$E$183,5,FALSE),0)","v":"04303-Monte Patria"},"15900050","2023-10-17T10:03:53",2,{"$nulls":4},1,null,1]
[9,"5",2023,"105314",{"$f":"IFERROR(VLOOKUP(Tabla_SERIED_11_6[[#This Row],[IdEstablecimiento]],'[2]Establecimiento 2023'!$A$1:$E$183,3,FALSE),0)","v":"105314-Centro de Salud Familiar La Higuera"},{"$f":"IFERROR(VLOOKUP(Tabla_SERIED_11_6[[#This Row],[IdEstablecimiento]],'[2]Establecimiento 2023'!$A$1:$E$183,5,FALSE),0)","v":"04104-La Higuera"},"16090300","2023-10-17T10:16:58",58,58]
[9,"5",2023,"105315",{"$f":"IFERROR(VLOOKUP(Tabla_SERIED_11_6[[#This Row],[IdEstablecimiento]],'[2]Establecimiento 2023'!$A$1:$E$183,3,FALSE),0)","v":"105315-Centro de Salud Familiar Cerrillos de Tamaya"},{"$f":"IFERROR(VLOOKUP(Tabla_SERIED_11_6[[#This Row],[IdEstablecimiento]],'[2]Establecimiento 2023'!$A$1:$E$183,5,FALSE),0)","v":"04301-Ovalle"},"15050500","2023-10-17T15:50:02",1,1,null,1]
[9,"5",2023,"105315",{"$f":"IFERROR(VLOOKUP(Tabla_SERIED_11_6[[#This Row],[IdEstablecimiento]],'[2]Establecimiento 2023'!$A$1:$E$183,3,FALSE),0)","v":"105315-Centro de Salud Familiar Cerrillos de Tamaya"},{"$f":"IFERROR(VLOOKUP(Tabla_SERIED_11_6[[#This Row],[IdEstablecimiento]],'[2]Establecimiento 2023'!$A$1:$E$183,5,FALSE),0)","v":"04301-Ovalle"},"15900050","2023-10-17T15:50:02",3,2,1,1,1,null,1]
[9,"5",2023,"105317",{"$f":"IFERROR(VLOOKUP(Tabla_SERIED_11_6[[#This Row],[IdEstablecimiento]],'[2]Establecimiento 2023'!$A$1:$E$183,3,FALSE),0)","v":"105317-Centro de Salud Familiar Jorge Jordán Domic"},{"$f":"IFERROR(VLOOKUP(Tabla_SERIED_11_6[[#This Row],[IdEstablecimiento]],'[2]Establecimiento 2023'!$A$1:$E$183,5,FALSE),0)","v":"04301-Ovalle"},"15080014","2023-10-17T10:55:44",262,{"$nulls":3},140,122]
[9,"5",2023,"105317",{"$f":"IFERROR(VLOOKUP(Tabla_SERIED_11_6[[#This Row],[IdEstablecimiento]],'[2]Establecimiento 2023'!$A$1:$E$183,3,FALSE),0)","v":"105317-Centro de Salud Familiar Jorge Jordán Domic"},{"$f":"IFERROR(VLOOKUP(Tabla_SERIED_11_6[[#This Row],[IdEstablecimiento]],'[2]Establecimiento 2023'!$A$1:$E$183,5,FALSE),0)","v":"04301-Ovalle"},"16100300","2023-10-17T10:55:44",621,256,365]
[9,"5",2023,"105317",{"$f":"IFERROR(VLOOKUP(Tabla_SERIED_11_6[[#This Row],[IdEstablecimiento]],'[2]Establecimiento 2023'!$A$1:$E$183,3,FALSE),0)","v":"105317-Centro de Salud Familiar Jorge Jordán Domic"},{"$f":"IFERROR(VLOOKUP(Tabla_SERIED_11_6[[#This Row],[IdEstablecimiento]],'[2]Establecimiento 2023'!$A$1:$E$183,5,FALSE),0)","v":"04301-Ovalle"},"16200210","2023-10-17T10:55:44",86,86]
[9,"5",2023,"105317",{"$f":"IFERROR(VLOOKUP(Tabla_SERIED_11_6[[#This Row],[IdEstablecimiento]],'[2]Establecimiento 2023'!$A$1:$E$183,3,FALSE),0)","v":"105317-Centro de Salud Familiar Jorge Jordán Domic"},{"$f":"IFERROR(VLOOKUP(Tabla_SERIED_11_6[[#This Row],[IdEstablecimiento]],'[2]Establecimiento 2023'!$A$1:$E$183,5,FALSE),0)","v":"04301-Ovalle"},"16200220","2023-10-17T10:55:44",86,23,63]
[9,"5",2023,"105319",{"$f":"IFERROR(VLOOKUP(Tabla_SERIED_11_6[[#This Row],[IdEstablecimiento]],'[2]Establecimiento 2023'!$A$1:$E$183,3,FALSE),0)","v":"105319-Centro de Salud Familiar Cardenal Raúl Silva Henríquez de La Serena"},{"$f":"IFERROR(VLOOKUP(Tabla_SERIED_11_6[[#This Row],[IdEstablecimiento]],'[2]Establecimiento 2023'!$A$1:$E$183,5,FALSE),0)","v":"04101-La Serena"},"15050500","2023-10-17T11:01:16",1,null,1,1]
[9,"5",2023,"105319",{"$f":"IFERROR(VLOOKUP(Tabla_SERIED_11_6[[#This Row],[IdEstablecimiento]],'[2]Establecimiento 2023'!$A$1:$E$183,3,FALSE),0)","v":"105319-Centro de Salud Familiar Cardenal Raúl Silva Henríquez de La Serena"},{"$f":"IFERROR(VLOOKUP(Tabla_SERIED_11_6[[#This Row],[IdEstablecimiento]],'[2]Establecimiento 2023'!$A$1:$E$183,5,FALSE),0)","v":"04101-La Serena"},"15080014","2023-10-17T11:01:16",341,{"$nulls":3},138,202,null,1]
[9,"5",2023,"105321",{"$f":"IFERROR(VLOOKUP(Tabla_SERIED_11_6[[#This Row],[IdEstablecimiento]],'[2]Establecimiento 2023'!$A$1:$E$183,3,FALSE),0)","v":"105321-Centro de Salud Familiar Tongoy"},{"$f":"IFERROR(VLOOKUP(Tabla_SERIED_11_6[[#This Row],[IdEstablecimiento]],'[2]Establecimiento 2023'!$A$1:$E$183,5,FALSE),0)","v":"04102-Coquimbo"},"15030100","2023-10-17T11:02:58",1.2,0,0,1.2]
[9,"5",2023,"105323",{"$f":"IFERROR(VLOOKUP(Tabla_SERIED_11_6[[#This Row],[IdEstablecimiento]],'[2]Establecimiento 2023'!$A$1:$E$183,3,FALSE),0)","v":"105323-Centro de Salud Familiar Dr. Sergio Aguilar Delgado"},{"$f":"IFERROR(VLOOKUP(Tabla_SERIED_11_6[[#This Row],[IdEstablecimiento]],'[2]Establecimiento 2023'!$A$1:$E$183,5,FALSE),0)","v":"04102-Coquimbo"},"15080008","2023-10-17T11:04:16",151,{"$nulls":7},67,null,26,19,39]
[9,"5",2023,"105323",{"$f":"IFERROR(VLOOKUP(Tabla_SERIED_11_6[[#This Row],[IdEstablecimiento]],'[2]Establecimiento 2023'!$A$1:$E$183,3,FALSE),0)","v":"105323-Centro de Salud Familiar Dr. Sergio Aguilar Delgado"},{"$f":"IFERROR(VLOOKUP(Tabla_SERIED_11_6[[#This Row],[IdEstablecimiento]],'[2]Establecimiento 2023'!$A$1:$E$183,5,FALSE),0)","v":"04102-Coquimbo"},"15900030","2023-10-17T11:04:16",8.8,{"$nulls":3},6.4,null,2.4]
[9,"5",2023,"105323",{"$f":"IFERROR(VLOOKUP(Tabla_SERIED_11_6[[#This Row],[IdEstablecimiento]],'[2]Establecimiento 2023'!$A$1:$E$183,3,FALSE),0)","v":"105323-Centro de Salud Familiar Dr. Sergio Aguilar Delgado"},{"$f":"IFERROR(VLOOKUP(Tabla_SERIED_11_6[[#This Row],[IdEstablecimiento]],'[2]Establecimiento 2023'!$A$1:$E$183,5,FALSE),0)","v":"04102-Coquimbo"},"15901400","2023-10-17T11:04:16",11,7,4,null,null,4,4,3]
[9,"5",2023,"105701",{"$f":"IFERROR(VLOOKUP(Tabla_SERIED_11_6[[#This Row],[IdEstablecimiento]],'[2]Establecimiento 2023'!$A$1:$E$183,3,FALSE),0)","v":"105701-Centro Comunitario de Salud Familiar Villa Alemania"},{"$f":"IFERROR(VLOOKUP(Tabla_SERIED_11_6[[#This Row],[IdEstablecimiento]],'[2]Establecimiento 2023'!$A$1:$E$183,5,FALSE),0)","v":"04101-La Serena"},"16200210","2023-10-17T15:36:54",24,24]
[9,"5",2023,"105722",{"$f":"IFERROR(VLOOKUP(Tabla_SERIED_11_6[[#This Row],[IdEstablecimiento]],'[2]Establecimiento 2023'!$A$1:$E$183,3,FALSE),0)","v":"105722-Centro Comunitario de Salud Familiar San José de la Dehesa"},{"$f":"IFERROR(VLOOKUP(Tabla_SERIED_11_6[[#This Row],[IdEstablecimiento]],'[2]Establecimiento 2023'!$A$1:$E$183,5,FALSE),0)","v":"04301-Ovalle"},"15050200","2023-10-17T15:39:04",2,1,1,null,1,{"$nulls":3},1]
[9,"5",2023,"105437",{"$f":"IFERROR(VLOOKUP(Tabla_SERIED_11_6[[#This Row],[IdEstablecimiento]],'[2]Establecimiento 2023'!$A$1:$E$183,3,FALSE),0)","v":"105437-Posta de Salud Rural Chalinga"},{"$f":"IFERROR(VLOOKUP(Tabla_SERIED_11_6[[#This Row],[IdEstablecimiento]],'[2]Establecimiento 2023'!$A$1:$E$183,5,FALSE),0)","v":"04301-Ovalle"},"16100300","2023-10-17T11:35:22",112,56,56]
[9,"5",2023,"105437",{"$f":"IFERROR(VLOOKUP(Tabla_SERIED_11_6[[#This Row],[IdEstablecimiento]],'[2]Establecimiento 2023'!$A$1:$E$183,3,FALSE),0)","v":"105437-Posta de Salud Rural Chalinga"},{"$f":"IFERROR(VLOOKUP(Tabla_SERIED_11_6[[#This Row],[IdEstablecimiento]],'[2]Establecimiento 2023'!$A$1:$E$183,5,FALSE),0)","v":"04301-Ovalle"},"16200210","2023-10-17T11:35:22",17,17]
[9,"5",2023,"105439",{"$f":"IFERROR(VLOOKUP(Tabla_SERIED_11_6[[#This Row],[IdEstablecimiento]],'[2]Establecimiento 2023'!$A$1:$E$183,3,FALSE),0)","v":"105439-Posta de Salud Rural Cerro Blanco"},{"$f":"IFERROR(VLOOKUP(Tabla_SERIED_11_6[[#This Row],[IdEstablecimiento]],'[2]Establecimiento 2023'!$A$1:$E$183,5,FALSE),0)","v":"04301-Ovalle"},"15050100","2023-10-17T11:41:27",6,1,5,{"$nulls":3},1,null,2,3]
[9,"5",2023,"105439",{"$f":"IFERROR(VLOOKUP(Tabla_SERIED_11_6[[#This Row],[IdEstablecimiento]],'[2]Establecimiento 2023'!$A$1:$E$183,3,FALSE),0)","v":"105439-Posta de Salud Rural Cerro Blanco"},{"$f":"IFERROR(VLOOKUP(Tabla_SERIED_11_6[[#This Row],[IdEstablecimiento]],'[2]Establecimiento 2023'!$A$1:$E$183,5,FALSE),0)","v":"04301-Ovalle"},"15080015","2023-10-17T11:41:27",10,{"$nulls":5},4,6]
[1,"5",2023,"105104",{"$f":"IFERROR(VLOOKUP(Tabla_SERIED_11_6[[#This Row],[IdEstablecimiento]],'[2]Establecimiento 2023'!$A$1:$E$183,3,FALSE),0)","v":"105104-Hospital de Salamanca"},{"$f":"IFERROR(VLOOKUP(Tabla_SERIED_11_6[[#This Row],[IdEstablecimiento]],'[2]Establecimiento 2023'!$A$1:$E$183,5,FALSE),0)","v":"105104-Hospital Salamanca"},"15010100","2023-04-20T09:39:17",96,{"$nulls":3},88,8]
[1,"5",2023,"105104",{"$f":"IFERROR(VLOOKUP(Tabla_SERIED_11_6[[#This Row],[IdEstablecimiento]],'[2]Establecimiento 2023'!$A$1:$E$183,3,FALSE),0)","v":"105104-Hospital de Salamanca"},{"$f":"IFERROR(VLOOKUP(Tabla_SERIED_11_6[[#This Row],[IdEstablecimiento]],'[2]Establecimiento 2023'!$A$1:$E$183,5,FALSE),0)","v":"105104-Hospital Salamanca"},"16200220","2023-04-20T09:39:17",8,3,5]
[1,"5",2023,"105105",{"$f":"IFERROR(VLOOKUP(Tabla_SERIED_11_6[[#This Row],[IdEstablecimiento]],'[2]Establecimiento 2023'!$A$1:$E$183,3,FALSE),0)","v":"105105-Hospital San Juan de Dios (Combarbalá)"},{"$f":"IFERROR(VLOOKUP(Tabla_SERIED_11_6[[#This Row],[IdEstablecimiento]],'[2]Establecimiento 2023'!$A$1:$E$183,5,FALSE),0)","v":"105105-Hospital Combarbalá"},"15080009","2023-04-20T11:13:34",3,{"$nulls":9},3]
[1,"5",2023,"105106",{"$f":"IFERROR(VLOOKUP(Tabla_SERIED_11_6[[#This Row],[IdEstablecimiento]],'[2]Establecimiento 2023'!$A$1:$E$183,3,FALSE),0)","v":"105106-Hospital Dr. José Arraño (Andacollo)"},{"$f":"IFERROR(VLOOKUP(Tabla_SERIED_11_6[[#This Row],[IdEstablecimiento]],'[2]Establecimiento 2023'!$A$1:$E$183,5,FALSE),0)","v":"105106-Hospital Andacollo"},"15010100","2023-04-20T07:01:37",34,{"$nulls":3},30,4]
[1,"5",2023,"105106",{"$f":"IFERROR(VLOOKUP(Tabla_SERIED_11_6[[#This Row],[IdEstablecimiento]],'[2]Establecimiento 2023'!$A$1:$E$183,3,FALSE),0)","v":"105106-Hospital Dr. José Arraño (Andacollo)"},{"$f":"IFERROR(VLOOKUP(Tabla_SERIED_11_6[[#This Row],[IdEstablecimiento]],'[2]Establecimiento 2023'!$A$1:$E$183,5,FALSE),0)","v":"105106-Hospital Andacollo"},"15900030","2023-04-20T07:01:37",4.8,null,null,4.8]
[1,"5",2023,"105107",{"$f":"IFERROR(VLOOKUP(Tabla_SERIED_11_6[[#This Row],[IdEstablecimiento]],'[2]Establecimiento 2023'!$A$1:$E$183,3,FALSE),0)","v":"105107-Hospital San Juan de Dios (Vicuña)"},{"$f":"IFERROR(VLOOKUP(Tabla_SERIED_11_6[[#This Row],[IdEstablecimiento]],'[2]Establecimiento 2023'!$A$1:$E$183,5,FALSE),0)","v":"105107-Hospital Vicuña"},"15010400","2023-04-20T07:01:55",14,{"$nulls":4},2,8,4]
[1,"5",2023,"105107",{"$f":"IFERROR(VLOOKUP(Tabla_SERIED_11_6[[#This Row],[IdEstablecimiento]],'[2]Establecimiento 2023'!$A$1:$E$183,3,FALSE),0)","v":"105107-Hospital San Juan de Dios (Vicuña)"},{"$f":"IFERROR(VLOOKUP(Tabla_SERIED_11_6[[#This Row],[IdEstablecimiento]],'[2]Establecimiento 2023'!$A$1:$E$183,5,FALSE),0)","v":"105107-Hospital Vicuña"},"15030100","2023-04-20T07:01:55",3.2,null,null,3.2]
[1,"5",2023,"105107",{"$f":"IFERROR(VLOOKUP(Tabla_SERIED_11_6[[#This Row],[IdEstablecimiento]],'[2]Establecimiento 2023'!$A$1:$E$183,3,FALSE),0)","v":"105107-Hospital San Juan de Dios (Vicuña)"},{"$f":"IFERROR(VLOOKUP(Tabla_SERIED_11_6[[#This Row],[IdEstablecimiento]],'[2]Establecimiento 2023'!$A$1:$E$183,5,FALSE),0)","v":"105107-Hospital Vicuña"},"16090300","2023-04-20T07:01:55",372,372]
[1,"5",2023,"105108",{"$f":"IFERROR(VLOOKUP(Tabla_SERIED_11_6[[#This Row],[IdEstablecimiento]],'[2]Establecimiento 2023'!$A$1:$E$183,3,FALSE),0)","v":"105108-Hospital San Pedro (Los Vilos)"},{"$f":"IFERROR(VLOOKUP(Tabla_SERIED_11_6[[#This Row],[IdEstablecimiento]],'[2]Establecimiento 2023'!$A$1:$E$183,5,FALSE),0)","v":"105108-Hospital Los Vilos"},"15010500","2023-04-21T08:56:03",6,{"$nulls":3},2,null,null,4]
[1,"5",2023,"105108",{"$f":"IFERROR(VLOOKUP(Tabla_SERIED_11_6[[#This Row],[IdEstablecimiento]],'[2]Establecimiento 2023'!$A$1:$E$183,3,FALSE),0)","v":"105108-Hospital San Pedro (Los Vilos)"},{"$f":"IFERROR(VLOOKUP(Tabla_SERIED_11_6[[#This Row],[IdEstablecimiento]],'[2]Establecimiento 2023'!$A$1:$E$183,5,FALSE),0)","v":"105108-Hospital Los Vilos"},"15050100","2023-04-21T08:56:03",337,115,222,9,20,31,54,33,68,51,45,null,17,null,9]
[1,"5",2023,"105300",{"$f":"IFERROR(VLOOKUP(Tabla_SERIED_11_6[[#This Row],[IdEstablecimiento]],'[2]Establecimiento 2023'!$A$1:$E$183,3,FALSE),0)","v":"105300-Centro de Salud Familiar Cardenal Caro"},{"$f":"IFERROR(VLOOKUP(Tabla_SERIED_11_6[[#This Row],[IdEstablecimiento]],'[2]Establecimiento 2023'!$A$1:$E$183,5,FALSE),0)","v":"04101-La Serena"},"15030100","2023-04-19T06:58:38",19.2,15.2,4]
[1,"5",2023,"105300",{"$f":"IFERROR(VLOOKUP(Tabla_SERIED_11_6[[#This Row],[IdEstablecimiento]],'[2]Establecimiento 2023'!$A$1:$E$183,3,FALSE),0)","v":"105300-Centro de Salud Familiar Cardenal Caro"},{"$f":"IFERROR(VLOOKUP(Tabla_SERIED_11_6[[#This Row],[IdEstablecimiento]],'[2]Establecimiento 2023'!$A$1:$E$183,5,FALSE),0)","v":"04101-La Serena"},"15900050","2023-04-19T06:58:38",3,1,3,1,1,1]
[1,"5",2023,"105301",{"$f":"IFERROR(VLOOKUP(Tabla_SERIED_11_6[[#This Row],[IdEstablecimiento]],'[2]Establecimiento 2023'!$A$1:$E$183,3,FALSE),0)","v":"105301-Centro de Salud Familiar Las Compañías"},{"$f":"IFERROR(VLOOKUP(Tabla_SERIED_11_6[[#This Row],[IdEstablecimiento]],'[2]Establecimiento 2023'!$A$1:$E$183,5,FALSE),0)","v":"04101-La Serena"},"15900010","2023-04-19T07:04:05",154.7,9.6,38.4,106.7]
[1,"5",2023,"105302",{"$f":"IFERROR(VLOOKUP(Tabla_SERIED_11_6[[#This Row],[IdEstablecimiento]],'[2]Establecimiento 2023'!$A$1:$E$183,3,FALSE),0)","v":"105302-Centro de Salud Familiar Pedro Aguirre Cerda"},{"$f":"IFERROR(VLOOKUP(Tabla_SERIED_11_6[[#This Row],[IdEstablecimiento]],'[2]Establecimiento 2023'!$A$1:$E$183,5,FALSE),0)","v":"04101-La Serena"},"16200210","2023-04-21T09:14:19",44,44]
[1,"5",2023,"105303",{"$f":"IFERROR(VLOOKUP(Tabla_SERIED_11_6[[#This Row],[IdEstablecimiento]],'[2]Establecimiento 2023'!$A$1:$E$183,3,FALSE),0)","v":"105303-Centro de Salud Familiar San Juan"},{"$f":"IFERROR(VLOOKUP(Tabla_SERIED_11_6[[#This Row],[IdEstablecimiento]],'[2]Establecimiento 2023'!$A$1:$E$183,5,FALSE),0)","v":"04102-Coquimbo"},"15010300","2023-04-20T09:45:37",2,{"$nulls":3},2,0,0,0,0,0,0,0,0]
[1,"5",2023,"105304",{"$f":"IFERROR(VLOOKUP(Tabla_SERIED_11_6[[#This Row],[IdEstablecimiento]],'[2]Establecimiento 2023'!$A$1:$E$183,3,FALSE),0)","v":"105304-Centro de Salud Familiar Santa Cecilia"},{"$f":"IFERROR(VLOOKUP(Tabla_SERIED_11_6[[#This Row],[IdEstablecimiento]],'[2]Establecimiento 2023'!$A$1:$E$183,5,FALSE),0)","v":"04102-Coquimbo"},"15010300","2023-04-19T14:50:51",8,{"$nulls":3},6,2,0,0,0,0,0,0,0]
[1,"5",2023,"105304",{"$f":"IFERROR(VLOOKUP(Tabla_SERIED_11_6[[#This Row],[IdEstablecimiento]],'[2]Establecimiento 2023'!$A$1:$E$183,3,FALSE),0)","v":"105304-Centro de Salud Familiar Santa Cecilia"},{"$f":"IFERROR(VLOOKUP(Tabla_SERIED_11_6[[#This Row],[IdEstablecimiento]],'[2]Establecimiento 2023'!$A$1:$E$183,5,FALSE),0)","v":"04102-Coquimbo"},"15030100","2023-04-19T14:50:51",7.2,0,0,7.2]
[1,"5",2023,"105305",{"$f":"IFERROR(VLOOKUP(Tabla_SERIED_11_6[[#This Row],[IdEstablecimiento]],'[2]Establecimiento 2023'!$A$1:$E$183,3,FALSE),0)","v":"105305-Centro de Salud Familiar Tierras Blancas"},{"$f":"IFERROR(VLOOKUP(Tabla_SERIED_11_6[[#This Row],[IdEstablecimiento]],'[2]Establecimiento 2023'!$A$1:$E$183,5,FALSE),0)","v":"04102-Coquimbo"},"15010200","2023-04-19T14:51:10",624,{"$nulls":4},130,284,210]
[1,"5",2023,"105305",{"$f":"IFERROR(VLOOKUP(Tabla_SERIED_11_6[[#This Row],[IdEstablecimiento]],'[2]Establecimiento 2023'!$A$1:$E$183,3,FALSE),0)","v":"105305-Centro de Salud Familiar Tierras Blancas"},{"$f":"IFERROR(VLOOKUP(Tabla_SERIED_11_6[[#This Row],[IdEstablecimiento]],'[2]Establecimiento 2023'!$A$1:$E$183,5,FALSE),0)","v":"04102-Coquimbo"},"15020100","2023-04-19T14:51:10",10,0,2,0,8,0,0,0,0,0,0,0,0]
[1,"5",2023,"105305",{"$f":"IFERROR(VLOOKUP(Tabla_SERIED_11_6[[#This Row],[IdEstablecimiento]],'[2]Establecimiento 2023'!$A$1:$E$183,3,FALSE),0)","v":"105305-Centro de Salud Familiar Tierras Blancas"},{"$f":"IFERROR(VLOOKUP(Tabla_SERIED_11_6[[#This Row],[IdEstablecimiento]],'[2]Establecimiento 2023'!$A$1:$E$183,5,FALSE),0)","v":"04102-Coquimbo"},"15900050","2023-04-19T14:51:10",9,6,3,0,2,5,1,1,0,0]
[1,"5",2023,"105305",{"$f":"IFERROR(VLOOKUP(Tabla_SERIED_11_6[[#This Row],[IdEstablecimiento]],'[2]Establecimiento 2023'!$A$1:$E$183,3,FALSE),0)","v":"105305-Centro de Salud Familiar Tierras Blancas"},{"$f":"IFERROR(VLOOKUP(Tabla_SERIED_11_6[[#This Row],[IdEstablecimiento]],'[2]Establecimiento 2023'!$A$1:$E$183,5,FALSE),0)","v":"04102-Coquimbo"},"16200100","2023-04-19T14:51:10",25,13,12]
[1,"5",2023,"105306",{"$f":"IFERROR(VLOOKUP(Tabla_SERIED_11_6[[#This Row],[IdEstablecimiento]],'[2]Establecimiento 2023'!$A$1:$E$183,3,FALSE),0)","v":"105306-Centro de Salud Familiar Paihuano"},{"$f":"IFERROR(VLOOKUP(Tabla_SERIED_11_6[[#This Row],[IdEstablecimiento]],'[2]Establecimiento 2023'!$A$1:$E$183,5,FALSE),0)","v":"04105-Paihuano"},"15010100","2023-04-19T14:51:29",12,{"$nulls":3},8,4]
[1,"5",2023,"105309",{"$f":"IFERROR(VLOOKUP(Tabla_SERIED_11_6[[#This Row],[IdEstablecimiento]],'[2]Establecimiento 2023'!$A$1:$E$183,3,FALSE),0)","v":"105309-Centro de Salud Familiar Canela"},{"$f":"IFERROR(VLOOKUP(Tabla_SERIED_11_6[[#This Row],[IdEstablecimiento]],'[2]Establecimiento 2023'!$A$1:$E$183,5,FALSE),0)","v":"04202-Canela"},"15010500","2023-04-19T07:05:38",2,null,null,2]
[1,"5",2023,"105309",{"$f":"IFERROR(VLOOKUP(Tabla_SERIED_11_6[[#This Row],[IdEstablecimiento]],'[2]Establecimiento 2023'!$A$1:$E$183,3,FALSE),0)","v":"105309-Centro de Salud Familiar Canela"},{"$f":"IFERROR(VLOOKUP(Tabla_SERIED_11_6[[#This Row],[IdEstablecimiento]],'[2]Establecimiento 2023'!$A$1:$E$183,5,FALSE),0)","v":"04202-Canela"},"15900010","2023-04-19T07:05:38",61.8,11.7,17.1,33]
[1,"5",2023,"105309",{"$f":"IFERROR(VLOOKUP(Tabla_SERIED_11_6[[#This Row],[IdEstablecimiento]],'[2]Establecimiento 2023'!$A$1:$E$183,3,FALSE),0)","v":"105309-Centro de Salud Familiar Canela"},{"$f":"IFERROR(VLOOKUP(Tabla_SERIED_11_6[[#This Row],[IdEstablecimiento]],'[2]Establecimiento 2023'!$A$1:$E$183,5,FALSE),0)","v":"04202-Canela"},"16100300","2023-04-19T07:05:38",273,119,154]
[1,"5",2023,"105309",{"$f":"IFERROR(VLOOKUP(Tabla_SERIED_11_6[[#This Row],[IdEstablecimiento]],'[2]Establecimiento 2023'!$A$1:$E$183,3,FALSE),0)","v":"105309-Centro de Salud Familiar Canela"},{"$f":"IFERROR(VLOOKUP(Tabla_SERIED_11_6[[#This Row],[IdEstablecimiento]],'[2]Establecimiento 2023'!$A$1:$E$183,5,FALSE),0)","v":"04202-Canela"},"16200100","2023-04-19T07:05:38",2,1,1]
[1,"5",2023,"105309",{"$f":"IFERROR(VLOOKUP(Tabla_SERIED_11_6[[#This Row],[IdEstablecimiento]],'[2]Establecimiento 2023'!$A$1:$E$183,3,FALSE),0)","v":"105309-Centro de Salud Familiar Canela"},{"$f":"IFERROR(VLOOKUP(Tabla_SERIED_11_6[[#This Row],[IdEstablecimiento]],'[2]Establecimiento 2023'!$A$1:$E$183,5,FALSE),0)","v":"04202-Canela"},"16200210","2023-04-19T07:05:38",17,17]
[1,"5",2023,"105310",{"$f":"IFERROR(VLOOKUP(Tabla_SERIED_11_6[[#This Row],[IdEstablecimiento]],'[2]Establecimiento 2023'!$A$1:$E$183,3,FALSE),0)","v":"105310-Centro de Salud Familiar Pichasca"},{"$f":"IFERROR(VLOOKUP(Tabla_SERIED_11_6[[#This Row],[IdEstablecimiento]],'[2]Establecimiento 2023'!$A$1:$E$183,5,FALSE),0)","v":"04305-Rio Hurtado"},"15050200","2023-04-19T07:05:58",3,null,3,{"$nulls":5},2,1]
[1,"5",2023,"105312",{"$f":"IFERROR(VLOOKUP(Tabla_SERIED_11_6[[#This Row],[IdEstablecimiento]],'[2]Establecimiento 2023'!$A$1:$E$183,3,FALSE),0)","v":"105312-Centro de Salud Familiar Carén"},{"$f":"IFERROR(VLOOKUP(Tabla_SERIED_11_6[[#This Row],[IdEstablecimiento]],'[2]Establecimiento 2023'!$A$1:$E$183,5,FALSE),0)","v":"04303-Monte Patria"},"15010200","2023-04-19T07:07:21",38,{"$nulls":4},8,16,14]
[1,"5",2023,"105313",{"$f":"IFERROR(VLOOKUP(Tabla_SERIED_11_6[[#This Row],[IdEstablecimiento]],'[2]Establecimiento 2023'!$A$1:$E$183,3,FALSE),0)","v":"105313-Centro de Salud Familiar Dr. Emilio Schaffhauser"},{"$f":"IFERROR(VLOOKUP(Tabla_SERIED_11_6[[#This Row],[IdEstablecimiento]],'[2]Establecimiento 2023'!$A$1:$E$183,5,FALSE),0)","v":"04101-La Serena"},"15010300","2023-04-19T07:08:23",4,{"$nulls":3},4]
[1,"5",2023,"105313",{"$f":"IFERROR(VLOOKUP(Tabla_SERIED_11_6[[#This Row],[IdEstablecimiento]],'[2]Establecimiento 2023'!$A$1:$E$183,3,FALSE),0)","v":"105313-Centro de Salud Familiar Dr. Emilio Schaffhauser"},{"$f":"IFERROR(VLOOKUP(Tabla_SERIED_11_6[[#This Row],[IdEstablecimiento]],'[2]Establecimiento 2023'!$A$1:$E$183,5,FALSE),0)","v":"04101-La Serena"},"15050100","2023-04-19T07:08:23",690,239,451,14,32,71,103,53,115,80,112,null,47,25,38]
[1,"5",2023,"105313",{"$f":"IFERROR(VLOOKUP(Tabla_SERIED_11_6[[#This Row],[IdEstablecimiento]],'[2]Establecimiento 2023'!$A$1:$E$183,3,FALSE),0)","v":"105313-Centro de Salud Familiar Dr. Emilio Schaffhauser"},{"$f":"IFERROR(VLOOKUP(Tabla_SERIED_11_6[[#This Row],[IdEstablecimiento]],'[2]Establecimiento 2023'!$A$1:$E$183,5,FALSE),0)","v":"04101-La Serena"},"15080008","2023-04-19T07:08:23",252,{"$nulls":7},104,null,88,22,38]
[1,"5",2023,"105313",{"$f":"IFERROR(VLOOKUP(Tabla_SERIED_11_6[[#This Row],[IdEstablecimiento]],'[2]Establecimiento 2023'!$A$1:$E$183,3,FALSE),0)","v":"105313-Centro de Salud Familiar Dr. Emilio Schaffhauser"},{"$f":"IFERROR(VLOOKUP(Tabla_SERIED_11_6[[#This Row],[IdEstablecimiento]],'[2]Establecimiento 2023'!$A$1:$E$183,5,FALSE),0)","v":"04101-La Serena"},"15900050","2023-04-19T07:08:23",14,null,null,1,7,4,2]
[1,"5",2023,"105313",{"$f":"IFERROR(VLOOKUP(Tabla_SERIED_11_6[[#This Row],[IdEstablecimiento]],'[2]Establecimiento 2023'!$A$1:$E$183,3,FALSE),0)","v":"105313-Centro de Salud Familiar Dr. Emilio Schaffhauser"},{"$f":"IFERROR(VLOOKUP(Tabla_SERIED_11_6[[#This Row],[IdEstablecimiento]],'[2]Establecimiento 2023'!$A$1:$E$183,5,FALSE),0)","v":"04101-La Serena"},"16090100","2023-04-19T07:08:23",18,18]
[1,"5",2023,"105314",{"$f":"IFERROR(VLOOKUP(Tabla_SERIED_11_6[[#This Row],[IdEstablecimiento]],'[2]Establecimiento 2023'!$A$1:$E$183,3,FALSE),0)","v":"105314-Centro de Salud Familiar La Higuera"},{"$f":"IFERROR(VLOOKUP(Tabla_SERIED_11_6[[#This Row],[IdEstablecimiento]],'[2]Establecimiento 2023'!$A$1:$E$183,5,FALSE),0)","v":"04104-La Higuera"},"15010500","2023-07-19T15:06:49",2,null,null,2]
[1,"5",2023,"105315",{"$f":"IFERROR(VLOOKUP(Tabla_SERIED_11_6[[#This Row],[IdEstablecimiento]],'[2]Establecimiento 2023'!$A$1:$E$183,3,FALSE),0)","v":"105315-Centro de Salud Familiar Cerrillos de Tamaya"},{"$f":"IFERROR(VLOOKUP(Tabla_SERIED_11_6[[#This Row],[IdEstablecimiento]],'[2]Establecimiento 2023'!$A$1:$E$183,5,FALSE),0)","v":"04301-Ovalle"},"15010100","2023-04-20T13:00:49",64,{"$nulls":3},58,6]
[1,"5",2023,"105317",{"$f":"IFERROR(VLOOKUP(Tabla_SERIED_11_6[[#This Row],[IdEstablecimiento]],'[2]Establecimiento 2023'!$A$1:$E$183,3,FALSE),0)","v":"105317-Centro de Salud Familiar Jorge Jordán Domic"},{"$f":"IFERROR(VLOOKUP(Tabla_SERIED_11_6[[#This Row],[IdEstablecimiento]],'[2]Establecimiento 2023'!$A$1:$E$183,5,FALSE),0)","v":"04301-Ovalle"},"15900050","2023-04-20T13:01:13",12,7,3,null,1,5,3,1,2]
[1,"5",2023,"105317",{"$f":"IFERROR(VLOOKUP(Tabla_SERIED_11_6[[#This Row],[IdEstablecimiento]],'[2]Establecimiento 2023'!$A$1:$E$183,3,FALSE),0)","v":"105317-Centro de Salud Familiar Jorge Jordán Domic"},{"$f":"IFERROR(VLOOKUP(Tabla_SERIED_11_6[[#This Row],[IdEstablecimiento]],'[2]Establecimiento 2023'!$A$1:$E$183,5,FALSE),0)","v":"04301-Ovalle"},"16200230","2023-04-20T13:01:13",1,null,1]
[1,"5",2023,"105318",{"$f":"IFERROR(VLOOKUP(Tabla_SERIED_11_6[[#This Row],[IdEstablecimiento]],'[2]Establecimiento 2023'!$A$1:$E$183,3,FALSE),0)","v":"105318-Centro de Salud Familiar El Palqui"},{"$f":"IFERROR(VLOOKUP(Tabla_SERIED_11_6[[#This Row],[IdEstablecimiento]],'[2]Establecimiento 2023'!$A$1:$E$183,5,FALSE),0)","v":"04303-Monte Patria"},"15010300","2023-04-19T07:10:26",6,{"$nulls":4},6]
[1,"5",2023,"105321",{"$f":"IFERROR(VLOOKUP(Tabla_SERIED_11_6[[#This Row],[IdEstablecimiento]],'[2]Establecimiento 2023'!$A$1:$E$183,3,FALSE),0)","v":"105321-Centro de Salud Familiar Tongoy"},{"$f":"IFERROR(VLOOKUP(Tabla_SERIED_11_6[[#This Row],[IdEstablecimiento]],'[2]Establecimiento 2023'!$A$1:$E$183,5,FALSE),0)","v":"04102-Coquimbo"},"15010400","2023-05-16T14:40:38",6,{"$nulls":4},2,4,0]
[1,"5",2023,"105321",{"$f":"IFERROR(VLOOKUP(Tabla_SERIED_11_6[[#This Row],[IdEstablecimiento]],'[2]Establecimiento 2023'!$A$1:$E$183,3,FALSE),0)","v":"105321-Centro de Salud Familiar Tongoy"},{"$f":"IFERROR(VLOOKUP(Tabla_SERIED_11_6[[#This Row],[IdEstablecimiento]],'[2]Establecimiento 2023'!$A$1:$E$183,5,FALSE),0)","v":"04102-Coquimbo"},"15900040","2023-05-16T14:40:38",3.2,0,3.2,0,0,0,0,0]
[1,"5",2023,"105322",{"$f":"IFERROR(VLOOKUP(Tabla_SERIED_11_6[[#This Row],[IdEstablecimiento]],'[2]Establecimiento 2023'!$A$1:$E$183,3,FALSE),0)","v":"105322-Centro de Salud Familiar Marcos Macuada"},{"$f":"IFERROR(VLOOKUP(Tabla_SERIED_11_6[[#This Row],[IdEstablecimiento]],'[2]Establecimiento 2023'!$A$1:$E$183,5,FALSE),0)","v":"04301-Ovalle"},"15060200","2023-04-20T13:01:32",1,0,1,0,0,0,0,0,1,0,null,0,0,0,0]
[1,"5",2023,"105322",{"$f":"IFERROR(VLOOKUP(Tabla_SERIED_11_6[[#This Row],[IdEstablecimiento]],'[2]Establecimiento 2023'!$A$1:$E$183,3,FALSE),0)","v":"105322-Centro de Salud Familiar Marcos Macuada"},{"$f":"IFERROR(VLOOKUP(Tabla_SERIED_11_6[[#This Row],[IdEstablecimiento]],'[2]Establecimiento 2023'!$A$1:$E$183,5,FALSE),0)","v":"04301-Ovalle"},"15900020","2023-04-20T13:01:32",1.8,0,0,1.8]
[1,"5",2023,"105322",{"$f":"IFERROR(VLOOKUP(Tabla_SERIED_11_6[[#This Row],[IdEstablecimiento]],'[2]Establecimiento 2023'!$A$1:$E$183,3,FALSE),0)","v":"105322-Centro de Salud Familiar Marcos Macuada"},{"$f":"IFERROR(VLOOKUP(Tabla_SERIED_11_6[[#This Row],[IdEstablecimiento]],'[2]Establecimiento 2023'!$A$1:$E$183,5,FALSE),0)","v":"04301-Ovalle"},"15900030","2023-04-20T13:01:32",18.4,0.8,0,4.4,8.8,4.4]
[1,"5",2023,"105322",{"$f":"IFERROR(VLOOKUP(Tabla_SERIED_11_6[[#This Row],[IdEstablecimiento]],'[2]Establecimiento 2023'!$A$1:$E$183,3,FALSE),0)","v":"105322-Centro de Salud Familiar Marcos Macuada"},{"$f":"IFERROR(VLOOKUP(Tabla_SERIED_11_6[[#This Row],[IdEstablecimiento]],'[2]Establecimiento 2023'!$A$1:$E$183,5,FALSE),0)","v":"04301-Ovalle"},"16200210","2023-04-20T13:01:32",38,38]
[1,"5",2023,"105323",{"$f":"IFERROR(VLOOKUP(Tabla_SERIED_11_6[[#This Row],[IdEstablecimiento]],'[2]Establecimiento 2023'!$A$1:$E$183,3,FALSE),0)","v":"105323-Centro de Salud Familiar Dr. Sergio Aguilar Delgado"},{"$f":"IFERROR(VLOOKUP(Tabla_SERIED_11_6[[#This Row],[IdEstablecimiento]],'[2]Establecimiento 2023'!$A$1:$E$183,5,FALSE),0)","v":"04102-Coquimbo"},"15900050","2023-04-20T09:46:04",12,7,5,0,3,6,1,2,0,0]
[1,"5",2023,"105323",{"$f":"IFERROR(VLOOKUP(Tabla_SERIED_11_6[[#This Row],[IdEstablecimiento]],'[2]Establecimiento 2023'!$A$1:$E$183,3,FALSE),0)","v":"105323-Centro de Salud Familiar Dr. Sergio Aguilar Delgado"},{"$f":"IFERROR(VLOOKUP(Tabla_SERIED_11_6[[#This Row],[IdEstablecimiento]],'[2]Establecimiento 2023'!$A$1:$E$183,5,FALSE),0)","v":"04102-Coquimbo"},"15901200","2023-04-20T09:46:04",9.2,1.2,0.8,4.8,2.4,0,0,0]
[1,"5",2023,"105323",{"$f":"IFERROR(VLOOKUP(Tabla_SERIED_11_6[[#This Row],[IdEstablecimiento]],'[2]Establecimiento 2023'!$A$1:$E$183,3,FALSE),0)","v":"105323-Centro de Salud Familiar Dr. Sergio Aguilar Delgado"},{"$f":"IFERROR(VLOOKUP(Tabla_SERIED_11_6[[#This Row],[IdEstablecimiento]],'[2]Establecimiento 2023'!$A$1:$E$183,5,FALSE),0)","v":"04102-Coquimbo"},"16090100","2023-04-20T09:46:04",4,4]
[1,"5",2023,"105324",{"$f":"IFERROR(VLOOKUP(Tabla_SERIED_11_6[[#This Row],[IdEstablecimiento]],'[2]Establecimiento 2023'!$A$1:$E$183,3,FALSE),0)","v":"105324-Centro de Salud Familiar Sotaquí"},{"$f":"IFERROR(VLOOKUP(Tabla_SERIED_11_6[[#This Row],[IdEstablecimiento]],'[2]Establecimiento 2023'!$A$1:$E$183,5,FALSE),0)","v":"04301-Ovalle"},"15010100","2023-04-20T13:02:02",52,{"$nulls":3},48,2,{"$nulls":6},2]
[1,"5",2023,"105324",{"$f":"IFERROR(VLOOKUP(Tabla_SERIED_11_6[[#This Row],[IdEstablecimiento]],'[2]Establecimiento 2023'!$A$1:$E$183,3,FALSE),0)","v":"105324-Centro de Salud Familiar Sotaquí"},{"$f":"IFERROR(VLOOKUP(Tabla_SERIED_11_6[[#This Row],[IdEstablecimiento]],'[2]Establecimiento 2023'!$A$1:$E$183,5,FALSE),0)","v":"04301-Ovalle"},"15901400","2023-04-20T13:02:02",1,{"$nulls":5},1]
[1,"5",2023,"105324",{"$f":"IFERROR(VLOOKUP(Tabla_SERIED_11_6[[#This Row],[IdEstablecimiento]],'[2]Establecimiento 2023'!$A$1:$E$183,3,FALSE),0)","v":"105324-Centro de Salud Familiar Sotaquí"},{"$f":"IFERROR(VLOOKUP(Tabla_SERIED_11_6[[#This Row],[IdEstablecimiento]],'[2]Establecimiento 2023'!$A$1:$E$183,5,FALSE),0)","v":"04301-Ovalle"},"16100300","2023-04-20T13:02:02",282,115,167]
[1,"5",2023,"105325",{"$f":"IFERROR(VLOOKUP(Tabla_SERIED_11_6[[#This Row],[IdEstablecimiento]],'[2]Establecimiento 2023'!$A$1:$E$183,3,FALSE),0)","v":"105325-Centro de Salud Familiar Juan Pablo II (La Serena)"},{"$f":"IFERROR(VLOOKUP(Tabla_SERIED_11_6[[#This Row],[IdEstablecimiento]],'[2]Establecimiento 2023'!$A$1:$E$183,5,FALSE),0)","v":"04101-La Serena"},"15010200","2023-04-19T07:13:29",458,{"$nulls":4},50,228,180]
[1,"5",2023,"105325",{"$f":"IFERROR(VLOOKUP(Tabla_SERIED_11_6[[#This Row],[IdEstablecimiento]],'[2]Establecimiento 2023'!$A$1:$E$183,3,FALSE),0)","v":"105325-Centro de Salud Familiar Juan Pablo II (La Serena)"},{"$f":"IFERROR(VLOOKUP(Tabla_SERIED_11_6[[#This Row],[IdEstablecimiento]],'[2]Establecimiento 2023'!$A$1:$E$183,5,FALSE),0)","v":"04101-La Serena"},"15080008","2023-04-19T07:13:29",166,{"$nulls":7},89,null,50,9,18]
[1,"5",2023,"105401",{"$f":"IFERROR(VLOOKUP(Tabla_SERIED_11_6[[#This Row],[IdEstablecimiento]],'[2]Establecimiento 2023'!$A$1:$E$183,3,FALSE),0)","v":"105401-Posta de Salud Rural Las Rojas"},{"$f":"IFERROR(VLOOKUP(Tabla_SERIED_11_6[[#This Row],[IdEstablecimiento]],'[2]Establecimiento 2023'!$A$1:$E$183,5,FALSE),0)","v":"04101-La Serena"},"15050200","2023-04-19T07:16:30",1,1,{"$nulls":6},1]
[1,"5",2023,"105401",{"$f":"IFERROR(VLOOKUP(Tabla_SERIED_11_6[[#This Row],[IdEstablecimiento]],'[2]Establecimiento 2023'!$A$1:$E$183,3,FALSE),0)","v":"105401-Posta de Salud Rural Las Rojas"},{"$f":"IFERROR(VLOOKUP(Tabla_SERIED_11_6[[#This Row],[IdEstablecimiento]],'[2]Establecimiento 2023'!$A$1:$E$183,5,FALSE),0)","v":"04101-La Serena"},"16100300","2023-04-19T07:16:30",37,15,22]
[1,"5",2023,"105402",{"$f":"IFERROR(VLOOKUP(Tabla_SERIED_11_6[[#This Row],[IdEstablecimiento]],'[2]Establecimiento 2023'!$A$1:$E$183,3,FALSE),0)","v":"105402-Posta de Salud Rural El Romero"},{"$f":"IFERROR(VLOOKUP(Tabla_SERIED_11_6[[#This Row],[IdEstablecimiento]],'[2]Establecimiento 2023'!$A$1:$E$183,5,FALSE),0)","v":"04101-La Serena"},"15050200","2023-04-19T07:16:48",1,1,{"$nulls":5},1]
[1,"5",2023,"105405",{"$f":"IFERROR(VLOOKUP(Tabla_SERIED_11_6[[#This Row],[IdEstablecimiento]],'[2]Establecimiento 2023'!$A$1:$E$183,3,FALSE),0)","v":"105405-Posta de Salud Rural Guanaqueros"},{"$f":"IFERROR(VLOOKUP(Tabla_SERIED_11_6[[#This Row],[IdEstablecimiento]],'[2]Establecimiento 2023'!$A$1:$E$183,5,FALSE),0)","v":"04102-Coquimbo"},"16100300","2023-05-16T14:49:26",66,34,32]
[1,"5",2023,"105407",{"$f":"IFERROR(VLOOKUP(Tabla_SERIED_11_6[[#This Row],[IdEstablecimiento]],'[2]Establecimiento 2023'!$A$1:$E$183,3,FALSE),0)","v":"105407-Posta de Salud Rural Tambillo"},{"$f":"IFERROR(VLOOKUP(Tabla_SERIED_11_6[[#This Row],[IdEstablecimiento]],'[2]Establecimiento 2023'!$A$1:$E$183,5,FALSE),0)","v":"04102-Coquimbo"},"16200220","2023-04-20T11:12:24",4,1,3]
[1,"5",2023,"105411",{"$f":"IFERROR(VLOOKUP(Tabla_SERIED_11_6[[#This Row],[IdEstablecimiento]],'[2]Establecimiento 2023'!$A$1:$E$183,3,FALSE),0)","v":"105411-Posta de Salud Rural Las Breas (Río Hurtado)"},{"$f":"IFERROR(VLOOKUP(Tabla_SERIED_11_6[[#This Row],[IdEstablecimiento]],'[2]Establecimiento 2023'!$A$1:$E$183,5,FALSE),0)","v":"04305-Rio Hurtado"},"15050200","2023-04-19T07:18:28",2,1,1,{"$nulls":3},1,1]
[1,"5",2023,"105411",{"$f":"IFERROR(VLOOKUP(Tabla_SERIED_11_6[[#This Row],[IdEstablecimiento]],'[2]Establecimiento 2023'!$A$1:$E$183,3,FALSE),0)","v":"105411-Posta de Salud Rural Las Breas (Río Hurtado)"},{"$f":"IFERROR(VLOOKUP(Tabla_SERIED_11_6[[#This Row],[IdEstablecimiento]],'[2]Establecimiento 2023'!$A$1:$E$183,5,FALSE),0)","v":"04305-Rio Hurtado"},"16100300","2023-04-19T07:18:28",14,4,10]
[1,"5",2023,"105413",{"$f":"IFERROR(VLOOKUP(Tabla_SERIED_11_6[[#This Row],[IdEstablecimiento]],'[2]Establecimiento 2023'!$A$1:$E$183,3,FALSE),0)","v":"105413-Posta de Salud Rural Samo Alto"},{"$f":"IFERROR(VLOOKUP(Tabla_SERIED_11_6[[#This Row],[IdEstablecimiento]],'[2]Establecimiento 2023'!$A$1:$E$183,5,FALSE),0)","v":"04305-Rio Hurtado"},"15080008","2023-04-19T07:18:44",3,{"$nulls":7},1,null,2]
[1,"5",2023,"105416",{"$f":"IFERROR(VLOOKUP(Tabla_SERIED_11_6[[#This Row],[IdEstablecimiento]],'[2]Establecimiento 2023'!$A$1:$E$183,3,FALSE),0)","v":"105416-Posta de Salud Rural Camarico (Ovalle)"},{"$f":"IFERROR(VLOOKUP(Tabla_SERIED_11_6[[#This Row],[IdEstablecimiento]],'[2]Establecimiento 2023'!$A$1:$E$183,5,FALSE),0)","v":"04301-Ovalle"},"15080008","2023-04-20T13:04:29",4,{"$nulls":9},4]
[1,"5",2023,"105416",{"$f":"IFERROR(VLOOKUP(Tabla_SERIED_11_6[[#This Row],[IdEstablecimiento]],'[2]Establecimiento 2023'!$A$1:$E$183,3,FALSE),0)","v":"105416-Posta de Salud Rural Camarico (Ovalle)"},{"$f":"IFERROR(VLOOKUP(Tabla_SERIED_11_6[[#This Row],[IdEstablecimiento]],'[2]Establecimiento 2023'!$A$1:$E$183,5,FALSE),0)","v":"04301-Ovalle"},"16200100","2023-04-20T13:04:29",1,1]
[1,"5",2023,"105416",{"$f":"IFERROR(VLOOKUP(Tabla_SERIED_11_6[[#This Row],[IdEstablecimiento]],'[2]Establecimiento 2023'!$A$1:$E$183,3,FALSE),0)","v":"105416-Posta de Salud Rural Camarico (Ovalle)"},{"$f":"IFERROR(VLOOKUP(Tabla_SERIED_11_6[[#This Row],[IdEstablecimiento]],'[2]Establecimiento 2023'!$A$1:$E$183,5,FALSE),0)","v":"04301-Ovalle"},"16200220","2023-04-20T13:04:29",14,3,11]
[1,"5",2023,"105417",{"$f":"IFERROR(VLOOKUP(Tabla_SERIED_11_6[[#This Row],[IdEstablecimiento]],'[2]Establecimiento 2023'!$A$1:$E$183,3,FALSE),0)","v":"105417-Posta de Salud Rural Alcones Bajo"},{"$f":"IFERROR(VLOOKUP(Tabla_SERIED_11_6[[#This Row],[IdEstablecimiento]],'[2]Establecimiento 2023'!$A$1:$E$183,5,FALSE),0)","v":"04301-Ovalle"},"15010100","2023-04-20T13:04:47",2,{"$nulls":3},2]
[1,"5",2023,"105417",{"$f":"IFERROR(VLOOKUP(Tabla_SERIED_11_6[[#This Row],[IdEstablecimiento]],'[2]Establecimiento 2023'!$A$1:$E$183,3,FALSE),0)","v":"105417-Posta de Salud Rural Alcones Bajo"},{"$f":"IFERROR(VLOOKUP(Tabla_SERIED_11_6[[#This Row],[IdEstablecimiento]],'[2]Establecimiento 2023'!$A$1:$E$183,5,FALSE),0)","v":"04301-Ovalle"},"15050100","2023-04-20T13:04:47",13,8,5,null,null,1,1,3,2,1,3,{"$nulls":3},2]
[1,"5",2023,"105427",{"$f":"IFERROR(VLOOKUP(Tabla_SERIED_11_6[[#This Row],[IdEstablecimiento]],'[2]Establecimiento 2023'!$A$1:$E$183,3,FALSE),0)","v":"105427-Posta de Salud Rural Hacienda Valdivia"},{"$f":"IFERROR(VLOOKUP(Tabla_SERIED_11_6[[#This Row],[IdEstablecimiento]],'[2]Establecimiento 2023'!$A$1:$E$183,5,FALSE),0)","v":"04303-Monte Patria"},"15010100","2023-04-19T07:19:55",6,{"$nulls":3},6]
[1,"5",2023,"105427",{"$f":"IFERROR(VLOOKUP(Tabla_SERIED_11_6[[#This Row],[IdEstablecimiento]],'[2]Establecimiento 2023'!$A$1:$E$183,3,FALSE),0)","v":"105427-Posta de Salud Rural Hacienda Valdivia"},{"$f":"IFERROR(VLOOKUP(Tabla_SERIED_11_6[[#This Row],[IdEstablecimiento]],'[2]Establecimiento 2023'!$A$1:$E$183,5,FALSE),0)","v":"04303-Monte Patria"},"15010400","2023-04-19T07:19:55",2,{"$nulls":4},2]
[1,"5",2023,"105430",{"$f":"IFERROR(VLOOKUP(Tabla_SERIED_11_6[[#This Row],[IdEstablecimiento]],'[2]Establecimiento 2023'!$A$1:$E$183,3,FALSE),0)","v":"105430-Posta de Salud Rural Mialqui"},{"$f":"IFERROR(VLOOKUP(Tabla_SERIED_11_6[[#This Row],[IdEstablecimiento]],'[2]Establecimiento 2023'!$A$1:$E$183,5,FALSE),0)","v":"04303-Monte Patria"},"15010100","2023-04-19T07:20:53",4,{"$nulls":3},4]
[1,"5",2023,"105430",{"$f":"IFERROR(VLOOKUP(Tabla_SERIED_11_6[[#This Row],[IdEstablecimiento]],'[2]Establecimiento 2023'!$A$1:$E$183,3,FALSE),0)","v":"105430-Posta de Salud Rural Mialqui"},{"$f":"IFERROR(VLOOKUP(Tabla_SERIED_11_6[[#This Row],[IdEstablecimiento]],'[2]Establecimiento 2023'!$A$1:$E$183,5,FALSE),0)","v":"04303-Monte Patria"},"16200210","2023-04-19T07:20:53",15,15]
[1,"5",2023,"105431",{"$f":"IFERROR(VLOOKUP(Tabla_SERIED_11_6[[#This Row],[IdEstablecimiento]],'[2]Establecimiento 2023'!$A$1:$E$183,3,FALSE),0)","v":"105431-Posta de Salud Rural Pedregal"},{"$f":"IFERROR(VLOOKUP(Tabla_SERIED_11_6[[#This Row],[IdEstablecimiento]],'[2]Establecimiento 2023'!$A$1:$E$183,5,FALSE),0)","v":"04303-Monte Patria"},"16090300","2023-04-19T07:22:37",54,54]
[1,"5",2023,"105431",{"$f":"IFERROR(VLOOKUP(Tabla_SERIED_11_6[[#This Row],[IdEstablecimiento]],'[2]Establecimiento 2023'!$A$1:$E$183,3,FALSE),0)","v":"105431-Posta de Salud Rural Pedregal"},{"$f":"IFERROR(VLOOKUP(Tabla_SERIED_11_6[[#This Row],[IdEstablecimiento]],'[2]Establecimiento 2023'!$A$1:$E$183,5,FALSE),0)","v":"04303-Monte Patria"},"16100300","2023-04-19T07:22:37",54,24,30]
[1,"5",2023,"105432",{"$f":"IFERROR(VLOOKUP(Tabla_SERIED_11_6[[#This Row],[IdEstablecimiento]],'[2]Establecimiento 2023'!$A$1:$E$183,3,FALSE),0)","v":"105432-Posta de Salud Rural Rapel (Monte Patria)"},{"$f":"IFERROR(VLOOKUP(Tabla_SERIED_11_6[[#This Row],[IdEstablecimiento]],'[2]Establecimiento 2023'!$A$1:$E$183,5,FALSE),0)","v":"04303-Monte Patria"},"16100300","2023-04-19T07:22:55",107,47,60]
[1,"5",2023,"105433",{"$f":"IFERROR(VLOOKUP(Tabla_SERIED_11_6[[#This Row],[IdEstablecimiento]],'[2]Establecimiento 2023'!$A$1:$E$183,3,FALSE),0)","v":"105433-Posta de Salud Rural San Lorenzo (Combarbalá)"},{"$f":"IFERROR(VLOOKUP(Tabla_SERIED_11_6[[#This Row],[IdEstablecimiento]],'[2]Establecimiento 2023'!$A$1:$E$183,5,FALSE),0)","v":"04302-Combarbalá"},"15050100","2023-04-19T07:23:10",1,null,1,{"$nulls":5},1]
[1,"5",2023,"105434",{"$f":"IFERROR(VLOOKUP(Tabla_SERIED_11_6[[#This Row],[IdEstablecimiento]],'[2]Establecimiento 2023'!$A$1:$E$183,3,FALSE),0)","v":"105434-Posta de Salud Rural San Marcos (Combarbalá)"},{"$f":"IFERROR(VLOOKUP(Tabla_SERIED_11_6[[#This Row],[IdEstablecimiento]],'[2]Establecimiento 2023'!$A$1:$E$183,5,FALSE),0)","v":"04302-Combarbalá"},"15010200","2023-04-19T07:23:40",12,{"$nulls":5},10,2]
[1,"5",2023,"105437",{"$f":"IFERROR(VLOOKUP(Tabla_SERIED_11_6[[#This Row],[IdEstablecimiento]],'[2]Establecimiento 2023'!$A$1:$E$183,3,FALSE),0)","v":"105437-Posta de Salud Rural Chalinga"},{"$f":"IFERROR(VLOOKUP(Tabla_SERIED_11_6[[#This Row],[IdEstablecimiento]],'[2]Establecimiento 2023'!$A$1:$E$183,5,FALSE),0)","v":"04301-Ovalle"},"16090300","2023-04-20T11:08:27",109,109]
[1,"5",2023,"105439",{"$f":"IFERROR(VLOOKUP(Tabla_SERIED_11_6[[#This Row],[IdEstablecimiento]],'[2]Establecimiento 2023'!$A$1:$E$183,3,FALSE),0)","v":"105439-Posta de Salud Rural Cerro Blanco"},{"$f":"IFERROR(VLOOKUP(Tabla_SERIED_11_6[[#This Row],[IdEstablecimiento]],'[2]Establecimiento 2023'!$A$1:$E$183,5,FALSE),0)","v":"04301-Ovalle"},"15080008","2023-04-20T11:08:50",2,{"$nulls":9},2]
[1,"5",2023,"105439",{"$f":"IFERROR(VLOOKUP(Tabla_SERIED_11_6[[#This Row],[IdEstablecimiento]],'[2]Establecimiento 2023'!$A$1:$E$183,3,FALSE),0)","v":"105439-Posta de Salud Rural Cerro Blanco"},{"$f":"IFERROR(VLOOKUP(Tabla_SERIED_11_6[[#This Row],[IdEstablecimiento]],'[2]Establecimiento 2023'!$A$1:$E$183,5,FALSE),0)","v":"04301-Ovalle"},"16200210","2023-04-20T11:08:50",5,5]
[1,"5",2023,"105441",{"$f":"IFERROR(VLOOKUP(Tabla_SERIED_11_6[[#This Row],[IdEstablecimiento]],'[2]Establecimiento 2023'!$A$1:$E$183,3,FALSE),0)","v":"105441-Posta de Salud Rural Manquehua"},{"$f":"IFERROR(VLOOKUP(Tabla_SERIED_11_6[[#This Row],[IdEstablecimiento]],'[2]Establecimiento 2023'!$A$1:$E$183,5,FALSE),0)","v":"04302-Combarbalá"},"15080008","2023-04-19T07:25:49",3,{"$nulls":9},2,null,1]
[1,"5",2023,"105443",{"$f":"IFERROR(VLOOKUP(Tabla_SERIED_11_6[[#This Row],[IdEstablecimiento]],'[2]Establecimiento 2023'!$A$1:$E$183,3,FALSE),0)","v":"105443-Posta de Salud Rural Cárcamo"},{"$f":"IFERROR(VLOOKUP(Tabla_SERIED_11_6[[#This Row],[IdEstablecimiento]],'[2]Establecimiento 2023'!$A$1:$E$183,5,FALSE),0)","v":"04201-Illapel"},"15050100","2023-04-20T09:06:50",7,6,1,{"$nulls":3},2,1,null,3,1]
[1,"5",2023,"105445",{"$f":"IFERROR(VLOOKUP(Tabla_SERIED_11_6[[#This Row],[IdEstablecimiento]],'[2]Establecimiento 2023'!$A$1:$E$183,3,FALSE),0)","v":"105445-Posta de Salud Rural Limáhuida"},{"$f":"IFERROR(VLOOKUP(Tabla_SERIED_11_6[[#This Row],[IdEstablecimiento]],'[2]Establecimiento 2023'!$A$1:$E$183,5,FALSE),0)","v":"04201-Illapel"},"15010200","2023-04-20T09:07:44",28,{"$nulls":4},2,8,18]
[1,"5",2023,"105446",{"$f":"IFERROR(VLOOKUP(Tabla_SERIED_11_6[[#This Row],[IdEstablecimiento]],'[2]Establecimiento 2023'!$A$1:$E$183,3,FALSE),0)","v":"105446-Posta de Salud Rural Matancilla"},{"$f":"IFERROR(VLOOKUP(Tabla_SERIED_11_6[[#This Row],[IdEstablecimiento]],'[2]Establecimiento 2023'!$A$1:$E$183,5,FALSE),0)","v":"04201-Illapel"},"16200210","2023-04-20T09:08:05",3,3]
[1,"5",2023,"105447",{"$f":"IFERROR(VLOOKUP(Tabla_SERIED_11_6[[#This Row],[IdEstablecimiento]],'[2]Establecimiento 2023'!$A$1:$E$183,3,FALSE),0)","v":"105447-Posta de Salud Rural Peralillo Illapel"},{"$f":"IFERROR(VLOOKUP(Tabla_SERIED_11_6[[#This Row],[IdEstablecimiento]],'[2]Establecimiento 2023'!$A$1:$E$183,5,FALSE),0)","v":"04201-Illapel"},"16090300","2023-04-20T09:08:46",44,44]
[1,"5",2023,"105448",{"$f":"IFERROR(VLOOKUP(Tabla_SERIED_11_6[[#This Row],[IdEstablecimiento]],'[2]Establecimiento 2023'!$A$1:$E$183,3,FALSE),0)","v":"105448-Posta de Salud Rural Santa Virginia"},{"$f":"IFERROR(VLOOKUP(Tabla_SERIED_11_6[[#This Row],[IdEstablecimiento]],'[2]Establecimiento 2023'!$A$1:$E$183,5,FALSE),0)","v":"04201-Illapel"},"15010100","2023-04-20T09:09:07",14,{"$nulls":3},14]
[1,"5",2023,"105450",{"$f":"IFERROR(VLOOKUP(Tabla_SERIED_11_6[[#This Row],[IdEstablecimiento]],'[2]Establecimiento 2023'!$A$1:$E$183,3,FALSE),0)","v":"105450-Posta de Salud Rural Mincha Norte"},{"$f":"IFERROR(VLOOKUP(Tabla_SERIED_11_6[[#This Row],[IdEstablecimiento]],'[2]Establecimiento 2023'!$A$1:$E$183,5,FALSE),0)","v":"04202-Canela"},"16100300","2023-04-19T07:32:05",225,107,118]
[1,"5",2023,"105452",{"$f":"IFERROR(VLOOKUP(Tabla_SERIED_11_6[[#This Row],[IdEstablecimiento]],'[2]Establecimiento 2023'!$A$1:$E$183,3,FALSE),0)","v":"105452-Posta de Salud Rural Cuncumén(Salamanca)"},{"$f":"IFERROR(VLOOKUP(Tabla_SERIED_11_6[[#This Row],[IdEstablecimiento]],'[2]Establecimiento 2023'!$A$1:$E$183,5,FALSE),0)","v":"04204-Salamanca"},"15050100","2023-04-19T07:32:39",20,8,12,null,null,2,3,null,5,8,1,null,null,1]
[1,"5",2023,"105452",{"$f":"IFERROR(VLOOKUP(Tabla_SERIED_11_6[[#This Row],[IdEstablecimiento]],'[2]Establecimiento 2023'!$A$1:$E$183,3,FALSE),0)","v":"105452-Posta de Salud Rural Cuncumén(Salamanca)"},{"$f":"IFERROR(VLOOKUP(Tabla_SERIED_11_6[[#This Row],[IdEstablecimiento]],'[2]Establecimiento 2023'!$A$1:$E$183,5,FALSE),0)","v":"04204-Salamanca"},"15080008","2023-04-19T07:32:39",2,{"$nulls":7},1,null,null,1]
[1,"5",2023,"105452",{"$f":"IFERROR(VLOOKUP(Tabla_SERIED_11_6[[#This Row],[IdEstablecimiento]],'[2]Establecimiento 2023'!$A$1:$E$183,3,FALSE),0)","v":"105452-Posta de Salud Rural Cuncumén(Salamanca)"},{"$f":"IFERROR(VLOOKUP(Tabla_SERIED_11_6[[#This Row],[IdEstablecimiento]],'[2]Establecimiento 2023'!$A$1:$E$183,5,FALSE),0)","v":"04204-Salamanca"},"15900010","2023-04-19T07:32:39",7.2,null,null,7.2]
[1,"5",2023,"105453",{"$f":"IFERROR(VLOOKUP(Tabla_SERIED_11_6[[#This Row],[IdEstablecimiento]],'[2]Establecimiento 2023'!$A$1:$E$183,3,FALSE),0)","v":"105453-Posta de Salud Rural Tranquilla"},{"$f":"IFERROR(VLOOKUP(Tabla_SERIED_11_6[[#This Row],[IdEstablecimiento]],'[2]Establecimiento 2023'!$A$1:$E$183,5,FALSE),0)","v":"04204-Salamanca"},"16200210","2023-04-19T07:32:57",6,6]
[1,"5",2023,"105455",{"$f":"IFERROR(VLOOKUP(Tabla_SERIED_11_6[[#This Row],[IdEstablecimiento]],'[2]Establecimiento 2023'!$A$1:$E$183,3,FALSE),0)","v":"105455-CESFAM Valle Alto"},{"$f":"IFERROR(VLOOKUP(Tabla_SERIED_11_6[[#This Row],[IdEstablecimiento]],'[2]Establecimiento 2023'!$A$1:$E$183,5,FALSE),0)","v":"04204-Salamanca"},"15010400","2023-04-20T10:07:24",2,{"$nulls":5},2]
[1,"5",2023,"105455",{"$f":"IFERROR(VLOOKUP(Tabla_SERIED_11_6[[#This Row],[IdEstablecimiento]],'[2]Establecimiento 2023'!$A$1:$E$183,3,FALSE),0)","v":"105455-CESFAM Valle Alto"},{"$f":"IFERROR(VLOOKUP(Tabla_SERIED_11_6[[#This Row],[IdEstablecimiento]],'[2]Establecimiento 2023'!$A$1:$E$183,5,FALSE),0)","v":"04204-Salamanca"},"15900050","2023-04-20T10:07:24",1,{"$nulls":4},1]
[1,"5",2023,"105456",{"$f":"IFERROR(VLOOKUP(Tabla_SERIED_11_6[[#This Row],[IdEstablecimiento]],'[2]Establecimiento 2023'!$A$1:$E$183,3,FALSE),0)","v":"105456-Posta de Salud Rural Llimpo"},{"$f":"IFERROR(VLOOKUP(Tabla_SERIED_11_6[[#This Row],[IdEstablecimiento]],'[2]Establecimiento 2023'!$A$1:$E$183,5,FALSE),0)","v":"04204-Salamanca"},"15900010","2023-04-19T07:33:43",7.9,null,4.3,3.6]
[1,"5",2023,"105456",{"$f":"IFERROR(VLOOKUP(Tabla_SERIED_11_6[[#This Row],[IdEstablecimiento]],'[2]Establecimiento 2023'!$A$1:$E$183,3,FALSE),0)","v":"105456-Posta de Salud Rural Llimpo"},{"$f":"IFERROR(VLOOKUP(Tabla_SERIED_11_6[[#This Row],[IdEstablecimiento]],'[2]Establecimiento 2023'!$A$1:$E$183,5,FALSE),0)","v":"04204-Salamanca"},"16090300","2023-04-19T07:33:43",36,36]
[1,"5",2023,"105456",{"$f":"IFERROR(VLOOKUP(Tabla_SERIED_11_6[[#This Row],[IdEstablecimiento]],'[2]Establecimiento 2023'!$A$1:$E$183,3,FALSE),0)","v":"105456-Posta de Salud Rural Llimpo"},{"$f":"IFERROR(VLOOKUP(Tabla_SERIED_11_6[[#This Row],[IdEstablecimiento]],'[2]Establecimiento 2023'!$A$1:$E$183,5,FALSE),0)","v":"04204-Salamanca"},"16200210","2023-04-19T07:33:43",1,1]
[1,"5",2023,"105457",{"$f":"IFERROR(VLOOKUP(Tabla_SERIED_11_6[[#This Row],[IdEstablecimiento]],'[2]Establecimiento 2023'!$A$1:$E$183,3,FALSE),0)","v":"105457-Posta de Salud Rural San Agustín (Salamanca)"},{"$f":"IFERROR(VLOOKUP(Tabla_SERIED_11_6[[#This Row],[IdEstablecimiento]],'[2]Establecimiento 2023'!$A$1:$E$183,5,FALSE),0)","v":"04204-Salamanca"},"15080008","2023-04-19T07:35:10",1,{"$nulls":10},1]
[1,"5",2023,"105458",{"$f":"IFERROR(VLOOKUP(Tabla_SERIED_11_6[[#This Row],[IdEstablecimiento]],'[2]Establecimiento 2023'!$A$1:$E$183,3,FALSE),0)","v":"105458-Posta de Salud Rural Tahuinco"},{"$f":"IFERROR(VLOOKUP(Tabla_SERIED_11_6[[#This Row],[IdEstablecimiento]],'[2]Establecimiento 2023'!$A$1:$E$183,5,FALSE),0)","v":"04204-Salamanca"},"16090300","2023-04-19T07:35:28",174,174]
[1,"5",2023,"105459",{"$f":"IFERROR(VLOOKUP(Tabla_SERIED_11_6[[#This Row],[IdEstablecimiento]],'[2]Establecimiento 2023'!$A$1:$E$183,3,FALSE),0)","v":"105459-Posta de Salud Rural Barrancas"},{"$f":"IFERROR(VLOOKUP(Tabla_SERIED_11_6[[#This Row],[IdEstablecimiento]],'[2]Establecimiento 2023'!$A$1:$E$183,5,FALSE),0)","v":"04302-Combarbalá"},"15050100","2023-04-19T07:35:51",7,6,1,{"$nulls":3},3,1,1,2]
[1,"5",2023,"105460",{"$f":"IFERROR(VLOOKUP(Tabla_SERIED_11_6[[#This Row],[IdEstablecimiento]],'[2]Establecimiento 2023'!$A$1:$E$183,3,FALSE),0)","v":"105460-Centro Comunitario de Salud Familiar Cogotí 18"},{"$f":"IFERROR(VLOOKUP(Tabla_SERIED_11_6[[#This Row],[IdEstablecimiento]],'[2]Establecimiento 2023'!$A$1:$E$183,5,FALSE),0)","v":"04302-Combarbalá"},"15010400","2023-04-21T09:15:54",2,{"$nulls":5},2]
[1,"5",2023,"105460",{"$f":"IFERROR(VLOOKUP(Tabla_SERIED_11_6[[#This Row],[IdEstablecimiento]],'[2]Establecimiento 2023'!$A$1:$E$183,3,FALSE),0)","v":"105460-Centro Comunitario de Salud Familiar Cogotí 18"},{"$f":"IFERROR(VLOOKUP(Tabla_SERIED_11_6[[#This Row],[IdEstablecimiento]],'[2]Establecimiento 2023'!$A$1:$E$183,5,FALSE),0)","v":"04302-Combarbalá"},"15050100","2023-04-21T09:15:54",19,9,10,null,null,1,2,1,4,7,null,null,2,null,2]
[1,"5",2023,"105464",{"$f":"IFERROR(VLOOKUP(Tabla_SERIED_11_6[[#This Row],[IdEstablecimiento]],'[2]Establecimiento 2023'!$A$1:$E$183,3,FALSE),0)","v":"105464-Posta de Salud Rural La Ligua"},{"$f":"IFERROR(VLOOKUP(Tabla_SERIED_11_6[[#This Row],[IdEstablecimiento]],'[2]Establecimiento 2023'!$A$1:$E$183,5,FALSE),0)","v":"04302-Combarbalá"},"15080008","2023-04-19T07:37:53",4,{"$nulls":7},3,{"$nulls":3},1]
[1,"5",2023,"105464",{"$f":"IFERROR(VLOOKUP(Tabla_SERIED_11_6[[#This Row],[IdEstablecimiento]],'[2]Establecimiento 2023'!$A$1:$E$183,3,FALSE),0)","v":"105464-Posta de Salud Rural La Ligua"},{"$f":"IFERROR(VLOOKUP(Tabla_SERIED_11_6[[#This Row],[IdEstablecimiento]],'[2]Establecimiento 2023'!$A$1:$E$183,5,FALSE),0)","v":"04302-Combarbalá"},"16200210","2023-04-19T07:37:53",3,3]
[1,"5",2023,"105466",{"$f":"IFERROR(VLOOKUP(Tabla_SERIED_11_6[[#This Row],[IdEstablecimiento]],'[2]Establecimiento 2023'!$A$1:$E$183,3,FALSE),0)","v":"105466-Posta de Salud Rural Valle Hermoso"},{"$f":"IFERROR(VLOOKUP(Tabla_SERIED_11_6[[#This Row],[IdEstablecimiento]],'[2]Establecimiento 2023'!$A$1:$E$183,5,FALSE),0)","v":"04302-Combarbalá"},"15010100","2023-04-19T07:38:40",6,{"$nulls":3},2,4]
[1,"5",2023,"105466",{"$f":"IFERROR(VLOOKUP(Tabla_SERIED_11_6[[#This Row],[IdEstablecimiento]],'[2]Establecimiento 2023'!$A$1:$E$183,3,FALSE),0)","v":"105466-Posta de Salud Rural Valle Hermoso"},{"$f":"IFERROR(VLOOKUP(Tabla_SERIED_11_6[[#This Row],[IdEstablecimiento]],'[2]Establecimiento 2023'!$A$1:$E$183,5,FALSE),0)","v":"04302-Combarbalá"},"16100300","2023-04-19T07:38:40",33,14,19]
[1,"5",2023,"105467",{"$f":"IFERROR(VLOOKUP(Tabla_SERIED_11_6[[#This Row],[IdEstablecimiento]],'[2]Establecimiento 2023'!$A$1:$E$183,3,FALSE),0)","v":"105467-Posta de Salud Rural Diaguitas"},{"$f":"IFERROR(VLOOKUP(Tabla_SERIED_11_6[[#This Row],[IdEstablecimiento]],'[2]Establecimiento 2023'!$A$1:$E$183,5,FALSE),0)","v":"04106-Vicuña"},"16100300","2023-04-19T07:38:56",30,16,14]
[1,"5",2023,"105468",{"$f":"IFERROR(VLOOKUP(Tabla_SERIED_11_6[[#This Row],[IdEstablecimiento]],'[2]Establecimiento 2023'!$A$1:$E$183,3,FALSE),0)","v":"105468-Posta de Salud Rural El Molle"},{"$f":"IFERROR(VLOOKUP(Tabla_SERIED_11_6[[#This Row],[IdEstablecimiento]],'[2]Establecimiento 2023'!$A$1:$E$183,5,FALSE),0)","v":"04106-Vicuña"},"15010200","2023-04-19T07:39:11",40,{"$nulls":4},12,20,8]
[1,"5",2023,"105468",{"$f":"IFERROR(VLOOKUP(Tabla_SERIED_11_6[[#This Row],[IdEstablecimiento]],'[2]Establecimiento 2023'!$A$1:$E$183,3,FALSE),0)","v":"105468-Posta de Salud Rural El Molle"},{"$f":"IFERROR(VLOOKUP(Tabla_SERIED_11_6[[#This Row],[IdEstablecimiento]],'[2]Establecimiento 2023'!$A$1:$E$183,5,FALSE),0)","v":"04106-Vicuña"},"15050100","2023-04-19T07:39:11",25,11,14,{"$nulls":3},2,6,10,4,2,null,1]
[1,"5",2023,"105468",{"$f":"IFERROR(VLOOKUP(Tabla_SERIED_11_6[[#This Row],[IdEstablecimiento]],'[2]Establecimiento 2023'!$A$1:$E$183,3,FALSE),0)","v":"105468-Posta de Salud Rural El Molle"},{"$f":"IFERROR(VLOOKUP(Tabla_SERIED_11_6[[#This Row],[IdEstablecimiento]],'[2]Establecimiento 2023'!$A$1:$E$183,5,FALSE),0)","v":"04106-Vicuña"},"16100300","2023-04-19T07:39:11",45,23,22]
[1,"5",2023,"105468",{"$f":"IFERROR(VLOOKUP(Tabla_SERIED_11_6[[#This Row],[IdEstablecimiento]],'[2]Establecimiento 2023'!$A$1:$E$183,3,FALSE),0)","v":"105468-Posta de Salud Rural El Molle"},{"$f":"IFERROR(VLOOKUP(Tabla_SERIED_11_6[[#This Row],[IdEstablecimiento]],'[2]Establecimiento 2023'!$A$1:$E$183,5,FALSE),0)","v":"04106-Vicuña"},"16200210","2023-04-19T07:39:11",1,1]
[1,"5",2023,"105473",{"$f":"IFERROR(VLOOKUP(Tabla_SERIED_11_6[[#This Row],[IdEstablecimiento]],'[2]Establecimiento 2023'!$A$1:$E$183,3,FALSE),0)","v":"105473-Posta de Salud Rural Talcuna"},{"$f":"IFERROR(VLOOKUP(Tabla_SERIED_11_6[[#This Row],[IdEstablecimiento]],'[2]Establecimiento 2023'!$A$1:$E$183,5,FALSE),0)","v":"04106-Vicuña"},"15010100","2023-04-19T07:42:35",10,{"$nulls":3},8,2]
[1,"5",2023,"105479",{"$f":"IFERROR(VLOOKUP(Tabla_SERIED_11_6[[#This Row],[IdEstablecimiento]],'[2]Establecimiento 2023'!$A$1:$E$183,3,FALSE),0)","v":"105479-Posta de Salud Rural Guangualí"},{"$f":"IFERROR(VLOOKUP(Tabla_SERIED_11_6[[#This Row],[IdEstablecimiento]],'[2]Establecimiento 2023'!$A$1:$E$183,5,FALSE),0)","v":"04203-Los Vilos"},"15900010","2023-04-19T07:43:42",3.2,null,3.2]
[1,"5",2023,"105481",{"$f":"IFERROR(VLOOKUP(Tabla_SERIED_11_6[[#This Row],[IdEstablecimiento]],'[2]Establecimiento 2023'!$A$1:$E$183,3,FALSE),0)","v":"105481-Posta de Salud Rural Tilama"},{"$f":"IFERROR(VLOOKUP(Tabla_SERIED_11_6[[#This Row],[IdEstablecimiento]],'[2]Establecimiento 2023'!$A$1:$E$183,5,FALSE),0)","v":"04203-Los Vilos"},"16200210","2023-04-19T07:44:16",1,1]
[1,"5",2023,"105483",{"$f":"IFERROR(VLOOKUP(Tabla_SERIED_11_6[[#This Row],[IdEstablecimiento]],'[2]Establecimiento 2023'!$A$1:$E$183,3,FALSE),0)","v":"105483-Posta de Salud Rural Los Rulos"},{"$f":"IFERROR(VLOOKUP(Tabla_SERIED_11_6[[#This Row],[IdEstablecimiento]],'[2]Establecimiento 2023'!$A$1:$E$183,5,FALSE),0)","v":"04202-Canela"},"16200210","2023-04-19T07:45:47",2,2]
[1,"5",2023,"105485",{"$f":"IFERROR(VLOOKUP(Tabla_SERIED_11_6[[#This Row],[IdEstablecimiento]],'[2]Establecimiento 2023'!$A$1:$E$183,3,FALSE),0)","v":"105485-Posta de Salud Rural Plan de Hornos"},{"$f":"IFERROR(VLOOKUP(Tabla_SERIED_11_6[[#This Row],[IdEstablecimiento]],'[2]Establecimiento 2023'!$A$1:$E$183,5,FALSE),0)","v":"04201-Illapel"},"15080008","2023-04-20T09:12:15",5,{"$nulls":7},1,null,4]
[1,"5",2023,"105485",{"$f":"IFERROR(VLOOKUP(Tabla_SERIED_11_6[[#This Row],[IdEstablecimiento]],'[2]Establecimiento 2023'!$A$1:$E$183,3,FALSE),0)","v":"105485-Posta de Salud Rural Plan de Hornos"},{"$f":"IFERROR(VLOOKUP(Tabla_SERIED_11_6[[#This Row],[IdEstablecimiento]],'[2]Establecimiento 2023'!$A$1:$E$183,5,FALSE),0)","v":"04201-Illapel"},"15900050","2023-04-20T09:12:15",1,1,{"$nulls":4},1]
[1,"5",2023,"105486",{"$f":"IFERROR(VLOOKUP(Tabla_SERIED_11_6[[#This Row],[IdEstablecimiento]],'[2]Establecimiento 2023'!$A$1:$E$183,3,FALSE),0)","v":"105486-Posta de Salud Rural Tunga Sur"},{"$f":"IFERROR(VLOOKUP(Tabla_SERIED_11_6[[#This Row],[IdEstablecimiento]],'[2]Establecimiento 2023'!$A$1:$E$183,5,FALSE),0)","v":"04201-Illapel"},"16200210","2023-04-20T09:12:33",10,10]
[1,"5",2023,"105489",{"$f":"IFERROR(VLOOKUP(Tabla_SERIED_11_6[[#This Row],[IdEstablecimiento]],'[2]Establecimiento 2023'!$A$1:$E$183,3,FALSE),0)","v":"105489-Posta de Salud Rural Ramadas de Tulahuén"},{"$f":"IFERROR(VLOOKUP(Tabla_SERIED_11_6[[#This Row],[IdEstablecimiento]],'[2]Establecimiento 2023'!$A$1:$E$183,5,FALSE),0)","v":"04303-Monte Patria"},"16090300","2023-04-19T07:47:47",32,32]
[1,"5",2023,"105489",{"$f":"IFERROR(VLOOKUP(Tabla_SERIED_11_6[[#This Row],[IdEstablecimiento]],'[2]Establecimiento 2023'!$A$1:$E$183,3,FALSE),0)","v":"105489-Posta de Salud Rural Ramadas de Tulahuén"},{"$f":"IFERROR(VLOOKUP(Tabla_SERIED_11_6[[#This Row],[IdEstablecimiento]],'[2]Establecimiento 2023'!$A$1:$E$183,5,FALSE),0)","v":"04303-Monte Patria"},"16100300","2023-04-19T07:47:47",32,17,15]
[1,"5",2023,"105490",{"$f":"IFERROR(VLOOKUP(Tabla_SERIED_11_6[[#This Row],[IdEstablecimiento]],'[2]Establecimiento 2023'!$A$1:$E$183,3,FALSE),0)","v":"105490-Posta de Salud Rural El Durazno(Combarbalá)"},{"$f":"IFERROR(VLOOKUP(Tabla_SERIED_11_6[[#This Row],[IdEstablecimiento]],'[2]Establecimiento 2023'!$A$1:$E$183,5,FALSE),0)","v":"04302-Combarbalá"},"16200220","2023-04-19T07:48:06",9,5,4]
[1,"5",2023,"105492",{"$f":"IFERROR(VLOOKUP(Tabla_SERIED_11_6[[#This Row],[IdEstablecimiento]],'[2]Establecimiento 2023'!$A$1:$E$183,3,FALSE),0)","v":"105492-Posta de Salud Rural Camisa"},{"$f":"IFERROR(VLOOKUP(Tabla_SERIED_11_6[[#This Row],[IdEstablecimiento]],'[2]Establecimiento 2023'!$A$1:$E$183,5,FALSE),0)","v":"04204-Salamanca"},"15010200","2023-04-20T09:33:31",14,{"$nulls":5},10,4]
[1,"5",2023,"105493",{"$f":"IFERROR(VLOOKUP(Tabla_SERIED_11_6[[#This Row],[IdEstablecimiento]],'[2]Establecimiento 2023'!$A$1:$E$183,3,FALSE),0)","v":"105493-Posta de Salud Rural Mincha Sur"},{"$f":"IFERROR(VLOOKUP(Tabla_SERIED_11_6[[#This Row],[IdEstablecimiento]],'[2]Establecimiento 2023'!$A$1:$E$183,5,FALSE),0)","v":"04202-Canela"},"16200220","2023-04-19T07:48:26",1,0,1]
[1,"5",2023,"105498",{"$f":"IFERROR(VLOOKUP(Tabla_SERIED_11_6[[#This Row],[IdEstablecimiento]],'[2]Establecimiento 2023'!$A$1:$E$183,3,FALSE),0)","v":"105498-Posta de Salud Rural Quebrada Linares"},{"$f":"IFERROR(VLOOKUP(Tabla_SERIED_11_6[[#This Row],[IdEstablecimiento]],'[2]Establecimiento 2023'!$A$1:$E$183,5,FALSE),0)","v":"04202-Canela"},"16200220","2023-04-19T07:49:10",4,2,2]
[1,"5",2023,"105499",{"$f":"IFERROR(VLOOKUP(Tabla_SERIED_11_6[[#This Row],[IdEstablecimiento]],'[2]Establecimiento 2023'!$A$1:$E$183,3,FALSE),0)","v":"105499-Posta de Salud Rural Lambert"},{"$f":"IFERROR(VLOOKUP(Tabla_SERIED_11_6[[#This Row],[IdEstablecimiento]],'[2]Establecimiento 2023'!$A$1:$E$183,5,FALSE),0)","v":"04101-La Serena"},"15010200","2023-04-19T07:49:25",18,{"$nulls":4},2,6,10]
[1,"5",2023,"105499",{"$f":"IFERROR(VLOOKUP(Tabla_SERIED_11_6[[#This Row],[IdEstablecimiento]],'[2]Establecimiento 2023'!$A$1:$E$183,3,FALSE),0)","v":"105499-Posta de Salud Rural Lambert"},{"$f":"IFERROR(VLOOKUP(Tabla_SERIED_11_6[[#This Row],[IdEstablecimiento]],'[2]Establecimiento 2023'!$A$1:$E$183,5,FALSE),0)","v":"04101-La Serena"},"15050100","2023-04-19T07:49:25",22,9,13,null,5,1,1,2,3,5,2,null,null,1,2]
[1,"5",2023,"105500",{"$f":"IFERROR(VLOOKUP(Tabla_SERIED_11_6[[#This Row],[IdEstablecimiento]],'[2]Establecimiento 2023'!$A$1:$E$183,3,FALSE),0)","v":"105500-Posta de Salud Rural Caleta Hornos"},{"$f":"IFERROR(VLOOKUP(Tabla_SERIED_11_6[[#This Row],[IdEstablecimiento]],'[2]Establecimiento 2023'!$A$1:$E$183,5,FALSE),0)","v":"04104-La Higuera"},"15010200","2023-07-19T15:06:23",24,{"$nulls":5},16,8]
[1,"5",2023,"105504",{"$f":"IFERROR(VLOOKUP(Tabla_SERIED_11_6[[#This Row],[IdEstablecimiento]],'[2]Establecimiento 2023'!$A$1:$E$183,3,FALSE),0)","v":"105504-Posta de Salud Rural Socavón"},{"$f":"IFERROR(VLOOKUP(Tabla_SERIED_11_6[[#This Row],[IdEstablecimiento]],'[2]Establecimiento 2023'!$A$1:$E$183,5,FALSE),0)","v":"04201-Illapel"},"16200220","2023-04-20T09:11:47",6,2,4]
[1,"5",2023,"105505",{"$f":"IFERROR(VLOOKUP(Tabla_SERIED_11_6[[#This Row],[IdEstablecimiento]],'[2]Establecimiento 2023'!$A$1:$E$183,3,FALSE),0)","v":"105505-Posta de Salud Rural Los Choros"},{"$f":"IFERROR(VLOOKUP(Tabla_SERIED_11_6[[#This Row],[IdEstablecimiento]],'[2]Establecimiento 2023'!$A$1:$E$183,5,FALSE),0)","v":"04104-La Higuera"},"16090300","2023-07-19T15:05:50",23,23]
[1,"5",2023,"105507",{"$f":"IFERROR(VLOOKUP(Tabla_SERIED_11_6[[#This Row],[IdEstablecimiento]],'[2]Establecimiento 2023'!$A$1:$E$183,3,FALSE),0)","v":"105507-Posta de Salud Rural Huamalata"},{"$f":"IFERROR(VLOOKUP(Tabla_SERIED_11_6[[#This Row],[IdEstablecimiento]],'[2]Establecimiento 2023'!$A$1:$E$183,5,FALSE),0)","v":"04301-Ovalle"},"15050100","2023-04-20T11:09:30",28,12,16,null,null,1,3,5,7,6,5,{"$nulls":3},1]
[1,"5",2023,"105507",{"$f":"IFERROR(VLOOKUP(Tabla_SERIED_11_6[[#This Row],[IdEstablecimiento]],'[2]Establecimiento 2023'!$A$1:$E$183,3,FALSE),0)","v":"105507-Posta de Salud Rural Huamalata"},{"$f":"IFERROR(VLOOKUP(Tabla_SERIED_11_6[[#This Row],[IdEstablecimiento]],'[2]Establecimiento 2023'!$A$1:$E$183,5,FALSE),0)","v":"04301-Ovalle"},"15900010","2023-04-20T11:09:30",2.7,null,null,2.7]
[1,"5",2023,"105700",{"$f":"IFERROR(VLOOKUP(Tabla_SERIED_11_6[[#This Row],[IdEstablecimiento]],'[2]Establecimiento 2023'!$A$1:$E$183,3,FALSE),0)","v":"105700-Centro Comunitario de Salud Familiar Villa el Indio"},{"$f":"IFERROR(VLOOKUP(Tabla_SERIED_11_6[[#This Row],[IdEstablecimiento]],'[2]Establecimiento 2023'!$A$1:$E$183,5,FALSE),0)","v":"04101-La Serena"},"15900050","2023-04-19T08:01:56",2,1,1,{"$nulls":4},2]
[1,"5",2023,"105701",{"$f":"IFERROR(VLOOKUP(Tabla_SERIED_11_6[[#This Row],[IdEstablecimiento]],'[2]Establecimiento 2023'!$A$1:$E$183,3,FALSE),0)","v":"105701-Centro Comunitario de Salud Familiar Villa Alemania"},{"$f":"IFERROR(VLOOKUP(Tabla_SERIED_11_6[[#This Row],[IdEstablecimiento]],'[2]Establecimiento 2023'!$A$1:$E$183,5,FALSE),0)","v":"04101-La Serena"},"16090300","2023-04-19T08:03:18",41,41]
[1,"5",2023,"105702",{"$f":"IFERROR(VLOOKUP(Tabla_SERIED_11_6[[#This Row],[IdEstablecimiento]],'[2]Establecimiento 2023'!$A$1:$E$183,3,FALSE),0)","v":"105702-Centro Comunitario de Salud Familiar Lambert"},{"$f":"IFERROR(VLOOKUP(Tabla_SERIED_11_6[[#This Row],[IdEstablecimiento]],'[2]Establecimiento 2023'!$A$1:$E$183,5,FALSE),0)","v":"04101-La Serena"},"15080008","2023-04-19T08:03:34",18,{"$nulls":7},5,null,12,null,1]
[1,"5",2023,"105702",{"$f":"IFERROR(VLOOKUP(Tabla_SERIED_11_6[[#This Row],[IdEstablecimiento]],'[2]Establecimiento 2023'!$A$1:$E$183,3,FALSE),0)","v":"105702-Centro Comunitario de Salud Familiar Lambert"},{"$f":"IFERROR(VLOOKUP(Tabla_SERIED_11_6[[#This Row],[IdEstablecimiento]],'[2]Establecimiento 2023'!$A$1:$E$183,5,FALSE),0)","v":"04101-La Serena"},"15900010","2023-04-19T08:03:34",11.7,null,4.5,7.2]
[1,"5",2023,"105722",{"$f":"IFERROR(VLOOKUP(Tabla_SERIED_11_6[[#This Row],[IdEstablecimiento]],'[2]Establecimiento 2023'!$A$1:$E$183,3,FALSE),0)","v":"105722-Centro Comunitario de Salud Familiar San José de la Dehesa"},{"$f":"IFERROR(VLOOKUP(Tabla_SERIED_11_6[[#This Row],[IdEstablecimiento]],'[2]Establecimiento 2023'!$A$1:$E$183,5,FALSE),0)","v":"04301-Ovalle"},"15050200","2023-04-20T11:10:20",9,5,4,null,2,null,null,1,4,1,null,1]
[1,"5",2023,"105723",{"$f":"IFERROR(VLOOKUP(Tabla_SERIED_11_6[[#This Row],[IdEstablecimiento]],'[2]Establecimiento 2023'!$A$1:$E$183,3,FALSE),0)","v":"105723-Centro Comunitario de Salud Familiar Limarí"},{"$f":"IFERROR(VLOOKUP(Tabla_SERIED_11_6[[#This Row],[IdEstablecimiento]],'[2]Establecimiento 2023'!$A$1:$E$183,5,FALSE),0)","v":"04301-Ovalle"},"15010400","2023-04-20T11:10:38",8,{"$nulls":5},6,2]
[1,"5",2023,"200258",{"$f":"IFERROR(VLOOKUP(Tabla_SERIED_11_6[[#This Row],[IdEstablecimiento]],'[2]Establecimiento 2023'!$A$1:$E$183,3,FALSE),0)","v":"200258-Centro Comunitario de Salud Familiar Los Copihues"},{"$f":"IFERROR(VLOOKUP(Tabla_SERIED_11_6[[#This Row],[IdEstablecimiento]],'[2]Establecimiento 2023'!$A$1:$E$183,5,FALSE),0)","v":"04301-Ovalle"},"16200220","2023-04-20T11:11:01",13,7,6]
[1,"5",2023,"200273",{"$f":"IFERROR(VLOOKUP(Tabla_SERIED_11_6[[#This Row],[IdEstablecimiento]],'[2]Establecimiento 2023'!$A$1:$E$183,3,FALSE),0)","v":"200273-Centro Comunitario de Salud Familiar Punta Mira"},{"$f":"IFERROR(VLOOKUP(Tabla_SERIED_11_6[[#This Row],[IdEstablecimiento]],'[2]Establecimiento 2023'!$A$1:$E$183,5,FALSE),0)","v":"04102-Coquimbo"},"15010200","2023-04-21T09:26:12",70,{"$nulls":4},12,28,30]
[1,"5",2023,"200366",{"$f":"IFERROR(VLOOKUP(Tabla_SERIED_11_6[[#This Row],[IdEstablecimiento]],'[2]Establecimiento 2023'!$A$1:$E$183,3,FALSE),0)","v":"200366-Centro de Salud Familiar Urbano de Illapel"},{"$f":"IFERROR(VLOOKUP(Tabla_SERIED_11_6[[#This Row],[IdEstablecimiento]],'[2]Establecimiento 2023'!$A$1:$E$183,5,FALSE),0)","v":"04201-Illapel"},"15010100","2023-04-21T09:27:50",138,{"$nulls":3},82,56]
[1,"5",2023,"200366",{"$f":"IFERROR(VLOOKUP(Tabla_SERIED_11_6[[#This Row],[IdEstablecimiento]],'[2]Establecimiento 2023'!$A$1:$E$183,3,FALSE),0)","v":"200366-Centro de Salud Familiar Urbano de Illapel"},{"$f":"IFERROR(VLOOKUP(Tabla_SERIED_11_6[[#This Row],[IdEstablecimiento]],'[2]Establecimiento 2023'!$A$1:$E$183,5,FALSE),0)","v":"04201-Illapel"},"15010200","2023-04-21T09:27:50",374,{"$nulls":4},44,182,148]
[8,"5",2023,"105511",{"$f":"IFERROR(VLOOKUP(Tabla_SERIED_11_6[[#This Row],[IdEstablecimiento]],'[2]Establecimiento 2023'!$A$1:$E$183,3,FALSE),0)","v":"105511-Posta de Salud Rural Los Cóndores"},{"$f":"IFERROR(VLOOKUP(Tabla_SERIED_11_6[[#This Row],[IdEstablecimiento]],'[2]Establecimiento 2023'!$A$1:$E$183,5,FALSE),0)","v":"04203-Los Vilos"},"15900010","2023-09-25T10:56:05",11.2,null,4.8,6.4]
[8,"5",2023,"105701",{"$f":"IFERROR(VLOOKUP(Tabla_SERIED_11_6[[#This Row],[IdEstablecimiento]],'[2]Establecimiento 2023'!$A$1:$E$183,3,FALSE),0)","v":"105701-Centro Comunitario de Salud Familiar Villa Alemania"},{"$f":"IFERROR(VLOOKUP(Tabla_SERIED_11_6[[#This Row],[IdEstablecimiento]],'[2]Establecimiento 2023'!$A$1:$E$183,5,FALSE),0)","v":"04101-La Serena"},"15900010","2023-09-25T10:57:58",4.9,1.6,2.4,0.9]
[8,"5",2023,"105701",{"$f":"IFERROR(VLOOKUP(Tabla_SERIED_11_6[[#This Row],[IdEstablecimiento]],'[2]Establecimiento 2023'!$A$1:$E$183,3,FALSE),0)","v":"105701-Centro Comunitario de Salud Familiar Villa Alemania"},{"$f":"IFERROR(VLOOKUP(Tabla_SERIED_11_6[[#This Row],[IdEstablecimiento]],'[2]Establecimiento 2023'!$A$1:$E$183,5,FALSE),0)","v":"04101-La Serena"},"16200220","2023-09-25T10:57:58",24,5,19]
[8,"5",2023,"105723",{"$f":"IFERROR(VLOOKUP(Tabla_SERIED_11_6[[#This Row],[IdEstablecimiento]],'[2]Establecimiento 2023'!$A$1:$E$183,3,FALSE),0)","v":"105723-Centro Comunitario de Salud Familiar Limarí"},{"$f":"IFERROR(VLOOKUP(Tabla_SERIED_11_6[[#This Row],[IdEstablecimiento]],'[2]Establecimiento 2023'!$A$1:$E$183,5,FALSE),0)","v":"04301-Ovalle"},"15080008","2023-09-25T10:59:40",19,{"$nulls":7},11,null,2,1,5]
[8,"5",2023,"105723",{"$f":"IFERROR(VLOOKUP(Tabla_SERIED_11_6[[#This Row],[IdEstablecimiento]],'[2]Establecimiento 2023'!$A$1:$E$183,3,FALSE),0)","v":"105723-Centro Comunitario de Salud Familiar Limarí"},{"$f":"IFERROR(VLOOKUP(Tabla_SERIED_11_6[[#This Row],[IdEstablecimiento]],'[2]Establecimiento 2023'!$A$1:$E$183,5,FALSE),0)","v":"04301-Ovalle"},"15080015","2023-09-25T10:59:40",66,{"$nulls":5},40,26]
[8,"5",2023,"200258",{"$f":"IFERROR(VLOOKUP(Tabla_SERIED_11_6[[#This Row],[IdEstablecimiento]],'[2]Establecimiento 2023'!$A$1:$E$183,3,FALSE),0)","v":"200258-Centro Comunitario de Salud Familiar Los Copihues"},{"$f":"IFERROR(VLOOKUP(Tabla_SERIED_11_6[[#This Row],[IdEstablecimiento]],'[2]Establecimiento 2023'!$A$1:$E$183,5,FALSE),0)","v":"04301-Ovalle"},"15080008","2023-09-25T11:01:48",21,{"$nulls":7},10,null,6,1,4]
[8,"5",2023,"200273",{"$f":"IFERROR(VLOOKUP(Tabla_SERIED_11_6[[#This Row],[IdEstablecimiento]],'[2]Establecimiento 2023'!$A$1:$E$183,3,FALSE),0)","v":"200273-Centro Comunitario de Salud Familiar Punta Mira"},{"$f":"IFERROR(VLOOKUP(Tabla_SERIED_11_6[[#This Row],[IdEstablecimiento]],'[2]Establecimiento 2023'!$A$1:$E$183,5,FALSE),0)","v":"04102-Coquimbo"},"15080008","2023-09-25T11:01:51",20,{"$nulls":7},12,null,2,0,6]
[8,"5",2023,"200273",{"$f":"IFERROR(VLOOKUP(Tabla_SERIED_11_6[[#This Row],[IdEstablecimiento]],'[2]Establecimiento 2023'!$A$1:$E$183,3,FALSE),0)","v":"200273-Centro Comunitario de Salud Familiar Punta Mira"},{"$f":"IFERROR(VLOOKUP(Tabla_SERIED_11_6[[#This Row],[IdEstablecimiento]],'[2]Establecimiento 2023'!$A$1:$E$183,5,FALSE),0)","v":"04102-Coquimbo"},"16200210","2023-09-25T11:01:51",2,2]
[8,"5",2023,"200366",{"$f":"IFERROR(VLOOKUP(Tabla_SERIED_11_6[[#This Row],[IdEstablecimiento]],'[2]Establecimiento 2023'!$A$1:$E$183,3,FALSE),0)","v":"200366-Centro de Salud Familiar Urbano de Illapel"},{"$f":"IFERROR(VLOOKUP(Tabla_SERIED_11_6[[#This Row],[IdEstablecimiento]],'[2]Establecimiento 2023'!$A$1:$E$183,5,FALSE),0)","v":"04201-Illapel"},"15030100","2023-09-25T11:02:59",3.6,3.6]
[8,"5",2023,"200402",{"$f":"IFERROR(VLOOKUP(Tabla_SERIED_11_6[[#This Row],[IdEstablecimiento]],'[2]Establecimiento 2023'!$A$1:$E$183,3,FALSE),0)","v":"200402-Centro Comunitario de Salud Familiar Arcos de Pinamar"},{"$f":"IFERROR(VLOOKUP(Tabla_SERIED_11_6[[#This Row],[IdEstablecimiento]],'[2]Establecimiento 2023'!$A$1:$E$183,5,FALSE),0)","v":"04101-La Serena"},"16090300","2023-09-25T11:04:20",71,71]
[8,"5",2023,"200494",{"$f":"IFERROR(VLOOKUP(Tabla_SERIED_11_6[[#This Row],[IdEstablecimiento]],'[2]Establecimiento 2023'!$A$1:$E$183,3,FALSE),0)","v":"200494-Centro de Salud Familiar El Sauce"},{"$f":"IFERROR(VLOOKUP(Tabla_SERIED_11_6[[#This Row],[IdEstablecimiento]],'[2]Establecimiento 2023'!$A$1:$E$183,5,FALSE),0)","v":"04102-Coquimbo"},"15080009","2023-09-25T11:04:28",3,{"$nulls":8},3]
[8,"5",2023,"200494",{"$f":"IFERROR(VLOOKUP(Tabla_SERIED_11_6[[#This Row],[IdEstablecimiento]],'[2]Establecimiento 2023'!$A$1:$E$183,3,FALSE),0)","v":"200494-Centro de Salud Familiar El Sauce"},{"$f":"IFERROR(VLOOKUP(Tabla_SERIED_11_6[[#This Row],[IdEstablecimiento]],'[2]Establecimiento 2023'!$A$1:$E$183,5,FALSE),0)","v":"04102-Coquimbo"},"15080019","2023-09-25T11:04:28",12,{"$nulls":5},6,6]
[8,"5",2023,"200494",{"$f":"IFERROR(VLOOKUP(Tabla_SERIED_11_6[[#This Row],[IdEstablecimiento]],'[2]Establecimiento 2023'!$A$1:$E$183,3,FALSE),0)","v":"200494-Centro de Salud Familiar El Sauce"},{"$f":"IFERROR(VLOOKUP(Tabla_SERIED_11_6[[#This Row],[IdEstablecimiento]],'[2]Establecimiento 2023'!$A$1:$E$183,5,FALSE),0)","v":"04102-Coquimbo"},"16200230","2023-09-25T11:04:28",5,2,3]
[8,"5",2023,"200538",{"$f":"IFERROR(VLOOKUP(Tabla_SERIED_11_6[[#This Row],[IdEstablecimiento]],'[2]Establecimiento 2023'!$A$1:$E$183,3,FALSE),0)","v":"200538-Centro de Salud Familiar San Isidro Calingasta"},{"$f":"IFERROR(VLOOKUP(Tabla_SERIED_11_6[[#This Row],[IdEstablecimiento]],'[2]Establecimiento 2023'!$A$1:$E$183,5,FALSE),0)","v":"04106-Vicuña"},"15900030","2023-10-17T15:44:46",6.4,null,null,3.2,null,3.2]
[8,"5",2023,"200569",{"$f":"IFERROR(VLOOKUP(Tabla_SERIED_11_6[[#This Row],[IdEstablecimiento]],'[2]Establecimiento 2023'!$A$1:$E$183,3,FALSE),0)","v":"200569-Centro de Salud Familiar Fray Jorge"},{"$f":"IFERROR(VLOOKUP(Tabla_SERIED_11_6[[#This Row],[IdEstablecimiento]],'[2]Establecimiento 2023'!$A$1:$E$183,5,FALSE),0)","v":"04301-Ovalle"},"15901400","2023-09-25T11:07:23",6,3,3,1,null,2,1,2]
[8,"5",2023,"200569",{"$f":"IFERROR(VLOOKUP(Tabla_SERIED_11_6[[#This Row],[IdEstablecimiento]],'[2]Establecimiento 2023'!$A$1:$E$183,3,FALSE),0)","v":"200569-Centro de Salud Familiar Fray Jorge"},{"$f":"IFERROR(VLOOKUP(Tabla_SERIED_11_6[[#This Row],[IdEstablecimiento]],'[2]Establecimiento 2023'!$A$1:$E$183,5,FALSE),0)","v":"04301-Ovalle"},"16200210","2023-09-25T11:07:23",3,5]
[8,"5",2023,"200607",{"$f":"IFERROR(VLOOKUP(Tabla_SERIED_11_6[[#This Row],[IdEstablecimiento]],'[2]Establecimiento 2023'!$A$1:$E$183,3,FALSE),0)","v":"200607-Centro de Salud Familiar Lila Cortés Godoy"},{"$f":"IFERROR(VLOOKUP(Tabla_SERIED_11_6[[#This Row],[IdEstablecimiento]],'[2]Establecimiento 2023'!$A$1:$E$183,5,FALSE),0)","v":"04102-Coquimbo"},"15080015","2023-09-25T11:07:27",497,{"$nulls":5},278,219]
[8,"5",2023,"200607",{"$f":"IFERROR(VLOOKUP(Tabla_SERIED_11_6[[#This Row],[IdEstablecimiento]],'[2]Establecimiento 2023'!$A$1:$E$183,3,FALSE),0)","v":"200607-Centro de Salud Familiar Lila Cortés Godoy"},{"$f":"IFERROR(VLOOKUP(Tabla_SERIED_11_6[[#This Row],[IdEstablecimiento]],'[2]Establecimiento 2023'!$A$1:$E$183,5,FALSE),0)","v":"04102-Coquimbo"},"15900030","2023-09-25T11:07:27",18.4,null,3.2,4.8,3.2,7.2]
[2,"5",2023,"105106",{"$f":"IFERROR(VLOOKUP(Tabla_SERIED_11_6[[#This Row],[IdEstablecimiento]],'[2]Establecimiento 2023'!$A$1:$E$183,3,FALSE),0)","v":"105106-Hospital Dr. José Arraño (Andacollo)"},{"$f":"IFERROR(VLOOKUP(Tabla_SERIED_11_6[[#This Row],[IdEstablecimiento]],'[2]Establecimiento 2023'!$A$1:$E$183,5,FALSE),0)","v":"105106-Hospital Andacollo"},"15010100","2023-04-19T08:10:29",38,{"$nulls":3},30,8]
[2,"5",2023,"105106",{"$f":"IFERROR(VLOOKUP(Tabla_SERIED_11_6[[#This Row],[IdEstablecimiento]],'[2]Establecimiento 2023'!$A$1:$E$183,3,FALSE),0)","v":"105106-Hospital Dr. José Arraño (Andacollo)"},{"$f":"IFERROR(VLOOKUP(Tabla_SERIED_11_6[[#This Row],[IdEstablecimiento]],'[2]Establecimiento 2023'!$A$1:$E$183,5,FALSE),0)","v":"105106-Hospital Andacollo"},"15050200","2023-04-19T08:10:29",5,3,2,{"$nulls":5},4,1]
[2,"5",2023,"105107",{"$f":"IFERROR(VLOOKUP(Tabla_SERIED_11_6[[#This Row],[IdEstablecimiento]],'[2]Establecimiento 2023'!$A$1:$E$183,3,FALSE),0)","v":"105107-Hospital San Juan de Dios (Vicuña)"},{"$f":"IFERROR(VLOOKUP(Tabla_SERIED_11_6[[#This Row],[IdEstablecimiento]],'[2]Establecimiento 2023'!$A$1:$E$183,5,FALSE),0)","v":"105107-Hospital Vicuña"},"16090300","2023-04-19T08:10:44",347,347]
[2,"5",2023,"105300",{"$f":"IFERROR(VLOOKUP(Tabla_SERIED_11_6[[#This Row],[IdEstablecimiento]],'[2]Establecimiento 2023'!$A$1:$E$183,3,FALSE),0)","v":"105300-Centro de Salud Familiar Cardenal Caro"},{"$f":"IFERROR(VLOOKUP(Tabla_SERIED_11_6[[#This Row],[IdEstablecimiento]],'[2]Establecimiento 2023'!$A$1:$E$183,5,FALSE),0)","v":"04101-La Serena"},"15040100","2023-04-19T08:11:09",8,8]
[2,"5",2023,"105300",{"$f":"IFERROR(VLOOKUP(Tabla_SERIED_11_6[[#This Row],[IdEstablecimiento]],'[2]Establecimiento 2023'!$A$1:$E$183,3,FALSE),0)","v":"105300-Centro de Salud Familiar Cardenal Caro"},{"$f":"IFERROR(VLOOKUP(Tabla_SERIED_11_6[[#This Row],[IdEstablecimiento]],'[2]Establecimiento 2023'!$A$1:$E$183,5,FALSE),0)","v":"04101-La Serena"},"15080009","2023-04-19T08:11:09",3,{"$nulls":8},3]
[2,"5",2023,"105300",{"$f":"IFERROR(VLOOKUP(Tabla_SERIED_11_6[[#This Row],[IdEstablecimiento]],'[2]Establecimiento 2023'!$A$1:$E$183,3,FALSE),0)","v":"105300-Centro de Salud Familiar Cardenal Caro"},{"$f":"IFERROR(VLOOKUP(Tabla_SERIED_11_6[[#This Row],[IdEstablecimiento]],'[2]Establecimiento 2023'!$A$1:$E$183,5,FALSE),0)","v":"04101-La Serena"},"15901300","2023-04-19T08:11:09",22.4,null,4,16.4,null,2]
[2,"5",2023,"105300",{"$f":"IFERROR(VLOOKUP(Tabla_SERIED_11_6[[#This Row],[IdEstablecimiento]],'[2]Establecimiento 2023'!$A$1:$E$183,3,FALSE),0)","v":"105300-Centro de Salud Familiar Cardenal Caro"},{"$f":"IFERROR(VLOOKUP(Tabla_SERIED_11_6[[#This Row],[IdEstablecimiento]],'[2]Establecimiento 2023'!$A$1:$E$183,5,FALSE),0)","v":"04101-La Serena"},"15901400","2023-04-19T08:11:09",26,16,10,null,1,15,4,6]
[2,"5",2023,"105301",{"$f":"IFERROR(VLOOKUP(Tabla_SERIED_11_6[[#This Row],[IdEstablecimiento]],'[2]Establecimiento 2023'!$A$1:$E$183,3,FALSE),0)","v":"105301-Centro de Salud Familiar Las Compañías"},{"$f":"IFERROR(VLOOKUP(Tabla_SERIED_11_6[[#This Row],[IdEstablecimiento]],'[2]Establecimiento 2023'!$A$1:$E$183,5,FALSE),0)","v":"04101-La Serena"},"15050100","2023-04-19T08:11:32",341,114,227,2,12,32,43,36,67,47,61,null,17,6,18]
[2,"5",2023,"105302",{"$f":"IFERROR(VLOOKUP(Tabla_SERIED_11_6[[#This Row],[IdEstablecimiento]],'[2]Establecimiento 2023'!$A$1:$E$183,3,FALSE),0)","v":"105302-Centro de Salud Familiar Pedro Aguirre Cerda"},{"$f":"IFERROR(VLOOKUP(Tabla_SERIED_11_6[[#This Row],[IdEstablecimiento]],'[2]Establecimiento 2023'!$A$1:$E$183,5,FALSE),0)","v":"04101-La Serena"},"15020200","2023-04-19T08:11:45",20,{"$nulls":4},2,4,14]
[2,"5",2023,"105302",{"$f":"IFERROR(VLOOKUP(Tabla_SERIED_11_6[[#This Row],[IdEstablecimiento]],'[2]Establecimiento 2023'!$A$1:$E$183,3,FALSE),0)","v":"105302-Centro de Salud Familiar Pedro Aguirre Cerda"},{"$f":"IFERROR(VLOOKUP(Tabla_SERIED_11_6[[#This Row],[IdEstablecimiento]],'[2]Establecimiento 2023'!$A$1:$E$183,5,FALSE),0)","v":"04101-La Serena"},"15900040","2023-04-19T08:11:45",24.4,3.2,null,17.6,3.6]
[2,"5",2023,"105304",{"$f":"IFERROR(VLOOKUP(Tabla_SERIED_11_6[[#This Row],[IdEstablecimiento]],'[2]Establecimiento 2023'!$A$1:$E$183,3,FALSE),0)","v":"105304-Centro de Salud Familiar Santa Cecilia"},{"$f":"IFERROR(VLOOKUP(Tabla_SERIED_11_6[[#This Row],[IdEstablecimiento]],'[2]Establecimiento 2023'!$A$1:$E$183,5,FALSE),0)","v":"04102-Coquimbo"},"15010200","2023-04-20T07:04:33",480,{"$nulls":4},84,196,200]
[2,"5",2023,"105304",{"$f":"IFERROR(VLOOKUP(Tabla_SERIED_11_6[[#This Row],[IdEstablecimiento]],'[2]Establecimiento 2023'!$A$1:$E$183,3,FALSE),0)","v":"105304-Centro de Salud Familiar Santa Cecilia"},{"$f":"IFERROR(VLOOKUP(Tabla_SERIED_11_6[[#This Row],[IdEstablecimiento]],'[2]Establecimiento 2023'!$A$1:$E$183,5,FALSE),0)","v":"04102-Coquimbo"},"15900050","2023-04-20T07:04:33",5,4,1,0,0,3,1,1,0,0]
[2,"5",2023,"105304",{"$f":"IFERROR(VLOOKUP(Tabla_SERIED_11_6[[#This Row],[IdEstablecimiento]],'[2]Establecimiento 2023'!$A$1:$E$183,3,FALSE),0)","v":"105304-Centro de Salud Familiar Santa Cecilia"},{"$f":"IFERROR(VLOOKUP(Tabla_SERIED_11_6[[#This Row],[IdEstablecimiento]],'[2]Establecimiento 2023'!$A$1:$E$183,5,FALSE),0)","v":"04102-Coquimbo"},"15901500","2023-04-20T07:04:33",5.6,0,0,5.6]
[2,"5",2023,"105304",{"$f":"IFERROR(VLOOKUP(Tabla_SERIED_11_6[[#This Row],[IdEstablecimiento]],'[2]Establecimiento 2023'!$A$1:$E$183,3,FALSE),0)","v":"105304-Centro de Salud Familiar Santa Cecilia"},{"$f":"IFERROR(VLOOKUP(Tabla_SERIED_11_6[[#This Row],[IdEstablecimiento]],'[2]Establecimiento 2023'!$A$1:$E$183,5,FALSE),0)","v":"04102-Coquimbo"},"16200220","2023-04-20T07:04:33",43,14,29]
[2,"5",2023,"105304",{"$f":"IFERROR(VLOOKUP(Tabla_SERIED_11_6[[#This Row],[IdEstablecimiento]],'[2]Establecimiento 2023'!$A$1:$E$183,3,FALSE),0)","v":"105304-Centro de Salud Familiar Santa Cecilia"},{"$f":"IFERROR(VLOOKUP(Tabla_SERIED_11_6[[#This Row],[IdEstablecimiento]],'[2]Establecimiento 2023'!$A$1:$E$183,5,FALSE),0)","v":"04102-Coquimbo"},"16200230","2023-04-20T07:04:33",2,1,1]
[2,"5",2023,"105306",{"$f":"IFERROR(VLOOKUP(Tabla_SERIED_11_6[[#This Row],[IdEstablecimiento]],'[2]Establecimiento 2023'!$A$1:$E$183,3,FALSE),0)","v":"105306-Centro de Salud Familiar Paihuano"},{"$f":"IFERROR(VLOOKUP(Tabla_SERIED_11_6[[#This Row],[IdEstablecimiento]],'[2]Establecimiento 2023'!$A$1:$E$183,5,FALSE),0)","v":"04105-Paihuano"},"15900050","2023-04-20T07:05:06",1,1,{"$nulls":3},1]
[2,"5",2023,"105306",{"$f":"IFERROR(VLOOKUP(Tabla_SERIED_11_6[[#This Row],[IdEstablecimiento]],'[2]Establecimiento 2023'!$A$1:$E$183,3,FALSE),0)","v":"105306-Centro de Salud Familiar Paihuano"},{"$f":"IFERROR(VLOOKUP(Tabla_SERIED_11_6[[#This Row],[IdEstablecimiento]],'[2]Establecimiento 2023'!$A$1:$E$183,5,FALSE),0)","v":"04105-Paihuano"},"16090300","2023-04-20T07:05:06",62,62]
[2,"5",2023,"105306",{"$f":"IFERROR(VLOOKUP(Tabla_SERIED_11_6[[#This Row],[IdEstablecimiento]],'[2]Establecimiento 2023'!$A$1:$E$183,3,FALSE),0)","v":"105306-Centro de Salud Familiar Paihuano"},{"$f":"IFERROR(VLOOKUP(Tabla_SERIED_11_6[[#This Row],[IdEstablecimiento]],'[2]Establecimiento 2023'!$A$1:$E$183,5,FALSE),0)","v":"04105-Paihuano"},"16100300","2023-04-20T07:05:06",62,26,36]
[2,"5",2023,"105307",{"$f":"IFERROR(VLOOKUP(Tabla_SERIED_11_6[[#This Row],[IdEstablecimiento]],'[2]Establecimiento 2023'!$A$1:$E$183,3,FALSE),0)","v":"105307-Centro de Salud Familiar Monte Patria"},{"$f":"IFERROR(VLOOKUP(Tabla_SERIED_11_6[[#This Row],[IdEstablecimiento]],'[2]Establecimiento 2023'!$A$1:$E$183,5,FALSE),0)","v":"04303-Monte Patria"},"15050200","2023-04-19T08:12:29",3,2,1,{"$nulls":3},1,null,2]
[2,"5",2023,"105307",{"$f":"IFERROR(VLOOKUP(Tabla_SERIED_11_6[[#This Row],[IdEstablecimiento]],'[2]Establecimiento 2023'!$A$1:$E$183,3,FALSE),0)","v":"105307-Centro de Salud Familiar Monte Patria"},{"$f":"IFERROR(VLOOKUP(Tabla_SERIED_11_6[[#This Row],[IdEstablecimiento]],'[2]Establecimiento 2023'!$A$1:$E$183,5,FALSE),0)","v":"04303-Monte Patria"},"15900050","2023-04-19T08:12:29",1,null,1,null,null,1]
[2,"5",2023,"105308",{"$f":"IFERROR(VLOOKUP(Tabla_SERIED_11_6[[#This Row],[IdEstablecimiento]],'[2]Establecimiento 2023'!$A$1:$E$183,3,FALSE),0)","v":"105308-Centro de Salud Familiar Punitaqui"},{"$f":"IFERROR(VLOOKUP(Tabla_SERIED_11_6[[#This Row],[IdEstablecimiento]],'[2]Establecimiento 2023'!$A$1:$E$183,5,FALSE),0)","v":"04304-Punitaqui"},"15010400","2023-04-24T06:47:48",6,{"$nulls":4},2,2,2]
[2,"5",2023,"105308",{"$f":"IFERROR(VLOOKUP(Tabla_SERIED_11_6[[#This Row],[IdEstablecimiento]],'[2]Establecimiento 2023'!$A$1:$E$183,3,FALSE),0)","v":"105308-Centro de Salud Familiar Punitaqui"},{"$f":"IFERROR(VLOOKUP(Tabla_SERIED_11_6[[#This Row],[IdEstablecimiento]],'[2]Establecimiento 2023'!$A$1:$E$183,5,FALSE),0)","v":"04304-Punitaqui"},"15010500","2023-04-24T06:47:48",10,{"$nulls":4},6,2,2]
[2,"5",2023,"105308",{"$f":"IFERROR(VLOOKUP(Tabla_SERIED_11_6[[#This Row],[IdEstablecimiento]],'[2]Establecimiento 2023'!$A$1:$E$183,3,FALSE),0)","v":"105308-Centro de Salud Familiar Punitaqui"},{"$f":"IFERROR(VLOOKUP(Tabla_SERIED_11_6[[#This Row],[IdEstablecimiento]],'[2]Establecimiento 2023'!$A$1:$E$183,5,FALSE),0)","v":"04304-Punitaqui"},"15050200","2023-04-24T06:47:48",5,4,1,{"$nulls":4},3,1,1]
[2,"5",2023,"105308",{"$f":"IFERROR(VLOOKUP(Tabla_SERIED_11_6[[#This Row],[IdEstablecimiento]],'[2]Establecimiento 2023'!$A$1:$E$183,3,FALSE),0)","v":"105308-Centro de Salud Familiar Punitaqui"},{"$f":"IFERROR(VLOOKUP(Tabla_SERIED_11_6[[#This Row],[IdEstablecimiento]],'[2]Establecimiento 2023'!$A$1:$E$183,5,FALSE),0)","v":"04304-Punitaqui"},"15050500","2023-04-24T06:47:48",3,2,1,null,null,3]
[2,"5",2023,"105309",{"$f":"IFERROR(VLOOKUP(Tabla_SERIED_11_6[[#This Row],[IdEstablecimiento]],'[2]Establecimiento 2023'!$A$1:$E$183,3,FALSE),0)","v":"105309-Centro de Salud Familiar Canela"},{"$f":"IFERROR(VLOOKUP(Tabla_SERIED_11_6[[#This Row],[IdEstablecimiento]],'[2]Establecimiento 2023'!$A$1:$E$183,5,FALSE),0)","v":"04202-Canela"},"15010100","2023-04-20T09:25:53",58,{"$nulls":3},44,14]
[2,"5",2023,"105309",{"$f":"IFERROR(VLOOKUP(Tabla_SERIED_11_6[[#This Row],[IdEstablecimiento]],'[2]Establecimiento 2023'!$A$1:$E$183,3,FALSE),0)","v":"105309-Centro de Salud Familiar Canela"},{"$f":"IFERROR(VLOOKUP(Tabla_SERIED_11_6[[#This Row],[IdEstablecimiento]],'[2]Establecimiento 2023'!$A$1:$E$183,5,FALSE),0)","v":"04202-Canela"},"15080008","2023-04-20T09:25:53",35,{"$nulls":7},14,null,18,2,1]
[2,"5",2023,"105309",{"$f":"IFERROR(VLOOKUP(Tabla_SERIED_11_6[[#This Row],[IdEstablecimiento]],'[2]Establecimiento 2023'!$A$1:$E$183,3,FALSE),0)","v":"105309-Centro de Salud Familiar Canela"},{"$f":"IFERROR(VLOOKUP(Tabla_SERIED_11_6[[#This Row],[IdEstablecimiento]],'[2]Establecimiento 2023'!$A$1:$E$183,5,FALSE),0)","v":"04202-Canela"},"16100600","2023-04-20T09:25:53",1,0,1]
[2,"5",2023,"105310",{"$f":"IFERROR(VLOOKUP(Tabla_SERIED_11_6[[#This Row],[IdEstablecimiento]],'[2]Establecimiento 2023'!$A$1:$E$183,3,FALSE),0)","v":"105310-Centro de Salud Familiar Pichasca"},{"$f":"IFERROR(VLOOKUP(Tabla_SERIED_11_6[[#This Row],[IdEstablecimiento]],'[2]Establecimiento 2023'!$A$1:$E$183,5,FALSE),0)","v":"04305-Rio Hurtado"},"15010100","2023-04-19T08:12:50",8,{"$nulls":3},8]
[2,"5",2023,"105310",{"$f":"IFERROR(VLOOKUP(Tabla_SERIED_11_6[[#This Row],[IdEstablecimiento]],'[2]Establecimiento 2023'!$A$1:$E$183,3,FALSE),0)","v":"105310-Centro de Salud Familiar Pichasca"},{"$f":"IFERROR(VLOOKUP(Tabla_SERIED_11_6[[#This Row],[IdEstablecimiento]],'[2]Establecimiento 2023'!$A$1:$E$183,5,FALSE),0)","v":"04305-Rio Hurtado"},"15050200","2023-04-19T08:12:50",3,1,2,{"$nulls":5},2,1]
[2,"5",2023,"105311",{"$f":"IFERROR(VLOOKUP(Tabla_SERIED_11_6[[#This Row],[IdEstablecimiento]],'[2]Establecimiento 2023'!$A$1:$E$183,3,FALSE),0)","v":"105311-Centro de Salud Familiar Chañaral Alto"},{"$f":"IFERROR(VLOOKUP(Tabla_SERIED_11_6[[#This Row],[IdEstablecimiento]],'[2]Establecimiento 2023'!$A$1:$E$183,5,FALSE),0)","v":"04303-Monte Patria"},"15050100","2023-04-19T08:13:04",110,56,54,null,2,7,9,14,22,24,21,null,9,null,2]
[2,"5",2023,"105311",{"$f":"IFERROR(VLOOKUP(Tabla_SERIED_11_6[[#This Row],[IdEstablecimiento]],'[2]Establecimiento 2023'!$A$1:$E$183,3,FALSE),0)","v":"105311-Centro de Salud Familiar Chañaral Alto"},{"$f":"IFERROR(VLOOKUP(Tabla_SERIED_11_6[[#This Row],[IdEstablecimiento]],'[2]Establecimiento 2023'!$A$1:$E$183,5,FALSE),0)","v":"04303-Monte Patria"},"15900010","2023-04-19T08:13:04",20.8,null,5.6,15.2]
[2,"5",2023,"105311",{"$f":"IFERROR(VLOOKUP(Tabla_SERIED_11_6[[#This Row],[IdEstablecimiento]],'[2]Establecimiento 2023'!$A$1:$E$183,3,FALSE),0)","v":"105311-Centro de Salud Familiar Chañaral Alto"},{"$f":"IFERROR(VLOOKUP(Tabla_SERIED_11_6[[#This Row],[IdEstablecimiento]],'[2]Establecimiento 2023'!$A$1:$E$183,5,FALSE),0)","v":"04303-Monte Patria"},"15900030","2023-04-19T08:13:04",7.6,null,null,4,3.6]
[2,"5",2023,"105311",{"$f":"IFERROR(VLOOKUP(Tabla_SERIED_11_6[[#This Row],[IdEstablecimiento]],'[2]Establecimiento 2023'!$A$1:$E$183,3,FALSE),0)","v":"105311-Centro de Salud Familiar Chañaral Alto"},{"$f":"IFERROR(VLOOKUP(Tabla_SERIED_11_6[[#This Row],[IdEstablecimiento]],'[2]Establecimiento 2023'!$A$1:$E$183,5,FALSE),0)","v":"04303-Monte Patria"},"16200210","2023-04-19T08:13:04",24,24]
[2,"5",2023,"105312",{"$f":"IFERROR(VLOOKUP(Tabla_SERIED_11_6[[#This Row],[IdEstablecimiento]],'[2]Establecimiento 2023'!$A$1:$E$183,3,FALSE),0)","v":"105312-Centro de Salud Familiar Carén"},{"$f":"IFERROR(VLOOKUP(Tabla_SERIED_11_6[[#This Row],[IdEstablecimiento]],'[2]Establecimiento 2023'!$A$1:$E$183,5,FALSE),0)","v":"04303-Monte Patria"},"15080008","2023-04-19T08:13:21",19,{"$nulls":7},6,null,12,null,1]
[2,"5",2023,"105312",{"$f":"IFERROR(VLOOKUP(Tabla_SERIED_11_6[[#This Row],[IdEstablecimiento]],'[2]Establecimiento 2023'!$A$1:$E$183,3,FALSE),0)","v":"105312-Centro de Salud Familiar Carén"},{"$f":"IFERROR(VLOOKUP(Tabla_SERIED_11_6[[#This Row],[IdEstablecimiento]],'[2]Establecimiento 2023'!$A$1:$E$183,5,FALSE),0)","v":"04303-Monte Patria"},"15900010","2023-04-19T08:13:21",8.4,3.3,null,5.1]
[2,"5",2023,"105312",{"$f":"IFERROR(VLOOKUP(Tabla_SERIED_11_6[[#This Row],[IdEstablecimiento]],'[2]Establecimiento 2023'!$A$1:$E$183,3,FALSE),0)","v":"105312-Centro de Salud Familiar Carén"},{"$f":"IFERROR(VLOOKUP(Tabla_SERIED_11_6[[#This Row],[IdEstablecimiento]],'[2]Establecimiento 2023'!$A$1:$E$183,5,FALSE),0)","v":"04303-Monte Patria"},"16200210","2023-04-19T08:13:21",6,6]
[2,"5",2023,"105313",{"$f":"IFERROR(VLOOKUP(Tabla_SERIED_11_6[[#This Row],[IdEstablecimiento]],'[2]Establecimiento 2023'!$A$1:$E$183,3,FALSE),0)","v":"105313-Centro de Salud Familiar Dr. Emilio Schaffhauser"},{"$f":"IFERROR(VLOOKUP(Tabla_SERIED_11_6[[#This Row],[IdEstablecimiento]],'[2]Establecimiento 2023'!$A$1:$E$183,5,FALSE),0)","v":"04101-La Serena"},"15010400","2023-04-19T08:13:37",12,{"$nulls":4},2,4,6]
[2,"5",2023,"105313",{"$f":"IFERROR(VLOOKUP(Tabla_SERIED_11_6[[#This Row],[IdEstablecimiento]],'[2]Establecimiento 2023'!$A$1:$E$183,3,FALSE),0)","v":"105313-Centro de Salud Familiar Dr. Emilio Schaffhauser"},{"$f":"IFERROR(VLOOKUP(Tabla_SERIED_11_6[[#This Row],[IdEstablecimiento]],'[2]Establecimiento 2023'!$A$1:$E$183,5,FALSE),0)","v":"04101-La Serena"},"15060100","2023-04-19T08:13:37",9,5,4,{"$nulls":3},2,2,3,2]
[2,"5",2023,"105313",{"$f":"IFERROR(VLOOKUP(Tabla_SERIED_11_6[[#This Row],[IdEstablecimiento]],'[2]Establecimiento 2023'!$A$1:$E$183,3,FALSE),0)","v":"105313-Centro de Salud Familiar Dr. Emilio Schaffhauser"},{"$f":"IFERROR(VLOOKUP(Tabla_SERIED_11_6[[#This Row],[IdEstablecimiento]],'[2]Establecimiento 2023'!$A$1:$E$183,5,FALSE),0)","v":"04101-La Serena"},"15901400","2023-04-19T08:13:37",6,4,2,null,1,3,2]
[2,"5",2023,"105314",{"$f":"IFERROR(VLOOKUP(Tabla_SERIED_11_6[[#This Row],[IdEstablecimiento]],'[2]Establecimiento 2023'!$A$1:$E$183,3,FALSE),0)","v":"105314-Centro de Salud Familiar La Higuera"},{"$f":"IFERROR(VLOOKUP(Tabla_SERIED_11_6[[#This Row],[IdEstablecimiento]],'[2]Establecimiento 2023'!$A$1:$E$183,5,FALSE),0)","v":"04104-La Higuera"},"15010200","2023-07-19T15:12:41",30,{"$nulls":5},14,16]
[2,"5",2023,"105317",{"$f":"IFERROR(VLOOKUP(Tabla_SERIED_11_6[[#This Row],[IdEstablecimiento]],'[2]Establecimiento 2023'!$A$1:$E$183,3,FALSE),0)","v":"105317-Centro de Salud Familiar Jorge Jordán Domic"},{"$f":"IFERROR(VLOOKUP(Tabla_SERIED_11_6[[#This Row],[IdEstablecimiento]],'[2]Establecimiento 2023'!$A$1:$E$183,5,FALSE),0)","v":"04301-Ovalle"},"15060100","2023-04-20T13:14:49",2,1,1,{"$nulls":4},2]
[2,"5",2023,"105319",{"$f":"IFERROR(VLOOKUP(Tabla_SERIED_11_6[[#This Row],[IdEstablecimiento]],'[2]Establecimiento 2023'!$A$1:$E$183,3,FALSE),0)","v":"105319-Centro de Salud Familiar Cardenal Raúl Silva Henríquez de La Serena"},{"$f":"IFERROR(VLOOKUP(Tabla_SERIED_11_6[[#This Row],[IdEstablecimiento]],'[2]Establecimiento 2023'!$A$1:$E$183,5,FALSE),0)","v":"04101-La Serena"},"15010400","2023-04-19T08:15:29",2,{"$nulls":6},2]
[2,"5",2023,"105319",{"$f":"IFERROR(VLOOKUP(Tabla_SERIED_11_6[[#This Row],[IdEstablecimiento]],'[2]Establecimiento 2023'!$A$1:$E$183,3,FALSE),0)","v":"105319-Centro de Salud Familiar Cardenal Raúl Silva Henríquez de La Serena"},{"$f":"IFERROR(VLOOKUP(Tabla_SERIED_11_6[[#This Row],[IdEstablecimiento]],'[2]Establecimiento 2023'!$A$1:$E$183,5,FALSE),0)","v":"04101-La Serena"},"15060100","2023-04-19T08:15:29",2,1,1,{"$nulls":3},1,null,1]
[2,"5",2023,"105319",{"$f":"IFERROR(VLOOKUP(Tabla_SERIED_11_6[[#This Row],[IdEstablecimiento]],'[2]Establecimiento 2023'!$A$1:$E$183,3,FALSE),0)","v":"105319-Centro de Salud Familiar Cardenal Raúl Silva Henríquez de La Serena"},{"$f":"IFERROR(VLOOKUP(Tabla_SERIED_11_6[[#This Row],[IdEstablecimiento]],'[2]Establecimiento 2023'!$A$1:$E$183,5,FALSE),0)","v":"04101-La Serena"},"15900030","2023-04-19T08:15:29",24,null,3.6,20.4]
[2,"5",2023,"105321",{"$f":"IFERROR(VLOOKUP(Tabla_SERIED_11_6[[#This Row],[IdEstablecimiento]],'[2]Establecimiento 2023'!$A$1:$E$183,3,FALSE),0)","v":"105321-Centro de Salud Familiar Tongoy"},{"$f":"IFERROR(VLOOKUP(Tabla_SERIED_11_6[[#This Row],[IdEstablecimiento]],'[2]Establecimiento 2023'!$A$1:$E$183,5,FALSE),0)","v":"04102-Coquimbo"},"15080009","2023-05-16T14:48:35",3,{"$nulls":8},3]
[2,"5",2023,"105321",{"$f":"IFERROR(VLOOKUP(Tabla_SERIED_11_6[[#This Row],[IdEstablecimiento]],'[2]Establecimiento 2023'!$A$1:$E$183,3,FALSE),0)","v":"105321-Centro de Salud Familiar Tongoy"},{"$f":"IFERROR(VLOOKUP(Tabla_SERIED_11_6[[#This Row],[IdEstablecimiento]],'[2]Establecimiento 2023'!$A$1:$E$183,5,FALSE),0)","v":"04102-Coquimbo"},"15900030","2023-05-16T14:48:35",3.2,null,null,3.2]
[2,"5",2023,"105323",{"$f":"IFERROR(VLOOKUP(Tabla_SERIED_11_6[[#This Row],[IdEstablecimiento]],'[2]Establecimiento 2023'!$A$1:$E$183,3,FALSE),0)","v":"105323-Centro de Salud Familiar Dr. Sergio Aguilar Delgado"},{"$f":"IFERROR(VLOOKUP(Tabla_SERIED_11_6[[#This Row],[IdEstablecimiento]],'[2]Establecimiento 2023'!$A$1:$E$183,5,FALSE),0)","v":"04102-Coquimbo"},"15080008","2023-04-20T07:09:46",163,{"$nulls":7},75,null,34,14,40]
[2,"5",2023,"105323",{"$f":"IFERROR(VLOOKUP(Tabla_SERIED_11_6[[#This Row],[IdEstablecimiento]],'[2]Establecimiento 2023'!$A$1:$E$183,3,FALSE),0)","v":"105323-Centro de Salud Familiar Dr. Sergio Aguilar Delgado"},{"$f":"IFERROR(VLOOKUP(Tabla_SERIED_11_6[[#This Row],[IdEstablecimiento]],'[2]Establecimiento 2023'!$A$1:$E$183,5,FALSE),0)","v":"04102-Coquimbo"},"15900030","2023-04-20T07:09:46",16.8,0,0,10.4,3.2,3.2,0,0]
[2,"5",2023,"105324",{"$f":"IFERROR(VLOOKUP(Tabla_SERIED_11_6[[#This Row],[IdEstablecimiento]],'[2]Establecimiento 2023'!$A$1:$E$183,3,FALSE),0)","v":"105324-Centro de Salud Familiar Sotaquí"},{"$f":"IFERROR(VLOOKUP(Tabla_SERIED_11_6[[#This Row],[IdEstablecimiento]],'[2]Establecimiento 2023'!$A$1:$E$183,5,FALSE),0)","v":"04301-Ovalle"},"15050200","2023-04-20T13:15:36",6,2,4,{"$nulls":5},3,2,null,1]
[2,"5",2023,"105324",{"$f":"IFERROR(VLOOKUP(Tabla_SERIED_11_6[[#This Row],[IdEstablecimiento]],'[2]Establecimiento 2023'!$A$1:$E$183,3,FALSE),0)","v":"105324-Centro de Salud Familiar Sotaquí"},{"$f":"IFERROR(VLOOKUP(Tabla_SERIED_11_6[[#This Row],[IdEstablecimiento]],'[2]Establecimiento 2023'!$A$1:$E$183,5,FALSE),0)","v":"04301-Ovalle"},"15901200","2023-04-20T13:15:36",1.6,{"$nulls":3},1.6]
[2,"5",2023,"105324",{"$f":"IFERROR(VLOOKUP(Tabla_SERIED_11_6[[#This Row],[IdEstablecimiento]],'[2]Establecimiento 2023'!$A$1:$E$183,3,FALSE),0)","v":"105324-Centro de Salud Familiar Sotaquí"},{"$f":"IFERROR(VLOOKUP(Tabla_SERIED_11_6[[#This Row],[IdEstablecimiento]],'[2]Establecimiento 2023'!$A$1:$E$183,5,FALSE),0)","v":"04301-Ovalle"},"16200210","2023-04-20T13:15:36",6,6]
[2,"5",2023,"105325",{"$f":"IFERROR(VLOOKUP(Tabla_SERIED_11_6[[#This Row],[IdEstablecimiento]],'[2]Establecimiento 2023'!$A$1:$E$183,3,FALSE),0)","v":"105325-Centro de Salud Familiar Juan Pablo II (La Serena)"},{"$f":"IFERROR(VLOOKUP(Tabla_SERIED_11_6[[#This Row],[IdEstablecimiento]],'[2]Establecimiento 2023'!$A$1:$E$183,5,FALSE),0)","v":"04101-La Serena"},"15050100","2023-04-19T08:15:46",623,211,412,8,18,48,75,60,136,105,115,null,24,13,21]
[2,"5",2023,"105325",{"$f":"IFERROR(VLOOKUP(Tabla_SERIED_11_6[[#This Row],[IdEstablecimiento]],'[2]Establecimiento 2023'!$A$1:$E$183,3,FALSE),0)","v":"105325-Centro de Salud Familiar Juan Pablo II (La Serena)"},{"$f":"IFERROR(VLOOKUP(Tabla_SERIED_11_6[[#This Row],[IdEstablecimiento]],'[2]Establecimiento 2023'!$A$1:$E$183,5,FALSE),0)","v":"04101-La Serena"},"15900010","2023-04-19T08:15:46",220.8,18.4,53.6,148.8]
[2,"5",2023,"105325",{"$f":"IFERROR(VLOOKUP(Tabla_SERIED_11_6[[#This Row],[IdEstablecimiento]],'[2]Establecimiento 2023'!$A$1:$E$183,3,FALSE),0)","v":"105325-Centro de Salud Familiar Juan Pablo II (La Serena)"},{"$f":"IFERROR(VLOOKUP(Tabla_SERIED_11_6[[#This Row],[IdEstablecimiento]],'[2]Establecimiento 2023'!$A$1:$E$183,5,FALSE),0)","v":"04101-La Serena"},"15900030","2023-04-19T08:15:46",24,0,0,4.4,7.6,12]
[2,"5",2023,"105325",{"$f":"IFERROR(VLOOKUP(Tabla_SERIED_11_6[[#This Row],[IdEstablecimiento]],'[2]Establecimiento 2023'!$A$1:$E$183,3,FALSE),0)","v":"105325-Centro de Salud Familiar Juan Pablo II (La Serena)"},{"$f":"IFERROR(VLOOKUP(Tabla_SERIED_11_6[[#This Row],[IdEstablecimiento]],'[2]Establecimiento 2023'!$A$1:$E$183,5,FALSE),0)","v":"04101-La Serena"},"16090300","2023-04-19T08:15:46",262,262]
[2,"5",2023,"105326",{"$f":"IFERROR(VLOOKUP(Tabla_SERIED_11_6[[#This Row],[IdEstablecimiento]],'[2]Establecimiento 2023'!$A$1:$E$183,3,FALSE),0)","v":"105326-Centro de Salud Familiar Villa San Rafael de Rozas"},{"$f":"IFERROR(VLOOKUP(Tabla_SERIED_11_6[[#This Row],[IdEstablecimiento]],'[2]Establecimiento 2023'!$A$1:$E$183,5,FALSE),0)","v":"04201-Illapel"},"15010400","2023-04-19T08:16:07",8,{"$nulls":5},2,6]
[2,"5",2023,"105400",{"$f":"IFERROR(VLOOKUP(Tabla_SERIED_11_6[[#This Row],[IdEstablecimiento]],'[2]Establecimiento 2023'!$A$1:$E$183,3,FALSE),0)","v":"105400-Posta de Salud Rural Algarrobito"},{"$f":"IFERROR(VLOOKUP(Tabla_SERIED_11_6[[#This Row],[IdEstablecimiento]],'[2]Establecimiento 2023'!$A$1:$E$183,5,FALSE),0)","v":"04101-La Serena"},"15050100","2023-04-19T08:17:21",48,17,31,null,null,2,4,8,14,13,6,{"$nulls":3},1]
[2,"5",2023,"105401",{"$f":"IFERROR(VLOOKUP(Tabla_SERIED_11_6[[#This Row],[IdEstablecimiento]],'[2]Establecimiento 2023'!$A$1:$E$183,3,FALSE),0)","v":"105401-Posta de Salud Rural Las Rojas"},{"$f":"IFERROR(VLOOKUP(Tabla_SERIED_11_6[[#This Row],[IdEstablecimiento]],'[2]Establecimiento 2023'!$A$1:$E$183,5,FALSE),0)","v":"04101-La Serena"},"15080008","2023-04-19T08:17:48",7,{"$nulls":7},1,null,6]
[2,"5",2023,"105401",{"$f":"IFERROR(VLOOKUP(Tabla_SERIED_11_6[[#This Row],[IdEstablecimiento]],'[2]Establecimiento 2023'!$A$1:$E$183,3,FALSE),0)","v":"105401-Posta de Salud Rural Las Rojas"},{"$f":"IFERROR(VLOOKUP(Tabla_SERIED_11_6[[#This Row],[IdEstablecimiento]],'[2]Establecimiento 2023'!$A$1:$E$183,5,FALSE),0)","v":"04101-La Serena"},"16200210","2023-04-19T08:17:48",5,5]
[2,"5",2023,"105402",{"$f":"IFERROR(VLOOKUP(Tabla_SERIED_11_6[[#This Row],[IdEstablecimiento]],'[2]Establecimiento 2023'!$A$1:$E$183,3,FALSE),0)","v":"105402-Posta de Salud Rural El Romero"},{"$f":"IFERROR(VLOOKUP(Tabla_SERIED_11_6[[#This Row],[IdEstablecimiento]],'[2]Establecimiento 2023'!$A$1:$E$183,5,FALSE),0)","v":"04101-La Serena"},"15080010","2023-04-19T08:18:12",2,{"$nulls":9},2]
[2,"5",2023,"105410",{"$f":"IFERROR(VLOOKUP(Tabla_SERIED_11_6[[#This Row],[IdEstablecimiento]],'[2]Establecimiento 2023'!$A$1:$E$183,3,FALSE),0)","v":"105410-Posta de Salud Rural Hurtado"},{"$f":"IFERROR(VLOOKUP(Tabla_SERIED_11_6[[#This Row],[IdEstablecimiento]],'[2]Establecimiento 2023'!$A$1:$E$183,5,FALSE),0)","v":"04305-Rio Hurtado"},"15010100","2023-04-19T08:19:10",2,{"$nulls":4},2]
[2,"5",2023,"105413",{"$f":"IFERROR(VLOOKUP(Tabla_SERIED_11_6[[#This Row],[IdEstablecimiento]],'[2]Establecimiento 2023'!$A$1:$E$183,3,FALSE),0)","v":"105413-Posta de Salud Rural Samo Alto"},{"$f":"IFERROR(VLOOKUP(Tabla_SERIED_11_6[[#This Row],[IdEstablecimiento]],'[2]Establecimiento 2023'!$A$1:$E$183,5,FALSE),0)","v":"04305-Rio Hurtado"},"15050100","2023-04-19T08:20:06",15,9,6,{"$nulls":4},1,5,8,1]
[2,"5",2023,"105413",{"$f":"IFERROR(VLOOKUP(Tabla_SERIED_11_6[[#This Row],[IdEstablecimiento]],'[2]Establecimiento 2023'!$A$1:$E$183,3,FALSE),0)","v":"105413-Posta de Salud Rural Samo Alto"},{"$f":"IFERROR(VLOOKUP(Tabla_SERIED_11_6[[#This Row],[IdEstablecimiento]],'[2]Establecimiento 2023'!$A$1:$E$183,5,FALSE),0)","v":"04305-Rio Hurtado"},"16200100","2023-04-19T08:20:06",2,1,1]
[2,"5",2023,"105414",{"$f":"IFERROR(VLOOKUP(Tabla_SERIED_11_6[[#This Row],[IdEstablecimiento]],'[2]Establecimiento 2023'!$A$1:$E$183,3,FALSE),0)","v":"105414-Posta de Salud Rural Serón"},{"$f":"IFERROR(VLOOKUP(Tabla_SERIED_11_6[[#This Row],[IdEstablecimiento]],'[2]Establecimiento 2023'!$A$1:$E$183,5,FALSE),0)","v":"04305-Rio Hurtado"},"16100300","2023-04-19T08:20:44",31,12,19]
[2,"5",2023,"105416",{"$f":"IFERROR(VLOOKUP(Tabla_SERIED_11_6[[#This Row],[IdEstablecimiento]],'[2]Establecimiento 2023'!$A$1:$E$183,3,FALSE),0)","v":"105416-Posta de Salud Rural Camarico (Ovalle)"},{"$f":"IFERROR(VLOOKUP(Tabla_SERIED_11_6[[#This Row],[IdEstablecimiento]],'[2]Establecimiento 2023'!$A$1:$E$183,5,FALSE),0)","v":"04301-Ovalle"},"16200220","2023-04-20T13:16:53",16,5,11]
[2,"5",2023,"105417",{"$f":"IFERROR(VLOOKUP(Tabla_SERIED_11_6[[#This Row],[IdEstablecimiento]],'[2]Establecimiento 2023'!$A$1:$E$183,3,FALSE),0)","v":"105417-Posta de Salud Rural Alcones Bajo"},{"$f":"IFERROR(VLOOKUP(Tabla_SERIED_11_6[[#This Row],[IdEstablecimiento]],'[2]Establecimiento 2023'!$A$1:$E$183,5,FALSE),0)","v":"04301-Ovalle"},"15900010","2023-04-20T13:17:08",3.6,null,null,3.6]
[2,"5",2023,"105417",{"$f":"IFERROR(VLOOKUP(Tabla_SERIED_11_6[[#This Row],[IdEstablecimiento]],'[2]Establecimiento 2023'!$A$1:$E$183,3,FALSE),0)","v":"105417-Posta de Salud Rural Alcones Bajo"},{"$f":"IFERROR(VLOOKUP(Tabla_SERIED_11_6[[#This Row],[IdEstablecimiento]],'[2]Establecimiento 2023'!$A$1:$E$183,5,FALSE),0)","v":"04301-Ovalle"},"16200220","2023-04-20T13:17:08",11,6,5]
[2,"5",2023,"105425",{"$f":"IFERROR(VLOOKUP(Tabla_SERIED_11_6[[#This Row],[IdEstablecimiento]],'[2]Establecimiento 2023'!$A$1:$E$183,3,FALSE),0)","v":"105425-Posta de Salud Rural Chilecito"},{"$f":"IFERROR(VLOOKUP(Tabla_SERIED_11_6[[#This Row],[IdEstablecimiento]],'[2]Establecimiento 2023'!$A$1:$E$183,5,FALSE),0)","v":"04303-Monte Patria"},"15080008","2023-04-19T08:21:18",7,{"$nulls":7},2,null,4,null,1]
[2,"5",2023,"105425",{"$f":"IFERROR(VLOOKUP(Tabla_SERIED_11_6[[#This Row],[IdEstablecimiento]],'[2]Establecimiento 2023'!$A$1:$E$183,3,FALSE),0)","v":"105425-Posta de Salud Rural Chilecito"},{"$f":"IFERROR(VLOOKUP(Tabla_SERIED_11_6[[#This Row],[IdEstablecimiento]],'[2]Establecimiento 2023'!$A$1:$E$183,5,FALSE),0)","v":"04303-Monte Patria"},"16100300","2023-04-19T08:21:18",71,32,39]
[2,"5",2023,"105427",{"$f":"IFERROR(VLOOKUP(Tabla_SERIED_11_6[[#This Row],[IdEstablecimiento]],'[2]Establecimiento 2023'!$A$1:$E$183,3,FALSE),0)","v":"105427-Posta de Salud Rural Hacienda Valdivia"},{"$f":"IFERROR(VLOOKUP(Tabla_SERIED_11_6[[#This Row],[IdEstablecimiento]],'[2]Establecimiento 2023'!$A$1:$E$183,5,FALSE),0)","v":"04303-Monte Patria"},"16200100","2023-04-19T08:21:45",6,4,2]
[2,"5",2023,"105430",{"$f":"IFERROR(VLOOKUP(Tabla_SERIED_11_6[[#This Row],[IdEstablecimiento]],'[2]Establecimiento 2023'!$A$1:$E$183,3,FALSE),0)","v":"105430-Posta de Salud Rural Mialqui"},{"$f":"IFERROR(VLOOKUP(Tabla_SERIED_11_6[[#This Row],[IdEstablecimiento]],'[2]Establecimiento 2023'!$A$1:$E$183,5,FALSE),0)","v":"04303-Monte Patria"},"15900010","2023-04-19T08:22:20",2.7,null,null,2.7]
[2,"5",2023,"105432",{"$f":"IFERROR(VLOOKUP(Tabla_SERIED_11_6[[#This Row],[IdEstablecimiento]],'[2]Establecimiento 2023'!$A$1:$E$183,3,FALSE),0)","v":"105432-Posta de Salud Rural Rapel (Monte Patria)"},{"$f":"IFERROR(VLOOKUP(Tabla_SERIED_11_6[[#This Row],[IdEstablecimiento]],'[2]Establecimiento 2023'!$A$1:$E$183,5,FALSE),0)","v":"04303-Monte Patria"},"15010200","2023-04-19T08:22:56",26,{"$nulls":5},10,16]
[2,"5",2023,"105434",{"$f":"IFERROR(VLOOKUP(Tabla_SERIED_11_6[[#This Row],[IdEstablecimiento]],'[2]Establecimiento 2023'!$A$1:$E$183,3,FALSE),0)","v":"105434-Posta de Salud Rural San Marcos (Combarbalá)"},{"$f":"IFERROR(VLOOKUP(Tabla_SERIED_11_6[[#This Row],[IdEstablecimiento]],'[2]Establecimiento 2023'!$A$1:$E$183,5,FALSE),0)","v":"04302-Combarbalá"},"15010500","2023-04-20T10:24:53",4,null,null,4]
[2,"5",2023,"105434",{"$f":"IFERROR(VLOOKUP(Tabla_SERIED_11_6[[#This Row],[IdEstablecimiento]],'[2]Establecimiento 2023'!$A$1:$E$183,3,FALSE),0)","v":"105434-Posta de Salud Rural San Marcos (Combarbalá)"},{"$f":"IFERROR(VLOOKUP(Tabla_SERIED_11_6[[#This Row],[IdEstablecimiento]],'[2]Establecimiento 2023'!$A$1:$E$183,5,FALSE),0)","v":"04302-Combarbalá"},"15050200","2023-04-20T10:24:53",2,{"$nulls":4},2]
[2,"5",2023,"105435",{"$f":"IFERROR(VLOOKUP(Tabla_SERIED_11_6[[#This Row],[IdEstablecimiento]],'[2]Establecimiento 2023'!$A$1:$E$183,3,FALSE),0)","v":"105435-Posta de Salud Rural Tulahuén"},{"$f":"IFERROR(VLOOKUP(Tabla_SERIED_11_6[[#This Row],[IdEstablecimiento]],'[2]Establecimiento 2023'!$A$1:$E$183,5,FALSE),0)","v":"04303-Monte Patria"},"15010500","2023-04-19T08:28:57",2,{"$nulls":6},2]
[2,"5",2023,"105436",{"$f":"IFERROR(VLOOKUP(Tabla_SERIED_11_6[[#This Row],[IdEstablecimiento]],'[2]Establecimiento 2023'!$A$1:$E$183,3,FALSE),0)","v":"105436-Posta de Salud Rural El Maitén"},{"$f":"IFERROR(VLOOKUP(Tabla_SERIED_11_6[[#This Row],[IdEstablecimiento]],'[2]Establecimiento 2023'!$A$1:$E$183,5,FALSE),0)","v":"04303-Monte Patria"},"16200210","2023-04-19T08:29:17",2,2]
[2,"5",2023,"105443",{"$f":"IFERROR(VLOOKUP(Tabla_SERIED_11_6[[#This Row],[IdEstablecimiento]],'[2]Establecimiento 2023'!$A$1:$E$183,3,FALSE),0)","v":"105443-Posta de Salud Rural Cárcamo"},{"$f":"IFERROR(VLOOKUP(Tabla_SERIED_11_6[[#This Row],[IdEstablecimiento]],'[2]Establecimiento 2023'!$A$1:$E$183,5,FALSE),0)","v":"04201-Illapel"},"15010100","2023-04-19T08:30:40",4,{"$nulls":3},4]
[2,"5",2023,"105444",{"$f":"IFERROR(VLOOKUP(Tabla_SERIED_11_6[[#This Row],[IdEstablecimiento]],'[2]Establecimiento 2023'!$A$1:$E$183,3,FALSE),0)","v":"105444-Posta de Salud Rural Huintil"},{"$f":"IFERROR(VLOOKUP(Tabla_SERIED_11_6[[#This Row],[IdEstablecimiento]],'[2]Establecimiento 2023'!$A$1:$E$183,5,FALSE),0)","v":"04201-Illapel"},"15900020","2023-04-19T08:31:37",3.2,null,null,3.2]
[2,"5",2023,"105444",{"$f":"IFERROR(VLOOKUP(Tabla_SERIED_11_6[[#This Row],[IdEstablecimiento]],'[2]Establecimiento 2023'!$A$1:$E$183,3,FALSE),0)","v":"105444-Posta de Salud Rural Huintil"},{"$f":"IFERROR(VLOOKUP(Tabla_SERIED_11_6[[#This Row],[IdEstablecimiento]],'[2]Establecimiento 2023'!$A$1:$E$183,5,FALSE),0)","v":"04201-Illapel"},"16100300","2023-04-19T08:31:37",58,28,30]
[2,"5",2023,"105446",{"$f":"IFERROR(VLOOKUP(Tabla_SERIED_11_6[[#This Row],[IdEstablecimiento]],'[2]Establecimiento 2023'!$A$1:$E$183,3,FALSE),0)","v":"105446-Posta de Salud Rural Matancilla"},{"$f":"IFERROR(VLOOKUP(Tabla_SERIED_11_6[[#This Row],[IdEstablecimiento]],'[2]Establecimiento 2023'!$A$1:$E$183,5,FALSE),0)","v":"04201-Illapel"},"16100300","2023-04-19T08:32:17",4,3,1]
[2,"5",2023,"105449",{"$f":"IFERROR(VLOOKUP(Tabla_SERIED_11_6[[#This Row],[IdEstablecimiento]],'[2]Establecimiento 2023'!$A$1:$E$183,3,FALSE),0)","v":"105449-Posta de Salud Rural Tunga Norte"},{"$f":"IFERROR(VLOOKUP(Tabla_SERIED_11_6[[#This Row],[IdEstablecimiento]],'[2]Establecimiento 2023'!$A$1:$E$183,5,FALSE),0)","v":"04201-Illapel"},"15010100","2023-04-19T08:35:29",2,{"$nulls":3},2]
[2,"5",2023,"105449",{"$f":"IFERROR(VLOOKUP(Tabla_SERIED_11_6[[#This Row],[IdEstablecimiento]],'[2]Establecimiento 2023'!$A$1:$E$183,3,FALSE),0)","v":"105449-Posta de Salud Rural Tunga Norte"},{"$f":"IFERROR(VLOOKUP(Tabla_SERIED_11_6[[#This Row],[IdEstablecimiento]],'[2]Establecimiento 2023'!$A$1:$E$183,5,FALSE),0)","v":"04201-Illapel"},"16200210","2023-04-19T08:35:29",4,4]
[2,"5",2023,"105450",{"$f":"IFERROR(VLOOKUP(Tabla_SERIED_11_6[[#This Row],[IdEstablecimiento]],'[2]Establecimiento 2023'!$A$1:$E$183,3,FALSE),0)","v":"105450-Posta de Salud Rural Mincha Norte"},{"$f":"IFERROR(VLOOKUP(Tabla_SERIED_11_6[[#This Row],[IdEstablecimiento]],'[2]Establecimiento 2023'!$A$1:$E$183,5,FALSE),0)","v":"04202-Canela"},"16090300","2023-04-20T09:29:06",225,225]
[2,"5",2023,"105450",{"$f":"IFERROR(VLOOKUP(Tabla_SERIED_11_6[[#This Row],[IdEstablecimiento]],'[2]Establecimiento 2023'!$A$1:$E$183,3,FALSE),0)","v":"105450-Posta de Salud Rural Mincha Norte"},{"$f":"IFERROR(VLOOKUP(Tabla_SERIED_11_6[[#This Row],[IdEstablecimiento]],'[2]Establecimiento 2023'!$A$1:$E$183,5,FALSE),0)","v":"04202-Canela"},"16100300","2023-04-20T09:29:06",225,106,119]
[2,"5",2023,"105452",{"$f":"IFERROR(VLOOKUP(Tabla_SERIED_11_6[[#This Row],[IdEstablecimiento]],'[2]Establecimiento 2023'!$A$1:$E$183,3,FALSE),0)","v":"105452-Posta de Salud Rural Cuncumén(Salamanca)"},{"$f":"IFERROR(VLOOKUP(Tabla_SERIED_11_6[[#This Row],[IdEstablecimiento]],'[2]Establecimiento 2023'!$A$1:$E$183,5,FALSE),0)","v":"04204-Salamanca"},"15010400","2023-04-19T08:36:02",2,{"$nulls":5},2]
[2,"5",2023,"105452",{"$f":"IFERROR(VLOOKUP(Tabla_SERIED_11_6[[#This Row],[IdEstablecimiento]],'[2]Establecimiento 2023'!$A$1:$E$183,3,FALSE),0)","v":"105452-Posta de Salud Rural Cuncumén(Salamanca)"},{"$f":"IFERROR(VLOOKUP(Tabla_SERIED_11_6[[#This Row],[IdEstablecimiento]],'[2]Establecimiento 2023'!$A$1:$E$183,5,FALSE),0)","v":"04204-Salamanca"},"16100300","2023-04-19T08:36:02",45,25,20]
[2,"5",2023,"105452",{"$f":"IFERROR(VLOOKUP(Tabla_SERIED_11_6[[#This Row],[IdEstablecimiento]],'[2]Establecimiento 2023'!$A$1:$E$183,3,FALSE),0)","v":"105452-Posta de Salud Rural Cuncumén(Salamanca)"},{"$f":"IFERROR(VLOOKUP(Tabla_SERIED_11_6[[#This Row],[IdEstablecimiento]],'[2]Establecimiento 2023'!$A$1:$E$183,5,FALSE),0)","v":"04204-Salamanca"},"16200210","2023-04-19T08:36:02",1,1]
[2,"5",2023,"105453",{"$f":"IFERROR(VLOOKUP(Tabla_SERIED_11_6[[#This Row],[IdEstablecimiento]],'[2]Establecimiento 2023'!$A$1:$E$183,3,FALSE),0)","v":"105453-Posta de Salud Rural Tranquilla"},{"$f":"IFERROR(VLOOKUP(Tabla_SERIED_11_6[[#This Row],[IdEstablecimiento]],'[2]Establecimiento 2023'!$A$1:$E$183,5,FALSE),0)","v":"04204-Salamanca"},"15900010","2023-04-19T08:36:25",1.6,null,null,1.6]
[2,"5",2023,"105455",{"$f":"IFERROR(VLOOKUP(Tabla_SERIED_11_6[[#This Row],[IdEstablecimiento]],'[2]Establecimiento 2023'!$A$1:$E$183,3,FALSE),0)","v":"105455-CESFAM Valle Alto"},{"$f":"IFERROR(VLOOKUP(Tabla_SERIED_11_6[[#This Row],[IdEstablecimiento]],'[2]Establecimiento 2023'!$A$1:$E$183,5,FALSE),0)","v":"04204-Salamanca"},"15010200","2023-04-20T10:07:52",20,{"$nulls":4},2,6,12]
[2,"5",2023,"105455",{"$f":"IFERROR(VLOOKUP(Tabla_SERIED_11_6[[#This Row],[IdEstablecimiento]],'[2]Establecimiento 2023'!$A$1:$E$183,3,FALSE),0)","v":"105455-CESFAM Valle Alto"},{"$f":"IFERROR(VLOOKUP(Tabla_SERIED_11_6[[#This Row],[IdEstablecimiento]],'[2]Establecimiento 2023'!$A$1:$E$183,5,FALSE),0)","v":"04204-Salamanca"},"16100300","2023-04-20T10:07:52",44,22,22]
[2,"5",2023,"105456",{"$f":"IFERROR(VLOOKUP(Tabla_SERIED_11_6[[#This Row],[IdEstablecimiento]],'[2]Establecimiento 2023'!$A$1:$E$183,3,FALSE),0)","v":"105456-Posta de Salud Rural Llimpo"},{"$f":"IFERROR(VLOOKUP(Tabla_SERIED_11_6[[#This Row],[IdEstablecimiento]],'[2]Establecimiento 2023'!$A$1:$E$183,5,FALSE),0)","v":"04204-Salamanca"},"15080008","2023-04-19T08:37:10",4,{"$nulls":9},4]
[2,"5",2023,"105457",{"$f":"IFERROR(VLOOKUP(Tabla_SERIED_11_6[[#This Row],[IdEstablecimiento]],'[2]Establecimiento 2023'!$A$1:$E$183,3,FALSE),0)","v":"105457-Posta de Salud Rural San Agustín (Salamanca)"},{"$f":"IFERROR(VLOOKUP(Tabla_SERIED_11_6[[#This Row],[IdEstablecimiento]],'[2]Establecimiento 2023'!$A$1:$E$183,5,FALSE),0)","v":"04204-Salamanca"},"15050100","2023-04-19T08:37:33",9,3,6,1,1,null,3,null,3,1]
[2,"5",2023,"105457",{"$f":"IFERROR(VLOOKUP(Tabla_SERIED_11_6[[#This Row],[IdEstablecimiento]],'[2]Establecimiento 2023'!$A$1:$E$183,3,FALSE),0)","v":"105457-Posta de Salud Rural San Agustín (Salamanca)"},{"$f":"IFERROR(VLOOKUP(Tabla_SERIED_11_6[[#This Row],[IdEstablecimiento]],'[2]Establecimiento 2023'!$A$1:$E$183,5,FALSE),0)","v":"04204-Salamanca"},"16100300","2023-04-19T08:37:33",58,28,30]
[2,"5",2023,"105460",{"$f":"IFERROR(VLOOKUP(Tabla_SERIED_11_6[[#This Row],[IdEstablecimiento]],'[2]Establecimiento 2023'!$A$1:$E$183,3,FALSE),0)","v":"105460-Centro Comunitario de Salud Familiar Cogotí 18"},{"$f":"IFERROR(VLOOKUP(Tabla_SERIED_11_6[[#This Row],[IdEstablecimiento]],'[2]Establecimiento 2023'!$A$1:$E$183,5,FALSE),0)","v":"04302-Combarbalá"},"15010200","2023-04-20T10:28:45",16,{"$nulls":5},2,14]
[2,"5",2023,"105461",{"$f":"IFERROR(VLOOKUP(Tabla_SERIED_11_6[[#This Row],[IdEstablecimiento]],'[2]Establecimiento 2023'!$A$1:$E$183,3,FALSE),0)","v":"105461-Posta de Salud Rural El Huacho"},{"$f":"IFERROR(VLOOKUP(Tabla_SERIED_11_6[[#This Row],[IdEstablecimiento]],'[2]Establecimiento 2023'!$A$1:$E$183,5,FALSE),0)","v":"04302-Combarbalá"},"15010200","2023-04-20T10:25:43",2,{"$nulls":5},2]
[2,"5",2023,"105463",{"$f":"IFERROR(VLOOKUP(Tabla_SERIED_11_6[[#This Row],[IdEstablecimiento]],'[2]Establecimiento 2023'!$A$1:$E$183,3,FALSE),0)","v":"105463-Posta de Salud Rural Quilitapia"},{"$f":"IFERROR(VLOOKUP(Tabla_SERIED_11_6[[#This Row],[IdEstablecimiento]],'[2]Establecimiento 2023'!$A$1:$E$183,5,FALSE),0)","v":"04302-Combarbalá"},"15050200","2023-04-20T10:26:25",1,null,1,{"$nulls":9},1]
[2,"5",2023,"105463",{"$f":"IFERROR(VLOOKUP(Tabla_SERIED_11_6[[#This Row],[IdEstablecimiento]],'[2]Establecimiento 2023'!$A$1:$E$183,3,FALSE),0)","v":"105463-Posta de Salud Rural Quilitapia"},{"$f":"IFERROR(VLOOKUP(Tabla_SERIED_11_6[[#This Row],[IdEstablecimiento]],'[2]Establecimiento 2023'!$A$1:$E$183,5,FALSE),0)","v":"04302-Combarbalá"},"16200220","2023-04-20T10:26:25",10,3,7]
[2,"5",2023,"105466",{"$f":"IFERROR(VLOOKUP(Tabla_SERIED_11_6[[#This Row],[IdEstablecimiento]],'[2]Establecimiento 2023'!$A$1:$E$183,3,FALSE),0)","v":"105466-Posta de Salud Rural Valle Hermoso"},{"$f":"IFERROR(VLOOKUP(Tabla_SERIED_11_6[[#This Row],[IdEstablecimiento]],'[2]Establecimiento 2023'!$A$1:$E$183,5,FALSE),0)","v":"04302-Combarbalá"},"15050100","2023-04-20T10:27:21",4,1,3,{"$nulls":4},3,{"$nulls":4},1]
[2,"5",2023,"105469",{"$f":"IFERROR(VLOOKUP(Tabla_SERIED_11_6[[#This Row],[IdEstablecimiento]],'[2]Establecimiento 2023'!$A$1:$E$183,3,FALSE),0)","v":"105469-Posta de Salud Rural El Tambo (Vicuña)"},{"$f":"IFERROR(VLOOKUP(Tabla_SERIED_11_6[[#This Row],[IdEstablecimiento]],'[2]Establecimiento 2023'!$A$1:$E$183,5,FALSE),0)","v":"04106-Vicuña"},"15050100","2023-04-19T08:45:41",27,14,13,null,1,3,2,3,5,8,2,null,1,1,1]
[2,"5",2023,"105469",{"$f":"IFERROR(VLOOKUP(Tabla_SERIED_11_6[[#This Row],[IdEstablecimiento]],'[2]Establecimiento 2023'!$A$1:$E$183,3,FALSE),0)","v":"105469-Posta de Salud Rural El Tambo (Vicuña)"},{"$f":"IFERROR(VLOOKUP(Tabla_SERIED_11_6[[#This Row],[IdEstablecimiento]],'[2]Establecimiento 2023'!$A$1:$E$183,5,FALSE),0)","v":"04106-Vicuña"},"15050200","2023-04-19T08:45:41",1,1,{"$nulls":6},1]
[2,"5",2023,"105472",{"$f":"IFERROR(VLOOKUP(Tabla_SERIED_11_6[[#This Row],[IdEstablecimiento]],'[2]Establecimiento 2023'!$A$1:$E$183,3,FALSE),0)","v":"105472-Posta de Salud Rural Rivadavia"},{"$f":"IFERROR(VLOOKUP(Tabla_SERIED_11_6[[#This Row],[IdEstablecimiento]],'[2]Establecimiento 2023'!$A$1:$E$183,5,FALSE),0)","v":"04106-Vicuña"},"16090500","2023-04-19T08:46:40",3,3]
[2,"5",2023,"105473",{"$f":"IFERROR(VLOOKUP(Tabla_SERIED_11_6[[#This Row],[IdEstablecimiento]],'[2]Establecimiento 2023'!$A$1:$E$183,3,FALSE),0)","v":"105473-Posta de Salud Rural Talcuna"},{"$f":"IFERROR(VLOOKUP(Tabla_SERIED_11_6[[#This Row],[IdEstablecimiento]],'[2]Establecimiento 2023'!$A$1:$E$183,5,FALSE),0)","v":"04106-Vicuña"},"15050100","2023-04-19T08:47:01",31,10,21,null,null,1,4,3,11,7,4,null,1]
[2,"5",2023,"105474",{"$f":"IFERROR(VLOOKUP(Tabla_SERIED_11_6[[#This Row],[IdEstablecimiento]],'[2]Establecimiento 2023'!$A$1:$E$183,3,FALSE),0)","v":"105474-Posta de Salud Rural Chapilca"},{"$f":"IFERROR(VLOOKUP(Tabla_SERIED_11_6[[#This Row],[IdEstablecimiento]],'[2]Establecimiento 2023'!$A$1:$E$183,5,FALSE),0)","v":"04106-Vicuña"},"15010200","2023-04-19T08:47:29",4,{"$nulls":5},4]
[2,"5",2023,"105475",{"$f":"IFERROR(VLOOKUP(Tabla_SERIED_11_6[[#This Row],[IdEstablecimiento]],'[2]Establecimiento 2023'!$A$1:$E$183,3,FALSE),0)","v":"105475-Posta de Salud Rural Horcón (Paiguano)"},{"$f":"IFERROR(VLOOKUP(Tabla_SERIED_11_6[[#This Row],[IdEstablecimiento]],'[2]Establecimiento 2023'!$A$1:$E$183,5,FALSE),0)","v":"04105-Paihuano"},"16090300","2023-08-18T11:30:01",28,28]
[2,"5",2023,"105477",{"$f":"IFERROR(VLOOKUP(Tabla_SERIED_11_6[[#This Row],[IdEstablecimiento]],'[2]Establecimiento 2023'!$A$1:$E$183,3,FALSE),0)","v":"105477-Posta de Salud Rural Pisco Elqui"},{"$f":"IFERROR(VLOOKUP(Tabla_SERIED_11_6[[#This Row],[IdEstablecimiento]],'[2]Establecimiento 2023'!$A$1:$E$183,5,FALSE),0)","v":"04105-Paihuano"},"15010200","2023-04-20T07:15:02",10,{"$nulls":5},4,6]
[2,"5",2023,"105479",{"$f":"IFERROR(VLOOKUP(Tabla_SERIED_11_6[[#This Row],[IdEstablecimiento]],'[2]Establecimiento 2023'!$A$1:$E$183,3,FALSE),0)","v":"105479-Posta de Salud Rural Guangualí"},{"$f":"IFERROR(VLOOKUP(Tabla_SERIED_11_6[[#This Row],[IdEstablecimiento]],'[2]Establecimiento 2023'!$A$1:$E$183,5,FALSE),0)","v":"04203-Los Vilos"},"15010200","2023-04-19T08:48:20",12,{"$nulls":5},8,4]
[2,"5",2023,"105480",{"$f":"IFERROR(VLOOKUP(Tabla_SERIED_11_6[[#This Row],[IdEstablecimiento]],'[2]Establecimiento 2023'!$A$1:$E$183,3,FALSE),0)","v":"105480-Posta de Salud Rural Quilimarí"},{"$f":"IFERROR(VLOOKUP(Tabla_SERIED_11_6[[#This Row],[IdEstablecimiento]],'[2]Establecimiento 2023'!$A$1:$E$183,5,FALSE),0)","v":"04203-Los Vilos"},"15010100","2023-04-19T08:48:34",20,{"$nulls":3},14,6]
[2,"5",2023,"105480",{"$f":"IFERROR(VLOOKUP(Tabla_SERIED_11_6[[#This Row],[IdEstablecimiento]],'[2]Establecimiento 2023'!$A$1:$E$183,3,FALSE),0)","v":"105480-Posta de Salud Rural Quilimarí"},{"$f":"IFERROR(VLOOKUP(Tabla_SERIED_11_6[[#This Row],[IdEstablecimiento]],'[2]Establecimiento 2023'!$A$1:$E$183,5,FALSE),0)","v":"04203-Los Vilos"},"15010200","2023-04-19T08:48:34",58,{"$nulls":4},4,38,16]
[2,"5",2023,"105481",{"$f":"IFERROR(VLOOKUP(Tabla_SERIED_11_6[[#This Row],[IdEstablecimiento]],'[2]Establecimiento 2023'!$A$1:$E$183,3,FALSE),0)","v":"105481-Posta de Salud Rural Tilama"},{"$f":"IFERROR(VLOOKUP(Tabla_SERIED_11_6[[#This Row],[IdEstablecimiento]],'[2]Establecimiento 2023'!$A$1:$E$183,5,FALSE),0)","v":"04203-Los Vilos"},"15050100","2023-04-20T13:18:28",6,1,5,{"$nulls":3},2,1,null,null,1,null,2]
[2,"5",2023,"105482",{"$f":"IFERROR(VLOOKUP(Tabla_SERIED_11_6[[#This Row],[IdEstablecimiento]],'[2]Establecimiento 2023'!$A$1:$E$183,3,FALSE),0)","v":"105482-Posta de Salud Rural Canela Alta"},{"$f":"IFERROR(VLOOKUP(Tabla_SERIED_11_6[[#This Row],[IdEstablecimiento]],'[2]Establecimiento 2023'!$A$1:$E$183,5,FALSE),0)","v":"04202-Canela"},"16200210","2023-04-20T09:26:34",4,4]
[2,"5",2023,"105483",{"$f":"IFERROR(VLOOKUP(Tabla_SERIED_11_6[[#This Row],[IdEstablecimiento]],'[2]Establecimiento 2023'!$A$1:$E$183,3,FALSE),0)","v":"105483-Posta de Salud Rural Los Rulos"},{"$f":"IFERROR(VLOOKUP(Tabla_SERIED_11_6[[#This Row],[IdEstablecimiento]],'[2]Establecimiento 2023'!$A$1:$E$183,5,FALSE),0)","v":"04202-Canela"},"16090300","2023-04-20T09:26:54",35,35]
[2,"5",2023,"105487",{"$f":"IFERROR(VLOOKUP(Tabla_SERIED_11_6[[#This Row],[IdEstablecimiento]],'[2]Establecimiento 2023'!$A$1:$E$183,3,FALSE),0)","v":"105487-Posta de Salud Rural Cañas Uno"},{"$f":"IFERROR(VLOOKUP(Tabla_SERIED_11_6[[#This Row],[IdEstablecimiento]],'[2]Establecimiento 2023'!$A$1:$E$183,5,FALSE),0)","v":"04201-Illapel"},"15050100","2023-04-19T08:52:39",47,22,30,null,null,1,7,null,14,19,6]
[2,"5",2023,"105487",{"$f":"IFERROR(VLOOKUP(Tabla_SERIED_11_6[[#This Row],[IdEstablecimiento]],'[2]Establecimiento 2023'!$A$1:$E$183,3,FALSE),0)","v":"105487-Posta de Salud Rural Cañas Uno"},{"$f":"IFERROR(VLOOKUP(Tabla_SERIED_11_6[[#This Row],[IdEstablecimiento]],'[2]Establecimiento 2023'!$A$1:$E$183,5,FALSE),0)","v":"04201-Illapel"},"16200220","2023-04-19T08:52:39",22,6,16]
[2,"5",2023,"105489",{"$f":"IFERROR(VLOOKUP(Tabla_SERIED_11_6[[#This Row],[IdEstablecimiento]],'[2]Establecimiento 2023'!$A$1:$E$183,3,FALSE),0)","v":"105489-Posta de Salud Rural Ramadas de Tulahuén"},{"$f":"IFERROR(VLOOKUP(Tabla_SERIED_11_6[[#This Row],[IdEstablecimiento]],'[2]Establecimiento 2023'!$A$1:$E$183,5,FALSE),0)","v":"04303-Monte Patria"},"15050100","2023-04-19T08:53:20",10,3,7,{"$nulls":3},4,null,3,2,1]
[2,"5",2023,"105490",{"$f":"IFERROR(VLOOKUP(Tabla_SERIED_11_6[[#This Row],[IdEstablecimiento]],'[2]Establecimiento 2023'!$A$1:$E$183,3,FALSE),0)","v":"105490-Posta de Salud Rural El Durazno(Combarbalá)"},{"$f":"IFERROR(VLOOKUP(Tabla_SERIED_11_6[[#This Row],[IdEstablecimiento]],'[2]Establecimiento 2023'!$A$1:$E$183,5,FALSE),0)","v":"04302-Combarbalá"},"15010200","2023-04-20T10:28:21",14,{"$nulls":5},2,12]
[2,"5",2023,"105492",{"$f":"IFERROR(VLOOKUP(Tabla_SERIED_11_6[[#This Row],[IdEstablecimiento]],'[2]Establecimiento 2023'!$A$1:$E$183,3,FALSE),0)","v":"105492-Posta de Salud Rural Camisa"},{"$f":"IFERROR(VLOOKUP(Tabla_SERIED_11_6[[#This Row],[IdEstablecimiento]],'[2]Establecimiento 2023'!$A$1:$E$183,5,FALSE),0)","v":"04204-Salamanca"},"15010200","2023-04-21T09:19:00",20,{"$nulls":5},8,12]
[2,"5",2023,"105493",{"$f":"IFERROR(VLOOKUP(Tabla_SERIED_11_6[[#This Row],[IdEstablecimiento]],'[2]Establecimiento 2023'!$A$1:$E$183,3,FALSE),0)","v":"105493-Posta de Salud Rural Mincha Sur"},{"$f":"IFERROR(VLOOKUP(Tabla_SERIED_11_6[[#This Row],[IdEstablecimiento]],'[2]Establecimiento 2023'!$A$1:$E$183,5,FALSE),0)","v":"04202-Canela"},"15010200","2023-04-20T09:30:19",2,{"$nulls":5},2]
[2,"5",2023,"105493",{"$f":"IFERROR(VLOOKUP(Tabla_SERIED_11_6[[#This Row],[IdEstablecimiento]],'[2]Establecimiento 2023'!$A$1:$E$183,3,FALSE),0)","v":"105493-Posta de Salud Rural Mincha Sur"},{"$f":"IFERROR(VLOOKUP(Tabla_SERIED_11_6[[#This Row],[IdEstablecimiento]],'[2]Establecimiento 2023'!$A$1:$E$183,5,FALSE),0)","v":"04202-Canela"},"16200220","2023-04-20T09:30:19",1,0,1]
[2,"5",2023,"105496",{"$f":"IFERROR(VLOOKUP(Tabla_SERIED_11_6[[#This Row],[IdEstablecimiento]],'[2]Establecimiento 2023'!$A$1:$E$183,3,FALSE),0)","v":"105496-Posta de Salud Rural Pintacura Sur"},{"$f":"IFERROR(VLOOKUP(Tabla_SERIED_11_6[[#This Row],[IdEstablecimiento]],'[2]Establecimiento 2023'!$A$1:$E$183,5,FALSE),0)","v":"04201-Illapel"},"16100300","2023-04-19T08:56:10",37,18,19]
[2,"5",2023,"105496",{"$f":"IFERROR(VLOOKUP(Tabla_SERIED_11_6[[#This Row],[IdEstablecimiento]],'[2]Establecimiento 2023'!$A$1:$E$183,3,FALSE),0)","v":"105496-Posta de Salud Rural Pintacura Sur"},{"$f":"IFERROR(VLOOKUP(Tabla_SERIED_11_6[[#This Row],[IdEstablecimiento]],'[2]Establecimiento 2023'!$A$1:$E$183,5,FALSE),0)","v":"04201-Illapel"},"16200210","2023-04-19T08:56:10",8,8]
[2,"5",2023,"105499",{"$f":"IFERROR(VLOOKUP(Tabla_SERIED_11_6[[#This Row],[IdEstablecimiento]],'[2]Establecimiento 2023'!$A$1:$E$183,3,FALSE),0)","v":"105499-Posta de Salud Rural Lambert"},{"$f":"IFERROR(VLOOKUP(Tabla_SERIED_11_6[[#This Row],[IdEstablecimiento]],'[2]Establecimiento 2023'!$A$1:$E$183,5,FALSE),0)","v":"04101-La Serena"},"15900010","2023-04-19T08:56:44",12.3,null,2.4,9.9]
[2,"5",2023,"105500",{"$f":"IFERROR(VLOOKUP(Tabla_SERIED_11_6[[#This Row],[IdEstablecimiento]],'[2]Establecimiento 2023'!$A$1:$E$183,3,FALSE),0)","v":"105500-Posta de Salud Rural Caleta Hornos"},{"$f":"IFERROR(VLOOKUP(Tabla_SERIED_11_6[[#This Row],[IdEstablecimiento]],'[2]Establecimiento 2023'!$A$1:$E$183,5,FALSE),0)","v":"04104-La Higuera"},"15010200","2023-07-19T15:13:56",18,{"$nulls":5},10,8]
[2,"5",2023,"105503",{"$f":"IFERROR(VLOOKUP(Tabla_SERIED_11_6[[#This Row],[IdEstablecimiento]],'[2]Establecimiento 2023'!$A$1:$E$183,3,FALSE),0)","v":"105503-Posta de Salud Rural Tabaqueros"},{"$f":"IFERROR(VLOOKUP(Tabla_SERIED_11_6[[#This Row],[IdEstablecimiento]],'[2]Establecimiento 2023'!$A$1:$E$183,5,FALSE),0)","v":"04305-Rio Hurtado"},"16200220","2023-04-19T08:58:01",2,1,1]
[2,"5",2023,"105504",{"$f":"IFERROR(VLOOKUP(Tabla_SERIED_11_6[[#This Row],[IdEstablecimiento]],'[2]Establecimiento 2023'!$A$1:$E$183,3,FALSE),0)","v":"105504-Posta de Salud Rural Socavón"},{"$f":"IFERROR(VLOOKUP(Tabla_SERIED_11_6[[#This Row],[IdEstablecimiento]],'[2]Establecimiento 2023'!$A$1:$E$183,5,FALSE),0)","v":"04201-Illapel"},"16200220","2023-04-19T08:59:05",4,2,2]
[2,"5",2023,"105506",{"$f":"IFERROR(VLOOKUP(Tabla_SERIED_11_6[[#This Row],[IdEstablecimiento]],'[2]Establecimiento 2023'!$A$1:$E$183,3,FALSE),0)","v":"105506-Posta de Salud Rural El Trapiche"},{"$f":"IFERROR(VLOOKUP(Tabla_SERIED_11_6[[#This Row],[IdEstablecimiento]],'[2]Establecimiento 2023'!$A$1:$E$183,5,FALSE),0)","v":"04104-La Higuera"},"16200220","2023-07-19T15:14:59",1,null,1]
[2,"5",2023,"105508",{"$f":"IFERROR(VLOOKUP(Tabla_SERIED_11_6[[#This Row],[IdEstablecimiento]],'[2]Establecimiento 2023'!$A$1:$E$183,3,FALSE),0)","v":"105508-Posta de Salud Rural El Parral de Quiles"},{"$f":"IFERROR(VLOOKUP(Tabla_SERIED_11_6[[#This Row],[IdEstablecimiento]],'[2]Establecimiento 2023'!$A$1:$E$183,5,FALSE),0)","v":"04304-Punitaqui"},"15010200","2023-04-24T06:50:15",10,{"$nulls":4},2,6,2]
[2,"5",2023,"105510",{"$f":"IFERROR(VLOOKUP(Tabla_SERIED_11_6[[#This Row],[IdEstablecimiento]],'[2]Establecimiento 2023'!$A$1:$E$183,3,FALSE),0)","v":"105510-Posta de Salud Rural Recoleta"},{"$f":"IFERROR(VLOOKUP(Tabla_SERIED_11_6[[#This Row],[IdEstablecimiento]],'[2]Establecimiento 2023'!$A$1:$E$183,5,FALSE),0)","v":"04301-Ovalle"},"16200210","2023-04-20T10:49:17",10,10]
[2,"5",2023,"105511",{"$f":"IFERROR(VLOOKUP(Tabla_SERIED_11_6[[#This Row],[IdEstablecimiento]],'[2]Establecimiento 2023'!$A$1:$E$183,3,FALSE),0)","v":"105511-Posta de Salud Rural Los Cóndores"},{"$f":"IFERROR(VLOOKUP(Tabla_SERIED_11_6[[#This Row],[IdEstablecimiento]],'[2]Establecimiento 2023'!$A$1:$E$183,5,FALSE),0)","v":"04203-Los Vilos"},"15010100","2023-04-19T09:00:51",12,{"$nulls":3},10,2]
[2,"5",2023,"105701",{"$f":"IFERROR(VLOOKUP(Tabla_SERIED_11_6[[#This Row],[IdEstablecimiento]],'[2]Establecimiento 2023'!$A$1:$E$183,3,FALSE),0)","v":"105701-Centro Comunitario de Salud Familiar Villa Alemania"},{"$f":"IFERROR(VLOOKUP(Tabla_SERIED_11_6[[#This Row],[IdEstablecimiento]],'[2]Establecimiento 2023'!$A$1:$E$183,5,FALSE),0)","v":"04101-La Serena"},"15050100","2023-04-19T09:01:31",45,25,22,1,null,null,12,1,12,8,8,null,2,null,1]
[2,"5",2023,"105701",{"$f":"IFERROR(VLOOKUP(Tabla_SERIED_11_6[[#This Row],[IdEstablecimiento]],'[2]Establecimiento 2023'!$A$1:$E$183,3,FALSE),0)","v":"105701-Centro Comunitario de Salud Familiar Villa Alemania"},{"$f":"IFERROR(VLOOKUP(Tabla_SERIED_11_6[[#This Row],[IdEstablecimiento]],'[2]Establecimiento 2023'!$A$1:$E$183,5,FALSE),0)","v":"04101-La Serena"},"16090500","2023-04-19T09:01:31",11,11]
[2,"5",2023,"105702",{"$f":"IFERROR(VLOOKUP(Tabla_SERIED_11_6[[#This Row],[IdEstablecimiento]],'[2]Establecimiento 2023'!$A$1:$E$183,3,FALSE),0)","v":"105702-Centro Comunitario de Salud Familiar Lambert"},{"$f":"IFERROR(VLOOKUP(Tabla_SERIED_11_6[[#This Row],[IdEstablecimiento]],'[2]Establecimiento 2023'!$A$1:$E$183,5,FALSE),0)","v":"04101-La Serena"},"16090300","2023-04-19T09:01:52",44,44]
[2,"5",2023,"105702",{"$f":"IFERROR(VLOOKUP(Tabla_SERIED_11_6[[#This Row],[IdEstablecimiento]],'[2]Establecimiento 2023'!$A$1:$E$183,3,FALSE),0)","v":"105702-Centro Comunitario de Salud Familiar Lambert"},{"$f":"IFERROR(VLOOKUP(Tabla_SERIED_11_6[[#This Row],[IdEstablecimiento]],'[2]Establecimiento 2023'!$A$1:$E$183,5,FALSE),0)","v":"04101-La Serena"},"16200210","2023-04-19T09:01:52",1,1]
[2,"5",2023,"105722",{"$f":"IFERROR(VLOOKUP(Tabla_SERIED_11_6[[#This Row],[IdEstablecimiento]],'[2]Establecimiento 2023'!$A$1:$E$183,3,FALSE),0)","v":"105722-Centro Comunitario de Salud Familiar San José de la Dehesa"},{"$f":"IFERROR(VLOOKUP(Tabla_SERIED_11_6[[#This Row],[IdEstablecimiento]],'[2]Establecimiento 2023'!$A$1:$E$183,5,FALSE),0)","v":"04301-Ovalle"},"15010400","2023-04-20T10:49:50",8,{"$nulls":4},2,4,2]
[2,"5",2023,"105722",{"$f":"IFERROR(VLOOKUP(Tabla_SERIED_11_6[[#This Row],[IdEstablecimiento]],'[2]Establecimiento 2023'!$A$1:$E$183,3,FALSE),0)","v":"105722-Centro Comunitario de Salud Familiar San José de la Dehesa"},{"$f":"IFERROR(VLOOKUP(Tabla_SERIED_11_6[[#This Row],[IdEstablecimiento]],'[2]Establecimiento 2023'!$A$1:$E$183,5,FALSE),0)","v":"04301-Ovalle"},"15010500","2023-04-20T10:49:50",10,{"$nulls":4},2,6,2]
[2,"5",2023,"105722",{"$f":"IFERROR(VLOOKUP(Tabla_SERIED_11_6[[#This Row],[IdEstablecimiento]],'[2]Establecimiento 2023'!$A$1:$E$183,3,FALSE),0)","v":"105722-Centro Comunitario de Salud Familiar San José de la Dehesa"},{"$f":"IFERROR(VLOOKUP(Tabla_SERIED_11_6[[#This Row],[IdEstablecimiento]],'[2]Establecimiento 2023'!$A$1:$E$183,5,FALSE),0)","v":"04301-Ovalle"},"16200220","2023-04-20T10:49:50",17,5,12]
[2,"5",2023,"105723",{"$f":"IFERROR(VLOOKUP(Tabla_SERIED_11_6[[#This Row],[IdEstablecimiento]],'[2]Establecimiento 2023'!$A$1:$E$183,3,FALSE),0)","v":"105723-Centro Comunitario de Salud Familiar Limarí"},{"$f":"IFERROR(VLOOKUP(Tabla_SERIED_11_6[[#This Row],[IdEstablecimiento]],'[2]Establecimiento 2023'!$A$1:$E$183,5,FALSE),0)","v":"04301-Ovalle"},"16090300","2023-04-20T10:50:07",242,242]
[2,"5",2023,"200258",{"$f":"IFERROR(VLOOKUP(Tabla_SERIED_11_6[[#This Row],[IdEstablecimiento]],'[2]Establecimiento 2023'!$A$1:$E$183,3,FALSE),0)","v":"200258-Centro Comunitario de Salud Familiar Los Copihues"},{"$f":"IFERROR(VLOOKUP(Tabla_SERIED_11_6[[#This Row],[IdEstablecimiento]],'[2]Establecimiento 2023'!$A$1:$E$183,5,FALSE),0)","v":"04301-Ovalle"},"15010200","2023-04-20T10:51:26",80,{"$nulls":5},40,40]
[2,"5",2023,"200258",{"$f":"IFERROR(VLOOKUP(Tabla_SERIED_11_6[[#This Row],[IdEstablecimiento]],'[2]Establecimiento 2023'!$A$1:$E$183,3,FALSE),0)","v":"200258-Centro Comunitario de Salud Familiar Los Copihues"},{"$f":"IFERROR(VLOOKUP(Tabla_SERIED_11_6[[#This Row],[IdEstablecimiento]],'[2]Establecimiento 2023'!$A$1:$E$183,5,FALSE),0)","v":"04301-Ovalle"},"15010300","2023-04-20T10:51:26",2,{"$nulls":4},2]
[2,"5",2023,"200258",{"$f":"IFERROR(VLOOKUP(Tabla_SERIED_11_6[[#This Row],[IdEstablecimiento]],'[2]Establecimiento 2023'!$A$1:$E$183,3,FALSE),0)","v":"200258-Centro Comunitario de Salud Familiar Los Copihues"},{"$f":"IFERROR(VLOOKUP(Tabla_SERIED_11_6[[#This Row],[IdEstablecimiento]],'[2]Establecimiento 2023'!$A$1:$E$183,5,FALSE),0)","v":"04301-Ovalle"},"15900050","2023-04-20T10:51:26",0,0,1]
[2,"5",2023,"200273",{"$f":"IFERROR(VLOOKUP(Tabla_SERIED_11_6[[#This Row],[IdEstablecimiento]],'[2]Establecimiento 2023'!$A$1:$E$183,3,FALSE),0)","v":"200273-Centro Comunitario de Salud Familiar Punta Mira"},{"$f":"IFERROR(VLOOKUP(Tabla_SERIED_11_6[[#This Row],[IdEstablecimiento]],'[2]Establecimiento 2023'!$A$1:$E$183,5,FALSE),0)","v":"04102-Coquimbo"},"15020200","2023-04-21T09:21:11",6,{"$nulls":4},0,2,4]
[2,"5",2023,"200273",{"$f":"IFERROR(VLOOKUP(Tabla_SERIED_11_6[[#This Row],[IdEstablecimiento]],'[2]Establecimiento 2023'!$A$1:$E$183,3,FALSE),0)","v":"200273-Centro Comunitario de Salud Familiar Punta Mira"},{"$f":"IFERROR(VLOOKUP(Tabla_SERIED_11_6[[#This Row],[IdEstablecimiento]],'[2]Establecimiento 2023'!$A$1:$E$183,5,FALSE),0)","v":"04102-Coquimbo"},"15900010","2023-04-21T09:21:11",10.8,0,0,10.8]
[2,"5",2023,"200366",{"$f":"IFERROR(VLOOKUP(Tabla_SERIED_11_6[[#This Row],[IdEstablecimiento]],'[2]Establecimiento 2023'!$A$1:$E$183,3,FALSE),0)","v":"200366-Centro de Salud Familiar Urbano de Illapel"},{"$f":"IFERROR(VLOOKUP(Tabla_SERIED_11_6[[#This Row],[IdEstablecimiento]],'[2]Establecimiento 2023'!$A$1:$E$183,5,FALSE),0)","v":"04201-Illapel"},"16090100","2023-04-19T09:02:37",4,4]
[2,"5",2023,"200367",{"$f":"IFERROR(VLOOKUP(Tabla_SERIED_11_6[[#This Row],[IdEstablecimiento]],'[2]Establecimiento 2023'!$A$1:$E$183,3,FALSE),0)","v":"200367-Centro Comunitario de Salud Familiar Colonia Limarí"},{"$f":"IFERROR(VLOOKUP(Tabla_SERIED_11_6[[#This Row],[IdEstablecimiento]],'[2]Establecimiento 2023'!$A$1:$E$183,5,FALSE),0)","v":"04301-Ovalle"},"16200100","2023-04-20T10:51:05",6,3,3]
[2,"5",2023,"200402",{"$f":"IFERROR(VLOOKUP(Tabla_SERIED_11_6[[#This Row],[IdEstablecimiento]],'[2]Establecimiento 2023'!$A$1:$E$183,3,FALSE),0)","v":"200402-Centro Comunitario de Salud Familiar Arcos de Pinamar"},{"$f":"IFERROR(VLOOKUP(Tabla_SERIED_11_6[[#This Row],[IdEstablecimiento]],'[2]Establecimiento 2023'!$A$1:$E$183,5,FALSE),0)","v":"04101-La Serena"},"15050200","2023-04-19T09:03:13",1,1,{"$nulls":6},1]
[2,"5",2023,"200494",{"$f":"IFERROR(VLOOKUP(Tabla_SERIED_11_6[[#This Row],[IdEstablecimiento]],'[2]Establecimiento 2023'!$A$1:$E$183,3,FALSE),0)","v":"200494-Centro de Salud Familiar El Sauce"},{"$f":"IFERROR(VLOOKUP(Tabla_SERIED_11_6[[#This Row],[IdEstablecimiento]],'[2]Establecimiento 2023'!$A$1:$E$183,5,FALSE),0)","v":"04102-Coquimbo"},"15010200","2023-04-21T09:21:41",476,{"$nulls":4},74,248,154]
[2,"5",2023,"200494",{"$f":"IFERROR(VLOOKUP(Tabla_SERIED_11_6[[#This Row],[IdEstablecimiento]],'[2]Establecimiento 2023'!$A$1:$E$183,3,FALSE),0)","v":"200494-Centro de Salud Familiar El Sauce"},{"$f":"IFERROR(VLOOKUP(Tabla_SERIED_11_6[[#This Row],[IdEstablecimiento]],'[2]Establecimiento 2023'!$A$1:$E$183,5,FALSE),0)","v":"04102-Coquimbo"},"15050500","2023-04-21T09:21:41",2,1,1,0,1,1]
[2,"5",2023,"200494",{"$f":"IFERROR(VLOOKUP(Tabla_SERIED_11_6[[#This Row],[IdEstablecimiento]],'[2]Establecimiento 2023'!$A$1:$E$183,3,FALSE),0)","v":"200494-Centro de Salud Familiar El Sauce"},{"$f":"IFERROR(VLOOKUP(Tabla_SERIED_11_6[[#This Row],[IdEstablecimiento]],'[2]Establecimiento 2023'!$A$1:$E$183,5,FALSE),0)","v":"04102-Coquimbo"},"15080009","2023-04-21T09:21:41",16,{"$nulls":8},12,3,1,0]
[2,"5",2023,"200494",{"$f":"IFERROR(VLOOKUP(Tabla_SERIED_11_6[[#This Row],[IdEstablecimiento]],'[2]Establecimiento 2023'!$A$1:$E$183,3,FALSE),0)","v":"200494-Centro de Salud Familiar El Sauce"},{"$f":"IFERROR(VLOOKUP(Tabla_SERIED_11_6[[#This Row],[IdEstablecimiento]],'[2]Establecimiento 2023'!$A$1:$E$183,5,FALSE),0)","v":"04102-Coquimbo"},"15900030","2023-04-21T09:21:41",14,0,3.6,0.4,3.6,6.4,0,0]
[9,"5",2023,"105491",{"$f":"IFERROR(VLOOKUP(Tabla_SERIED_11_6[[#This Row],[IdEstablecimiento]],'[2]Establecimiento 2023'!$A$1:$E$183,3,FALSE),0)","v":"105491-Posta de Salud Rural Quelén Bajo"},{"$f":"IFERROR(VLOOKUP(Tabla_SERIED_11_6[[#This Row],[IdEstablecimiento]],'[2]Establecimiento 2023'!$A$1:$E$183,5,FALSE),0)","v":"04204-Salamanca"},"15900020","2023-10-17T14:51:37",4.8,null,null,4.8]
[9,"5",2023,"105491",{"$f":"IFERROR(VLOOKUP(Tabla_SERIED_11_6[[#This Row],[IdEstablecimiento]],'[2]Establecimiento 2023'!$A$1:$E$183,3,FALSE),0)","v":"105491-Posta de Salud Rural Quelén Bajo"},{"$f":"IFERROR(VLOOKUP(Tabla_SERIED_11_6[[#This Row],[IdEstablecimiento]],'[2]Establecimiento 2023'!$A$1:$E$183,5,FALSE),0)","v":"04204-Salamanca"},"16090300","2023-10-17T14:51:37",141,141]
[9,"5",2023,"105493",{"$f":"IFERROR(VLOOKUP(Tabla_SERIED_11_6[[#This Row],[IdEstablecimiento]],'[2]Establecimiento 2023'!$A$1:$E$183,3,FALSE),0)","v":"105493-Posta de Salud Rural Mincha Sur"},{"$f":"IFERROR(VLOOKUP(Tabla_SERIED_11_6[[#This Row],[IdEstablecimiento]],'[2]Establecimiento 2023'!$A$1:$E$183,5,FALSE),0)","v":"04202-Canela"},"15050100","2023-10-17T14:54:07",2,null,2,{"$nulls":4},1,null,null,1]
[9,"5",2023,"105493",{"$f":"IFERROR(VLOOKUP(Tabla_SERIED_11_6[[#This Row],[IdEstablecimiento]],'[2]Establecimiento 2023'!$A$1:$E$183,3,FALSE),0)","v":"105493-Posta de Salud Rural Mincha Sur"},{"$f":"IFERROR(VLOOKUP(Tabla_SERIED_11_6[[#This Row],[IdEstablecimiento]],'[2]Establecimiento 2023'!$A$1:$E$183,5,FALSE),0)","v":"04202-Canela"},"16100300","2023-10-17T14:54:07",27,11,16]
[9,"5",2023,"105496",{"$f":"IFERROR(VLOOKUP(Tabla_SERIED_11_6[[#This Row],[IdEstablecimiento]],'[2]Establecimiento 2023'!$A$1:$E$183,3,FALSE),0)","v":"105496-Posta de Salud Rural Pintacura Sur"},{"$f":"IFERROR(VLOOKUP(Tabla_SERIED_11_6[[#This Row],[IdEstablecimiento]],'[2]Establecimiento 2023'!$A$1:$E$183,5,FALSE),0)","v":"04201-Illapel"},"15010500","2023-10-17T14:56:55",2,{"$nulls":3},2]
[9,"5",2023,"105497",{"$f":"IFERROR(VLOOKUP(Tabla_SERIED_11_6[[#This Row],[IdEstablecimiento]],'[2]Establecimiento 2023'!$A$1:$E$183,3,FALSE),0)","v":"105497-Posta de Salud Rural Jabonería"},{"$f":"IFERROR(VLOOKUP(Tabla_SERIED_11_6[[#This Row],[IdEstablecimiento]],'[2]Establecimiento 2023'!$A$1:$E$183,5,FALSE),0)","v":"04202-Canela"},"16090300","2023-10-17T14:56:58",24,24]
[9,"5",2023,"105499",{"$f":"IFERROR(VLOOKUP(Tabla_SERIED_11_6[[#This Row],[IdEstablecimiento]],'[2]Establecimiento 2023'!$A$1:$E$183,3,FALSE),0)","v":"105499-Posta de Salud Rural Lambert"},{"$f":"IFERROR(VLOOKUP(Tabla_SERIED_11_6[[#This Row],[IdEstablecimiento]],'[2]Establecimiento 2023'!$A$1:$E$183,5,FALSE),0)","v":"04101-La Serena"},"15050100","2023-10-17T15:02:58",27,11,16,null,2,3,8,1,4,6,1,{"$nulls":3},2]
[9,"5",2023,"105499",{"$f":"IFERROR(VLOOKUP(Tabla_SERIED_11_6[[#This Row],[IdEstablecimiento]],'[2]Establecimiento 2023'!$A$1:$E$183,3,FALSE),0)","v":"105499-Posta de Salud Rural Lambert"},{"$f":"IFERROR(VLOOKUP(Tabla_SERIED_11_6[[#This Row],[IdEstablecimiento]],'[2]Establecimiento 2023'!$A$1:$E$183,5,FALSE),0)","v":"04101-La Serena"},"16100300","2023-10-17T15:02:58",16,6,10]
[9,"5",2023,"105500",{"$f":"IFERROR(VLOOKUP(Tabla_SERIED_11_6[[#This Row],[IdEstablecimiento]],'[2]Establecimiento 2023'!$A$1:$E$183,3,FALSE),0)","v":"105500-Posta de Salud Rural Caleta Hornos"},{"$f":"IFERROR(VLOOKUP(Tabla_SERIED_11_6[[#This Row],[IdEstablecimiento]],'[2]Establecimiento 2023'!$A$1:$E$183,5,FALSE),0)","v":"04104-La Higuera"},"15050100","2023-10-17T15:06:03",29,17,12,null,1,3,7,7,2,5,4]
[9,"5",2023,"105505",{"$f":"IFERROR(VLOOKUP(Tabla_SERIED_11_6[[#This Row],[IdEstablecimiento]],'[2]Establecimiento 2023'!$A$1:$E$183,3,FALSE),0)","v":"105505-Posta de Salud Rural Los Choros"},{"$f":"IFERROR(VLOOKUP(Tabla_SERIED_11_6[[#This Row],[IdEstablecimiento]],'[2]Establecimiento 2023'!$A$1:$E$183,5,FALSE),0)","v":"04104-La Higuera"},"15050100","2023-10-17T15:13:21",19,9,10,{"$nulls":3},1,3,3,9,3]
[9,"5",2023,"105506",{"$f":"IFERROR(VLOOKUP(Tabla_SERIED_11_6[[#This Row],[IdEstablecimiento]],'[2]Establecimiento 2023'!$A$1:$E$183,3,FALSE),0)","v":"105506-Posta de Salud Rural El Trapiche"},{"$f":"IFERROR(VLOOKUP(Tabla_SERIED_11_6[[#This Row],[IdEstablecimiento]],'[2]Establecimiento 2023'!$A$1:$E$183,5,FALSE),0)","v":"04104-La Higuera"},"15080014","2023-10-17T15:15:20",6,{"$nulls":3},2,4]
[9,"5",2023,"105506",{"$f":"IFERROR(VLOOKUP(Tabla_SERIED_11_6[[#This Row],[IdEstablecimiento]],'[2]Establecimiento 2023'!$A$1:$E$183,3,FALSE),0)","v":"105506-Posta de Salud Rural El Trapiche"},{"$f":"IFERROR(VLOOKUP(Tabla_SERIED_11_6[[#This Row],[IdEstablecimiento]],'[2]Establecimiento 2023'!$A$1:$E$183,5,FALSE),0)","v":"04104-La Higuera"},"16090300","2023-10-17T15:15:20",21,21]
[9,"5",2023,"105508",{"$f":"IFERROR(VLOOKUP(Tabla_SERIED_11_6[[#This Row],[IdEstablecimiento]],'[2]Establecimiento 2023'!$A$1:$E$183,3,FALSE),0)","v":"105508-Posta de Salud Rural El Parral de Quiles"},{"$f":"IFERROR(VLOOKUP(Tabla_SERIED_11_6[[#This Row],[IdEstablecimiento]],'[2]Establecimiento 2023'!$A$1:$E$183,5,FALSE),0)","v":"04304-Punitaqui"},"15050100","2023-10-17T15:33:48",2,1,1,{"$nulls":5},2]
[9,"5",2023,"105509",{"$f":"IFERROR(VLOOKUP(Tabla_SERIED_11_6[[#This Row],[IdEstablecimiento]],'[2]Establecimiento 2023'!$A$1:$E$183,3,FALSE),0)","v":"105509-Posta de Salud Rural Gualliguaica"},{"$f":"IFERROR(VLOOKUP(Tabla_SERIED_11_6[[#This Row],[IdEstablecimiento]],'[2]Establecimiento 2023'!$A$1:$E$183,5,FALSE),0)","v":"04106-Vicuña"},"15080014","2023-10-17T15:34:26",6,{"$nulls":3},2,4]
[9,"5",2023,"105511",{"$f":"IFERROR(VLOOKUP(Tabla_SERIED_11_6[[#This Row],[IdEstablecimiento]],'[2]Establecimiento 2023'!$A$1:$E$183,3,FALSE),0)","v":"105511-Posta de Salud Rural Los Cóndores"},{"$f":"IFERROR(VLOOKUP(Tabla_SERIED_11_6[[#This Row],[IdEstablecimiento]],'[2]Establecimiento 2023'!$A$1:$E$183,5,FALSE),0)","v":"04203-Los Vilos"},"15900010","2023-10-17T15:35:31",6.4,1.6,1.6,3.2]
[9,"5",2023,"105701",{"$f":"IFERROR(VLOOKUP(Tabla_SERIED_11_6[[#This Row],[IdEstablecimiento]],'[2]Establecimiento 2023'!$A$1:$E$183,3,FALSE),0)","v":"105701-Centro Comunitario de Salud Familiar Villa Alemania"},{"$f":"IFERROR(VLOOKUP(Tabla_SERIED_11_6[[#This Row],[IdEstablecimiento]],'[2]Establecimiento 2023'!$A$1:$E$183,5,FALSE),0)","v":"04101-La Serena"},"15900010","2023-10-17T15:36:54",8,4,null,4]
[3,"5",2023,"105104",{"$f":"IFERROR(VLOOKUP(Tabla_SERIED_11_6[[#This Row],[IdEstablecimiento]],'[2]Establecimiento 2023'!$A$1:$E$183,3,FALSE),0)","v":"105104-Hospital de Salamanca"},{"$f":"IFERROR(VLOOKUP(Tabla_SERIED_11_6[[#This Row],[IdEstablecimiento]],'[2]Establecimiento 2023'!$A$1:$E$183,5,FALSE),0)","v":"105104-Hospital Salamanca"},"15020100","2023-04-20T09:18:25",3,0,0,3,0,0]
[3,"5",2023,"105104",{"$f":"IFERROR(VLOOKUP(Tabla_SERIED_11_6[[#This Row],[IdEstablecimiento]],'[2]Establecimiento 2023'!$A$1:$E$183,3,FALSE),0)","v":"105104-Hospital de Salamanca"},{"$f":"IFERROR(VLOOKUP(Tabla_SERIED_11_6[[#This Row],[IdEstablecimiento]],'[2]Establecimiento 2023'!$A$1:$E$183,5,FALSE),0)","v":"105104-Hospital Salamanca"},"16100300","2023-04-20T09:18:25",440,189,251]
[3,"5",2023,"105105",{"$f":"IFERROR(VLOOKUP(Tabla_SERIED_11_6[[#This Row],[IdEstablecimiento]],'[2]Establecimiento 2023'!$A$1:$E$183,3,FALSE),0)","v":"105105-Hospital San Juan de Dios (Combarbalá)"},{"$f":"IFERROR(VLOOKUP(Tabla_SERIED_11_6[[#This Row],[IdEstablecimiento]],'[2]Establecimiento 2023'!$A$1:$E$183,5,FALSE),0)","v":"105105-Hospital Combarbalá"},"15010500","2023-04-19T09:04:55",28,null,null,4,6,null,16,2]
[3,"5",2023,"105105",{"$f":"IFERROR(VLOOKUP(Tabla_SERIED_11_6[[#This Row],[IdEstablecimiento]],'[2]Establecimiento 2023'!$A$1:$E$183,3,FALSE),0)","v":"105105-Hospital San Juan de Dios (Combarbalá)"},{"$f":"IFERROR(VLOOKUP(Tabla_SERIED_11_6[[#This Row],[IdEstablecimiento]],'[2]Establecimiento 2023'!$A$1:$E$183,5,FALSE),0)","v":"105105-Hospital Combarbalá"},"15900020","2023-04-19T09:04:55",6.4,null,null,6.4]
[3,"5",2023,"105106",{"$f":"IFERROR(VLOOKUP(Tabla_SERIED_11_6[[#This Row],[IdEstablecimiento]],'[2]Establecimiento 2023'!$A$1:$E$183,3,FALSE),0)","v":"105106-Hospital Dr. José Arraño (Andacollo)"},{"$f":"IFERROR(VLOOKUP(Tabla_SERIED_11_6[[#This Row],[IdEstablecimiento]],'[2]Establecimiento 2023'!$A$1:$E$183,5,FALSE),0)","v":"105106-Hospital Andacollo"},"15010400","2023-04-19T09:05:11",10,{"$nulls":5},8,2]
[3,"5",2023,"105106",{"$f":"IFERROR(VLOOKUP(Tabla_SERIED_11_6[[#This Row],[IdEstablecimiento]],'[2]Establecimiento 2023'!$A$1:$E$183,3,FALSE),0)","v":"105106-Hospital Dr. José Arraño (Andacollo)"},{"$f":"IFERROR(VLOOKUP(Tabla_SERIED_11_6[[#This Row],[IdEstablecimiento]],'[2]Establecimiento 2023'!$A$1:$E$183,5,FALSE),0)","v":"105106-Hospital Andacollo"},"15020200","2023-04-19T09:05:11",4,{"$nulls":5},2,2]
[3,"5",2023,"105107",{"$f":"IFERROR(VLOOKUP(Tabla_SERIED_11_6[[#This Row],[IdEstablecimiento]],'[2]Establecimiento 2023'!$A$1:$E$183,3,FALSE),0)","v":"105107-Hospital San Juan de Dios (Vicuña)"},{"$f":"IFERROR(VLOOKUP(Tabla_SERIED_11_6[[#This Row],[IdEstablecimiento]],'[2]Establecimiento 2023'!$A$1:$E$183,5,FALSE),0)","v":"105107-Hospital Vicuña"},"16090300","2023-05-16T14:40:12",379,379]
[3,"5",2023,"105107",{"$f":"IFERROR(VLOOKUP(Tabla_SERIED_11_6[[#This Row],[IdEstablecimiento]],'[2]Establecimiento 2023'!$A$1:$E$183,3,FALSE),0)","v":"105107-Hospital San Juan de Dios (Vicuña)"},{"$f":"IFERROR(VLOOKUP(Tabla_SERIED_11_6[[#This Row],[IdEstablecimiento]],'[2]Establecimiento 2023'!$A$1:$E$183,5,FALSE),0)","v":"105107-Hospital Vicuña"},"16200220","2023-05-16T14:40:12",13,1,12]
[3,"5",2023,"105302",{"$f":"IFERROR(VLOOKUP(Tabla_SERIED_11_6[[#This Row],[IdEstablecimiento]],'[2]Establecimiento 2023'!$A$1:$E$183,3,FALSE),0)","v":"105302-Centro de Salud Familiar Pedro Aguirre Cerda"},{"$f":"IFERROR(VLOOKUP(Tabla_SERIED_11_6[[#This Row],[IdEstablecimiento]],'[2]Establecimiento 2023'!$A$1:$E$183,5,FALSE),0)","v":"04101-La Serena"},"15010400","2023-04-19T09:07:19",18,{"$nulls":5},8,10]
[3,"5",2023,"105302",{"$f":"IFERROR(VLOOKUP(Tabla_SERIED_11_6[[#This Row],[IdEstablecimiento]],'[2]Establecimiento 2023'!$A$1:$E$183,3,FALSE),0)","v":"105302-Centro de Salud Familiar Pedro Aguirre Cerda"},{"$f":"IFERROR(VLOOKUP(Tabla_SERIED_11_6[[#This Row],[IdEstablecimiento]],'[2]Establecimiento 2023'!$A$1:$E$183,5,FALSE),0)","v":"04101-La Serena"},"15050200","2023-04-19T09:07:19",20,9,11,1,4,2,null,2,4,5,null,1,1]
[3,"5",2023,"105302",{"$f":"IFERROR(VLOOKUP(Tabla_SERIED_11_6[[#This Row],[IdEstablecimiento]],'[2]Establecimiento 2023'!$A$1:$E$183,3,FALSE),0)","v":"105302-Centro de Salud Familiar Pedro Aguirre Cerda"},{"$f":"IFERROR(VLOOKUP(Tabla_SERIED_11_6[[#This Row],[IdEstablecimiento]],'[2]Establecimiento 2023'!$A$1:$E$183,5,FALSE),0)","v":"04101-La Serena"},"15900030","2023-04-19T09:07:19",52.8,2.4,7.2,24.8,15.2,3.2]
[3,"5",2023,"105302",{"$f":"IFERROR(VLOOKUP(Tabla_SERIED_11_6[[#This Row],[IdEstablecimiento]],'[2]Establecimiento 2023'!$A$1:$E$183,3,FALSE),0)","v":"105302-Centro de Salud Familiar Pedro Aguirre Cerda"},{"$f":"IFERROR(VLOOKUP(Tabla_SERIED_11_6[[#This Row],[IdEstablecimiento]],'[2]Establecimiento 2023'!$A$1:$E$183,5,FALSE),0)","v":"04101-La Serena"},"15901400","2023-04-19T09:07:19",7,6,1,null,null,4,2,1]
[3,"5",2023,"105303",{"$f":"IFERROR(VLOOKUP(Tabla_SERIED_11_6[[#This Row],[IdEstablecimiento]],'[2]Establecimiento 2023'!$A$1:$E$183,3,FALSE),0)","v":"105303-Centro de Salud Familiar San Juan"},{"$f":"IFERROR(VLOOKUP(Tabla_SERIED_11_6[[#This Row],[IdEstablecimiento]],'[2]Establecimiento 2023'!$A$1:$E$183,5,FALSE),0)","v":"04102-Coquimbo"},"15900010","2023-04-19T09:07:34",220.8,18.4,52.8,149.6]
[3,"5",2023,"105303",{"$f":"IFERROR(VLOOKUP(Tabla_SERIED_11_6[[#This Row],[IdEstablecimiento]],'[2]Establecimiento 2023'!$A$1:$E$183,3,FALSE),0)","v":"105303-Centro de Salud Familiar San Juan"},{"$f":"IFERROR(VLOOKUP(Tabla_SERIED_11_6[[#This Row],[IdEstablecimiento]],'[2]Establecimiento 2023'!$A$1:$E$183,5,FALSE),0)","v":"04102-Coquimbo"},"15900030","2023-04-19T09:07:34",14.4,2.4,4.8,7.2,0,0]
[3,"5",2023,"105303",{"$f":"IFERROR(VLOOKUP(Tabla_SERIED_11_6[[#This Row],[IdEstablecimiento]],'[2]Establecimiento 2023'!$A$1:$E$183,3,FALSE),0)","v":"105303-Centro de Salud Familiar San Juan"},{"$f":"IFERROR(VLOOKUP(Tabla_SERIED_11_6[[#This Row],[IdEstablecimiento]],'[2]Establecimiento 2023'!$A$1:$E$183,5,FALSE),0)","v":"04102-Coquimbo"},"15901200","2023-04-19T09:07:34",4.8,0,3.2,1.6,0,0]
[3,"5",2023,"105304",{"$f":"IFERROR(VLOOKUP(Tabla_SERIED_11_6[[#This Row],[IdEstablecimiento]],'[2]Establecimiento 2023'!$A$1:$E$183,3,FALSE),0)","v":"105304-Centro de Salud Familiar Santa Cecilia"},{"$f":"IFERROR(VLOOKUP(Tabla_SERIED_11_6[[#This Row],[IdEstablecimiento]],'[2]Establecimiento 2023'!$A$1:$E$183,5,FALSE),0)","v":"04102-Coquimbo"},"15050100","2023-04-19T09:07:49",574,198,376,7,19,35,82,68,117,105,80,null,27,15,19]
[3,"5",2023,"105305",{"$f":"IFERROR(VLOOKUP(Tabla_SERIED_11_6[[#This Row],[IdEstablecimiento]],'[2]Establecimiento 2023'!$A$1:$E$183,3,FALSE),0)","v":"105305-Centro de Salud Familiar Tierras Blancas"},{"$f":"IFERROR(VLOOKUP(Tabla_SERIED_11_6[[#This Row],[IdEstablecimiento]],'[2]Establecimiento 2023'!$A$1:$E$183,5,FALSE),0)","v":"04102-Coquimbo"},"15010500","2023-04-19T09:08:07",32,{"$nulls":3},2,6,16,8]
[3,"5",2023,"105305",{"$f":"IFERROR(VLOOKUP(Tabla_SERIED_11_6[[#This Row],[IdEstablecimiento]],'[2]Establecimiento 2023'!$A$1:$E$183,3,FALSE),0)","v":"105305-Centro de Salud Familiar Tierras Blancas"},{"$f":"IFERROR(VLOOKUP(Tabla_SERIED_11_6[[#This Row],[IdEstablecimiento]],'[2]Establecimiento 2023'!$A$1:$E$183,5,FALSE),0)","v":"04102-Coquimbo"},"15020200","2023-04-19T09:08:07",17,{"$nulls":5},14,3]
[3,"5",2023,"105305",{"$f":"IFERROR(VLOOKUP(Tabla_SERIED_11_6[[#This Row],[IdEstablecimiento]],'[2]Establecimiento 2023'!$A$1:$E$183,3,FALSE),0)","v":"105305-Centro de Salud Familiar Tierras Blancas"},{"$f":"IFERROR(VLOOKUP(Tabla_SERIED_11_6[[#This Row],[IdEstablecimiento]],'[2]Establecimiento 2023'!$A$1:$E$183,5,FALSE),0)","v":"04102-Coquimbo"},"16200100","2023-04-19T09:08:07",31,17,14]
[3,"5",2023,"105307",{"$f":"IFERROR(VLOOKUP(Tabla_SERIED_11_6[[#This Row],[IdEstablecimiento]],'[2]Establecimiento 2023'!$A$1:$E$183,3,FALSE),0)","v":"105307-Centro de Salud Familiar Monte Patria"},{"$f":"IFERROR(VLOOKUP(Tabla_SERIED_11_6[[#This Row],[IdEstablecimiento]],'[2]Establecimiento 2023'!$A$1:$E$183,5,FALSE),0)","v":"04303-Monte Patria"},"15900040","2023-04-19T09:09:34",2.8,{"$nulls":3},2.8]
[3,"5",2023,"105307",{"$f":"IFERROR(VLOOKUP(Tabla_SERIED_11_6[[#This Row],[IdEstablecimiento]],'[2]Establecimiento 2023'!$A$1:$E$183,3,FALSE),0)","v":"105307-Centro de Salud Familiar Monte Patria"},{"$f":"IFERROR(VLOOKUP(Tabla_SERIED_11_6[[#This Row],[IdEstablecimiento]],'[2]Establecimiento 2023'!$A$1:$E$183,5,FALSE),0)","v":"04303-Monte Patria"},"15900050","2023-04-19T09:09:34",1,null,1,{"$nulls":3},1]
[3,"5",2023,"105307",{"$f":"IFERROR(VLOOKUP(Tabla_SERIED_11_6[[#This Row],[IdEstablecimiento]],'[2]Establecimiento 2023'!$A$1:$E$183,3,FALSE),0)","v":"105307-Centro de Salud Familiar Monte Patria"},{"$f":"IFERROR(VLOOKUP(Tabla_SERIED_11_6[[#This Row],[IdEstablecimiento]],'[2]Establecimiento 2023'!$A$1:$E$183,5,FALSE),0)","v":"04303-Monte Patria"},"16090300","2023-04-19T09:09:34",283,283]
[3,"5",2023,"105308",{"$f":"IFERROR(VLOOKUP(Tabla_SERIED_11_6[[#This Row],[IdEstablecimiento]],'[2]Establecimiento 2023'!$A$1:$E$183,3,FALSE),0)","v":"105308-Centro de Salud Familiar Punitaqui"},{"$f":"IFERROR(VLOOKUP(Tabla_SERIED_11_6[[#This Row],[IdEstablecimiento]],'[2]Establecimiento 2023'!$A$1:$E$183,5,FALSE),0)","v":"04304-Punitaqui"},"15010300","2023-04-20T09:20:01",10,{"$nulls":3},4,6]
[3,"5",2023,"105309",{"$f":"IFERROR(VLOOKUP(Tabla_SERIED_11_6[[#This Row],[IdEstablecimiento]],'[2]Establecimiento 2023'!$A$1:$E$183,3,FALSE),0)","v":"105309-Centro de Salud Familiar Canela"},{"$f":"IFERROR(VLOOKUP(Tabla_SERIED_11_6[[#This Row],[IdEstablecimiento]],'[2]Establecimiento 2023'!$A$1:$E$183,5,FALSE),0)","v":"04202-Canela"},"15010300","2023-04-19T14:01:21",2,{"$nulls":3},2]
[3,"5",2023,"105309",{"$f":"IFERROR(VLOOKUP(Tabla_SERIED_11_6[[#This Row],[IdEstablecimiento]],'[2]Establecimiento 2023'!$A$1:$E$183,3,FALSE),0)","v":"105309-Centro de Salud Familiar Canela"},{"$f":"IFERROR(VLOOKUP(Tabla_SERIED_11_6[[#This Row],[IdEstablecimiento]],'[2]Establecimiento 2023'!$A$1:$E$183,5,FALSE),0)","v":"04202-Canela"},"15010400","2023-04-19T14:01:21",2,{"$nulls":5},2]
[3,"5",2023,"105309",{"$f":"IFERROR(VLOOKUP(Tabla_SERIED_11_6[[#This Row],[IdEstablecimiento]],'[2]Establecimiento 2023'!$A$1:$E$183,3,FALSE),0)","v":"105309-Centro de Salud Familiar Canela"},{"$f":"IFERROR(VLOOKUP(Tabla_SERIED_11_6[[#This Row],[IdEstablecimiento]],'[2]Establecimiento 2023'!$A$1:$E$183,5,FALSE),0)","v":"04202-Canela"},"15900010","2023-04-19T14:01:21",68.4,11.7,15.3,41.4]
[3,"5",2023,"105309",{"$f":"IFERROR(VLOOKUP(Tabla_SERIED_11_6[[#This Row],[IdEstablecimiento]],'[2]Establecimiento 2023'!$A$1:$E$183,3,FALSE),0)","v":"105309-Centro de Salud Familiar Canela"},{"$f":"IFERROR(VLOOKUP(Tabla_SERIED_11_6[[#This Row],[IdEstablecimiento]],'[2]Establecimiento 2023'!$A$1:$E$183,5,FALSE),0)","v":"04202-Canela"},"16100700","2023-04-19T14:01:21",1,1]
[3,"5",2023,"105310",{"$f":"IFERROR(VLOOKUP(Tabla_SERIED_11_6[[#This Row],[IdEstablecimiento]],'[2]Establecimiento 2023'!$A$1:$E$183,3,FALSE),0)","v":"105310-Centro de Salud Familiar Pichasca"},{"$f":"IFERROR(VLOOKUP(Tabla_SERIED_11_6[[#This Row],[IdEstablecimiento]],'[2]Establecimiento 2023'!$A$1:$E$183,5,FALSE),0)","v":"04305-Rio Hurtado"},"15010300","2023-04-19T14:23:34",2,{"$nulls":3},2]
[3,"5",2023,"105310",{"$f":"IFERROR(VLOOKUP(Tabla_SERIED_11_6[[#This Row],[IdEstablecimiento]],'[2]Establecimiento 2023'!$A$1:$E$183,3,FALSE),0)","v":"105310-Centro de Salud Familiar Pichasca"},{"$f":"IFERROR(VLOOKUP(Tabla_SERIED_11_6[[#This Row],[IdEstablecimiento]],'[2]Establecimiento 2023'!$A$1:$E$183,5,FALSE),0)","v":"04305-Rio Hurtado"},"15080008","2023-04-19T14:23:34",11,{"$nulls":7},6,null,4,null,1]
[3,"5",2023,"105310",{"$f":"IFERROR(VLOOKUP(Tabla_SERIED_11_6[[#This Row],[IdEstablecimiento]],'[2]Establecimiento 2023'!$A$1:$E$183,3,FALSE),0)","v":"105310-Centro de Salud Familiar Pichasca"},{"$f":"IFERROR(VLOOKUP(Tabla_SERIED_11_6[[#This Row],[IdEstablecimiento]],'[2]Establecimiento 2023'!$A$1:$E$183,5,FALSE),0)","v":"04305-Rio Hurtado"},"15900010","2023-04-19T14:23:34",7.2,null,null,7.2]
[3,"5",2023,"105311",{"$f":"IFERROR(VLOOKUP(Tabla_SERIED_11_6[[#This Row],[IdEstablecimiento]],'[2]Establecimiento 2023'!$A$1:$E$183,3,FALSE),0)","v":"105311-Centro de Salud Familiar Chañaral Alto"},{"$f":"IFERROR(VLOOKUP(Tabla_SERIED_11_6[[#This Row],[IdEstablecimiento]],'[2]Establecimiento 2023'!$A$1:$E$183,5,FALSE),0)","v":"04303-Monte Patria"},"16200210","2023-04-19T09:10:58",31,31]
[3,"5",2023,"105313",{"$f":"IFERROR(VLOOKUP(Tabla_SERIED_11_6[[#This Row],[IdEstablecimiento]],'[2]Establecimiento 2023'!$A$1:$E$183,3,FALSE),0)","v":"105313-Centro de Salud Familiar Dr. Emilio Schaffhauser"},{"$f":"IFERROR(VLOOKUP(Tabla_SERIED_11_6[[#This Row],[IdEstablecimiento]],'[2]Establecimiento 2023'!$A$1:$E$183,5,FALSE),0)","v":"04101-La Serena"},"15020200","2023-04-19T09:11:35",16,{"$nulls":4},2,10,4]
[3,"5",2023,"105315",{"$f":"IFERROR(VLOOKUP(Tabla_SERIED_11_6[[#This Row],[IdEstablecimiento]],'[2]Establecimiento 2023'!$A$1:$E$183,3,FALSE),0)","v":"105315-Centro de Salud Familiar Cerrillos de Tamaya"},{"$f":"IFERROR(VLOOKUP(Tabla_SERIED_11_6[[#This Row],[IdEstablecimiento]],'[2]Establecimiento 2023'!$A$1:$E$183,5,FALSE),0)","v":"04301-Ovalle"},"15010200","2023-04-19T14:02:10",210,{"$nulls":4},8,104,98]
[3,"5",2023,"105315",{"$f":"IFERROR(VLOOKUP(Tabla_SERIED_11_6[[#This Row],[IdEstablecimiento]],'[2]Establecimiento 2023'!$A$1:$E$183,3,FALSE),0)","v":"105315-Centro de Salud Familiar Cerrillos de Tamaya"},{"$f":"IFERROR(VLOOKUP(Tabla_SERIED_11_6[[#This Row],[IdEstablecimiento]],'[2]Establecimiento 2023'!$A$1:$E$183,5,FALSE),0)","v":"04301-Ovalle"},"15010500","2023-04-19T14:02:10",8,{"$nulls":3},2,2,2,2]
[3,"5",2023,"105317",{"$f":"IFERROR(VLOOKUP(Tabla_SERIED_11_6[[#This Row],[IdEstablecimiento]],'[2]Establecimiento 2023'!$A$1:$E$183,3,FALSE),0)","v":"105317-Centro de Salud Familiar Jorge Jordán Domic"},{"$f":"IFERROR(VLOOKUP(Tabla_SERIED_11_6[[#This Row],[IdEstablecimiento]],'[2]Establecimiento 2023'!$A$1:$E$183,5,FALSE),0)","v":"04301-Ovalle"},"15060100","2023-04-19T14:02:34",8,4,5,null,null,1,2,3,1,1]
[3,"5",2023,"105318",{"$f":"IFERROR(VLOOKUP(Tabla_SERIED_11_6[[#This Row],[IdEstablecimiento]],'[2]Establecimiento 2023'!$A$1:$E$183,3,FALSE),0)","v":"105318-Centro de Salud Familiar El Palqui"},{"$f":"IFERROR(VLOOKUP(Tabla_SERIED_11_6[[#This Row],[IdEstablecimiento]],'[2]Establecimiento 2023'!$A$1:$E$183,5,FALSE),0)","v":"04303-Monte Patria"},"15900040","2023-04-21T09:46:09",12.8,null,8.8,null,4]
[3,"5",2023,"105318",{"$f":"IFERROR(VLOOKUP(Tabla_SERIED_11_6[[#This Row],[IdEstablecimiento]],'[2]Establecimiento 2023'!$A$1:$E$183,3,FALSE),0)","v":"105318-Centro de Salud Familiar El Palqui"},{"$f":"IFERROR(VLOOKUP(Tabla_SERIED_11_6[[#This Row],[IdEstablecimiento]],'[2]Establecimiento 2023'!$A$1:$E$183,5,FALSE),0)","v":"04303-Monte Patria"},"16100300","2023-04-21T09:46:09",296,132,164]
[3,"5",2023,"105318",{"$f":"IFERROR(VLOOKUP(Tabla_SERIED_11_6[[#This Row],[IdEstablecimiento]],'[2]Establecimiento 2023'!$A$1:$E$183,3,FALSE),0)","v":"105318-Centro de Salud Familiar El Palqui"},{"$f":"IFERROR(VLOOKUP(Tabla_SERIED_11_6[[#This Row],[IdEstablecimiento]],'[2]Establecimiento 2023'!$A$1:$E$183,5,FALSE),0)","v":"04303-Monte Patria"},"16200100","2023-04-21T09:46:09",4,1,3]
[3,"5",2023,"105319",{"$f":"IFERROR(VLOOKUP(Tabla_SERIED_11_6[[#This Row],[IdEstablecimiento]],'[2]Establecimiento 2023'!$A$1:$E$183,3,FALSE),0)","v":"105319-Centro de Salud Familiar Cardenal Raúl Silva Henríquez de La Serena"},{"$f":"IFERROR(VLOOKUP(Tabla_SERIED_11_6[[#This Row],[IdEstablecimiento]],'[2]Establecimiento 2023'!$A$1:$E$183,5,FALSE),0)","v":"04101-La Serena"},"16090100","2023-04-19T09:14:37",8,8]
[3,"5",2023,"105321",{"$f":"IFERROR(VLOOKUP(Tabla_SERIED_11_6[[#This Row],[IdEstablecimiento]],'[2]Establecimiento 2023'!$A$1:$E$183,3,FALSE),0)","v":"105321-Centro de Salud Familiar Tongoy"},{"$f":"IFERROR(VLOOKUP(Tabla_SERIED_11_6[[#This Row],[IdEstablecimiento]],'[2]Establecimiento 2023'!$A$1:$E$183,5,FALSE),0)","v":"04102-Coquimbo"},"15050200","2023-05-16T14:48:55",7,3,4,null,null,2,null,2,2,null,null,1]
[3,"5",2023,"105321",{"$f":"IFERROR(VLOOKUP(Tabla_SERIED_11_6[[#This Row],[IdEstablecimiento]],'[2]Establecimiento 2023'!$A$1:$E$183,3,FALSE),0)","v":"105321-Centro de Salud Familiar Tongoy"},{"$f":"IFERROR(VLOOKUP(Tabla_SERIED_11_6[[#This Row],[IdEstablecimiento]],'[2]Establecimiento 2023'!$A$1:$E$183,5,FALSE),0)","v":"04102-Coquimbo"},"15050500","2023-05-16T14:48:55",1,1,null,1]
[3,"5",2023,"105323",{"$f":"IFERROR(VLOOKUP(Tabla_SERIED_11_6[[#This Row],[IdEstablecimiento]],'[2]Establecimiento 2023'!$A$1:$E$183,3,FALSE),0)","v":"105323-Centro de Salud Familiar Dr. Sergio Aguilar Delgado"},{"$f":"IFERROR(VLOOKUP(Tabla_SERIED_11_6[[#This Row],[IdEstablecimiento]],'[2]Establecimiento 2023'!$A$1:$E$183,5,FALSE),0)","v":"04102-Coquimbo"},"15020200","2023-04-19T09:15:30",40,{"$nulls":4},4,18,18]
[3,"5",2023,"105323",{"$f":"IFERROR(VLOOKUP(Tabla_SERIED_11_6[[#This Row],[IdEstablecimiento]],'[2]Establecimiento 2023'!$A$1:$E$183,3,FALSE),0)","v":"105323-Centro de Salud Familiar Dr. Sergio Aguilar Delgado"},{"$f":"IFERROR(VLOOKUP(Tabla_SERIED_11_6[[#This Row],[IdEstablecimiento]],'[2]Establecimiento 2023'!$A$1:$E$183,5,FALSE),0)","v":"04102-Coquimbo"},"15050200","2023-04-19T09:15:30",19,11,8,2,null,6,3,1,4,3]
[3,"5",2023,"105323",{"$f":"IFERROR(VLOOKUP(Tabla_SERIED_11_6[[#This Row],[IdEstablecimiento]],'[2]Establecimiento 2023'!$A$1:$E$183,3,FALSE),0)","v":"105323-Centro de Salud Familiar Dr. Sergio Aguilar Delgado"},{"$f":"IFERROR(VLOOKUP(Tabla_SERIED_11_6[[#This Row],[IdEstablecimiento]],'[2]Establecimiento 2023'!$A$1:$E$183,5,FALSE),0)","v":"04102-Coquimbo"},"15080008","2023-04-19T09:15:30",196,{"$nulls":7},91,null,46,25,34]
[3,"5",2023,"105323",{"$f":"IFERROR(VLOOKUP(Tabla_SERIED_11_6[[#This Row],[IdEstablecimiento]],'[2]Establecimiento 2023'!$A$1:$E$183,3,FALSE),0)","v":"105323-Centro de Salud Familiar Dr. Sergio Aguilar Delgado"},{"$f":"IFERROR(VLOOKUP(Tabla_SERIED_11_6[[#This Row],[IdEstablecimiento]],'[2]Establecimiento 2023'!$A$1:$E$183,5,FALSE),0)","v":"04102-Coquimbo"},"15901200","2023-04-19T09:15:30",10,null,null,10]
[3,"5",2023,"105324",{"$f":"IFERROR(VLOOKUP(Tabla_SERIED_11_6[[#This Row],[IdEstablecimiento]],'[2]Establecimiento 2023'!$A$1:$E$183,3,FALSE),0)","v":"105324-Centro de Salud Familiar Sotaquí"},{"$f":"IFERROR(VLOOKUP(Tabla_SERIED_11_6[[#This Row],[IdEstablecimiento]],'[2]Establecimiento 2023'!$A$1:$E$183,5,FALSE),0)","v":"04301-Ovalle"},"15060100","2023-04-19T14:03:35",1,null,1,null,null,1]
[3,"5",2023,"105325",{"$f":"IFERROR(VLOOKUP(Tabla_SERIED_11_6[[#This Row],[IdEstablecimiento]],'[2]Establecimiento 2023'!$A$1:$E$183,3,FALSE),0)","v":"105325-Centro de Salud Familiar Juan Pablo II (La Serena)"},{"$f":"IFERROR(VLOOKUP(Tabla_SERIED_11_6[[#This Row],[IdEstablecimiento]],'[2]Establecimiento 2023'!$A$1:$E$183,5,FALSE),0)","v":"04101-La Serena"},"15030100","2023-04-19T09:16:13",8,8,0,0]
[3,"5",2023,"105325",{"$f":"IFERROR(VLOOKUP(Tabla_SERIED_11_6[[#This Row],[IdEstablecimiento]],'[2]Establecimiento 2023'!$A$1:$E$183,3,FALSE),0)","v":"105325-Centro de Salud Familiar Juan Pablo II (La Serena)"},{"$f":"IFERROR(VLOOKUP(Tabla_SERIED_11_6[[#This Row],[IdEstablecimiento]],'[2]Establecimiento 2023'!$A$1:$E$183,5,FALSE),0)","v":"04101-La Serena"},"16200220","2023-04-19T09:16:13",36,15,21]
[3,"5",2023,"105326",{"$f":"IFERROR(VLOOKUP(Tabla_SERIED_11_6[[#This Row],[IdEstablecimiento]],'[2]Establecimiento 2023'!$A$1:$E$183,3,FALSE),0)","v":"105326-Centro de Salud Familiar Villa San Rafael de Rozas"},{"$f":"IFERROR(VLOOKUP(Tabla_SERIED_11_6[[#This Row],[IdEstablecimiento]],'[2]Establecimiento 2023'!$A$1:$E$183,5,FALSE),0)","v":"04201-Illapel"},"15020200","2023-04-19T09:16:37",2,{"$nulls":4},2]
[3,"5",2023,"105401",{"$f":"IFERROR(VLOOKUP(Tabla_SERIED_11_6[[#This Row],[IdEstablecimiento]],'[2]Establecimiento 2023'!$A$1:$E$183,3,FALSE),0)","v":"105401-Posta de Salud Rural Las Rojas"},{"$f":"IFERROR(VLOOKUP(Tabla_SERIED_11_6[[#This Row],[IdEstablecimiento]],'[2]Establecimiento 2023'!$A$1:$E$183,5,FALSE),0)","v":"04101-La Serena"},"15010200","2023-04-19T09:17:19",16,{"$nulls":4},2,6,8]
[3,"5",2023,"105401",{"$f":"IFERROR(VLOOKUP(Tabla_SERIED_11_6[[#This Row],[IdEstablecimiento]],'[2]Establecimiento 2023'!$A$1:$E$183,3,FALSE),0)","v":"105401-Posta de Salud Rural Las Rojas"},{"$f":"IFERROR(VLOOKUP(Tabla_SERIED_11_6[[#This Row],[IdEstablecimiento]],'[2]Establecimiento 2023'!$A$1:$E$183,5,FALSE),0)","v":"04101-La Serena"},"15010400","2023-04-19T09:17:19",2,{"$nulls":5},2]
[3,"5",2023,"105405",{"$f":"IFERROR(VLOOKUP(Tabla_SERIED_11_6[[#This Row],[IdEstablecimiento]],'[2]Establecimiento 2023'!$A$1:$E$183,3,FALSE),0)","v":"105405-Posta de Salud Rural Guanaqueros"},{"$f":"IFERROR(VLOOKUP(Tabla_SERIED_11_6[[#This Row],[IdEstablecimiento]],'[2]Establecimiento 2023'!$A$1:$E$183,5,FALSE),0)","v":"04102-Coquimbo"},"15010300","2023-05-16T14:49:57",4,{"$nulls":3},2,2]
[3,"5",2023,"105405",{"$f":"IFERROR(VLOOKUP(Tabla_SERIED_11_6[[#This Row],[IdEstablecimiento]],'[2]Establecimiento 2023'!$A$1:$E$183,3,FALSE),0)","v":"105405-Posta de Salud Rural Guanaqueros"},{"$f":"IFERROR(VLOOKUP(Tabla_SERIED_11_6[[#This Row],[IdEstablecimiento]],'[2]Establecimiento 2023'!$A$1:$E$183,5,FALSE),0)","v":"04102-Coquimbo"},"16100300","2023-05-16T14:49:57",69,35,34]
[3,"5",2023,"105405",{"$f":"IFERROR(VLOOKUP(Tabla_SERIED_11_6[[#This Row],[IdEstablecimiento]],'[2]Establecimiento 2023'!$A$1:$E$183,3,FALSE),0)","v":"105405-Posta de Salud Rural Guanaqueros"},{"$f":"IFERROR(VLOOKUP(Tabla_SERIED_11_6[[#This Row],[IdEstablecimiento]],'[2]Establecimiento 2023'!$A$1:$E$183,5,FALSE),0)","v":"04102-Coquimbo"},"16200210","2023-05-16T14:49:57",2,2]
[3,"5",2023,"105411",{"$f":"IFERROR(VLOOKUP(Tabla_SERIED_11_6[[#This Row],[IdEstablecimiento]],'[2]Establecimiento 2023'!$A$1:$E$183,3,FALSE),0)","v":"105411-Posta de Salud Rural Las Breas (Río Hurtado)"},{"$f":"IFERROR(VLOOKUP(Tabla_SERIED_11_6[[#This Row],[IdEstablecimiento]],'[2]Establecimiento 2023'!$A$1:$E$183,5,FALSE),0)","v":"04305-Rio Hurtado"},"15050200","2023-04-19T14:25:17",2,1,1,{"$nulls":3},1,null,1]
[3,"5",2023,"105413",{"$f":"IFERROR(VLOOKUP(Tabla_SERIED_11_6[[#This Row],[IdEstablecimiento]],'[2]Establecimiento 2023'!$A$1:$E$183,3,FALSE),0)","v":"105413-Posta de Salud Rural Samo Alto"},{"$f":"IFERROR(VLOOKUP(Tabla_SERIED_11_6[[#This Row],[IdEstablecimiento]],'[2]Establecimiento 2023'!$A$1:$E$183,5,FALSE),0)","v":"04305-Rio Hurtado"},"15050100","2023-04-19T14:25:39",8,4,4,{"$nulls":5},1,5,1,null,1]
[3,"5",2023,"105417",{"$f":"IFERROR(VLOOKUP(Tabla_SERIED_11_6[[#This Row],[IdEstablecimiento]],'[2]Establecimiento 2023'!$A$1:$E$183,3,FALSE),0)","v":"105417-Posta de Salud Rural Alcones Bajo"},{"$f":"IFERROR(VLOOKUP(Tabla_SERIED_11_6[[#This Row],[IdEstablecimiento]],'[2]Establecimiento 2023'!$A$1:$E$183,5,FALSE),0)","v":"04301-Ovalle"},"15010100","2023-04-19T14:05:02",2,{"$nulls":3},2]
[3,"5",2023,"105422",{"$f":"IFERROR(VLOOKUP(Tabla_SERIED_11_6[[#This Row],[IdEstablecimiento]],'[2]Establecimiento 2023'!$A$1:$E$183,3,FALSE),0)","v":"105422-Posta de Salud Rural Hornillos"},{"$f":"IFERROR(VLOOKUP(Tabla_SERIED_11_6[[#This Row],[IdEstablecimiento]],'[2]Establecimiento 2023'!$A$1:$E$183,5,FALSE),0)","v":"04301-Ovalle"},"16090300","2023-04-19T14:05:31",40,40]
[3,"5",2023,"105425",{"$f":"IFERROR(VLOOKUP(Tabla_SERIED_11_6[[#This Row],[IdEstablecimiento]],'[2]Establecimiento 2023'!$A$1:$E$183,3,FALSE),0)","v":"105425-Posta de Salud Rural Chilecito"},{"$f":"IFERROR(VLOOKUP(Tabla_SERIED_11_6[[#This Row],[IdEstablecimiento]],'[2]Establecimiento 2023'!$A$1:$E$183,5,FALSE),0)","v":"04303-Monte Patria"},"16200100","2023-04-19T09:24:47",1,null,1]
[3,"5",2023,"105425",{"$f":"IFERROR(VLOOKUP(Tabla_SERIED_11_6[[#This Row],[IdEstablecimiento]],'[2]Establecimiento 2023'!$A$1:$E$183,3,FALSE),0)","v":"105425-Posta de Salud Rural Chilecito"},{"$f":"IFERROR(VLOOKUP(Tabla_SERIED_11_6[[#This Row],[IdEstablecimiento]],'[2]Establecimiento 2023'!$A$1:$E$183,5,FALSE),0)","v":"04303-Monte Patria"},"16200210","2023-04-19T09:24:47",2,2]
[3,"5",2023,"105428",{"$f":"IFERROR(VLOOKUP(Tabla_SERIED_11_6[[#This Row],[IdEstablecimiento]],'[2]Establecimiento 2023'!$A$1:$E$183,3,FALSE),0)","v":"105428-Posta de Salud Rural Huatulame"},{"$f":"IFERROR(VLOOKUP(Tabla_SERIED_11_6[[#This Row],[IdEstablecimiento]],'[2]Establecimiento 2023'!$A$1:$E$183,5,FALSE),0)","v":"04303-Monte Patria"},"15010200","2023-04-19T09:25:26",16,{"$nulls":4},2,2,12]
[3,"5",2023,"105428",{"$f":"IFERROR(VLOOKUP(Tabla_SERIED_11_6[[#This Row],[IdEstablecimiento]],'[2]Establecimiento 2023'!$A$1:$E$183,3,FALSE),0)","v":"105428-Posta de Salud Rural Huatulame"},{"$f":"IFERROR(VLOOKUP(Tabla_SERIED_11_6[[#This Row],[IdEstablecimiento]],'[2]Establecimiento 2023'!$A$1:$E$183,5,FALSE),0)","v":"04303-Monte Patria"},"16100300","2023-04-19T09:25:26",63,32,31]
[3,"5",2023,"105432",{"$f":"IFERROR(VLOOKUP(Tabla_SERIED_11_6[[#This Row],[IdEstablecimiento]],'[2]Establecimiento 2023'!$A$1:$E$183,3,FALSE),0)","v":"105432-Posta de Salud Rural Rapel (Monte Patria)"},{"$f":"IFERROR(VLOOKUP(Tabla_SERIED_11_6[[#This Row],[IdEstablecimiento]],'[2]Establecimiento 2023'!$A$1:$E$183,5,FALSE),0)","v":"04303-Monte Patria"},"15050100","2023-04-19T09:26:17",20,8,12,null,null,3,null,2,7,5,null,null,1,null,2]
[3,"5",2023,"105432",{"$f":"IFERROR(VLOOKUP(Tabla_SERIED_11_6[[#This Row],[IdEstablecimiento]],'[2]Establecimiento 2023'!$A$1:$E$183,3,FALSE),0)","v":"105432-Posta de Salud Rural Rapel (Monte Patria)"},{"$f":"IFERROR(VLOOKUP(Tabla_SERIED_11_6[[#This Row],[IdEstablecimiento]],'[2]Establecimiento 2023'!$A$1:$E$183,5,FALSE),0)","v":"04303-Monte Patria"},"15080008","2023-04-19T09:26:17",4,{"$nulls":9},2,null,2]
[3,"5",2023,"105434",{"$f":"IFERROR(VLOOKUP(Tabla_SERIED_11_6[[#This Row],[IdEstablecimiento]],'[2]Establecimiento 2023'!$A$1:$E$183,3,FALSE),0)","v":"105434-Posta de Salud Rural San Marcos (Combarbalá)"},{"$f":"IFERROR(VLOOKUP(Tabla_SERIED_11_6[[#This Row],[IdEstablecimiento]],'[2]Establecimiento 2023'!$A$1:$E$183,5,FALSE),0)","v":"04302-Combarbalá"},"15050200","2023-04-19T09:27:00",2,1,2,null,null,2]
[3,"5",2023,"105434",{"$f":"IFERROR(VLOOKUP(Tabla_SERIED_11_6[[#This Row],[IdEstablecimiento]],'[2]Establecimiento 2023'!$A$1:$E$183,3,FALSE),0)","v":"105434-Posta de Salud Rural San Marcos (Combarbalá)"},{"$f":"IFERROR(VLOOKUP(Tabla_SERIED_11_6[[#This Row],[IdEstablecimiento]],'[2]Establecimiento 2023'!$A$1:$E$183,5,FALSE),0)","v":"04302-Combarbalá"},"15900010","2023-04-19T09:27:00",1.6,null,1.6]
[3,"5",2023,"105435",{"$f":"IFERROR(VLOOKUP(Tabla_SERIED_11_6[[#This Row],[IdEstablecimiento]],'[2]Establecimiento 2023'!$A$1:$E$183,3,FALSE),0)","v":"105435-Posta de Salud Rural Tulahuén"},{"$f":"IFERROR(VLOOKUP(Tabla_SERIED_11_6[[#This Row],[IdEstablecimiento]],'[2]Establecimiento 2023'!$A$1:$E$183,5,FALSE),0)","v":"04303-Monte Patria"},"16200210","2023-04-19T09:27:33",5,5]
[3,"5",2023,"105437",{"$f":"IFERROR(VLOOKUP(Tabla_SERIED_11_6[[#This Row],[IdEstablecimiento]],'[2]Establecimiento 2023'!$A$1:$E$183,3,FALSE),0)","v":"105437-Posta de Salud Rural Chalinga"},{"$f":"IFERROR(VLOOKUP(Tabla_SERIED_11_6[[#This Row],[IdEstablecimiento]],'[2]Establecimiento 2023'!$A$1:$E$183,5,FALSE),0)","v":"04301-Ovalle"},"16200100","2023-04-19T14:05:53",1,null,1]
[3,"5",2023,"105441",{"$f":"IFERROR(VLOOKUP(Tabla_SERIED_11_6[[#This Row],[IdEstablecimiento]],'[2]Establecimiento 2023'!$A$1:$E$183,3,FALSE),0)","v":"105441-Posta de Salud Rural Manquehua"},{"$f":"IFERROR(VLOOKUP(Tabla_SERIED_11_6[[#This Row],[IdEstablecimiento]],'[2]Establecimiento 2023'!$A$1:$E$183,5,FALSE),0)","v":"04302-Combarbalá"},"16200210","2023-04-19T09:28:44",16,16]
[3,"5",2023,"105442",{"$f":"IFERROR(VLOOKUP(Tabla_SERIED_11_6[[#This Row],[IdEstablecimiento]],'[2]Establecimiento 2023'!$A$1:$E$183,3,FALSE),0)","v":"105442-Posta de Salud Rural San Pedro de Quiles"},{"$f":"IFERROR(VLOOKUP(Tabla_SERIED_11_6[[#This Row],[IdEstablecimiento]],'[2]Establecimiento 2023'!$A$1:$E$183,5,FALSE),0)","v":"04304-Punitaqui"},"16100300","2023-04-19T09:29:32",21,8,13]
[3,"5",2023,"105444",{"$f":"IFERROR(VLOOKUP(Tabla_SERIED_11_6[[#This Row],[IdEstablecimiento]],'[2]Establecimiento 2023'!$A$1:$E$183,3,FALSE),0)","v":"105444-Posta de Salud Rural Huintil"},{"$f":"IFERROR(VLOOKUP(Tabla_SERIED_11_6[[#This Row],[IdEstablecimiento]],'[2]Establecimiento 2023'!$A$1:$E$183,5,FALSE),0)","v":"04201-Illapel"},"16090300","2023-04-19T09:30:05",56,56]
[3,"5",2023,"105445",{"$f":"IFERROR(VLOOKUP(Tabla_SERIED_11_6[[#This Row],[IdEstablecimiento]],'[2]Establecimiento 2023'!$A$1:$E$183,3,FALSE),0)","v":"105445-Posta de Salud Rural Limáhuida"},{"$f":"IFERROR(VLOOKUP(Tabla_SERIED_11_6[[#This Row],[IdEstablecimiento]],'[2]Establecimiento 2023'!$A$1:$E$183,5,FALSE),0)","v":"04201-Illapel"},"16090300","2023-04-19T09:30:21",38,38]
[3,"5",2023,"105445",{"$f":"IFERROR(VLOOKUP(Tabla_SERIED_11_6[[#This Row],[IdEstablecimiento]],'[2]Establecimiento 2023'!$A$1:$E$183,3,FALSE),0)","v":"105445-Posta de Salud Rural Limáhuida"},{"$f":"IFERROR(VLOOKUP(Tabla_SERIED_11_6[[#This Row],[IdEstablecimiento]],'[2]Establecimiento 2023'!$A$1:$E$183,5,FALSE),0)","v":"04201-Illapel"},"16200220","2023-04-19T09:30:21",3,1,2]
[3,"5",2023,"105450",{"$f":"IFERROR(VLOOKUP(Tabla_SERIED_11_6[[#This Row],[IdEstablecimiento]],'[2]Establecimiento 2023'!$A$1:$E$183,3,FALSE),0)","v":"105450-Posta de Salud Rural Mincha Norte"},{"$f":"IFERROR(VLOOKUP(Tabla_SERIED_11_6[[#This Row],[IdEstablecimiento]],'[2]Establecimiento 2023'!$A$1:$E$183,5,FALSE),0)","v":"04202-Canela"},"16200210","2023-04-19T14:06:40",17,17]
[3,"5",2023,"105450",{"$f":"IFERROR(VLOOKUP(Tabla_SERIED_11_6[[#This Row],[IdEstablecimiento]],'[2]Establecimiento 2023'!$A$1:$E$183,3,FALSE),0)","v":"105450-Posta de Salud Rural Mincha Norte"},{"$f":"IFERROR(VLOOKUP(Tabla_SERIED_11_6[[#This Row],[IdEstablecimiento]],'[2]Establecimiento 2023'!$A$1:$E$183,5,FALSE),0)","v":"04202-Canela"},"16200220","2023-04-19T14:06:40",17,8,9]
[3,"5",2023,"105451",{"$f":"IFERROR(VLOOKUP(Tabla_SERIED_11_6[[#This Row],[IdEstablecimiento]],'[2]Establecimiento 2023'!$A$1:$E$183,3,FALSE),0)","v":"105451-Posta de Salud Rural Agua Fría"},{"$f":"IFERROR(VLOOKUP(Tabla_SERIED_11_6[[#This Row],[IdEstablecimiento]],'[2]Establecimiento 2023'!$A$1:$E$183,5,FALSE),0)","v":"04202-Canela"},"15010100","2023-04-19T14:07:10",2,{"$nulls":4},2]
[3,"5",2023,"105452",{"$f":"IFERROR(VLOOKUP(Tabla_SERIED_11_6[[#This Row],[IdEstablecimiento]],'[2]Establecimiento 2023'!$A$1:$E$183,3,FALSE),0)","v":"105452-Posta de Salud Rural Cuncumén(Salamanca)"},{"$f":"IFERROR(VLOOKUP(Tabla_SERIED_11_6[[#This Row],[IdEstablecimiento]],'[2]Establecimiento 2023'!$A$1:$E$183,5,FALSE),0)","v":"04204-Salamanca"},"15010100","2023-04-19T09:31:47",15,{"$nulls":3},10,4,null,null,1]
[3,"5",2023,"105455",{"$f":"IFERROR(VLOOKUP(Tabla_SERIED_11_6[[#This Row],[IdEstablecimiento]],'[2]Establecimiento 2023'!$A$1:$E$183,3,FALSE),0)","v":"105455-CESFAM Valle Alto"},{"$f":"IFERROR(VLOOKUP(Tabla_SERIED_11_6[[#This Row],[IdEstablecimiento]],'[2]Establecimiento 2023'!$A$1:$E$183,5,FALSE),0)","v":"04204-Salamanca"},"15900010","2023-04-19T14:07:28",1.8,0.9,null,0.9]
[3,"5",2023,"105456",{"$f":"IFERROR(VLOOKUP(Tabla_SERIED_11_6[[#This Row],[IdEstablecimiento]],'[2]Establecimiento 2023'!$A$1:$E$183,3,FALSE),0)","v":"105456-Posta de Salud Rural Llimpo"},{"$f":"IFERROR(VLOOKUP(Tabla_SERIED_11_6[[#This Row],[IdEstablecimiento]],'[2]Establecimiento 2023'!$A$1:$E$183,5,FALSE),0)","v":"04204-Salamanca"},"15080008","2023-04-19T09:32:57",5,{"$nulls":9},4,null,1]
[3,"5",2023,"105456",{"$f":"IFERROR(VLOOKUP(Tabla_SERIED_11_6[[#This Row],[IdEstablecimiento]],'[2]Establecimiento 2023'!$A$1:$E$183,3,FALSE),0)","v":"105456-Posta de Salud Rural Llimpo"},{"$f":"IFERROR(VLOOKUP(Tabla_SERIED_11_6[[#This Row],[IdEstablecimiento]],'[2]Establecimiento 2023'!$A$1:$E$183,5,FALSE),0)","v":"04204-Salamanca"},"16100300","2023-04-19T09:32:57",36,16,20]
[3,"5",2023,"105459",{"$f":"IFERROR(VLOOKUP(Tabla_SERIED_11_6[[#This Row],[IdEstablecimiento]],'[2]Establecimiento 2023'!$A$1:$E$183,3,FALSE),0)","v":"105459-Posta de Salud Rural Barrancas"},{"$f":"IFERROR(VLOOKUP(Tabla_SERIED_11_6[[#This Row],[IdEstablecimiento]],'[2]Establecimiento 2023'!$A$1:$E$183,5,FALSE),0)","v":"04302-Combarbalá"},"16200220","2023-04-19T09:33:49",4,1,3]
[3,"5",2023,"105460",{"$f":"IFERROR(VLOOKUP(Tabla_SERIED_11_6[[#This Row],[IdEstablecimiento]],'[2]Establecimiento 2023'!$A$1:$E$183,3,FALSE),0)","v":"105460-Centro Comunitario de Salud Familiar Cogotí 18"},{"$f":"IFERROR(VLOOKUP(Tabla_SERIED_11_6[[#This Row],[IdEstablecimiento]],'[2]Establecimiento 2023'!$A$1:$E$183,5,FALSE),0)","v":"04302-Combarbalá"},"16200210","2023-04-19T09:34:15",17,17]
[3,"5",2023,"105462",{"$f":"IFERROR(VLOOKUP(Tabla_SERIED_11_6[[#This Row],[IdEstablecimiento]],'[2]Establecimiento 2023'!$A$1:$E$183,3,FALSE),0)","v":"105462-Posta de Salud Rural El Sauce (Combarbalá)"},{"$f":"IFERROR(VLOOKUP(Tabla_SERIED_11_6[[#This Row],[IdEstablecimiento]],'[2]Establecimiento 2023'!$A$1:$E$183,5,FALSE),0)","v":"04302-Combarbalá"},"16200220","2023-04-19T09:34:54",6,1,5]
[3,"5",2023,"105464",{"$f":"IFERROR(VLOOKUP(Tabla_SERIED_11_6[[#This Row],[IdEstablecimiento]],'[2]Establecimiento 2023'!$A$1:$E$183,3,FALSE),0)","v":"105464-Posta de Salud Rural La Ligua"},{"$f":"IFERROR(VLOOKUP(Tabla_SERIED_11_6[[#This Row],[IdEstablecimiento]],'[2]Establecimiento 2023'!$A$1:$E$183,5,FALSE),0)","v":"04302-Combarbalá"},"15050100","2023-04-19T09:35:25",9,5,4,{"$nulls":4},3,2,null,3,{"$nulls":3},1]
[3,"5",2023,"105468",{"$f":"IFERROR(VLOOKUP(Tabla_SERIED_11_6[[#This Row],[IdEstablecimiento]],'[2]Establecimiento 2023'!$A$1:$E$183,3,FALSE),0)","v":"105468-Posta de Salud Rural El Molle"},{"$f":"IFERROR(VLOOKUP(Tabla_SERIED_11_6[[#This Row],[IdEstablecimiento]],'[2]Establecimiento 2023'!$A$1:$E$183,5,FALSE),0)","v":"04106-Vicuña"},"15010200","2023-04-19T09:36:34",31,{"$nulls":4},6,20,5]
[3,"5",2023,"105468",{"$f":"IFERROR(VLOOKUP(Tabla_SERIED_11_6[[#This Row],[IdEstablecimiento]],'[2]Establecimiento 2023'!$A$1:$E$183,3,FALSE),0)","v":"105468-Posta de Salud Rural El Molle"},{"$f":"IFERROR(VLOOKUP(Tabla_SERIED_11_6[[#This Row],[IdEstablecimiento]],'[2]Establecimiento 2023'!$A$1:$E$183,5,FALSE),0)","v":"04106-Vicuña"},"15010300","2023-04-19T09:36:34",2,{"$nulls":3},2]
[3,"5",2023,"105473",{"$f":"IFERROR(VLOOKUP(Tabla_SERIED_11_6[[#This Row],[IdEstablecimiento]],'[2]Establecimiento 2023'!$A$1:$E$183,3,FALSE),0)","v":"105473-Posta de Salud Rural Talcuna"},{"$f":"IFERROR(VLOOKUP(Tabla_SERIED_11_6[[#This Row],[IdEstablecimiento]],'[2]Establecimiento 2023'!$A$1:$E$183,5,FALSE),0)","v":"04106-Vicuña"},"15050100","2023-04-19T09:38:25",37,22,15,null,1,1,4,1,14,9,3,null,4]
[3,"5",2023,"105473",{"$f":"IFERROR(VLOOKUP(Tabla_SERIED_11_6[[#This Row],[IdEstablecimiento]],'[2]Establecimiento 2023'!$A$1:$E$183,3,FALSE),0)","v":"105473-Posta de Salud Rural Talcuna"},{"$f":"IFERROR(VLOOKUP(Tabla_SERIED_11_6[[#This Row],[IdEstablecimiento]],'[2]Establecimiento 2023'!$A$1:$E$183,5,FALSE),0)","v":"04106-Vicuña"},"16200210","2023-04-19T09:38:25",4,4]
[3,"5",2023,"105477",{"$f":"IFERROR(VLOOKUP(Tabla_SERIED_11_6[[#This Row],[IdEstablecimiento]],'[2]Establecimiento 2023'!$A$1:$E$183,3,FALSE),0)","v":"105477-Posta de Salud Rural Pisco Elqui"},{"$f":"IFERROR(VLOOKUP(Tabla_SERIED_11_6[[#This Row],[IdEstablecimiento]],'[2]Establecimiento 2023'!$A$1:$E$183,5,FALSE),0)","v":"04105-Paihuano"},"15010400","2023-04-19T14:12:02",2,{"$nulls":5},2]
[3,"5",2023,"105477",{"$f":"IFERROR(VLOOKUP(Tabla_SERIED_11_6[[#This Row],[IdEstablecimiento]],'[2]Establecimiento 2023'!$A$1:$E$183,3,FALSE),0)","v":"105477-Posta de Salud Rural Pisco Elqui"},{"$f":"IFERROR(VLOOKUP(Tabla_SERIED_11_6[[#This Row],[IdEstablecimiento]],'[2]Establecimiento 2023'!$A$1:$E$183,5,FALSE),0)","v":"04105-Paihuano"},"15900010","2023-04-19T14:12:02",4.9,4,null,0.9]
[3,"5",2023,"105478",{"$f":"IFERROR(VLOOKUP(Tabla_SERIED_11_6[[#This Row],[IdEstablecimiento]],'[2]Establecimiento 2023'!$A$1:$E$183,3,FALSE),0)","v":"105478-Posta de Salud Rural Caimanes"},{"$f":"IFERROR(VLOOKUP(Tabla_SERIED_11_6[[#This Row],[IdEstablecimiento]],'[2]Establecimiento 2023'!$A$1:$E$183,5,FALSE),0)","v":"04203-Los Vilos"},"15010100","2023-04-19T14:12:23",10,{"$nulls":3},4,6]
[3,"5",2023,"105478",{"$f":"IFERROR(VLOOKUP(Tabla_SERIED_11_6[[#This Row],[IdEstablecimiento]],'[2]Establecimiento 2023'!$A$1:$E$183,3,FALSE),0)","v":"105478-Posta de Salud Rural Caimanes"},{"$f":"IFERROR(VLOOKUP(Tabla_SERIED_11_6[[#This Row],[IdEstablecimiento]],'[2]Establecimiento 2023'!$A$1:$E$183,5,FALSE),0)","v":"04203-Los Vilos"},"16100300","2023-04-19T14:12:23",34,17,17]
[3,"5",2023,"105480",{"$f":"IFERROR(VLOOKUP(Tabla_SERIED_11_6[[#This Row],[IdEstablecimiento]],'[2]Establecimiento 2023'!$A$1:$E$183,3,FALSE),0)","v":"105480-Posta de Salud Rural Quilimarí"},{"$f":"IFERROR(VLOOKUP(Tabla_SERIED_11_6[[#This Row],[IdEstablecimiento]],'[2]Establecimiento 2023'!$A$1:$E$183,5,FALSE),0)","v":"04203-Los Vilos"},"15030100","2023-04-19T09:39:49",4,4]
[3,"5",2023,"105485",{"$f":"IFERROR(VLOOKUP(Tabla_SERIED_11_6[[#This Row],[IdEstablecimiento]],'[2]Establecimiento 2023'!$A$1:$E$183,3,FALSE),0)","v":"105485-Posta de Salud Rural Plan de Hornos"},{"$f":"IFERROR(VLOOKUP(Tabla_SERIED_11_6[[#This Row],[IdEstablecimiento]],'[2]Establecimiento 2023'!$A$1:$E$183,5,FALSE),0)","v":"04201-Illapel"},"15050100","2023-04-19T14:14:03",18,9,9,{"$nulls":3},4,1,8,3,null,null,1,null,1]
[3,"5",2023,"105486",{"$f":"IFERROR(VLOOKUP(Tabla_SERIED_11_6[[#This Row],[IdEstablecimiento]],'[2]Establecimiento 2023'!$A$1:$E$183,3,FALSE),0)","v":"105486-Posta de Salud Rural Tunga Sur"},{"$f":"IFERROR(VLOOKUP(Tabla_SERIED_11_6[[#This Row],[IdEstablecimiento]],'[2]Establecimiento 2023'!$A$1:$E$183,5,FALSE),0)","v":"04201-Illapel"},"15010100","2023-04-19T09:41:53",4,{"$nulls":3},4]
[3,"5",2023,"105489",{"$f":"IFERROR(VLOOKUP(Tabla_SERIED_11_6[[#This Row],[IdEstablecimiento]],'[2]Establecimiento 2023'!$A$1:$E$183,3,FALSE),0)","v":"105489-Posta de Salud Rural Ramadas de Tulahuén"},{"$f":"IFERROR(VLOOKUP(Tabla_SERIED_11_6[[#This Row],[IdEstablecimiento]],'[2]Establecimiento 2023'!$A$1:$E$183,5,FALSE),0)","v":"04303-Monte Patria"},"15080008","2023-04-19T09:42:28",3,{"$nulls":7},3]
[3,"5",2023,"105492",{"$f":"IFERROR(VLOOKUP(Tabla_SERIED_11_6[[#This Row],[IdEstablecimiento]],'[2]Establecimiento 2023'!$A$1:$E$183,3,FALSE),0)","v":"105492-Posta de Salud Rural Camisa"},{"$f":"IFERROR(VLOOKUP(Tabla_SERIED_11_6[[#This Row],[IdEstablecimiento]],'[2]Establecimiento 2023'!$A$1:$E$183,5,FALSE),0)","v":"04204-Salamanca"},"15900010","2023-04-19T09:43:18",1.6,null,null,1.6]
[3,"5",2023,"105496",{"$f":"IFERROR(VLOOKUP(Tabla_SERIED_11_6[[#This Row],[IdEstablecimiento]],'[2]Establecimiento 2023'!$A$1:$E$183,3,FALSE),0)","v":"105496-Posta de Salud Rural Pintacura Sur"},{"$f":"IFERROR(VLOOKUP(Tabla_SERIED_11_6[[#This Row],[IdEstablecimiento]],'[2]Establecimiento 2023'!$A$1:$E$183,5,FALSE),0)","v":"04201-Illapel"},"16200220","2023-04-19T09:43:47",7,5,2]
[3,"5",2023,"105498",{"$f":"IFERROR(VLOOKUP(Tabla_SERIED_11_6[[#This Row],[IdEstablecimiento]],'[2]Establecimiento 2023'!$A$1:$E$183,3,FALSE),0)","v":"105498-Posta de Salud Rural Quebrada Linares"},{"$f":"IFERROR(VLOOKUP(Tabla_SERIED_11_6[[#This Row],[IdEstablecimiento]],'[2]Establecimiento 2023'!$A$1:$E$183,5,FALSE),0)","v":"04202-Canela"},"16200100","2023-04-19T14:17:17",1,1]
[3,"5",2023,"105500",{"$f":"IFERROR(VLOOKUP(Tabla_SERIED_11_6[[#This Row],[IdEstablecimiento]],'[2]Establecimiento 2023'!$A$1:$E$183,3,FALSE),0)","v":"105500-Posta de Salud Rural Caleta Hornos"},{"$f":"IFERROR(VLOOKUP(Tabla_SERIED_11_6[[#This Row],[IdEstablecimiento]],'[2]Establecimiento 2023'!$A$1:$E$183,5,FALSE),0)","v":"04104-La Higuera"},"15010100","2023-07-19T15:16:44",22,{"$nulls":3},20,2]
[3,"5",2023,"105504",{"$f":"IFERROR(VLOOKUP(Tabla_SERIED_11_6[[#This Row],[IdEstablecimiento]],'[2]Establecimiento 2023'!$A$1:$E$183,3,FALSE),0)","v":"105504-Posta de Salud Rural Socavón"},{"$f":"IFERROR(VLOOKUP(Tabla_SERIED_11_6[[#This Row],[IdEstablecimiento]],'[2]Establecimiento 2023'!$A$1:$E$183,5,FALSE),0)","v":"04201-Illapel"},"16100300","2023-04-19T09:49:12",31,18,13]
[3,"5",2023,"105506",{"$f":"IFERROR(VLOOKUP(Tabla_SERIED_11_6[[#This Row],[IdEstablecimiento]],'[2]Establecimiento 2023'!$A$1:$E$183,3,FALSE),0)","v":"105506-Posta de Salud Rural El Trapiche"},{"$f":"IFERROR(VLOOKUP(Tabla_SERIED_11_6[[#This Row],[IdEstablecimiento]],'[2]Establecimiento 2023'!$A$1:$E$183,5,FALSE),0)","v":"04104-La Higuera"},"15080008","2023-07-19T15:17:25",5,{"$nulls":7},3,null,2]
[3,"5",2023,"105507",{"$f":"IFERROR(VLOOKUP(Tabla_SERIED_11_6[[#This Row],[IdEstablecimiento]],'[2]Establecimiento 2023'!$A$1:$E$183,3,FALSE),0)","v":"105507-Posta de Salud Rural Huamalata"},{"$f":"IFERROR(VLOOKUP(Tabla_SERIED_11_6[[#This Row],[IdEstablecimiento]],'[2]Establecimiento 2023'!$A$1:$E$183,5,FALSE),0)","v":"04301-Ovalle"},"15010100","2023-04-19T14:18:22",16,{"$nulls":3},8,8]
[3,"5",2023,"105507",{"$f":"IFERROR(VLOOKUP(Tabla_SERIED_11_6[[#This Row],[IdEstablecimiento]],'[2]Establecimiento 2023'!$A$1:$E$183,3,FALSE),0)","v":"105507-Posta de Salud Rural Huamalata"},{"$f":"IFERROR(VLOOKUP(Tabla_SERIED_11_6[[#This Row],[IdEstablecimiento]],'[2]Establecimiento 2023'!$A$1:$E$183,5,FALSE),0)","v":"04301-Ovalle"},"15050100","2023-04-19T14:18:22",37,16,21,{"$nulls":3},4,5,13,8,3,null,null,3,1]
[3,"5",2023,"105509",{"$f":"IFERROR(VLOOKUP(Tabla_SERIED_11_6[[#This Row],[IdEstablecimiento]],'[2]Establecimiento 2023'!$A$1:$E$183,3,FALSE),0)","v":"105509-Posta de Salud Rural Gualliguaica"},{"$f":"IFERROR(VLOOKUP(Tabla_SERIED_11_6[[#This Row],[IdEstablecimiento]],'[2]Establecimiento 2023'!$A$1:$E$183,5,FALSE),0)","v":"04106-Vicuña"},"15080008","2023-04-19T09:50:29",1,{"$nulls":7},1]
[3,"5",2023,"105511",{"$f":"IFERROR(VLOOKUP(Tabla_SERIED_11_6[[#This Row],[IdEstablecimiento]],'[2]Establecimiento 2023'!$A$1:$E$183,3,FALSE),0)","v":"105511-Posta de Salud Rural Los Cóndores"},{"$f":"IFERROR(VLOOKUP(Tabla_SERIED_11_6[[#This Row],[IdEstablecimiento]],'[2]Establecimiento 2023'!$A$1:$E$183,5,FALSE),0)","v":"04203-Los Vilos"},"15080008","2023-04-19T09:50:58",6,{"$nulls":7},2,null,2,null,2]
[3,"5",2023,"105511",{"$f":"IFERROR(VLOOKUP(Tabla_SERIED_11_6[[#This Row],[IdEstablecimiento]],'[2]Establecimiento 2023'!$A$1:$E$183,3,FALSE),0)","v":"105511-Posta de Salud Rural Los Cóndores"},{"$f":"IFERROR(VLOOKUP(Tabla_SERIED_11_6[[#This Row],[IdEstablecimiento]],'[2]Establecimiento 2023'!$A$1:$E$183,5,FALSE),0)","v":"04203-Los Vilos"},"16090600","2023-04-19T09:50:58",2,2]
[3,"5",2023,"105511",{"$f":"IFERROR(VLOOKUP(Tabla_SERIED_11_6[[#This Row],[IdEstablecimiento]],'[2]Establecimiento 2023'!$A$1:$E$183,3,FALSE),0)","v":"105511-Posta de Salud Rural Los Cóndores"},{"$f":"IFERROR(VLOOKUP(Tabla_SERIED_11_6[[#This Row],[IdEstablecimiento]],'[2]Establecimiento 2023'!$A$1:$E$183,5,FALSE),0)","v":"04203-Los Vilos"},"16100700","2023-04-19T09:50:58",2,2]
[3,"5",2023,"105700",{"$f":"IFERROR(VLOOKUP(Tabla_SERIED_11_6[[#This Row],[IdEstablecimiento]],'[2]Establecimiento 2023'!$A$1:$E$183,3,FALSE),0)","v":"105700-Centro Comunitario de Salud Familiar Villa el Indio"},{"$f":"IFERROR(VLOOKUP(Tabla_SERIED_11_6[[#This Row],[IdEstablecimiento]],'[2]Establecimiento 2023'!$A$1:$E$183,5,FALSE),0)","v":"04101-La Serena"},"15050100","2023-04-19T09:52:08",48,16,32,null,1,1,8,3,9,11,7,null,5,3]
[3,"5",2023,"105702",{"$f":"IFERROR(VLOOKUP(Tabla_SERIED_11_6[[#This Row],[IdEstablecimiento]],'[2]Establecimiento 2023'!$A$1:$E$183,3,FALSE),0)","v":"105702-Centro Comunitario de Salud Familiar Lambert"},{"$f":"IFERROR(VLOOKUP(Tabla_SERIED_11_6[[#This Row],[IdEstablecimiento]],'[2]Establecimiento 2023'!$A$1:$E$183,5,FALSE),0)","v":"04101-La Serena"},"15080012","2023-04-19T09:53:37",2,null,null,2]
[3,"5",2023,"105722",{"$f":"IFERROR(VLOOKUP(Tabla_SERIED_11_6[[#This Row],[IdEstablecimiento]],'[2]Establecimiento 2023'!$A$1:$E$183,3,FALSE),0)","v":"105722-Centro Comunitario de Salud Familiar San José de la Dehesa"},{"$f":"IFERROR(VLOOKUP(Tabla_SERIED_11_6[[#This Row],[IdEstablecimiento]],'[2]Establecimiento 2023'!$A$1:$E$183,5,FALSE),0)","v":"04301-Ovalle"},"15080008","2023-04-21T09:33:54",34,{"$nulls":7},12,null,20,null,2]
[3,"5",2023,"200258",{"$f":"IFERROR(VLOOKUP(Tabla_SERIED_11_6[[#This Row],[IdEstablecimiento]],'[2]Establecimiento 2023'!$A$1:$E$183,3,FALSE),0)","v":"200258-Centro Comunitario de Salud Familiar Los Copihues"},{"$f":"IFERROR(VLOOKUP(Tabla_SERIED_11_6[[#This Row],[IdEstablecimiento]],'[2]Establecimiento 2023'!$A$1:$E$183,5,FALSE),0)","v":"04301-Ovalle"},"16090300","2023-04-21T09:35:07",113,113]
[3,"5",2023,"200258",{"$f":"IFERROR(VLOOKUP(Tabla_SERIED_11_6[[#This Row],[IdEstablecimiento]],'[2]Establecimiento 2023'!$A$1:$E$183,3,FALSE),0)","v":"200258-Centro Comunitario de Salud Familiar Los Copihues"},{"$f":"IFERROR(VLOOKUP(Tabla_SERIED_11_6[[#This Row],[IdEstablecimiento]],'[2]Establecimiento 2023'!$A$1:$E$183,5,FALSE),0)","v":"04301-Ovalle"},"16200210","2023-04-21T09:35:07",13,13]
[3,"5",2023,"200258",{"$f":"IFERROR(VLOOKUP(Tabla_SERIED_11_6[[#This Row],[IdEstablecimiento]],'[2]Establecimiento 2023'!$A$1:$E$183,3,FALSE),0)","v":"200258-Centro Comunitario de Salud Familiar Los Copihues"},{"$f":"IFERROR(VLOOKUP(Tabla_SERIED_11_6[[#This Row],[IdEstablecimiento]],'[2]Establecimiento 2023'!$A$1:$E$183,5,FALSE),0)","v":"04301-Ovalle"},"16200220","2023-04-21T09:35:07",13,8,5]
[3,"5",2023,"200273",{"$f":"IFERROR(VLOOKUP(Tabla_SERIED_11_6[[#This Row],[IdEstablecimiento]],'[2]Establecimiento 2023'!$A$1:$E$183,3,FALSE),0)","v":"200273-Centro Comunitario de Salud Familiar Punta Mira"},{"$f":"IFERROR(VLOOKUP(Tabla_SERIED_11_6[[#This Row],[IdEstablecimiento]],'[2]Establecimiento 2023'!$A$1:$E$183,5,FALSE),0)","v":"04102-Coquimbo"},"15010100","2023-04-19T09:54:10",14,{"$nulls":3},4,10,0,0,0,0,0,0,0]
[3,"5",2023,"200273",{"$f":"IFERROR(VLOOKUP(Tabla_SERIED_11_6[[#This Row],[IdEstablecimiento]],'[2]Establecimiento 2023'!$A$1:$E$183,3,FALSE),0)","v":"200273-Centro Comunitario de Salud Familiar Punta Mira"},{"$f":"IFERROR(VLOOKUP(Tabla_SERIED_11_6[[#This Row],[IdEstablecimiento]],'[2]Establecimiento 2023'!$A$1:$E$183,5,FALSE),0)","v":"04102-Coquimbo"},"15010300","2023-04-19T09:54:10",2,{"$nulls":3},2,0,null,0,0,0,0,0,0]
[3,"5",2023,"200366",{"$f":"IFERROR(VLOOKUP(Tabla_SERIED_11_6[[#This Row],[IdEstablecimiento]],'[2]Establecimiento 2023'!$A$1:$E$183,3,FALSE),0)","v":"200366-Centro de Salud Familiar Urbano de Illapel"},{"$f":"IFERROR(VLOOKUP(Tabla_SERIED_11_6[[#This Row],[IdEstablecimiento]],'[2]Establecimiento 2023'!$A$1:$E$183,5,FALSE),0)","v":"04201-Illapel"},"15010300","2023-04-19T09:54:28",4,{"$nulls":3},4]
[3,"5",2023,"200494",{"$f":"IFERROR(VLOOKUP(Tabla_SERIED_11_6[[#This Row],[IdEstablecimiento]],'[2]Establecimiento 2023'!$A$1:$E$183,3,FALSE),0)","v":"200494-Centro de Salud Familiar El Sauce"},{"$f":"IFERROR(VLOOKUP(Tabla_SERIED_11_6[[#This Row],[IdEstablecimiento]],'[2]Establecimiento 2023'!$A$1:$E$183,5,FALSE),0)","v":"04102-Coquimbo"},"15050500","2023-04-19T09:55:11",2,1,1,null,1,1]
[3,"5",2023,"200494",{"$f":"IFERROR(VLOOKUP(Tabla_SERIED_11_6[[#This Row],[IdEstablecimiento]],'[2]Establecimiento 2023'!$A$1:$E$183,3,FALSE),0)","v":"200494-Centro de Salud Familiar El Sauce"},{"$f":"IFERROR(VLOOKUP(Tabla_SERIED_11_6[[#This Row],[IdEstablecimiento]],'[2]Establecimiento 2023'!$A$1:$E$183,5,FALSE),0)","v":"04102-Coquimbo"},"15080008","2023-04-19T09:55:11",199,{"$nulls":7},90,null,64,19,26]
[3,"5",2023,"200494",{"$f":"IFERROR(VLOOKUP(Tabla_SERIED_11_6[[#This Row],[IdEstablecimiento]],'[2]Establecimiento 2023'!$A$1:$E$183,3,FALSE),0)","v":"200494-Centro de Salud Familiar El Sauce"},{"$f":"IFERROR(VLOOKUP(Tabla_SERIED_11_6[[#This Row],[IdEstablecimiento]],'[2]Establecimiento 2023'!$A$1:$E$183,5,FALSE),0)","v":"04102-Coquimbo"},"16200220","2023-04-19T09:55:11",41,17,24]
[3,"5",2023,"200499",{"$f":"IFERROR(VLOOKUP(Tabla_SERIED_11_6[[#This Row],[IdEstablecimiento]],'[2]Establecimiento 2023'!$A$1:$E$183,3,FALSE),0)","v":"200499-Centro de Salud Familiar Rural Pan de Azúcar"},{"$f":"IFERROR(VLOOKUP(Tabla_SERIED_11_6[[#This Row],[IdEstablecimiento]],'[2]Establecimiento 2023'!$A$1:$E$183,5,FALSE),0)","v":"04102-Coquimbo"},"15900020","2023-04-19T09:55:28",11.2,3.2,4.8,3.2]
[3,"5",2023,"200538",{"$f":"IFERROR(VLOOKUP(Tabla_SERIED_11_6[[#This Row],[IdEstablecimiento]],'[2]Establecimiento 2023'!$A$1:$E$183,3,FALSE),0)","v":"200538-Centro de Salud Familiar San Isidro Calingasta"},{"$f":"IFERROR(VLOOKUP(Tabla_SERIED_11_6[[#This Row],[IdEstablecimiento]],'[2]Establecimiento 2023'!$A$1:$E$183,5,FALSE),0)","v":"04106-Vicuña"},"15050200","2023-04-19T09:55:45",4,3,1,{"$nulls":3},1,null,2,1]
[3,"5",2023,"200538",{"$f":"IFERROR(VLOOKUP(Tabla_SERIED_11_6[[#This Row],[IdEstablecimiento]],'[2]Establecimiento 2023'!$A$1:$E$183,3,FALSE),0)","v":"200538-Centro de Salud Familiar San Isidro Calingasta"},{"$f":"IFERROR(VLOOKUP(Tabla_SERIED_11_6[[#This Row],[IdEstablecimiento]],'[2]Establecimiento 2023'!$A$1:$E$183,5,FALSE),0)","v":"04106-Vicuña"},"16200210","2023-04-19T09:55:45",5,5]
[3,"5",2023,"200569",{"$f":"IFERROR(VLOOKUP(Tabla_SERIED_11_6[[#This Row],[IdEstablecimiento]],'[2]Establecimiento 2023'!$A$1:$E$183,3,FALSE),0)","v":"200569-Centro de Salud Familiar Fray Jorge"},{"$f":"IFERROR(VLOOKUP(Tabla_SERIED_11_6[[#This Row],[IdEstablecimiento]],'[2]Establecimiento 2023'!$A$1:$E$183,5,FALSE),0)","v":"04301-Ovalle"},"15010400","2023-04-19T14:19:56",20,{"$nulls":4},4,10,6]
[3,"5",2023,"200569",{"$f":"IFERROR(VLOOKUP(Tabla_SERIED_11_6[[#This Row],[IdEstablecimiento]],'[2]Establecimiento 2023'!$A$1:$E$183,3,FALSE),0)","v":"200569-Centro de Salud Familiar Fray Jorge"},{"$f":"IFERROR(VLOOKUP(Tabla_SERIED_11_6[[#This Row],[IdEstablecimiento]],'[2]Establecimiento 2023'!$A$1:$E$183,5,FALSE),0)","v":"04301-Ovalle"},"15050500","2023-04-19T14:19:56",5,3,2,2,2,1]
[3,"5",2023,"200569",{"$f":"IFERROR(VLOOKUP(Tabla_SERIED_11_6[[#This Row],[IdEstablecimiento]],'[2]Establecimiento 2023'!$A$1:$E$183,3,FALSE),0)","v":"200569-Centro de Salud Familiar Fray Jorge"},{"$f":"IFERROR(VLOOKUP(Tabla_SERIED_11_6[[#This Row],[IdEstablecimiento]],'[2]Establecimiento 2023'!$A$1:$E$183,5,FALSE),0)","v":"04301-Ovalle"},"16200210","2023-04-19T14:19:56",4,4]
[9,"5",2023,"105723",{"$f":"IFERROR(VLOOKUP(Tabla_SERIED_11_6[[#This Row],[IdEstablecimiento]],'[2]Establecimiento 2023'!$A$1:$E$183,3,FALSE),0)","v":"105723-Centro Comunitario de Salud Familiar Limarí"},{"$f":"IFERROR(VLOOKUP(Tabla_SERIED_11_6[[#This Row],[IdEstablecimiento]],'[2]Establecimiento 2023'!$A$1:$E$183,5,FALSE),0)","v":"04301-Ovalle"},"15050200","2023-10-17T15:39:00",6,2,4,{"$nulls":3},1,null,3,2]
[9,"5",2023,"105723",{"$f":"IFERROR(VLOOKUP(Tabla_SERIED_11_6[[#This Row],[IdEstablecimiento]],'[2]Establecimiento 2023'!$A$1:$E$183,3,FALSE),0)","v":"105723-Centro Comunitario de Salud Familiar Limarí"},{"$f":"IFERROR(VLOOKUP(Tabla_SERIED_11_6[[#This Row],[IdEstablecimiento]],'[2]Establecimiento 2023'!$A$1:$E$183,5,FALSE),0)","v":"04301-Ovalle"},"15080014","2023-10-17T15:39:00",34,{"$nulls":3},20,14]
[9,"5",2023,"105723",{"$f":"IFERROR(VLOOKUP(Tabla_SERIED_11_6[[#This Row],[IdEstablecimiento]],'[2]Establecimiento 2023'!$A$1:$E$183,3,FALSE),0)","v":"105723-Centro Comunitario de Salud Familiar Limarí"},{"$f":"IFERROR(VLOOKUP(Tabla_SERIED_11_6[[#This Row],[IdEstablecimiento]],'[2]Establecimiento 2023'!$A$1:$E$183,5,FALSE),0)","v":"04301-Ovalle"},"16200220","2023-10-17T15:39:00",4,2,2]
[9,"5",2023,"200258",{"$f":"IFERROR(VLOOKUP(Tabla_SERIED_11_6[[#This Row],[IdEstablecimiento]],'[2]Establecimiento 2023'!$A$1:$E$183,3,FALSE),0)","v":"200258-Centro Comunitario de Salud Familiar Los Copihues"},{"$f":"IFERROR(VLOOKUP(Tabla_SERIED_11_6[[#This Row],[IdEstablecimiento]],'[2]Establecimiento 2023'!$A$1:$E$183,5,FALSE),0)","v":"04301-Ovalle"},"16200210","2023-10-17T15:40:47",12,12]
[9,"5",2023,"200273",{"$f":"IFERROR(VLOOKUP(Tabla_SERIED_11_6[[#This Row],[IdEstablecimiento]],'[2]Establecimiento 2023'!$A$1:$E$183,3,FALSE),0)","v":"200273-Centro Comunitario de Salud Familiar Punta Mira"},{"$f":"IFERROR(VLOOKUP(Tabla_SERIED_11_6[[#This Row],[IdEstablecimiento]],'[2]Establecimiento 2023'!$A$1:$E$183,5,FALSE),0)","v":"04102-Coquimbo"},"15080008","2023-10-17T15:40:43",17,{"$nulls":7},5,null,6,0,6]
[9,"5",2023,"200273",{"$f":"IFERROR(VLOOKUP(Tabla_SERIED_11_6[[#This Row],[IdEstablecimiento]],'[2]Establecimiento 2023'!$A$1:$E$183,3,FALSE),0)","v":"200273-Centro Comunitario de Salud Familiar Punta Mira"},{"$f":"IFERROR(VLOOKUP(Tabla_SERIED_11_6[[#This Row],[IdEstablecimiento]],'[2]Establecimiento 2023'!$A$1:$E$183,5,FALSE),0)","v":"04102-Coquimbo"},"15080015","2023-10-17T15:40:43",79,{"$nulls":5},36,43]
[9,"5",2023,"200366",{"$f":"IFERROR(VLOOKUP(Tabla_SERIED_11_6[[#This Row],[IdEstablecimiento]],'[2]Establecimiento 2023'!$A$1:$E$183,3,FALSE),0)","v":"200366-Centro de Salud Familiar Urbano de Illapel"},{"$f":"IFERROR(VLOOKUP(Tabla_SERIED_11_6[[#This Row],[IdEstablecimiento]],'[2]Establecimiento 2023'!$A$1:$E$183,5,FALSE),0)","v":"04201-Illapel"},"15901200","2023-10-17T15:41:37",14,null,null,2.8,null,11.2]
[9,"5",2023,"200366",{"$f":"IFERROR(VLOOKUP(Tabla_SERIED_11_6[[#This Row],[IdEstablecimiento]],'[2]Establecimiento 2023'!$A$1:$E$183,3,FALSE),0)","v":"200366-Centro de Salud Familiar Urbano de Illapel"},{"$f":"IFERROR(VLOOKUP(Tabla_SERIED_11_6[[#This Row],[IdEstablecimiento]],'[2]Establecimiento 2023'!$A$1:$E$183,5,FALSE),0)","v":"04201-Illapel"},"16100100","2023-10-17T15:41:37",1,0,1]
[9,"5",2023,"200367",{"$f":"IFERROR(VLOOKUP(Tabla_SERIED_11_6[[#This Row],[IdEstablecimiento]],'[2]Establecimiento 2023'!$A$1:$E$183,3,FALSE),0)","v":"200367-Centro Comunitario de Salud Familiar Colonia Limarí"},{"$f":"IFERROR(VLOOKUP(Tabla_SERIED_11_6[[#This Row],[IdEstablecimiento]],'[2]Establecimiento 2023'!$A$1:$E$183,5,FALSE),0)","v":"04301-Ovalle"},"16200220","2023-10-17T15:42:04",7,1,6]
[9,"5",2023,"200402",{"$f":"IFERROR(VLOOKUP(Tabla_SERIED_11_6[[#This Row],[IdEstablecimiento]],'[2]Establecimiento 2023'!$A$1:$E$183,3,FALSE),0)","v":"200402-Centro Comunitario de Salud Familiar Arcos de Pinamar"},{"$f":"IFERROR(VLOOKUP(Tabla_SERIED_11_6[[#This Row],[IdEstablecimiento]],'[2]Establecimiento 2023'!$A$1:$E$183,5,FALSE),0)","v":"04101-La Serena"},"15030100","2023-10-17T15:43:12",3.2,3.2]
[9,"5",2023,"200402",{"$f":"IFERROR(VLOOKUP(Tabla_SERIED_11_6[[#This Row],[IdEstablecimiento]],'[2]Establecimiento 2023'!$A$1:$E$183,3,FALSE),0)","v":"200402-Centro Comunitario de Salud Familiar Arcos de Pinamar"},{"$f":"IFERROR(VLOOKUP(Tabla_SERIED_11_6[[#This Row],[IdEstablecimiento]],'[2]Establecimiento 2023'!$A$1:$E$183,5,FALSE),0)","v":"04101-La Serena"},"16200210","2023-10-17T15:43:12",7,7]
[9,"5",2023,"200494",{"$f":"IFERROR(VLOOKUP(Tabla_SERIED_11_6[[#This Row],[IdEstablecimiento]],'[2]Establecimiento 2023'!$A$1:$E$183,3,FALSE),0)","v":"200494-Centro de Salud Familiar El Sauce"},{"$f":"IFERROR(VLOOKUP(Tabla_SERIED_11_6[[#This Row],[IdEstablecimiento]],'[2]Establecimiento 2023'!$A$1:$E$183,5,FALSE),0)","v":"04102-Coquimbo"},"15080014","2023-10-17T15:43:08",316,{"$nulls":3},160,156]
[9,"5",2023,"200494",{"$f":"IFERROR(VLOOKUP(Tabla_SERIED_11_6[[#This Row],[IdEstablecimiento]],'[2]Establecimiento 2023'!$A$1:$E$183,3,FALSE),0)","v":"200494-Centro de Salud Familiar El Sauce"},{"$f":"IFERROR(VLOOKUP(Tabla_SERIED_11_6[[#This Row],[IdEstablecimiento]],'[2]Establecimiento 2023'!$A$1:$E$183,5,FALSE),0)","v":"04102-Coquimbo"},"15080016","2023-10-17T15:43:08",8,{"$nulls":3},4,4]
[9,"5",2023,"200494",{"$f":"IFERROR(VLOOKUP(Tabla_SERIED_11_6[[#This Row],[IdEstablecimiento]],'[2]Establecimiento 2023'!$A$1:$E$183,3,FALSE),0)","v":"200494-Centro de Salud Familiar El Sauce"},{"$f":"IFERROR(VLOOKUP(Tabla_SERIED_11_6[[#This Row],[IdEstablecimiento]],'[2]Establecimiento 2023'!$A$1:$E$183,5,FALSE),0)","v":"04102-Coquimbo"},"15900010","2023-10-17T15:43:08",119.6,11.2,37.8,70.6]
[9,"5",2023,"200494",{"$f":"IFERROR(VLOOKUP(Tabla_SERIED_11_6[[#This Row],[IdEstablecimiento]],'[2]Establecimiento 2023'!$A$1:$E$183,3,FALSE),0)","v":"200494-Centro de Salud Familiar El Sauce"},{"$f":"IFERROR(VLOOKUP(Tabla_SERIED_11_6[[#This Row],[IdEstablecimiento]],'[2]Establecimiento 2023'!$A$1:$E$183,5,FALSE),0)","v":"04102-Coquimbo"},"16100300","2023-10-17T15:43:08",310,123,187]
[9,"5",2023,"200499",{"$f":"IFERROR(VLOOKUP(Tabla_SERIED_11_6[[#This Row],[IdEstablecimiento]],'[2]Establecimiento 2023'!$A$1:$E$183,3,FALSE),0)","v":"200499-Centro de Salud Familiar Rural Pan de Azúcar"},{"$f":"IFERROR(VLOOKUP(Tabla_SERIED_11_6[[#This Row],[IdEstablecimiento]],'[2]Establecimiento 2023'!$A$1:$E$183,5,FALSE),0)","v":"04102-Coquimbo"},"15050200","2023-10-17T15:43:43",7,4,3,0,0,3,1,0,1,2,null,0,0,0,0]
[9,"5",2023,"200538",{"$f":"IFERROR(VLOOKUP(Tabla_SERIED_11_6[[#This Row],[IdEstablecimiento]],'[2]Establecimiento 2023'!$A$1:$E$183,3,FALSE),0)","v":"200538-Centro de Salud Familiar San Isidro Calingasta"},{"$f":"IFERROR(VLOOKUP(Tabla_SERIED_11_6[[#This Row],[IdEstablecimiento]],'[2]Establecimiento 2023'!$A$1:$E$183,5,FALSE),0)","v":"04106-Vicuña"},"15050200","2023-10-17T15:45:21",5,4,1,{"$nulls":4},1,3,1]
[9,"5",2023,"200538",{"$f":"IFERROR(VLOOKUP(Tabla_SERIED_11_6[[#This Row],[IdEstablecimiento]],'[2]Establecimiento 2023'!$A$1:$E$183,3,FALSE),0)","v":"200538-Centro de Salud Familiar San Isidro Calingasta"},{"$f":"IFERROR(VLOOKUP(Tabla_SERIED_11_6[[#This Row],[IdEstablecimiento]],'[2]Establecimiento 2023'!$A$1:$E$183,5,FALSE),0)","v":"04106-Vicuña"},"15080015","2023-10-17T15:45:21",110,{"$nulls":5},82,28]
[9,"5",2023,"200607",{"$f":"IFERROR(VLOOKUP(Tabla_SERIED_11_6[[#This Row],[IdEstablecimiento]],'[2]Establecimiento 2023'!$A$1:$E$183,3,FALSE),0)","v":"200607-Centro de Salud Familiar Lila Cortés Godoy"},{"$f":"IFERROR(VLOOKUP(Tabla_SERIED_11_6[[#This Row],[IdEstablecimiento]],'[2]Establecimiento 2023'!$A$1:$E$183,5,FALSE),0)","v":"04102-Coquimbo"},"15080015","2023-10-17T15:46:21",449,{"$nulls":5},234,215]
[9,"5",2023,"200607",{"$f":"IFERROR(VLOOKUP(Tabla_SERIED_11_6[[#This Row],[IdEstablecimiento]],'[2]Establecimiento 2023'!$A$1:$E$183,3,FALSE),0)","v":"200607-Centro de Salud Familiar Lila Cortés Godoy"},{"$f":"IFERROR(VLOOKUP(Tabla_SERIED_11_6[[#This Row],[IdEstablecimiento]],'[2]Establecimiento 2023'!$A$1:$E$183,5,FALSE),0)","v":"04102-Coquimbo"},"15900020","2023-10-17T15:46:21",5.6,null,3.2,2.4]
[9,"5",2023,"200607",{"$f":"IFERROR(VLOOKUP(Tabla_SERIED_11_6[[#This Row],[IdEstablecimiento]],'[2]Establecimiento 2023'!$A$1:$E$183,3,FALSE),0)","v":"200607-Centro de Salud Familiar Lila Cortés Godoy"},{"$f":"IFERROR(VLOOKUP(Tabla_SERIED_11_6[[#This Row],[IdEstablecimiento]],'[2]Establecimiento 2023'!$A$1:$E$183,5,FALSE),0)","v":"04102-Coquimbo"},"15901400","2023-10-17T15:46:21",4,3,1,null,1,1,1,1]
[9,"5",2023,"200607",{"$f":"IFERROR(VLOOKUP(Tabla_SERIED_11_6[[#This Row],[IdEstablecimiento]],'[2]Establecimiento 2023'!$A$1:$E$183,3,FALSE),0)","v":"200607-Centro de Salud Familiar Lila Cortés Godoy"},{"$f":"IFERROR(VLOOKUP(Tabla_SERIED_11_6[[#This Row],[IdEstablecimiento]],'[2]Establecimiento 2023'!$A$1:$E$183,5,FALSE),0)","v":"04102-Coquimbo"},"16200230","2023-10-17T15:46:21",2,1,1]
[4,"5",2023,"105104",{"$f":"IFERROR(VLOOKUP(Tabla_SERIED_11_6[[#This Row],[IdEstablecimiento]],'[2]Establecimiento 2023'!$A$1:$E$183,3,FALSE),0)","v":"105104-Hospital de Salamanca"},{"$f":"IFERROR(VLOOKUP(Tabla_SERIED_11_6[[#This Row],[IdEstablecimiento]],'[2]Establecimiento 2023'!$A$1:$E$183,5,FALSE),0)","v":"105104-Hospital Salamanca"},"15010100","2023-05-16T11:48:59",77,{"$nulls":3},57,20]
[4,"5",2023,"105104",{"$f":"IFERROR(VLOOKUP(Tabla_SERIED_11_6[[#This Row],[IdEstablecimiento]],'[2]Establecimiento 2023'!$A$1:$E$183,3,FALSE),0)","v":"105104-Hospital de Salamanca"},{"$f":"IFERROR(VLOOKUP(Tabla_SERIED_11_6[[#This Row],[IdEstablecimiento]],'[2]Establecimiento 2023'!$A$1:$E$183,5,FALSE),0)","v":"105104-Hospital Salamanca"},"16200220","2023-05-16T11:48:59",4,3,1]
[4,"5",2023,"105105",{"$f":"IFERROR(VLOOKUP(Tabla_SERIED_11_6[[#This Row],[IdEstablecimiento]],'[2]Establecimiento 2023'!$A$1:$E$183,3,FALSE),0)","v":"105105-Hospital San Juan de Dios (Combarbalá)"},{"$f":"IFERROR(VLOOKUP(Tabla_SERIED_11_6[[#This Row],[IdEstablecimiento]],'[2]Establecimiento 2023'!$A$1:$E$183,5,FALSE),0)","v":"105105-Hospital Combarbalá"},"15900050","2023-05-16T11:49:16",4,2,2,null,null,3,null,1]
[4,"5",2023,"105106",{"$f":"IFERROR(VLOOKUP(Tabla_SERIED_11_6[[#This Row],[IdEstablecimiento]],'[2]Establecimiento 2023'!$A$1:$E$183,3,FALSE),0)","v":"105106-Hospital Dr. José Arraño (Andacollo)"},{"$f":"IFERROR(VLOOKUP(Tabla_SERIED_11_6[[#This Row],[IdEstablecimiento]],'[2]Establecimiento 2023'!$A$1:$E$183,5,FALSE),0)","v":"105106-Hospital Andacollo"},"15900040","2023-05-16T11:49:36",4.4,null,null,4.4]
[4,"5",2023,"105108",{"$f":"IFERROR(VLOOKUP(Tabla_SERIED_11_6[[#This Row],[IdEstablecimiento]],'[2]Establecimiento 2023'!$A$1:$E$183,3,FALSE),0)","v":"105108-Hospital San Pedro (Los Vilos)"},{"$f":"IFERROR(VLOOKUP(Tabla_SERIED_11_6[[#This Row],[IdEstablecimiento]],'[2]Establecimiento 2023'!$A$1:$E$183,5,FALSE),0)","v":"105108-Hospital Los Vilos"},"15080016","2023-05-16T11:50:20",10,{"$nulls":4},2,4,4]
[4,"5",2023,"105108",{"$f":"IFERROR(VLOOKUP(Tabla_SERIED_11_6[[#This Row],[IdEstablecimiento]],'[2]Establecimiento 2023'!$A$1:$E$183,3,FALSE),0)","v":"105108-Hospital San Pedro (Los Vilos)"},{"$f":"IFERROR(VLOOKUP(Tabla_SERIED_11_6[[#This Row],[IdEstablecimiento]],'[2]Establecimiento 2023'!$A$1:$E$183,5,FALSE),0)","v":"105108-Hospital Los Vilos"},"15900030","2023-05-16T11:50:20",20,null,9.6,8.8,1.6]
[4,"5",2023,"105108",{"$f":"IFERROR(VLOOKUP(Tabla_SERIED_11_6[[#This Row],[IdEstablecimiento]],'[2]Establecimiento 2023'!$A$1:$E$183,3,FALSE),0)","v":"105108-Hospital San Pedro (Los Vilos)"},{"$f":"IFERROR(VLOOKUP(Tabla_SERIED_11_6[[#This Row],[IdEstablecimiento]],'[2]Establecimiento 2023'!$A$1:$E$183,5,FALSE),0)","v":"105108-Hospital Los Vilos"},"16200220","2023-05-16T11:50:20",2,1,1]
[4,"5",2023,"105300",{"$f":"IFERROR(VLOOKUP(Tabla_SERIED_11_6[[#This Row],[IdEstablecimiento]],'[2]Establecimiento 2023'!$A$1:$E$183,3,FALSE),0)","v":"105300-Centro de Salud Familiar Cardenal Caro"},{"$f":"IFERROR(VLOOKUP(Tabla_SERIED_11_6[[#This Row],[IdEstablecimiento]],'[2]Establecimiento 2023'!$A$1:$E$183,5,FALSE),0)","v":"04101-La Serena"},"15080008","2023-05-16T11:51:23",201,{"$nulls":7},86,null,80,7,28]
[4,"5",2023,"105300",{"$f":"IFERROR(VLOOKUP(Tabla_SERIED_11_6[[#This Row],[IdEstablecimiento]],'[2]Establecimiento 2023'!$A$1:$E$183,3,FALSE),0)","v":"105300-Centro de Salud Familiar Cardenal Caro"},{"$f":"IFERROR(VLOOKUP(Tabla_SERIED_11_6[[#This Row],[IdEstablecimiento]],'[2]Establecimiento 2023'!$A$1:$E$183,5,FALSE),0)","v":"04101-La Serena"},"16090100","2023-05-16T11:51:23",5,5]
[4,"5",2023,"105301",{"$f":"IFERROR(VLOOKUP(Tabla_SERIED_11_6[[#This Row],[IdEstablecimiento]],'[2]Establecimiento 2023'!$A$1:$E$183,3,FALSE),0)","v":"105301-Centro de Salud Familiar Las Compañías"},{"$f":"IFERROR(VLOOKUP(Tabla_SERIED_11_6[[#This Row],[IdEstablecimiento]],'[2]Establecimiento 2023'!$A$1:$E$183,5,FALSE),0)","v":"04101-La Serena"},"15050200","2023-05-16T11:51:38",6,1,5,null,null,1,2,1,null,1,null,1]
[4,"5",2023,"105301",{"$f":"IFERROR(VLOOKUP(Tabla_SERIED_11_6[[#This Row],[IdEstablecimiento]],'[2]Establecimiento 2023'!$A$1:$E$183,3,FALSE),0)","v":"105301-Centro de Salud Familiar Las Compañías"},{"$f":"IFERROR(VLOOKUP(Tabla_SERIED_11_6[[#This Row],[IdEstablecimiento]],'[2]Establecimiento 2023'!$A$1:$E$183,5,FALSE),0)","v":"04101-La Serena"},"16100300","2023-05-16T11:51:38",554,228,326]
[4,"5",2023,"105302",{"$f":"IFERROR(VLOOKUP(Tabla_SERIED_11_6[[#This Row],[IdEstablecimiento]],'[2]Establecimiento 2023'!$A$1:$E$183,3,FALSE),0)","v":"105302-Centro de Salud Familiar Pedro Aguirre Cerda"},{"$f":"IFERROR(VLOOKUP(Tabla_SERIED_11_6[[#This Row],[IdEstablecimiento]],'[2]Establecimiento 2023'!$A$1:$E$183,5,FALSE),0)","v":"04101-La Serena"},"15900010","2023-05-16T11:51:48",240.8,27.2,53.6,160]
[4,"5",2023,"105303",{"$f":"IFERROR(VLOOKUP(Tabla_SERIED_11_6[[#This Row],[IdEstablecimiento]],'[2]Establecimiento 2023'!$A$1:$E$183,3,FALSE),0)","v":"105303-Centro de Salud Familiar San Juan"},{"$f":"IFERROR(VLOOKUP(Tabla_SERIED_11_6[[#This Row],[IdEstablecimiento]],'[2]Establecimiento 2023'!$A$1:$E$183,5,FALSE),0)","v":"04102-Coquimbo"},"15050200","2023-05-16T11:52:01",6,3,3,0,0,2,0,0,3,0,null,0,1,0,0]
[4,"5",2023,"105303",{"$f":"IFERROR(VLOOKUP(Tabla_SERIED_11_6[[#This Row],[IdEstablecimiento]],'[2]Establecimiento 2023'!$A$1:$E$183,3,FALSE),0)","v":"105303-Centro de Salud Familiar San Juan"},{"$f":"IFERROR(VLOOKUP(Tabla_SERIED_11_6[[#This Row],[IdEstablecimiento]],'[2]Establecimiento 2023'!$A$1:$E$183,5,FALSE),0)","v":"04102-Coquimbo"},"16090300","2023-05-16T11:52:01",673,673]
[4,"5",2023,"105304",{"$f":"IFERROR(VLOOKUP(Tabla_SERIED_11_6[[#This Row],[IdEstablecimiento]],'[2]Establecimiento 2023'!$A$1:$E$183,3,FALSE),0)","v":"105304-Centro de Salud Familiar Santa Cecilia"},{"$f":"IFERROR(VLOOKUP(Tabla_SERIED_11_6[[#This Row],[IdEstablecimiento]],'[2]Establecimiento 2023'!$A$1:$E$183,5,FALSE),0)","v":"04102-Coquimbo"},"15080018","2023-05-16T11:52:18",2,0,0,0,2,0]
[4,"5",2023,"105304",{"$f":"IFERROR(VLOOKUP(Tabla_SERIED_11_6[[#This Row],[IdEstablecimiento]],'[2]Establecimiento 2023'!$A$1:$E$183,3,FALSE),0)","v":"105304-Centro de Salud Familiar Santa Cecilia"},{"$f":"IFERROR(VLOOKUP(Tabla_SERIED_11_6[[#This Row],[IdEstablecimiento]],'[2]Establecimiento 2023'!$A$1:$E$183,5,FALSE),0)","v":"04102-Coquimbo"},"16200100","2023-05-16T11:52:18",36,19,17]
[4,"5",2023,"105304",{"$f":"IFERROR(VLOOKUP(Tabla_SERIED_11_6[[#This Row],[IdEstablecimiento]],'[2]Establecimiento 2023'!$A$1:$E$183,3,FALSE),0)","v":"105304-Centro de Salud Familiar Santa Cecilia"},{"$f":"IFERROR(VLOOKUP(Tabla_SERIED_11_6[[#This Row],[IdEstablecimiento]],'[2]Establecimiento 2023'!$A$1:$E$183,5,FALSE),0)","v":"04102-Coquimbo"},"16200210","2023-05-16T11:52:18",48,48]
[4,"5",2023,"105305",{"$f":"IFERROR(VLOOKUP(Tabla_SERIED_11_6[[#This Row],[IdEstablecimiento]],'[2]Establecimiento 2023'!$A$1:$E$183,3,FALSE),0)","v":"105305-Centro de Salud Familiar Tierras Blancas"},{"$f":"IFERROR(VLOOKUP(Tabla_SERIED_11_6[[#This Row],[IdEstablecimiento]],'[2]Establecimiento 2023'!$A$1:$E$183,5,FALSE),0)","v":"04102-Coquimbo"},"15080010","2023-05-16T11:52:31",1,{"$nulls":7},1]
[4,"5",2023,"105305",{"$f":"IFERROR(VLOOKUP(Tabla_SERIED_11_6[[#This Row],[IdEstablecimiento]],'[2]Establecimiento 2023'!$A$1:$E$183,3,FALSE),0)","v":"105305-Centro de Salud Familiar Tierras Blancas"},{"$f":"IFERROR(VLOOKUP(Tabla_SERIED_11_6[[#This Row],[IdEstablecimiento]],'[2]Establecimiento 2023'!$A$1:$E$183,5,FALSE),0)","v":"04102-Coquimbo"},"16200210","2023-05-16T11:52:31",85,85]
[4,"5",2023,"105306",{"$f":"IFERROR(VLOOKUP(Tabla_SERIED_11_6[[#This Row],[IdEstablecimiento]],'[2]Establecimiento 2023'!$A$1:$E$183,3,FALSE),0)","v":"105306-Centro de Salud Familiar Paihuano"},{"$f":"IFERROR(VLOOKUP(Tabla_SERIED_11_6[[#This Row],[IdEstablecimiento]],'[2]Establecimiento 2023'!$A$1:$E$183,5,FALSE),0)","v":"04105-Paihuano"},"15010100","2023-05-16T11:52:43",2,{"$nulls":3},2]
[4,"5",2023,"105306",{"$f":"IFERROR(VLOOKUP(Tabla_SERIED_11_6[[#This Row],[IdEstablecimiento]],'[2]Establecimiento 2023'!$A$1:$E$183,3,FALSE),0)","v":"105306-Centro de Salud Familiar Paihuano"},{"$f":"IFERROR(VLOOKUP(Tabla_SERIED_11_6[[#This Row],[IdEstablecimiento]],'[2]Establecimiento 2023'!$A$1:$E$183,5,FALSE),0)","v":"04105-Paihuano"},"15010500","2023-05-16T11:52:43",2,{"$nulls":3},2]
[4,"5",2023,"105306",{"$f":"IFERROR(VLOOKUP(Tabla_SERIED_11_6[[#This Row],[IdEstablecimiento]],'[2]Establecimiento 2023'!$A$1:$E$183,3,FALSE),0)","v":"105306-Centro de Salud Familiar Paihuano"},{"$f":"IFERROR(VLOOKUP(Tabla_SERIED_11_6[[#This Row],[IdEstablecimiento]],'[2]Establecimiento 2023'!$A$1:$E$183,5,FALSE),0)","v":"04105-Paihuano"},"16200210","2023-05-16T11:52:43",5,5]
[4,"5",2023,"105308",{"$f":"IFERROR(VLOOKUP(Tabla_SERIED_11_6[[#This Row],[IdEstablecimiento]],'[2]Establecimiento 2023'!$A$1:$E$183,3,FALSE),0)","v":"105308-Centro de Salud Familiar Punitaqui"},{"$f":"IFERROR(VLOOKUP(Tabla_SERIED_11_6[[#This Row],[IdEstablecimiento]],'[2]Establecimiento 2023'!$A$1:$E$183,5,FALSE),0)","v":"04304-Punitaqui"},"15080014","2023-07-21T08:51:41",48,{"$nulls":3},34,14]
[4,"5",2023,"105309",{"$f":"IFERROR(VLOOKUP(Tabla_SERIED_11_6[[#This Row],[IdEstablecimiento]],'[2]Establecimiento 2023'!$A$1:$E$183,3,FALSE),0)","v":"105309-Centro de Salud Familiar Canela"},{"$f":"IFERROR(VLOOKUP(Tabla_SERIED_11_6[[#This Row],[IdEstablecimiento]],'[2]Establecimiento 2023'!$A$1:$E$183,5,FALSE),0)","v":"04202-Canela"},"16200220","2023-05-16T11:53:32",23,11,12]
[4,"5",2023,"105310",{"$f":"IFERROR(VLOOKUP(Tabla_SERIED_11_6[[#This Row],[IdEstablecimiento]],'[2]Establecimiento 2023'!$A$1:$E$183,3,FALSE),0)","v":"105310-Centro de Salud Familiar Pichasca"},{"$f":"IFERROR(VLOOKUP(Tabla_SERIED_11_6[[#This Row],[IdEstablecimiento]],'[2]Establecimiento 2023'!$A$1:$E$183,5,FALSE),0)","v":"04305-Rio Hurtado"},"15010300","2023-05-16T11:54:14",1,{"$nulls":3},1]
[4,"5",2023,"105310",{"$f":"IFERROR(VLOOKUP(Tabla_SERIED_11_6[[#This Row],[IdEstablecimiento]],'[2]Establecimiento 2023'!$A$1:$E$183,3,FALSE),0)","v":"105310-Centro de Salud Familiar Pichasca"},{"$f":"IFERROR(VLOOKUP(Tabla_SERIED_11_6[[#This Row],[IdEstablecimiento]],'[2]Establecimiento 2023'!$A$1:$E$183,5,FALSE),0)","v":"04305-Rio Hurtado"},"15080014","2023-05-16T11:54:14",4,{"$nulls":3},4]
[4,"5",2023,"105311",{"$f":"IFERROR(VLOOKUP(Tabla_SERIED_11_6[[#This Row],[IdEstablecimiento]],'[2]Establecimiento 2023'!$A$1:$E$183,3,FALSE),0)","v":"105311-Centro de Salud Familiar Chañaral Alto"},{"$f":"IFERROR(VLOOKUP(Tabla_SERIED_11_6[[#This Row],[IdEstablecimiento]],'[2]Establecimiento 2023'!$A$1:$E$183,5,FALSE),0)","v":"04303-Monte Patria"},"15080016","2023-05-16T11:54:31",2,{"$nulls":5},2]
[4,"5",2023,"105311",{"$f":"IFERROR(VLOOKUP(Tabla_SERIED_11_6[[#This Row],[IdEstablecimiento]],'[2]Establecimiento 2023'!$A$1:$E$183,3,FALSE),0)","v":"105311-Centro de Salud Familiar Chañaral Alto"},{"$f":"IFERROR(VLOOKUP(Tabla_SERIED_11_6[[#This Row],[IdEstablecimiento]],'[2]Establecimiento 2023'!$A$1:$E$183,5,FALSE),0)","v":"04303-Monte Patria"},"16100300","2023-05-16T11:54:31",249,119,130]
[4,"5",2023,"105313",{"$f":"IFERROR(VLOOKUP(Tabla_SERIED_11_6[[#This Row],[IdEstablecimiento]],'[2]Establecimiento 2023'!$A$1:$E$183,3,FALSE),0)","v":"105313-Centro de Salud Familiar Dr. Emilio Schaffhauser"},{"$f":"IFERROR(VLOOKUP(Tabla_SERIED_11_6[[#This Row],[IdEstablecimiento]],'[2]Establecimiento 2023'!$A$1:$E$183,5,FALSE),0)","v":"04101-La Serena"},"15010400","2023-05-16T11:55:03",10,{"$nulls":4},2,6,2]
[4,"5",2023,"105313",{"$f":"IFERROR(VLOOKUP(Tabla_SERIED_11_6[[#This Row],[IdEstablecimiento]],'[2]Establecimiento 2023'!$A$1:$E$183,3,FALSE),0)","v":"105313-Centro de Salud Familiar Dr. Emilio Schaffhauser"},{"$f":"IFERROR(VLOOKUP(Tabla_SERIED_11_6[[#This Row],[IdEstablecimiento]],'[2]Establecimiento 2023'!$A$1:$E$183,5,FALSE),0)","v":"04101-La Serena"},"15900010","2023-05-16T11:55:03",343.2,47.2,64,232]
[4,"5",2023,"105313",{"$f":"IFERROR(VLOOKUP(Tabla_SERIED_11_6[[#This Row],[IdEstablecimiento]],'[2]Establecimiento 2023'!$A$1:$E$183,3,FALSE),0)","v":"105313-Centro de Salud Familiar Dr. Emilio Schaffhauser"},{"$f":"IFERROR(VLOOKUP(Tabla_SERIED_11_6[[#This Row],[IdEstablecimiento]],'[2]Establecimiento 2023'!$A$1:$E$183,5,FALSE),0)","v":"04101-La Serena"},"15900040","2023-05-16T11:55:03",23.6,0,8.4,4.4,10.8,0]
[4,"5",2023,"105317",{"$f":"IFERROR(VLOOKUP(Tabla_SERIED_11_6[[#This Row],[IdEstablecimiento]],'[2]Establecimiento 2023'!$A$1:$E$183,3,FALSE),0)","v":"105317-Centro de Salud Familiar Jorge Jordán Domic"},{"$f":"IFERROR(VLOOKUP(Tabla_SERIED_11_6[[#This Row],[IdEstablecimiento]],'[2]Establecimiento 2023'!$A$1:$E$183,5,FALSE),0)","v":"04301-Ovalle"},"16100300","2023-05-16T11:55:43",663,273,390]
[4,"5",2023,"105318",{"$f":"IFERROR(VLOOKUP(Tabla_SERIED_11_6[[#This Row],[IdEstablecimiento]],'[2]Establecimiento 2023'!$A$1:$E$183,3,FALSE),0)","v":"105318-Centro de Salud Familiar El Palqui"},{"$f":"IFERROR(VLOOKUP(Tabla_SERIED_11_6[[#This Row],[IdEstablecimiento]],'[2]Establecimiento 2023'!$A$1:$E$183,5,FALSE),0)","v":"04303-Monte Patria"},"15080016","2023-05-16T11:55:57",12,{"$nulls":4},4,6,2]
[4,"5",2023,"105319",{"$f":"IFERROR(VLOOKUP(Tabla_SERIED_11_6[[#This Row],[IdEstablecimiento]],'[2]Establecimiento 2023'!$A$1:$E$183,3,FALSE),0)","v":"105319-Centro de Salud Familiar Cardenal Raúl Silva Henríquez de La Serena"},{"$f":"IFERROR(VLOOKUP(Tabla_SERIED_11_6[[#This Row],[IdEstablecimiento]],'[2]Establecimiento 2023'!$A$1:$E$183,5,FALSE),0)","v":"04101-La Serena"},"15010500","2023-05-16T12:12:43",8,{"$nulls":4},4,4]
[4,"5",2023,"105321",{"$f":"IFERROR(VLOOKUP(Tabla_SERIED_11_6[[#This Row],[IdEstablecimiento]],'[2]Establecimiento 2023'!$A$1:$E$183,3,FALSE),0)","v":"105321-Centro de Salud Familiar Tongoy"},{"$f":"IFERROR(VLOOKUP(Tabla_SERIED_11_6[[#This Row],[IdEstablecimiento]],'[2]Establecimiento 2023'!$A$1:$E$183,5,FALSE),0)","v":"04102-Coquimbo"},"15900030","2023-05-16T12:13:28",4.4,null,null,4.4]
[4,"5",2023,"105322",{"$f":"IFERROR(VLOOKUP(Tabla_SERIED_11_6[[#This Row],[IdEstablecimiento]],'[2]Establecimiento 2023'!$A$1:$E$183,3,FALSE),0)","v":"105322-Centro de Salud Familiar Marcos Macuada"},{"$f":"IFERROR(VLOOKUP(Tabla_SERIED_11_6[[#This Row],[IdEstablecimiento]],'[2]Establecimiento 2023'!$A$1:$E$183,5,FALSE),0)","v":"04301-Ovalle"},"15010300","2023-05-16T12:13:43",2,{"$nulls":3},2,0]
[4,"5",2023,"105322",{"$f":"IFERROR(VLOOKUP(Tabla_SERIED_11_6[[#This Row],[IdEstablecimiento]],'[2]Establecimiento 2023'!$A$1:$E$183,3,FALSE),0)","v":"105322-Centro de Salud Familiar Marcos Macuada"},{"$f":"IFERROR(VLOOKUP(Tabla_SERIED_11_6[[#This Row],[IdEstablecimiento]],'[2]Establecimiento 2023'!$A$1:$E$183,5,FALSE),0)","v":"04301-Ovalle"},"15010400","2023-05-16T12:13:43",2,{"$nulls":5},0,2]
[4,"5",2023,"105322",{"$f":"IFERROR(VLOOKUP(Tabla_SERIED_11_6[[#This Row],[IdEstablecimiento]],'[2]Establecimiento 2023'!$A$1:$E$183,3,FALSE),0)","v":"105322-Centro de Salud Familiar Marcos Macuada"},{"$f":"IFERROR(VLOOKUP(Tabla_SERIED_11_6[[#This Row],[IdEstablecimiento]],'[2]Establecimiento 2023'!$A$1:$E$183,5,FALSE),0)","v":"04301-Ovalle"},"15900030","2023-05-16T12:13:43",14.8,4.4,0,6.8,3.6,0,0,0]
[4,"5",2023,"105323",{"$f":"IFERROR(VLOOKUP(Tabla_SERIED_11_6[[#This Row],[IdEstablecimiento]],'[2]Establecimiento 2023'!$A$1:$E$183,3,FALSE),0)","v":"105323-Centro de Salud Familiar Dr. Sergio Aguilar Delgado"},{"$f":"IFERROR(VLOOKUP(Tabla_SERIED_11_6[[#This Row],[IdEstablecimiento]],'[2]Establecimiento 2023'!$A$1:$E$183,5,FALSE),0)","v":"04102-Coquimbo"},"15010300","2023-05-16T12:13:55",2,{"$nulls":4},2]
[4,"5",2023,"105323",{"$f":"IFERROR(VLOOKUP(Tabla_SERIED_11_6[[#This Row],[IdEstablecimiento]],'[2]Establecimiento 2023'!$A$1:$E$183,3,FALSE),0)","v":"105323-Centro de Salud Familiar Dr. Sergio Aguilar Delgado"},{"$f":"IFERROR(VLOOKUP(Tabla_SERIED_11_6[[#This Row],[IdEstablecimiento]],'[2]Establecimiento 2023'!$A$1:$E$183,5,FALSE),0)","v":"04102-Coquimbo"},"15010500","2023-05-16T12:13:55",29,null,1,10,6,2,2,8]
[4,"5",2023,"105323",{"$f":"IFERROR(VLOOKUP(Tabla_SERIED_11_6[[#This Row],[IdEstablecimiento]],'[2]Establecimiento 2023'!$A$1:$E$183,3,FALSE),0)","v":"105323-Centro de Salud Familiar Dr. Sergio Aguilar Delgado"},{"$f":"IFERROR(VLOOKUP(Tabla_SERIED_11_6[[#This Row],[IdEstablecimiento]],'[2]Establecimiento 2023'!$A$1:$E$183,5,FALSE),0)","v":"04102-Coquimbo"},"15050200","2023-05-16T12:13:55",20,11,9,3,3,5,3,1,1,4]
[4,"5",2023,"105323",{"$f":"IFERROR(VLOOKUP(Tabla_SERIED_11_6[[#This Row],[IdEstablecimiento]],'[2]Establecimiento 2023'!$A$1:$E$183,3,FALSE),0)","v":"105323-Centro de Salud Familiar Dr. Sergio Aguilar Delgado"},{"$f":"IFERROR(VLOOKUP(Tabla_SERIED_11_6[[#This Row],[IdEstablecimiento]],'[2]Establecimiento 2023'!$A$1:$E$183,5,FALSE),0)","v":"04102-Coquimbo"},"16100300","2023-05-16T12:13:55",975,354,621]
[4,"5",2023,"105324",{"$f":"IFERROR(VLOOKUP(Tabla_SERIED_11_6[[#This Row],[IdEstablecimiento]],'[2]Establecimiento 2023'!$A$1:$E$183,3,FALSE),0)","v":"105324-Centro de Salud Familiar Sotaquí"},{"$f":"IFERROR(VLOOKUP(Tabla_SERIED_11_6[[#This Row],[IdEstablecimiento]],'[2]Establecimiento 2023'!$A$1:$E$183,5,FALSE),0)","v":"04301-Ovalle"},"15080016","2023-05-16T12:14:12",8,{"$nulls":5},6,2]
[4,"5",2023,"105324",{"$f":"IFERROR(VLOOKUP(Tabla_SERIED_11_6[[#This Row],[IdEstablecimiento]],'[2]Establecimiento 2023'!$A$1:$E$183,3,FALSE),0)","v":"105324-Centro de Salud Familiar Sotaquí"},{"$f":"IFERROR(VLOOKUP(Tabla_SERIED_11_6[[#This Row],[IdEstablecimiento]],'[2]Establecimiento 2023'!$A$1:$E$183,5,FALSE),0)","v":"04301-Ovalle"},"15900010","2023-05-16T12:14:12",40,2.4,6.4,31.2]
[4,"5",2023,"105325",{"$f":"IFERROR(VLOOKUP(Tabla_SERIED_11_6[[#This Row],[IdEstablecimiento]],'[2]Establecimiento 2023'!$A$1:$E$183,3,FALSE),0)","v":"105325-Centro de Salud Familiar Juan Pablo II (La Serena)"},{"$f":"IFERROR(VLOOKUP(Tabla_SERIED_11_6[[#This Row],[IdEstablecimiento]],'[2]Establecimiento 2023'!$A$1:$E$183,5,FALSE),0)","v":"04101-La Serena"},"15900010","2023-05-16T12:14:24",224,17.6,54.4,152]
[4,"5",2023,"105326",{"$f":"IFERROR(VLOOKUP(Tabla_SERIED_11_6[[#This Row],[IdEstablecimiento]],'[2]Establecimiento 2023'!$A$1:$E$183,3,FALSE),0)","v":"105326-Centro de Salud Familiar Villa San Rafael de Rozas"},{"$f":"IFERROR(VLOOKUP(Tabla_SERIED_11_6[[#This Row],[IdEstablecimiento]],'[2]Establecimiento 2023'!$A$1:$E$183,5,FALSE),0)","v":"04201-Illapel"},"15010400","2023-05-16T12:16:19",4,{"$nulls":5},2,2]
[4,"5",2023,"105400",{"$f":"IFERROR(VLOOKUP(Tabla_SERIED_11_6[[#This Row],[IdEstablecimiento]],'[2]Establecimiento 2023'!$A$1:$E$183,3,FALSE),0)","v":"105400-Posta de Salud Rural Algarrobito"},{"$f":"IFERROR(VLOOKUP(Tabla_SERIED_11_6[[#This Row],[IdEstablecimiento]],'[2]Establecimiento 2023'!$A$1:$E$183,5,FALSE),0)","v":"04101-La Serena"},"15050100","2023-05-16T12:16:38",57,28,29,null,null,2,3,7,20,17,6,null,2]
[4,"5",2023,"105402",{"$f":"IFERROR(VLOOKUP(Tabla_SERIED_11_6[[#This Row],[IdEstablecimiento]],'[2]Establecimiento 2023'!$A$1:$E$183,3,FALSE),0)","v":"105402-Posta de Salud Rural El Romero"},{"$f":"IFERROR(VLOOKUP(Tabla_SERIED_11_6[[#This Row],[IdEstablecimiento]],'[2]Establecimiento 2023'!$A$1:$E$183,5,FALSE),0)","v":"04101-La Serena"},"15060100","2023-05-16T12:17:05",1,null,1,{"$nulls":9},1]
[4,"5",2023,"105402",{"$f":"IFERROR(VLOOKUP(Tabla_SERIED_11_6[[#This Row],[IdEstablecimiento]],'[2]Establecimiento 2023'!$A$1:$E$183,3,FALSE),0)","v":"105402-Posta de Salud Rural El Romero"},{"$f":"IFERROR(VLOOKUP(Tabla_SERIED_11_6[[#This Row],[IdEstablecimiento]],'[2]Establecimiento 2023'!$A$1:$E$183,5,FALSE),0)","v":"04101-La Serena"},"15080010","2023-05-16T12:17:05",2,{"$nulls":9},2]
[4,"5",2023,"105405",{"$f":"IFERROR(VLOOKUP(Tabla_SERIED_11_6[[#This Row],[IdEstablecimiento]],'[2]Establecimiento 2023'!$A$1:$E$183,3,FALSE),0)","v":"105405-Posta de Salud Rural Guanaqueros"},{"$f":"IFERROR(VLOOKUP(Tabla_SERIED_11_6[[#This Row],[IdEstablecimiento]],'[2]Establecimiento 2023'!$A$1:$E$183,5,FALSE),0)","v":"04102-Coquimbo"},"15900050","2023-05-16T12:17:40",2,null,2,null,1,1]
[4,"5",2023,"105407",{"$f":"IFERROR(VLOOKUP(Tabla_SERIED_11_6[[#This Row],[IdEstablecimiento]],'[2]Establecimiento 2023'!$A$1:$E$183,3,FALSE),0)","v":"105407-Posta de Salud Rural Tambillo"},{"$f":"IFERROR(VLOOKUP(Tabla_SERIED_11_6[[#This Row],[IdEstablecimiento]],'[2]Establecimiento 2023'!$A$1:$E$183,5,FALSE),0)","v":"04102-Coquimbo"},"16200220","2023-05-16T12:17:54",2,1,1]
[4,"5",2023,"105410",{"$f":"IFERROR(VLOOKUP(Tabla_SERIED_11_6[[#This Row],[IdEstablecimiento]],'[2]Establecimiento 2023'!$A$1:$E$183,3,FALSE),0)","v":"105410-Posta de Salud Rural Hurtado"},{"$f":"IFERROR(VLOOKUP(Tabla_SERIED_11_6[[#This Row],[IdEstablecimiento]],'[2]Establecimiento 2023'!$A$1:$E$183,5,FALSE),0)","v":"04305-Rio Hurtado"},"15010200","2023-05-16T16:00:16",4,{"$nulls":5},2,2]
[4,"5",2023,"105410",{"$f":"IFERROR(VLOOKUP(Tabla_SERIED_11_6[[#This Row],[IdEstablecimiento]],'[2]Establecimiento 2023'!$A$1:$E$183,3,FALSE),0)","v":"105410-Posta de Salud Rural Hurtado"},{"$f":"IFERROR(VLOOKUP(Tabla_SERIED_11_6[[#This Row],[IdEstablecimiento]],'[2]Establecimiento 2023'!$A$1:$E$183,5,FALSE),0)","v":"04305-Rio Hurtado"},"16200210","2023-05-16T16:00:16",2,2]
[4,"5",2023,"105414",{"$f":"IFERROR(VLOOKUP(Tabla_SERIED_11_6[[#This Row],[IdEstablecimiento]],'[2]Establecimiento 2023'!$A$1:$E$183,3,FALSE),0)","v":"105414-Posta de Salud Rural Serón"},{"$f":"IFERROR(VLOOKUP(Tabla_SERIED_11_6[[#This Row],[IdEstablecimiento]],'[2]Establecimiento 2023'!$A$1:$E$183,5,FALSE),0)","v":"04305-Rio Hurtado"},"16200220","2023-05-16T12:24:25",2,0,2]
[4,"5",2023,"105416",{"$f":"IFERROR(VLOOKUP(Tabla_SERIED_11_6[[#This Row],[IdEstablecimiento]],'[2]Establecimiento 2023'!$A$1:$E$183,3,FALSE),0)","v":"105416-Posta de Salud Rural Camarico (Ovalle)"},{"$f":"IFERROR(VLOOKUP(Tabla_SERIED_11_6[[#This Row],[IdEstablecimiento]],'[2]Establecimiento 2023'!$A$1:$E$183,5,FALSE),0)","v":"04301-Ovalle"},"15900010","2023-05-16T12:24:52",5.4,null,1.8,3.6]
[4,"5",2023,"105417",{"$f":"IFERROR(VLOOKUP(Tabla_SERIED_11_6[[#This Row],[IdEstablecimiento]],'[2]Establecimiento 2023'!$A$1:$E$183,3,FALSE),0)","v":"105417-Posta de Salud Rural Alcones Bajo"},{"$f":"IFERROR(VLOOKUP(Tabla_SERIED_11_6[[#This Row],[IdEstablecimiento]],'[2]Establecimiento 2023'!$A$1:$E$183,5,FALSE),0)","v":"04301-Ovalle"},"15900010","2023-05-16T12:25:05",5.6,0.8,1.6,3.2]
[4,"5",2023,"105417",{"$f":"IFERROR(VLOOKUP(Tabla_SERIED_11_6[[#This Row],[IdEstablecimiento]],'[2]Establecimiento 2023'!$A$1:$E$183,3,FALSE),0)","v":"105417-Posta de Salud Rural Alcones Bajo"},{"$f":"IFERROR(VLOOKUP(Tabla_SERIED_11_6[[#This Row],[IdEstablecimiento]],'[2]Establecimiento 2023'!$A$1:$E$183,5,FALSE),0)","v":"04301-Ovalle"},"16200210","2023-05-16T12:25:05",8,8]
[4,"5",2023,"105417",{"$f":"IFERROR(VLOOKUP(Tabla_SERIED_11_6[[#This Row],[IdEstablecimiento]],'[2]Establecimiento 2023'!$A$1:$E$183,3,FALSE),0)","v":"105417-Posta de Salud Rural Alcones Bajo"},{"$f":"IFERROR(VLOOKUP(Tabla_SERIED_11_6[[#This Row],[IdEstablecimiento]],'[2]Establecimiento 2023'!$A$1:$E$183,5,FALSE),0)","v":"04301-Ovalle"},"16200220","2023-05-16T12:25:05",8,1,7]
[4,"5",2023,"105419",{"$f":"IFERROR(VLOOKUP(Tabla_SERIED_11_6[[#This Row],[IdEstablecimiento]],'[2]Establecimiento 2023'!$A$1:$E$183,3,FALSE),0)","v":"105419-Posta de Salud Rural Las Sossas"},{"$f":"IFERROR(VLOOKUP(Tabla_SERIED_11_6[[#This Row],[IdEstablecimiento]],'[2]Establecimiento 2023'!$A$1:$E$183,5,FALSE),0)","v":"04301-Ovalle"},"15010200","2023-05-16T12:25:20",4,{"$nulls":6},4]
[4,"5",2023,"105419",{"$f":"IFERROR(VLOOKUP(Tabla_SERIED_11_6[[#This Row],[IdEstablecimiento]],'[2]Establecimiento 2023'!$A$1:$E$183,3,FALSE),0)","v":"105419-Posta de Salud Rural Las Sossas"},{"$f":"IFERROR(VLOOKUP(Tabla_SERIED_11_6[[#This Row],[IdEstablecimiento]],'[2]Establecimiento 2023'!$A$1:$E$183,5,FALSE),0)","v":"04301-Ovalle"},"16100300","2023-05-16T12:25:20",48,20,28]
[4,"5",2023,"105425",{"$f":"IFERROR(VLOOKUP(Tabla_SERIED_11_6[[#This Row],[IdEstablecimiento]],'[2]Establecimiento 2023'!$A$1:$E$183,3,FALSE),0)","v":"105425-Posta de Salud Rural Chilecito"},{"$f":"IFERROR(VLOOKUP(Tabla_SERIED_11_6[[#This Row],[IdEstablecimiento]],'[2]Establecimiento 2023'!$A$1:$E$183,5,FALSE),0)","v":"04303-Monte Patria"},"15900010","2023-05-16T12:25:48",2.4,null,null,2.4]
[4,"5",2023,"105427",{"$f":"IFERROR(VLOOKUP(Tabla_SERIED_11_6[[#This Row],[IdEstablecimiento]],'[2]Establecimiento 2023'!$A$1:$E$183,3,FALSE),0)","v":"105427-Posta de Salud Rural Hacienda Valdivia"},{"$f":"IFERROR(VLOOKUP(Tabla_SERIED_11_6[[#This Row],[IdEstablecimiento]],'[2]Establecimiento 2023'!$A$1:$E$183,5,FALSE),0)","v":"04303-Monte Patria"},"15900010","2023-05-16T12:26:03",5.4,null,4.5,0.9]
[4,"5",2023,"105428",{"$f":"IFERROR(VLOOKUP(Tabla_SERIED_11_6[[#This Row],[IdEstablecimiento]],'[2]Establecimiento 2023'!$A$1:$E$183,3,FALSE),0)","v":"105428-Posta de Salud Rural Huatulame"},{"$f":"IFERROR(VLOOKUP(Tabla_SERIED_11_6[[#This Row],[IdEstablecimiento]],'[2]Establecimiento 2023'!$A$1:$E$183,5,FALSE),0)","v":"04303-Monte Patria"},"16090300","2023-05-16T12:26:17",71,71]
[4,"5",2023,"105432",{"$f":"IFERROR(VLOOKUP(Tabla_SERIED_11_6[[#This Row],[IdEstablecimiento]],'[2]Establecimiento 2023'!$A$1:$E$183,3,FALSE),0)","v":"105432-Posta de Salud Rural Rapel (Monte Patria)"},{"$f":"IFERROR(VLOOKUP(Tabla_SERIED_11_6[[#This Row],[IdEstablecimiento]],'[2]Establecimiento 2023'!$A$1:$E$183,5,FALSE),0)","v":"04303-Monte Patria"},"15010300","2023-05-16T12:26:59",2,{"$nulls":3},2]
[4,"5",2023,"105433",{"$f":"IFERROR(VLOOKUP(Tabla_SERIED_11_6[[#This Row],[IdEstablecimiento]],'[2]Establecimiento 2023'!$A$1:$E$183,3,FALSE),0)","v":"105433-Posta de Salud Rural San Lorenzo (Combarbalá)"},{"$f":"IFERROR(VLOOKUP(Tabla_SERIED_11_6[[#This Row],[IdEstablecimiento]],'[2]Establecimiento 2023'!$A$1:$E$183,5,FALSE),0)","v":"04302-Combarbalá"},"15010200","2023-05-16T12:27:10",4,{"$nulls":6},4]
[4,"5",2023,"105433",{"$f":"IFERROR(VLOOKUP(Tabla_SERIED_11_6[[#This Row],[IdEstablecimiento]],'[2]Establecimiento 2023'!$A$1:$E$183,3,FALSE),0)","v":"105433-Posta de Salud Rural San Lorenzo (Combarbalá)"},{"$f":"IFERROR(VLOOKUP(Tabla_SERIED_11_6[[#This Row],[IdEstablecimiento]],'[2]Establecimiento 2023'!$A$1:$E$183,5,FALSE),0)","v":"04302-Combarbalá"},"15050100","2023-05-16T12:27:10",2,2,{"$nulls":7},2]
[4,"5",2023,"105434",{"$f":"IFERROR(VLOOKUP(Tabla_SERIED_11_6[[#This Row],[IdEstablecimiento]],'[2]Establecimiento 2023'!$A$1:$E$183,3,FALSE),0)","v":"105434-Posta de Salud Rural San Marcos (Combarbalá)"},{"$f":"IFERROR(VLOOKUP(Tabla_SERIED_11_6[[#This Row],[IdEstablecimiento]],'[2]Establecimiento 2023'!$A$1:$E$183,5,FALSE),0)","v":"04302-Combarbalá"},"16090300","2023-05-16T12:27:21",49,49]
[4,"5",2023,"105435",{"$f":"IFERROR(VLOOKUP(Tabla_SERIED_11_6[[#This Row],[IdEstablecimiento]],'[2]Establecimiento 2023'!$A$1:$E$183,3,FALSE),0)","v":"105435-Posta de Salud Rural Tulahuén"},{"$f":"IFERROR(VLOOKUP(Tabla_SERIED_11_6[[#This Row],[IdEstablecimiento]],'[2]Establecimiento 2023'!$A$1:$E$183,5,FALSE),0)","v":"04303-Monte Patria"},"15010400","2023-05-16T12:27:36",2,{"$nulls":6},2]
[4,"5",2023,"105437",{"$f":"IFERROR(VLOOKUP(Tabla_SERIED_11_6[[#This Row],[IdEstablecimiento]],'[2]Establecimiento 2023'!$A$1:$E$183,3,FALSE),0)","v":"105437-Posta de Salud Rural Chalinga"},{"$f":"IFERROR(VLOOKUP(Tabla_SERIED_11_6[[#This Row],[IdEstablecimiento]],'[2]Establecimiento 2023'!$A$1:$E$183,5,FALSE),0)","v":"04301-Ovalle"},"15030100","2023-05-16T12:29:01",6.4,6.4]
[4,"5",2023,"105437",{"$f":"IFERROR(VLOOKUP(Tabla_SERIED_11_6[[#This Row],[IdEstablecimiento]],'[2]Establecimiento 2023'!$A$1:$E$183,3,FALSE),0)","v":"105437-Posta de Salud Rural Chalinga"},{"$f":"IFERROR(VLOOKUP(Tabla_SERIED_11_6[[#This Row],[IdEstablecimiento]],'[2]Establecimiento 2023'!$A$1:$E$183,5,FALSE),0)","v":"04301-Ovalle"},"16090300","2023-05-16T12:29:01",116,116]
[4,"5",2023,"105441",{"$f":"IFERROR(VLOOKUP(Tabla_SERIED_11_6[[#This Row],[IdEstablecimiento]],'[2]Establecimiento 2023'!$A$1:$E$183,3,FALSE),0)","v":"105441-Posta de Salud Rural Manquehua"},{"$f":"IFERROR(VLOOKUP(Tabla_SERIED_11_6[[#This Row],[IdEstablecimiento]],'[2]Establecimiento 2023'!$A$1:$E$183,5,FALSE),0)","v":"04302-Combarbalá"},"15010200","2023-05-16T12:29:42",10,{"$nulls":5},4,6]
[4,"5",2023,"105441",{"$f":"IFERROR(VLOOKUP(Tabla_SERIED_11_6[[#This Row],[IdEstablecimiento]],'[2]Establecimiento 2023'!$A$1:$E$183,3,FALSE),0)","v":"105441-Posta de Salud Rural Manquehua"},{"$f":"IFERROR(VLOOKUP(Tabla_SERIED_11_6[[#This Row],[IdEstablecimiento]],'[2]Establecimiento 2023'!$A$1:$E$183,5,FALSE),0)","v":"04302-Combarbalá"},"16090300","2023-05-16T12:29:42",90,90]
[4,"5",2023,"105443",{"$f":"IFERROR(VLOOKUP(Tabla_SERIED_11_6[[#This Row],[IdEstablecimiento]],'[2]Establecimiento 2023'!$A$1:$E$183,3,FALSE),0)","v":"105443-Posta de Salud Rural Cárcamo"},{"$f":"IFERROR(VLOOKUP(Tabla_SERIED_11_6[[#This Row],[IdEstablecimiento]],'[2]Establecimiento 2023'!$A$1:$E$183,5,FALSE),0)","v":"04201-Illapel"},"16200210","2023-05-16T12:30:09",4,4]
[4,"5",2023,"105444",{"$f":"IFERROR(VLOOKUP(Tabla_SERIED_11_6[[#This Row],[IdEstablecimiento]],'[2]Establecimiento 2023'!$A$1:$E$183,3,FALSE),0)","v":"105444-Posta de Salud Rural Huintil"},{"$f":"IFERROR(VLOOKUP(Tabla_SERIED_11_6[[#This Row],[IdEstablecimiento]],'[2]Establecimiento 2023'!$A$1:$E$183,5,FALSE),0)","v":"04201-Illapel"},"15080008","2023-05-16T14:17:07",3,{"$nulls":9},2,null,1]
[4,"5",2023,"105445",{"$f":"IFERROR(VLOOKUP(Tabla_SERIED_11_6[[#This Row],[IdEstablecimiento]],'[2]Establecimiento 2023'!$A$1:$E$183,3,FALSE),0)","v":"105445-Posta de Salud Rural Limáhuida"},{"$f":"IFERROR(VLOOKUP(Tabla_SERIED_11_6[[#This Row],[IdEstablecimiento]],'[2]Establecimiento 2023'!$A$1:$E$183,5,FALSE),0)","v":"04201-Illapel"},"16200220","2023-05-16T14:17:23",7,5,2]
[4,"5",2023,"105449",{"$f":"IFERROR(VLOOKUP(Tabla_SERIED_11_6[[#This Row],[IdEstablecimiento]],'[2]Establecimiento 2023'!$A$1:$E$183,3,FALSE),0)","v":"105449-Posta de Salud Rural Tunga Norte"},{"$f":"IFERROR(VLOOKUP(Tabla_SERIED_11_6[[#This Row],[IdEstablecimiento]],'[2]Establecimiento 2023'!$A$1:$E$183,5,FALSE),0)","v":"04201-Illapel"},"16090300","2023-05-16T14:18:21",26,26]
[4,"5",2023,"105449",{"$f":"IFERROR(VLOOKUP(Tabla_SERIED_11_6[[#This Row],[IdEstablecimiento]],'[2]Establecimiento 2023'!$A$1:$E$183,3,FALSE),0)","v":"105449-Posta de Salud Rural Tunga Norte"},{"$f":"IFERROR(VLOOKUP(Tabla_SERIED_11_6[[#This Row],[IdEstablecimiento]],'[2]Establecimiento 2023'!$A$1:$E$183,5,FALSE),0)","v":"04201-Illapel"},"16090500","2023-05-16T14:18:21",1,1]
[4,"5",2023,"105450",{"$f":"IFERROR(VLOOKUP(Tabla_SERIED_11_6[[#This Row],[IdEstablecimiento]],'[2]Establecimiento 2023'!$A$1:$E$183,3,FALSE),0)","v":"105450-Posta de Salud Rural Mincha Norte"},{"$f":"IFERROR(VLOOKUP(Tabla_SERIED_11_6[[#This Row],[IdEstablecimiento]],'[2]Establecimiento 2023'!$A$1:$E$183,5,FALSE),0)","v":"04202-Canela"},"16100700","2023-05-16T14:18:33",1,1]
[4,"5",2023,"105451",{"$f":"IFERROR(VLOOKUP(Tabla_SERIED_11_6[[#This Row],[IdEstablecimiento]],'[2]Establecimiento 2023'!$A$1:$E$183,3,FALSE),0)","v":"105451-Posta de Salud Rural Agua Fría"},{"$f":"IFERROR(VLOOKUP(Tabla_SERIED_11_6[[#This Row],[IdEstablecimiento]],'[2]Establecimiento 2023'!$A$1:$E$183,5,FALSE),0)","v":"04202-Canela"},"15010200","2023-05-16T14:18:49",6,{"$nulls":5},4,2]
[4,"5",2023,"105451",{"$f":"IFERROR(VLOOKUP(Tabla_SERIED_11_6[[#This Row],[IdEstablecimiento]],'[2]Establecimiento 2023'!$A$1:$E$183,3,FALSE),0)","v":"105451-Posta de Salud Rural Agua Fría"},{"$f":"IFERROR(VLOOKUP(Tabla_SERIED_11_6[[#This Row],[IdEstablecimiento]],'[2]Establecimiento 2023'!$A$1:$E$183,5,FALSE),0)","v":"04202-Canela"},"16100300","2023-05-16T14:18:49",78,39,39]
[4,"5",2023,"105453",{"$f":"IFERROR(VLOOKUP(Tabla_SERIED_11_6[[#This Row],[IdEstablecimiento]],'[2]Establecimiento 2023'!$A$1:$E$183,3,FALSE),0)","v":"105453-Posta de Salud Rural Tranquilla"},{"$f":"IFERROR(VLOOKUP(Tabla_SERIED_11_6[[#This Row],[IdEstablecimiento]],'[2]Establecimiento 2023'!$A$1:$E$183,5,FALSE),0)","v":"04204-Salamanca"},"15050100","2023-05-16T14:19:23",36,21,16,null,null,2,1,null,13,16,1,null,1,null,2]
[4,"5",2023,"105453",{"$f":"IFERROR(VLOOKUP(Tabla_SERIED_11_6[[#This Row],[IdEstablecimiento]],'[2]Establecimiento 2023'!$A$1:$E$183,3,FALSE),0)","v":"105453-Posta de Salud Rural Tranquilla"},{"$f":"IFERROR(VLOOKUP(Tabla_SERIED_11_6[[#This Row],[IdEstablecimiento]],'[2]Establecimiento 2023'!$A$1:$E$183,5,FALSE),0)","v":"04204-Salamanca"},"15900010","2023-05-16T14:19:23",1.6,null,null,1.6]
[4,"5",2023,"105454",{"$f":"IFERROR(VLOOKUP(Tabla_SERIED_11_6[[#This Row],[IdEstablecimiento]],'[2]Establecimiento 2023'!$A$1:$E$183,3,FALSE),0)","v":"105454-Posta de Salud Rural Cunlagua"},{"$f":"IFERROR(VLOOKUP(Tabla_SERIED_11_6[[#This Row],[IdEstablecimiento]],'[2]Establecimiento 2023'!$A$1:$E$183,5,FALSE),0)","v":"04204-Salamanca"},"16090300","2023-05-16T14:19:36",48,48]
[4,"5",2023,"105455",{"$f":"IFERROR(VLOOKUP(Tabla_SERIED_11_6[[#This Row],[IdEstablecimiento]],'[2]Establecimiento 2023'!$A$1:$E$183,3,FALSE),0)","v":"105455-CESFAM Valle Alto"},{"$f":"IFERROR(VLOOKUP(Tabla_SERIED_11_6[[#This Row],[IdEstablecimiento]],'[2]Establecimiento 2023'!$A$1:$E$183,5,FALSE),0)","v":"04204-Salamanca"},"15020100","2023-05-16T14:19:48",1,null,1]
[4,"5",2023,"105455",{"$f":"IFERROR(VLOOKUP(Tabla_SERIED_11_6[[#This Row],[IdEstablecimiento]],'[2]Establecimiento 2023'!$A$1:$E$183,3,FALSE),0)","v":"105455-CESFAM Valle Alto"},{"$f":"IFERROR(VLOOKUP(Tabla_SERIED_11_6[[#This Row],[IdEstablecimiento]],'[2]Establecimiento 2023'!$A$1:$E$183,5,FALSE),0)","v":"04204-Salamanca"},"15080014","2023-05-16T14:19:48",4,{"$nulls":3},2,2]
[4,"5",2023,"105455",{"$f":"IFERROR(VLOOKUP(Tabla_SERIED_11_6[[#This Row],[IdEstablecimiento]],'[2]Establecimiento 2023'!$A$1:$E$183,3,FALSE),0)","v":"105455-CESFAM Valle Alto"},{"$f":"IFERROR(VLOOKUP(Tabla_SERIED_11_6[[#This Row],[IdEstablecimiento]],'[2]Establecimiento 2023'!$A$1:$E$183,5,FALSE),0)","v":"04204-Salamanca"},"15900010","2023-05-16T14:19:48",3.6,2.7,null,0.9]
[4,"5",2023,"105456",{"$f":"IFERROR(VLOOKUP(Tabla_SERIED_11_6[[#This Row],[IdEstablecimiento]],'[2]Establecimiento 2023'!$A$1:$E$183,3,FALSE),0)","v":"105456-Posta de Salud Rural Llimpo"},{"$f":"IFERROR(VLOOKUP(Tabla_SERIED_11_6[[#This Row],[IdEstablecimiento]],'[2]Establecimiento 2023'!$A$1:$E$183,5,FALSE),0)","v":"04204-Salamanca"},"15050100","2023-05-16T14:19:58",24,12,12,null,null,2,2,null,8,6,2,null,1,null,3]
[4,"5",2023,"105456",{"$f":"IFERROR(VLOOKUP(Tabla_SERIED_11_6[[#This Row],[IdEstablecimiento]],'[2]Establecimiento 2023'!$A$1:$E$183,3,FALSE),0)","v":"105456-Posta de Salud Rural Llimpo"},{"$f":"IFERROR(VLOOKUP(Tabla_SERIED_11_6[[#This Row],[IdEstablecimiento]],'[2]Establecimiento 2023'!$A$1:$E$183,5,FALSE),0)","v":"04204-Salamanca"},"16100300","2023-05-16T14:19:58",33,15,18]
[4,"5",2023,"105457",{"$f":"IFERROR(VLOOKUP(Tabla_SERIED_11_6[[#This Row],[IdEstablecimiento]],'[2]Establecimiento 2023'!$A$1:$E$183,3,FALSE),0)","v":"105457-Posta de Salud Rural San Agustín (Salamanca)"},{"$f":"IFERROR(VLOOKUP(Tabla_SERIED_11_6[[#This Row],[IdEstablecimiento]],'[2]Establecimiento 2023'!$A$1:$E$183,5,FALSE),0)","v":"04204-Salamanca"},"15080008","2023-05-16T14:20:12",1,{"$nulls":7},1]
[4,"5",2023,"105457",{"$f":"IFERROR(VLOOKUP(Tabla_SERIED_11_6[[#This Row],[IdEstablecimiento]],'[2]Establecimiento 2023'!$A$1:$E$183,3,FALSE),0)","v":"105457-Posta de Salud Rural San Agustín (Salamanca)"},{"$f":"IFERROR(VLOOKUP(Tabla_SERIED_11_6[[#This Row],[IdEstablecimiento]],'[2]Establecimiento 2023'!$A$1:$E$183,5,FALSE),0)","v":"04204-Salamanca"},"15900010","2023-05-16T14:20:12",6.4,null,4,2.4]
[4,"5",2023,"105457",{"$f":"IFERROR(VLOOKUP(Tabla_SERIED_11_6[[#This Row],[IdEstablecimiento]],'[2]Establecimiento 2023'!$A$1:$E$183,3,FALSE),0)","v":"105457-Posta de Salud Rural San Agustín (Salamanca)"},{"$f":"IFERROR(VLOOKUP(Tabla_SERIED_11_6[[#This Row],[IdEstablecimiento]],'[2]Establecimiento 2023'!$A$1:$E$183,5,FALSE),0)","v":"04204-Salamanca"},"16090300","2023-05-16T14:20:12",61,61]
[4,"5",2023,"105460",{"$f":"IFERROR(VLOOKUP(Tabla_SERIED_11_6[[#This Row],[IdEstablecimiento]],'[2]Establecimiento 2023'!$A$1:$E$183,3,FALSE),0)","v":"105460-Centro Comunitario de Salud Familiar Cogotí 18"},{"$f":"IFERROR(VLOOKUP(Tabla_SERIED_11_6[[#This Row],[IdEstablecimiento]],'[2]Establecimiento 2023'!$A$1:$E$183,5,FALSE),0)","v":"04302-Combarbalá"},"15030100","2023-05-16T14:21:14",1.6,1.6]
[4,"5",2023,"105461",{"$f":"IFERROR(VLOOKUP(Tabla_SERIED_11_6[[#This Row],[IdEstablecimiento]],'[2]Establecimiento 2023'!$A$1:$E$183,3,FALSE),0)","v":"105461-Posta de Salud Rural El Huacho"},{"$f":"IFERROR(VLOOKUP(Tabla_SERIED_11_6[[#This Row],[IdEstablecimiento]],'[2]Establecimiento 2023'!$A$1:$E$183,5,FALSE),0)","v":"04302-Combarbalá"},"15010200","2023-05-16T14:21:26",4,{"$nulls":5},2,2]
[4,"5",2023,"105461",{"$f":"IFERROR(VLOOKUP(Tabla_SERIED_11_6[[#This Row],[IdEstablecimiento]],'[2]Establecimiento 2023'!$A$1:$E$183,3,FALSE),0)","v":"105461-Posta de Salud Rural El Huacho"},{"$f":"IFERROR(VLOOKUP(Tabla_SERIED_11_6[[#This Row],[IdEstablecimiento]],'[2]Establecimiento 2023'!$A$1:$E$183,5,FALSE),0)","v":"04302-Combarbalá"},"15080014","2023-05-16T14:21:26",6,{"$nulls":3},4,2]
[4,"5",2023,"105461",{"$f":"IFERROR(VLOOKUP(Tabla_SERIED_11_6[[#This Row],[IdEstablecimiento]],'[2]Establecimiento 2023'!$A$1:$E$183,3,FALSE),0)","v":"105461-Posta de Salud Rural El Huacho"},{"$f":"IFERROR(VLOOKUP(Tabla_SERIED_11_6[[#This Row],[IdEstablecimiento]],'[2]Establecimiento 2023'!$A$1:$E$183,5,FALSE),0)","v":"04302-Combarbalá"},"16200210","2023-05-16T14:21:26",2,2]
[4,"5",2023,"105464",{"$f":"IFERROR(VLOOKUP(Tabla_SERIED_11_6[[#This Row],[IdEstablecimiento]],'[2]Establecimiento 2023'!$A$1:$E$183,3,FALSE),0)","v":"105464-Posta de Salud Rural La Ligua"},{"$f":"IFERROR(VLOOKUP(Tabla_SERIED_11_6[[#This Row],[IdEstablecimiento]],'[2]Establecimiento 2023'!$A$1:$E$183,5,FALSE),0)","v":"04302-Combarbalá"},"15080008","2023-05-16T14:22:03",4,{"$nulls":7},3,{"$nulls":3},1]
[4,"5",2023,"105464",{"$f":"IFERROR(VLOOKUP(Tabla_SERIED_11_6[[#This Row],[IdEstablecimiento]],'[2]Establecimiento 2023'!$A$1:$E$183,3,FALSE),0)","v":"105464-Posta de Salud Rural La Ligua"},{"$f":"IFERROR(VLOOKUP(Tabla_SERIED_11_6[[#This Row],[IdEstablecimiento]],'[2]Establecimiento 2023'!$A$1:$E$183,5,FALSE),0)","v":"04302-Combarbalá"},"16090500","2023-05-16T14:22:03",1,1]
[4,"5",2023,"105465",{"$f":"IFERROR(VLOOKUP(Tabla_SERIED_11_6[[#This Row],[IdEstablecimiento]],'[2]Establecimiento 2023'!$A$1:$E$183,3,FALSE),0)","v":"105465-Posta de Salud Rural Ramadilla"},{"$f":"IFERROR(VLOOKUP(Tabla_SERIED_11_6[[#This Row],[IdEstablecimiento]],'[2]Establecimiento 2023'!$A$1:$E$183,5,FALSE),0)","v":"04302-Combarbalá"},"16200210","2023-05-16T14:22:15",8,8]
[4,"5",2023,"105467",{"$f":"IFERROR(VLOOKUP(Tabla_SERIED_11_6[[#This Row],[IdEstablecimiento]],'[2]Establecimiento 2023'!$A$1:$E$183,3,FALSE),0)","v":"105467-Posta de Salud Rural Diaguitas"},{"$f":"IFERROR(VLOOKUP(Tabla_SERIED_11_6[[#This Row],[IdEstablecimiento]],'[2]Establecimiento 2023'!$A$1:$E$183,5,FALSE),0)","v":"04106-Vicuña"},"15010400","2023-05-16T14:22:38",4,{"$nulls":6},4]
[4,"5",2023,"105469",{"$f":"IFERROR(VLOOKUP(Tabla_SERIED_11_6[[#This Row],[IdEstablecimiento]],'[2]Establecimiento 2023'!$A$1:$E$183,3,FALSE),0)","v":"105469-Posta de Salud Rural El Tambo (Vicuña)"},{"$f":"IFERROR(VLOOKUP(Tabla_SERIED_11_6[[#This Row],[IdEstablecimiento]],'[2]Establecimiento 2023'!$A$1:$E$183,5,FALSE),0)","v":"04106-Vicuña"},"15010200","2023-05-16T14:23:14",26,{"$nulls":4},2,8,16]
[4,"5",2023,"105469",{"$f":"IFERROR(VLOOKUP(Tabla_SERIED_11_6[[#This Row],[IdEstablecimiento]],'[2]Establecimiento 2023'!$A$1:$E$183,3,FALSE),0)","v":"105469-Posta de Salud Rural El Tambo (Vicuña)"},{"$f":"IFERROR(VLOOKUP(Tabla_SERIED_11_6[[#This Row],[IdEstablecimiento]],'[2]Establecimiento 2023'!$A$1:$E$183,5,FALSE),0)","v":"04106-Vicuña"},"15080008","2023-05-16T14:23:14",9,{"$nulls":7},4,null,null,1,4]
[4,"5",2023,"105469",{"$f":"IFERROR(VLOOKUP(Tabla_SERIED_11_6[[#This Row],[IdEstablecimiento]],'[2]Establecimiento 2023'!$A$1:$E$183,3,FALSE),0)","v":"105469-Posta de Salud Rural El Tambo (Vicuña)"},{"$f":"IFERROR(VLOOKUP(Tabla_SERIED_11_6[[#This Row],[IdEstablecimiento]],'[2]Establecimiento 2023'!$A$1:$E$183,5,FALSE),0)","v":"04106-Vicuña"},"15900020","2023-05-16T14:23:14",3.2,null,null,3.2]
[4,"5",2023,"105469",{"$f":"IFERROR(VLOOKUP(Tabla_SERIED_11_6[[#This Row],[IdEstablecimiento]],'[2]Establecimiento 2023'!$A$1:$E$183,3,FALSE),0)","v":"105469-Posta de Salud Rural El Tambo (Vicuña)"},{"$f":"IFERROR(VLOOKUP(Tabla_SERIED_11_6[[#This Row],[IdEstablecimiento]],'[2]Establecimiento 2023'!$A$1:$E$183,5,FALSE),0)","v":"04106-Vicuña"},"16200220","2023-05-16T14:23:14",2,1,1]
[4,"5",2023,"105471",{"$f":"IFERROR(VLOOKUP(Tabla_SERIED_11_6[[#This Row],[IdEstablecimiento]],'[2]Establecimiento 2023'!$A$1:$E$183,3,FALSE),0)","v":"105471-Posta de Salud Rural Peralillo Vicuña"},{"$f":"IFERROR(VLOOKUP(Tabla_SERIED_11_6[[#This Row],[IdEstablecimiento]],'[2]Establecimiento 2023'!$A$1:$E$183,5,FALSE),0)","v":"04106-Vicuña"},"15050200","2023-05-16T14:23:53",1,null,1,{"$nulls":3},1]
[4,"5",2023,"105471",{"$f":"IFERROR(VLOOKUP(Tabla_SERIED_11_6[[#This Row],[IdEstablecimiento]],'[2]Establecimiento 2023'!$A$1:$E$183,3,FALSE),0)","v":"105471-Posta de Salud Rural Peralillo Vicuña"},{"$f":"IFERROR(VLOOKUP(Tabla_SERIED_11_6[[#This Row],[IdEstablecimiento]],'[2]Establecimiento 2023'!$A$1:$E$183,5,FALSE),0)","v":"04106-Vicuña"},"15080014","2023-05-16T14:23:53",2,{"$nulls":4},2]
[4,"5",2023,"105472",{"$f":"IFERROR(VLOOKUP(Tabla_SERIED_11_6[[#This Row],[IdEstablecimiento]],'[2]Establecimiento 2023'!$A$1:$E$183,3,FALSE),0)","v":"105472-Posta de Salud Rural Rivadavia"},{"$f":"IFERROR(VLOOKUP(Tabla_SERIED_11_6[[#This Row],[IdEstablecimiento]],'[2]Establecimiento 2023'!$A$1:$E$183,5,FALSE),0)","v":"04106-Vicuña"},"16200220","2023-05-16T14:24:06",8,4,4]
[4,"5",2023,"105476",{"$f":"IFERROR(VLOOKUP(Tabla_SERIED_11_6[[#This Row],[IdEstablecimiento]],'[2]Establecimiento 2023'!$A$1:$E$183,3,FALSE),0)","v":"105476-Posta de Salud Rural Monte Grande"},{"$f":"IFERROR(VLOOKUP(Tabla_SERIED_11_6[[#This Row],[IdEstablecimiento]],'[2]Establecimiento 2023'!$A$1:$E$183,5,FALSE),0)","v":"04105-Paihuano"},"16090300","2023-05-16T14:25:10",12,12]
[4,"5",2023,"105477",{"$f":"IFERROR(VLOOKUP(Tabla_SERIED_11_6[[#This Row],[IdEstablecimiento]],'[2]Establecimiento 2023'!$A$1:$E$183,3,FALSE),0)","v":"105477-Posta de Salud Rural Pisco Elqui"},{"$f":"IFERROR(VLOOKUP(Tabla_SERIED_11_6[[#This Row],[IdEstablecimiento]],'[2]Establecimiento 2023'!$A$1:$E$183,5,FALSE),0)","v":"04105-Paihuano"},"15010500","2023-05-16T14:25:24",2,{"$nulls":5},2]
[4,"5",2023,"105477",{"$f":"IFERROR(VLOOKUP(Tabla_SERIED_11_6[[#This Row],[IdEstablecimiento]],'[2]Establecimiento 2023'!$A$1:$E$183,3,FALSE),0)","v":"105477-Posta de Salud Rural Pisco Elqui"},{"$f":"IFERROR(VLOOKUP(Tabla_SERIED_11_6[[#This Row],[IdEstablecimiento]],'[2]Establecimiento 2023'!$A$1:$E$183,5,FALSE),0)","v":"04105-Paihuano"},"15080016","2023-05-16T14:25:24",2,{"$nulls":5},2]
[4,"5",2023,"105478",{"$f":"IFERROR(VLOOKUP(Tabla_SERIED_11_6[[#This Row],[IdEstablecimiento]],'[2]Establecimiento 2023'!$A$1:$E$183,3,FALSE),0)","v":"105478-Posta de Salud Rural Caimanes"},{"$f":"IFERROR(VLOOKUP(Tabla_SERIED_11_6[[#This Row],[IdEstablecimiento]],'[2]Establecimiento 2023'!$A$1:$E$183,5,FALSE),0)","v":"04203-Los Vilos"},"15010200","2023-05-16T14:25:35",46,{"$nulls":5},22,24]
[4,"5",2023,"105478",{"$f":"IFERROR(VLOOKUP(Tabla_SERIED_11_6[[#This Row],[IdEstablecimiento]],'[2]Establecimiento 2023'!$A$1:$E$183,3,FALSE),0)","v":"105478-Posta de Salud Rural Caimanes"},{"$f":"IFERROR(VLOOKUP(Tabla_SERIED_11_6[[#This Row],[IdEstablecimiento]],'[2]Establecimiento 2023'!$A$1:$E$183,5,FALSE),0)","v":"04203-Los Vilos"},"15050200","2023-05-16T14:25:35",1,1,{"$nulls":6},1]
[4,"5",2023,"105478",{"$f":"IFERROR(VLOOKUP(Tabla_SERIED_11_6[[#This Row],[IdEstablecimiento]],'[2]Establecimiento 2023'!$A$1:$E$183,3,FALSE),0)","v":"105478-Posta de Salud Rural Caimanes"},{"$f":"IFERROR(VLOOKUP(Tabla_SERIED_11_6[[#This Row],[IdEstablecimiento]],'[2]Establecimiento 2023'!$A$1:$E$183,5,FALSE),0)","v":"04203-Los Vilos"},"15080014","2023-05-16T14:25:35",12,{"$nulls":3},4,8]
[4,"5",2023,"105480",{"$f":"IFERROR(VLOOKUP(Tabla_SERIED_11_6[[#This Row],[IdEstablecimiento]],'[2]Establecimiento 2023'!$A$1:$E$183,3,FALSE),0)","v":"105480-Posta de Salud Rural Quilimarí"},{"$f":"IFERROR(VLOOKUP(Tabla_SERIED_11_6[[#This Row],[IdEstablecimiento]],'[2]Establecimiento 2023'!$A$1:$E$183,5,FALSE),0)","v":"04203-Los Vilos"},"15010200","2023-05-16T14:25:58",52,{"$nulls":5},28,24]
[4,"5",2023,"105481",{"$f":"IFERROR(VLOOKUP(Tabla_SERIED_11_6[[#This Row],[IdEstablecimiento]],'[2]Establecimiento 2023'!$A$1:$E$183,3,FALSE),0)","v":"105481-Posta de Salud Rural Tilama"},{"$f":"IFERROR(VLOOKUP(Tabla_SERIED_11_6[[#This Row],[IdEstablecimiento]],'[2]Establecimiento 2023'!$A$1:$E$183,5,FALSE),0)","v":"04203-Los Vilos"},"16090300","2023-05-16T14:26:09",25,25]
[4,"5",2023,"105482",{"$f":"IFERROR(VLOOKUP(Tabla_SERIED_11_6[[#This Row],[IdEstablecimiento]],'[2]Establecimiento 2023'!$A$1:$E$183,3,FALSE),0)","v":"105482-Posta de Salud Rural Canela Alta"},{"$f":"IFERROR(VLOOKUP(Tabla_SERIED_11_6[[#This Row],[IdEstablecimiento]],'[2]Establecimiento 2023'!$A$1:$E$183,5,FALSE),0)","v":"04202-Canela"},"16200220","2023-05-16T14:26:20",4,1,3]
[4,"5",2023,"105484",{"$f":"IFERROR(VLOOKUP(Tabla_SERIED_11_6[[#This Row],[IdEstablecimiento]],'[2]Establecimiento 2023'!$A$1:$E$183,3,FALSE),0)","v":"105484-Posta de Salud Rural Huentelauquén"},{"$f":"IFERROR(VLOOKUP(Tabla_SERIED_11_6[[#This Row],[IdEstablecimiento]],'[2]Establecimiento 2023'!$A$1:$E$183,5,FALSE),0)","v":"04202-Canela"},"16100300","2023-05-16T14:26:44",53,22,31]
[4,"5",2023,"105487",{"$f":"IFERROR(VLOOKUP(Tabla_SERIED_11_6[[#This Row],[IdEstablecimiento]],'[2]Establecimiento 2023'!$A$1:$E$183,3,FALSE),0)","v":"105487-Posta de Salud Rural Cañas Uno"},{"$f":"IFERROR(VLOOKUP(Tabla_SERIED_11_6[[#This Row],[IdEstablecimiento]],'[2]Establecimiento 2023'!$A$1:$E$183,5,FALSE),0)","v":"04201-Illapel"},"15900030","2023-05-16T14:27:44",1.6,null,1.6]
[4,"5",2023,"105487",{"$f":"IFERROR(VLOOKUP(Tabla_SERIED_11_6[[#This Row],[IdEstablecimiento]],'[2]Establecimiento 2023'!$A$1:$E$183,3,FALSE),0)","v":"105487-Posta de Salud Rural Cañas Uno"},{"$f":"IFERROR(VLOOKUP(Tabla_SERIED_11_6[[#This Row],[IdEstablecimiento]],'[2]Establecimiento 2023'!$A$1:$E$183,5,FALSE),0)","v":"04201-Illapel"},"16200210","2023-05-16T14:27:44",42,42]
[4,"5",2023,"105489",{"$f":"IFERROR(VLOOKUP(Tabla_SERIED_11_6[[#This Row],[IdEstablecimiento]],'[2]Establecimiento 2023'!$A$1:$E$183,3,FALSE),0)","v":"105489-Posta de Salud Rural Ramadas de Tulahuén"},{"$f":"IFERROR(VLOOKUP(Tabla_SERIED_11_6[[#This Row],[IdEstablecimiento]],'[2]Establecimiento 2023'!$A$1:$E$183,5,FALSE),0)","v":"04303-Monte Patria"},"15080014","2023-05-16T14:28:10",8,{"$nulls":4},8]
[4,"5",2023,"105489",{"$f":"IFERROR(VLOOKUP(Tabla_SERIED_11_6[[#This Row],[IdEstablecimiento]],'[2]Establecimiento 2023'!$A$1:$E$183,3,FALSE),0)","v":"105489-Posta de Salud Rural Ramadas de Tulahuén"},{"$f":"IFERROR(VLOOKUP(Tabla_SERIED_11_6[[#This Row],[IdEstablecimiento]],'[2]Establecimiento 2023'!$A$1:$E$183,5,FALSE),0)","v":"04303-Monte Patria"},"15900010","2023-05-16T14:28:10",1.6,null,null,1.6]
[4,"5",2023,"105489",{"$f":"IFERROR(VLOOKUP(Tabla_SERIED_11_6[[#This Row],[IdEstablecimiento]],'[2]Establecimiento 2023'!$A$1:$E$183,3,FALSE),0)","v":"105489-Posta de Salud Rural Ramadas de Tulahuén"},{"$f":"IFERROR(VLOOKUP(Tabla_SERIED_11_6[[#This Row],[IdEstablecimiento]],'[2]Establecimiento 2023'!$A$1:$E$183,5,FALSE),0)","v":"04303-Monte Patria"},"16100300","2023-05-16T14:28:10",29,14,15]
[4,"5",2023,"105490",{"$f":"IFERROR(VLOOKUP(Tabla_SERIED_11_6[[#This Row],[IdEstablecimiento]],'[2]Establecimiento 2023'!$A$1:$E$183,3,FALSE),0)","v":"105490-Posta de Salud Rural El Durazno(Combarbalá)"},{"$f":"IFERROR(VLOOKUP(Tabla_SERIED_11_6[[#This Row],[IdEstablecimiento]],'[2]Establecimiento 2023'!$A$1:$E$183,5,FALSE),0)","v":"04302-Combarbalá"},"15080008","2023-05-16T14:28:21",3,{"$nulls":11},3]
[4,"5",2023,"105491",{"$f":"IFERROR(VLOOKUP(Tabla_SERIED_11_6[[#This Row],[IdEstablecimiento]],'[2]Establecimiento 2023'!$A$1:$E$183,3,FALSE),0)","v":"105491-Posta de Salud Rural Quelén Bajo"},{"$f":"IFERROR(VLOOKUP(Tabla_SERIED_11_6[[#This Row],[IdEstablecimiento]],'[2]Establecimiento 2023'!$A$1:$E$183,5,FALSE),0)","v":"04204-Salamanca"},"15010500","2023-05-16T14:28:54",4,{"$nulls":5},4]
[4,"5",2023,"105491",{"$f":"IFERROR(VLOOKUP(Tabla_SERIED_11_6[[#This Row],[IdEstablecimiento]],'[2]Establecimiento 2023'!$A$1:$E$183,3,FALSE),0)","v":"105491-Posta de Salud Rural Quelén Bajo"},{"$f":"IFERROR(VLOOKUP(Tabla_SERIED_11_6[[#This Row],[IdEstablecimiento]],'[2]Establecimiento 2023'!$A$1:$E$183,5,FALSE),0)","v":"04204-Salamanca"},"15900010","2023-05-16T14:28:54",12.6,null,5.8,6.8]
[4,"5",2023,"105492",{"$f":"IFERROR(VLOOKUP(Tabla_SERIED_11_6[[#This Row],[IdEstablecimiento]],'[2]Establecimiento 2023'!$A$1:$E$183,3,FALSE),0)","v":"105492-Posta de Salud Rural Camisa"},{"$f":"IFERROR(VLOOKUP(Tabla_SERIED_11_6[[#This Row],[IdEstablecimiento]],'[2]Establecimiento 2023'!$A$1:$E$183,5,FALSE),0)","v":"04204-Salamanca"},"15080008","2023-05-16T14:29:09",4,{"$nulls":7},2,null,null,1,1]
[4,"5",2023,"105492",{"$f":"IFERROR(VLOOKUP(Tabla_SERIED_11_6[[#This Row],[IdEstablecimiento]],'[2]Establecimiento 2023'!$A$1:$E$183,3,FALSE),0)","v":"105492-Posta de Salud Rural Camisa"},{"$f":"IFERROR(VLOOKUP(Tabla_SERIED_11_6[[#This Row],[IdEstablecimiento]],'[2]Establecimiento 2023'!$A$1:$E$183,5,FALSE),0)","v":"04204-Salamanca"},"15900010","2023-05-16T14:29:09",1.6,null,1.6]
[4,"5",2023,"105496",{"$f":"IFERROR(VLOOKUP(Tabla_SERIED_11_6[[#This Row],[IdEstablecimiento]],'[2]Establecimiento 2023'!$A$1:$E$183,3,FALSE),0)","v":"105496-Posta de Salud Rural Pintacura Sur"},{"$f":"IFERROR(VLOOKUP(Tabla_SERIED_11_6[[#This Row],[IdEstablecimiento]],'[2]Establecimiento 2023'!$A$1:$E$183,5,FALSE),0)","v":"04201-Illapel"},"16100300","2023-05-16T14:29:31",39,21,18]
[4,"5",2023,"105497",{"$f":"IFERROR(VLOOKUP(Tabla_SERIED_11_6[[#This Row],[IdEstablecimiento]],'[2]Establecimiento 2023'!$A$1:$E$183,3,FALSE),0)","v":"105497-Posta de Salud Rural Jabonería"},{"$f":"IFERROR(VLOOKUP(Tabla_SERIED_11_6[[#This Row],[IdEstablecimiento]],'[2]Establecimiento 2023'!$A$1:$E$183,5,FALSE),0)","v":"04202-Canela"},"15050100","2023-05-16T14:29:49",1,1,0,{"$nulls":4},1]
[4,"5",2023,"105497",{"$f":"IFERROR(VLOOKUP(Tabla_SERIED_11_6[[#This Row],[IdEstablecimiento]],'[2]Establecimiento 2023'!$A$1:$E$183,3,FALSE),0)","v":"105497-Posta de Salud Rural Jabonería"},{"$f":"IFERROR(VLOOKUP(Tabla_SERIED_11_6[[#This Row],[IdEstablecimiento]],'[2]Establecimiento 2023'!$A$1:$E$183,5,FALSE),0)","v":"04202-Canela"},"15080014","2023-05-16T14:29:49",2,{"$nulls":4},2]
[4,"5",2023,"105500",{"$f":"IFERROR(VLOOKUP(Tabla_SERIED_11_6[[#This Row],[IdEstablecimiento]],'[2]Establecimiento 2023'!$A$1:$E$183,3,FALSE),0)","v":"105500-Posta de Salud Rural Caleta Hornos"},{"$f":"IFERROR(VLOOKUP(Tabla_SERIED_11_6[[#This Row],[IdEstablecimiento]],'[2]Establecimiento 2023'!$A$1:$E$183,5,FALSE),0)","v":"04104-La Higuera"},"16090300","2023-07-19T15:19:20",29,29]
[4,"5",2023,"105501",{"$f":"IFERROR(VLOOKUP(Tabla_SERIED_11_6[[#This Row],[IdEstablecimiento]],'[2]Establecimiento 2023'!$A$1:$E$183,3,FALSE),0)","v":"105501-Posta de Salud Rural Arboleda Grande"},{"$f":"IFERROR(VLOOKUP(Tabla_SERIED_11_6[[#This Row],[IdEstablecimiento]],'[2]Establecimiento 2023'!$A$1:$E$183,5,FALSE),0)","v":"04204-Salamanca"},"15080014","2023-05-16T14:30:35",8,{"$nulls":3},2,6]
[4,"5",2023,"105504",{"$f":"IFERROR(VLOOKUP(Tabla_SERIED_11_6[[#This Row],[IdEstablecimiento]],'[2]Establecimiento 2023'!$A$1:$E$183,3,FALSE),0)","v":"105504-Posta de Salud Rural Socavón"},{"$f":"IFERROR(VLOOKUP(Tabla_SERIED_11_6[[#This Row],[IdEstablecimiento]],'[2]Establecimiento 2023'!$A$1:$E$183,5,FALSE),0)","v":"04201-Illapel"},"15050100","2023-05-16T14:31:19",3,2,1,{"$nulls":3},1,null,0,1,1,null,0]
[4,"5",2023,"105504",{"$f":"IFERROR(VLOOKUP(Tabla_SERIED_11_6[[#This Row],[IdEstablecimiento]],'[2]Establecimiento 2023'!$A$1:$E$183,3,FALSE),0)","v":"105504-Posta de Salud Rural Socavón"},{"$f":"IFERROR(VLOOKUP(Tabla_SERIED_11_6[[#This Row],[IdEstablecimiento]],'[2]Establecimiento 2023'!$A$1:$E$183,5,FALSE),0)","v":"04201-Illapel"},"16090300","2023-05-16T14:31:19",34,34]
[4,"5",2023,"105504",{"$f":"IFERROR(VLOOKUP(Tabla_SERIED_11_6[[#This Row],[IdEstablecimiento]],'[2]Establecimiento 2023'!$A$1:$E$183,3,FALSE),0)","v":"105504-Posta de Salud Rural Socavón"},{"$f":"IFERROR(VLOOKUP(Tabla_SERIED_11_6[[#This Row],[IdEstablecimiento]],'[2]Establecimiento 2023'!$A$1:$E$183,5,FALSE),0)","v":"04201-Illapel"},"16100300","2023-05-16T14:31:19",34,14,20]
[4,"5",2023,"105505",{"$f":"IFERROR(VLOOKUP(Tabla_SERIED_11_6[[#This Row],[IdEstablecimiento]],'[2]Establecimiento 2023'!$A$1:$E$183,3,FALSE),0)","v":"105505-Posta de Salud Rural Los Choros"},{"$f":"IFERROR(VLOOKUP(Tabla_SERIED_11_6[[#This Row],[IdEstablecimiento]],'[2]Establecimiento 2023'!$A$1:$E$183,5,FALSE),0)","v":"04104-La Higuera"},"15050100","2023-07-19T15:20:00",21,5,16,null,1,null,3,1,4,9,3]
[4,"5",2023,"105506",{"$f":"IFERROR(VLOOKUP(Tabla_SERIED_11_6[[#This Row],[IdEstablecimiento]],'[2]Establecimiento 2023'!$A$1:$E$183,3,FALSE),0)","v":"105506-Posta de Salud Rural El Trapiche"},{"$f":"IFERROR(VLOOKUP(Tabla_SERIED_11_6[[#This Row],[IdEstablecimiento]],'[2]Establecimiento 2023'!$A$1:$E$183,5,FALSE),0)","v":"04104-La Higuera"},"15010100","2023-07-19T15:25:13",12,{"$nulls":3},10,2]
[4,"5",2023,"105507",{"$f":"IFERROR(VLOOKUP(Tabla_SERIED_11_6[[#This Row],[IdEstablecimiento]],'[2]Establecimiento 2023'!$A$1:$E$183,3,FALSE),0)","v":"105507-Posta de Salud Rural Huamalata"},{"$f":"IFERROR(VLOOKUP(Tabla_SERIED_11_6[[#This Row],[IdEstablecimiento]],'[2]Establecimiento 2023'!$A$1:$E$183,5,FALSE),0)","v":"04301-Ovalle"},"16200220","2023-05-16T14:32:05",17,5,12]
[4,"5",2023,"105510",{"$f":"IFERROR(VLOOKUP(Tabla_SERIED_11_6[[#This Row],[IdEstablecimiento]],'[2]Establecimiento 2023'!$A$1:$E$183,3,FALSE),0)","v":"105510-Posta de Salud Rural Recoleta"},{"$f":"IFERROR(VLOOKUP(Tabla_SERIED_11_6[[#This Row],[IdEstablecimiento]],'[2]Establecimiento 2023'!$A$1:$E$183,5,FALSE),0)","v":"04301-Ovalle"},"16200210","2023-05-16T14:32:38",21,21]
[4,"5",2023,"105701",{"$f":"IFERROR(VLOOKUP(Tabla_SERIED_11_6[[#This Row],[IdEstablecimiento]],'[2]Establecimiento 2023'!$A$1:$E$183,3,FALSE),0)","v":"105701-Centro Comunitario de Salud Familiar Villa Alemania"},{"$f":"IFERROR(VLOOKUP(Tabla_SERIED_11_6[[#This Row],[IdEstablecimiento]],'[2]Establecimiento 2023'!$A$1:$E$183,5,FALSE),0)","v":"04101-La Serena"},"15010200","2023-05-16T14:33:19",35,{"$nulls":5},10,25]
[4,"5",2023,"105701",{"$f":"IFERROR(VLOOKUP(Tabla_SERIED_11_6[[#This Row],[IdEstablecimiento]],'[2]Establecimiento 2023'!$A$1:$E$183,3,FALSE),0)","v":"105701-Centro Comunitario de Salud Familiar Villa Alemania"},{"$f":"IFERROR(VLOOKUP(Tabla_SERIED_11_6[[#This Row],[IdEstablecimiento]],'[2]Establecimiento 2023'!$A$1:$E$183,5,FALSE),0)","v":"04101-La Serena"},"15050100","2023-05-16T14:33:19",50,17,33,1,null,2,8,9,5,13,7,null,5]
[4,"5",2023,"105702",{"$f":"IFERROR(VLOOKUP(Tabla_SERIED_11_6[[#This Row],[IdEstablecimiento]],'[2]Establecimiento 2023'!$A$1:$E$183,3,FALSE),0)","v":"105702-Centro Comunitario de Salud Familiar Lambert"},{"$f":"IFERROR(VLOOKUP(Tabla_SERIED_11_6[[#This Row],[IdEstablecimiento]],'[2]Establecimiento 2023'!$A$1:$E$183,5,FALSE),0)","v":"04101-La Serena"},"15010100","2023-05-16T14:33:37",26,{"$nulls":3},16,10]
[4,"5",2023,"105722",{"$f":"IFERROR(VLOOKUP(Tabla_SERIED_11_6[[#This Row],[IdEstablecimiento]],'[2]Establecimiento 2023'!$A$1:$E$183,3,FALSE),0)","v":"105722-Centro Comunitario de Salud Familiar San José de la Dehesa"},{"$f":"IFERROR(VLOOKUP(Tabla_SERIED_11_6[[#This Row],[IdEstablecimiento]],'[2]Establecimiento 2023'!$A$1:$E$183,5,FALSE),0)","v":"04301-Ovalle"},"15050200","2023-05-16T14:35:13",8,4,4,null,null,2,3,null,3]
[4,"5",2023,"105722",{"$f":"IFERROR(VLOOKUP(Tabla_SERIED_11_6[[#This Row],[IdEstablecimiento]],'[2]Establecimiento 2023'!$A$1:$E$183,3,FALSE),0)","v":"105722-Centro Comunitario de Salud Familiar San José de la Dehesa"},{"$f":"IFERROR(VLOOKUP(Tabla_SERIED_11_6[[#This Row],[IdEstablecimiento]],'[2]Establecimiento 2023'!$A$1:$E$183,5,FALSE),0)","v":"04301-Ovalle"},"16090300","2023-05-16T14:35:13",146,146]
[4,"5",2023,"105723",{"$f":"IFERROR(VLOOKUP(Tabla_SERIED_11_6[[#This Row],[IdEstablecimiento]],'[2]Establecimiento 2023'!$A$1:$E$183,3,FALSE),0)","v":"105723-Centro Comunitario de Salud Familiar Limarí"},{"$f":"IFERROR(VLOOKUP(Tabla_SERIED_11_6[[#This Row],[IdEstablecimiento]],'[2]Establecimiento 2023'!$A$1:$E$183,5,FALSE),0)","v":"04301-Ovalle"},"15060100","2023-05-16T14:35:24",2,1,1,{"$nulls":5},1,1]
[4,"5",2023,"200273",{"$f":"IFERROR(VLOOKUP(Tabla_SERIED_11_6[[#This Row],[IdEstablecimiento]],'[2]Establecimiento 2023'!$A$1:$E$183,3,FALSE),0)","v":"200273-Centro Comunitario de Salud Familiar Punta Mira"},{"$f":"IFERROR(VLOOKUP(Tabla_SERIED_11_6[[#This Row],[IdEstablecimiento]],'[2]Establecimiento 2023'!$A$1:$E$183,5,FALSE),0)","v":"04102-Coquimbo"},"15060100","2023-05-16T14:37:29",4,1,3,0,0,0,0,0,2,2,0]
[9,"5",2023,"105472",{"$f":"IFERROR(VLOOKUP(Tabla_SERIED_11_6[[#This Row],[IdEstablecimiento]],'[2]Establecimiento 2023'!$A$1:$E$183,3,FALSE),0)","v":"105472-Posta de Salud Rural Rivadavia"},{"$f":"IFERROR(VLOOKUP(Tabla_SERIED_11_6[[#This Row],[IdEstablecimiento]],'[2]Establecimiento 2023'!$A$1:$E$183,5,FALSE),0)","v":"04106-Vicuña"},"15080014","2023-10-17T14:07:06",14,{"$nulls":3},4,10]
[9,"5",2023,"105472",{"$f":"IFERROR(VLOOKUP(Tabla_SERIED_11_6[[#This Row],[IdEstablecimiento]],'[2]Establecimiento 2023'!$A$1:$E$183,3,FALSE),0)","v":"105472-Posta de Salud Rural Rivadavia"},{"$f":"IFERROR(VLOOKUP(Tabla_SERIED_11_6[[#This Row],[IdEstablecimiento]],'[2]Establecimiento 2023'!$A$1:$E$183,5,FALSE),0)","v":"04106-Vicuña"},"16090300","2023-10-17T14:07:06",49,49]
[9,"5",2023,"105473",{"$f":"IFERROR(VLOOKUP(Tabla_SERIED_11_6[[#This Row],[IdEstablecimiento]],'[2]Establecimiento 2023'!$A$1:$E$183,3,FALSE),0)","v":"105473-Posta de Salud Rural Talcuna"},{"$f":"IFERROR(VLOOKUP(Tabla_SERIED_11_6[[#This Row],[IdEstablecimiento]],'[2]Establecimiento 2023'!$A$1:$E$183,5,FALSE),0)","v":"04106-Vicuña"},"15080015","2023-10-17T14:07:03",28,{"$nulls":5},12,16]
[9,"5",2023,"105474",{"$f":"IFERROR(VLOOKUP(Tabla_SERIED_11_6[[#This Row],[IdEstablecimiento]],'[2]Establecimiento 2023'!$A$1:$E$183,3,FALSE),0)","v":"105474-Posta de Salud Rural Chapilca"},{"$f":"IFERROR(VLOOKUP(Tabla_SERIED_11_6[[#This Row],[IdEstablecimiento]],'[2]Establecimiento 2023'!$A$1:$E$183,5,FALSE),0)","v":"04106-Vicuña"},"16200210","2023-10-17T14:08:14",1,1]
[9,"5",2023,"105478",{"$f":"IFERROR(VLOOKUP(Tabla_SERIED_11_6[[#This Row],[IdEstablecimiento]],'[2]Establecimiento 2023'!$A$1:$E$183,3,FALSE),0)","v":"105478-Posta de Salud Rural Caimanes"},{"$f":"IFERROR(VLOOKUP(Tabla_SERIED_11_6[[#This Row],[IdEstablecimiento]],'[2]Establecimiento 2023'!$A$1:$E$183,5,FALSE),0)","v":"04203-Los Vilos"},"16090300","2023-10-17T14:41:36",29,29]
[9,"5",2023,"105478",{"$f":"IFERROR(VLOOKUP(Tabla_SERIED_11_6[[#This Row],[IdEstablecimiento]],'[2]Establecimiento 2023'!$A$1:$E$183,3,FALSE),0)","v":"105478-Posta de Salud Rural Caimanes"},{"$f":"IFERROR(VLOOKUP(Tabla_SERIED_11_6[[#This Row],[IdEstablecimiento]],'[2]Establecimiento 2023'!$A$1:$E$183,5,FALSE),0)","v":"04203-Los Vilos"},"16200220","2023-10-17T14:41:36",1,0,1]
[9,"5",2023,"105480",{"$f":"IFERROR(VLOOKUP(Tabla_SERIED_11_6[[#This Row],[IdEstablecimiento]],'[2]Establecimiento 2023'!$A$1:$E$183,3,FALSE),0)","v":"105480-Posta de Salud Rural Quilimarí"},{"$f":"IFERROR(VLOOKUP(Tabla_SERIED_11_6[[#This Row],[IdEstablecimiento]],'[2]Establecimiento 2023'!$A$1:$E$183,5,FALSE),0)","v":"04203-Los Vilos"},"15050500","2023-10-17T14:44:35",1,0,1,null,null,1]
[9,"5",2023,"105480",{"$f":"IFERROR(VLOOKUP(Tabla_SERIED_11_6[[#This Row],[IdEstablecimiento]],'[2]Establecimiento 2023'!$A$1:$E$183,3,FALSE),0)","v":"105480-Posta de Salud Rural Quilimarí"},{"$f":"IFERROR(VLOOKUP(Tabla_SERIED_11_6[[#This Row],[IdEstablecimiento]],'[2]Establecimiento 2023'!$A$1:$E$183,5,FALSE),0)","v":"04203-Los Vilos"},"15080015","2023-10-17T14:44:35",58,{"$nulls":5},24,34]
[9,"5",2023,"105480",{"$f":"IFERROR(VLOOKUP(Tabla_SERIED_11_6[[#This Row],[IdEstablecimiento]],'[2]Establecimiento 2023'!$A$1:$E$183,3,FALSE),0)","v":"105480-Posta de Salud Rural Quilimarí"},{"$f":"IFERROR(VLOOKUP(Tabla_SERIED_11_6[[#This Row],[IdEstablecimiento]],'[2]Establecimiento 2023'!$A$1:$E$183,5,FALSE),0)","v":"04203-Los Vilos"},"16090300","2023-10-17T14:44:35",93,93]
[9,"5",2023,"105477",{"$f":"IFERROR(VLOOKUP(Tabla_SERIED_11_6[[#This Row],[IdEstablecimiento]],'[2]Establecimiento 2023'!$A$1:$E$183,3,FALSE),0)","v":"105477-Posta de Salud Rural Pisco Elqui"},{"$f":"IFERROR(VLOOKUP(Tabla_SERIED_11_6[[#This Row],[IdEstablecimiento]],'[2]Establecimiento 2023'!$A$1:$E$183,5,FALSE),0)","v":"04105-Paihuano"},"15050100","2023-11-22T13:07:54",10,4,6,{"$nulls":3},2,3,4,1,0,null,0,0,0]
[9,"5",2023,"105477",{"$f":"IFERROR(VLOOKUP(Tabla_SERIED_11_6[[#This Row],[IdEstablecimiento]],'[2]Establecimiento 2023'!$A$1:$E$183,3,FALSE),0)","v":"105477-Posta de Salud Rural Pisco Elqui"},{"$f":"IFERROR(VLOOKUP(Tabla_SERIED_11_6[[#This Row],[IdEstablecimiento]],'[2]Establecimiento 2023'!$A$1:$E$183,5,FALSE),0)","v":"04105-Paihuano"},"15050200","2023-11-22T13:07:54",1,null,1,{"$nulls":5},1]
[5,"5",2023,"105104",{"$f":"IFERROR(VLOOKUP(Tabla_SERIED_11_6[[#This Row],[IdEstablecimiento]],'[2]Establecimiento 2023'!$A$1:$E$183,3,FALSE),0)","v":"105104-Hospital de Salamanca"},{"$f":"IFERROR(VLOOKUP(Tabla_SERIED_11_6[[#This Row],[IdEstablecimiento]],'[2]Establecimiento 2023'!$A$1:$E$183,5,FALSE),0)","v":"105104-Hospital Salamanca"},"15050100","2023-06-22T11:00:55",354,136,218,4,7,28,39,46,74,72,55,null,22,3,4]
[5,"5",2023,"105104",{"$f":"IFERROR(VLOOKUP(Tabla_SERIED_11_6[[#This Row],[IdEstablecimiento]],'[2]Establecimiento 2023'!$A$1:$E$183,3,FALSE),0)","v":"105104-Hospital de Salamanca"},{"$f":"IFERROR(VLOOKUP(Tabla_SERIED_11_6[[#This Row],[IdEstablecimiento]],'[2]Establecimiento 2023'!$A$1:$E$183,5,FALSE),0)","v":"105104-Hospital Salamanca"},"15050200","2023-06-22T11:00:55",3,2,1,{"$nulls":3},1,null,null,1,null,1]
[5,"5",2023,"105104",{"$f":"IFERROR(VLOOKUP(Tabla_SERIED_11_6[[#This Row],[IdEstablecimiento]],'[2]Establecimiento 2023'!$A$1:$E$183,3,FALSE),0)","v":"105104-Hospital de Salamanca"},{"$f":"IFERROR(VLOOKUP(Tabla_SERIED_11_6[[#This Row],[IdEstablecimiento]],'[2]Establecimiento 2023'!$A$1:$E$183,5,FALSE),0)","v":"105104-Hospital Salamanca"},"15901400","2023-06-22T11:00:55",3,1,2,null,null,2,null,1]
[5,"5",2023,"105106",{"$f":"IFERROR(VLOOKUP(Tabla_SERIED_11_6[[#This Row],[IdEstablecimiento]],'[2]Establecimiento 2023'!$A$1:$E$183,3,FALSE),0)","v":"105106-Hospital Dr. José Arraño (Andacollo)"},{"$f":"IFERROR(VLOOKUP(Tabla_SERIED_11_6[[#This Row],[IdEstablecimiento]],'[2]Establecimiento 2023'!$A$1:$E$183,5,FALSE),0)","v":"105106-Hospital Andacollo"},"15080018","2023-06-22T11:01:28",2,null,null,2]
[5,"5",2023,"105107",{"$f":"IFERROR(VLOOKUP(Tabla_SERIED_11_6[[#This Row],[IdEstablecimiento]],'[2]Establecimiento 2023'!$A$1:$E$183,3,FALSE),0)","v":"105107-Hospital San Juan de Dios (Vicuña)"},{"$f":"IFERROR(VLOOKUP(Tabla_SERIED_11_6[[#This Row],[IdEstablecimiento]],'[2]Establecimiento 2023'!$A$1:$E$183,5,FALSE),0)","v":"105107-Hospital Vicuña"},"15900020","2023-06-22T11:01:58",5.6,null,null,5.6]
[5,"5",2023,"105107",{"$f":"IFERROR(VLOOKUP(Tabla_SERIED_11_6[[#This Row],[IdEstablecimiento]],'[2]Establecimiento 2023'!$A$1:$E$183,3,FALSE),0)","v":"105107-Hospital San Juan de Dios (Vicuña)"},{"$f":"IFERROR(VLOOKUP(Tabla_SERIED_11_6[[#This Row],[IdEstablecimiento]],'[2]Establecimiento 2023'!$A$1:$E$183,5,FALSE),0)","v":"105107-Hospital Vicuña"},"15901200","2023-06-22T11:01:58",2.8,{"$nulls":3},2.8]
[5,"5",2023,"105108",{"$f":"IFERROR(VLOOKUP(Tabla_SERIED_11_6[[#This Row],[IdEstablecimiento]],'[2]Establecimiento 2023'!$A$1:$E$183,3,FALSE),0)","v":"105108-Hospital San Pedro (Los Vilos)"},{"$f":"IFERROR(VLOOKUP(Tabla_SERIED_11_6[[#This Row],[IdEstablecimiento]],'[2]Establecimiento 2023'!$A$1:$E$183,5,FALSE),0)","v":"105108-Hospital Los Vilos"},"15010500","2023-06-22T11:02:30",20,null,null,4,2,null,4,10]
[5,"5",2023,"105108",{"$f":"IFERROR(VLOOKUP(Tabla_SERIED_11_6[[#This Row],[IdEstablecimiento]],'[2]Establecimiento 2023'!$A$1:$E$183,3,FALSE),0)","v":"105108-Hospital San Pedro (Los Vilos)"},{"$f":"IFERROR(VLOOKUP(Tabla_SERIED_11_6[[#This Row],[IdEstablecimiento]],'[2]Establecimiento 2023'!$A$1:$E$183,5,FALSE),0)","v":"105108-Hospital Los Vilos"},"16200220","2023-06-22T11:02:30",1,1]
[5,"5",2023,"105300",{"$f":"IFERROR(VLOOKUP(Tabla_SERIED_11_6[[#This Row],[IdEstablecimiento]],'[2]Establecimiento 2023'!$A$1:$E$183,3,FALSE),0)","v":"105300-Centro de Salud Familiar Cardenal Caro"},{"$f":"IFERROR(VLOOKUP(Tabla_SERIED_11_6[[#This Row],[IdEstablecimiento]],'[2]Establecimiento 2023'!$A$1:$E$183,5,FALSE),0)","v":"04101-La Serena"},"15050200","2023-06-22T11:02:44",8,5,3,1,null,2,null,null,1,2,null,2]
[5,"5",2023,"105300",{"$f":"IFERROR(VLOOKUP(Tabla_SERIED_11_6[[#This Row],[IdEstablecimiento]],'[2]Establecimiento 2023'!$A$1:$E$183,3,FALSE),0)","v":"105300-Centro de Salud Familiar Cardenal Caro"},{"$f":"IFERROR(VLOOKUP(Tabla_SERIED_11_6[[#This Row],[IdEstablecimiento]],'[2]Establecimiento 2023'!$A$1:$E$183,5,FALSE),0)","v":"04101-La Serena"},"15080010","2023-06-22T11:02:44",1,{"$nulls":10},1]
[5,"5",2023,"105300",{"$f":"IFERROR(VLOOKUP(Tabla_SERIED_11_6[[#This Row],[IdEstablecimiento]],'[2]Establecimiento 2023'!$A$1:$E$183,3,FALSE),0)","v":"105300-Centro de Salud Familiar Cardenal Caro"},{"$f":"IFERROR(VLOOKUP(Tabla_SERIED_11_6[[#This Row],[IdEstablecimiento]],'[2]Establecimiento 2023'!$A$1:$E$183,5,FALSE),0)","v":"04101-La Serena"},"15080018","2023-06-22T11:02:44",51,4,7,14,18,8]
[5,"5",2023,"105302",{"$f":"IFERROR(VLOOKUP(Tabla_SERIED_11_6[[#This Row],[IdEstablecimiento]],'[2]Establecimiento 2023'!$A$1:$E$183,3,FALSE),0)","v":"105302-Centro de Salud Familiar Pedro Aguirre Cerda"},{"$f":"IFERROR(VLOOKUP(Tabla_SERIED_11_6[[#This Row],[IdEstablecimiento]],'[2]Establecimiento 2023'!$A$1:$E$183,5,FALSE),0)","v":"04101-La Serena"},"15080009","2023-06-22T11:03:11",9,{"$nulls":8},6,3]
[5,"5",2023,"105302",{"$f":"IFERROR(VLOOKUP(Tabla_SERIED_11_6[[#This Row],[IdEstablecimiento]],'[2]Establecimiento 2023'!$A$1:$E$183,3,FALSE),0)","v":"105302-Centro de Salud Familiar Pedro Aguirre Cerda"},{"$f":"IFERROR(VLOOKUP(Tabla_SERIED_11_6[[#This Row],[IdEstablecimiento]],'[2]Establecimiento 2023'!$A$1:$E$183,5,FALSE),0)","v":"04101-La Serena"},"15080010","2023-06-22T11:03:11",2,{"$nulls":7},1,null,null,1]
[5,"5",2023,"105302",{"$f":"IFERROR(VLOOKUP(Tabla_SERIED_11_6[[#This Row],[IdEstablecimiento]],'[2]Establecimiento 2023'!$A$1:$E$183,3,FALSE),0)","v":"105302-Centro de Salud Familiar Pedro Aguirre Cerda"},{"$f":"IFERROR(VLOOKUP(Tabla_SERIED_11_6[[#This Row],[IdEstablecimiento]],'[2]Establecimiento 2023'!$A$1:$E$183,5,FALSE),0)","v":"04101-La Serena"},"15080016","2023-06-22T11:03:11",4,{"$nulls":3},2,null,null,2]
[5,"5",2023,"105302",{"$f":"IFERROR(VLOOKUP(Tabla_SERIED_11_6[[#This Row],[IdEstablecimiento]],'[2]Establecimiento 2023'!$A$1:$E$183,3,FALSE),0)","v":"105302-Centro de Salud Familiar Pedro Aguirre Cerda"},{"$f":"IFERROR(VLOOKUP(Tabla_SERIED_11_6[[#This Row],[IdEstablecimiento]],'[2]Establecimiento 2023'!$A$1:$E$183,5,FALSE),0)","v":"04101-La Serena"},"15900010","2023-06-22T11:03:11",260.8,8,76,176.8]
[5,"5",2023,"105303",{"$f":"IFERROR(VLOOKUP(Tabla_SERIED_11_6[[#This Row],[IdEstablecimiento]],'[2]Establecimiento 2023'!$A$1:$E$183,3,FALSE),0)","v":"105303-Centro de Salud Familiar San Juan"},{"$f":"IFERROR(VLOOKUP(Tabla_SERIED_11_6[[#This Row],[IdEstablecimiento]],'[2]Establecimiento 2023'!$A$1:$E$183,5,FALSE),0)","v":"04102-Coquimbo"},"15050200","2023-08-18T11:31:50",13,5,8,0,0,5,0,0,4,0,null,3,1,0,0]
[5,"5",2023,"105303",{"$f":"IFERROR(VLOOKUP(Tabla_SERIED_11_6[[#This Row],[IdEstablecimiento]],'[2]Establecimiento 2023'!$A$1:$E$183,3,FALSE),0)","v":"105303-Centro de Salud Familiar San Juan"},{"$f":"IFERROR(VLOOKUP(Tabla_SERIED_11_6[[#This Row],[IdEstablecimiento]],'[2]Establecimiento 2023'!$A$1:$E$183,5,FALSE),0)","v":"04102-Coquimbo"},"15060100","2023-08-18T11:31:50",17,5,12,0,2,2,4,4,3,2,0]
[5,"5",2023,"105303",{"$f":"IFERROR(VLOOKUP(Tabla_SERIED_11_6[[#This Row],[IdEstablecimiento]],'[2]Establecimiento 2023'!$A$1:$E$183,3,FALSE),0)","v":"105303-Centro de Salud Familiar San Juan"},{"$f":"IFERROR(VLOOKUP(Tabla_SERIED_11_6[[#This Row],[IdEstablecimiento]],'[2]Establecimiento 2023'!$A$1:$E$183,5,FALSE),0)","v":"04102-Coquimbo"},"15900050","2023-08-18T11:31:50",4,2,2,0,1,1,1,0,1,0]
[5,"5",2023,"105303",{"$f":"IFERROR(VLOOKUP(Tabla_SERIED_11_6[[#This Row],[IdEstablecimiento]],'[2]Establecimiento 2023'!$A$1:$E$183,3,FALSE),0)","v":"105303-Centro de Salud Familiar San Juan"},{"$f":"IFERROR(VLOOKUP(Tabla_SERIED_11_6[[#This Row],[IdEstablecimiento]],'[2]Establecimiento 2023'!$A$1:$E$183,5,FALSE),0)","v":"04102-Coquimbo"},"16090300","2023-08-18T11:31:50",767,767]
[5,"5",2023,"105303",{"$f":"IFERROR(VLOOKUP(Tabla_SERIED_11_6[[#This Row],[IdEstablecimiento]],'[2]Establecimiento 2023'!$A$1:$E$183,3,FALSE),0)","v":"105303-Centro de Salud Familiar San Juan"},{"$f":"IFERROR(VLOOKUP(Tabla_SERIED_11_6[[#This Row],[IdEstablecimiento]],'[2]Establecimiento 2023'!$A$1:$E$183,5,FALSE),0)","v":"04102-Coquimbo"},"16200210","2023-08-18T11:31:50",22,22]
[5,"5",2023,"105304",{"$f":"IFERROR(VLOOKUP(Tabla_SERIED_11_6[[#This Row],[IdEstablecimiento]],'[2]Establecimiento 2023'!$A$1:$E$183,3,FALSE),0)","v":"105304-Centro de Salud Familiar Santa Cecilia"},{"$f":"IFERROR(VLOOKUP(Tabla_SERIED_11_6[[#This Row],[IdEstablecimiento]],'[2]Establecimiento 2023'!$A$1:$E$183,5,FALSE),0)","v":"04102-Coquimbo"},"15901400","2023-06-22T11:03:46",1,1,0,0,0,1,0,0]
[5,"5",2023,"105304",{"$f":"IFERROR(VLOOKUP(Tabla_SERIED_11_6[[#This Row],[IdEstablecimiento]],'[2]Establecimiento 2023'!$A$1:$E$183,3,FALSE),0)","v":"105304-Centro de Salud Familiar Santa Cecilia"},{"$f":"IFERROR(VLOOKUP(Tabla_SERIED_11_6[[#This Row],[IdEstablecimiento]],'[2]Establecimiento 2023'!$A$1:$E$183,5,FALSE),0)","v":"04102-Coquimbo"},"16090300","2023-06-22T11:03:46",588,588]
[5,"5",2023,"105304",{"$f":"IFERROR(VLOOKUP(Tabla_SERIED_11_6[[#This Row],[IdEstablecimiento]],'[2]Establecimiento 2023'!$A$1:$E$183,3,FALSE),0)","v":"105304-Centro de Salud Familiar Santa Cecilia"},{"$f":"IFERROR(VLOOKUP(Tabla_SERIED_11_6[[#This Row],[IdEstablecimiento]],'[2]Establecimiento 2023'!$A$1:$E$183,5,FALSE),0)","v":"04102-Coquimbo"},"16200230","2023-06-22T11:03:46",4,3,1]
[5,"5",2023,"105305",{"$f":"IFERROR(VLOOKUP(Tabla_SERIED_11_6[[#This Row],[IdEstablecimiento]],'[2]Establecimiento 2023'!$A$1:$E$183,3,FALSE),0)","v":"105305-Centro de Salud Familiar Tierras Blancas"},{"$f":"IFERROR(VLOOKUP(Tabla_SERIED_11_6[[#This Row],[IdEstablecimiento]],'[2]Establecimiento 2023'!$A$1:$E$183,5,FALSE),0)","v":"04102-Coquimbo"},"15010400","2023-06-22T11:04:03",24,{"$nulls":5},20,4]
[5,"5",2023,"105305",{"$f":"IFERROR(VLOOKUP(Tabla_SERIED_11_6[[#This Row],[IdEstablecimiento]],'[2]Establecimiento 2023'!$A$1:$E$183,3,FALSE),0)","v":"105305-Centro de Salud Familiar Tierras Blancas"},{"$f":"IFERROR(VLOOKUP(Tabla_SERIED_11_6[[#This Row],[IdEstablecimiento]],'[2]Establecimiento 2023'!$A$1:$E$183,5,FALSE),0)","v":"04102-Coquimbo"},"15901300","2023-06-22T11:04:03",3.2,{"$nulls":4},3.2]
[5,"5",2023,"105306",{"$f":"IFERROR(VLOOKUP(Tabla_SERIED_11_6[[#This Row],[IdEstablecimiento]],'[2]Establecimiento 2023'!$A$1:$E$183,3,FALSE),0)","v":"105306-Centro de Salud Familiar Paihuano"},{"$f":"IFERROR(VLOOKUP(Tabla_SERIED_11_6[[#This Row],[IdEstablecimiento]],'[2]Establecimiento 2023'!$A$1:$E$183,5,FALSE),0)","v":"04105-Paihuano"},"16200210","2023-06-22T11:04:18",5,5]
[5,"5",2023,"105307",{"$f":"IFERROR(VLOOKUP(Tabla_SERIED_11_6[[#This Row],[IdEstablecimiento]],'[2]Establecimiento 2023'!$A$1:$E$183,3,FALSE),0)","v":"105307-Centro de Salud Familiar Monte Patria"},{"$f":"IFERROR(VLOOKUP(Tabla_SERIED_11_6[[#This Row],[IdEstablecimiento]],'[2]Establecimiento 2023'!$A$1:$E$183,5,FALSE),0)","v":"04303-Monte Patria"},"15050200","2023-06-22T11:04:31",4,2,2,null,null,2,1,null,1]
[5,"5",2023,"105308",{"$f":"IFERROR(VLOOKUP(Tabla_SERIED_11_6[[#This Row],[IdEstablecimiento]],'[2]Establecimiento 2023'!$A$1:$E$183,3,FALSE),0)","v":"105308-Centro de Salud Familiar Punitaqui"},{"$f":"IFERROR(VLOOKUP(Tabla_SERIED_11_6[[#This Row],[IdEstablecimiento]],'[2]Establecimiento 2023'!$A$1:$E$183,5,FALSE),0)","v":"04304-Punitaqui"},"15900040","2023-06-22T11:05:13",4.8,{"$nulls":3},4.8]
[5,"5",2023,"105309",{"$f":"IFERROR(VLOOKUP(Tabla_SERIED_11_6[[#This Row],[IdEstablecimiento]],'[2]Establecimiento 2023'!$A$1:$E$183,3,FALSE),0)","v":"105309-Centro de Salud Familiar Canela"},{"$f":"IFERROR(VLOOKUP(Tabla_SERIED_11_6[[#This Row],[IdEstablecimiento]],'[2]Establecimiento 2023'!$A$1:$E$183,5,FALSE),0)","v":"04202-Canela"},"15050200","2023-06-22T11:05:29",2,null,2,{"$nulls":4},1,{"$nulls":3},1]
[5,"5",2023,"105310",{"$f":"IFERROR(VLOOKUP(Tabla_SERIED_11_6[[#This Row],[IdEstablecimiento]],'[2]Establecimiento 2023'!$A$1:$E$183,3,FALSE),0)","v":"105310-Centro de Salud Familiar Pichasca"},{"$f":"IFERROR(VLOOKUP(Tabla_SERIED_11_6[[#This Row],[IdEstablecimiento]],'[2]Establecimiento 2023'!$A$1:$E$183,5,FALSE),0)","v":"04305-Rio Hurtado"},"15080016","2023-06-22T11:05:41",2,{"$nulls":3},2]
[5,"5",2023,"105311",{"$f":"IFERROR(VLOOKUP(Tabla_SERIED_11_6[[#This Row],[IdEstablecimiento]],'[2]Establecimiento 2023'!$A$1:$E$183,3,FALSE),0)","v":"105311-Centro de Salud Familiar Chañaral Alto"},{"$f":"IFERROR(VLOOKUP(Tabla_SERIED_11_6[[#This Row],[IdEstablecimiento]],'[2]Establecimiento 2023'!$A$1:$E$183,5,FALSE),0)","v":"04303-Monte Patria"},"16200220","2023-06-22T11:05:55",37,11,26]
[5,"5",2023,"105315",{"$f":"IFERROR(VLOOKUP(Tabla_SERIED_11_6[[#This Row],[IdEstablecimiento]],'[2]Establecimiento 2023'!$A$1:$E$183,3,FALSE),0)","v":"105315-Centro de Salud Familiar Cerrillos de Tamaya"},{"$f":"IFERROR(VLOOKUP(Tabla_SERIED_11_6[[#This Row],[IdEstablecimiento]],'[2]Establecimiento 2023'!$A$1:$E$183,5,FALSE),0)","v":"04301-Ovalle"},"16090300","2023-06-22T11:06:47",280,280]
[5,"5",2023,"105315",{"$f":"IFERROR(VLOOKUP(Tabla_SERIED_11_6[[#This Row],[IdEstablecimiento]],'[2]Establecimiento 2023'!$A$1:$E$183,3,FALSE),0)","v":"105315-Centro de Salud Familiar Cerrillos de Tamaya"},{"$f":"IFERROR(VLOOKUP(Tabla_SERIED_11_6[[#This Row],[IdEstablecimiento]],'[2]Establecimiento 2023'!$A$1:$E$183,5,FALSE),0)","v":"04301-Ovalle"},"16200220","2023-06-22T11:06:47",17,6,11]
[5,"5",2023,"105317",{"$f":"IFERROR(VLOOKUP(Tabla_SERIED_11_6[[#This Row],[IdEstablecimiento]],'[2]Establecimiento 2023'!$A$1:$E$183,3,FALSE),0)","v":"105317-Centro de Salud Familiar Jorge Jordán Domic"},{"$f":"IFERROR(VLOOKUP(Tabla_SERIED_11_6[[#This Row],[IdEstablecimiento]],'[2]Establecimiento 2023'!$A$1:$E$183,5,FALSE),0)","v":"04301-Ovalle"},"15050200","2023-06-22T11:07:00",11,6,5,null,null,1,1,1,5,2,null,1]
[5,"5",2023,"105317",{"$f":"IFERROR(VLOOKUP(Tabla_SERIED_11_6[[#This Row],[IdEstablecimiento]],'[2]Establecimiento 2023'!$A$1:$E$183,3,FALSE),0)","v":"105317-Centro de Salud Familiar Jorge Jordán Domic"},{"$f":"IFERROR(VLOOKUP(Tabla_SERIED_11_6[[#This Row],[IdEstablecimiento]],'[2]Establecimiento 2023'!$A$1:$E$183,5,FALSE),0)","v":"04301-Ovalle"},"15900010","2023-06-22T11:07:00",108.8,3.2,24.8,80.8]
[5,"5",2023,"105317",{"$f":"IFERROR(VLOOKUP(Tabla_SERIED_11_6[[#This Row],[IdEstablecimiento]],'[2]Establecimiento 2023'!$A$1:$E$183,3,FALSE),0)","v":"105317-Centro de Salud Familiar Jorge Jordán Domic"},{"$f":"IFERROR(VLOOKUP(Tabla_SERIED_11_6[[#This Row],[IdEstablecimiento]],'[2]Establecimiento 2023'!$A$1:$E$183,5,FALSE),0)","v":"04301-Ovalle"},"15900020","2023-06-22T11:07:00",3.2,null,null,3.2]
[5,"5",2023,"105319",{"$f":"IFERROR(VLOOKUP(Tabla_SERIED_11_6[[#This Row],[IdEstablecimiento]],'[2]Establecimiento 2023'!$A$1:$E$183,3,FALSE),0)","v":"105319-Centro de Salud Familiar Cardenal Raúl Silva Henríquez de La Serena"},{"$f":"IFERROR(VLOOKUP(Tabla_SERIED_11_6[[#This Row],[IdEstablecimiento]],'[2]Establecimiento 2023'!$A$1:$E$183,5,FALSE),0)","v":"04101-La Serena"},"16100300","2023-06-22T12:07:03",703,363,340]
[5,"5",2023,"105321",{"$f":"IFERROR(VLOOKUP(Tabla_SERIED_11_6[[#This Row],[IdEstablecimiento]],'[2]Establecimiento 2023'!$A$1:$E$183,3,FALSE),0)","v":"105321-Centro de Salud Familiar Tongoy"},{"$f":"IFERROR(VLOOKUP(Tabla_SERIED_11_6[[#This Row],[IdEstablecimiento]],'[2]Establecimiento 2023'!$A$1:$E$183,5,FALSE),0)","v":"04102-Coquimbo"},"15010500","2023-06-22T11:15:15",8,null,null,2,0,2,4]
[5,"5",2023,"105322",{"$f":"IFERROR(VLOOKUP(Tabla_SERIED_11_6[[#This Row],[IdEstablecimiento]],'[2]Establecimiento 2023'!$A$1:$E$183,3,FALSE),0)","v":"105322-Centro de Salud Familiar Marcos Macuada"},{"$f":"IFERROR(VLOOKUP(Tabla_SERIED_11_6[[#This Row],[IdEstablecimiento]],'[2]Establecimiento 2023'!$A$1:$E$183,5,FALSE),0)","v":"04301-Ovalle"},"15080008","2023-06-22T11:15:30",118,{"$nulls":7},55,null,46,9,8]
[5,"5",2023,"105323",{"$f":"IFERROR(VLOOKUP(Tabla_SERIED_11_6[[#This Row],[IdEstablecimiento]],'[2]Establecimiento 2023'!$A$1:$E$183,3,FALSE),0)","v":"105323-Centro de Salud Familiar Dr. Sergio Aguilar Delgado"},{"$f":"IFERROR(VLOOKUP(Tabla_SERIED_11_6[[#This Row],[IdEstablecimiento]],'[2]Establecimiento 2023'!$A$1:$E$183,5,FALSE),0)","v":"04102-Coquimbo"},"16200220","2023-06-22T11:15:42",36,16,20]
[5,"5",2023,"105324",{"$f":"IFERROR(VLOOKUP(Tabla_SERIED_11_6[[#This Row],[IdEstablecimiento]],'[2]Establecimiento 2023'!$A$1:$E$183,3,FALSE),0)","v":"105324-Centro de Salud Familiar Sotaquí"},{"$f":"IFERROR(VLOOKUP(Tabla_SERIED_11_6[[#This Row],[IdEstablecimiento]],'[2]Establecimiento 2023'!$A$1:$E$183,5,FALSE),0)","v":"04301-Ovalle"},"15010500","2023-06-22T11:15:56",18,null,null,2,null,null,12,4]
[5,"5",2023,"105324",{"$f":"IFERROR(VLOOKUP(Tabla_SERIED_11_6[[#This Row],[IdEstablecimiento]],'[2]Establecimiento 2023'!$A$1:$E$183,3,FALSE),0)","v":"105324-Centro de Salud Familiar Sotaquí"},{"$f":"IFERROR(VLOOKUP(Tabla_SERIED_11_6[[#This Row],[IdEstablecimiento]],'[2]Establecimiento 2023'!$A$1:$E$183,5,FALSE),0)","v":"04301-Ovalle"},"15080014","2023-06-22T11:15:56",91,{"$nulls":3},56,34,{"$nulls":6},1]
[5,"5",2023,"105324",{"$f":"IFERROR(VLOOKUP(Tabla_SERIED_11_6[[#This Row],[IdEstablecimiento]],'[2]Establecimiento 2023'!$A$1:$E$183,3,FALSE),0)","v":"105324-Centro de Salud Familiar Sotaquí"},{"$f":"IFERROR(VLOOKUP(Tabla_SERIED_11_6[[#This Row],[IdEstablecimiento]],'[2]Establecimiento 2023'!$A$1:$E$183,5,FALSE),0)","v":"04301-Ovalle"},"15901200","2023-06-22T11:15:56",4.4,{"$nulls":4},4.4]
[5,"5",2023,"105324",{"$f":"IFERROR(VLOOKUP(Tabla_SERIED_11_6[[#This Row],[IdEstablecimiento]],'[2]Establecimiento 2023'!$A$1:$E$183,3,FALSE),0)","v":"105324-Centro de Salud Familiar Sotaquí"},{"$f":"IFERROR(VLOOKUP(Tabla_SERIED_11_6[[#This Row],[IdEstablecimiento]],'[2]Establecimiento 2023'!$A$1:$E$183,5,FALSE),0)","v":"04301-Ovalle"},"16200210","2023-06-22T11:15:56",6,6]
[5,"5",2023,"105326",{"$f":"IFERROR(VLOOKUP(Tabla_SERIED_11_6[[#This Row],[IdEstablecimiento]],'[2]Establecimiento 2023'!$A$1:$E$183,3,FALSE),0)","v":"105326-Centro de Salud Familiar Villa San Rafael de Rozas"},{"$f":"IFERROR(VLOOKUP(Tabla_SERIED_11_6[[#This Row],[IdEstablecimiento]],'[2]Establecimiento 2023'!$A$1:$E$183,5,FALSE),0)","v":"04201-Illapel"},"15050500","2023-06-22T11:22:40",2,2,{"$nulls":3},2]
[5,"5",2023,"105326",{"$f":"IFERROR(VLOOKUP(Tabla_SERIED_11_6[[#This Row],[IdEstablecimiento]],'[2]Establecimiento 2023'!$A$1:$E$183,3,FALSE),0)","v":"105326-Centro de Salud Familiar Villa San Rafael de Rozas"},{"$f":"IFERROR(VLOOKUP(Tabla_SERIED_11_6[[#This Row],[IdEstablecimiento]],'[2]Establecimiento 2023'!$A$1:$E$183,5,FALSE),0)","v":"04201-Illapel"},"16100300","2023-06-22T11:22:40",232,137,95]
[5,"5",2023,"105401",{"$f":"IFERROR(VLOOKUP(Tabla_SERIED_11_6[[#This Row],[IdEstablecimiento]],'[2]Establecimiento 2023'!$A$1:$E$183,3,FALSE),0)","v":"105401-Posta de Salud Rural Las Rojas"},{"$f":"IFERROR(VLOOKUP(Tabla_SERIED_11_6[[#This Row],[IdEstablecimiento]],'[2]Establecimiento 2023'!$A$1:$E$183,5,FALSE),0)","v":"04101-La Serena"},"15010400","2023-06-22T11:23:43",2,{"$nulls":6},2]
[5,"5",2023,"105401",{"$f":"IFERROR(VLOOKUP(Tabla_SERIED_11_6[[#This Row],[IdEstablecimiento]],'[2]Establecimiento 2023'!$A$1:$E$183,3,FALSE),0)","v":"105401-Posta de Salud Rural Las Rojas"},{"$f":"IFERROR(VLOOKUP(Tabla_SERIED_11_6[[#This Row],[IdEstablecimiento]],'[2]Establecimiento 2023'!$A$1:$E$183,5,FALSE),0)","v":"04101-La Serena"},"15050200","2023-06-22T11:23:43",1,1,{"$nulls":7},1]
[5,"5",2023,"105405",{"$f":"IFERROR(VLOOKUP(Tabla_SERIED_11_6[[#This Row],[IdEstablecimiento]],'[2]Establecimiento 2023'!$A$1:$E$183,3,FALSE),0)","v":"105405-Posta de Salud Rural Guanaqueros"},{"$f":"IFERROR(VLOOKUP(Tabla_SERIED_11_6[[#This Row],[IdEstablecimiento]],'[2]Establecimiento 2023'!$A$1:$E$183,5,FALSE),0)","v":"04102-Coquimbo"},"16090300","2023-06-22T11:24:48",76,76]
[5,"5",2023,"105405",{"$f":"IFERROR(VLOOKUP(Tabla_SERIED_11_6[[#This Row],[IdEstablecimiento]],'[2]Establecimiento 2023'!$A$1:$E$183,3,FALSE),0)","v":"105405-Posta de Salud Rural Guanaqueros"},{"$f":"IFERROR(VLOOKUP(Tabla_SERIED_11_6[[#This Row],[IdEstablecimiento]],'[2]Establecimiento 2023'!$A$1:$E$183,5,FALSE),0)","v":"04102-Coquimbo"},"16200210","2023-06-22T11:24:48",2,2]
[5,"5",2023,"105407",{"$f":"IFERROR(VLOOKUP(Tabla_SERIED_11_6[[#This Row],[IdEstablecimiento]],'[2]Establecimiento 2023'!$A$1:$E$183,3,FALSE),0)","v":"105407-Posta de Salud Rural Tambillo"},{"$f":"IFERROR(VLOOKUP(Tabla_SERIED_11_6[[#This Row],[IdEstablecimiento]],'[2]Establecimiento 2023'!$A$1:$E$183,5,FALSE),0)","v":"04102-Coquimbo"},"16100300","2023-06-22T11:25:14",36,9,27]
[5,"5",2023,"105407",{"$f":"IFERROR(VLOOKUP(Tabla_SERIED_11_6[[#This Row],[IdEstablecimiento]],'[2]Establecimiento 2023'!$A$1:$E$183,3,FALSE),0)","v":"105407-Posta de Salud Rural Tambillo"},{"$f":"IFERROR(VLOOKUP(Tabla_SERIED_11_6[[#This Row],[IdEstablecimiento]],'[2]Establecimiento 2023'!$A$1:$E$183,5,FALSE),0)","v":"04102-Coquimbo"},"16200220","2023-06-22T11:25:14",4,2,2]
[5,"5",2023,"105409",{"$f":"IFERROR(VLOOKUP(Tabla_SERIED_11_6[[#This Row],[IdEstablecimiento]],'[2]Establecimiento 2023'!$A$1:$E$183,3,FALSE),0)","v":"105409-Posta de Salud Rural El Chañar"},{"$f":"IFERROR(VLOOKUP(Tabla_SERIED_11_6[[#This Row],[IdEstablecimiento]],'[2]Establecimiento 2023'!$A$1:$E$183,5,FALSE),0)","v":"04305-Rio Hurtado"},"16090300","2023-06-22T11:25:34",16,16]
[5,"5",2023,"105409",{"$f":"IFERROR(VLOOKUP(Tabla_SERIED_11_6[[#This Row],[IdEstablecimiento]],'[2]Establecimiento 2023'!$A$1:$E$183,3,FALSE),0)","v":"105409-Posta de Salud Rural El Chañar"},{"$f":"IFERROR(VLOOKUP(Tabla_SERIED_11_6[[#This Row],[IdEstablecimiento]],'[2]Establecimiento 2023'!$A$1:$E$183,5,FALSE),0)","v":"04305-Rio Hurtado"},"16200220","2023-06-22T11:25:34",2,1,1]
[5,"5",2023,"105411",{"$f":"IFERROR(VLOOKUP(Tabla_SERIED_11_6[[#This Row],[IdEstablecimiento]],'[2]Establecimiento 2023'!$A$1:$E$183,3,FALSE),0)","v":"105411-Posta de Salud Rural Las Breas (Río Hurtado)"},{"$f":"IFERROR(VLOOKUP(Tabla_SERIED_11_6[[#This Row],[IdEstablecimiento]],'[2]Establecimiento 2023'!$A$1:$E$183,5,FALSE),0)","v":"04305-Rio Hurtado"},"16100300","2023-06-22T11:26:09",24,12,12]
[5,"5",2023,"105413",{"$f":"IFERROR(VLOOKUP(Tabla_SERIED_11_6[[#This Row],[IdEstablecimiento]],'[2]Establecimiento 2023'!$A$1:$E$183,3,FALSE),0)","v":"105413-Posta de Salud Rural Samo Alto"},{"$f":"IFERROR(VLOOKUP(Tabla_SERIED_11_6[[#This Row],[IdEstablecimiento]],'[2]Establecimiento 2023'!$A$1:$E$183,5,FALSE),0)","v":"04305-Rio Hurtado"},"16090300","2023-06-22T11:26:28",80,80]
[5,"5",2023,"105413",{"$f":"IFERROR(VLOOKUP(Tabla_SERIED_11_6[[#This Row],[IdEstablecimiento]],'[2]Establecimiento 2023'!$A$1:$E$183,3,FALSE),0)","v":"105413-Posta de Salud Rural Samo Alto"},{"$f":"IFERROR(VLOOKUP(Tabla_SERIED_11_6[[#This Row],[IdEstablecimiento]],'[2]Establecimiento 2023'!$A$1:$E$183,5,FALSE),0)","v":"04305-Rio Hurtado"},"16200220","2023-06-22T11:26:28",6,1,5]
[5,"5",2023,"105415",{"$f":"IFERROR(VLOOKUP(Tabla_SERIED_11_6[[#This Row],[IdEstablecimiento]],'[2]Establecimiento 2023'!$A$1:$E$183,3,FALSE),0)","v":"105415-Posta de Salud Rural Barraza"},{"$f":"IFERROR(VLOOKUP(Tabla_SERIED_11_6[[#This Row],[IdEstablecimiento]],'[2]Establecimiento 2023'!$A$1:$E$183,5,FALSE),0)","v":"04301-Ovalle"},"15080014","2023-06-22T11:27:03",4,{"$nulls":3},2,2]
[5,"5",2023,"105417",{"$f":"IFERROR(VLOOKUP(Tabla_SERIED_11_6[[#This Row],[IdEstablecimiento]],'[2]Establecimiento 2023'!$A$1:$E$183,3,FALSE),0)","v":"105417-Posta de Salud Rural Alcones Bajo"},{"$f":"IFERROR(VLOOKUP(Tabla_SERIED_11_6[[#This Row],[IdEstablecimiento]],'[2]Establecimiento 2023'!$A$1:$E$183,5,FALSE),0)","v":"04301-Ovalle"},"15900010","2023-06-22T11:57:25",7.2,null,4,3.2]
[5,"5",2023,"105417",{"$f":"IFERROR(VLOOKUP(Tabla_SERIED_11_6[[#This Row],[IdEstablecimiento]],'[2]Establecimiento 2023'!$A$1:$E$183,3,FALSE),0)","v":"105417-Posta de Salud Rural Alcones Bajo"},{"$f":"IFERROR(VLOOKUP(Tabla_SERIED_11_6[[#This Row],[IdEstablecimiento]],'[2]Establecimiento 2023'!$A$1:$E$183,5,FALSE),0)","v":"04301-Ovalle"},"16200220","2023-06-22T11:57:25",8,2,6]
[5,"5",2023,"105425",{"$f":"IFERROR(VLOOKUP(Tabla_SERIED_11_6[[#This Row],[IdEstablecimiento]],'[2]Establecimiento 2023'!$A$1:$E$183,3,FALSE),0)","v":"105425-Posta de Salud Rural Chilecito"},{"$f":"IFERROR(VLOOKUP(Tabla_SERIED_11_6[[#This Row],[IdEstablecimiento]],'[2]Establecimiento 2023'!$A$1:$E$183,5,FALSE),0)","v":"04303-Monte Patria"},"15900010","2023-06-22T11:28:26",3.2,null,null,3.2]
[5,"5",2023,"105427",{"$f":"IFERROR(VLOOKUP(Tabla_SERIED_11_6[[#This Row],[IdEstablecimiento]],'[2]Establecimiento 2023'!$A$1:$E$183,3,FALSE),0)","v":"105427-Posta de Salud Rural Hacienda Valdivia"},{"$f":"IFERROR(VLOOKUP(Tabla_SERIED_11_6[[#This Row],[IdEstablecimiento]],'[2]Establecimiento 2023'!$A$1:$E$183,5,FALSE),0)","v":"04303-Monte Patria"},"15010100","2023-06-22T11:28:41",3,{"$nulls":4},3]
[5,"5",2023,"105428",{"$f":"IFERROR(VLOOKUP(Tabla_SERIED_11_6[[#This Row],[IdEstablecimiento]],'[2]Establecimiento 2023'!$A$1:$E$183,3,FALSE),0)","v":"105428-Posta de Salud Rural Huatulame"},{"$f":"IFERROR(VLOOKUP(Tabla_SERIED_11_6[[#This Row],[IdEstablecimiento]],'[2]Establecimiento 2023'!$A$1:$E$183,5,FALSE),0)","v":"04303-Monte Patria"},"16200210","2023-06-22T11:28:54",5,5]
[5,"5",2023,"105431",{"$f":"IFERROR(VLOOKUP(Tabla_SERIED_11_6[[#This Row],[IdEstablecimiento]],'[2]Establecimiento 2023'!$A$1:$E$183,3,FALSE),0)","v":"105431-Posta de Salud Rural Pedregal"},{"$f":"IFERROR(VLOOKUP(Tabla_SERIED_11_6[[#This Row],[IdEstablecimiento]],'[2]Establecimiento 2023'!$A$1:$E$183,5,FALSE),0)","v":"04303-Monte Patria"},"15010200","2023-06-22T11:29:24",10,{"$nulls":6},10]
[5,"5",2023,"105432",{"$f":"IFERROR(VLOOKUP(Tabla_SERIED_11_6[[#This Row],[IdEstablecimiento]],'[2]Establecimiento 2023'!$A$1:$E$183,3,FALSE),0)","v":"105432-Posta de Salud Rural Rapel (Monte Patria)"},{"$f":"IFERROR(VLOOKUP(Tabla_SERIED_11_6[[#This Row],[IdEstablecimiento]],'[2]Establecimiento 2023'!$A$1:$E$183,5,FALSE),0)","v":"04303-Monte Patria"},"15010400","2023-06-22T11:29:37",2,{"$nulls":6},2]
[5,"5",2023,"105432",{"$f":"IFERROR(VLOOKUP(Tabla_SERIED_11_6[[#This Row],[IdEstablecimiento]],'[2]Establecimiento 2023'!$A$1:$E$183,3,FALSE),0)","v":"105432-Posta de Salud Rural Rapel (Monte Patria)"},{"$f":"IFERROR(VLOOKUP(Tabla_SERIED_11_6[[#This Row],[IdEstablecimiento]],'[2]Establecimiento 2023'!$A$1:$E$183,5,FALSE),0)","v":"04303-Monte Patria"},"15050100","2023-06-22T11:29:37",25,7,18,null,1,2,3,0,10,5,2,null,1,1]
[5,"5",2023,"105434",{"$f":"IFERROR(VLOOKUP(Tabla_SERIED_11_6[[#This Row],[IdEstablecimiento]],'[2]Establecimiento 2023'!$A$1:$E$183,3,FALSE),0)","v":"105434-Posta de Salud Rural San Marcos (Combarbalá)"},{"$f":"IFERROR(VLOOKUP(Tabla_SERIED_11_6[[#This Row],[IdEstablecimiento]],'[2]Establecimiento 2023'!$A$1:$E$183,5,FALSE),0)","v":"04302-Combarbalá"},"15900020","2023-06-22T11:30:03",7.2,null,null,7.2]
[5,"5",2023,"105435",{"$f":"IFERROR(VLOOKUP(Tabla_SERIED_11_6[[#This Row],[IdEstablecimiento]],'[2]Establecimiento 2023'!$A$1:$E$183,3,FALSE),0)","v":"105435-Posta de Salud Rural Tulahuén"},{"$f":"IFERROR(VLOOKUP(Tabla_SERIED_11_6[[#This Row],[IdEstablecimiento]],'[2]Establecimiento 2023'!$A$1:$E$183,5,FALSE),0)","v":"04303-Monte Patria"},"15080014","2023-06-22T11:30:15",6,{"$nulls":3},6]
[5,"5",2023,"105436",{"$f":"IFERROR(VLOOKUP(Tabla_SERIED_11_6[[#This Row],[IdEstablecimiento]],'[2]Establecimiento 2023'!$A$1:$E$183,3,FALSE),0)","v":"105436-Posta de Salud Rural El Maitén"},{"$f":"IFERROR(VLOOKUP(Tabla_SERIED_11_6[[#This Row],[IdEstablecimiento]],'[2]Establecimiento 2023'!$A$1:$E$183,5,FALSE),0)","v":"04303-Monte Patria"},"15080008","2023-06-22T11:30:28",2,{"$nulls":7},2]
[5,"5",2023,"105436",{"$f":"IFERROR(VLOOKUP(Tabla_SERIED_11_6[[#This Row],[IdEstablecimiento]],'[2]Establecimiento 2023'!$A$1:$E$183,3,FALSE),0)","v":"105436-Posta de Salud Rural El Maitén"},{"$f":"IFERROR(VLOOKUP(Tabla_SERIED_11_6[[#This Row],[IdEstablecimiento]],'[2]Establecimiento 2023'!$A$1:$E$183,5,FALSE),0)","v":"04303-Monte Patria"},"16200210","2023-06-22T11:30:28",1,1]
[5,"5",2023,"105437",{"$f":"IFERROR(VLOOKUP(Tabla_SERIED_11_6[[#This Row],[IdEstablecimiento]],'[2]Establecimiento 2023'!$A$1:$E$183,3,FALSE),0)","v":"105437-Posta de Salud Rural Chalinga"},{"$f":"IFERROR(VLOOKUP(Tabla_SERIED_11_6[[#This Row],[IdEstablecimiento]],'[2]Establecimiento 2023'!$A$1:$E$183,5,FALSE),0)","v":"04301-Ovalle"},"15010100","2023-06-22T11:30:46",4,{"$nulls":3},2,2]
[5,"5",2023,"105437",{"$f":"IFERROR(VLOOKUP(Tabla_SERIED_11_6[[#This Row],[IdEstablecimiento]],'[2]Establecimiento 2023'!$A$1:$E$183,3,FALSE),0)","v":"105437-Posta de Salud Rural Chalinga"},{"$f":"IFERROR(VLOOKUP(Tabla_SERIED_11_6[[#This Row],[IdEstablecimiento]],'[2]Establecimiento 2023'!$A$1:$E$183,5,FALSE),0)","v":"04301-Ovalle"},"15010400","2023-06-22T11:30:46",4,{"$nulls":6},4]
[5,"5",2023,"105437",{"$f":"IFERROR(VLOOKUP(Tabla_SERIED_11_6[[#This Row],[IdEstablecimiento]],'[2]Establecimiento 2023'!$A$1:$E$183,3,FALSE),0)","v":"105437-Posta de Salud Rural Chalinga"},{"$f":"IFERROR(VLOOKUP(Tabla_SERIED_11_6[[#This Row],[IdEstablecimiento]],'[2]Establecimiento 2023'!$A$1:$E$183,5,FALSE),0)","v":"04301-Ovalle"},"15050100","2023-06-22T11:30:46",7,4,3,{"$nulls":3},1,1,1,3,null,null,1]
[5,"5",2023,"105437",{"$f":"IFERROR(VLOOKUP(Tabla_SERIED_11_6[[#This Row],[IdEstablecimiento]],'[2]Establecimiento 2023'!$A$1:$E$183,3,FALSE),0)","v":"105437-Posta de Salud Rural Chalinga"},{"$f":"IFERROR(VLOOKUP(Tabla_SERIED_11_6[[#This Row],[IdEstablecimiento]],'[2]Establecimiento 2023'!$A$1:$E$183,5,FALSE),0)","v":"04301-Ovalle"},"15050500","2023-06-22T11:30:46",2,null,2,2]
[5,"5",2023,"105439",{"$f":"IFERROR(VLOOKUP(Tabla_SERIED_11_6[[#This Row],[IdEstablecimiento]],'[2]Establecimiento 2023'!$A$1:$E$183,3,FALSE),0)","v":"105439-Posta de Salud Rural Cerro Blanco"},{"$f":"IFERROR(VLOOKUP(Tabla_SERIED_11_6[[#This Row],[IdEstablecimiento]],'[2]Establecimiento 2023'!$A$1:$E$183,5,FALSE),0)","v":"04301-Ovalle"},"15080008","2023-06-22T11:31:02",1,{"$nulls":11},1]
[5,"5",2023,"105443",{"$f":"IFERROR(VLOOKUP(Tabla_SERIED_11_6[[#This Row],[IdEstablecimiento]],'[2]Establecimiento 2023'!$A$1:$E$183,3,FALSE),0)","v":"105443-Posta de Salud Rural Cárcamo"},{"$f":"IFERROR(VLOOKUP(Tabla_SERIED_11_6[[#This Row],[IdEstablecimiento]],'[2]Establecimiento 2023'!$A$1:$E$183,5,FALSE),0)","v":"04201-Illapel"},"15080009","2023-06-22T11:32:00",3,{"$nulls":9},3]
[5,"5",2023,"105443",{"$f":"IFERROR(VLOOKUP(Tabla_SERIED_11_6[[#This Row],[IdEstablecimiento]],'[2]Establecimiento 2023'!$A$1:$E$183,3,FALSE),0)","v":"105443-Posta de Salud Rural Cárcamo"},{"$f":"IFERROR(VLOOKUP(Tabla_SERIED_11_6[[#This Row],[IdEstablecimiento]],'[2]Establecimiento 2023'!$A$1:$E$183,5,FALSE),0)","v":"04201-Illapel"},"16090300","2023-06-22T11:32:00",115,115]
[5,"5",2023,"105444",{"$f":"IFERROR(VLOOKUP(Tabla_SERIED_11_6[[#This Row],[IdEstablecimiento]],'[2]Establecimiento 2023'!$A$1:$E$183,3,FALSE),0)","v":"105444-Posta de Salud Rural Huintil"},{"$f":"IFERROR(VLOOKUP(Tabla_SERIED_11_6[[#This Row],[IdEstablecimiento]],'[2]Establecimiento 2023'!$A$1:$E$183,5,FALSE),0)","v":"04201-Illapel"},"15900010","2023-06-22T11:32:14",9.6,null,null,9.6]
[5,"5",2023,"105444",{"$f":"IFERROR(VLOOKUP(Tabla_SERIED_11_6[[#This Row],[IdEstablecimiento]],'[2]Establecimiento 2023'!$A$1:$E$183,3,FALSE),0)","v":"105444-Posta de Salud Rural Huintil"},{"$f":"IFERROR(VLOOKUP(Tabla_SERIED_11_6[[#This Row],[IdEstablecimiento]],'[2]Establecimiento 2023'!$A$1:$E$183,5,FALSE),0)","v":"04201-Illapel"},"16100300","2023-06-22T11:32:14",58,30,28]
[5,"5",2023,"105446",{"$f":"IFERROR(VLOOKUP(Tabla_SERIED_11_6[[#This Row],[IdEstablecimiento]],'[2]Establecimiento 2023'!$A$1:$E$183,3,FALSE),0)","v":"105446-Posta de Salud Rural Matancilla"},{"$f":"IFERROR(VLOOKUP(Tabla_SERIED_11_6[[#This Row],[IdEstablecimiento]],'[2]Establecimiento 2023'!$A$1:$E$183,5,FALSE),0)","v":"04201-Illapel"},"16100300","2023-06-22T11:32:44",6,3,3]
[5,"5",2023,"105448",{"$f":"IFERROR(VLOOKUP(Tabla_SERIED_11_6[[#This Row],[IdEstablecimiento]],'[2]Establecimiento 2023'!$A$1:$E$183,3,FALSE),0)","v":"105448-Posta de Salud Rural Santa Virginia"},{"$f":"IFERROR(VLOOKUP(Tabla_SERIED_11_6[[#This Row],[IdEstablecimiento]],'[2]Establecimiento 2023'!$A$1:$E$183,5,FALSE),0)","v":"04201-Illapel"},"16200220","2023-06-22T11:33:11",9,4,5]
[5,"5",2023,"105449",{"$f":"IFERROR(VLOOKUP(Tabla_SERIED_11_6[[#This Row],[IdEstablecimiento]],'[2]Establecimiento 2023'!$A$1:$E$183,3,FALSE),0)","v":"105449-Posta de Salud Rural Tunga Norte"},{"$f":"IFERROR(VLOOKUP(Tabla_SERIED_11_6[[#This Row],[IdEstablecimiento]],'[2]Establecimiento 2023'!$A$1:$E$183,5,FALSE),0)","v":"04201-Illapel"},"16090300","2023-06-22T11:33:24",25,25]
[5,"5",2023,"105449",{"$f":"IFERROR(VLOOKUP(Tabla_SERIED_11_6[[#This Row],[IdEstablecimiento]],'[2]Establecimiento 2023'!$A$1:$E$183,3,FALSE),0)","v":"105449-Posta de Salud Rural Tunga Norte"},{"$f":"IFERROR(VLOOKUP(Tabla_SERIED_11_6[[#This Row],[IdEstablecimiento]],'[2]Establecimiento 2023'!$A$1:$E$183,5,FALSE),0)","v":"04201-Illapel"},"16090500","2023-06-22T11:33:24",1,1]
[5,"5",2023,"105451",{"$f":"IFERROR(VLOOKUP(Tabla_SERIED_11_6[[#This Row],[IdEstablecimiento]],'[2]Establecimiento 2023'!$A$1:$E$183,3,FALSE),0)","v":"105451-Posta de Salud Rural Agua Fría"},{"$f":"IFERROR(VLOOKUP(Tabla_SERIED_11_6[[#This Row],[IdEstablecimiento]],'[2]Establecimiento 2023'!$A$1:$E$183,5,FALSE),0)","v":"04202-Canela"},"15080014","2023-06-22T11:33:53",2,{"$nulls":4},2]
[5,"5",2023,"105451",{"$f":"IFERROR(VLOOKUP(Tabla_SERIED_11_6[[#This Row],[IdEstablecimiento]],'[2]Establecimiento 2023'!$A$1:$E$183,3,FALSE),0)","v":"105451-Posta de Salud Rural Agua Fría"},{"$f":"IFERROR(VLOOKUP(Tabla_SERIED_11_6[[#This Row],[IdEstablecimiento]],'[2]Establecimiento 2023'!$A$1:$E$183,5,FALSE),0)","v":"04202-Canela"},"16200220","2023-06-22T11:33:53",4,1,3]
[5,"5",2023,"105452",{"$f":"IFERROR(VLOOKUP(Tabla_SERIED_11_6[[#This Row],[IdEstablecimiento]],'[2]Establecimiento 2023'!$A$1:$E$183,3,FALSE),0)","v":"105452-Posta de Salud Rural Cuncumén(Salamanca)"},{"$f":"IFERROR(VLOOKUP(Tabla_SERIED_11_6[[#This Row],[IdEstablecimiento]],'[2]Establecimiento 2023'!$A$1:$E$183,5,FALSE),0)","v":"04204-Salamanca"},"15010200","2023-06-22T11:34:05",14,{"$nulls":5},4,10]
[5,"5",2023,"105452",{"$f":"IFERROR(VLOOKUP(Tabla_SERIED_11_6[[#This Row],[IdEstablecimiento]],'[2]Establecimiento 2023'!$A$1:$E$183,3,FALSE),0)","v":"105452-Posta de Salud Rural Cuncumén(Salamanca)"},{"$f":"IFERROR(VLOOKUP(Tabla_SERIED_11_6[[#This Row],[IdEstablecimiento]],'[2]Establecimiento 2023'!$A$1:$E$183,5,FALSE),0)","v":"04204-Salamanca"},"16200210","2023-06-22T11:34:05",3,3]
[5,"5",2023,"105455",{"$f":"IFERROR(VLOOKUP(Tabla_SERIED_11_6[[#This Row],[IdEstablecimiento]],'[2]Establecimiento 2023'!$A$1:$E$183,3,FALSE),0)","v":"105455-CESFAM Valle Alto"},{"$f":"IFERROR(VLOOKUP(Tabla_SERIED_11_6[[#This Row],[IdEstablecimiento]],'[2]Establecimiento 2023'!$A$1:$E$183,5,FALSE),0)","v":"04204-Salamanca"},"15010500","2023-06-22T11:34:46",2,{"$nulls":3},2]
[5,"5",2023,"105455",{"$f":"IFERROR(VLOOKUP(Tabla_SERIED_11_6[[#This Row],[IdEstablecimiento]],'[2]Establecimiento 2023'!$A$1:$E$183,3,FALSE),0)","v":"105455-CESFAM Valle Alto"},{"$f":"IFERROR(VLOOKUP(Tabla_SERIED_11_6[[#This Row],[IdEstablecimiento]],'[2]Establecimiento 2023'!$A$1:$E$183,5,FALSE),0)","v":"04204-Salamanca"},"15080008","2023-06-22T11:34:46",13,{"$nulls":7},4,null,2,3,4]
[5,"5",2023,"105455",{"$f":"IFERROR(VLOOKUP(Tabla_SERIED_11_6[[#This Row],[IdEstablecimiento]],'[2]Establecimiento 2023'!$A$1:$E$183,3,FALSE),0)","v":"105455-CESFAM Valle Alto"},{"$f":"IFERROR(VLOOKUP(Tabla_SERIED_11_6[[#This Row],[IdEstablecimiento]],'[2]Establecimiento 2023'!$A$1:$E$183,5,FALSE),0)","v":"04204-Salamanca"},"15080010","2023-06-22T11:34:46",1,{"$nulls":11},1]
[5,"5",2023,"105456",{"$f":"IFERROR(VLOOKUP(Tabla_SERIED_11_6[[#This Row],[IdEstablecimiento]],'[2]Establecimiento 2023'!$A$1:$E$183,3,FALSE),0)","v":"105456-Posta de Salud Rural Llimpo"},{"$f":"IFERROR(VLOOKUP(Tabla_SERIED_11_6[[#This Row],[IdEstablecimiento]],'[2]Establecimiento 2023'!$A$1:$E$183,5,FALSE),0)","v":"04204-Salamanca"},"15080008","2023-06-22T11:35:01",11,{"$nulls":7},4,null,2,1,4]
[5,"5",2023,"105457",{"$f":"IFERROR(VLOOKUP(Tabla_SERIED_11_6[[#This Row],[IdEstablecimiento]],'[2]Establecimiento 2023'!$A$1:$E$183,3,FALSE),0)","v":"105457-Posta de Salud Rural San Agustín (Salamanca)"},{"$f":"IFERROR(VLOOKUP(Tabla_SERIED_11_6[[#This Row],[IdEstablecimiento]],'[2]Establecimiento 2023'!$A$1:$E$183,5,FALSE),0)","v":"04204-Salamanca"},"15080014","2023-06-22T11:35:13",10,{"$nulls":3},4,6]
[5,"5",2023,"105458",{"$f":"IFERROR(VLOOKUP(Tabla_SERIED_11_6[[#This Row],[IdEstablecimiento]],'[2]Establecimiento 2023'!$A$1:$E$183,3,FALSE),0)","v":"105458-Posta de Salud Rural Tahuinco"},{"$f":"IFERROR(VLOOKUP(Tabla_SERIED_11_6[[#This Row],[IdEstablecimiento]],'[2]Establecimiento 2023'!$A$1:$E$183,5,FALSE),0)","v":"04204-Salamanca"},"15080014","2023-06-22T11:35:28",28,{"$nulls":3},20,8]
[5,"5",2023,"105459",{"$f":"IFERROR(VLOOKUP(Tabla_SERIED_11_6[[#This Row],[IdEstablecimiento]],'[2]Establecimiento 2023'!$A$1:$E$183,3,FALSE),0)","v":"105459-Posta de Salud Rural Barrancas"},{"$f":"IFERROR(VLOOKUP(Tabla_SERIED_11_6[[#This Row],[IdEstablecimiento]],'[2]Establecimiento 2023'!$A$1:$E$183,5,FALSE),0)","v":"04302-Combarbalá"},"15010200","2023-06-22T11:35:42",10,{"$nulls":5},4,6]
[5,"5",2023,"105463",{"$f":"IFERROR(VLOOKUP(Tabla_SERIED_11_6[[#This Row],[IdEstablecimiento]],'[2]Establecimiento 2023'!$A$1:$E$183,3,FALSE),0)","v":"105463-Posta de Salud Rural Quilitapia"},{"$f":"IFERROR(VLOOKUP(Tabla_SERIED_11_6[[#This Row],[IdEstablecimiento]],'[2]Establecimiento 2023'!$A$1:$E$183,5,FALSE),0)","v":"04302-Combarbalá"},"15080014","2023-06-22T11:37:01",2,{"$nulls":4},2]
[5,"5",2023,"105463",{"$f":"IFERROR(VLOOKUP(Tabla_SERIED_11_6[[#This Row],[IdEstablecimiento]],'[2]Establecimiento 2023'!$A$1:$E$183,3,FALSE),0)","v":"105463-Posta de Salud Rural Quilitapia"},{"$f":"IFERROR(VLOOKUP(Tabla_SERIED_11_6[[#This Row],[IdEstablecimiento]],'[2]Establecimiento 2023'!$A$1:$E$183,5,FALSE),0)","v":"04302-Combarbalá"},"15900020","2023-06-22T11:37:01",3.2,1.6,null,1.6]
[5,"5",2023,"105464",{"$f":"IFERROR(VLOOKUP(Tabla_SERIED_11_6[[#This Row],[IdEstablecimiento]],'[2]Establecimiento 2023'!$A$1:$E$183,3,FALSE),0)","v":"105464-Posta de Salud Rural La Ligua"},{"$f":"IFERROR(VLOOKUP(Tabla_SERIED_11_6[[#This Row],[IdEstablecimiento]],'[2]Establecimiento 2023'!$A$1:$E$183,5,FALSE),0)","v":"04302-Combarbalá"},"16100300","2023-06-22T11:37:19",80,38,42]
[5,"5",2023,"105467",{"$f":"IFERROR(VLOOKUP(Tabla_SERIED_11_6[[#This Row],[IdEstablecimiento]],'[2]Establecimiento 2023'!$A$1:$E$183,3,FALSE),0)","v":"105467-Posta de Salud Rural Diaguitas"},{"$f":"IFERROR(VLOOKUP(Tabla_SERIED_11_6[[#This Row],[IdEstablecimiento]],'[2]Establecimiento 2023'!$A$1:$E$183,5,FALSE),0)","v":"04106-Vicuña"},"15900010","2023-06-22T11:38:03",13.6,null,6.4,7.2]
[5,"5",2023,"105467",{"$f":"IFERROR(VLOOKUP(Tabla_SERIED_11_6[[#This Row],[IdEstablecimiento]],'[2]Establecimiento 2023'!$A$1:$E$183,3,FALSE),0)","v":"105467-Posta de Salud Rural Diaguitas"},{"$f":"IFERROR(VLOOKUP(Tabla_SERIED_11_6[[#This Row],[IdEstablecimiento]],'[2]Establecimiento 2023'!$A$1:$E$183,5,FALSE),0)","v":"04106-Vicuña"},"16100300","2023-06-22T11:38:03",32,12,20]
[5,"5",2023,"105468",{"$f":"IFERROR(VLOOKUP(Tabla_SERIED_11_6[[#This Row],[IdEstablecimiento]],'[2]Establecimiento 2023'!$A$1:$E$183,3,FALSE),0)","v":"105468-Posta de Salud Rural El Molle"},{"$f":"IFERROR(VLOOKUP(Tabla_SERIED_11_6[[#This Row],[IdEstablecimiento]],'[2]Establecimiento 2023'!$A$1:$E$183,5,FALSE),0)","v":"04106-Vicuña"},"16090300","2023-06-22T11:38:17",49,49]
[5,"5",2023,"105469",{"$f":"IFERROR(VLOOKUP(Tabla_SERIED_11_6[[#This Row],[IdEstablecimiento]],'[2]Establecimiento 2023'!$A$1:$E$183,3,FALSE),0)","v":"105469-Posta de Salud Rural El Tambo (Vicuña)"},{"$f":"IFERROR(VLOOKUP(Tabla_SERIED_11_6[[#This Row],[IdEstablecimiento]],'[2]Establecimiento 2023'!$A$1:$E$183,5,FALSE),0)","v":"04106-Vicuña"},"15050200","2023-06-22T11:38:59",2,1,1,null,null,1,null,null,1]
[5,"5",2023,"105472",{"$f":"IFERROR(VLOOKUP(Tabla_SERIED_11_6[[#This Row],[IdEstablecimiento]],'[2]Establecimiento 2023'!$A$1:$E$183,3,FALSE),0)","v":"105472-Posta de Salud Rural Rivadavia"},{"$f":"IFERROR(VLOOKUP(Tabla_SERIED_11_6[[#This Row],[IdEstablecimiento]],'[2]Establecimiento 2023'!$A$1:$E$183,5,FALSE),0)","v":"04106-Vicuña"},"15050200","2023-06-22T11:39:53",1,null,1,{"$nulls":5},1]
[5,"5",2023,"105472",{"$f":"IFERROR(VLOOKUP(Tabla_SERIED_11_6[[#This Row],[IdEstablecimiento]],'[2]Establecimiento 2023'!$A$1:$E$183,3,FALSE),0)","v":"105472-Posta de Salud Rural Rivadavia"},{"$f":"IFERROR(VLOOKUP(Tabla_SERIED_11_6[[#This Row],[IdEstablecimiento]],'[2]Establecimiento 2023'!$A$1:$E$183,5,FALSE),0)","v":"04106-Vicuña"},"15080014","2023-06-22T11:39:53",4,{"$nulls":3},4]
[5,"5",2023,"105472",{"$f":"IFERROR(VLOOKUP(Tabla_SERIED_11_6[[#This Row],[IdEstablecimiento]],'[2]Establecimiento 2023'!$A$1:$E$183,3,FALSE),0)","v":"105472-Posta de Salud Rural Rivadavia"},{"$f":"IFERROR(VLOOKUP(Tabla_SERIED_11_6[[#This Row],[IdEstablecimiento]],'[2]Establecimiento 2023'!$A$1:$E$183,5,FALSE),0)","v":"04106-Vicuña"},"16200210","2023-06-22T11:39:53",11,11]
[5,"5",2023,"105477",{"$f":"IFERROR(VLOOKUP(Tabla_SERIED_11_6[[#This Row],[IdEstablecimiento]],'[2]Establecimiento 2023'!$A$1:$E$183,3,FALSE),0)","v":"105477-Posta de Salud Rural Pisco Elqui"},{"$f":"IFERROR(VLOOKUP(Tabla_SERIED_11_6[[#This Row],[IdEstablecimiento]],'[2]Establecimiento 2023'!$A$1:$E$183,5,FALSE),0)","v":"04105-Paihuano"},"15080008","2023-06-22T11:41:23",2,{"$nulls":9},2]
[5,"5",2023,"105479",{"$f":"IFERROR(VLOOKUP(Tabla_SERIED_11_6[[#This Row],[IdEstablecimiento]],'[2]Establecimiento 2023'!$A$1:$E$183,3,FALSE),0)","v":"105479-Posta de Salud Rural Guangualí"},{"$f":"IFERROR(VLOOKUP(Tabla_SERIED_11_6[[#This Row],[IdEstablecimiento]],'[2]Establecimiento 2023'!$A$1:$E$183,5,FALSE),0)","v":"04203-Los Vilos"},"15010200","2023-06-22T11:41:54",29,{"$nulls":5},8,21]
[5,"5",2023,"105479",{"$f":"IFERROR(VLOOKUP(Tabla_SERIED_11_6[[#This Row],[IdEstablecimiento]],'[2]Establecimiento 2023'!$A$1:$E$183,3,FALSE),0)","v":"105479-Posta de Salud Rural Guangualí"},{"$f":"IFERROR(VLOOKUP(Tabla_SERIED_11_6[[#This Row],[IdEstablecimiento]],'[2]Establecimiento 2023'!$A$1:$E$183,5,FALSE),0)","v":"04203-Los Vilos"},"15080014","2023-06-22T11:41:54",2,{"$nulls":3},2]
[5,"5",2023,"105480",{"$f":"IFERROR(VLOOKUP(Tabla_SERIED_11_6[[#This Row],[IdEstablecimiento]],'[2]Establecimiento 2023'!$A$1:$E$183,3,FALSE),0)","v":"105480-Posta de Salud Rural Quilimarí"},{"$f":"IFERROR(VLOOKUP(Tabla_SERIED_11_6[[#This Row],[IdEstablecimiento]],'[2]Establecimiento 2023'!$A$1:$E$183,5,FALSE),0)","v":"04203-Los Vilos"},"15030100","2023-06-22T11:42:07",12,12]
[5,"5",2023,"105481",{"$f":"IFERROR(VLOOKUP(Tabla_SERIED_11_6[[#This Row],[IdEstablecimiento]],'[2]Establecimiento 2023'!$A$1:$E$183,3,FALSE),0)","v":"105481-Posta de Salud Rural Tilama"},{"$f":"IFERROR(VLOOKUP(Tabla_SERIED_11_6[[#This Row],[IdEstablecimiento]],'[2]Establecimiento 2023'!$A$1:$E$183,5,FALSE),0)","v":"04203-Los Vilos"},"16090300","2023-06-22T11:42:19",22,22]
[5,"5",2023,"105481",{"$f":"IFERROR(VLOOKUP(Tabla_SERIED_11_6[[#This Row],[IdEstablecimiento]],'[2]Establecimiento 2023'!$A$1:$E$183,3,FALSE),0)","v":"105481-Posta de Salud Rural Tilama"},{"$f":"IFERROR(VLOOKUP(Tabla_SERIED_11_6[[#This Row],[IdEstablecimiento]],'[2]Establecimiento 2023'!$A$1:$E$183,5,FALSE),0)","v":"04203-Los Vilos"},"16100600","2023-06-22T11:42:19",2,1,1]
[5,"5",2023,"105484",{"$f":"IFERROR(VLOOKUP(Tabla_SERIED_11_6[[#This Row],[IdEstablecimiento]],'[2]Establecimiento 2023'!$A$1:$E$183,3,FALSE),0)","v":"105484-Posta de Salud Rural Huentelauquén"},{"$f":"IFERROR(VLOOKUP(Tabla_SERIED_11_6[[#This Row],[IdEstablecimiento]],'[2]Establecimiento 2023'!$A$1:$E$183,5,FALSE),0)","v":"04202-Canela"},"15010200","2023-06-22T11:43:52",14,{"$nulls":5},6,8]
[5,"5",2023,"105485",{"$f":"IFERROR(VLOOKUP(Tabla_SERIED_11_6[[#This Row],[IdEstablecimiento]],'[2]Establecimiento 2023'!$A$1:$E$183,3,FALSE),0)","v":"105485-Posta de Salud Rural Plan de Hornos"},{"$f":"IFERROR(VLOOKUP(Tabla_SERIED_11_6[[#This Row],[IdEstablecimiento]],'[2]Establecimiento 2023'!$A$1:$E$183,5,FALSE),0)","v":"04201-Illapel"},"16090300","2023-06-22T11:44:11",66,66]
[5,"5",2023,"105487",{"$f":"IFERROR(VLOOKUP(Tabla_SERIED_11_6[[#This Row],[IdEstablecimiento]],'[2]Establecimiento 2023'!$A$1:$E$183,3,FALSE),0)","v":"105487-Posta de Salud Rural Cañas Uno"},{"$f":"IFERROR(VLOOKUP(Tabla_SERIED_11_6[[#This Row],[IdEstablecimiento]],'[2]Establecimiento 2023'!$A$1:$E$183,5,FALSE),0)","v":"04201-Illapel"},"15080009","2023-06-22T11:44:43",3,{"$nulls":8},3]
[5,"5",2023,"105487",{"$f":"IFERROR(VLOOKUP(Tabla_SERIED_11_6[[#This Row],[IdEstablecimiento]],'[2]Establecimiento 2023'!$A$1:$E$183,3,FALSE),0)","v":"105487-Posta de Salud Rural Cañas Uno"},{"$f":"IFERROR(VLOOKUP(Tabla_SERIED_11_6[[#This Row],[IdEstablecimiento]],'[2]Establecimiento 2023'!$A$1:$E$183,5,FALSE),0)","v":"04201-Illapel"},"16090300","2023-06-22T11:44:43",145,145]
[5,"5",2023,"105489",{"$f":"IFERROR(VLOOKUP(Tabla_SERIED_11_6[[#This Row],[IdEstablecimiento]],'[2]Establecimiento 2023'!$A$1:$E$183,3,FALSE),0)","v":"105489-Posta de Salud Rural Ramadas de Tulahuén"},{"$f":"IFERROR(VLOOKUP(Tabla_SERIED_11_6[[#This Row],[IdEstablecimiento]],'[2]Establecimiento 2023'!$A$1:$E$183,5,FALSE),0)","v":"04303-Monte Patria"},"15010200","2023-06-22T11:45:10",6,{"$nulls":5},2,4]
[5,"5",2023,"105498",{"$f":"IFERROR(VLOOKUP(Tabla_SERIED_11_6[[#This Row],[IdEstablecimiento]],'[2]Establecimiento 2023'!$A$1:$E$183,3,FALSE),0)","v":"105498-Posta de Salud Rural Quebrada Linares"},{"$f":"IFERROR(VLOOKUP(Tabla_SERIED_11_6[[#This Row],[IdEstablecimiento]],'[2]Establecimiento 2023'!$A$1:$E$183,5,FALSE),0)","v":"04202-Canela"},"16200220","2023-06-22T11:46:58",4,2,2]
[5,"5",2023,"105504",{"$f":"IFERROR(VLOOKUP(Tabla_SERIED_11_6[[#This Row],[IdEstablecimiento]],'[2]Establecimiento 2023'!$A$1:$E$183,3,FALSE),0)","v":"105504-Posta de Salud Rural Socavón"},{"$f":"IFERROR(VLOOKUP(Tabla_SERIED_11_6[[#This Row],[IdEstablecimiento]],'[2]Establecimiento 2023'!$A$1:$E$183,5,FALSE),0)","v":"04201-Illapel"},"16090300","2023-06-22T11:48:05",21,21]
[5,"5",2023,"105505",{"$f":"IFERROR(VLOOKUP(Tabla_SERIED_11_6[[#This Row],[IdEstablecimiento]],'[2]Establecimiento 2023'!$A$1:$E$183,3,FALSE),0)","v":"105505-Posta de Salud Rural Los Choros"},{"$f":"IFERROR(VLOOKUP(Tabla_SERIED_11_6[[#This Row],[IdEstablecimiento]],'[2]Establecimiento 2023'!$A$1:$E$183,5,FALSE),0)","v":"04104-La Higuera"},"15050100","2023-07-19T15:28:10",15,10,5,null,1,null,2,4,4,4]
[5,"5",2023,"105506",{"$f":"IFERROR(VLOOKUP(Tabla_SERIED_11_6[[#This Row],[IdEstablecimiento]],'[2]Establecimiento 2023'!$A$1:$E$183,3,FALSE),0)","v":"105506-Posta de Salud Rural El Trapiche"},{"$f":"IFERROR(VLOOKUP(Tabla_SERIED_11_6[[#This Row],[IdEstablecimiento]],'[2]Establecimiento 2023'!$A$1:$E$183,5,FALSE),0)","v":"04104-La Higuera"},"15010300","2023-07-19T15:28:28",2,{"$nulls":3},2]
[5,"5",2023,"105507",{"$f":"IFERROR(VLOOKUP(Tabla_SERIED_11_6[[#This Row],[IdEstablecimiento]],'[2]Establecimiento 2023'!$A$1:$E$183,3,FALSE),0)","v":"105507-Posta de Salud Rural Huamalata"},{"$f":"IFERROR(VLOOKUP(Tabla_SERIED_11_6[[#This Row],[IdEstablecimiento]],'[2]Establecimiento 2023'!$A$1:$E$183,5,FALSE),0)","v":"04301-Ovalle"},"16200210","2023-06-22T11:48:39",17,17]
[5,"5",2023,"105508",{"$f":"IFERROR(VLOOKUP(Tabla_SERIED_11_6[[#This Row],[IdEstablecimiento]],'[2]Establecimiento 2023'!$A$1:$E$183,3,FALSE),0)","v":"105508-Posta de Salud Rural El Parral de Quiles"},{"$f":"IFERROR(VLOOKUP(Tabla_SERIED_11_6[[#This Row],[IdEstablecimiento]],'[2]Establecimiento 2023'!$A$1:$E$183,5,FALSE),0)","v":"04304-Punitaqui"},"15010200","2023-06-22T11:48:54",8,{"$nulls":5},6,2]
[5,"5",2023,"105508",{"$f":"IFERROR(VLOOKUP(Tabla_SERIED_11_6[[#This Row],[IdEstablecimiento]],'[2]Establecimiento 2023'!$A$1:$E$183,3,FALSE),0)","v":"105508-Posta de Salud Rural El Parral de Quiles"},{"$f":"IFERROR(VLOOKUP(Tabla_SERIED_11_6[[#This Row],[IdEstablecimiento]],'[2]Establecimiento 2023'!$A$1:$E$183,5,FALSE),0)","v":"04304-Punitaqui"},"16090300","2023-06-22T11:48:54",51,51]
[5,"5",2023,"105509",{"$f":"IFERROR(VLOOKUP(Tabla_SERIED_11_6[[#This Row],[IdEstablecimiento]],'[2]Establecimiento 2023'!$A$1:$E$183,3,FALSE),0)","v":"105509-Posta de Salud Rural Gualliguaica"},{"$f":"IFERROR(VLOOKUP(Tabla_SERIED_11_6[[#This Row],[IdEstablecimiento]],'[2]Establecimiento 2023'!$A$1:$E$183,5,FALSE),0)","v":"04106-Vicuña"},"15010100","2023-06-22T11:49:05",2,{"$nulls":4},2]
[5,"5",2023,"105511",{"$f":"IFERROR(VLOOKUP(Tabla_SERIED_11_6[[#This Row],[IdEstablecimiento]],'[2]Establecimiento 2023'!$A$1:$E$183,3,FALSE),0)","v":"105511-Posta de Salud Rural Los Cóndores"},{"$f":"IFERROR(VLOOKUP(Tabla_SERIED_11_6[[#This Row],[IdEstablecimiento]],'[2]Establecimiento 2023'!$A$1:$E$183,5,FALSE),0)","v":"04203-Los Vilos"},"15010500","2023-06-22T11:49:31",2,{"$nulls":5},2]
[5,"5",2023,"105511",{"$f":"IFERROR(VLOOKUP(Tabla_SERIED_11_6[[#This Row],[IdEstablecimiento]],'[2]Establecimiento 2023'!$A$1:$E$183,3,FALSE),0)","v":"105511-Posta de Salud Rural Los Cóndores"},{"$f":"IFERROR(VLOOKUP(Tabla_SERIED_11_6[[#This Row],[IdEstablecimiento]],'[2]Establecimiento 2023'!$A$1:$E$183,5,FALSE),0)","v":"04203-Los Vilos"},"15900010","2023-06-22T11:49:31",14.4,1.6,null,12.8]
[5,"5",2023,"105511",{"$f":"IFERROR(VLOOKUP(Tabla_SERIED_11_6[[#This Row],[IdEstablecimiento]],'[2]Establecimiento 2023'!$A$1:$E$183,3,FALSE),0)","v":"105511-Posta de Salud Rural Los Cóndores"},{"$f":"IFERROR(VLOOKUP(Tabla_SERIED_11_6[[#This Row],[IdEstablecimiento]],'[2]Establecimiento 2023'!$A$1:$E$183,5,FALSE),0)","v":"04203-Los Vilos"},"16090300","2023-06-22T11:49:31",75,75]
[5,"5",2023,"105511",{"$f":"IFERROR(VLOOKUP(Tabla_SERIED_11_6[[#This Row],[IdEstablecimiento]],'[2]Establecimiento 2023'!$A$1:$E$183,3,FALSE),0)","v":"105511-Posta de Salud Rural Los Cóndores"},{"$f":"IFERROR(VLOOKUP(Tabla_SERIED_11_6[[#This Row],[IdEstablecimiento]],'[2]Establecimiento 2023'!$A$1:$E$183,5,FALSE),0)","v":"04203-Los Vilos"},"16090500","2023-06-22T11:49:31",1,1]
[5,"5",2023,"105700",{"$f":"IFERROR(VLOOKUP(Tabla_SERIED_11_6[[#This Row],[IdEstablecimiento]],'[2]Establecimiento 2023'!$A$1:$E$183,3,FALSE),0)","v":"105700-Centro Comunitario de Salud Familiar Villa el Indio"},{"$f":"IFERROR(VLOOKUP(Tabla_SERIED_11_6[[#This Row],[IdEstablecimiento]],'[2]Establecimiento 2023'!$A$1:$E$183,5,FALSE),0)","v":"04101-La Serena"},"16090300","2023-06-22T11:50:18",99,99]
[5,"5",2023,"105702",{"$f":"IFERROR(VLOOKUP(Tabla_SERIED_11_6[[#This Row],[IdEstablecimiento]],'[2]Establecimiento 2023'!$A$1:$E$183,3,FALSE),0)","v":"105702-Centro Comunitario de Salud Familiar Lambert"},{"$f":"IFERROR(VLOOKUP(Tabla_SERIED_11_6[[#This Row],[IdEstablecimiento]],'[2]Establecimiento 2023'!$A$1:$E$183,5,FALSE),0)","v":"04101-La Serena"},"15080008","2023-06-22T11:50:44",26,{"$nulls":7},12,null,10,null,4]
[5,"5",2023,"105702",{"$f":"IFERROR(VLOOKUP(Tabla_SERIED_11_6[[#This Row],[IdEstablecimiento]],'[2]Establecimiento 2023'!$A$1:$E$183,3,FALSE),0)","v":"105702-Centro Comunitario de Salud Familiar Lambert"},{"$f":"IFERROR(VLOOKUP(Tabla_SERIED_11_6[[#This Row],[IdEstablecimiento]],'[2]Establecimiento 2023'!$A$1:$E$183,5,FALSE),0)","v":"04101-La Serena"},"16100300","2023-06-22T11:50:44",60,19,41]
[5,"5",2023,"200258",{"$f":"IFERROR(VLOOKUP(Tabla_SERIED_11_6[[#This Row],[IdEstablecimiento]],'[2]Establecimiento 2023'!$A$1:$E$183,3,FALSE),0)","v":"200258-Centro Comunitario de Salud Familiar Los Copihues"},{"$f":"IFERROR(VLOOKUP(Tabla_SERIED_11_6[[#This Row],[IdEstablecimiento]],'[2]Establecimiento 2023'!$A$1:$E$183,5,FALSE),0)","v":"04301-Ovalle"},"15050200","2023-06-22T11:52:54",1,1,0,0,0,0,0,1,0,0,null,0,0,0,0]
[6,"5",2023,"105104",{"$f":"IFERROR(VLOOKUP(Tabla_SERIED_11_6[[#This Row],[IdEstablecimiento]],'[2]Establecimiento 2023'!$A$1:$E$183,3,FALSE),0)","v":"105104-Hospital de Salamanca"},{"$f":"IFERROR(VLOOKUP(Tabla_SERIED_11_6[[#This Row],[IdEstablecimiento]],'[2]Establecimiento 2023'!$A$1:$E$183,5,FALSE),0)","v":"105104-Hospital Salamanca"},"15030100","2023-07-19T11:57:23",3.2,null,3.2]
[6,"5",2023,"105105",{"$f":"IFERROR(VLOOKUP(Tabla_SERIED_11_6[[#This Row],[IdEstablecimiento]],'[2]Establecimiento 2023'!$A$1:$E$183,3,FALSE),0)","v":"105105-Hospital San Juan de Dios (Combarbalá)"},{"$f":"IFERROR(VLOOKUP(Tabla_SERIED_11_6[[#This Row],[IdEstablecimiento]],'[2]Establecimiento 2023'!$A$1:$E$183,5,FALSE),0)","v":"105105-Hospital Combarbalá"},"15050100","2023-07-19T12:04:50",194,69,125,1,3,8,24,20,32,56,17,null,14,3,16]
[6,"5",2023,"105105",{"$f":"IFERROR(VLOOKUP(Tabla_SERIED_11_6[[#This Row],[IdEstablecimiento]],'[2]Establecimiento 2023'!$A$1:$E$183,3,FALSE),0)","v":"105105-Hospital San Juan de Dios (Combarbalá)"},{"$f":"IFERROR(VLOOKUP(Tabla_SERIED_11_6[[#This Row],[IdEstablecimiento]],'[2]Establecimiento 2023'!$A$1:$E$183,5,FALSE),0)","v":"105105-Hospital Combarbalá"},"16090300","2023-07-19T12:04:50",396,396]
[6,"5",2023,"105108",{"$f":"IFERROR(VLOOKUP(Tabla_SERIED_11_6[[#This Row],[IdEstablecimiento]],'[2]Establecimiento 2023'!$A$1:$E$183,3,FALSE),0)","v":"105108-Hospital San Pedro (Los Vilos)"},{"$f":"IFERROR(VLOOKUP(Tabla_SERIED_11_6[[#This Row],[IdEstablecimiento]],'[2]Establecimiento 2023'!$A$1:$E$183,5,FALSE),0)","v":"105108-Hospital Los Vilos"},"15050200","2023-07-19T12:11:54",10,6,4,null,null,2,1,null,4,3]
[6,"5",2023,"105108",{"$f":"IFERROR(VLOOKUP(Tabla_SERIED_11_6[[#This Row],[IdEstablecimiento]],'[2]Establecimiento 2023'!$A$1:$E$183,3,FALSE),0)","v":"105108-Hospital San Pedro (Los Vilos)"},{"$f":"IFERROR(VLOOKUP(Tabla_SERIED_11_6[[#This Row],[IdEstablecimiento]],'[2]Establecimiento 2023'!$A$1:$E$183,5,FALSE),0)","v":"105108-Hospital Los Vilos"},"15900010","2023-07-19T12:11:54",179.2,28,34.4,116.8]
[6,"5",2023,"105108",{"$f":"IFERROR(VLOOKUP(Tabla_SERIED_11_6[[#This Row],[IdEstablecimiento]],'[2]Establecimiento 2023'!$A$1:$E$183,3,FALSE),0)","v":"105108-Hospital San Pedro (Los Vilos)"},{"$f":"IFERROR(VLOOKUP(Tabla_SERIED_11_6[[#This Row],[IdEstablecimiento]],'[2]Establecimiento 2023'!$A$1:$E$183,5,FALSE),0)","v":"105108-Hospital Los Vilos"},"16200220","2023-07-19T12:11:54",4,2,2]
[6,"5",2023,"105300",{"$f":"IFERROR(VLOOKUP(Tabla_SERIED_11_6[[#This Row],[IdEstablecimiento]],'[2]Establecimiento 2023'!$A$1:$E$183,3,FALSE),0)","v":"105300-Centro de Salud Familiar Cardenal Caro"},{"$f":"IFERROR(VLOOKUP(Tabla_SERIED_11_6[[#This Row],[IdEstablecimiento]],'[2]Establecimiento 2023'!$A$1:$E$183,5,FALSE),0)","v":"04101-La Serena"},"15010200","2023-07-17T13:19:12",313,{"$nulls":5},190,123]
[6,"5",2023,"105300",{"$f":"IFERROR(VLOOKUP(Tabla_SERIED_11_6[[#This Row],[IdEstablecimiento]],'[2]Establecimiento 2023'!$A$1:$E$183,3,FALSE),0)","v":"105300-Centro de Salud Familiar Cardenal Caro"},{"$f":"IFERROR(VLOOKUP(Tabla_SERIED_11_6[[#This Row],[IdEstablecimiento]],'[2]Establecimiento 2023'!$A$1:$E$183,5,FALSE),0)","v":"04101-La Serena"},"15080008","2023-07-17T13:19:12",182,{"$nulls":7},71,null,76,10,25]
[6,"5",2023,"105300",{"$f":"IFERROR(VLOOKUP(Tabla_SERIED_11_6[[#This Row],[IdEstablecimiento]],'[2]Establecimiento 2023'!$A$1:$E$183,3,FALSE),0)","v":"105300-Centro de Salud Familiar Cardenal Caro"},{"$f":"IFERROR(VLOOKUP(Tabla_SERIED_11_6[[#This Row],[IdEstablecimiento]],'[2]Establecimiento 2023'!$A$1:$E$183,5,FALSE),0)","v":"04101-La Serena"},"15080010","2023-07-17T13:19:12",6,{"$nulls":7},2,null,4]
[6,"5",2023,"105300",{"$f":"IFERROR(VLOOKUP(Tabla_SERIED_11_6[[#This Row],[IdEstablecimiento]],'[2]Establecimiento 2023'!$A$1:$E$183,3,FALSE),0)","v":"105300-Centro de Salud Familiar Cardenal Caro"},{"$f":"IFERROR(VLOOKUP(Tabla_SERIED_11_6[[#This Row],[IdEstablecimiento]],'[2]Establecimiento 2023'!$A$1:$E$183,5,FALSE),0)","v":"04101-La Serena"},"15901400","2023-07-17T13:19:12",24,13,11,2,3,12,4,3]
[6,"5",2023,"105302",{"$f":"IFERROR(VLOOKUP(Tabla_SERIED_11_6[[#This Row],[IdEstablecimiento]],'[2]Establecimiento 2023'!$A$1:$E$183,3,FALSE),0)","v":"105302-Centro de Salud Familiar Pedro Aguirre Cerda"},{"$f":"IFERROR(VLOOKUP(Tabla_SERIED_11_6[[#This Row],[IdEstablecimiento]],'[2]Establecimiento 2023'!$A$1:$E$183,5,FALSE),0)","v":"04101-La Serena"},"15900010","2023-07-17T13:20:20",284,12.8,66.4,204.8]
[6,"5",2023,"105302",{"$f":"IFERROR(VLOOKUP(Tabla_SERIED_11_6[[#This Row],[IdEstablecimiento]],'[2]Establecimiento 2023'!$A$1:$E$183,3,FALSE),0)","v":"105302-Centro de Salud Familiar Pedro Aguirre Cerda"},{"$f":"IFERROR(VLOOKUP(Tabla_SERIED_11_6[[#This Row],[IdEstablecimiento]],'[2]Establecimiento 2023'!$A$1:$E$183,5,FALSE),0)","v":"04101-La Serena"},"15901200","2023-07-17T13:20:20",10.4,3.2,null,7.2]
[6,"5",2023,"105303",{"$f":"IFERROR(VLOOKUP(Tabla_SERIED_11_6[[#This Row],[IdEstablecimiento]],'[2]Establecimiento 2023'!$A$1:$E$183,3,FALSE),0)","v":"105303-Centro de Salud Familiar San Juan"},{"$f":"IFERROR(VLOOKUP(Tabla_SERIED_11_6[[#This Row],[IdEstablecimiento]],'[2]Establecimiento 2023'!$A$1:$E$183,5,FALSE),0)","v":"04102-Coquimbo"},"15050100","2023-07-19T12:14:03",505,243,330,0,0,0,85,81,121,93,60,null,22,36,7]
[6,"5",2023,"105303",{"$f":"IFERROR(VLOOKUP(Tabla_SERIED_11_6[[#This Row],[IdEstablecimiento]],'[2]Establecimiento 2023'!$A$1:$E$183,3,FALSE),0)","v":"105303-Centro de Salud Familiar San Juan"},{"$f":"IFERROR(VLOOKUP(Tabla_SERIED_11_6[[#This Row],[IdEstablecimiento]],'[2]Establecimiento 2023'!$A$1:$E$183,5,FALSE),0)","v":"04102-Coquimbo"},"15900010","2023-07-19T12:14:03",180.8,25.6,47.2,108]
[6,"5",2023,"105304",{"$f":"IFERROR(VLOOKUP(Tabla_SERIED_11_6[[#This Row],[IdEstablecimiento]],'[2]Establecimiento 2023'!$A$1:$E$183,3,FALSE),0)","v":"105304-Centro de Salud Familiar Santa Cecilia"},{"$f":"IFERROR(VLOOKUP(Tabla_SERIED_11_6[[#This Row],[IdEstablecimiento]],'[2]Establecimiento 2023'!$A$1:$E$183,5,FALSE),0)","v":"04102-Coquimbo"},"15020200","2023-08-18T11:32:15",2,{"$nulls":5},2,0]
[6,"5",2023,"105304",{"$f":"IFERROR(VLOOKUP(Tabla_SERIED_11_6[[#This Row],[IdEstablecimiento]],'[2]Establecimiento 2023'!$A$1:$E$183,3,FALSE),0)","v":"105304-Centro de Salud Familiar Santa Cecilia"},{"$f":"IFERROR(VLOOKUP(Tabla_SERIED_11_6[[#This Row],[IdEstablecimiento]],'[2]Establecimiento 2023'!$A$1:$E$183,5,FALSE),0)","v":"04102-Coquimbo"},"15050200","2023-08-18T11:32:15",16,8,8,0,2,5,3,1,2,1,null,2,0,0,0]
[6,"5",2023,"105304",{"$f":"IFERROR(VLOOKUP(Tabla_SERIED_11_6[[#This Row],[IdEstablecimiento]],'[2]Establecimiento 2023'!$A$1:$E$183,3,FALSE),0)","v":"105304-Centro de Salud Familiar Santa Cecilia"},{"$f":"IFERROR(VLOOKUP(Tabla_SERIED_11_6[[#This Row],[IdEstablecimiento]],'[2]Establecimiento 2023'!$A$1:$E$183,5,FALSE),0)","v":"04102-Coquimbo"},"15080014","2023-08-18T11:32:15",287,{"$nulls":3},118,166,null,null,1,null,2]
[6,"5",2023,"105304",{"$f":"IFERROR(VLOOKUP(Tabla_SERIED_11_6[[#This Row],[IdEstablecimiento]],'[2]Establecimiento 2023'!$A$1:$E$183,3,FALSE),0)","v":"105304-Centro de Salud Familiar Santa Cecilia"},{"$f":"IFERROR(VLOOKUP(Tabla_SERIED_11_6[[#This Row],[IdEstablecimiento]],'[2]Establecimiento 2023'!$A$1:$E$183,5,FALSE),0)","v":"04102-Coquimbo"},"15080016","2023-08-18T11:32:15",14,{"$nulls":3},6,2,4,2]
[6,"5",2023,"105304",{"$f":"IFERROR(VLOOKUP(Tabla_SERIED_11_6[[#This Row],[IdEstablecimiento]],'[2]Establecimiento 2023'!$A$1:$E$183,3,FALSE),0)","v":"105304-Centro de Salud Familiar Santa Cecilia"},{"$f":"IFERROR(VLOOKUP(Tabla_SERIED_11_6[[#This Row],[IdEstablecimiento]],'[2]Establecimiento 2023'!$A$1:$E$183,5,FALSE),0)","v":"04102-Coquimbo"},"15900020","2023-08-18T11:32:15",21.6,0,8,13.6]
[6,"5",2023,"105305",{"$f":"IFERROR(VLOOKUP(Tabla_SERIED_11_6[[#This Row],[IdEstablecimiento]],'[2]Establecimiento 2023'!$A$1:$E$183,3,FALSE),0)","v":"105305-Centro de Salud Familiar Tierras Blancas"},{"$f":"IFERROR(VLOOKUP(Tabla_SERIED_11_6[[#This Row],[IdEstablecimiento]],'[2]Establecimiento 2023'!$A$1:$E$183,5,FALSE),0)","v":"04102-Coquimbo"},"15050200","2023-07-19T12:12:59",12,6,6,{"$nulls":3},1,null,1,5,null,5]
[6,"5",2023,"105305",{"$f":"IFERROR(VLOOKUP(Tabla_SERIED_11_6[[#This Row],[IdEstablecimiento]],'[2]Establecimiento 2023'!$A$1:$E$183,3,FALSE),0)","v":"105305-Centro de Salud Familiar Tierras Blancas"},{"$f":"IFERROR(VLOOKUP(Tabla_SERIED_11_6[[#This Row],[IdEstablecimiento]],'[2]Establecimiento 2023'!$A$1:$E$183,5,FALSE),0)","v":"04102-Coquimbo"},"15080008","2023-07-19T12:12:59",183,{"$nulls":7},81,null,62,14,26]
[6,"5",2023,"105305",{"$f":"IFERROR(VLOOKUP(Tabla_SERIED_11_6[[#This Row],[IdEstablecimiento]],'[2]Establecimiento 2023'!$A$1:$E$183,3,FALSE),0)","v":"105305-Centro de Salud Familiar Tierras Blancas"},{"$f":"IFERROR(VLOOKUP(Tabla_SERIED_11_6[[#This Row],[IdEstablecimiento]],'[2]Establecimiento 2023'!$A$1:$E$183,5,FALSE),0)","v":"04102-Coquimbo"},"15901400","2023-07-19T12:12:59",1,null,1,null,null,1]
[6,"5",2023,"105307",{"$f":"IFERROR(VLOOKUP(Tabla_SERIED_11_6[[#This Row],[IdEstablecimiento]],'[2]Establecimiento 2023'!$A$1:$E$183,3,FALSE),0)","v":"105307-Centro de Salud Familiar Monte Patria"},{"$f":"IFERROR(VLOOKUP(Tabla_SERIED_11_6[[#This Row],[IdEstablecimiento]],'[2]Establecimiento 2023'!$A$1:$E$183,5,FALSE),0)","v":"04303-Monte Patria"},"16100300","2023-07-17T13:21:31",296,138,158]
[6,"5",2023,"105308",{"$f":"IFERROR(VLOOKUP(Tabla_SERIED_11_6[[#This Row],[IdEstablecimiento]],'[2]Establecimiento 2023'!$A$1:$E$183,3,FALSE),0)","v":"105308-Centro de Salud Familiar Punitaqui"},{"$f":"IFERROR(VLOOKUP(Tabla_SERIED_11_6[[#This Row],[IdEstablecimiento]],'[2]Establecimiento 2023'!$A$1:$E$183,5,FALSE),0)","v":"04304-Punitaqui"},"15900010","2023-07-18T15:52:12",98.4,null,21.6,76.8]
[6,"5",2023,"105310",{"$f":"IFERROR(VLOOKUP(Tabla_SERIED_11_6[[#This Row],[IdEstablecimiento]],'[2]Establecimiento 2023'!$A$1:$E$183,3,FALSE),0)","v":"105310-Centro de Salud Familiar Pichasca"},{"$f":"IFERROR(VLOOKUP(Tabla_SERIED_11_6[[#This Row],[IdEstablecimiento]],'[2]Establecimiento 2023'!$A$1:$E$183,5,FALSE),0)","v":"04305-Rio Hurtado"},"15050200","2023-07-17T14:51:33",6,2,4,null,1,1,null,null,1,2,null,1]
[6,"5",2023,"105310",{"$f":"IFERROR(VLOOKUP(Tabla_SERIED_11_6[[#This Row],[IdEstablecimiento]],'[2]Establecimiento 2023'!$A$1:$E$183,3,FALSE),0)","v":"105310-Centro de Salud Familiar Pichasca"},{"$f":"IFERROR(VLOOKUP(Tabla_SERIED_11_6[[#This Row],[IdEstablecimiento]],'[2]Establecimiento 2023'!$A$1:$E$183,5,FALSE),0)","v":"04305-Rio Hurtado"},"15080016","2023-07-17T14:51:33",2,{"$nulls":5},2]
[6,"5",2023,"105311",{"$f":"IFERROR(VLOOKUP(Tabla_SERIED_11_6[[#This Row],[IdEstablecimiento]],'[2]Establecimiento 2023'!$A$1:$E$183,3,FALSE),0)","v":"105311-Centro de Salud Familiar Chañaral Alto"},{"$f":"IFERROR(VLOOKUP(Tabla_SERIED_11_6[[#This Row],[IdEstablecimiento]],'[2]Establecimiento 2023'!$A$1:$E$183,5,FALSE),0)","v":"04303-Monte Patria"},"15050100","2023-07-17T14:54:15",115,52,63,null,1,8,12,16,24,29,18,null,6,null,1]
[6,"5",2023,"105311",{"$f":"IFERROR(VLOOKUP(Tabla_SERIED_11_6[[#This Row],[IdEstablecimiento]],'[2]Establecimiento 2023'!$A$1:$E$183,3,FALSE),0)","v":"105311-Centro de Salud Familiar Chañaral Alto"},{"$f":"IFERROR(VLOOKUP(Tabla_SERIED_11_6[[#This Row],[IdEstablecimiento]],'[2]Establecimiento 2023'!$A$1:$E$183,5,FALSE),0)","v":"04303-Monte Patria"},"15900010","2023-07-17T14:54:15",24,null,3.2,20.8]
[6,"5",2023,"105311",{"$f":"IFERROR(VLOOKUP(Tabla_SERIED_11_6[[#This Row],[IdEstablecimiento]],'[2]Establecimiento 2023'!$A$1:$E$183,3,FALSE),0)","v":"105311-Centro de Salud Familiar Chañaral Alto"},{"$f":"IFERROR(VLOOKUP(Tabla_SERIED_11_6[[#This Row],[IdEstablecimiento]],'[2]Establecimiento 2023'!$A$1:$E$183,5,FALSE),0)","v":"04303-Monte Patria"},"15900050","2023-07-17T14:54:15",3,2,1,{"$nulls":3},3]
[6,"5",2023,"105313",{"$f":"IFERROR(VLOOKUP(Tabla_SERIED_11_6[[#This Row],[IdEstablecimiento]],'[2]Establecimiento 2023'!$A$1:$E$183,3,FALSE),0)","v":"105313-Centro de Salud Familiar Dr. Emilio Schaffhauser"},{"$f":"IFERROR(VLOOKUP(Tabla_SERIED_11_6[[#This Row],[IdEstablecimiento]],'[2]Establecimiento 2023'!$A$1:$E$183,5,FALSE),0)","v":"04101-La Serena"},"15010200","2023-07-17T14:55:07",366,{"$nulls":5},193,173]
[6,"5",2023,"105313",{"$f":"IFERROR(VLOOKUP(Tabla_SERIED_11_6[[#This Row],[IdEstablecimiento]],'[2]Establecimiento 2023'!$A$1:$E$183,3,FALSE),0)","v":"105313-Centro de Salud Familiar Dr. Emilio Schaffhauser"},{"$f":"IFERROR(VLOOKUP(Tabla_SERIED_11_6[[#This Row],[IdEstablecimiento]],'[2]Establecimiento 2023'!$A$1:$E$183,5,FALSE),0)","v":"04101-La Serena"},"15080016","2023-07-17T14:55:07",16,{"$nulls":3},2,2,6,6]
[6,"5",2023,"105313",{"$f":"IFERROR(VLOOKUP(Tabla_SERIED_11_6[[#This Row],[IdEstablecimiento]],'[2]Establecimiento 2023'!$A$1:$E$183,3,FALSE),0)","v":"105313-Centro de Salud Familiar Dr. Emilio Schaffhauser"},{"$f":"IFERROR(VLOOKUP(Tabla_SERIED_11_6[[#This Row],[IdEstablecimiento]],'[2]Establecimiento 2023'!$A$1:$E$183,5,FALSE),0)","v":"04101-La Serena"},"16200210","2023-07-17T14:55:07",93,93]
[6,"5",2023,"105314",{"$f":"IFERROR(VLOOKUP(Tabla_SERIED_11_6[[#This Row],[IdEstablecimiento]],'[2]Establecimiento 2023'!$A$1:$E$183,3,FALSE),0)","v":"105314-Centro de Salud Familiar La Higuera"},{"$f":"IFERROR(VLOOKUP(Tabla_SERIED_11_6[[#This Row],[IdEstablecimiento]],'[2]Establecimiento 2023'!$A$1:$E$183,5,FALSE),0)","v":"04104-La Higuera"},"15050100","2023-07-18T10:01:23",45,23,22,2,2,8,7,4,8,6,7,null,1]
[6,"5",2023,"105314",{"$f":"IFERROR(VLOOKUP(Tabla_SERIED_11_6[[#This Row],[IdEstablecimiento]],'[2]Establecimiento 2023'!$A$1:$E$183,3,FALSE),0)","v":"105314-Centro de Salud Familiar La Higuera"},{"$f":"IFERROR(VLOOKUP(Tabla_SERIED_11_6[[#This Row],[IdEstablecimiento]],'[2]Establecimiento 2023'!$A$1:$E$183,5,FALSE),0)","v":"04104-La Higuera"},"15050200","2023-07-18T10:01:23",1,null,1,{"$nulls":3},1]
[6,"5",2023,"105315",{"$f":"IFERROR(VLOOKUP(Tabla_SERIED_11_6[[#This Row],[IdEstablecimiento]],'[2]Establecimiento 2023'!$A$1:$E$183,3,FALSE),0)","v":"105315-Centro de Salud Familiar Cerrillos de Tamaya"},{"$f":"IFERROR(VLOOKUP(Tabla_SERIED_11_6[[#This Row],[IdEstablecimiento]],'[2]Establecimiento 2023'!$A$1:$E$183,5,FALSE),0)","v":"04301-Ovalle"},"16100300","2023-07-17T14:57:49",284,132,152]
[6,"5",2023,"105317",{"$f":"IFERROR(VLOOKUP(Tabla_SERIED_11_6[[#This Row],[IdEstablecimiento]],'[2]Establecimiento 2023'!$A$1:$E$183,3,FALSE),0)","v":"105317-Centro de Salud Familiar Jorge Jordán Domic"},{"$f":"IFERROR(VLOOKUP(Tabla_SERIED_11_6[[#This Row],[IdEstablecimiento]],'[2]Establecimiento 2023'!$A$1:$E$183,5,FALSE),0)","v":"04301-Ovalle"},"15080009","2023-07-17T15:15:09",9,{"$nulls":8},9]
[6,"5",2023,"105317",{"$f":"IFERROR(VLOOKUP(Tabla_SERIED_11_6[[#This Row],[IdEstablecimiento]],'[2]Establecimiento 2023'!$A$1:$E$183,3,FALSE),0)","v":"105317-Centro de Salud Familiar Jorge Jordán Domic"},{"$f":"IFERROR(VLOOKUP(Tabla_SERIED_11_6[[#This Row],[IdEstablecimiento]],'[2]Establecimiento 2023'!$A$1:$E$183,5,FALSE),0)","v":"04301-Ovalle"},"15080016","2023-07-17T15:15:09",14,{"$nulls":3},2,null,8,4]
[6,"5",2023,"105317",{"$f":"IFERROR(VLOOKUP(Tabla_SERIED_11_6[[#This Row],[IdEstablecimiento]],'[2]Establecimiento 2023'!$A$1:$E$183,3,FALSE),0)","v":"105317-Centro de Salud Familiar Jorge Jordán Domic"},{"$f":"IFERROR(VLOOKUP(Tabla_SERIED_11_6[[#This Row],[IdEstablecimiento]],'[2]Establecimiento 2023'!$A$1:$E$183,5,FALSE),0)","v":"04301-Ovalle"},"15900030","2023-07-17T15:15:09",29.2,null,4,4,10,6.4,4.8]
[6,"5",2023,"105317",{"$f":"IFERROR(VLOOKUP(Tabla_SERIED_11_6[[#This Row],[IdEstablecimiento]],'[2]Establecimiento 2023'!$A$1:$E$183,3,FALSE),0)","v":"105317-Centro de Salud Familiar Jorge Jordán Domic"},{"$f":"IFERROR(VLOOKUP(Tabla_SERIED_11_6[[#This Row],[IdEstablecimiento]],'[2]Establecimiento 2023'!$A$1:$E$183,5,FALSE),0)","v":"04301-Ovalle"},"16200210","2023-07-17T15:15:09",80,80]
[6,"5",2023,"105318",{"$f":"IFERROR(VLOOKUP(Tabla_SERIED_11_6[[#This Row],[IdEstablecimiento]],'[2]Establecimiento 2023'!$A$1:$E$183,3,FALSE),0)","v":"105318-Centro de Salud Familiar El Palqui"},{"$f":"IFERROR(VLOOKUP(Tabla_SERIED_11_6[[#This Row],[IdEstablecimiento]],'[2]Establecimiento 2023'!$A$1:$E$183,5,FALSE),0)","v":"04303-Monte Patria"},"15010500","2023-07-19T11:44:42",22,null,null,6,null,6,8,2]
[6,"5",2023,"105318",{"$f":"IFERROR(VLOOKUP(Tabla_SERIED_11_6[[#This Row],[IdEstablecimiento]],'[2]Establecimiento 2023'!$A$1:$E$183,3,FALSE),0)","v":"105318-Centro de Salud Familiar El Palqui"},{"$f":"IFERROR(VLOOKUP(Tabla_SERIED_11_6[[#This Row],[IdEstablecimiento]],'[2]Establecimiento 2023'!$A$1:$E$183,5,FALSE),0)","v":"04303-Monte Patria"},"15080014","2023-07-19T11:44:42",128,{"$nulls":3},58,70]
[6,"5",2023,"105318",{"$f":"IFERROR(VLOOKUP(Tabla_SERIED_11_6[[#This Row],[IdEstablecimiento]],'[2]Establecimiento 2023'!$A$1:$E$183,3,FALSE),0)","v":"105318-Centro de Salud Familiar El Palqui"},{"$f":"IFERROR(VLOOKUP(Tabla_SERIED_11_6[[#This Row],[IdEstablecimiento]],'[2]Establecimiento 2023'!$A$1:$E$183,5,FALSE),0)","v":"04303-Monte Patria"},"16090500","2023-07-19T11:44:42",22,22]
[6,"5",2023,"105321",{"$f":"IFERROR(VLOOKUP(Tabla_SERIED_11_6[[#This Row],[IdEstablecimiento]],'[2]Establecimiento 2023'!$A$1:$E$183,3,FALSE),0)","v":"105321-Centro de Salud Familiar Tongoy"},{"$f":"IFERROR(VLOOKUP(Tabla_SERIED_11_6[[#This Row],[IdEstablecimiento]],'[2]Establecimiento 2023'!$A$1:$E$183,5,FALSE),0)","v":"04102-Coquimbo"},"15050200","2023-07-18T12:52:38",5,2,3,null,null,2,null,0,2,null,null,1]
[6,"5",2023,"105322",{"$f":"IFERROR(VLOOKUP(Tabla_SERIED_11_6[[#This Row],[IdEstablecimiento]],'[2]Establecimiento 2023'!$A$1:$E$183,3,FALSE),0)","v":"105322-Centro de Salud Familiar Marcos Macuada"},{"$f":"IFERROR(VLOOKUP(Tabla_SERIED_11_6[[#This Row],[IdEstablecimiento]],'[2]Establecimiento 2023'!$A$1:$E$183,5,FALSE),0)","v":"04301-Ovalle"},"15030100","2023-07-19T15:48:06",7.2,0,4,3.2]
[6,"5",2023,"105322",{"$f":"IFERROR(VLOOKUP(Tabla_SERIED_11_6[[#This Row],[IdEstablecimiento]],'[2]Establecimiento 2023'!$A$1:$E$183,3,FALSE),0)","v":"105322-Centro de Salud Familiar Marcos Macuada"},{"$f":"IFERROR(VLOOKUP(Tabla_SERIED_11_6[[#This Row],[IdEstablecimiento]],'[2]Establecimiento 2023'!$A$1:$E$183,5,FALSE),0)","v":"04301-Ovalle"},"15050100","2023-07-19T15:48:06",441,163,278,4,10,38,58,48,94,97,51,null,21,9,11]
[6,"5",2023,"105322",{"$f":"IFERROR(VLOOKUP(Tabla_SERIED_11_6[[#This Row],[IdEstablecimiento]],'[2]Establecimiento 2023'!$A$1:$E$183,3,FALSE),0)","v":"105322-Centro de Salud Familiar Marcos Macuada"},{"$f":"IFERROR(VLOOKUP(Tabla_SERIED_11_6[[#This Row],[IdEstablecimiento]],'[2]Establecimiento 2023'!$A$1:$E$183,5,FALSE),0)","v":"04301-Ovalle"},"15050200","2023-07-19T15:48:06",4,2,2,0,0,1,1,0,0,1,null,1,0,0,0]
[6,"5",2023,"105322",{"$f":"IFERROR(VLOOKUP(Tabla_SERIED_11_6[[#This Row],[IdEstablecimiento]],'[2]Establecimiento 2023'!$A$1:$E$183,3,FALSE),0)","v":"105322-Centro de Salud Familiar Marcos Macuada"},{"$f":"IFERROR(VLOOKUP(Tabla_SERIED_11_6[[#This Row],[IdEstablecimiento]],'[2]Establecimiento 2023'!$A$1:$E$183,5,FALSE),0)","v":"04301-Ovalle"},"15900010","2023-07-19T15:48:06",141.6,4.8,27.2,109.6]
[6,"5",2023,"105323",{"$f":"IFERROR(VLOOKUP(Tabla_SERIED_11_6[[#This Row],[IdEstablecimiento]],'[2]Establecimiento 2023'!$A$1:$E$183,3,FALSE),0)","v":"105323-Centro de Salud Familiar Dr. Sergio Aguilar Delgado"},{"$f":"IFERROR(VLOOKUP(Tabla_SERIED_11_6[[#This Row],[IdEstablecimiento]],'[2]Establecimiento 2023'!$A$1:$E$183,5,FALSE),0)","v":"04102-Coquimbo"},"15901200","2023-07-18T12:53:31",18.8,null,null,18.8]
[6,"5",2023,"105323",{"$f":"IFERROR(VLOOKUP(Tabla_SERIED_11_6[[#This Row],[IdEstablecimiento]],'[2]Establecimiento 2023'!$A$1:$E$183,3,FALSE),0)","v":"105323-Centro de Salud Familiar Dr. Sergio Aguilar Delgado"},{"$f":"IFERROR(VLOOKUP(Tabla_SERIED_11_6[[#This Row],[IdEstablecimiento]],'[2]Establecimiento 2023'!$A$1:$E$183,5,FALSE),0)","v":"04102-Coquimbo"},"16100100","2023-07-18T12:53:31",4,1,3]
[6,"5",2023,"105324",{"$f":"IFERROR(VLOOKUP(Tabla_SERIED_11_6[[#This Row],[IdEstablecimiento]],'[2]Establecimiento 2023'!$A$1:$E$183,3,FALSE),0)","v":"105324-Centro de Salud Familiar Sotaquí"},{"$f":"IFERROR(VLOOKUP(Tabla_SERIED_11_6[[#This Row],[IdEstablecimiento]],'[2]Establecimiento 2023'!$A$1:$E$183,5,FALSE),0)","v":"04301-Ovalle"},"15010500","2023-07-17T15:21:37",18,null,null,2,null,null,8,8]
[6,"5",2023,"105324",{"$f":"IFERROR(VLOOKUP(Tabla_SERIED_11_6[[#This Row],[IdEstablecimiento]],'[2]Establecimiento 2023'!$A$1:$E$183,3,FALSE),0)","v":"105324-Centro de Salud Familiar Sotaquí"},{"$f":"IFERROR(VLOOKUP(Tabla_SERIED_11_6[[#This Row],[IdEstablecimiento]],'[2]Establecimiento 2023'!$A$1:$E$183,5,FALSE),0)","v":"04301-Ovalle"},"15080008","2023-07-17T15:21:37",40,{"$nulls":7},17,null,18,1,4]
[6,"5",2023,"105324",{"$f":"IFERROR(VLOOKUP(Tabla_SERIED_11_6[[#This Row],[IdEstablecimiento]],'[2]Establecimiento 2023'!$A$1:$E$183,3,FALSE),0)","v":"105324-Centro de Salud Familiar Sotaquí"},{"$f":"IFERROR(VLOOKUP(Tabla_SERIED_11_6[[#This Row],[IdEstablecimiento]],'[2]Establecimiento 2023'!$A$1:$E$183,5,FALSE),0)","v":"04301-Ovalle"},"15080018","2023-07-17T15:21:37",2,null,null,2]
[6,"5",2023,"105325",{"$f":"IFERROR(VLOOKUP(Tabla_SERIED_11_6[[#This Row],[IdEstablecimiento]],'[2]Establecimiento 2023'!$A$1:$E$183,3,FALSE),0)","v":"105325-Centro de Salud Familiar Juan Pablo II (La Serena)"},{"$f":"IFERROR(VLOOKUP(Tabla_SERIED_11_6[[#This Row],[IdEstablecimiento]],'[2]Establecimiento 2023'!$A$1:$E$183,5,FALSE),0)","v":"04101-La Serena"},"15050500","2023-07-17T15:22:31",4,2,2,2,0,2]
[6,"5",2023,"105325",{"$f":"IFERROR(VLOOKUP(Tabla_SERIED_11_6[[#This Row],[IdEstablecimiento]],'[2]Establecimiento 2023'!$A$1:$E$183,3,FALSE),0)","v":"105325-Centro de Salud Familiar Juan Pablo II (La Serena)"},{"$f":"IFERROR(VLOOKUP(Tabla_SERIED_11_6[[#This Row],[IdEstablecimiento]],'[2]Establecimiento 2023'!$A$1:$E$183,5,FALSE),0)","v":"04101-La Serena"},"15900050","2023-07-17T15:22:31",7,5,2,2,1,1,2,1]
[6,"5",2023,"105325",{"$f":"IFERROR(VLOOKUP(Tabla_SERIED_11_6[[#This Row],[IdEstablecimiento]],'[2]Establecimiento 2023'!$A$1:$E$183,3,FALSE),0)","v":"105325-Centro de Salud Familiar Juan Pablo II (La Serena)"},{"$f":"IFERROR(VLOOKUP(Tabla_SERIED_11_6[[#This Row],[IdEstablecimiento]],'[2]Establecimiento 2023'!$A$1:$E$183,5,FALSE),0)","v":"04101-La Serena"},"15901500","2023-07-17T15:22:31",4.8,0,0,4.8]
[6,"5",2023,"105326",{"$f":"IFERROR(VLOOKUP(Tabla_SERIED_11_6[[#This Row],[IdEstablecimiento]],'[2]Establecimiento 2023'!$A$1:$E$183,3,FALSE),0)","v":"105326-Centro de Salud Familiar Villa San Rafael de Rozas"},{"$f":"IFERROR(VLOOKUP(Tabla_SERIED_11_6[[#This Row],[IdEstablecimiento]],'[2]Establecimiento 2023'!$A$1:$E$183,5,FALSE),0)","v":"04201-Illapel"},"15900020","2023-07-18T17:01:45",8,1.6,null,6.4]
[6,"5",2023,"105326",{"$f":"IFERROR(VLOOKUP(Tabla_SERIED_11_6[[#This Row],[IdEstablecimiento]],'[2]Establecimiento 2023'!$A$1:$E$183,3,FALSE),0)","v":"105326-Centro de Salud Familiar Villa San Rafael de Rozas"},{"$f":"IFERROR(VLOOKUP(Tabla_SERIED_11_6[[#This Row],[IdEstablecimiento]],'[2]Establecimiento 2023'!$A$1:$E$183,5,FALSE),0)","v":"04201-Illapel"},"15901400","2023-07-18T17:01:45",1,null,1,{"$nulls":3},1]
[6,"5",2023,"105401",{"$f":"IFERROR(VLOOKUP(Tabla_SERIED_11_6[[#This Row],[IdEstablecimiento]],'[2]Establecimiento 2023'!$A$1:$E$183,3,FALSE),0)","v":"105401-Posta de Salud Rural Las Rojas"},{"$f":"IFERROR(VLOOKUP(Tabla_SERIED_11_6[[#This Row],[IdEstablecimiento]],'[2]Establecimiento 2023'!$A$1:$E$183,5,FALSE),0)","v":"04101-La Serena"},"15080016","2023-07-17T15:23:21",2,{"$nulls":4},2]
[6,"5",2023,"105401",{"$f":"IFERROR(VLOOKUP(Tabla_SERIED_11_6[[#This Row],[IdEstablecimiento]],'[2]Establecimiento 2023'!$A$1:$E$183,3,FALSE),0)","v":"105401-Posta de Salud Rural Las Rojas"},{"$f":"IFERROR(VLOOKUP(Tabla_SERIED_11_6[[#This Row],[IdEstablecimiento]],'[2]Establecimiento 2023'!$A$1:$E$183,5,FALSE),0)","v":"04101-La Serena"},"16090300","2023-07-17T15:23:21",57,57]
[6,"5",2023,"105409",{"$f":"IFERROR(VLOOKUP(Tabla_SERIED_11_6[[#This Row],[IdEstablecimiento]],'[2]Establecimiento 2023'!$A$1:$E$183,3,FALSE),0)","v":"105409-Posta de Salud Rural El Chañar"},{"$f":"IFERROR(VLOOKUP(Tabla_SERIED_11_6[[#This Row],[IdEstablecimiento]],'[2]Establecimiento 2023'!$A$1:$E$183,5,FALSE),0)","v":"04305-Rio Hurtado"},"15080008","2023-07-19T12:51:40",1,{"$nulls":11},1]
[6,"5",2023,"105413",{"$f":"IFERROR(VLOOKUP(Tabla_SERIED_11_6[[#This Row],[IdEstablecimiento]],'[2]Establecimiento 2023'!$A$1:$E$183,3,FALSE),0)","v":"105413-Posta de Salud Rural Samo Alto"},{"$f":"IFERROR(VLOOKUP(Tabla_SERIED_11_6[[#This Row],[IdEstablecimiento]],'[2]Establecimiento 2023'!$A$1:$E$183,5,FALSE),0)","v":"04305-Rio Hurtado"},"15900010","2023-07-19T15:49:02",3.2,null,null,3.2]
[6,"5",2023,"105413",{"$f":"IFERROR(VLOOKUP(Tabla_SERIED_11_6[[#This Row],[IdEstablecimiento]],'[2]Establecimiento 2023'!$A$1:$E$183,3,FALSE),0)","v":"105413-Posta de Salud Rural Samo Alto"},{"$f":"IFERROR(VLOOKUP(Tabla_SERIED_11_6[[#This Row],[IdEstablecimiento]],'[2]Establecimiento 2023'!$A$1:$E$183,5,FALSE),0)","v":"04305-Rio Hurtado"},"16200210","2023-07-19T15:49:02",7,7]
[6,"5",2023,"105415",{"$f":"IFERROR(VLOOKUP(Tabla_SERIED_11_6[[#This Row],[IdEstablecimiento]],'[2]Establecimiento 2023'!$A$1:$E$183,3,FALSE),0)","v":"105415-Posta de Salud Rural Barraza"},{"$f":"IFERROR(VLOOKUP(Tabla_SERIED_11_6[[#This Row],[IdEstablecimiento]],'[2]Establecimiento 2023'!$A$1:$E$183,5,FALSE),0)","v":"04301-Ovalle"},"16200220","2023-07-19T15:49:28",2,1,1]
[6,"5",2023,"105416",{"$f":"IFERROR(VLOOKUP(Tabla_SERIED_11_6[[#This Row],[IdEstablecimiento]],'[2]Establecimiento 2023'!$A$1:$E$183,3,FALSE),0)","v":"105416-Posta de Salud Rural Camarico (Ovalle)"},{"$f":"IFERROR(VLOOKUP(Tabla_SERIED_11_6[[#This Row],[IdEstablecimiento]],'[2]Establecimiento 2023'!$A$1:$E$183,5,FALSE),0)","v":"04301-Ovalle"},"15050200","2023-07-17T15:37:38",1,1,{"$nulls":6},1]
[6,"5",2023,"105416",{"$f":"IFERROR(VLOOKUP(Tabla_SERIED_11_6[[#This Row],[IdEstablecimiento]],'[2]Establecimiento 2023'!$A$1:$E$183,3,FALSE),0)","v":"105416-Posta de Salud Rural Camarico (Ovalle)"},{"$f":"IFERROR(VLOOKUP(Tabla_SERIED_11_6[[#This Row],[IdEstablecimiento]],'[2]Establecimiento 2023'!$A$1:$E$183,5,FALSE),0)","v":"04301-Ovalle"},"16100300","2023-07-17T15:37:38",99,49,50]
[6,"5",2023,"105425",{"$f":"IFERROR(VLOOKUP(Tabla_SERIED_11_6[[#This Row],[IdEstablecimiento]],'[2]Establecimiento 2023'!$A$1:$E$183,3,FALSE),0)","v":"105425-Posta de Salud Rural Chilecito"},{"$f":"IFERROR(VLOOKUP(Tabla_SERIED_11_6[[#This Row],[IdEstablecimiento]],'[2]Establecimiento 2023'!$A$1:$E$183,5,FALSE),0)","v":"04303-Monte Patria"},"15010200","2023-07-17T15:40:28",8,{"$nulls":5},2,6]
[6,"5",2023,"105425",{"$f":"IFERROR(VLOOKUP(Tabla_SERIED_11_6[[#This Row],[IdEstablecimiento]],'[2]Establecimiento 2023'!$A$1:$E$183,3,FALSE),0)","v":"105425-Posta de Salud Rural Chilecito"},{"$f":"IFERROR(VLOOKUP(Tabla_SERIED_11_6[[#This Row],[IdEstablecimiento]],'[2]Establecimiento 2023'!$A$1:$E$183,5,FALSE),0)","v":"04303-Monte Patria"},"15010500","2023-07-17T15:40:28",2,{"$nulls":5},2]
[6,"5",2023,"105425",{"$f":"IFERROR(VLOOKUP(Tabla_SERIED_11_6[[#This Row],[IdEstablecimiento]],'[2]Establecimiento 2023'!$A$1:$E$183,3,FALSE),0)","v":"105425-Posta de Salud Rural Chilecito"},{"$f":"IFERROR(VLOOKUP(Tabla_SERIED_11_6[[#This Row],[IdEstablecimiento]],'[2]Establecimiento 2023'!$A$1:$E$183,5,FALSE),0)","v":"04303-Monte Patria"},"15080016","2023-07-17T15:40:28",2,{"$nulls":5},2]
[6,"5",2023,"105428",{"$f":"IFERROR(VLOOKUP(Tabla_SERIED_11_6[[#This Row],[IdEstablecimiento]],'[2]Establecimiento 2023'!$A$1:$E$183,3,FALSE),0)","v":"105428-Posta de Salud Rural Huatulame"},{"$f":"IFERROR(VLOOKUP(Tabla_SERIED_11_6[[#This Row],[IdEstablecimiento]],'[2]Establecimiento 2023'!$A$1:$E$183,5,FALSE),0)","v":"04303-Monte Patria"},"15050100","2023-07-17T15:43:42",7,2,5,{"$nulls":3},1,1,2,2,null,null,1]
[6,"5",2023,"105431",{"$f":"IFERROR(VLOOKUP(Tabla_SERIED_11_6[[#This Row],[IdEstablecimiento]],'[2]Establecimiento 2023'!$A$1:$E$183,3,FALSE),0)","v":"105431-Posta de Salud Rural Pedregal"},{"$f":"IFERROR(VLOOKUP(Tabla_SERIED_11_6[[#This Row],[IdEstablecimiento]],'[2]Establecimiento 2023'!$A$1:$E$183,5,FALSE),0)","v":"04303-Monte Patria"},"15010200","2023-07-17T15:46:03",12,{"$nulls":6},12]
[6,"5",2023,"105435",{"$f":"IFERROR(VLOOKUP(Tabla_SERIED_11_6[[#This Row],[IdEstablecimiento]],'[2]Establecimiento 2023'!$A$1:$E$183,3,FALSE),0)","v":"105435-Posta de Salud Rural Tulahuén"},{"$f":"IFERROR(VLOOKUP(Tabla_SERIED_11_6[[#This Row],[IdEstablecimiento]],'[2]Establecimiento 2023'!$A$1:$E$183,5,FALSE),0)","v":"04303-Monte Patria"},"16100300","2023-07-17T15:48:59",90,24,66]
[6,"5",2023,"105435",{"$f":"IFERROR(VLOOKUP(Tabla_SERIED_11_6[[#This Row],[IdEstablecimiento]],'[2]Establecimiento 2023'!$A$1:$E$183,3,FALSE),0)","v":"105435-Posta de Salud Rural Tulahuén"},{"$f":"IFERROR(VLOOKUP(Tabla_SERIED_11_6[[#This Row],[IdEstablecimiento]],'[2]Establecimiento 2023'!$A$1:$E$183,5,FALSE),0)","v":"04303-Monte Patria"},"16200210","2023-07-17T15:48:59",5,5]
[6,"5",2023,"105437",{"$f":"IFERROR(VLOOKUP(Tabla_SERIED_11_6[[#This Row],[IdEstablecimiento]],'[2]Establecimiento 2023'!$A$1:$E$183,3,FALSE),0)","v":"105437-Posta de Salud Rural Chalinga"},{"$f":"IFERROR(VLOOKUP(Tabla_SERIED_11_6[[#This Row],[IdEstablecimiento]],'[2]Establecimiento 2023'!$A$1:$E$183,5,FALSE),0)","v":"04301-Ovalle"},"15010500","2023-07-17T15:49:59",2,{"$nulls":6},2]
[6,"5",2023,"105437",{"$f":"IFERROR(VLOOKUP(Tabla_SERIED_11_6[[#This Row],[IdEstablecimiento]],'[2]Establecimiento 2023'!$A$1:$E$183,3,FALSE),0)","v":"105437-Posta de Salud Rural Chalinga"},{"$f":"IFERROR(VLOOKUP(Tabla_SERIED_11_6[[#This Row],[IdEstablecimiento]],'[2]Establecimiento 2023'!$A$1:$E$183,5,FALSE),0)","v":"04301-Ovalle"},"16200210","2023-07-17T15:49:59",19,19]
[6,"5",2023,"105443",{"$f":"IFERROR(VLOOKUP(Tabla_SERIED_11_6[[#This Row],[IdEstablecimiento]],'[2]Establecimiento 2023'!$A$1:$E$183,3,FALSE),0)","v":"105443-Posta de Salud Rural Cárcamo"},{"$f":"IFERROR(VLOOKUP(Tabla_SERIED_11_6[[#This Row],[IdEstablecimiento]],'[2]Establecimiento 2023'!$A$1:$E$183,5,FALSE),0)","v":"04201-Illapel"},"15010200","2023-07-17T15:52:13",12,{"$nulls":5},6,6]
[6,"5",2023,"105444",{"$f":"IFERROR(VLOOKUP(Tabla_SERIED_11_6[[#This Row],[IdEstablecimiento]],'[2]Establecimiento 2023'!$A$1:$E$183,3,FALSE),0)","v":"105444-Posta de Salud Rural Huintil"},{"$f":"IFERROR(VLOOKUP(Tabla_SERIED_11_6[[#This Row],[IdEstablecimiento]],'[2]Establecimiento 2023'!$A$1:$E$183,5,FALSE),0)","v":"04201-Illapel"},"15010100","2023-07-17T15:56:07",2,{"$nulls":3},2]
[6,"5",2023,"105445",{"$f":"IFERROR(VLOOKUP(Tabla_SERIED_11_6[[#This Row],[IdEstablecimiento]],'[2]Establecimiento 2023'!$A$1:$E$183,3,FALSE),0)","v":"105445-Posta de Salud Rural Limáhuida"},{"$f":"IFERROR(VLOOKUP(Tabla_SERIED_11_6[[#This Row],[IdEstablecimiento]],'[2]Establecimiento 2023'!$A$1:$E$183,5,FALSE),0)","v":"04201-Illapel"},"15900050","2023-07-17T15:57:17",1,null,1,null,1]
[6,"5",2023,"105447",{"$f":"IFERROR(VLOOKUP(Tabla_SERIED_11_6[[#This Row],[IdEstablecimiento]],'[2]Establecimiento 2023'!$A$1:$E$183,3,FALSE),0)","v":"105447-Posta de Salud Rural Peralillo Illapel"},{"$f":"IFERROR(VLOOKUP(Tabla_SERIED_11_6[[#This Row],[IdEstablecimiento]],'[2]Establecimiento 2023'!$A$1:$E$183,5,FALSE),0)","v":"04201-Illapel"},"16090300","2023-07-17T15:59:46",46,46]
[6,"5",2023,"105448",{"$f":"IFERROR(VLOOKUP(Tabla_SERIED_11_6[[#This Row],[IdEstablecimiento]],'[2]Establecimiento 2023'!$A$1:$E$183,3,FALSE),0)","v":"105448-Posta de Salud Rural Santa Virginia"},{"$f":"IFERROR(VLOOKUP(Tabla_SERIED_11_6[[#This Row],[IdEstablecimiento]],'[2]Establecimiento 2023'!$A$1:$E$183,5,FALSE),0)","v":"04201-Illapel"},"15080014","2023-07-17T16:01:09",16,{"$nulls":3},8,8]
[6,"5",2023,"105448",{"$f":"IFERROR(VLOOKUP(Tabla_SERIED_11_6[[#This Row],[IdEstablecimiento]],'[2]Establecimiento 2023'!$A$1:$E$183,3,FALSE),0)","v":"105448-Posta de Salud Rural Santa Virginia"},{"$f":"IFERROR(VLOOKUP(Tabla_SERIED_11_6[[#This Row],[IdEstablecimiento]],'[2]Establecimiento 2023'!$A$1:$E$183,5,FALSE),0)","v":"04201-Illapel"},"15900050","2023-07-17T16:01:09",1,1,{"$nulls":5},1]
[6,"5",2023,"105449",{"$f":"IFERROR(VLOOKUP(Tabla_SERIED_11_6[[#This Row],[IdEstablecimiento]],'[2]Establecimiento 2023'!$A$1:$E$183,3,FALSE),0)","v":"105449-Posta de Salud Rural Tunga Norte"},{"$f":"IFERROR(VLOOKUP(Tabla_SERIED_11_6[[#This Row],[IdEstablecimiento]],'[2]Establecimiento 2023'!$A$1:$E$183,5,FALSE),0)","v":"04201-Illapel"},"16100300","2023-07-17T16:01:53",27,13,14]
[6,"5",2023,"105449",{"$f":"IFERROR(VLOOKUP(Tabla_SERIED_11_6[[#This Row],[IdEstablecimiento]],'[2]Establecimiento 2023'!$A$1:$E$183,3,FALSE),0)","v":"105449-Posta de Salud Rural Tunga Norte"},{"$f":"IFERROR(VLOOKUP(Tabla_SERIED_11_6[[#This Row],[IdEstablecimiento]],'[2]Establecimiento 2023'!$A$1:$E$183,5,FALSE),0)","v":"04201-Illapel"},"16100600","2023-07-17T16:01:53",1,1,0]
[6,"5",2023,"105451",{"$f":"IFERROR(VLOOKUP(Tabla_SERIED_11_6[[#This Row],[IdEstablecimiento]],'[2]Establecimiento 2023'!$A$1:$E$183,3,FALSE),0)","v":"105451-Posta de Salud Rural Agua Fría"},{"$f":"IFERROR(VLOOKUP(Tabla_SERIED_11_6[[#This Row],[IdEstablecimiento]],'[2]Establecimiento 2023'!$A$1:$E$183,5,FALSE),0)","v":"04202-Canela"},"16200220","2023-08-18T11:33:08",4,1,3]
[6,"5",2023,"105453",{"$f":"IFERROR(VLOOKUP(Tabla_SERIED_11_6[[#This Row],[IdEstablecimiento]],'[2]Establecimiento 2023'!$A$1:$E$183,3,FALSE),0)","v":"105453-Posta de Salud Rural Tranquilla"},{"$f":"IFERROR(VLOOKUP(Tabla_SERIED_11_6[[#This Row],[IdEstablecimiento]],'[2]Establecimiento 2023'!$A$1:$E$183,5,FALSE),0)","v":"04204-Salamanca"},"15010500","2023-07-17T16:06:48",4,{"$nulls":3},2,null,null,2]
[6,"5",2023,"105453",{"$f":"IFERROR(VLOOKUP(Tabla_SERIED_11_6[[#This Row],[IdEstablecimiento]],'[2]Establecimiento 2023'!$A$1:$E$183,3,FALSE),0)","v":"105453-Posta de Salud Rural Tranquilla"},{"$f":"IFERROR(VLOOKUP(Tabla_SERIED_11_6[[#This Row],[IdEstablecimiento]],'[2]Establecimiento 2023'!$A$1:$E$183,5,FALSE),0)","v":"04204-Salamanca"},"15080008","2023-07-17T16:06:48",5,{"$nulls":9},4,null,1]
[6,"5",2023,"105453",{"$f":"IFERROR(VLOOKUP(Tabla_SERIED_11_6[[#This Row],[IdEstablecimiento]],'[2]Establecimiento 2023'!$A$1:$E$183,3,FALSE),0)","v":"105453-Posta de Salud Rural Tranquilla"},{"$f":"IFERROR(VLOOKUP(Tabla_SERIED_11_6[[#This Row],[IdEstablecimiento]],'[2]Establecimiento 2023'!$A$1:$E$183,5,FALSE),0)","v":"04204-Salamanca"},"15080016","2023-07-17T16:06:48",4,{"$nulls":3},2,null,null,2]
[6,"5",2023,"105455",{"$f":"IFERROR(VLOOKUP(Tabla_SERIED_11_6[[#This Row],[IdEstablecimiento]],'[2]Establecimiento 2023'!$A$1:$E$183,3,FALSE),0)","v":"105455-CESFAM Valle Alto"},{"$f":"IFERROR(VLOOKUP(Tabla_SERIED_11_6[[#This Row],[IdEstablecimiento]],'[2]Establecimiento 2023'!$A$1:$E$183,5,FALSE),0)","v":"04204-Salamanca"},"16200210","2023-07-18T16:20:12",4,4]
[6,"5",2023,"105457",{"$f":"IFERROR(VLOOKUP(Tabla_SERIED_11_6[[#This Row],[IdEstablecimiento]],'[2]Establecimiento 2023'!$A$1:$E$183,3,FALSE),0)","v":"105457-Posta de Salud Rural San Agustín (Salamanca)"},{"$f":"IFERROR(VLOOKUP(Tabla_SERIED_11_6[[#This Row],[IdEstablecimiento]],'[2]Establecimiento 2023'!$A$1:$E$183,5,FALSE),0)","v":"04204-Salamanca"},"15010200","2023-07-17T16:12:22",8,{"$nulls":5},6,2]
[6,"5",2023,"105457",{"$f":"IFERROR(VLOOKUP(Tabla_SERIED_11_6[[#This Row],[IdEstablecimiento]],'[2]Establecimiento 2023'!$A$1:$E$183,3,FALSE),0)","v":"105457-Posta de Salud Rural San Agustín (Salamanca)"},{"$f":"IFERROR(VLOOKUP(Tabla_SERIED_11_6[[#This Row],[IdEstablecimiento]],'[2]Establecimiento 2023'!$A$1:$E$183,5,FALSE),0)","v":"04204-Salamanca"},"15080014","2023-07-17T16:12:22",6,{"$nulls":3},2,4]
[6,"5",2023,"105457",{"$f":"IFERROR(VLOOKUP(Tabla_SERIED_11_6[[#This Row],[IdEstablecimiento]],'[2]Establecimiento 2023'!$A$1:$E$183,3,FALSE),0)","v":"105457-Posta de Salud Rural San Agustín (Salamanca)"},{"$f":"IFERROR(VLOOKUP(Tabla_SERIED_11_6[[#This Row],[IdEstablecimiento]],'[2]Establecimiento 2023'!$A$1:$E$183,5,FALSE),0)","v":"04204-Salamanca"},"16090300","2023-07-17T16:12:22",65,65]
[6,"5",2023,"105458",{"$f":"IFERROR(VLOOKUP(Tabla_SERIED_11_6[[#This Row],[IdEstablecimiento]],'[2]Establecimiento 2023'!$A$1:$E$183,3,FALSE),0)","v":"105458-Posta de Salud Rural Tahuinco"},{"$f":"IFERROR(VLOOKUP(Tabla_SERIED_11_6[[#This Row],[IdEstablecimiento]],'[2]Establecimiento 2023'!$A$1:$E$183,5,FALSE),0)","v":"04204-Salamanca"},"16100300","2023-07-17T16:15:08",169,80,89]
[6,"5",2023,"105460",{"$f":"IFERROR(VLOOKUP(Tabla_SERIED_11_6[[#This Row],[IdEstablecimiento]],'[2]Establecimiento 2023'!$A$1:$E$183,3,FALSE),0)","v":"105460-Centro Comunitario de Salud Familiar Cogotí 18"},{"$f":"IFERROR(VLOOKUP(Tabla_SERIED_11_6[[#This Row],[IdEstablecimiento]],'[2]Establecimiento 2023'!$A$1:$E$183,5,FALSE),0)","v":"04302-Combarbalá"},"15030100","2023-08-18T11:33:30",1.6,null,1.6]
[6,"5",2023,"105460",{"$f":"IFERROR(VLOOKUP(Tabla_SERIED_11_6[[#This Row],[IdEstablecimiento]],'[2]Establecimiento 2023'!$A$1:$E$183,3,FALSE),0)","v":"105460-Centro Comunitario de Salud Familiar Cogotí 18"},{"$f":"IFERROR(VLOOKUP(Tabla_SERIED_11_6[[#This Row],[IdEstablecimiento]],'[2]Establecimiento 2023'!$A$1:$E$183,5,FALSE),0)","v":"04302-Combarbalá"},"15080014","2023-08-18T11:33:30",6,{"$nulls":3},6]
[6,"5",2023,"105462",{"$f":"IFERROR(VLOOKUP(Tabla_SERIED_11_6[[#This Row],[IdEstablecimiento]],'[2]Establecimiento 2023'!$A$1:$E$183,3,FALSE),0)","v":"105462-Posta de Salud Rural El Sauce (Combarbalá)"},{"$f":"IFERROR(VLOOKUP(Tabla_SERIED_11_6[[#This Row],[IdEstablecimiento]],'[2]Establecimiento 2023'!$A$1:$E$183,5,FALSE),0)","v":"04302-Combarbalá"},"15080014","2023-07-18T15:30:35",4,{"$nulls":3},4]
[6,"5",2023,"105463",{"$f":"IFERROR(VLOOKUP(Tabla_SERIED_11_6[[#This Row],[IdEstablecimiento]],'[2]Establecimiento 2023'!$A$1:$E$183,3,FALSE),0)","v":"105463-Posta de Salud Rural Quilitapia"},{"$f":"IFERROR(VLOOKUP(Tabla_SERIED_11_6[[#This Row],[IdEstablecimiento]],'[2]Establecimiento 2023'!$A$1:$E$183,5,FALSE),0)","v":"04302-Combarbalá"},"15010200","2023-07-18T15:31:07",14,{"$nulls":5},8,6]
[6,"5",2023,"105463",{"$f":"IFERROR(VLOOKUP(Tabla_SERIED_11_6[[#This Row],[IdEstablecimiento]],'[2]Establecimiento 2023'!$A$1:$E$183,3,FALSE),0)","v":"105463-Posta de Salud Rural Quilitapia"},{"$f":"IFERROR(VLOOKUP(Tabla_SERIED_11_6[[#This Row],[IdEstablecimiento]],'[2]Establecimiento 2023'!$A$1:$E$183,5,FALSE),0)","v":"04302-Combarbalá"},"15050100","2023-07-18T15:31:07",14,7,7,1,null,2,1,2,4,3,1]
[6,"5",2023,"105463",{"$f":"IFERROR(VLOOKUP(Tabla_SERIED_11_6[[#This Row],[IdEstablecimiento]],'[2]Establecimiento 2023'!$A$1:$E$183,3,FALSE),0)","v":"105463-Posta de Salud Rural Quilitapia"},{"$f":"IFERROR(VLOOKUP(Tabla_SERIED_11_6[[#This Row],[IdEstablecimiento]],'[2]Establecimiento 2023'!$A$1:$E$183,5,FALSE),0)","v":"04302-Combarbalá"},"16100300","2023-07-18T15:31:07",113,56,57]
[6,"5",2023,"105464",{"$f":"IFERROR(VLOOKUP(Tabla_SERIED_11_6[[#This Row],[IdEstablecimiento]],'[2]Establecimiento 2023'!$A$1:$E$183,3,FALSE),0)","v":"105464-Posta de Salud Rural La Ligua"},{"$f":"IFERROR(VLOOKUP(Tabla_SERIED_11_6[[#This Row],[IdEstablecimiento]],'[2]Establecimiento 2023'!$A$1:$E$183,5,FALSE),0)","v":"04302-Combarbalá"},"15080008","2023-07-18T15:31:41",2,{"$nulls":7},2]
[6,"5",2023,"105464",{"$f":"IFERROR(VLOOKUP(Tabla_SERIED_11_6[[#This Row],[IdEstablecimiento]],'[2]Establecimiento 2023'!$A$1:$E$183,3,FALSE),0)","v":"105464-Posta de Salud Rural La Ligua"},{"$f":"IFERROR(VLOOKUP(Tabla_SERIED_11_6[[#This Row],[IdEstablecimiento]],'[2]Establecimiento 2023'!$A$1:$E$183,5,FALSE),0)","v":"04302-Combarbalá"},"16200220","2023-07-18T15:31:41",4,2,2]
[6,"5",2023,"105465",{"$f":"IFERROR(VLOOKUP(Tabla_SERIED_11_6[[#This Row],[IdEstablecimiento]],'[2]Establecimiento 2023'!$A$1:$E$183,3,FALSE),0)","v":"105465-Posta de Salud Rural Ramadilla"},{"$f":"IFERROR(VLOOKUP(Tabla_SERIED_11_6[[#This Row],[IdEstablecimiento]],'[2]Establecimiento 2023'!$A$1:$E$183,5,FALSE),0)","v":"04302-Combarbalá"},"16200210","2023-07-18T15:32:20",8,8]
[6,"5",2023,"105468",{"$f":"IFERROR(VLOOKUP(Tabla_SERIED_11_6[[#This Row],[IdEstablecimiento]],'[2]Establecimiento 2023'!$A$1:$E$183,3,FALSE),0)","v":"105468-Posta de Salud Rural El Molle"},{"$f":"IFERROR(VLOOKUP(Tabla_SERIED_11_6[[#This Row],[IdEstablecimiento]],'[2]Establecimiento 2023'!$A$1:$E$183,5,FALSE),0)","v":"04106-Vicuña"},"15050100","2023-07-18T15:35:20",16,7,9,null,null,1,2,null,7,2,3,null,1]
[6,"5",2023,"105471",{"$f":"IFERROR(VLOOKUP(Tabla_SERIED_11_6[[#This Row],[IdEstablecimiento]],'[2]Establecimiento 2023'!$A$1:$E$183,3,FALSE),0)","v":"105471-Posta de Salud Rural Peralillo Vicuña"},{"$f":"IFERROR(VLOOKUP(Tabla_SERIED_11_6[[#This Row],[IdEstablecimiento]],'[2]Establecimiento 2023'!$A$1:$E$183,5,FALSE),0)","v":"04106-Vicuña"},"15050200","2023-08-18T11:34:11",3,1,2,null,null,1,null,1,1]
[6,"5",2023,"105471",{"$f":"IFERROR(VLOOKUP(Tabla_SERIED_11_6[[#This Row],[IdEstablecimiento]],'[2]Establecimiento 2023'!$A$1:$E$183,3,FALSE),0)","v":"105471-Posta de Salud Rural Peralillo Vicuña"},{"$f":"IFERROR(VLOOKUP(Tabla_SERIED_11_6[[#This Row],[IdEstablecimiento]],'[2]Establecimiento 2023'!$A$1:$E$183,5,FALSE),0)","v":"04106-Vicuña"},"15900020","2023-08-18T11:34:11",2.8,null,null,2.8]
[6,"5",2023,"105471",{"$f":"IFERROR(VLOOKUP(Tabla_SERIED_11_6[[#This Row],[IdEstablecimiento]],'[2]Establecimiento 2023'!$A$1:$E$183,3,FALSE),0)","v":"105471-Posta de Salud Rural Peralillo Vicuña"},{"$f":"IFERROR(VLOOKUP(Tabla_SERIED_11_6[[#This Row],[IdEstablecimiento]],'[2]Establecimiento 2023'!$A$1:$E$183,5,FALSE),0)","v":"04106-Vicuña"},"16090300","2023-08-18T11:34:11",75,75]
[6,"5",2023,"105472",{"$f":"IFERROR(VLOOKUP(Tabla_SERIED_11_6[[#This Row],[IdEstablecimiento]],'[2]Establecimiento 2023'!$A$1:$E$183,3,FALSE),0)","v":"105472-Posta de Salud Rural Rivadavia"},{"$f":"IFERROR(VLOOKUP(Tabla_SERIED_11_6[[#This Row],[IdEstablecimiento]],'[2]Establecimiento 2023'!$A$1:$E$183,5,FALSE),0)","v":"04106-Vicuña"},"15050100","2023-07-18T15:38:43",13,5,8,{"$nulls":3},3,2,3,2,3]
[6,"5",2023,"105473",{"$f":"IFERROR(VLOOKUP(Tabla_SERIED_11_6[[#This Row],[IdEstablecimiento]],'[2]Establecimiento 2023'!$A$1:$E$183,3,FALSE),0)","v":"105473-Posta de Salud Rural Talcuna"},{"$f":"IFERROR(VLOOKUP(Tabla_SERIED_11_6[[#This Row],[IdEstablecimiento]],'[2]Establecimiento 2023'!$A$1:$E$183,5,FALSE),0)","v":"04106-Vicuña"},"16200210","2023-07-18T15:39:20",5,5]
[6,"5",2023,"105475",{"$f":"IFERROR(VLOOKUP(Tabla_SERIED_11_6[[#This Row],[IdEstablecimiento]],'[2]Establecimiento 2023'!$A$1:$E$183,3,FALSE),0)","v":"105475-Posta de Salud Rural Horcón (Paiguano)"},{"$f":"IFERROR(VLOOKUP(Tabla_SERIED_11_6[[#This Row],[IdEstablecimiento]],'[2]Establecimiento 2023'!$A$1:$E$183,5,FALSE),0)","v":"04105-Paihuano"},"15900020","2023-07-17T16:16:08",4,null,null,4]
[6,"5",2023,"105476",{"$f":"IFERROR(VLOOKUP(Tabla_SERIED_11_6[[#This Row],[IdEstablecimiento]],'[2]Establecimiento 2023'!$A$1:$E$183,3,FALSE),0)","v":"105476-Posta de Salud Rural Monte Grande"},{"$f":"IFERROR(VLOOKUP(Tabla_SERIED_11_6[[#This Row],[IdEstablecimiento]],'[2]Establecimiento 2023'!$A$1:$E$183,5,FALSE),0)","v":"04105-Paihuano"},"16200210","2023-07-17T16:31:33",1,1]
[6,"5",2023,"105477",{"$f":"IFERROR(VLOOKUP(Tabla_SERIED_11_6[[#This Row],[IdEstablecimiento]],'[2]Establecimiento 2023'!$A$1:$E$183,3,FALSE),0)","v":"105477-Posta de Salud Rural Pisco Elqui"},{"$f":"IFERROR(VLOOKUP(Tabla_SERIED_11_6[[#This Row],[IdEstablecimiento]],'[2]Establecimiento 2023'!$A$1:$E$183,5,FALSE),0)","v":"04105-Paihuano"},"15010200","2023-07-17T16:33:05",8,{"$nulls":5},6,2]
[6,"5",2023,"105477",{"$f":"IFERROR(VLOOKUP(Tabla_SERIED_11_6[[#This Row],[IdEstablecimiento]],'[2]Establecimiento 2023'!$A$1:$E$183,3,FALSE),0)","v":"105477-Posta de Salud Rural Pisco Elqui"},{"$f":"IFERROR(VLOOKUP(Tabla_SERIED_11_6[[#This Row],[IdEstablecimiento]],'[2]Establecimiento 2023'!$A$1:$E$183,5,FALSE),0)","v":"04105-Paihuano"},"15080014","2023-07-17T16:33:05",8,{"$nulls":3},6,2]
[6,"5",2023,"105479",{"$f":"IFERROR(VLOOKUP(Tabla_SERIED_11_6[[#This Row],[IdEstablecimiento]],'[2]Establecimiento 2023'!$A$1:$E$183,3,FALSE),0)","v":"105479-Posta de Salud Rural Guangualí"},{"$f":"IFERROR(VLOOKUP(Tabla_SERIED_11_6[[#This Row],[IdEstablecimiento]],'[2]Establecimiento 2023'!$A$1:$E$183,5,FALSE),0)","v":"04203-Los Vilos"},"15080008","2023-07-17T16:38:38",2,{"$nulls":7},1,{"$nulls":3},1]
[6,"5",2023,"105480",{"$f":"IFERROR(VLOOKUP(Tabla_SERIED_11_6[[#This Row],[IdEstablecimiento]],'[2]Establecimiento 2023'!$A$1:$E$183,3,FALSE),0)","v":"105480-Posta de Salud Rural Quilimarí"},{"$f":"IFERROR(VLOOKUP(Tabla_SERIED_11_6[[#This Row],[IdEstablecimiento]],'[2]Establecimiento 2023'!$A$1:$E$183,5,FALSE),0)","v":"04203-Los Vilos"},"15030100","2023-07-19T15:50:39",4.8,null,null,4.8]
[6,"5",2023,"105480",{"$f":"IFERROR(VLOOKUP(Tabla_SERIED_11_6[[#This Row],[IdEstablecimiento]],'[2]Establecimiento 2023'!$A$1:$E$183,3,FALSE),0)","v":"105480-Posta de Salud Rural Quilimarí"},{"$f":"IFERROR(VLOOKUP(Tabla_SERIED_11_6[[#This Row],[IdEstablecimiento]],'[2]Establecimiento 2023'!$A$1:$E$183,5,FALSE),0)","v":"04203-Los Vilos"},"15050200","2023-07-19T15:50:39",1,1,0,{"$nulls":6},1]
[6,"5",2023,"105480",{"$f":"IFERROR(VLOOKUP(Tabla_SERIED_11_6[[#This Row],[IdEstablecimiento]],'[2]Establecimiento 2023'!$A$1:$E$183,3,FALSE),0)","v":"105480-Posta de Salud Rural Quilimarí"},{"$f":"IFERROR(VLOOKUP(Tabla_SERIED_11_6[[#This Row],[IdEstablecimiento]],'[2]Establecimiento 2023'!$A$1:$E$183,5,FALSE),0)","v":"04203-Los Vilos"},"15050500","2023-07-19T15:50:39",1,0,1,null,null,1]
[6,"5",2023,"105481",{"$f":"IFERROR(VLOOKUP(Tabla_SERIED_11_6[[#This Row],[IdEstablecimiento]],'[2]Establecimiento 2023'!$A$1:$E$183,3,FALSE),0)","v":"105481-Posta de Salud Rural Tilama"},{"$f":"IFERROR(VLOOKUP(Tabla_SERIED_11_6[[#This Row],[IdEstablecimiento]],'[2]Establecimiento 2023'!$A$1:$E$183,5,FALSE),0)","v":"04203-Los Vilos"},"15080014","2023-07-17T16:40:37",8,{"$nulls":3},2,6]
[6,"5",2023,"105481",{"$f":"IFERROR(VLOOKUP(Tabla_SERIED_11_6[[#This Row],[IdEstablecimiento]],'[2]Establecimiento 2023'!$A$1:$E$183,3,FALSE),0)","v":"105481-Posta de Salud Rural Tilama"},{"$f":"IFERROR(VLOOKUP(Tabla_SERIED_11_6[[#This Row],[IdEstablecimiento]],'[2]Establecimiento 2023'!$A$1:$E$183,5,FALSE),0)","v":"04203-Los Vilos"},"15080016","2023-07-17T16:40:37",2,{"$nulls":4},2]
[6,"5",2023,"105482",{"$f":"IFERROR(VLOOKUP(Tabla_SERIED_11_6[[#This Row],[IdEstablecimiento]],'[2]Establecimiento 2023'!$A$1:$E$183,3,FALSE),0)","v":"105482-Posta de Salud Rural Canela Alta"},{"$f":"IFERROR(VLOOKUP(Tabla_SERIED_11_6[[#This Row],[IdEstablecimiento]],'[2]Establecimiento 2023'!$A$1:$E$183,5,FALSE),0)","v":"04202-Canela"},"16100300","2023-07-17T16:43:35",95,41,54]
[6,"5",2023,"105484",{"$f":"IFERROR(VLOOKUP(Tabla_SERIED_11_6[[#This Row],[IdEstablecimiento]],'[2]Establecimiento 2023'!$A$1:$E$183,3,FALSE),0)","v":"105484-Posta de Salud Rural Huentelauquén"},{"$f":"IFERROR(VLOOKUP(Tabla_SERIED_11_6[[#This Row],[IdEstablecimiento]],'[2]Establecimiento 2023'!$A$1:$E$183,5,FALSE),0)","v":"04202-Canela"},"16100300","2023-08-18T11:34:36",55,18,37]
[6,"5",2023,"105485",{"$f":"IFERROR(VLOOKUP(Tabla_SERIED_11_6[[#This Row],[IdEstablecimiento]],'[2]Establecimiento 2023'!$A$1:$E$183,3,FALSE),0)","v":"105485-Posta de Salud Rural Plan de Hornos"},{"$f":"IFERROR(VLOOKUP(Tabla_SERIED_11_6[[#This Row],[IdEstablecimiento]],'[2]Establecimiento 2023'!$A$1:$E$183,5,FALSE),0)","v":"04201-Illapel"},"15010200","2023-07-17T16:44:36",12,{"$nulls":5},8,4]
[6,"5",2023,"105493",{"$f":"IFERROR(VLOOKUP(Tabla_SERIED_11_6[[#This Row],[IdEstablecimiento]],'[2]Establecimiento 2023'!$A$1:$E$183,3,FALSE),0)","v":"105493-Posta de Salud Rural Mincha Sur"},{"$f":"IFERROR(VLOOKUP(Tabla_SERIED_11_6[[#This Row],[IdEstablecimiento]],'[2]Establecimiento 2023'!$A$1:$E$183,5,FALSE),0)","v":"04202-Canela"},"15050100","2023-07-19T15:51:55",2,null,2,{"$nulls":3},1,null,1]
[6,"5",2023,"105499",{"$f":"IFERROR(VLOOKUP(Tabla_SERIED_11_6[[#This Row],[IdEstablecimiento]],'[2]Establecimiento 2023'!$A$1:$E$183,3,FALSE),0)","v":"105499-Posta de Salud Rural Lambert"},{"$f":"IFERROR(VLOOKUP(Tabla_SERIED_11_6[[#This Row],[IdEstablecimiento]],'[2]Establecimiento 2023'!$A$1:$E$183,5,FALSE),0)","v":"04101-La Serena"},"16090300","2023-07-17T16:54:18",15,15]
[6,"5",2023,"105501",{"$f":"IFERROR(VLOOKUP(Tabla_SERIED_11_6[[#This Row],[IdEstablecimiento]],'[2]Establecimiento 2023'!$A$1:$E$183,3,FALSE),0)","v":"105501-Posta de Salud Rural Arboleda Grande"},{"$f":"IFERROR(VLOOKUP(Tabla_SERIED_11_6[[#This Row],[IdEstablecimiento]],'[2]Establecimiento 2023'!$A$1:$E$183,5,FALSE),0)","v":"04204-Salamanca"},"16100300","2023-07-17T17:22:04",119,47,72]
[6,"5",2023,"105503",{"$f":"IFERROR(VLOOKUP(Tabla_SERIED_11_6[[#This Row],[IdEstablecimiento]],'[2]Establecimiento 2023'!$A$1:$E$183,3,FALSE),0)","v":"105503-Posta de Salud Rural Tabaqueros"},{"$f":"IFERROR(VLOOKUP(Tabla_SERIED_11_6[[#This Row],[IdEstablecimiento]],'[2]Establecimiento 2023'!$A$1:$E$183,5,FALSE),0)","v":"04305-Rio Hurtado"},"16090300","2023-07-18T09:35:06",20,20]
[6,"5",2023,"105503",{"$f":"IFERROR(VLOOKUP(Tabla_SERIED_11_6[[#This Row],[IdEstablecimiento]],'[2]Establecimiento 2023'!$A$1:$E$183,3,FALSE),0)","v":"105503-Posta de Salud Rural Tabaqueros"},{"$f":"IFERROR(VLOOKUP(Tabla_SERIED_11_6[[#This Row],[IdEstablecimiento]],'[2]Establecimiento 2023'!$A$1:$E$183,5,FALSE),0)","v":"04305-Rio Hurtado"},"16200220","2023-07-18T09:35:06",1,null,1]
[6,"5",2023,"105506",{"$f":"IFERROR(VLOOKUP(Tabla_SERIED_11_6[[#This Row],[IdEstablecimiento]],'[2]Establecimiento 2023'!$A$1:$E$183,3,FALSE),0)","v":"105506-Posta de Salud Rural El Trapiche"},{"$f":"IFERROR(VLOOKUP(Tabla_SERIED_11_6[[#This Row],[IdEstablecimiento]],'[2]Establecimiento 2023'!$A$1:$E$183,5,FALSE),0)","v":"04104-La Higuera"},"16100300","2023-07-18T09:41:11",22,7,15]
[6,"5",2023,"105507",{"$f":"IFERROR(VLOOKUP(Tabla_SERIED_11_6[[#This Row],[IdEstablecimiento]],'[2]Establecimiento 2023'!$A$1:$E$183,3,FALSE),0)","v":"105507-Posta de Salud Rural Huamalata"},{"$f":"IFERROR(VLOOKUP(Tabla_SERIED_11_6[[#This Row],[IdEstablecimiento]],'[2]Establecimiento 2023'!$A$1:$E$183,5,FALSE),0)","v":"04301-Ovalle"},"15010100","2023-07-18T09:40:17",8,{"$nulls":4},8]
[6,"5",2023,"105507",{"$f":"IFERROR(VLOOKUP(Tabla_SERIED_11_6[[#This Row],[IdEstablecimiento]],'[2]Establecimiento 2023'!$A$1:$E$183,3,FALSE),0)","v":"105507-Posta de Salud Rural Huamalata"},{"$f":"IFERROR(VLOOKUP(Tabla_SERIED_11_6[[#This Row],[IdEstablecimiento]],'[2]Establecimiento 2023'!$A$1:$E$183,5,FALSE),0)","v":"04301-Ovalle"},"15050100","2023-07-18T09:40:17",40,18,22,2,2,null,2,4,11,15,2,null,null,1,1]
[6,"5",2023,"105508",{"$f":"IFERROR(VLOOKUP(Tabla_SERIED_11_6[[#This Row],[IdEstablecimiento]],'[2]Establecimiento 2023'!$A$1:$E$183,3,FALSE),0)","v":"105508-Posta de Salud Rural El Parral de Quiles"},{"$f":"IFERROR(VLOOKUP(Tabla_SERIED_11_6[[#This Row],[IdEstablecimiento]],'[2]Establecimiento 2023'!$A$1:$E$183,5,FALSE),0)","v":"04304-Punitaqui"},"16100300","2023-07-18T14:45:17",50,23,27]
[6,"5",2023,"105509",{"$f":"IFERROR(VLOOKUP(Tabla_SERIED_11_6[[#This Row],[IdEstablecimiento]],'[2]Establecimiento 2023'!$A$1:$E$183,3,FALSE),0)","v":"105509-Posta de Salud Rural Gualliguaica"},{"$f":"IFERROR(VLOOKUP(Tabla_SERIED_11_6[[#This Row],[IdEstablecimiento]],'[2]Establecimiento 2023'!$A$1:$E$183,5,FALSE),0)","v":"04106-Vicuña"},"15050100","2023-07-19T12:35:24",10,4,6,{"$nulls":3},2,1,4,1,2]
[6,"5",2023,"105509",{"$f":"IFERROR(VLOOKUP(Tabla_SERIED_11_6[[#This Row],[IdEstablecimiento]],'[2]Establecimiento 2023'!$A$1:$E$183,3,FALSE),0)","v":"105509-Posta de Salud Rural Gualliguaica"},{"$f":"IFERROR(VLOOKUP(Tabla_SERIED_11_6[[#This Row],[IdEstablecimiento]],'[2]Establecimiento 2023'!$A$1:$E$183,5,FALSE),0)","v":"04106-Vicuña"},"15080014","2023-07-19T12:35:24",4,{"$nulls":3},2,2]
[6,"5",2023,"105510",{"$f":"IFERROR(VLOOKUP(Tabla_SERIED_11_6[[#This Row],[IdEstablecimiento]],'[2]Establecimiento 2023'!$A$1:$E$183,3,FALSE),0)","v":"105510-Posta de Salud Rural Recoleta"},{"$f":"IFERROR(VLOOKUP(Tabla_SERIED_11_6[[#This Row],[IdEstablecimiento]],'[2]Establecimiento 2023'!$A$1:$E$183,5,FALSE),0)","v":"04301-Ovalle"},"15080008","2023-07-18T09:41:59",10,{"$nulls":7},7,null,2,1]
[6,"5",2023,"105701",{"$f":"IFERROR(VLOOKUP(Tabla_SERIED_11_6[[#This Row],[IdEstablecimiento]],'[2]Establecimiento 2023'!$A$1:$E$183,3,FALSE),0)","v":"105701-Centro Comunitario de Salud Familiar Villa Alemania"},{"$f":"IFERROR(VLOOKUP(Tabla_SERIED_11_6[[#This Row],[IdEstablecimiento]],'[2]Establecimiento 2023'!$A$1:$E$183,5,FALSE),0)","v":"04101-La Serena"},"15050200","2023-07-18T09:44:01",1,null,1,{"$nulls":6},1]
[6,"5",2023,"105701",{"$f":"IFERROR(VLOOKUP(Tabla_SERIED_11_6[[#This Row],[IdEstablecimiento]],'[2]Establecimiento 2023'!$A$1:$E$183,3,FALSE),0)","v":"105701-Centro Comunitario de Salud Familiar Villa Alemania"},{"$f":"IFERROR(VLOOKUP(Tabla_SERIED_11_6[[#This Row],[IdEstablecimiento]],'[2]Establecimiento 2023'!$A$1:$E$183,5,FALSE),0)","v":"04101-La Serena"},"16100300","2023-07-18T09:44:01",38,12,26]
[6,"5",2023,"105702",{"$f":"IFERROR(VLOOKUP(Tabla_SERIED_11_6[[#This Row],[IdEstablecimiento]],'[2]Establecimiento 2023'!$A$1:$E$183,3,FALSE),0)","v":"105702-Centro Comunitario de Salud Familiar Lambert"},{"$f":"IFERROR(VLOOKUP(Tabla_SERIED_11_6[[#This Row],[IdEstablecimiento]],'[2]Establecimiento 2023'!$A$1:$E$183,5,FALSE),0)","v":"04101-La Serena"},"16100300","2023-07-18T09:44:44",49,20,29]
[6,"5",2023,"105722",{"$f":"IFERROR(VLOOKUP(Tabla_SERIED_11_6[[#This Row],[IdEstablecimiento]],'[2]Establecimiento 2023'!$A$1:$E$183,3,FALSE),0)","v":"105722-Centro Comunitario de Salud Familiar San José de la Dehesa"},{"$f":"IFERROR(VLOOKUP(Tabla_SERIED_11_6[[#This Row],[IdEstablecimiento]],'[2]Establecimiento 2023'!$A$1:$E$183,5,FALSE),0)","v":"04301-Ovalle"},"15900010","2023-07-18T09:48:09",28.8,2.4,3.2,23.2]
[6,"5",2023,"105722",{"$f":"IFERROR(VLOOKUP(Tabla_SERIED_11_6[[#This Row],[IdEstablecimiento]],'[2]Establecimiento 2023'!$A$1:$E$183,3,FALSE),0)","v":"105722-Centro Comunitario de Salud Familiar San José de la Dehesa"},{"$f":"IFERROR(VLOOKUP(Tabla_SERIED_11_6[[#This Row],[IdEstablecimiento]],'[2]Establecimiento 2023'!$A$1:$E$183,5,FALSE),0)","v":"04301-Ovalle"},"15900040","2023-07-18T09:48:09",8,null,null,8]
[6,"5",2023,"105723",{"$f":"IFERROR(VLOOKUP(Tabla_SERIED_11_6[[#This Row],[IdEstablecimiento]],'[2]Establecimiento 2023'!$A$1:$E$183,3,FALSE),0)","v":"105723-Centro Comunitario de Salud Familiar Limarí"},{"$f":"IFERROR(VLOOKUP(Tabla_SERIED_11_6[[#This Row],[IdEstablecimiento]],'[2]Establecimiento 2023'!$A$1:$E$183,5,FALSE),0)","v":"04301-Ovalle"},"15080016","2023-07-18T12:34:47",6,{"$nulls":5},4,2]
[6,"5",2023,"105723",{"$f":"IFERROR(VLOOKUP(Tabla_SERIED_11_6[[#This Row],[IdEstablecimiento]],'[2]Establecimiento 2023'!$A$1:$E$183,3,FALSE),0)","v":"105723-Centro Comunitario de Salud Familiar Limarí"},{"$f":"IFERROR(VLOOKUP(Tabla_SERIED_11_6[[#This Row],[IdEstablecimiento]],'[2]Establecimiento 2023'!$A$1:$E$183,5,FALSE),0)","v":"04301-Ovalle"},"15900010","2023-07-18T12:34:47",24,null,null,24]
[6,"5",2023,"105723",{"$f":"IFERROR(VLOOKUP(Tabla_SERIED_11_6[[#This Row],[IdEstablecimiento]],'[2]Establecimiento 2023'!$A$1:$E$183,3,FALSE),0)","v":"105723-Centro Comunitario de Salud Familiar Limarí"},{"$f":"IFERROR(VLOOKUP(Tabla_SERIED_11_6[[#This Row],[IdEstablecimiento]],'[2]Establecimiento 2023'!$A$1:$E$183,5,FALSE),0)","v":"04301-Ovalle"},"16090300","2023-07-18T12:34:47",279,279]
[6,"5",2023,"105723",{"$f":"IFERROR(VLOOKUP(Tabla_SERIED_11_6[[#This Row],[IdEstablecimiento]],'[2]Establecimiento 2023'!$A$1:$E$183,3,FALSE),0)","v":"105723-Centro Comunitario de Salud Familiar Limarí"},{"$f":"IFERROR(VLOOKUP(Tabla_SERIED_11_6[[#This Row],[IdEstablecimiento]],'[2]Establecimiento 2023'!$A$1:$E$183,5,FALSE),0)","v":"04301-Ovalle"},"16100300","2023-07-18T12:34:47",279,94,185]
[6,"5",2023,"200258",{"$f":"IFERROR(VLOOKUP(Tabla_SERIED_11_6[[#This Row],[IdEstablecimiento]],'[2]Establecimiento 2023'!$A$1:$E$183,3,FALSE),0)","v":"200258-Centro Comunitario de Salud Familiar Los Copihues"},{"$f":"IFERROR(VLOOKUP(Tabla_SERIED_11_6[[#This Row],[IdEstablecimiento]],'[2]Establecimiento 2023'!$A$1:$E$183,5,FALSE),0)","v":"04301-Ovalle"},"16200210","2023-07-18T09:49:15",10,10]
[6,"5",2023,"200273",{"$f":"IFERROR(VLOOKUP(Tabla_SERIED_11_6[[#This Row],[IdEstablecimiento]],'[2]Establecimiento 2023'!$A$1:$E$183,3,FALSE),0)","v":"200273-Centro Comunitario de Salud Familiar Punta Mira"},{"$f":"IFERROR(VLOOKUP(Tabla_SERIED_11_6[[#This Row],[IdEstablecimiento]],'[2]Establecimiento 2023'!$A$1:$E$183,5,FALSE),0)","v":"04102-Coquimbo"},"15060100","2023-07-19T12:15:38",3,0,3,0,0,0,0,0,0,3,0]
[2,"5",2023,"200494",{"$f":"IFERROR(VLOOKUP(Tabla_SERIED_11_6[[#This Row],[IdEstablecimiento]],'[2]Establecimiento 2023'!$A$1:$E$183,3,FALSE),0)","v":"200494-Centro de Salud Familiar El Sauce"},{"$f":"IFERROR(VLOOKUP(Tabla_SERIED_11_6[[#This Row],[IdEstablecimiento]],'[2]Establecimiento 2023'!$A$1:$E$183,5,FALSE),0)","v":"04102-Coquimbo"},"16200220","2023-04-21T09:21:41",38,18,20]
[2,"5",2023,"200499",{"$f":"IFERROR(VLOOKUP(Tabla_SERIED_11_6[[#This Row],[IdEstablecimiento]],'[2]Establecimiento 2023'!$A$1:$E$183,3,FALSE),0)","v":"200499-Centro de Salud Familiar Rural Pan de Azúcar"},{"$f":"IFERROR(VLOOKUP(Tabla_SERIED_11_6[[#This Row],[IdEstablecimiento]],'[2]Establecimiento 2023'!$A$1:$E$183,5,FALSE),0)","v":"04102-Coquimbo"},"15010500","2023-04-21T09:21:59",4,null,0,2,0,0,2,0]
[2,"5",2023,"200499",{"$f":"IFERROR(VLOOKUP(Tabla_SERIED_11_6[[#This Row],[IdEstablecimiento]],'[2]Establecimiento 2023'!$A$1:$E$183,3,FALSE),0)","v":"200499-Centro de Salud Familiar Rural Pan de Azúcar"},{"$f":"IFERROR(VLOOKUP(Tabla_SERIED_11_6[[#This Row],[IdEstablecimiento]],'[2]Establecimiento 2023'!$A$1:$E$183,5,FALSE),0)","v":"04102-Coquimbo"},"15900030","2023-04-21T09:21:59",11.6,4,0,0,3.2,4.4,0,0]
[2,"5",2023,"200499",{"$f":"IFERROR(VLOOKUP(Tabla_SERIED_11_6[[#This Row],[IdEstablecimiento]],'[2]Establecimiento 2023'!$A$1:$E$183,3,FALSE),0)","v":"200499-Centro de Salud Familiar Rural Pan de Azúcar"},{"$f":"IFERROR(VLOOKUP(Tabla_SERIED_11_6[[#This Row],[IdEstablecimiento]],'[2]Establecimiento 2023'!$A$1:$E$183,5,FALSE),0)","v":"04102-Coquimbo"},"16090300","2023-04-21T09:21:59",344,344]
[2,"5",2023,"200538",{"$f":"IFERROR(VLOOKUP(Tabla_SERIED_11_6[[#This Row],[IdEstablecimiento]],'[2]Establecimiento 2023'!$A$1:$E$183,3,FALSE),0)","v":"200538-Centro de Salud Familiar San Isidro Calingasta"},{"$f":"IFERROR(VLOOKUP(Tabla_SERIED_11_6[[#This Row],[IdEstablecimiento]],'[2]Establecimiento 2023'!$A$1:$E$183,5,FALSE),0)","v":"04106-Vicuña"},"15050200","2023-04-19T09:03:38",4,3,1,{"$nulls":3},1,null,1,1,null,1]
[2,"5",2023,"200538",{"$f":"IFERROR(VLOOKUP(Tabla_SERIED_11_6[[#This Row],[IdEstablecimiento]],'[2]Establecimiento 2023'!$A$1:$E$183,3,FALSE),0)","v":"200538-Centro de Salud Familiar San Isidro Calingasta"},{"$f":"IFERROR(VLOOKUP(Tabla_SERIED_11_6[[#This Row],[IdEstablecimiento]],'[2]Establecimiento 2023'!$A$1:$E$183,5,FALSE),0)","v":"04106-Vicuña"},"16090300","2023-04-19T09:03:38",106,106]
[2,"5",2023,"200569",{"$f":"IFERROR(VLOOKUP(Tabla_SERIED_11_6[[#This Row],[IdEstablecimiento]],'[2]Establecimiento 2023'!$A$1:$E$183,3,FALSE),0)","v":"200569-Centro de Salud Familiar Fray Jorge"},{"$f":"IFERROR(VLOOKUP(Tabla_SERIED_11_6[[#This Row],[IdEstablecimiento]],'[2]Establecimiento 2023'!$A$1:$E$183,5,FALSE),0)","v":"04301-Ovalle"},"15010400","2023-04-20T10:51:47",20,{"$nulls":5},10,10]
[1,"5",2023,"105104",{"$f":"IFERROR(VLOOKUP(Tabla_SERIED_11_6[[#This Row],[IdEstablecimiento]],'[2]Establecimiento 2023'!$A$1:$E$183,3,FALSE),0)","v":"105104-Hospital de Salamanca"},{"$f":"IFERROR(VLOOKUP(Tabla_SERIED_11_6[[#This Row],[IdEstablecimiento]],'[2]Establecimiento 2023'!$A$1:$E$183,5,FALSE),0)","v":"105104-Hospital Salamanca"},"16090300","2023-04-20T09:39:17",390,390]
[1,"5",2023,"105105",{"$f":"IFERROR(VLOOKUP(Tabla_SERIED_11_6[[#This Row],[IdEstablecimiento]],'[2]Establecimiento 2023'!$A$1:$E$183,3,FALSE),0)","v":"105105-Hospital San Juan de Dios (Combarbalá)"},{"$f":"IFERROR(VLOOKUP(Tabla_SERIED_11_6[[#This Row],[IdEstablecimiento]],'[2]Establecimiento 2023'!$A$1:$E$183,5,FALSE),0)","v":"105105-Hospital Combarbalá"},"15010400","2023-04-20T11:13:34",12,{"$nulls":5},12]
[1,"5",2023,"105105",{"$f":"IFERROR(VLOOKUP(Tabla_SERIED_11_6[[#This Row],[IdEstablecimiento]],'[2]Establecimiento 2023'!$A$1:$E$183,3,FALSE),0)","v":"105105-Hospital San Juan de Dios (Combarbalá)"},{"$f":"IFERROR(VLOOKUP(Tabla_SERIED_11_6[[#This Row],[IdEstablecimiento]],'[2]Establecimiento 2023'!$A$1:$E$183,5,FALSE),0)","v":"105105-Hospital Combarbalá"},"15900050","2023-04-20T11:13:34",3,1,2,null,2,1]
[1,"5",2023,"105107",{"$f":"IFERROR(VLOOKUP(Tabla_SERIED_11_6[[#This Row],[IdEstablecimiento]],'[2]Establecimiento 2023'!$A$1:$E$183,3,FALSE),0)","v":"105107-Hospital San Juan de Dios (Vicuña)"},{"$f":"IFERROR(VLOOKUP(Tabla_SERIED_11_6[[#This Row],[IdEstablecimiento]],'[2]Establecimiento 2023'!$A$1:$E$183,5,FALSE),0)","v":"105107-Hospital Vicuña"},"15900020","2023-04-20T07:01:55",1.6,null,null,1.6]
[1,"5",2023,"105108",{"$f":"IFERROR(VLOOKUP(Tabla_SERIED_11_6[[#This Row],[IdEstablecimiento]],'[2]Establecimiento 2023'!$A$1:$E$183,3,FALSE),0)","v":"105108-Hospital San Pedro (Los Vilos)"},{"$f":"IFERROR(VLOOKUP(Tabla_SERIED_11_6[[#This Row],[IdEstablecimiento]],'[2]Establecimiento 2023'!$A$1:$E$183,5,FALSE),0)","v":"105108-Hospital Los Vilos"},"15010200","2023-04-21T08:56:03",303,{"$nulls":4},66,136,101]
[1,"5",2023,"105108",{"$f":"IFERROR(VLOOKUP(Tabla_SERIED_11_6[[#This Row],[IdEstablecimiento]],'[2]Establecimiento 2023'!$A$1:$E$183,3,FALSE),0)","v":"105108-Hospital San Pedro (Los Vilos)"},{"$f":"IFERROR(VLOOKUP(Tabla_SERIED_11_6[[#This Row],[IdEstablecimiento]],'[2]Establecimiento 2023'!$A$1:$E$183,5,FALSE),0)","v":"105108-Hospital Los Vilos"},"15010400","2023-04-21T08:56:03",4,{"$nulls":6},4]
[1,"5",2023,"105108",{"$f":"IFERROR(VLOOKUP(Tabla_SERIED_11_6[[#This Row],[IdEstablecimiento]],'[2]Establecimiento 2023'!$A$1:$E$183,3,FALSE),0)","v":"105108-Hospital San Pedro (Los Vilos)"},{"$f":"IFERROR(VLOOKUP(Tabla_SERIED_11_6[[#This Row],[IdEstablecimiento]],'[2]Establecimiento 2023'!$A$1:$E$183,5,FALSE),0)","v":"105108-Hospital Los Vilos"},"15900010","2023-04-21T08:56:03",156.4,19.2,53,84.2]
[1,"5",2023,"105300",{"$f":"IFERROR(VLOOKUP(Tabla_SERIED_11_6[[#This Row],[IdEstablecimiento]],'[2]Establecimiento 2023'!$A$1:$E$183,3,FALSE),0)","v":"105300-Centro de Salud Familiar Cardenal Caro"},{"$f":"IFERROR(VLOOKUP(Tabla_SERIED_11_6[[#This Row],[IdEstablecimiento]],'[2]Establecimiento 2023'!$A$1:$E$183,5,FALSE),0)","v":"04101-La Serena"},"16090300","2023-04-19T06:58:38",1061,1061]
[1,"5",2023,"105301",{"$f":"IFERROR(VLOOKUP(Tabla_SERIED_11_6[[#This Row],[IdEstablecimiento]],'[2]Establecimiento 2023'!$A$1:$E$183,3,FALSE),0)","v":"105301-Centro de Salud Familiar Las Compañías"},{"$f":"IFERROR(VLOOKUP(Tabla_SERIED_11_6[[#This Row],[IdEstablecimiento]],'[2]Establecimiento 2023'!$A$1:$E$183,5,FALSE),0)","v":"04101-La Serena"},"15900020","2023-04-19T07:04:05",3.2,null,null,3.2]
[1,"5",2023,"105104",{"$f":"IFERROR(VLOOKUP(Tabla_SERIED_11_6[[#This Row],[IdEstablecimiento]],'[2]Establecimiento 2023'!$A$1:$E$183,3,FALSE),0)","v":"105104-Hospital de Salamanca"},{"$f":"IFERROR(VLOOKUP(Tabla_SERIED_11_6[[#This Row],[IdEstablecimiento]],'[2]Establecimiento 2023'!$A$1:$E$183,5,FALSE),0)","v":"105104-Hospital Salamanca"},"15010500","2023-04-20T09:39:17",4,null,0,0,0,2,0,2]
[1,"5",2023,"105104",{"$f":"IFERROR(VLOOKUP(Tabla_SERIED_11_6[[#This Row],[IdEstablecimiento]],'[2]Establecimiento 2023'!$A$1:$E$183,3,FALSE),0)","v":"105104-Hospital de Salamanca"},{"$f":"IFERROR(VLOOKUP(Tabla_SERIED_11_6[[#This Row],[IdEstablecimiento]],'[2]Establecimiento 2023'!$A$1:$E$183,5,FALSE),0)","v":"105104-Hospital Salamanca"},"16100300","2023-04-20T09:39:17",390,165,225]
[1,"5",2023,"105105",{"$f":"IFERROR(VLOOKUP(Tabla_SERIED_11_6[[#This Row],[IdEstablecimiento]],'[2]Establecimiento 2023'!$A$1:$E$183,3,FALSE),0)","v":"105105-Hospital San Juan de Dios (Combarbalá)"},{"$f":"IFERROR(VLOOKUP(Tabla_SERIED_11_6[[#This Row],[IdEstablecimiento]],'[2]Establecimiento 2023'!$A$1:$E$183,5,FALSE),0)","v":"105105-Hospital Combarbalá"},"15050200","2023-04-20T11:13:34",10,5,5,null,null,2,1,null,6,null,null,0,1]
[1,"5",2023,"105106",{"$f":"IFERROR(VLOOKUP(Tabla_SERIED_11_6[[#This Row],[IdEstablecimiento]],'[2]Establecimiento 2023'!$A$1:$E$183,3,FALSE),0)","v":"105106-Hospital Dr. José Arraño (Andacollo)"},{"$f":"IFERROR(VLOOKUP(Tabla_SERIED_11_6[[#This Row],[IdEstablecimiento]],'[2]Establecimiento 2023'!$A$1:$E$183,5,FALSE),0)","v":"105106-Hospital Andacollo"},"15900050","2023-04-20T07:01:37",2,1,1,null,1,1]
[1,"5",2023,"105106",{"$f":"IFERROR(VLOOKUP(Tabla_SERIED_11_6[[#This Row],[IdEstablecimiento]],'[2]Establecimiento 2023'!$A$1:$E$183,3,FALSE),0)","v":"105106-Hospital Dr. José Arraño (Andacollo)"},{"$f":"IFERROR(VLOOKUP(Tabla_SERIED_11_6[[#This Row],[IdEstablecimiento]],'[2]Establecimiento 2023'!$A$1:$E$183,5,FALSE),0)","v":"105106-Hospital Andacollo"},"16200210","2023-04-20T07:01:37",22,22]
[1,"5",2023,"105107",{"$f":"IFERROR(VLOOKUP(Tabla_SERIED_11_6[[#This Row],[IdEstablecimiento]],'[2]Establecimiento 2023'!$A$1:$E$183,3,FALSE),0)","v":"105107-Hospital San Juan de Dios (Vicuña)"},{"$f":"IFERROR(VLOOKUP(Tabla_SERIED_11_6[[#This Row],[IdEstablecimiento]],'[2]Establecimiento 2023'!$A$1:$E$183,5,FALSE),0)","v":"105107-Hospital Vicuña"},"15050200","2023-04-20T07:01:55",12,4,8,0,0,1,4,1,4,2]
[1,"5",2023,"105108",{"$f":"IFERROR(VLOOKUP(Tabla_SERIED_11_6[[#This Row],[IdEstablecimiento]],'[2]Establecimiento 2023'!$A$1:$E$183,3,FALSE),0)","v":"105108-Hospital San Pedro (Los Vilos)"},{"$f":"IFERROR(VLOOKUP(Tabla_SERIED_11_6[[#This Row],[IdEstablecimiento]],'[2]Establecimiento 2023'!$A$1:$E$183,5,FALSE),0)","v":"105108-Hospital Los Vilos"},"15010100","2023-04-21T08:56:03",108,{"$nulls":3},108]
[1,"5",2023,"105301",{"$f":"IFERROR(VLOOKUP(Tabla_SERIED_11_6[[#This Row],[IdEstablecimiento]],'[2]Establecimiento 2023'!$A$1:$E$183,3,FALSE),0)","v":"105301-Centro de Salud Familiar Las Compañías"},{"$f":"IFERROR(VLOOKUP(Tabla_SERIED_11_6[[#This Row],[IdEstablecimiento]],'[2]Establecimiento 2023'!$A$1:$E$183,5,FALSE),0)","v":"04101-La Serena"},"15900040","2023-04-19T07:04:05",4.4,null,null,4.4]
[1,"5",2023,"105302",{"$f":"IFERROR(VLOOKUP(Tabla_SERIED_11_6[[#This Row],[IdEstablecimiento]],'[2]Establecimiento 2023'!$A$1:$E$183,3,FALSE),0)","v":"105302-Centro de Salud Familiar Pedro Aguirre Cerda"},{"$f":"IFERROR(VLOOKUP(Tabla_SERIED_11_6[[#This Row],[IdEstablecimiento]],'[2]Establecimiento 2023'!$A$1:$E$183,5,FALSE),0)","v":"04101-La Serena"},"15901300","2023-04-21T09:14:19",22.8,null,null,14.4,null,8.4]
[1,"5",2023,"105302",{"$f":"IFERROR(VLOOKUP(Tabla_SERIED_11_6[[#This Row],[IdEstablecimiento]],'[2]Establecimiento 2023'!$A$1:$E$183,3,FALSE),0)","v":"105302-Centro de Salud Familiar Pedro Aguirre Cerda"},{"$f":"IFERROR(VLOOKUP(Tabla_SERIED_11_6[[#This Row],[IdEstablecimiento]],'[2]Establecimiento 2023'!$A$1:$E$183,5,FALSE),0)","v":"04101-La Serena"},"16100300","2023-04-21T09:14:19",656,254,402]
[1,"5",2023,"105303",{"$f":"IFERROR(VLOOKUP(Tabla_SERIED_11_6[[#This Row],[IdEstablecimiento]],'[2]Establecimiento 2023'!$A$1:$E$183,3,FALSE),0)","v":"105303-Centro de Salud Familiar San Juan"},{"$f":"IFERROR(VLOOKUP(Tabla_SERIED_11_6[[#This Row],[IdEstablecimiento]],'[2]Establecimiento 2023'!$A$1:$E$183,5,FALSE),0)","v":"04102-Coquimbo"},"15010100","2023-04-20T09:45:37",262,{"$nulls":3},158,104,0,0,0,0,0,0,0]
[1,"5",2023,"105303",{"$f":"IFERROR(VLOOKUP(Tabla_SERIED_11_6[[#This Row],[IdEstablecimiento]],'[2]Establecimiento 2023'!$A$1:$E$183,3,FALSE),0)","v":"105303-Centro de Salud Familiar San Juan"},{"$f":"IFERROR(VLOOKUP(Tabla_SERIED_11_6[[#This Row],[IdEstablecimiento]],'[2]Establecimiento 2023'!$A$1:$E$183,5,FALSE),0)","v":"04102-Coquimbo"},"15020100","2023-04-20T09:45:37",11,0,1,0,6,4,0,0,0,0,0,0,0]
[1,"5",2023,"105303",{"$f":"IFERROR(VLOOKUP(Tabla_SERIED_11_6[[#This Row],[IdEstablecimiento]],'[2]Establecimiento 2023'!$A$1:$E$183,3,FALSE),0)","v":"105303-Centro de Salud Familiar San Juan"},{"$f":"IFERROR(VLOOKUP(Tabla_SERIED_11_6[[#This Row],[IdEstablecimiento]],'[2]Establecimiento 2023'!$A$1:$E$183,5,FALSE),0)","v":"04102-Coquimbo"},"15900050","2023-04-20T09:45:37",1,0,1,0,0,1,0,0,0,0]
[1,"5",2023,"105304",{"$f":"IFERROR(VLOOKUP(Tabla_SERIED_11_6[[#This Row],[IdEstablecimiento]],'[2]Establecimiento 2023'!$A$1:$E$183,3,FALSE),0)","v":"105304-Centro de Salud Familiar Santa Cecilia"},{"$f":"IFERROR(VLOOKUP(Tabla_SERIED_11_6[[#This Row],[IdEstablecimiento]],'[2]Establecimiento 2023'!$A$1:$E$183,5,FALSE),0)","v":"04102-Coquimbo"},"15900040","2023-04-19T14:50:51",8,4,0,4,0,0,0,0]
[1,"5",2023,"105304",{"$f":"IFERROR(VLOOKUP(Tabla_SERIED_11_6[[#This Row],[IdEstablecimiento]],'[2]Establecimiento 2023'!$A$1:$E$183,3,FALSE),0)","v":"105304-Centro de Salud Familiar Santa Cecilia"},{"$f":"IFERROR(VLOOKUP(Tabla_SERIED_11_6[[#This Row],[IdEstablecimiento]],'[2]Establecimiento 2023'!$A$1:$E$183,5,FALSE),0)","v":"04102-Coquimbo"},"16200220","2023-04-19T14:50:51",42,16,26]
[1,"5",2023,"105304",{"$f":"IFERROR(VLOOKUP(Tabla_SERIED_11_6[[#This Row],[IdEstablecimiento]],'[2]Establecimiento 2023'!$A$1:$E$183,3,FALSE),0)","v":"105304-Centro de Salud Familiar Santa Cecilia"},{"$f":"IFERROR(VLOOKUP(Tabla_SERIED_11_6[[#This Row],[IdEstablecimiento]],'[2]Establecimiento 2023'!$A$1:$E$183,5,FALSE),0)","v":"04102-Coquimbo"},"16200230","2023-04-19T14:50:51",2,0,2]
[1,"5",2023,"105306",{"$f":"IFERROR(VLOOKUP(Tabla_SERIED_11_6[[#This Row],[IdEstablecimiento]],'[2]Establecimiento 2023'!$A$1:$E$183,3,FALSE),0)","v":"105306-Centro de Salud Familiar Paihuano"},{"$f":"IFERROR(VLOOKUP(Tabla_SERIED_11_6[[#This Row],[IdEstablecimiento]],'[2]Establecimiento 2023'!$A$1:$E$183,5,FALSE),0)","v":"04105-Paihuano"},"15900050","2023-04-19T14:51:29",1,1,{"$nulls":3},1]
[1,"5",2023,"105308",{"$f":"IFERROR(VLOOKUP(Tabla_SERIED_11_6[[#This Row],[IdEstablecimiento]],'[2]Establecimiento 2023'!$A$1:$E$183,3,FALSE),0)","v":"105308-Centro de Salud Familiar Punitaqui"},{"$f":"IFERROR(VLOOKUP(Tabla_SERIED_11_6[[#This Row],[IdEstablecimiento]],'[2]Establecimiento 2023'!$A$1:$E$183,5,FALSE),0)","v":"04304-Punitaqui"},"15010300","2023-04-21T07:05:32",8,{"$nulls":4},8]
[1,"5",2023,"105310",{"$f":"IFERROR(VLOOKUP(Tabla_SERIED_11_6[[#This Row],[IdEstablecimiento]],'[2]Establecimiento 2023'!$A$1:$E$183,3,FALSE),0)","v":"105310-Centro de Salud Familiar Pichasca"},{"$f":"IFERROR(VLOOKUP(Tabla_SERIED_11_6[[#This Row],[IdEstablecimiento]],'[2]Establecimiento 2023'!$A$1:$E$183,5,FALSE),0)","v":"04305-Rio Hurtado"},"15010200","2023-04-19T07:05:58",28,{"$nulls":4},2,14,12]
[1,"5",2023,"105310",{"$f":"IFERROR(VLOOKUP(Tabla_SERIED_11_6[[#This Row],[IdEstablecimiento]],'[2]Establecimiento 2023'!$A$1:$E$183,3,FALSE),0)","v":"105310-Centro de Salud Familiar Pichasca"},{"$f":"IFERROR(VLOOKUP(Tabla_SERIED_11_6[[#This Row],[IdEstablecimiento]],'[2]Establecimiento 2023'!$A$1:$E$183,5,FALSE),0)","v":"04305-Rio Hurtado"},"15900010","2023-04-19T07:05:58",7.2,3.6,null,3.6]
[1,"5",2023,"105311",{"$f":"IFERROR(VLOOKUP(Tabla_SERIED_11_6[[#This Row],[IdEstablecimiento]],'[2]Establecimiento 2023'!$A$1:$E$183,3,FALSE),0)","v":"105311-Centro de Salud Familiar Chañaral Alto"},{"$f":"IFERROR(VLOOKUP(Tabla_SERIED_11_6[[#This Row],[IdEstablecimiento]],'[2]Establecimiento 2023'!$A$1:$E$183,5,FALSE),0)","v":"04303-Monte Patria"},"15050100","2023-04-19T07:06:21",106,38,68,null,3,4,13,9,23,28,19,null,5,null,2]
[1,"5",2023,"105312",{"$f":"IFERROR(VLOOKUP(Tabla_SERIED_11_6[[#This Row],[IdEstablecimiento]],'[2]Establecimiento 2023'!$A$1:$E$183,3,FALSE),0)","v":"105312-Centro de Salud Familiar Carén"},{"$f":"IFERROR(VLOOKUP(Tabla_SERIED_11_6[[#This Row],[IdEstablecimiento]],'[2]Establecimiento 2023'!$A$1:$E$183,5,FALSE),0)","v":"04303-Monte Patria"},"15010100","2023-04-19T07:07:21",16,{"$nulls":3},12,4]
[1,"5",2023,"105313",{"$f":"IFERROR(VLOOKUP(Tabla_SERIED_11_6[[#This Row],[IdEstablecimiento]],'[2]Establecimiento 2023'!$A$1:$E$183,3,FALSE),0)","v":"105313-Centro de Salud Familiar Dr. Emilio Schaffhauser"},{"$f":"IFERROR(VLOOKUP(Tabla_SERIED_11_6[[#This Row],[IdEstablecimiento]],'[2]Establecimiento 2023'!$A$1:$E$183,5,FALSE),0)","v":"04101-La Serena"},"15901400","2023-04-19T07:08:23",4,2,2,1,null,2,1]
[1,"5",2023,"105314",{"$f":"IFERROR(VLOOKUP(Tabla_SERIED_11_6[[#This Row],[IdEstablecimiento]],'[2]Establecimiento 2023'!$A$1:$E$183,3,FALSE),0)","v":"105314-Centro de Salud Familiar La Higuera"},{"$f":"IFERROR(VLOOKUP(Tabla_SERIED_11_6[[#This Row],[IdEstablecimiento]],'[2]Establecimiento 2023'!$A$1:$E$183,5,FALSE),0)","v":"04104-La Higuera"},"15050200","2023-07-19T15:06:49",1,null,1,null,null,1]
[1,"5",2023,"105315",{"$f":"IFERROR(VLOOKUP(Tabla_SERIED_11_6[[#This Row],[IdEstablecimiento]],'[2]Establecimiento 2023'!$A$1:$E$183,3,FALSE),0)","v":"105315-Centro de Salud Familiar Cerrillos de Tamaya"},{"$f":"IFERROR(VLOOKUP(Tabla_SERIED_11_6[[#This Row],[IdEstablecimiento]],'[2]Establecimiento 2023'!$A$1:$E$183,5,FALSE),0)","v":"04301-Ovalle"},"15010200","2023-04-20T13:00:49",194,{"$nulls":4},24,98,72]
[1,"5",2023,"105315",{"$f":"IFERROR(VLOOKUP(Tabla_SERIED_11_6[[#This Row],[IdEstablecimiento]],'[2]Establecimiento 2023'!$A$1:$E$183,3,FALSE),0)","v":"105315-Centro de Salud Familiar Cerrillos de Tamaya"},{"$f":"IFERROR(VLOOKUP(Tabla_SERIED_11_6[[#This Row],[IdEstablecimiento]],'[2]Establecimiento 2023'!$A$1:$E$183,5,FALSE),0)","v":"04301-Ovalle"},"16100300","2023-04-20T13:00:49",255,127,128]
[1,"5",2023,"105317",{"$f":"IFERROR(VLOOKUP(Tabla_SERIED_11_6[[#This Row],[IdEstablecimiento]],'[2]Establecimiento 2023'!$A$1:$E$183,3,FALSE),0)","v":"105317-Centro de Salud Familiar Jorge Jordán Domic"},{"$f":"IFERROR(VLOOKUP(Tabla_SERIED_11_6[[#This Row],[IdEstablecimiento]],'[2]Establecimiento 2023'!$A$1:$E$183,5,FALSE),0)","v":"04301-Ovalle"},"15030100","2023-04-20T13:01:13",3.2,null,null,3.2]
[1,"5",2023,"105318",{"$f":"IFERROR(VLOOKUP(Tabla_SERIED_11_6[[#This Row],[IdEstablecimiento]],'[2]Establecimiento 2023'!$A$1:$E$183,3,FALSE),0)","v":"105318-Centro de Salud Familiar El Palqui"},{"$f":"IFERROR(VLOOKUP(Tabla_SERIED_11_6[[#This Row],[IdEstablecimiento]],'[2]Establecimiento 2023'!$A$1:$E$183,5,FALSE),0)","v":"04303-Monte Patria"},"15010500","2023-04-19T07:10:26",18,null,null,2,null,8,4,4]
[1,"5",2023,"105318",{"$f":"IFERROR(VLOOKUP(Tabla_SERIED_11_6[[#This Row],[IdEstablecimiento]],'[2]Establecimiento 2023'!$A$1:$E$183,3,FALSE),0)","v":"105318-Centro de Salud Familiar El Palqui"},{"$f":"IFERROR(VLOOKUP(Tabla_SERIED_11_6[[#This Row],[IdEstablecimiento]],'[2]Establecimiento 2023'!$A$1:$E$183,5,FALSE),0)","v":"04303-Monte Patria"},"15050200","2023-04-19T07:10:26",23,13,10,1,2,3,null,8,4,4,null,1]
[1,"5",2023,"105318",{"$f":"IFERROR(VLOOKUP(Tabla_SERIED_11_6[[#This Row],[IdEstablecimiento]],'[2]Establecimiento 2023'!$A$1:$E$183,3,FALSE),0)","v":"105318-Centro de Salud Familiar El Palqui"},{"$f":"IFERROR(VLOOKUP(Tabla_SERIED_11_6[[#This Row],[IdEstablecimiento]],'[2]Establecimiento 2023'!$A$1:$E$183,5,FALSE),0)","v":"04303-Monte Patria"},"15900030","2023-04-19T07:10:26",4,null,null,4]
[1,"5",2023,"105108",{"$f":"IFERROR(VLOOKUP(Tabla_SERIED_11_6[[#This Row],[IdEstablecimiento]],'[2]Establecimiento 2023'!$A$1:$E$183,3,FALSE),0)","v":"105108-Hospital San Pedro (Los Vilos)"},{"$f":"IFERROR(VLOOKUP(Tabla_SERIED_11_6[[#This Row],[IdEstablecimiento]],'[2]Establecimiento 2023'!$A$1:$E$183,5,FALSE),0)","v":"105108-Hospital Los Vilos"},"15010300","2023-04-21T08:56:03",2,{"$nulls":3},2]
[1,"5",2023,"105300",{"$f":"IFERROR(VLOOKUP(Tabla_SERIED_11_6[[#This Row],[IdEstablecimiento]],'[2]Establecimiento 2023'!$A$1:$E$183,3,FALSE),0)","v":"105300-Centro de Salud Familiar Cardenal Caro"},{"$f":"IFERROR(VLOOKUP(Tabla_SERIED_11_6[[#This Row],[IdEstablecimiento]],'[2]Establecimiento 2023'!$A$1:$E$183,5,FALSE),0)","v":"04101-La Serena"},"15050100","2023-04-19T06:58:38",509,195,314,3,16,53,74,27,100,67,87,null,42,11,29]
[1,"5",2023,"105301",{"$f":"IFERROR(VLOOKUP(Tabla_SERIED_11_6[[#This Row],[IdEstablecimiento]],'[2]Establecimiento 2023'!$A$1:$E$183,3,FALSE),0)","v":"105301-Centro de Salud Familiar Las Compañías"},{"$f":"IFERROR(VLOOKUP(Tabla_SERIED_11_6[[#This Row],[IdEstablecimiento]],'[2]Establecimiento 2023'!$A$1:$E$183,5,FALSE),0)","v":"04101-La Serena"},"15900050","2023-04-19T07:04:05",10,6,4,1,2,2,3,2]
[1,"5",2023,"105302",{"$f":"IFERROR(VLOOKUP(Tabla_SERIED_11_6[[#This Row],[IdEstablecimiento]],'[2]Establecimiento 2023'!$A$1:$E$183,3,FALSE),0)","v":"105302-Centro de Salud Familiar Pedro Aguirre Cerda"},{"$f":"IFERROR(VLOOKUP(Tabla_SERIED_11_6[[#This Row],[IdEstablecimiento]],'[2]Establecimiento 2023'!$A$1:$E$183,5,FALSE),0)","v":"04101-La Serena"},"15010200","2023-04-21T09:14:19",551,{"$nulls":4},62,264,225]
[1,"5",2023,"105302",{"$f":"IFERROR(VLOOKUP(Tabla_SERIED_11_6[[#This Row],[IdEstablecimiento]],'[2]Establecimiento 2023'!$A$1:$E$183,3,FALSE),0)","v":"105302-Centro de Salud Familiar Pedro Aguirre Cerda"},{"$f":"IFERROR(VLOOKUP(Tabla_SERIED_11_6[[#This Row],[IdEstablecimiento]],'[2]Establecimiento 2023'!$A$1:$E$183,5,FALSE),0)","v":"04101-La Serena"},"15080008","2023-04-21T09:14:19",239,{"$nulls":7},91,null,76,22,50]
[1,"5",2023,"105303",{"$f":"IFERROR(VLOOKUP(Tabla_SERIED_11_6[[#This Row],[IdEstablecimiento]],'[2]Establecimiento 2023'!$A$1:$E$183,3,FALSE),0)","v":"105303-Centro de Salud Familiar San Juan"},{"$f":"IFERROR(VLOOKUP(Tabla_SERIED_11_6[[#This Row],[IdEstablecimiento]],'[2]Establecimiento 2023'!$A$1:$E$183,5,FALSE),0)","v":"04102-Coquimbo"},"15901200","2023-04-20T09:45:37",2.8,0,0,0,2.8,0,0,0]
[1,"5",2023,"105303",{"$f":"IFERROR(VLOOKUP(Tabla_SERIED_11_6[[#This Row],[IdEstablecimiento]],'[2]Establecimiento 2023'!$A$1:$E$183,3,FALSE),0)","v":"105303-Centro de Salud Familiar San Juan"},{"$f":"IFERROR(VLOOKUP(Tabla_SERIED_11_6[[#This Row],[IdEstablecimiento]],'[2]Establecimiento 2023'!$A$1:$E$183,5,FALSE),0)","v":"04102-Coquimbo"},"15901400","2023-04-20T09:45:37",3,2,1,0,0,0,1,2,0,0]
[1,"5",2023,"105303",{"$f":"IFERROR(VLOOKUP(Tabla_SERIED_11_6[[#This Row],[IdEstablecimiento]],'[2]Establecimiento 2023'!$A$1:$E$183,3,FALSE),0)","v":"105303-Centro de Salud Familiar San Juan"},{"$f":"IFERROR(VLOOKUP(Tabla_SERIED_11_6[[#This Row],[IdEstablecimiento]],'[2]Establecimiento 2023'!$A$1:$E$183,5,FALSE),0)","v":"04102-Coquimbo"},"16090300","2023-04-20T09:45:37",679,679]
[1,"5",2023,"105304",{"$f":"IFERROR(VLOOKUP(Tabla_SERIED_11_6[[#This Row],[IdEstablecimiento]],'[2]Establecimiento 2023'!$A$1:$E$183,3,FALSE),0)","v":"105304-Centro de Salud Familiar Santa Cecilia"},{"$f":"IFERROR(VLOOKUP(Tabla_SERIED_11_6[[#This Row],[IdEstablecimiento]],'[2]Establecimiento 2023'!$A$1:$E$183,5,FALSE),0)","v":"04102-Coquimbo"},"15060100","2023-04-19T14:50:51",6,1,5,0,0,3,0,0,2,0,0,null,1,0,0]
[1,"5",2023,"105304",{"$f":"IFERROR(VLOOKUP(Tabla_SERIED_11_6[[#This Row],[IdEstablecimiento]],'[2]Establecimiento 2023'!$A$1:$E$183,3,FALSE),0)","v":"105304-Centro de Salud Familiar Santa Cecilia"},{"$f":"IFERROR(VLOOKUP(Tabla_SERIED_11_6[[#This Row],[IdEstablecimiento]],'[2]Establecimiento 2023'!$A$1:$E$183,5,FALSE),0)","v":"04102-Coquimbo"},"15080012","2023-04-19T14:50:51",2,null,0,2]
[1,"5",2023,"105304",{"$f":"IFERROR(VLOOKUP(Tabla_SERIED_11_6[[#This Row],[IdEstablecimiento]],'[2]Establecimiento 2023'!$A$1:$E$183,3,FALSE),0)","v":"105304-Centro de Salud Familiar Santa Cecilia"},{"$f":"IFERROR(VLOOKUP(Tabla_SERIED_11_6[[#This Row],[IdEstablecimiento]],'[2]Establecimiento 2023'!$A$1:$E$183,5,FALSE),0)","v":"04102-Coquimbo"},"15900050","2023-04-19T14:50:51",5,3,2,1,0,3,1,0,0,0]
[1,"5",2023,"105305",{"$f":"IFERROR(VLOOKUP(Tabla_SERIED_11_6[[#This Row],[IdEstablecimiento]],'[2]Establecimiento 2023'!$A$1:$E$183,3,FALSE),0)","v":"105305-Centro de Salud Familiar Tierras Blancas"},{"$f":"IFERROR(VLOOKUP(Tabla_SERIED_11_6[[#This Row],[IdEstablecimiento]],'[2]Establecimiento 2023'!$A$1:$E$183,5,FALSE),0)","v":"04102-Coquimbo"},"15020200","2023-04-19T14:51:10",16,{"$nulls":4},4,8,4]
[1,"5",2023,"105305",{"$f":"IFERROR(VLOOKUP(Tabla_SERIED_11_6[[#This Row],[IdEstablecimiento]],'[2]Establecimiento 2023'!$A$1:$E$183,3,FALSE),0)","v":"105305-Centro de Salud Familiar Tierras Blancas"},{"$f":"IFERROR(VLOOKUP(Tabla_SERIED_11_6[[#This Row],[IdEstablecimiento]],'[2]Establecimiento 2023'!$A$1:$E$183,5,FALSE),0)","v":"04102-Coquimbo"},"15050100","2023-04-19T14:51:10",674,308,366,4,21,58,83,86,142,105,104,null,39,5,27]
[1,"5",2023,"105305",{"$f":"IFERROR(VLOOKUP(Tabla_SERIED_11_6[[#This Row],[IdEstablecimiento]],'[2]Establecimiento 2023'!$A$1:$E$183,3,FALSE),0)","v":"105305-Centro de Salud Familiar Tierras Blancas"},{"$f":"IFERROR(VLOOKUP(Tabla_SERIED_11_6[[#This Row],[IdEstablecimiento]],'[2]Establecimiento 2023'!$A$1:$E$183,5,FALSE),0)","v":"04102-Coquimbo"},"15080009","2023-04-19T14:51:10",6,{"$nulls":8},6,0,0,0]
[1,"5",2023,"105305",{"$f":"IFERROR(VLOOKUP(Tabla_SERIED_11_6[[#This Row],[IdEstablecimiento]],'[2]Establecimiento 2023'!$A$1:$E$183,3,FALSE),0)","v":"105305-Centro de Salud Familiar Tierras Blancas"},{"$f":"IFERROR(VLOOKUP(Tabla_SERIED_11_6[[#This Row],[IdEstablecimiento]],'[2]Establecimiento 2023'!$A$1:$E$183,5,FALSE),0)","v":"04102-Coquimbo"},"15900030","2023-04-19T14:51:10",10.4,0,0.4,5.2,1.6,3.2,0,0]
[1,"5",2023,"105305",{"$f":"IFERROR(VLOOKUP(Tabla_SERIED_11_6[[#This Row],[IdEstablecimiento]],'[2]Establecimiento 2023'!$A$1:$E$183,3,FALSE),0)","v":"105305-Centro de Salud Familiar Tierras Blancas"},{"$f":"IFERROR(VLOOKUP(Tabla_SERIED_11_6[[#This Row],[IdEstablecimiento]],'[2]Establecimiento 2023'!$A$1:$E$183,5,FALSE),0)","v":"04102-Coquimbo"},"16100300","2023-04-19T14:51:10",743,297,446]
[1,"5",2023,"105305",{"$f":"IFERROR(VLOOKUP(Tabla_SERIED_11_6[[#This Row],[IdEstablecimiento]],'[2]Establecimiento 2023'!$A$1:$E$183,3,FALSE),0)","v":"105305-Centro de Salud Familiar Tierras Blancas"},{"$f":"IFERROR(VLOOKUP(Tabla_SERIED_11_6[[#This Row],[IdEstablecimiento]],'[2]Establecimiento 2023'!$A$1:$E$183,5,FALSE),0)","v":"04102-Coquimbo"},"16200210","2023-04-19T14:51:10",80,80]
[1,"5",2023,"105306",{"$f":"IFERROR(VLOOKUP(Tabla_SERIED_11_6[[#This Row],[IdEstablecimiento]],'[2]Establecimiento 2023'!$A$1:$E$183,3,FALSE),0)","v":"105306-Centro de Salud Familiar Paihuano"},{"$f":"IFERROR(VLOOKUP(Tabla_SERIED_11_6[[#This Row],[IdEstablecimiento]],'[2]Establecimiento 2023'!$A$1:$E$183,5,FALSE),0)","v":"04105-Paihuano"},"16200220","2023-04-19T14:51:29",4,null,4]
[1,"5",2023,"105307",{"$f":"IFERROR(VLOOKUP(Tabla_SERIED_11_6[[#This Row],[IdEstablecimiento]],'[2]Establecimiento 2023'!$A$1:$E$183,3,FALSE),0)","v":"105307-Centro de Salud Familiar Monte Patria"},{"$f":"IFERROR(VLOOKUP(Tabla_SERIED_11_6[[#This Row],[IdEstablecimiento]],'[2]Establecimiento 2023'!$A$1:$E$183,5,FALSE),0)","v":"04303-Monte Patria"},"16100300","2023-04-19T07:04:40",259,117,142]
[1,"5",2023,"105308",{"$f":"IFERROR(VLOOKUP(Tabla_SERIED_11_6[[#This Row],[IdEstablecimiento]],'[2]Establecimiento 2023'!$A$1:$E$183,3,FALSE),0)","v":"105308-Centro de Salud Familiar Punitaqui"},{"$f":"IFERROR(VLOOKUP(Tabla_SERIED_11_6[[#This Row],[IdEstablecimiento]],'[2]Establecimiento 2023'!$A$1:$E$183,5,FALSE),0)","v":"04304-Punitaqui"},"16200210","2023-04-21T07:05:32",4,4]
[1,"5",2023,"105309",{"$f":"IFERROR(VLOOKUP(Tabla_SERIED_11_6[[#This Row],[IdEstablecimiento]],'[2]Establecimiento 2023'!$A$1:$E$183,3,FALSE),0)","v":"105309-Centro de Salud Familiar Canela"},{"$f":"IFERROR(VLOOKUP(Tabla_SERIED_11_6[[#This Row],[IdEstablecimiento]],'[2]Establecimiento 2023'!$A$1:$E$183,5,FALSE),0)","v":"04202-Canela"},"15900030","2023-04-19T07:05:38",5.6,{"$nulls":3},5.6]
[1,"5",2023,"105309",{"$f":"IFERROR(VLOOKUP(Tabla_SERIED_11_6[[#This Row],[IdEstablecimiento]],'[2]Establecimiento 2023'!$A$1:$E$183,3,FALSE),0)","v":"105309-Centro de Salud Familiar Canela"},{"$f":"IFERROR(VLOOKUP(Tabla_SERIED_11_6[[#This Row],[IdEstablecimiento]],'[2]Establecimiento 2023'!$A$1:$E$183,5,FALSE),0)","v":"04202-Canela"},"16090300","2023-04-19T07:05:38",273,273]
[1,"5",2023,"105310",{"$f":"IFERROR(VLOOKUP(Tabla_SERIED_11_6[[#This Row],[IdEstablecimiento]],'[2]Establecimiento 2023'!$A$1:$E$183,3,FALSE),0)","v":"105310-Centro de Salud Familiar Pichasca"},{"$f":"IFERROR(VLOOKUP(Tabla_SERIED_11_6[[#This Row],[IdEstablecimiento]],'[2]Establecimiento 2023'!$A$1:$E$183,5,FALSE),0)","v":"04305-Rio Hurtado"},"15010400","2023-04-19T07:05:58",6,{"$nulls":5},4,2]
[1,"5",2023,"105318",{"$f":"IFERROR(VLOOKUP(Tabla_SERIED_11_6[[#This Row],[IdEstablecimiento]],'[2]Establecimiento 2023'!$A$1:$E$183,3,FALSE),0)","v":"105318-Centro de Salud Familiar El Palqui"},{"$f":"IFERROR(VLOOKUP(Tabla_SERIED_11_6[[#This Row],[IdEstablecimiento]],'[2]Establecimiento 2023'!$A$1:$E$183,5,FALSE),0)","v":"04303-Monte Patria"},"16200220","2023-04-19T07:10:26",9,3,6]
[1,"5",2023,"105319",{"$f":"IFERROR(VLOOKUP(Tabla_SERIED_11_6[[#This Row],[IdEstablecimiento]],'[2]Establecimiento 2023'!$A$1:$E$183,3,FALSE),0)","v":"105319-Centro de Salud Familiar Cardenal Raúl Silva Henríquez de La Serena"},{"$f":"IFERROR(VLOOKUP(Tabla_SERIED_11_6[[#This Row],[IdEstablecimiento]],'[2]Establecimiento 2023'!$A$1:$E$183,5,FALSE),0)","v":"04101-La Serena"},"15050100","2023-04-19T07:12:12",619,319,300,3,18,41,119,34,141,137,93,null,21,null,12]
[1,"5",2023,"105321",{"$f":"IFERROR(VLOOKUP(Tabla_SERIED_11_6[[#This Row],[IdEstablecimiento]],'[2]Establecimiento 2023'!$A$1:$E$183,3,FALSE),0)","v":"105321-Centro de Salud Familiar Tongoy"},{"$f":"IFERROR(VLOOKUP(Tabla_SERIED_11_6[[#This Row],[IdEstablecimiento]],'[2]Establecimiento 2023'!$A$1:$E$183,5,FALSE),0)","v":"04102-Coquimbo"},"15080008","2023-05-16T14:40:38",64,{"$nulls":7},27,null,30,0,7]
[1,"5",2023,"105321",{"$f":"IFERROR(VLOOKUP(Tabla_SERIED_11_6[[#This Row],[IdEstablecimiento]],'[2]Establecimiento 2023'!$A$1:$E$183,3,FALSE),0)","v":"105321-Centro de Salud Familiar Tongoy"},{"$f":"IFERROR(VLOOKUP(Tabla_SERIED_11_6[[#This Row],[IdEstablecimiento]],'[2]Establecimiento 2023'!$A$1:$E$183,5,FALSE),0)","v":"04102-Coquimbo"},"16100300","2023-05-16T14:40:38",141,57,84]
[1,"5",2023,"105322",{"$f":"IFERROR(VLOOKUP(Tabla_SERIED_11_6[[#This Row],[IdEstablecimiento]],'[2]Establecimiento 2023'!$A$1:$E$183,3,FALSE),0)","v":"105322-Centro de Salud Familiar Marcos Macuada"},{"$f":"IFERROR(VLOOKUP(Tabla_SERIED_11_6[[#This Row],[IdEstablecimiento]],'[2]Establecimiento 2023'!$A$1:$E$183,5,FALSE),0)","v":"04301-Ovalle"},"15020400","2023-04-20T13:01:32",2,{"$nulls":5},2,0]
[1,"5",2023,"105322",{"$f":"IFERROR(VLOOKUP(Tabla_SERIED_11_6[[#This Row],[IdEstablecimiento]],'[2]Establecimiento 2023'!$A$1:$E$183,3,FALSE),0)","v":"105322-Centro de Salud Familiar Marcos Macuada"},{"$f":"IFERROR(VLOOKUP(Tabla_SERIED_11_6[[#This Row],[IdEstablecimiento]],'[2]Establecimiento 2023'!$A$1:$E$183,5,FALSE),0)","v":"04301-Ovalle"},"15050200","2023-04-20T13:01:32",4,1,3,0,0,1,0,0,0,3]
[1,"5",2023,"105322",{"$f":"IFERROR(VLOOKUP(Tabla_SERIED_11_6[[#This Row],[IdEstablecimiento]],'[2]Establecimiento 2023'!$A$1:$E$183,3,FALSE),0)","v":"105322-Centro de Salud Familiar Marcos Macuada"},{"$f":"IFERROR(VLOOKUP(Tabla_SERIED_11_6[[#This Row],[IdEstablecimiento]],'[2]Establecimiento 2023'!$A$1:$E$183,5,FALSE),0)","v":"04301-Ovalle"},"15080016","2023-04-20T13:01:32",6,{"$nulls":3},0,0,0,6]
[1,"5",2023,"105322",{"$f":"IFERROR(VLOOKUP(Tabla_SERIED_11_6[[#This Row],[IdEstablecimiento]],'[2]Establecimiento 2023'!$A$1:$E$183,3,FALSE),0)","v":"105322-Centro de Salud Familiar Marcos Macuada"},{"$f":"IFERROR(VLOOKUP(Tabla_SERIED_11_6[[#This Row],[IdEstablecimiento]],'[2]Establecimiento 2023'!$A$1:$E$183,5,FALSE),0)","v":"04301-Ovalle"},"15900040","2023-04-20T13:01:32",21.2,0,4.4,8,8.8,0]
[1,"5",2023,"105323",{"$f":"IFERROR(VLOOKUP(Tabla_SERIED_11_6[[#This Row],[IdEstablecimiento]],'[2]Establecimiento 2023'!$A$1:$E$183,3,FALSE),0)","v":"105323-Centro de Salud Familiar Dr. Sergio Aguilar Delgado"},{"$f":"IFERROR(VLOOKUP(Tabla_SERIED_11_6[[#This Row],[IdEstablecimiento]],'[2]Establecimiento 2023'!$A$1:$E$183,5,FALSE),0)","v":"04102-Coquimbo"},"15010300","2023-04-20T09:46:04",4,{"$nulls":3},4,0,0,0,0,0,0,0,0]
[1,"5",2023,"105325",{"$f":"IFERROR(VLOOKUP(Tabla_SERIED_11_6[[#This Row],[IdEstablecimiento]],'[2]Establecimiento 2023'!$A$1:$E$183,3,FALSE),0)","v":"105325-Centro de Salud Familiar Juan Pablo II (La Serena)"},{"$f":"IFERROR(VLOOKUP(Tabla_SERIED_11_6[[#This Row],[IdEstablecimiento]],'[2]Establecimiento 2023'!$A$1:$E$183,5,FALSE),0)","v":"04101-La Serena"},"16100300","2023-04-19T07:13:29",232,80,152]
[1,"5",2023,"105407",{"$f":"IFERROR(VLOOKUP(Tabla_SERIED_11_6[[#This Row],[IdEstablecimiento]],'[2]Establecimiento 2023'!$A$1:$E$183,3,FALSE),0)","v":"105407-Posta de Salud Rural Tambillo"},{"$f":"IFERROR(VLOOKUP(Tabla_SERIED_11_6[[#This Row],[IdEstablecimiento]],'[2]Establecimiento 2023'!$A$1:$E$183,5,FALSE),0)","v":"04102-Coquimbo"},"15900010","2023-04-20T11:12:24",3.6,0,0,3.6]
[1,"5",2023,"105435",{"$f":"IFERROR(VLOOKUP(Tabla_SERIED_11_6[[#This Row],[IdEstablecimiento]],'[2]Establecimiento 2023'!$A$1:$E$183,3,FALSE),0)","v":"105435-Posta de Salud Rural Tulahuén"},{"$f":"IFERROR(VLOOKUP(Tabla_SERIED_11_6[[#This Row],[IdEstablecimiento]],'[2]Establecimiento 2023'!$A$1:$E$183,5,FALSE),0)","v":"04303-Monte Patria"},"15050100","2023-04-19T07:23:57",32,16,16,{"$nulls":3},2,2,13,11,3,{"$nulls":3},1]
[1,"5",2023,"105451",{"$f":"IFERROR(VLOOKUP(Tabla_SERIED_11_6[[#This Row],[IdEstablecimiento]],'[2]Establecimiento 2023'!$A$1:$E$183,3,FALSE),0)","v":"105451-Posta de Salud Rural Agua Fría"},{"$f":"IFERROR(VLOOKUP(Tabla_SERIED_11_6[[#This Row],[IdEstablecimiento]],'[2]Establecimiento 2023'!$A$1:$E$183,5,FALSE),0)","v":"04202-Canela"},"15010200","2023-04-19T07:32:23",2,{"$nulls":5},2]
[1,"5",2023,"105456",{"$f":"IFERROR(VLOOKUP(Tabla_SERIED_11_6[[#This Row],[IdEstablecimiento]],'[2]Establecimiento 2023'!$A$1:$E$183,3,FALSE),0)","v":"105456-Posta de Salud Rural Llimpo"},{"$f":"IFERROR(VLOOKUP(Tabla_SERIED_11_6[[#This Row],[IdEstablecimiento]],'[2]Establecimiento 2023'!$A$1:$E$183,5,FALSE),0)","v":"04204-Salamanca"},"15050100","2023-04-19T07:33:43",18,7,11,null,1,1,2,1,3,8,null,null,2]
[1,"5",2023,"105315",{"$f":"IFERROR(VLOOKUP(Tabla_SERIED_11_6[[#This Row],[IdEstablecimiento]],'[2]Establecimiento 2023'!$A$1:$E$183,3,FALSE),0)","v":"105315-Centro de Salud Familiar Cerrillos de Tamaya"},{"$f":"IFERROR(VLOOKUP(Tabla_SERIED_11_6[[#This Row],[IdEstablecimiento]],'[2]Establecimiento 2023'!$A$1:$E$183,5,FALSE),0)","v":"04301-Ovalle"},"16200220","2023-04-20T13:00:49",15,5,10]
[1,"5",2023,"105317",{"$f":"IFERROR(VLOOKUP(Tabla_SERIED_11_6[[#This Row],[IdEstablecimiento]],'[2]Establecimiento 2023'!$A$1:$E$183,3,FALSE),0)","v":"105317-Centro de Salud Familiar Jorge Jordán Domic"},{"$f":"IFERROR(VLOOKUP(Tabla_SERIED_11_6[[#This Row],[IdEstablecimiento]],'[2]Establecimiento 2023'!$A$1:$E$183,5,FALSE),0)","v":"04301-Ovalle"},"16200220","2023-04-20T13:01:13",73,23,50]
[1,"5",2023,"105325",{"$f":"IFERROR(VLOOKUP(Tabla_SERIED_11_6[[#This Row],[IdEstablecimiento]],'[2]Establecimiento 2023'!$A$1:$E$183,3,FALSE),0)","v":"105325-Centro de Salud Familiar Juan Pablo II (La Serena)"},{"$f":"IFERROR(VLOOKUP(Tabla_SERIED_11_6[[#This Row],[IdEstablecimiento]],'[2]Establecimiento 2023'!$A$1:$E$183,5,FALSE),0)","v":"04101-La Serena"},"15900030","2023-04-19T07:13:29",9.2,0,0,2.8,3.2,3.2]
[1,"5",2023,"105414",{"$f":"IFERROR(VLOOKUP(Tabla_SERIED_11_6[[#This Row],[IdEstablecimiento]],'[2]Establecimiento 2023'!$A$1:$E$183,3,FALSE),0)","v":"105414-Posta de Salud Rural Serón"},{"$f":"IFERROR(VLOOKUP(Tabla_SERIED_11_6[[#This Row],[IdEstablecimiento]],'[2]Establecimiento 2023'!$A$1:$E$183,5,FALSE),0)","v":"04305-Rio Hurtado"},"16090300","2023-04-19T07:18:57",31,31]
[1,"5",2023,"105471",{"$f":"IFERROR(VLOOKUP(Tabla_SERIED_11_6[[#This Row],[IdEstablecimiento]],'[2]Establecimiento 2023'!$A$1:$E$183,3,FALSE),0)","v":"105471-Posta de Salud Rural Peralillo Vicuña"},{"$f":"IFERROR(VLOOKUP(Tabla_SERIED_11_6[[#This Row],[IdEstablecimiento]],'[2]Establecimiento 2023'!$A$1:$E$183,5,FALSE),0)","v":"04106-Vicuña"},"16090300","2023-04-19T07:41:39",72,72]
[1,"5",2023,"105485",{"$f":"IFERROR(VLOOKUP(Tabla_SERIED_11_6[[#This Row],[IdEstablecimiento]],'[2]Establecimiento 2023'!$A$1:$E$183,3,FALSE),0)","v":"105485-Posta de Salud Rural Plan de Hornos"},{"$f":"IFERROR(VLOOKUP(Tabla_SERIED_11_6[[#This Row],[IdEstablecimiento]],'[2]Establecimiento 2023'!$A$1:$E$183,5,FALSE),0)","v":"04201-Illapel"},"15010100","2023-04-20T09:12:15",4,{"$nulls":3},2,2]
[1,"5",2023,"105425",{"$f":"IFERROR(VLOOKUP(Tabla_SERIED_11_6[[#This Row],[IdEstablecimiento]],'[2]Establecimiento 2023'!$A$1:$E$183,3,FALSE),0)","v":"105425-Posta de Salud Rural Chilecito"},{"$f":"IFERROR(VLOOKUP(Tabla_SERIED_11_6[[#This Row],[IdEstablecimiento]],'[2]Establecimiento 2023'!$A$1:$E$183,5,FALSE),0)","v":"04303-Monte Patria"},"15050100","2023-04-19T07:19:33",11,4,7,{"$nulls":5},6,2,1,null,2]
[1,"5",2023,"105434",{"$f":"IFERROR(VLOOKUP(Tabla_SERIED_11_6[[#This Row],[IdEstablecimiento]],'[2]Establecimiento 2023'!$A$1:$E$183,3,FALSE),0)","v":"105434-Posta de Salud Rural San Marcos (Combarbalá)"},{"$f":"IFERROR(VLOOKUP(Tabla_SERIED_11_6[[#This Row],[IdEstablecimiento]],'[2]Establecimiento 2023'!$A$1:$E$183,5,FALSE),0)","v":"04302-Combarbalá"},"15050100","2023-04-19T07:23:40",13,7,6,null,null,1,null,null,5,1,2,{"$nulls":3},4]
[1,"5",2023,"105441",{"$f":"IFERROR(VLOOKUP(Tabla_SERIED_11_6[[#This Row],[IdEstablecimiento]],'[2]Establecimiento 2023'!$A$1:$E$183,3,FALSE),0)","v":"105441-Posta de Salud Rural Manquehua"},{"$f":"IFERROR(VLOOKUP(Tabla_SERIED_11_6[[#This Row],[IdEstablecimiento]],'[2]Establecimiento 2023'!$A$1:$E$183,5,FALSE),0)","v":"04302-Combarbalá"},"16100300","2023-04-19T07:25:49",92,42,50]
[1,"5",2023,"105105",{"$f":"IFERROR(VLOOKUP(Tabla_SERIED_11_6[[#This Row],[IdEstablecimiento]],'[2]Establecimiento 2023'!$A$1:$E$183,3,FALSE),0)","v":"105105-Hospital San Juan de Dios (Combarbalá)"},{"$f":"IFERROR(VLOOKUP(Tabla_SERIED_11_6[[#This Row],[IdEstablecimiento]],'[2]Establecimiento 2023'!$A$1:$E$183,5,FALSE),0)","v":"105105-Hospital Combarbalá"},"15080008","2023-04-20T11:13:34",68,{"$nulls":7},24,null,28,2,14]
[1,"5",2023,"105105",{"$f":"IFERROR(VLOOKUP(Tabla_SERIED_11_6[[#This Row],[IdEstablecimiento]],'[2]Establecimiento 2023'!$A$1:$E$183,3,FALSE),0)","v":"105105-Hospital San Juan de Dios (Combarbalá)"},{"$f":"IFERROR(VLOOKUP(Tabla_SERIED_11_6[[#This Row],[IdEstablecimiento]],'[2]Establecimiento 2023'!$A$1:$E$183,5,FALSE),0)","v":"105105-Hospital Combarbalá"},"16100300","2023-04-20T11:13:34",364,141,223]
[1,"5",2023,"105456",{"$f":"IFERROR(VLOOKUP(Tabla_SERIED_11_6[[#This Row],[IdEstablecimiento]],'[2]Establecimiento 2023'!$A$1:$E$183,3,FALSE),0)","v":"105456-Posta de Salud Rural Llimpo"},{"$f":"IFERROR(VLOOKUP(Tabla_SERIED_11_6[[#This Row],[IdEstablecimiento]],'[2]Establecimiento 2023'!$A$1:$E$183,5,FALSE),0)","v":"04204-Salamanca"},"16100300","2023-04-19T07:33:43",36,16,20]
[1,"5",2023,"105462",{"$f":"IFERROR(VLOOKUP(Tabla_SERIED_11_6[[#This Row],[IdEstablecimiento]],'[2]Establecimiento 2023'!$A$1:$E$183,3,FALSE),0)","v":"105462-Posta de Salud Rural El Sauce (Combarbalá)"},{"$f":"IFERROR(VLOOKUP(Tabla_SERIED_11_6[[#This Row],[IdEstablecimiento]],'[2]Establecimiento 2023'!$A$1:$E$183,5,FALSE),0)","v":"04302-Combarbalá"},"16100300","2023-04-19T07:37:21",60,27,33]
[1,"5",2023,"105472",{"$f":"IFERROR(VLOOKUP(Tabla_SERIED_11_6[[#This Row],[IdEstablecimiento]],'[2]Establecimiento 2023'!$A$1:$E$183,3,FALSE),0)","v":"105472-Posta de Salud Rural Rivadavia"},{"$f":"IFERROR(VLOOKUP(Tabla_SERIED_11_6[[#This Row],[IdEstablecimiento]],'[2]Establecimiento 2023'!$A$1:$E$183,5,FALSE),0)","v":"04106-Vicuña"},"15010100","2023-04-19T07:42:18",12,{"$nulls":3},8,4]
[1,"5",2023,"105303",{"$f":"IFERROR(VLOOKUP(Tabla_SERIED_11_6[[#This Row],[IdEstablecimiento]],'[2]Establecimiento 2023'!$A$1:$E$183,3,FALSE),0)","v":"105303-Centro de Salud Familiar San Juan"},{"$f":"IFERROR(VLOOKUP(Tabla_SERIED_11_6[[#This Row],[IdEstablecimiento]],'[2]Establecimiento 2023'!$A$1:$E$183,5,FALSE),0)","v":"04102-Coquimbo"},"15050100","2023-04-20T09:45:37",580,250,330,7,9,52,79,72,125,111,68,null,24,26,7]
[1,"5",2023,"105305",{"$f":"IFERROR(VLOOKUP(Tabla_SERIED_11_6[[#This Row],[IdEstablecimiento]],'[2]Establecimiento 2023'!$A$1:$E$183,3,FALSE),0)","v":"105305-Centro de Salud Familiar Tierras Blancas"},{"$f":"IFERROR(VLOOKUP(Tabla_SERIED_11_6[[#This Row],[IdEstablecimiento]],'[2]Establecimiento 2023'!$A$1:$E$183,5,FALSE),0)","v":"04102-Coquimbo"},"16090300","2023-04-19T14:51:10",743,743]
[1,"5",2023,"105310",{"$f":"IFERROR(VLOOKUP(Tabla_SERIED_11_6[[#This Row],[IdEstablecimiento]],'[2]Establecimiento 2023'!$A$1:$E$183,3,FALSE),0)","v":"105310-Centro de Salud Familiar Pichasca"},{"$f":"IFERROR(VLOOKUP(Tabla_SERIED_11_6[[#This Row],[IdEstablecimiento]],'[2]Establecimiento 2023'!$A$1:$E$183,5,FALSE),0)","v":"04305-Rio Hurtado"},"16200220","2023-04-19T07:05:58",22,8,14]
[1,"5",2023,"105317",{"$f":"IFERROR(VLOOKUP(Tabla_SERIED_11_6[[#This Row],[IdEstablecimiento]],'[2]Establecimiento 2023'!$A$1:$E$183,3,FALSE),0)","v":"105317-Centro de Salud Familiar Jorge Jordán Domic"},{"$f":"IFERROR(VLOOKUP(Tabla_SERIED_11_6[[#This Row],[IdEstablecimiento]],'[2]Establecimiento 2023'!$A$1:$E$183,5,FALSE),0)","v":"04301-Ovalle"},"16100300","2023-04-20T13:01:13",621,274,347]
[1,"5",2023,"105318",{"$f":"IFERROR(VLOOKUP(Tabla_SERIED_11_6[[#This Row],[IdEstablecimiento]],'[2]Establecimiento 2023'!$A$1:$E$183,3,FALSE),0)","v":"105318-Centro de Salud Familiar El Palqui"},{"$f":"IFERROR(VLOOKUP(Tabla_SERIED_11_6[[#This Row],[IdEstablecimiento]],'[2]Establecimiento 2023'!$A$1:$E$183,5,FALSE),0)","v":"04303-Monte Patria"},"15080008","2023-04-19T07:10:26",94,{"$nulls":7},23,null,48,null,23]
[1,"5",2023,"105501",{"$f":"IFERROR(VLOOKUP(Tabla_SERIED_11_6[[#This Row],[IdEstablecimiento]],'[2]Establecimiento 2023'!$A$1:$E$183,3,FALSE),0)","v":"105501-Posta de Salud Rural Arboleda Grande"},{"$f":"IFERROR(VLOOKUP(Tabla_SERIED_11_6[[#This Row],[IdEstablecimiento]],'[2]Establecimiento 2023'!$A$1:$E$183,5,FALSE),0)","v":"04204-Salamanca"},"16200220","2023-04-19T07:50:51",1,null,1]
[1,"5",2023,"105506",{"$f":"IFERROR(VLOOKUP(Tabla_SERIED_11_6[[#This Row],[IdEstablecimiento]],'[2]Establecimiento 2023'!$A$1:$E$183,3,FALSE),0)","v":"105506-Posta de Salud Rural El Trapiche"},{"$f":"IFERROR(VLOOKUP(Tabla_SERIED_11_6[[#This Row],[IdEstablecimiento]],'[2]Establecimiento 2023'!$A$1:$E$183,5,FALSE),0)","v":"04104-La Higuera"},"15080008","2023-07-19T15:05:23",1,{"$nulls":7},1]
[1,"5",2023,"200258",{"$f":"IFERROR(VLOOKUP(Tabla_SERIED_11_6[[#This Row],[IdEstablecimiento]],'[2]Establecimiento 2023'!$A$1:$E$183,3,FALSE),0)","v":"200258-Centro Comunitario de Salud Familiar Los Copihues"},{"$f":"IFERROR(VLOOKUP(Tabla_SERIED_11_6[[#This Row],[IdEstablecimiento]],'[2]Establecimiento 2023'!$A$1:$E$183,5,FALSE),0)","v":"04301-Ovalle"},"15010200","2023-04-20T11:11:01",66,{"$nulls":5},46,20]
[1,"5",2023,"200499",{"$f":"IFERROR(VLOOKUP(Tabla_SERIED_11_6[[#This Row],[IdEstablecimiento]],'[2]Establecimiento 2023'!$A$1:$E$183,3,FALSE),0)","v":"200499-Centro de Salud Familiar Rural Pan de Azúcar"},{"$f":"IFERROR(VLOOKUP(Tabla_SERIED_11_6[[#This Row],[IdEstablecimiento]],'[2]Establecimiento 2023'!$A$1:$E$183,5,FALSE),0)","v":"04102-Coquimbo"},"15010300","2023-04-21T09:24:32",2,{"$nulls":3},2,0,0,0,0,0,0,0,0]
[1,"5",2023,"105106",{"$f":"IFERROR(VLOOKUP(Tabla_SERIED_11_6[[#This Row],[IdEstablecimiento]],'[2]Establecimiento 2023'!$A$1:$E$183,3,FALSE),0)","v":"105106-Hospital Dr. José Arraño (Andacollo)"},{"$f":"IFERROR(VLOOKUP(Tabla_SERIED_11_6[[#This Row],[IdEstablecimiento]],'[2]Establecimiento 2023'!$A$1:$E$183,5,FALSE),0)","v":"105106-Hospital Andacollo"},"15900010","2023-04-20T07:01:37",64.1,2.6,16.5,45]
[1,"5",2023,"105107",{"$f":"IFERROR(VLOOKUP(Tabla_SERIED_11_6[[#This Row],[IdEstablecimiento]],'[2]Establecimiento 2023'!$A$1:$E$183,3,FALSE),0)","v":"105107-Hospital San Juan de Dios (Vicuña)"},{"$f":"IFERROR(VLOOKUP(Tabla_SERIED_11_6[[#This Row],[IdEstablecimiento]],'[2]Establecimiento 2023'!$A$1:$E$183,5,FALSE),0)","v":"105107-Hospital Vicuña"},"15010500","2023-04-20T07:01:55",24,null,null,2,8,2,8,4]
[1,"5",2023,"105300",{"$f":"IFERROR(VLOOKUP(Tabla_SERIED_11_6[[#This Row],[IdEstablecimiento]],'[2]Establecimiento 2023'!$A$1:$E$183,3,FALSE),0)","v":"105300-Centro de Salud Familiar Cardenal Caro"},{"$f":"IFERROR(VLOOKUP(Tabla_SERIED_11_6[[#This Row],[IdEstablecimiento]],'[2]Establecimiento 2023'!$A$1:$E$183,5,FALSE),0)","v":"04101-La Serena"},"15901400","2023-04-19T06:58:38",27,20,7,null,7,10,5,5]
[1,"5",2023,"105301",{"$f":"IFERROR(VLOOKUP(Tabla_SERIED_11_6[[#This Row],[IdEstablecimiento]],'[2]Establecimiento 2023'!$A$1:$E$183,3,FALSE),0)","v":"105301-Centro de Salud Familiar Las Compañías"},{"$f":"IFERROR(VLOOKUP(Tabla_SERIED_11_6[[#This Row],[IdEstablecimiento]],'[2]Establecimiento 2023'!$A$1:$E$183,5,FALSE),0)","v":"04101-La Serena"},"15900030","2023-04-19T07:04:05",26.4,4.4,6.8,1.2,7.2,6.8]
[1,"5",2023,"105308",{"$f":"IFERROR(VLOOKUP(Tabla_SERIED_11_6[[#This Row],[IdEstablecimiento]],'[2]Establecimiento 2023'!$A$1:$E$183,3,FALSE),0)","v":"105308-Centro de Salud Familiar Punitaqui"},{"$f":"IFERROR(VLOOKUP(Tabla_SERIED_11_6[[#This Row],[IdEstablecimiento]],'[2]Establecimiento 2023'!$A$1:$E$183,5,FALSE),0)","v":"04304-Punitaqui"},"15030100","2023-04-21T07:05:32",10,null,null,10]
[1,"5",2023,"105313",{"$f":"IFERROR(VLOOKUP(Tabla_SERIED_11_6[[#This Row],[IdEstablecimiento]],'[2]Establecimiento 2023'!$A$1:$E$183,3,FALSE),0)","v":"105313-Centro de Salud Familiar Dr. Emilio Schaffhauser"},{"$f":"IFERROR(VLOOKUP(Tabla_SERIED_11_6[[#This Row],[IdEstablecimiento]],'[2]Establecimiento 2023'!$A$1:$E$183,5,FALSE),0)","v":"04101-La Serena"},"15010200","2023-04-19T07:08:23",464,{"$nulls":4},76,230,158]
[9,"5",2023,"105314",{"$f":"IFERROR(VLOOKUP(Tabla_SERIED_11_6[[#This Row],[IdEstablecimiento]],'[2]Establecimiento 2023'!$A$1:$E$183,3,FALSE),0)","v":"105314-Centro de Salud Familiar La Higuera"},{"$f":"IFERROR(VLOOKUP(Tabla_SERIED_11_6[[#This Row],[IdEstablecimiento]],'[2]Establecimiento 2023'!$A$1:$E$183,5,FALSE),0)","v":"04104-La Higuera"},"16100300","2023-10-17T10:16:58",58,25,33]
[9,"5",2023,"105321",{"$f":"IFERROR(VLOOKUP(Tabla_SERIED_11_6[[#This Row],[IdEstablecimiento]],'[2]Establecimiento 2023'!$A$1:$E$183,3,FALSE),0)","v":"105321-Centro de Salud Familiar Tongoy"},{"$f":"IFERROR(VLOOKUP(Tabla_SERIED_11_6[[#This Row],[IdEstablecimiento]],'[2]Establecimiento 2023'!$A$1:$E$183,5,FALSE),0)","v":"04102-Coquimbo"},"15080015","2023-10-17T11:02:58",135,{"$nulls":5},76,59]
[9,"5",2023,"105501",{"$f":"IFERROR(VLOOKUP(Tabla_SERIED_11_6[[#This Row],[IdEstablecimiento]],'[2]Establecimiento 2023'!$A$1:$E$183,3,FALSE),0)","v":"105501-Posta de Salud Rural Arboleda Grande"},{"$f":"IFERROR(VLOOKUP(Tabla_SERIED_11_6[[#This Row],[IdEstablecimiento]],'[2]Establecimiento 2023'!$A$1:$E$183,5,FALSE),0)","v":"04204-Salamanca"},"15080008","2023-10-17T15:05:59",3,{"$nulls":10},2,1]
[9,"5",2023,"105507",{"$f":"IFERROR(VLOOKUP(Tabla_SERIED_11_6[[#This Row],[IdEstablecimiento]],'[2]Establecimiento 2023'!$A$1:$E$183,3,FALSE),0)","v":"105507-Posta de Salud Rural Huamalata"},{"$f":"IFERROR(VLOOKUP(Tabla_SERIED_11_6[[#This Row],[IdEstablecimiento]],'[2]Establecimiento 2023'!$A$1:$E$183,5,FALSE),0)","v":"04301-Ovalle"},"16100300","2023-10-17T15:33:07",126,54,72]
[9,"5",2023,"200494",{"$f":"IFERROR(VLOOKUP(Tabla_SERIED_11_6[[#This Row],[IdEstablecimiento]],'[2]Establecimiento 2023'!$A$1:$E$183,3,FALSE),0)","v":"200494-Centro de Salud Familiar El Sauce"},{"$f":"IFERROR(VLOOKUP(Tabla_SERIED_11_6[[#This Row],[IdEstablecimiento]],'[2]Establecimiento 2023'!$A$1:$E$183,5,FALSE),0)","v":"04102-Coquimbo"},"15900040","2023-10-17T15:43:08",16,null,null,8.8,3.6,3.6]
[1,"5",2023,"200499",{"$f":"IFERROR(VLOOKUP(Tabla_SERIED_11_6[[#This Row],[IdEstablecimiento]],'[2]Establecimiento 2023'!$A$1:$E$183,3,FALSE),0)","v":"200499-Centro de Salud Familiar Rural Pan de Azúcar"},{"$f":"IFERROR(VLOOKUP(Tabla_SERIED_11_6[[#This Row],[IdEstablecimiento]],'[2]Establecimiento 2023'!$A$1:$E$183,5,FALSE),0)","v":"04102-Coquimbo"},"15080008","2023-04-21T09:24:32",107,{"$nulls":7},60,null,26,6,15]
[1,"5",2023,"200569",{"$f":"IFERROR(VLOOKUP(Tabla_SERIED_11_6[[#This Row],[IdEstablecimiento]],'[2]Establecimiento 2023'!$A$1:$E$183,3,FALSE),0)","v":"200569-Centro de Salud Familiar Fray Jorge"},{"$f":"IFERROR(VLOOKUP(Tabla_SERIED_11_6[[#This Row],[IdEstablecimiento]],'[2]Establecimiento 2023'!$A$1:$E$183,5,FALSE),0)","v":"04301-Ovalle"},"15080008","2023-04-20T11:11:46",175,{"$nulls":7},67,null,66,6,36]
[1,"5",2023,"105106",{"$f":"IFERROR(VLOOKUP(Tabla_SERIED_11_6[[#This Row],[IdEstablecimiento]],'[2]Establecimiento 2023'!$A$1:$E$183,3,FALSE),0)","v":"105106-Hospital Dr. José Arraño (Andacollo)"},{"$f":"IFERROR(VLOOKUP(Tabla_SERIED_11_6[[#This Row],[IdEstablecimiento]],'[2]Establecimiento 2023'!$A$1:$E$183,5,FALSE),0)","v":"105106-Hospital Andacollo"},"16100300","2023-04-20T07:01:37",285,134,151]
[1,"5",2023,"105301",{"$f":"IFERROR(VLOOKUP(Tabla_SERIED_11_6[[#This Row],[IdEstablecimiento]],'[2]Establecimiento 2023'!$A$1:$E$183,3,FALSE),0)","v":"105301-Centro de Salud Familiar Las Compañías"},{"$f":"IFERROR(VLOOKUP(Tabla_SERIED_11_6[[#This Row],[IdEstablecimiento]],'[2]Establecimiento 2023'!$A$1:$E$183,5,FALSE),0)","v":"04101-La Serena"},"15050500","2023-04-19T07:04:05",1,1,0,0,1,0]
[1,"5",2023,"105723",{"$f":"IFERROR(VLOOKUP(Tabla_SERIED_11_6[[#This Row],[IdEstablecimiento]],'[2]Establecimiento 2023'!$A$1:$E$183,3,FALSE),0)","v":"105723-Centro Comunitario de Salud Familiar Limarí"},{"$f":"IFERROR(VLOOKUP(Tabla_SERIED_11_6[[#This Row],[IdEstablecimiento]],'[2]Establecimiento 2023'!$A$1:$E$183,5,FALSE),0)","v":"04301-Ovalle"},"15900040","2023-04-20T11:10:38",7.2,null,null,4.4,2.8]
[1,"5",2023,"200494",{"$f":"IFERROR(VLOOKUP(Tabla_SERIED_11_6[[#This Row],[IdEstablecimiento]],'[2]Establecimiento 2023'!$A$1:$E$183,3,FALSE),0)","v":"200494-Centro de Salud Familiar El Sauce"},{"$f":"IFERROR(VLOOKUP(Tabla_SERIED_11_6[[#This Row],[IdEstablecimiento]],'[2]Establecimiento 2023'!$A$1:$E$183,5,FALSE),0)","v":"04102-Coquimbo"},"15900010","2023-04-21T09:24:54",108.9,8.1,14.4,86.4]
[1,"5",2023,"105701",{"$f":"IFERROR(VLOOKUP(Tabla_SERIED_11_6[[#This Row],[IdEstablecimiento]],'[2]Establecimiento 2023'!$A$1:$E$183,3,FALSE),0)","v":"105701-Centro Comunitario de Salud Familiar Villa Alemania"},{"$f":"IFERROR(VLOOKUP(Tabla_SERIED_11_6[[#This Row],[IdEstablecimiento]],'[2]Establecimiento 2023'!$A$1:$E$183,5,FALSE),0)","v":"04101-La Serena"},"16100300","2023-04-19T08:03:18",41,12,29]
[1,"5",2023,"105723",{"$f":"IFERROR(VLOOKUP(Tabla_SERIED_11_6[[#This Row],[IdEstablecimiento]],'[2]Establecimiento 2023'!$A$1:$E$183,3,FALSE),0)","v":"105723-Centro Comunitario de Salud Familiar Limarí"},{"$f":"IFERROR(VLOOKUP(Tabla_SERIED_11_6[[#This Row],[IdEstablecimiento]],'[2]Establecimiento 2023'!$A$1:$E$183,5,FALSE),0)","v":"04301-Ovalle"},"16200220","2023-04-20T11:10:38",3,2,1]
[1,"5",2023,"200366",{"$f":"IFERROR(VLOOKUP(Tabla_SERIED_11_6[[#This Row],[IdEstablecimiento]],'[2]Establecimiento 2023'!$A$1:$E$183,3,FALSE),0)","v":"200366-Centro de Salud Familiar Urbano de Illapel"},{"$f":"IFERROR(VLOOKUP(Tabla_SERIED_11_6[[#This Row],[IdEstablecimiento]],'[2]Establecimiento 2023'!$A$1:$E$183,5,FALSE),0)","v":"04201-Illapel"},"15040100","2023-04-21T09:27:50",3.2,3.2]
[1,"5",2023,"105305",{"$f":"IFERROR(VLOOKUP(Tabla_SERIED_11_6[[#This Row],[IdEstablecimiento]],'[2]Establecimiento 2023'!$A$1:$E$183,3,FALSE),0)","v":"105305-Centro de Salud Familiar Tierras Blancas"},{"$f":"IFERROR(VLOOKUP(Tabla_SERIED_11_6[[#This Row],[IdEstablecimiento]],'[2]Establecimiento 2023'!$A$1:$E$183,5,FALSE),0)","v":"04102-Coquimbo"},"15060100","2023-04-19T14:51:10",14,10,4,0,1,4,2,4,2,0,0,null,1,0,0]
[1,"5",2023,"105308",{"$f":"IFERROR(VLOOKUP(Tabla_SERIED_11_6[[#This Row],[IdEstablecimiento]],'[2]Establecimiento 2023'!$A$1:$E$183,3,FALSE),0)","v":"105308-Centro de Salud Familiar Punitaqui"},{"$f":"IFERROR(VLOOKUP(Tabla_SERIED_11_6[[#This Row],[IdEstablecimiento]],'[2]Establecimiento 2023'!$A$1:$E$183,5,FALSE),0)","v":"04304-Punitaqui"},"15080008","2023-04-21T07:05:32",116,{"$nulls":7},48,null,56,null,12]
[1,"5",2023,"105311",{"$f":"IFERROR(VLOOKUP(Tabla_SERIED_11_6[[#This Row],[IdEstablecimiento]],'[2]Establecimiento 2023'!$A$1:$E$183,3,FALSE),0)","v":"105311-Centro de Salud Familiar Chañaral Alto"},{"$f":"IFERROR(VLOOKUP(Tabla_SERIED_11_6[[#This Row],[IdEstablecimiento]],'[2]Establecimiento 2023'!$A$1:$E$183,5,FALSE),0)","v":"04303-Monte Patria"},"15900050","2023-04-19T07:06:21",4,3,1,null,null,3,{"$nulls":3},1]
[1,"5",2023,"105319",{"$f":"IFERROR(VLOOKUP(Tabla_SERIED_11_6[[#This Row],[IdEstablecimiento]],'[2]Establecimiento 2023'!$A$1:$E$183,3,FALSE),0)","v":"105319-Centro de Salud Familiar Cardenal Raúl Silva Henríquez de La Serena"},{"$f":"IFERROR(VLOOKUP(Tabla_SERIED_11_6[[#This Row],[IdEstablecimiento]],'[2]Establecimiento 2023'!$A$1:$E$183,5,FALSE),0)","v":"04101-La Serena"},"16200210","2023-04-19T07:12:12",31,31]
[1,"5",2023,"105325",{"$f":"IFERROR(VLOOKUP(Tabla_SERIED_11_6[[#This Row],[IdEstablecimiento]],'[2]Establecimiento 2023'!$A$1:$E$183,3,FALSE),0)","v":"105325-Centro de Salud Familiar Juan Pablo II (La Serena)"},{"$f":"IFERROR(VLOOKUP(Tabla_SERIED_11_6[[#This Row],[IdEstablecimiento]],'[2]Establecimiento 2023'!$A$1:$E$183,5,FALSE),0)","v":"04101-La Serena"},"15030100","2023-04-19T07:13:29",4,0,4,0]
[1,"5",2023,"105405",{"$f":"IFERROR(VLOOKUP(Tabla_SERIED_11_6[[#This Row],[IdEstablecimiento]],'[2]Establecimiento 2023'!$A$1:$E$183,3,FALSE),0)","v":"105405-Posta de Salud Rural Guanaqueros"},{"$f":"IFERROR(VLOOKUP(Tabla_SERIED_11_6[[#This Row],[IdEstablecimiento]],'[2]Establecimiento 2023'!$A$1:$E$183,5,FALSE),0)","v":"04102-Coquimbo"},"16090300","2023-05-16T14:49:26",66,66]
[1,"5",2023,"105415",{"$f":"IFERROR(VLOOKUP(Tabla_SERIED_11_6[[#This Row],[IdEstablecimiento]],'[2]Establecimiento 2023'!$A$1:$E$183,3,FALSE),0)","v":"105415-Posta de Salud Rural Barraza"},{"$f":"IFERROR(VLOOKUP(Tabla_SERIED_11_6[[#This Row],[IdEstablecimiento]],'[2]Establecimiento 2023'!$A$1:$E$183,5,FALSE),0)","v":"04301-Ovalle"},"16090300","2023-04-20T13:04:13",168,168]
[1,"5",2023,"105309",{"$f":"IFERROR(VLOOKUP(Tabla_SERIED_11_6[[#This Row],[IdEstablecimiento]],'[2]Establecimiento 2023'!$A$1:$E$183,3,FALSE),0)","v":"105309-Centro de Salud Familiar Canela"},{"$f":"IFERROR(VLOOKUP(Tabla_SERIED_11_6[[#This Row],[IdEstablecimiento]],'[2]Establecimiento 2023'!$A$1:$E$183,5,FALSE),0)","v":"04202-Canela"},"15080008","2023-04-19T07:05:38",44,{"$nulls":7},17,null,20,2,5]
[1,"5",2023,"105315",{"$f":"IFERROR(VLOOKUP(Tabla_SERIED_11_6[[#This Row],[IdEstablecimiento]],'[2]Establecimiento 2023'!$A$1:$E$183,3,FALSE),0)","v":"105315-Centro de Salud Familiar Cerrillos de Tamaya"},{"$f":"IFERROR(VLOOKUP(Tabla_SERIED_11_6[[#This Row],[IdEstablecimiento]],'[2]Establecimiento 2023'!$A$1:$E$183,5,FALSE),0)","v":"04301-Ovalle"},"15900010","2023-04-20T13:00:49",64,null,10.8,53.2]
[1,"5",2023,"105321",{"$f":"IFERROR(VLOOKUP(Tabla_SERIED_11_6[[#This Row],[IdEstablecimiento]],'[2]Establecimiento 2023'!$A$1:$E$183,3,FALSE),0)","v":"105321-Centro de Salud Familiar Tongoy"},{"$f":"IFERROR(VLOOKUP(Tabla_SERIED_11_6[[#This Row],[IdEstablecimiento]],'[2]Establecimiento 2023'!$A$1:$E$183,5,FALSE),0)","v":"04102-Coquimbo"},"15010200","2023-05-16T14:40:38",171,{"$nulls":4},18,102,51]
[1,"5",2023,"105325",{"$f":"IFERROR(VLOOKUP(Tabla_SERIED_11_6[[#This Row],[IdEstablecimiento]],'[2]Establecimiento 2023'!$A$1:$E$183,3,FALSE),0)","v":"105325-Centro de Salud Familiar Juan Pablo II (La Serena)"},{"$f":"IFERROR(VLOOKUP(Tabla_SERIED_11_6[[#This Row],[IdEstablecimiento]],'[2]Establecimiento 2023'!$A$1:$E$183,5,FALSE),0)","v":"04101-La Serena"},"15050100","2023-04-19T07:13:29",564,228,336,2,22,43,83,42,117,114,89,null,25,9,18]
[1,"5",2023,"105409",{"$f":"IFERROR(VLOOKUP(Tabla_SERIED_11_6[[#This Row],[IdEstablecimiento]],'[2]Establecimiento 2023'!$A$1:$E$183,3,FALSE),0)","v":"105409-Posta de Salud Rural El Chañar"},{"$f":"IFERROR(VLOOKUP(Tabla_SERIED_11_6[[#This Row],[IdEstablecimiento]],'[2]Establecimiento 2023'!$A$1:$E$183,5,FALSE),0)","v":"04305-Rio Hurtado"},"16100300","2023-04-19T07:17:25",16,7,9]
[1,"5",2023,"105422",{"$f":"IFERROR(VLOOKUP(Tabla_SERIED_11_6[[#This Row],[IdEstablecimiento]],'[2]Establecimiento 2023'!$A$1:$E$183,3,FALSE),0)","v":"105422-Posta de Salud Rural Hornillos"},{"$f":"IFERROR(VLOOKUP(Tabla_SERIED_11_6[[#This Row],[IdEstablecimiento]],'[2]Establecimiento 2023'!$A$1:$E$183,5,FALSE),0)","v":"04301-Ovalle"},"16090300","2023-04-20T13:05:22",28,28]
[1,"5",2023,"105427",{"$f":"IFERROR(VLOOKUP(Tabla_SERIED_11_6[[#This Row],[IdEstablecimiento]],'[2]Establecimiento 2023'!$A$1:$E$183,3,FALSE),0)","v":"105427-Posta de Salud Rural Hacienda Valdivia"},{"$f":"IFERROR(VLOOKUP(Tabla_SERIED_11_6[[#This Row],[IdEstablecimiento]],'[2]Establecimiento 2023'!$A$1:$E$183,5,FALSE),0)","v":"04303-Monte Patria"},"16200220","2023-04-19T07:19:55",1,0,1]
[1,"5",2023,"105450",{"$f":"IFERROR(VLOOKUP(Tabla_SERIED_11_6[[#This Row],[IdEstablecimiento]],'[2]Establecimiento 2023'!$A$1:$E$183,3,FALSE),0)","v":"105450-Posta de Salud Rural Mincha Norte"},{"$f":"IFERROR(VLOOKUP(Tabla_SERIED_11_6[[#This Row],[IdEstablecimiento]],'[2]Establecimiento 2023'!$A$1:$E$183,5,FALSE),0)","v":"04202-Canela"},"15050100","2023-04-19T07:32:05",13,6,7,{"$nulls":3},1,null,6,6]
[1,"5",2023,"105461",{"$f":"IFERROR(VLOOKUP(Tabla_SERIED_11_6[[#This Row],[IdEstablecimiento]],'[2]Establecimiento 2023'!$A$1:$E$183,3,FALSE),0)","v":"105461-Posta de Salud Rural El Huacho"},{"$f":"IFERROR(VLOOKUP(Tabla_SERIED_11_6[[#This Row],[IdEstablecimiento]],'[2]Establecimiento 2023'!$A$1:$E$183,5,FALSE),0)","v":"04302-Combarbalá"},"16200210","2023-04-19T07:37:03",2,2]
[1,"5",2023,"105465",{"$f":"IFERROR(VLOOKUP(Tabla_SERIED_11_6[[#This Row],[IdEstablecimiento]],'[2]Establecimiento 2023'!$A$1:$E$183,3,FALSE),0)","v":"105465-Posta de Salud Rural Ramadilla"},{"$f":"IFERROR(VLOOKUP(Tabla_SERIED_11_6[[#This Row],[IdEstablecimiento]],'[2]Establecimiento 2023'!$A$1:$E$183,5,FALSE),0)","v":"04302-Combarbalá"},"16200210","2023-04-19T07:38:23",10,10]
[1,"5",2023,"105472",{"$f":"IFERROR(VLOOKUP(Tabla_SERIED_11_6[[#This Row],[IdEstablecimiento]],'[2]Establecimiento 2023'!$A$1:$E$183,3,FALSE),0)","v":"105472-Posta de Salud Rural Rivadavia"},{"$f":"IFERROR(VLOOKUP(Tabla_SERIED_11_6[[#This Row],[IdEstablecimiento]],'[2]Establecimiento 2023'!$A$1:$E$183,5,FALSE),0)","v":"04106-Vicuña"},"15900010","2023-04-19T07:42:18",2.4,null,null,2.4]
[1,"5",2023,"105477",{"$f":"IFERROR(VLOOKUP(Tabla_SERIED_11_6[[#This Row],[IdEstablecimiento]],'[2]Establecimiento 2023'!$A$1:$E$183,3,FALSE),0)","v":"105477-Posta de Salud Rural Pisco Elqui"},{"$f":"IFERROR(VLOOKUP(Tabla_SERIED_11_6[[#This Row],[IdEstablecimiento]],'[2]Establecimiento 2023'!$A$1:$E$183,5,FALSE),0)","v":"04105-Paihuano"},"15080008","2023-04-20T09:43:40",1,{"$nulls":11},1]
[1,"5",2023,"105481",{"$f":"IFERROR(VLOOKUP(Tabla_SERIED_11_6[[#This Row],[IdEstablecimiento]],'[2]Establecimiento 2023'!$A$1:$E$183,3,FALSE),0)","v":"105481-Posta de Salud Rural Tilama"},{"$f":"IFERROR(VLOOKUP(Tabla_SERIED_11_6[[#This Row],[IdEstablecimiento]],'[2]Establecimiento 2023'!$A$1:$E$183,5,FALSE),0)","v":"04203-Los Vilos"},"15900040","2023-04-19T07:44:16",4.4,{"$nulls":3},4.4]
[1,"5",2023,"105501",{"$f":"IFERROR(VLOOKUP(Tabla_SERIED_11_6[[#This Row],[IdEstablecimiento]],'[2]Establecimiento 2023'!$A$1:$E$183,3,FALSE),0)","v":"105501-Posta de Salud Rural Arboleda Grande"},{"$f":"IFERROR(VLOOKUP(Tabla_SERIED_11_6[[#This Row],[IdEstablecimiento]],'[2]Establecimiento 2023'!$A$1:$E$183,5,FALSE),0)","v":"04204-Salamanca"},"16090300","2023-04-19T07:50:51",107,107]
[1,"5",2023,"105510",{"$f":"IFERROR(VLOOKUP(Tabla_SERIED_11_6[[#This Row],[IdEstablecimiento]],'[2]Establecimiento 2023'!$A$1:$E$183,3,FALSE),0)","v":"105510-Posta de Salud Rural Recoleta"},{"$f":"IFERROR(VLOOKUP(Tabla_SERIED_11_6[[#This Row],[IdEstablecimiento]],'[2]Establecimiento 2023'!$A$1:$E$183,5,FALSE),0)","v":"04301-Ovalle"},"16200220","2023-04-20T11:10:00",21,15,6]
[1,"5",2023,"105701",{"$f":"IFERROR(VLOOKUP(Tabla_SERIED_11_6[[#This Row],[IdEstablecimiento]],'[2]Establecimiento 2023'!$A$1:$E$183,3,FALSE),0)","v":"105701-Centro Comunitario de Salud Familiar Villa Alemania"},{"$f":"IFERROR(VLOOKUP(Tabla_SERIED_11_6[[#This Row],[IdEstablecimiento]],'[2]Establecimiento 2023'!$A$1:$E$183,5,FALSE),0)","v":"04101-La Serena"},"15010500","2023-04-19T08:03:18",2,null,null,2]
[1,"5",2023,"105422",{"$f":"IFERROR(VLOOKUP(Tabla_SERIED_11_6[[#This Row],[IdEstablecimiento]],'[2]Establecimiento 2023'!$A$1:$E$183,3,FALSE),0)","v":"105422-Posta de Salud Rural Hornillos"},{"$f":"IFERROR(VLOOKUP(Tabla_SERIED_11_6[[#This Row],[IdEstablecimiento]],'[2]Establecimiento 2023'!$A$1:$E$183,5,FALSE),0)","v":"04301-Ovalle"},"16200210","2023-04-20T13:05:22",3,3]
[1,"5",2023,"105450",{"$f":"IFERROR(VLOOKUP(Tabla_SERIED_11_6[[#This Row],[IdEstablecimiento]],'[2]Establecimiento 2023'!$A$1:$E$183,3,FALSE),0)","v":"105450-Posta de Salud Rural Mincha Norte"},{"$f":"IFERROR(VLOOKUP(Tabla_SERIED_11_6[[#This Row],[IdEstablecimiento]],'[2]Establecimiento 2023'!$A$1:$E$183,5,FALSE),0)","v":"04202-Canela"},"15010200","2023-04-19T07:32:05",24,{"$nulls":5},12,12]
[1,"5",2023,"105455",{"$f":"IFERROR(VLOOKUP(Tabla_SERIED_11_6[[#This Row],[IdEstablecimiento]],'[2]Establecimiento 2023'!$A$1:$E$183,3,FALSE),0)","v":"105455-CESFAM Valle Alto"},{"$f":"IFERROR(VLOOKUP(Tabla_SERIED_11_6[[#This Row],[IdEstablecimiento]],'[2]Establecimiento 2023'!$A$1:$E$183,5,FALSE),0)","v":"04204-Salamanca"},"15050100","2023-04-20T10:07:24",26,12,15,null,null,1,1,3,8,10,2,null,1]
[1,"5",2023,"105477",{"$f":"IFERROR(VLOOKUP(Tabla_SERIED_11_6[[#This Row],[IdEstablecimiento]],'[2]Establecimiento 2023'!$A$1:$E$183,3,FALSE),0)","v":"105477-Posta de Salud Rural Pisco Elqui"},{"$f":"IFERROR(VLOOKUP(Tabla_SERIED_11_6[[#This Row],[IdEstablecimiento]],'[2]Establecimiento 2023'!$A$1:$E$183,5,FALSE),0)","v":"04105-Paihuano"},"15050100","2023-04-20T09:43:40",9,4,5,null,null,2,2,1,2,1,{"$nulls":4},1]
[1,"5",2023,"105489",{"$f":"IFERROR(VLOOKUP(Tabla_SERIED_11_6[[#This Row],[IdEstablecimiento]],'[2]Establecimiento 2023'!$A$1:$E$183,3,FALSE),0)","v":"105489-Posta de Salud Rural Ramadas de Tulahuén"},{"$f":"IFERROR(VLOOKUP(Tabla_SERIED_11_6[[#This Row],[IdEstablecimiento]],'[2]Establecimiento 2023'!$A$1:$E$183,5,FALSE),0)","v":"04303-Monte Patria"},"15050100","2023-04-19T07:47:47",15,7,8,1,null,null,4,null,5,4,1]
[1,"5",2023,"105504",{"$f":"IFERROR(VLOOKUP(Tabla_SERIED_11_6[[#This Row],[IdEstablecimiento]],'[2]Establecimiento 2023'!$A$1:$E$183,3,FALSE),0)","v":"105504-Posta de Salud Rural Socavón"},{"$f":"IFERROR(VLOOKUP(Tabla_SERIED_11_6[[#This Row],[IdEstablecimiento]],'[2]Establecimiento 2023'!$A$1:$E$183,5,FALSE),0)","v":"04201-Illapel"},"15010100","2023-04-20T09:11:47",2,{"$nulls":3},2]
[1,"5",2023,"105701",{"$f":"IFERROR(VLOOKUP(Tabla_SERIED_11_6[[#This Row],[IdEstablecimiento]],'[2]Establecimiento 2023'!$A$1:$E$183,3,FALSE),0)","v":"105701-Centro Comunitario de Salud Familiar Villa Alemania"},{"$f":"IFERROR(VLOOKUP(Tabla_SERIED_11_6[[#This Row],[IdEstablecimiento]],'[2]Establecimiento 2023'!$A$1:$E$183,5,FALSE),0)","v":"04101-La Serena"},"15050100","2023-04-19T08:03:18",62,30,32,1,null,3,15,7,11,13,8,null,4,0,0]
[1,"5",2023,"200273",{"$f":"IFERROR(VLOOKUP(Tabla_SERIED_11_6[[#This Row],[IdEstablecimiento]],'[2]Establecimiento 2023'!$A$1:$E$183,3,FALSE),0)","v":"200273-Centro Comunitario de Salud Familiar Punta Mira"},{"$f":"IFERROR(VLOOKUP(Tabla_SERIED_11_6[[#This Row],[IdEstablecimiento]],'[2]Establecimiento 2023'!$A$1:$E$183,5,FALSE),0)","v":"04102-Coquimbo"},"15080008","2023-04-21T09:26:12",19,{"$nulls":7},11,null,6,2,0]
[1,"5",2023,"200366",{"$f":"IFERROR(VLOOKUP(Tabla_SERIED_11_6[[#This Row],[IdEstablecimiento]],'[2]Establecimiento 2023'!$A$1:$E$183,3,FALSE),0)","v":"200366-Centro de Salud Familiar Urbano de Illapel"},{"$f":"IFERROR(VLOOKUP(Tabla_SERIED_11_6[[#This Row],[IdEstablecimiento]],'[2]Establecimiento 2023'!$A$1:$E$183,5,FALSE),0)","v":"04201-Illapel"},"15900020","2023-04-21T09:27:50",11.7,null,3.6,8.1]
[1,"5",2023,"105501",{"$f":"IFERROR(VLOOKUP(Tabla_SERIED_11_6[[#This Row],[IdEstablecimiento]],'[2]Establecimiento 2023'!$A$1:$E$183,3,FALSE),0)","v":"105501-Posta de Salud Rural Arboleda Grande"},{"$f":"IFERROR(VLOOKUP(Tabla_SERIED_11_6[[#This Row],[IdEstablecimiento]],'[2]Establecimiento 2023'!$A$1:$E$183,5,FALSE),0)","v":"04204-Salamanca"},"15050100","2023-04-19T07:50:51",41,21,20,null,null,1,7,5,13,13,1,null,1]
[1,"5",2023,"105701",{"$f":"IFERROR(VLOOKUP(Tabla_SERIED_11_6[[#This Row],[IdEstablecimiento]],'[2]Establecimiento 2023'!$A$1:$E$183,3,FALSE),0)","v":"105701-Centro Comunitario de Salud Familiar Villa Alemania"},{"$f":"IFERROR(VLOOKUP(Tabla_SERIED_11_6[[#This Row],[IdEstablecimiento]],'[2]Establecimiento 2023'!$A$1:$E$183,5,FALSE),0)","v":"04101-La Serena"},"15080014","2023-04-19T08:03:18",14,{"$nulls":4},14]
[1,"5",2023,"200366",{"$f":"IFERROR(VLOOKUP(Tabla_SERIED_11_6[[#This Row],[IdEstablecimiento]],'[2]Establecimiento 2023'!$A$1:$E$183,3,FALSE),0)","v":"200366-Centro de Salud Familiar Urbano de Illapel"},{"$f":"IFERROR(VLOOKUP(Tabla_SERIED_11_6[[#This Row],[IdEstablecimiento]],'[2]Establecimiento 2023'!$A$1:$E$183,5,FALSE),0)","v":"04201-Illapel"},"15901200","2023-04-21T09:27:50",2.8,{"$nulls":3},2.8]
[1,"5",2023,"105466",{"$f":"IFERROR(VLOOKUP(Tabla_SERIED_11_6[[#This Row],[IdEstablecimiento]],'[2]Establecimiento 2023'!$A$1:$E$183,3,FALSE),0)","v":"105466-Posta de Salud Rural Valle Hermoso"},{"$f":"IFERROR(VLOOKUP(Tabla_SERIED_11_6[[#This Row],[IdEstablecimiento]],'[2]Establecimiento 2023'!$A$1:$E$183,5,FALSE),0)","v":"04302-Combarbalá"},"15050100","2023-04-19T07:38:40",12,5,7,{"$nulls":3},1,4,2,5]
[1,"5",2023,"105477",{"$f":"IFERROR(VLOOKUP(Tabla_SERIED_11_6[[#This Row],[IdEstablecimiento]],'[2]Establecimiento 2023'!$A$1:$E$183,3,FALSE),0)","v":"105477-Posta de Salud Rural Pisco Elqui"},{"$f":"IFERROR(VLOOKUP(Tabla_SERIED_11_6[[#This Row],[IdEstablecimiento]],'[2]Establecimiento 2023'!$A$1:$E$183,5,FALSE),0)","v":"04105-Paihuano"},"15010400","2023-04-20T09:43:40",2,{"$nulls":5},2]
[1,"5",2023,"105493",{"$f":"IFERROR(VLOOKUP(Tabla_SERIED_11_6[[#This Row],[IdEstablecimiento]],'[2]Establecimiento 2023'!$A$1:$E$183,3,FALSE),0)","v":"105493-Posta de Salud Rural Mincha Sur"},{"$f":"IFERROR(VLOOKUP(Tabla_SERIED_11_6[[#This Row],[IdEstablecimiento]],'[2]Establecimiento 2023'!$A$1:$E$183,5,FALSE),0)","v":"04202-Canela"},"16200210","2023-04-19T07:48:26",1,1]
[1,"5",2023,"200569",{"$f":"IFERROR(VLOOKUP(Tabla_SERIED_11_6[[#This Row],[IdEstablecimiento]],'[2]Establecimiento 2023'!$A$1:$E$183,3,FALSE),0)","v":"200569-Centro de Salud Familiar Fray Jorge"},{"$f":"IFERROR(VLOOKUP(Tabla_SERIED_11_6[[#This Row],[IdEstablecimiento]],'[2]Establecimiento 2023'!$A$1:$E$183,5,FALSE),0)","v":"04301-Ovalle"},"15010200","2023-04-20T11:11:46",519,{"$nulls":4},88,236,195]
[1,"5",2023,"200607",{"$f":"IFERROR(VLOOKUP(Tabla_SERIED_11_6[[#This Row],[IdEstablecimiento]],'[2]Establecimiento 2023'!$A$1:$E$183,3,FALSE),0)","v":"200607-Centro de Salud Familiar Lila Cortés Godoy"},{"$f":"IFERROR(VLOOKUP(Tabla_SERIED_11_6[[#This Row],[IdEstablecimiento]],'[2]Establecimiento 2023'!$A$1:$E$183,5,FALSE),0)","v":"04102-Coquimbo"},"15010200","2023-04-21T09:24:10",635,{"$nulls":4},128,286,221]
[1,"5",2023,"200607",{"$f":"IFERROR(VLOOKUP(Tabla_SERIED_11_6[[#This Row],[IdEstablecimiento]],'[2]Establecimiento 2023'!$A$1:$E$183,3,FALSE),0)","v":"200607-Centro de Salud Familiar Lila Cortés Godoy"},{"$f":"IFERROR(VLOOKUP(Tabla_SERIED_11_6[[#This Row],[IdEstablecimiento]],'[2]Establecimiento 2023'!$A$1:$E$183,5,FALSE),0)","v":"04102-Coquimbo"},"16200210","2023-04-21T09:24:10",58,58]
[1,"5",2023,"200366",{"$f":"IFERROR(VLOOKUP(Tabla_SERIED_11_6[[#This Row],[IdEstablecimiento]],'[2]Establecimiento 2023'!$A$1:$E$183,3,FALSE),0)","v":"200366-Centro de Salud Familiar Urbano de Illapel"},{"$f":"IFERROR(VLOOKUP(Tabla_SERIED_11_6[[#This Row],[IdEstablecimiento]],'[2]Establecimiento 2023'!$A$1:$E$183,5,FALSE),0)","v":"04201-Illapel"},"15010500","2023-04-21T09:27:50",28,null,2,6,2,4,8,6]
[9,"5",2023,"105701",{"$f":"IFERROR(VLOOKUP(Tabla_SERIED_11_6[[#This Row],[IdEstablecimiento]],'[2]Establecimiento 2023'!$A$1:$E$183,3,FALSE),0)","v":"105701-Centro Comunitario de Salud Familiar Villa Alemania"},{"$f":"IFERROR(VLOOKUP(Tabla_SERIED_11_6[[#This Row],[IdEstablecimiento]],'[2]Establecimiento 2023'!$A$1:$E$183,5,FALSE),0)","v":"04101-La Serena"},"16090300","2023-10-17T15:36:54",45,45]
[9,"5",2023,"200402",{"$f":"IFERROR(VLOOKUP(Tabla_SERIED_11_6[[#This Row],[IdEstablecimiento]],'[2]Establecimiento 2023'!$A$1:$E$183,3,FALSE),0)","v":"200402-Centro Comunitario de Salud Familiar Arcos de Pinamar"},{"$f":"IFERROR(VLOOKUP(Tabla_SERIED_11_6[[#This Row],[IdEstablecimiento]],'[2]Establecimiento 2023'!$A$1:$E$183,5,FALSE),0)","v":"04101-La Serena"},"15060100","2023-10-17T15:43:12",1,null,1,1]
[9,"5",2023,"200607",{"$f":"IFERROR(VLOOKUP(Tabla_SERIED_11_6[[#This Row],[IdEstablecimiento]],'[2]Establecimiento 2023'!$A$1:$E$183,3,FALSE),0)","v":"200607-Centro de Salud Familiar Lila Cortés Godoy"},{"$f":"IFERROR(VLOOKUP(Tabla_SERIED_11_6[[#This Row],[IdEstablecimiento]],'[2]Establecimiento 2023'!$A$1:$E$183,5,FALSE),0)","v":"04102-Coquimbo"},"15080008","2023-10-17T15:46:21",127,{"$nulls":7},58,null,48,21]
[1,"5",2023,"105319",{"$f":"IFERROR(VLOOKUP(Tabla_SERIED_11_6[[#This Row],[IdEstablecimiento]],'[2]Establecimiento 2023'!$A$1:$E$183,3,FALSE),0)","v":"105319-Centro de Salud Familiar Cardenal Raúl Silva Henríquez de La Serena"},{"$f":"IFERROR(VLOOKUP(Tabla_SERIED_11_6[[#This Row],[IdEstablecimiento]],'[2]Establecimiento 2023'!$A$1:$E$183,5,FALSE),0)","v":"04101-La Serena"},"15010100","2023-04-19T07:12:12",238,{"$nulls":3},238]
[1,"5",2023,"105323",{"$f":"IFERROR(VLOOKUP(Tabla_SERIED_11_6[[#This Row],[IdEstablecimiento]],'[2]Establecimiento 2023'!$A$1:$E$183,3,FALSE),0)","v":"105323-Centro de Salud Familiar Dr. Sergio Aguilar Delgado"},{"$f":"IFERROR(VLOOKUP(Tabla_SERIED_11_6[[#This Row],[IdEstablecimiento]],'[2]Establecimiento 2023'!$A$1:$E$183,5,FALSE),0)","v":"04102-Coquimbo"},"15020100","2023-04-20T09:46:04",12,0,0,8,4,0,0,0,0,0,0,0,0]
[1,"5",2023,"105323",{"$f":"IFERROR(VLOOKUP(Tabla_SERIED_11_6[[#This Row],[IdEstablecimiento]],'[2]Establecimiento 2023'!$A$1:$E$183,3,FALSE),0)","v":"105323-Centro de Salud Familiar Dr. Sergio Aguilar Delgado"},{"$f":"IFERROR(VLOOKUP(Tabla_SERIED_11_6[[#This Row],[IdEstablecimiento]],'[2]Establecimiento 2023'!$A$1:$E$183,5,FALSE),0)","v":"04102-Coquimbo"},"15900030","2023-04-20T09:46:04",17.6,0,7.2,7.2,0,3.2,0,0]
[1,"5",2023,"105414",{"$f":"IFERROR(VLOOKUP(Tabla_SERIED_11_6[[#This Row],[IdEstablecimiento]],'[2]Establecimiento 2023'!$A$1:$E$183,3,FALSE),0)","v":"105414-Posta de Salud Rural Serón"},{"$f":"IFERROR(VLOOKUP(Tabla_SERIED_11_6[[#This Row],[IdEstablecimiento]],'[2]Establecimiento 2023'!$A$1:$E$183,5,FALSE),0)","v":"04305-Rio Hurtado"},"16200220","2023-04-19T07:18:57",1,1]
[1,"5",2023,"105107",{"$f":"IFERROR(VLOOKUP(Tabla_SERIED_11_6[[#This Row],[IdEstablecimiento]],'[2]Establecimiento 2023'!$A$1:$E$183,3,FALSE),0)","v":"105107-Hospital San Juan de Dios (Vicuña)"},{"$f":"IFERROR(VLOOKUP(Tabla_SERIED_11_6[[#This Row],[IdEstablecimiento]],'[2]Establecimiento 2023'!$A$1:$E$183,5,FALSE),0)","v":"105107-Hospital Vicuña"},"15010200","2023-04-20T07:01:55",229,{"$nulls":4},38,108,83]
[1,"5",2023,"105302",{"$f":"IFERROR(VLOOKUP(Tabla_SERIED_11_6[[#This Row],[IdEstablecimiento]],'[2]Establecimiento 2023'!$A$1:$E$183,3,FALSE),0)","v":"105302-Centro de Salud Familiar Pedro Aguirre Cerda"},{"$f":"IFERROR(VLOOKUP(Tabla_SERIED_11_6[[#This Row],[IdEstablecimiento]],'[2]Establecimiento 2023'!$A$1:$E$183,5,FALSE),0)","v":"04101-La Serena"},"15900050","2023-04-21T09:14:19",15,6,9,1,2,10,2]
[1,"5",2023,"105307",{"$f":"IFERROR(VLOOKUP(Tabla_SERIED_11_6[[#This Row],[IdEstablecimiento]],'[2]Establecimiento 2023'!$A$1:$E$183,3,FALSE),0)","v":"105307-Centro de Salud Familiar Monte Patria"},{"$f":"IFERROR(VLOOKUP(Tabla_SERIED_11_6[[#This Row],[IdEstablecimiento]],'[2]Establecimiento 2023'!$A$1:$E$183,5,FALSE),0)","v":"04303-Monte Patria"},"16200210","2023-04-19T07:04:40",28,28]
[1,"5",2023,"105309",{"$f":"IFERROR(VLOOKUP(Tabla_SERIED_11_6[[#This Row],[IdEstablecimiento]],'[2]Establecimiento 2023'!$A$1:$E$183,3,FALSE),0)","v":"105309-Centro de Salud Familiar Canela"},{"$f":"IFERROR(VLOOKUP(Tabla_SERIED_11_6[[#This Row],[IdEstablecimiento]],'[2]Establecimiento 2023'!$A$1:$E$183,5,FALSE),0)","v":"04202-Canela"},"16200220","2023-04-19T07:05:38",17,8,9]
[1,"5",2023,"105300",{"$f":"IFERROR(VLOOKUP(Tabla_SERIED_11_6[[#This Row],[IdEstablecimiento]],'[2]Establecimiento 2023'!$A$1:$E$183,3,FALSE),0)","v":"105300-Centro de Salud Familiar Cardenal Caro"},{"$f":"IFERROR(VLOOKUP(Tabla_SERIED_11_6[[#This Row],[IdEstablecimiento]],'[2]Establecimiento 2023'!$A$1:$E$183,5,FALSE),0)","v":"04101-La Serena"},"15900040","2023-04-19T06:58:38",8,null,3.6,4.4]
[1,"5",2023,"105304",{"$f":"IFERROR(VLOOKUP(Tabla_SERIED_11_6[[#This Row],[IdEstablecimiento]],'[2]Establecimiento 2023'!$A$1:$E$183,3,FALSE),0)","v":"105304-Centro de Salud Familiar Santa Cecilia"},{"$f":"IFERROR(VLOOKUP(Tabla_SERIED_11_6[[#This Row],[IdEstablecimiento]],'[2]Establecimiento 2023'!$A$1:$E$183,5,FALSE),0)","v":"04102-Coquimbo"},"15050500","2023-04-19T14:50:51",5,4,1,0,0,5]
[1,"5",2023,"105308",{"$f":"IFERROR(VLOOKUP(Tabla_SERIED_11_6[[#This Row],[IdEstablecimiento]],'[2]Establecimiento 2023'!$A$1:$E$183,3,FALSE),0)","v":"105308-Centro de Salud Familiar Punitaqui"},{"$f":"IFERROR(VLOOKUP(Tabla_SERIED_11_6[[#This Row],[IdEstablecimiento]],'[2]Establecimiento 2023'!$A$1:$E$183,5,FALSE),0)","v":"04304-Punitaqui"},"15010400","2023-04-21T07:05:32",6,{"$nulls":5},4,2]
[1,"5",2023,"105313",{"$f":"IFERROR(VLOOKUP(Tabla_SERIED_11_6[[#This Row],[IdEstablecimiento]],'[2]Establecimiento 2023'!$A$1:$E$183,3,FALSE),0)","v":"105313-Centro de Salud Familiar Dr. Emilio Schaffhauser"},{"$f":"IFERROR(VLOOKUP(Tabla_SERIED_11_6[[#This Row],[IdEstablecimiento]],'[2]Establecimiento 2023'!$A$1:$E$183,5,FALSE),0)","v":"04101-La Serena"},"15020100","2023-04-19T07:08:23",2,{"$nulls":3},2]
[1,"5",2023,"105407",{"$f":"IFERROR(VLOOKUP(Tabla_SERIED_11_6[[#This Row],[IdEstablecimiento]],'[2]Establecimiento 2023'!$A$1:$E$183,3,FALSE),0)","v":"105407-Posta de Salud Rural Tambillo"},{"$f":"IFERROR(VLOOKUP(Tabla_SERIED_11_6[[#This Row],[IdEstablecimiento]],'[2]Establecimiento 2023'!$A$1:$E$183,5,FALSE),0)","v":"04102-Coquimbo"},"15050100","2023-04-20T11:12:24",8,3,5,0,0,1,3,1,1,1,1,null,0,0,0]
[1,"5",2023,"105432",{"$f":"IFERROR(VLOOKUP(Tabla_SERIED_11_6[[#This Row],[IdEstablecimiento]],'[2]Establecimiento 2023'!$A$1:$E$183,3,FALSE),0)","v":"105432-Posta de Salud Rural Rapel (Monte Patria)"},{"$f":"IFERROR(VLOOKUP(Tabla_SERIED_11_6[[#This Row],[IdEstablecimiento]],'[2]Establecimiento 2023'!$A$1:$E$183,5,FALSE),0)","v":"04303-Monte Patria"},"15010500","2023-04-19T07:22:55",2,null,null,2]
[1,"5",2023,"105441",{"$f":"IFERROR(VLOOKUP(Tabla_SERIED_11_6[[#This Row],[IdEstablecimiento]],'[2]Establecimiento 2023'!$A$1:$E$183,3,FALSE),0)","v":"105441-Posta de Salud Rural Manquehua"},{"$f":"IFERROR(VLOOKUP(Tabla_SERIED_11_6[[#This Row],[IdEstablecimiento]],'[2]Establecimiento 2023'!$A$1:$E$183,5,FALSE),0)","v":"04302-Combarbalá"},"16090300","2023-04-19T07:25:49",92,92]
[1,"5",2023,"105413",{"$f":"IFERROR(VLOOKUP(Tabla_SERIED_11_6[[#This Row],[IdEstablecimiento]],'[2]Establecimiento 2023'!$A$1:$E$183,3,FALSE),0)","v":"105413-Posta de Salud Rural Samo Alto"},{"$f":"IFERROR(VLOOKUP(Tabla_SERIED_11_6[[#This Row],[IdEstablecimiento]],'[2]Establecimiento 2023'!$A$1:$E$183,5,FALSE),0)","v":"04305-Rio Hurtado"},"16200100","2023-04-19T07:18:44",2,1,1]
[1,"5",2023,"105104",{"$f":"IFERROR(VLOOKUP(Tabla_SERIED_11_6[[#This Row],[IdEstablecimiento]],'[2]Establecimiento 2023'!$A$1:$E$183,3,FALSE),0)","v":"105104-Hospital de Salamanca"},{"$f":"IFERROR(VLOOKUP(Tabla_SERIED_11_6[[#This Row],[IdEstablecimiento]],'[2]Establecimiento 2023'!$A$1:$E$183,5,FALSE),0)","v":"105104-Hospital Salamanca"},"15080010","2023-04-20T09:39:17",2,{"$nulls":7},0,null,0,2,0]
[1,"5",2023,"105304",{"$f":"IFERROR(VLOOKUP(Tabla_SERIED_11_6[[#This Row],[IdEstablecimiento]],'[2]Establecimiento 2023'!$A$1:$E$183,3,FALSE),0)","v":"105304-Centro de Salud Familiar Santa Cecilia"},{"$f":"IFERROR(VLOOKUP(Tabla_SERIED_11_6[[#This Row],[IdEstablecimiento]],'[2]Establecimiento 2023'!$A$1:$E$183,5,FALSE),0)","v":"04102-Coquimbo"},"15901200","2023-04-19T14:50:51",1.6,0,0,0,0,1.6,0,0]
[1,"5",2023,"105305",{"$f":"IFERROR(VLOOKUP(Tabla_SERIED_11_6[[#This Row],[IdEstablecimiento]],'[2]Establecimiento 2023'!$A$1:$E$183,3,FALSE),0)","v":"105305-Centro de Salud Familiar Tierras Blancas"},{"$f":"IFERROR(VLOOKUP(Tabla_SERIED_11_6[[#This Row],[IdEstablecimiento]],'[2]Establecimiento 2023'!$A$1:$E$183,5,FALSE),0)","v":"04102-Coquimbo"},"15010500","2023-04-19T14:51:10",20,null,0,0,0,4,14,2]
[1,"5",2023,"105311",{"$f":"IFERROR(VLOOKUP(Tabla_SERIED_11_6[[#This Row],[IdEstablecimiento]],'[2]Establecimiento 2023'!$A$1:$E$183,3,FALSE),0)","v":"105311-Centro de Salud Familiar Chañaral Alto"},{"$f":"IFERROR(VLOOKUP(Tabla_SERIED_11_6[[#This Row],[IdEstablecimiento]],'[2]Establecimiento 2023'!$A$1:$E$183,5,FALSE),0)","v":"04303-Monte Patria"},"15050200","2023-04-19T07:06:21",6,2,4,null,null,2,1,null,2,{"$nulls":3},1]
[1,"5",2023,"105317",{"$f":"IFERROR(VLOOKUP(Tabla_SERIED_11_6[[#This Row],[IdEstablecimiento]],'[2]Establecimiento 2023'!$A$1:$E$183,3,FALSE),0)","v":"105317-Centro de Salud Familiar Jorge Jordán Domic"},{"$f":"IFERROR(VLOOKUP(Tabla_SERIED_11_6[[#This Row],[IdEstablecimiento]],'[2]Establecimiento 2023'!$A$1:$E$183,5,FALSE),0)","v":"04301-Ovalle"},"15900030","2023-04-20T13:01:13",7.2,null,null,3.2,2.4,0.8,0.8]
[1,"5",2023,"105323",{"$f":"IFERROR(VLOOKUP(Tabla_SERIED_11_6[[#This Row],[IdEstablecimiento]],'[2]Establecimiento 2023'!$A$1:$E$183,3,FALSE),0)","v":"105323-Centro de Salud Familiar Dr. Sergio Aguilar Delgado"},{"$f":"IFERROR(VLOOKUP(Tabla_SERIED_11_6[[#This Row],[IdEstablecimiento]],'[2]Establecimiento 2023'!$A$1:$E$183,5,FALSE),0)","v":"04102-Coquimbo"},"15050500","2023-04-20T09:46:04",1,1,0,0,1,0]
[1,"5",2023,"105453",{"$f":"IFERROR(VLOOKUP(Tabla_SERIED_11_6[[#This Row],[IdEstablecimiento]],'[2]Establecimiento 2023'!$A$1:$E$183,3,FALSE),0)","v":"105453-Posta de Salud Rural Tranquilla"},{"$f":"IFERROR(VLOOKUP(Tabla_SERIED_11_6[[#This Row],[IdEstablecimiento]],'[2]Establecimiento 2023'!$A$1:$E$183,5,FALSE),0)","v":"04204-Salamanca"},"15050200","2023-04-19T07:32:57",2,2,{"$nulls":3},1,{"$nulls":3},1]
[1,"5",2023,"105462",{"$f":"IFERROR(VLOOKUP(Tabla_SERIED_11_6[[#This Row],[IdEstablecimiento]],'[2]Establecimiento 2023'!$A$1:$E$183,3,FALSE),0)","v":"105462-Posta de Salud Rural El Sauce (Combarbalá)"},{"$f":"IFERROR(VLOOKUP(Tabla_SERIED_11_6[[#This Row],[IdEstablecimiento]],'[2]Establecimiento 2023'!$A$1:$E$183,5,FALSE),0)","v":"04302-Combarbalá"},"16200210","2023-04-19T07:37:21",6,6]
[1,"5",2023,"105475",{"$f":"IFERROR(VLOOKUP(Tabla_SERIED_11_6[[#This Row],[IdEstablecimiento]],'[2]Establecimiento 2023'!$A$1:$E$183,3,FALSE),0)","v":"105475-Posta de Salud Rural Horcón (Paiguano)"},{"$f":"IFERROR(VLOOKUP(Tabla_SERIED_11_6[[#This Row],[IdEstablecimiento]],'[2]Establecimiento 2023'!$A$1:$E$183,5,FALSE),0)","v":"04105-Paihuano"},"15050200","2023-04-20T09:42:55",2,null,2,null,null,1,1]
[1,"5",2023,"105106",{"$f":"IFERROR(VLOOKUP(Tabla_SERIED_11_6[[#This Row],[IdEstablecimiento]],'[2]Establecimiento 2023'!$A$1:$E$183,3,FALSE),0)","v":"105106-Hospital Dr. José Arraño (Andacollo)"},{"$f":"IFERROR(VLOOKUP(Tabla_SERIED_11_6[[#This Row],[IdEstablecimiento]],'[2]Establecimiento 2023'!$A$1:$E$183,5,FALSE),0)","v":"105106-Hospital Andacollo"},"15050200","2023-04-20T07:01:37",6,3,3,{"$nulls":5},4,2]
[1,"5",2023,"105107",{"$f":"IFERROR(VLOOKUP(Tabla_SERIED_11_6[[#This Row],[IdEstablecimiento]],'[2]Establecimiento 2023'!$A$1:$E$183,3,FALSE),0)","v":"105107-Hospital San Juan de Dios (Vicuña)"},{"$f":"IFERROR(VLOOKUP(Tabla_SERIED_11_6[[#This Row],[IdEstablecimiento]],'[2]Establecimiento 2023'!$A$1:$E$183,5,FALSE),0)","v":"105107-Hospital Vicuña"},"15900010","2023-04-20T07:01:55",90.9,1.6,6.9,82.4]
[1,"5",2023,"105300",{"$f":"IFERROR(VLOOKUP(Tabla_SERIED_11_6[[#This Row],[IdEstablecimiento]],'[2]Establecimiento 2023'!$A$1:$E$183,3,FALSE),0)","v":"105300-Centro de Salud Familiar Cardenal Caro"},{"$f":"IFERROR(VLOOKUP(Tabla_SERIED_11_6[[#This Row],[IdEstablecimiento]],'[2]Establecimiento 2023'!$A$1:$E$183,5,FALSE),0)","v":"04101-La Serena"},"16090100","2023-04-19T06:58:38",3,3]
[1,"5",2023,"105303",{"$f":"IFERROR(VLOOKUP(Tabla_SERIED_11_6[[#This Row],[IdEstablecimiento]],'[2]Establecimiento 2023'!$A$1:$E$183,3,FALSE),0)","v":"105303-Centro de Salud Familiar San Juan"},{"$f":"IFERROR(VLOOKUP(Tabla_SERIED_11_6[[#This Row],[IdEstablecimiento]],'[2]Establecimiento 2023'!$A$1:$E$183,5,FALSE),0)","v":"04102-Coquimbo"},"15900020","2023-04-20T09:45:37",5.4,0,0,5.4]
[1,"5",2023,"105312",{"$f":"IFERROR(VLOOKUP(Tabla_SERIED_11_6[[#This Row],[IdEstablecimiento]],'[2]Establecimiento 2023'!$A$1:$E$183,3,FALSE),0)","v":"105312-Centro de Salud Familiar Carén"},{"$f":"IFERROR(VLOOKUP(Tabla_SERIED_11_6[[#This Row],[IdEstablecimiento]],'[2]Establecimiento 2023'!$A$1:$E$183,5,FALSE),0)","v":"04303-Monte Patria"},"15900010","2023-04-19T07:07:21",7.2,0.9,0.9,5.4]
[1,"5",2023,"105480",{"$f":"IFERROR(VLOOKUP(Tabla_SERIED_11_6[[#This Row],[IdEstablecimiento]],'[2]Establecimiento 2023'!$A$1:$E$183,3,FALSE),0)","v":"105480-Posta de Salud Rural Quilimarí"},{"$f":"IFERROR(VLOOKUP(Tabla_SERIED_11_6[[#This Row],[IdEstablecimiento]],'[2]Establecimiento 2023'!$A$1:$E$183,5,FALSE),0)","v":"04203-Los Vilos"},"16200210","2023-04-19T07:43:57",1,1]
[1,"5",2023,"105491",{"$f":"IFERROR(VLOOKUP(Tabla_SERIED_11_6[[#This Row],[IdEstablecimiento]],'[2]Establecimiento 2023'!$A$1:$E$183,3,FALSE),0)","v":"105491-Posta de Salud Rural Quelén Bajo"},{"$f":"IFERROR(VLOOKUP(Tabla_SERIED_11_6[[#This Row],[IdEstablecimiento]],'[2]Establecimiento 2023'!$A$1:$E$183,5,FALSE),0)","v":"04204-Salamanca"},"15900010","2023-04-20T09:33:14",7.2,null,null,7.2]
[1,"5",2023,"105723",{"$f":"IFERROR(VLOOKUP(Tabla_SERIED_11_6[[#This Row],[IdEstablecimiento]],'[2]Establecimiento 2023'!$A$1:$E$183,3,FALSE),0)","v":"105723-Centro Comunitario de Salud Familiar Limarí"},{"$f":"IFERROR(VLOOKUP(Tabla_SERIED_11_6[[#This Row],[IdEstablecimiento]],'[2]Establecimiento 2023'!$A$1:$E$183,5,FALSE),0)","v":"04301-Ovalle"},"15080008","2023-04-20T11:10:38",15,{"$nulls":7},11,null,2,null,2]
[1,"5",2023,"105106",{"$f":"IFERROR(VLOOKUP(Tabla_SERIED_11_6[[#This Row],[IdEstablecimiento]],'[2]Establecimiento 2023'!$A$1:$E$183,3,FALSE),0)","v":"105106-Hospital Dr. José Arraño (Andacollo)"},{"$f":"IFERROR(VLOOKUP(Tabla_SERIED_11_6[[#This Row],[IdEstablecimiento]],'[2]Establecimiento 2023'!$A$1:$E$183,5,FALSE),0)","v":"105106-Hospital Andacollo"},"15900040","2023-04-20T07:01:37",4.4,null,4.4]
[1,"5",2023,"105302",{"$f":"IFERROR(VLOOKUP(Tabla_SERIED_11_6[[#This Row],[IdEstablecimiento]],'[2]Establecimiento 2023'!$A$1:$E$183,3,FALSE),0)","v":"105302-Centro de Salud Familiar Pedro Aguirre Cerda"},{"$f":"IFERROR(VLOOKUP(Tabla_SERIED_11_6[[#This Row],[IdEstablecimiento]],'[2]Establecimiento 2023'!$A$1:$E$183,5,FALSE),0)","v":"04101-La Serena"},"15080010","2023-04-21T09:14:19",1,{"$nulls":10},1]
[1,"5",2023,"200273",{"$f":"IFERROR(VLOOKUP(Tabla_SERIED_11_6[[#This Row],[IdEstablecimiento]],'[2]Establecimiento 2023'!$A$1:$E$183,3,FALSE),0)","v":"200273-Centro Comunitario de Salud Familiar Punta Mira"},{"$f":"IFERROR(VLOOKUP(Tabla_SERIED_11_6[[#This Row],[IdEstablecimiento]],'[2]Establecimiento 2023'!$A$1:$E$183,5,FALSE),0)","v":"04102-Coquimbo"},"15080010","2023-04-21T09:26:12",1,{"$nulls":7},1,null,0,0,0]
[1,"5",2023,"200607",{"$f":"IFERROR(VLOOKUP(Tabla_SERIED_11_6[[#This Row],[IdEstablecimiento]],'[2]Establecimiento 2023'!$A$1:$E$183,3,FALSE),0)","v":"200607-Centro de Salud Familiar Lila Cortés Godoy"},{"$f":"IFERROR(VLOOKUP(Tabla_SERIED_11_6[[#This Row],[IdEstablecimiento]],'[2]Establecimiento 2023'!$A$1:$E$183,5,FALSE),0)","v":"04102-Coquimbo"},"15901400","2023-04-21T09:24:10",6,5,1,0,1,2,0,3,0,0]
[1,"5",2023,"105321",{"$f":"IFERROR(VLOOKUP(Tabla_SERIED_11_6[[#This Row],[IdEstablecimiento]],'[2]Establecimiento 2023'!$A$1:$E$183,3,FALSE),0)","v":"105321-Centro de Salud Familiar Tongoy"},{"$f":"IFERROR(VLOOKUP(Tabla_SERIED_11_6[[#This Row],[IdEstablecimiento]],'[2]Establecimiento 2023'!$A$1:$E$183,5,FALSE),0)","v":"04102-Coquimbo"},"15010500","2023-05-16T14:40:38",10,null,0,2,0,4,4,0]
[1,"5",2023,"105324",{"$f":"IFERROR(VLOOKUP(Tabla_SERIED_11_6[[#This Row],[IdEstablecimiento]],'[2]Establecimiento 2023'!$A$1:$E$183,3,FALSE),0)","v":"105324-Centro de Salud Familiar Sotaquí"},{"$f":"IFERROR(VLOOKUP(Tabla_SERIED_11_6[[#This Row],[IdEstablecimiento]],'[2]Establecimiento 2023'!$A$1:$E$183,5,FALSE),0)","v":"04301-Ovalle"},"15900010","2023-04-20T13:02:02",39.6,null,3.6,36]
[1,"5",2023,"105416",{"$f":"IFERROR(VLOOKUP(Tabla_SERIED_11_6[[#This Row],[IdEstablecimiento]],'[2]Establecimiento 2023'!$A$1:$E$183,3,FALSE),0)","v":"105416-Posta de Salud Rural Camarico (Ovalle)"},{"$f":"IFERROR(VLOOKUP(Tabla_SERIED_11_6[[#This Row],[IdEstablecimiento]],'[2]Establecimiento 2023'!$A$1:$E$183,5,FALSE),0)","v":"04301-Ovalle"},"15010100","2023-04-20T13:04:29",4,{"$nulls":3},4]
[1,"5",2023,"105306",{"$f":"IFERROR(VLOOKUP(Tabla_SERIED_11_6[[#This Row],[IdEstablecimiento]],'[2]Establecimiento 2023'!$A$1:$E$183,3,FALSE),0)","v":"105306-Centro de Salud Familiar Paihuano"},{"$f":"IFERROR(VLOOKUP(Tabla_SERIED_11_6[[#This Row],[IdEstablecimiento]],'[2]Establecimiento 2023'!$A$1:$E$183,5,FALSE),0)","v":"04105-Paihuano"},"16200210","2023-04-19T14:51:29",4,4]
[1,"5",2023,"105314",{"$f":"IFERROR(VLOOKUP(Tabla_SERIED_11_6[[#This Row],[IdEstablecimiento]],'[2]Establecimiento 2023'!$A$1:$E$183,3,FALSE),0)","v":"105314-Centro de Salud Familiar La Higuera"},{"$f":"IFERROR(VLOOKUP(Tabla_SERIED_11_6[[#This Row],[IdEstablecimiento]],'[2]Establecimiento 2023'!$A$1:$E$183,5,FALSE),0)","v":"04104-La Higuera"},"15080008","2023-07-19T15:06:49",9,{"$nulls":7},7,null,2]
[1,"5",2023,"105318",{"$f":"IFERROR(VLOOKUP(Tabla_SERIED_11_6[[#This Row],[IdEstablecimiento]],'[2]Establecimiento 2023'!$A$1:$E$183,3,FALSE),0)","v":"105318-Centro de Salud Familiar El Palqui"},{"$f":"IFERROR(VLOOKUP(Tabla_SERIED_11_6[[#This Row],[IdEstablecimiento]],'[2]Establecimiento 2023'!$A$1:$E$183,5,FALSE),0)","v":"04303-Monte Patria"},"15900020","2023-04-19T07:10:26",12.8,2.4,4,6.4]
[1,"5",2023,"105481",{"$f":"IFERROR(VLOOKUP(Tabla_SERIED_11_6[[#This Row],[IdEstablecimiento]],'[2]Establecimiento 2023'!$A$1:$E$183,3,FALSE),0)","v":"105481-Posta de Salud Rural Tilama"},{"$f":"IFERROR(VLOOKUP(Tabla_SERIED_11_6[[#This Row],[IdEstablecimiento]],'[2]Establecimiento 2023'!$A$1:$E$183,5,FALSE),0)","v":"04203-Los Vilos"},"15010100","2023-04-19T07:44:16",4,{"$nulls":3},4]
[1,"5",2023,"105500",{"$f":"IFERROR(VLOOKUP(Tabla_SERIED_11_6[[#This Row],[IdEstablecimiento]],'[2]Establecimiento 2023'!$A$1:$E$183,3,FALSE),0)","v":"105500-Posta de Salud Rural Caleta Hornos"},{"$f":"IFERROR(VLOOKUP(Tabla_SERIED_11_6[[#This Row],[IdEstablecimiento]],'[2]Establecimiento 2023'!$A$1:$E$183,5,FALSE),0)","v":"04104-La Higuera"},"16100300","2023-07-19T15:06:23",28,13,15]
[1,"5",2023,"105701",{"$f":"IFERROR(VLOOKUP(Tabla_SERIED_11_6[[#This Row],[IdEstablecimiento]],'[2]Establecimiento 2023'!$A$1:$E$183,3,FALSE),0)","v":"105701-Centro Comunitario de Salud Familiar Villa Alemania"},{"$f":"IFERROR(VLOOKUP(Tabla_SERIED_11_6[[#This Row],[IdEstablecimiento]],'[2]Establecimiento 2023'!$A$1:$E$183,5,FALSE),0)","v":"04101-La Serena"},"15900050","2023-04-19T08:03:18",1,{"$nulls":4},1]
[1,"5",2023,"105106",{"$f":"IFERROR(VLOOKUP(Tabla_SERIED_11_6[[#This Row],[IdEstablecimiento]],'[2]Establecimiento 2023'!$A$1:$E$183,3,FALSE),0)","v":"105106-Hospital Dr. José Arraño (Andacollo)"},{"$f":"IFERROR(VLOOKUP(Tabla_SERIED_11_6[[#This Row],[IdEstablecimiento]],'[2]Establecimiento 2023'!$A$1:$E$183,5,FALSE),0)","v":"105106-Hospital Andacollo"},"15080010","2023-04-20T07:01:37",1,{"$nulls":7},1]
[1,"5",2023,"105302",{"$f":"IFERROR(VLOOKUP(Tabla_SERIED_11_6[[#This Row],[IdEstablecimiento]],'[2]Establecimiento 2023'!$A$1:$E$183,3,FALSE),0)","v":"105302-Centro de Salud Familiar Pedro Aguirre Cerda"},{"$f":"IFERROR(VLOOKUP(Tabla_SERIED_11_6[[#This Row],[IdEstablecimiento]],'[2]Establecimiento 2023'!$A$1:$E$183,5,FALSE),0)","v":"04101-La Serena"},"15050100","2023-04-21T09:14:19",674,244,433,9,26,52,81,60,132,113,91,null,38,22,50]
[1,"5",2023,"105400",{"$f":"IFERROR(VLOOKUP(Tabla_SERIED_11_6[[#This Row],[IdEstablecimiento]],'[2]Establecimiento 2023'!$A$1:$E$183,3,FALSE),0)","v":"105400-Posta de Salud Rural Algarrobito"},{"$f":"IFERROR(VLOOKUP(Tabla_SERIED_11_6[[#This Row],[IdEstablecimiento]],'[2]Establecimiento 2023'!$A$1:$E$183,5,FALSE),0)","v":"04101-La Serena"},"15010200","2023-04-19T07:16:13",92,{"$nulls":4},14,40,38]
[1,"5",2023,"105405",{"$f":"IFERROR(VLOOKUP(Tabla_SERIED_11_6[[#This Row],[IdEstablecimiento]],'[2]Establecimiento 2023'!$A$1:$E$183,3,FALSE),0)","v":"105405-Posta de Salud Rural Guanaqueros"},{"$f":"IFERROR(VLOOKUP(Tabla_SERIED_11_6[[#This Row],[IdEstablecimiento]],'[2]Establecimiento 2023'!$A$1:$E$183,5,FALSE),0)","v":"04102-Coquimbo"},"15010100","2023-05-16T14:49:26",34,{"$nulls":3},32,2,0,0,0,0,0,0,0]
[1,"5",2023,"105413",{"$f":"IFERROR(VLOOKUP(Tabla_SERIED_11_6[[#This Row],[IdEstablecimiento]],'[2]Establecimiento 2023'!$A$1:$E$183,3,FALSE),0)","v":"105413-Posta de Salud Rural Samo Alto"},{"$f":"IFERROR(VLOOKUP(Tabla_SERIED_11_6[[#This Row],[IdEstablecimiento]],'[2]Establecimiento 2023'!$A$1:$E$183,5,FALSE),0)","v":"04305-Rio Hurtado"},"15010200","2023-04-19T07:18:44",10,{"$nulls":6},10]
[1,"5",2023,"105433",{"$f":"IFERROR(VLOOKUP(Tabla_SERIED_11_6[[#This Row],[IdEstablecimiento]],'[2]Establecimiento 2023'!$A$1:$E$183,3,FALSE),0)","v":"105433-Posta de Salud Rural San Lorenzo (Combarbalá)"},{"$f":"IFERROR(VLOOKUP(Tabla_SERIED_11_6[[#This Row],[IdEstablecimiento]],'[2]Establecimiento 2023'!$A$1:$E$183,5,FALSE),0)","v":"04302-Combarbalá"},"15010200","2023-04-19T07:23:10",2,{"$nulls":5},2]
[1,"5",2023,"105454",{"$f":"IFERROR(VLOOKUP(Tabla_SERIED_11_6[[#This Row],[IdEstablecimiento]],'[2]Establecimiento 2023'!$A$1:$E$183,3,FALSE),0)","v":"105454-Posta de Salud Rural Cunlagua"},{"$f":"IFERROR(VLOOKUP(Tabla_SERIED_11_6[[#This Row],[IdEstablecimiento]],'[2]Establecimiento 2023'!$A$1:$E$183,5,FALSE),0)","v":"04204-Salamanca"},"16090300","2023-04-19T07:33:11",47,47]
[1,"5",2023,"105460",{"$f":"IFERROR(VLOOKUP(Tabla_SERIED_11_6[[#This Row],[IdEstablecimiento]],'[2]Establecimiento 2023'!$A$1:$E$183,3,FALSE),0)","v":"105460-Centro Comunitario de Salud Familiar Cogotí 18"},{"$f":"IFERROR(VLOOKUP(Tabla_SERIED_11_6[[#This Row],[IdEstablecimiento]],'[2]Establecimiento 2023'!$A$1:$E$183,5,FALSE),0)","v":"04302-Combarbalá"},"15050200","2023-04-21T09:15:54",1,null,1,{"$nulls":5},1]
[1,"5",2023,"105471",{"$f":"IFERROR(VLOOKUP(Tabla_SERIED_11_6[[#This Row],[IdEstablecimiento]],'[2]Establecimiento 2023'!$A$1:$E$183,3,FALSE),0)","v":"105471-Posta de Salud Rural Peralillo Vicuña"},{"$f":"IFERROR(VLOOKUP(Tabla_SERIED_11_6[[#This Row],[IdEstablecimiento]],'[2]Establecimiento 2023'!$A$1:$E$183,5,FALSE),0)","v":"04106-Vicuña"},"15900010","2023-04-19T07:41:39",3.6,null,3.6]
[1,"5",2023,"105435",{"$f":"IFERROR(VLOOKUP(Tabla_SERIED_11_6[[#This Row],[IdEstablecimiento]],'[2]Establecimiento 2023'!$A$1:$E$183,3,FALSE),0)","v":"105435-Posta de Salud Rural Tulahuén"},{"$f":"IFERROR(VLOOKUP(Tabla_SERIED_11_6[[#This Row],[IdEstablecimiento]],'[2]Establecimiento 2023'!$A$1:$E$183,5,FALSE),0)","v":"04303-Monte Patria"},"15080008","2023-04-19T07:23:57",4,{"$nulls":7},3,{"$nulls":3},1]
[1,"5",2023,"105441",{"$f":"IFERROR(VLOOKUP(Tabla_SERIED_11_6[[#This Row],[IdEstablecimiento]],'[2]Establecimiento 2023'!$A$1:$E$183,3,FALSE),0)","v":"105441-Posta de Salud Rural Manquehua"},{"$f":"IFERROR(VLOOKUP(Tabla_SERIED_11_6[[#This Row],[IdEstablecimiento]],'[2]Establecimiento 2023'!$A$1:$E$183,5,FALSE),0)","v":"04302-Combarbalá"},"15050100","2023-04-19T07:25:49",11,7,4,null,null,1,null,null,4,4,null,null,1,null,1]
[1,"5",2023,"105451",{"$f":"IFERROR(VLOOKUP(Tabla_SERIED_11_6[[#This Row],[IdEstablecimiento]],'[2]Establecimiento 2023'!$A$1:$E$183,3,FALSE),0)","v":"105451-Posta de Salud Rural Agua Fría"},{"$f":"IFERROR(VLOOKUP(Tabla_SERIED_11_6[[#This Row],[IdEstablecimiento]],'[2]Establecimiento 2023'!$A$1:$E$183,5,FALSE),0)","v":"04202-Canela"},"15010100","2023-04-19T07:32:23",2,{"$nulls":3},2]
[1,"5",2023,"105456",{"$f":"IFERROR(VLOOKUP(Tabla_SERIED_11_6[[#This Row],[IdEstablecimiento]],'[2]Establecimiento 2023'!$A$1:$E$183,3,FALSE),0)","v":"105456-Posta de Salud Rural Llimpo"},{"$f":"IFERROR(VLOOKUP(Tabla_SERIED_11_6[[#This Row],[IdEstablecimiento]],'[2]Establecimiento 2023'!$A$1:$E$183,5,FALSE),0)","v":"04204-Salamanca"},"15010100","2023-04-19T07:33:43",4,{"$nulls":4},4]
[1,"5",2023,"105461",{"$f":"IFERROR(VLOOKUP(Tabla_SERIED_11_6[[#This Row],[IdEstablecimiento]],'[2]Establecimiento 2023'!$A$1:$E$183,3,FALSE),0)","v":"105461-Posta de Salud Rural El Huacho"},{"$f":"IFERROR(VLOOKUP(Tabla_SERIED_11_6[[#This Row],[IdEstablecimiento]],'[2]Establecimiento 2023'!$A$1:$E$183,5,FALSE),0)","v":"04302-Combarbalá"},"16200220","2023-04-19T07:37:03",2,1,1]
[1,"5",2023,"105472",{"$f":"IFERROR(VLOOKUP(Tabla_SERIED_11_6[[#This Row],[IdEstablecimiento]],'[2]Establecimiento 2023'!$A$1:$E$183,3,FALSE),0)","v":"105472-Posta de Salud Rural Rivadavia"},{"$f":"IFERROR(VLOOKUP(Tabla_SERIED_11_6[[#This Row],[IdEstablecimiento]],'[2]Establecimiento 2023'!$A$1:$E$183,5,FALSE),0)","v":"04106-Vicuña"},"15050100","2023-04-19T07:42:18",14,7,7,null,null,1,4,2,2,2,2,null,1]
[1,"5",2023,"105491",{"$f":"IFERROR(VLOOKUP(Tabla_SERIED_11_6[[#This Row],[IdEstablecimiento]],'[2]Establecimiento 2023'!$A$1:$E$183,3,FALSE),0)","v":"105491-Posta de Salud Rural Quelén Bajo"},{"$f":"IFERROR(VLOOKUP(Tabla_SERIED_11_6[[#This Row],[IdEstablecimiento]],'[2]Establecimiento 2023'!$A$1:$E$183,5,FALSE),0)","v":"04204-Salamanca"},"15010500","2023-04-20T09:33:14",4,{"$nulls":4},2,null,2]
[1,"5",2023,"105321",{"$f":"IFERROR(VLOOKUP(Tabla_SERIED_11_6[[#This Row],[IdEstablecimiento]],'[2]Establecimiento 2023'!$A$1:$E$183,3,FALSE),0)","v":"105321-Centro de Salud Familiar Tongoy"},{"$f":"IFERROR(VLOOKUP(Tabla_SERIED_11_6[[#This Row],[IdEstablecimiento]],'[2]Establecimiento 2023'!$A$1:$E$183,5,FALSE),0)","v":"04102-Coquimbo"},"15050100","2023-05-16T14:40:38",199,84,115,4,4,24,20,20,52,26,27,null,15,0,7]
[1,"5",2023,"105326",{"$f":"IFERROR(VLOOKUP(Tabla_SERIED_11_6[[#This Row],[IdEstablecimiento]],'[2]Establecimiento 2023'!$A$1:$E$183,3,FALSE),0)","v":"105326-Centro de Salud Familiar Villa San Rafael de Rozas"},{"$f":"IFERROR(VLOOKUP(Tabla_SERIED_11_6[[#This Row],[IdEstablecimiento]],'[2]Establecimiento 2023'!$A$1:$E$183,5,FALSE),0)","v":"04201-Illapel"},"15050100","2023-04-19T07:15:55",190,92,98,2,1,14,33,19,49,34,18,null,12,1,7]
[1,"5",2023,"105410",{"$f":"IFERROR(VLOOKUP(Tabla_SERIED_11_6[[#This Row],[IdEstablecimiento]],'[2]Establecimiento 2023'!$A$1:$E$183,3,FALSE),0)","v":"105410-Posta de Salud Rural Hurtado"},{"$f":"IFERROR(VLOOKUP(Tabla_SERIED_11_6[[#This Row],[IdEstablecimiento]],'[2]Establecimiento 2023'!$A$1:$E$183,5,FALSE),0)","v":"04305-Rio Hurtado"},"16090300","2023-04-19T07:18:12",34,34]
[1,"5",2023,"105319",{"$f":"IFERROR(VLOOKUP(Tabla_SERIED_11_6[[#This Row],[IdEstablecimiento]],'[2]Establecimiento 2023'!$A$1:$E$183,3,FALSE),0)","v":"105319-Centro de Salud Familiar Cardenal Raúl Silva Henríquez de La Serena"},{"$f":"IFERROR(VLOOKUP(Tabla_SERIED_11_6[[#This Row],[IdEstablecimiento]],'[2]Establecimiento 2023'!$A$1:$E$183,5,FALSE),0)","v":"04101-La Serena"},"16200220","2023-04-19T07:12:12",31,11,20]
[1,"5",2023,"105321",{"$f":"IFERROR(VLOOKUP(Tabla_SERIED_11_6[[#This Row],[IdEstablecimiento]],'[2]Establecimiento 2023'!$A$1:$E$183,3,FALSE),0)","v":"105321-Centro de Salud Familiar Tongoy"},{"$f":"IFERROR(VLOOKUP(Tabla_SERIED_11_6[[#This Row],[IdEstablecimiento]],'[2]Establecimiento 2023'!$A$1:$E$183,5,FALSE),0)","v":"04102-Coquimbo"},"15050200","2023-05-16T14:40:38",5,2,3,0,0,1,0,2,2,0,null,0,0,0,0]
[1,"5",2023,"105427",{"$f":"IFERROR(VLOOKUP(Tabla_SERIED_11_6[[#This Row],[IdEstablecimiento]],'[2]Establecimiento 2023'!$A$1:$E$183,3,FALSE),0)","v":"105427-Posta de Salud Rural Hacienda Valdivia"},{"$f":"IFERROR(VLOOKUP(Tabla_SERIED_11_6[[#This Row],[IdEstablecimiento]],'[2]Establecimiento 2023'!$A$1:$E$183,5,FALSE),0)","v":"04303-Monte Patria"},"15080008","2023-04-19T07:19:55",6,{"$nulls":9},6]
[1,"5",2023,"105428",{"$f":"IFERROR(VLOOKUP(Tabla_SERIED_11_6[[#This Row],[IdEstablecimiento]],'[2]Establecimiento 2023'!$A$1:$E$183,3,FALSE),0)","v":"105428-Posta de Salud Rural Huatulame"},{"$f":"IFERROR(VLOOKUP(Tabla_SERIED_11_6[[#This Row],[IdEstablecimiento]],'[2]Establecimiento 2023'!$A$1:$E$183,5,FALSE),0)","v":"04303-Monte Patria"},"16090300","2023-04-19T07:20:35",19,19]
[1,"5",2023,"105443",{"$f":"IFERROR(VLOOKUP(Tabla_SERIED_11_6[[#This Row],[IdEstablecimiento]],'[2]Establecimiento 2023'!$A$1:$E$183,3,FALSE),0)","v":"105443-Posta de Salud Rural Cárcamo"},{"$f":"IFERROR(VLOOKUP(Tabla_SERIED_11_6[[#This Row],[IdEstablecimiento]],'[2]Establecimiento 2023'!$A$1:$E$183,5,FALSE),0)","v":"04201-Illapel"},"15900050","2023-04-20T09:06:50",1,null,1,{"$nulls":3},1]
[1,"5",2023,"105459",{"$f":"IFERROR(VLOOKUP(Tabla_SERIED_11_6[[#This Row],[IdEstablecimiento]],'[2]Establecimiento 2023'!$A$1:$E$183,3,FALSE),0)","v":"105459-Posta de Salud Rural Barrancas"},{"$f":"IFERROR(VLOOKUP(Tabla_SERIED_11_6[[#This Row],[IdEstablecimiento]],'[2]Establecimiento 2023'!$A$1:$E$183,5,FALSE),0)","v":"04302-Combarbalá"},"16200210","2023-04-19T07:35:51",2,2]
[1,"5",2023,"105496",{"$f":"IFERROR(VLOOKUP(Tabla_SERIED_11_6[[#This Row],[IdEstablecimiento]],'[2]Establecimiento 2023'!$A$1:$E$183,3,FALSE),0)","v":"105496-Posta de Salud Rural Pintacura Sur"},{"$f":"IFERROR(VLOOKUP(Tabla_SERIED_11_6[[#This Row],[IdEstablecimiento]],'[2]Establecimiento 2023'!$A$1:$E$183,5,FALSE),0)","v":"04201-Illapel"},"16200210","2023-04-20T09:11:31",6,6]
[1,"5",2023,"105722",{"$f":"IFERROR(VLOOKUP(Tabla_SERIED_11_6[[#This Row],[IdEstablecimiento]],'[2]Establecimiento 2023'!$A$1:$E$183,3,FALSE),0)","v":"105722-Centro Comunitario de Salud Familiar San José de la Dehesa"},{"$f":"IFERROR(VLOOKUP(Tabla_SERIED_11_6[[#This Row],[IdEstablecimiento]],'[2]Establecimiento 2023'!$A$1:$E$183,5,FALSE),0)","v":"04301-Ovalle"},"15900010","2023-04-20T11:10:20",47.7,null,12.6,35.1]
[1,"5",2023,"105478",{"$f":"IFERROR(VLOOKUP(Tabla_SERIED_11_6[[#This Row],[IdEstablecimiento]],'[2]Establecimiento 2023'!$A$1:$E$183,3,FALSE),0)","v":"105478-Posta de Salud Rural Caimanes"},{"$f":"IFERROR(VLOOKUP(Tabla_SERIED_11_6[[#This Row],[IdEstablecimiento]],'[2]Establecimiento 2023'!$A$1:$E$183,5,FALSE),0)","v":"04203-Los Vilos"},"15900010","2023-04-19T07:43:29",1.8,null,1.8]
[1,"5",2023,"105481",{"$f":"IFERROR(VLOOKUP(Tabla_SERIED_11_6[[#This Row],[IdEstablecimiento]],'[2]Establecimiento 2023'!$A$1:$E$183,3,FALSE),0)","v":"105481-Posta de Salud Rural Tilama"},{"$f":"IFERROR(VLOOKUP(Tabla_SERIED_11_6[[#This Row],[IdEstablecimiento]],'[2]Establecimiento 2023'!$A$1:$E$183,5,FALSE),0)","v":"04203-Los Vilos"},"15080008","2023-04-19T07:44:16",1,{"$nulls":7},1]
[1,"5",2023,"105506",{"$f":"IFERROR(VLOOKUP(Tabla_SERIED_11_6[[#This Row],[IdEstablecimiento]],'[2]Establecimiento 2023'!$A$1:$E$183,3,FALSE),0)","v":"105506-Posta de Salud Rural El Trapiche"},{"$f":"IFERROR(VLOOKUP(Tabla_SERIED_11_6[[#This Row],[IdEstablecimiento]],'[2]Establecimiento 2023'!$A$1:$E$183,5,FALSE),0)","v":"04104-La Higuera"},"15010100","2023-07-19T15:05:23",10,{"$nulls":3},10]
[1,"5",2023,"105509",{"$f":"IFERROR(VLOOKUP(Tabla_SERIED_11_6[[#This Row],[IdEstablecimiento]],'[2]Establecimiento 2023'!$A$1:$E$183,3,FALSE),0)","v":"105509-Posta de Salud Rural Gualliguaica"},{"$f":"IFERROR(VLOOKUP(Tabla_SERIED_11_6[[#This Row],[IdEstablecimiento]],'[2]Establecimiento 2023'!$A$1:$E$183,5,FALSE),0)","v":"04106-Vicuña"},"16090300","2023-04-19T08:00:47",21,21]
[1,"5",2023,"200258",{"$f":"IFERROR(VLOOKUP(Tabla_SERIED_11_6[[#This Row],[IdEstablecimiento]],'[2]Establecimiento 2023'!$A$1:$E$183,3,FALSE),0)","v":"200258-Centro Comunitario de Salud Familiar Los Copihues"},{"$f":"IFERROR(VLOOKUP(Tabla_SERIED_11_6[[#This Row],[IdEstablecimiento]],'[2]Establecimiento 2023'!$A$1:$E$183,5,FALSE),0)","v":"04301-Ovalle"},"15010100","2023-04-20T11:11:01",30,{"$nulls":3},30,0]
[1,"5",2023,"200494",{"$f":"IFERROR(VLOOKUP(Tabla_SERIED_11_6[[#This Row],[IdEstablecimiento]],'[2]Establecimiento 2023'!$A$1:$E$183,3,FALSE),0)","v":"200494-Centro de Salud Familiar El Sauce"},{"$f":"IFERROR(VLOOKUP(Tabla_SERIED_11_6[[#This Row],[IdEstablecimiento]],'[2]Establecimiento 2023'!$A$1:$E$183,5,FALSE),0)","v":"04102-Coquimbo"},"15050100","2023-04-21T09:24:54",559,210,349,7,9,43,75,65,119,99,88,null,24,5,25]
[1,"5",2023,"200607",{"$f":"IFERROR(VLOOKUP(Tabla_SERIED_11_6[[#This Row],[IdEstablecimiento]],'[2]Establecimiento 2023'!$A$1:$E$183,3,FALSE),0)","v":"200607-Centro de Salud Familiar Lila Cortés Godoy"},{"$f":"IFERROR(VLOOKUP(Tabla_SERIED_11_6[[#This Row],[IdEstablecimiento]],'[2]Establecimiento 2023'!$A$1:$E$183,5,FALSE),0)","v":"04102-Coquimbo"},"15900010","2023-04-21T09:24:10",288,31.2,58.5,198.3]
[1,"5",2023,"105401",{"$f":"IFERROR(VLOOKUP(Tabla_SERIED_11_6[[#This Row],[IdEstablecimiento]],'[2]Establecimiento 2023'!$A$1:$E$183,3,FALSE),0)","v":"105401-Posta de Salud Rural Las Rojas"},{"$f":"IFERROR(VLOOKUP(Tabla_SERIED_11_6[[#This Row],[IdEstablecimiento]],'[2]Establecimiento 2023'!$A$1:$E$183,5,FALSE),0)","v":"04101-La Serena"},"15050100","2023-04-19T07:16:30",25,8,17,null,1,3,2,1,5,5,4,null,4]
[1,"5",2023,"105432",{"$f":"IFERROR(VLOOKUP(Tabla_SERIED_11_6[[#This Row],[IdEstablecimiento]],'[2]Establecimiento 2023'!$A$1:$E$183,3,FALSE),0)","v":"105432-Posta de Salud Rural Rapel (Monte Patria)"},{"$f":"IFERROR(VLOOKUP(Tabla_SERIED_11_6[[#This Row],[IdEstablecimiento]],'[2]Establecimiento 2023'!$A$1:$E$183,5,FALSE),0)","v":"04303-Monte Patria"},"16200210","2023-04-19T07:22:55",6,6]
[1,"5",2023,"105444",{"$f":"IFERROR(VLOOKUP(Tabla_SERIED_11_6[[#This Row],[IdEstablecimiento]],'[2]Establecimiento 2023'!$A$1:$E$183,3,FALSE),0)","v":"105444-Posta de Salud Rural Huintil"},{"$f":"IFERROR(VLOOKUP(Tabla_SERIED_11_6[[#This Row],[IdEstablecimiento]],'[2]Establecimiento 2023'!$A$1:$E$183,5,FALSE),0)","v":"04201-Illapel"},"15010500","2023-04-20T09:07:09",2,null,null,2]
[1,"5",2023,"105446",{"$f":"IFERROR(VLOOKUP(Tabla_SERIED_11_6[[#This Row],[IdEstablecimiento]],'[2]Establecimiento 2023'!$A$1:$E$183,3,FALSE),0)","v":"105446-Posta de Salud Rural Matancilla"},{"$f":"IFERROR(VLOOKUP(Tabla_SERIED_11_6[[#This Row],[IdEstablecimiento]],'[2]Establecimiento 2023'!$A$1:$E$183,5,FALSE),0)","v":"04201-Illapel"},"15050100","2023-04-20T09:08:05",2,null,2,{"$nulls":6},2]
[1,"5",2023,"105437",{"$f":"IFERROR(VLOOKUP(Tabla_SERIED_11_6[[#This Row],[IdEstablecimiento]],'[2]Establecimiento 2023'!$A$1:$E$183,3,FALSE),0)","v":"105437-Posta de Salud Rural Chalinga"},{"$f":"IFERROR(VLOOKUP(Tabla_SERIED_11_6[[#This Row],[IdEstablecimiento]],'[2]Establecimiento 2023'!$A$1:$E$183,5,FALSE),0)","v":"04301-Ovalle"},"15010100","2023-04-20T11:08:27",6,{"$nulls":3},6]
[1,"5",2023,"105439",{"$f":"IFERROR(VLOOKUP(Tabla_SERIED_11_6[[#This Row],[IdEstablecimiento]],'[2]Establecimiento 2023'!$A$1:$E$183,3,FALSE),0)","v":"105439-Posta de Salud Rural Cerro Blanco"},{"$f":"IFERROR(VLOOKUP(Tabla_SERIED_11_6[[#This Row],[IdEstablecimiento]],'[2]Establecimiento 2023'!$A$1:$E$183,5,FALSE),0)","v":"04301-Ovalle"},"15050100","2023-04-20T11:08:50",7,1,6,{"$nulls":5},5,1,null,null,1]
[1,"5",2023,"105425",{"$f":"IFERROR(VLOOKUP(Tabla_SERIED_11_6[[#This Row],[IdEstablecimiento]],'[2]Establecimiento 2023'!$A$1:$E$183,3,FALSE),0)","v":"105425-Posta de Salud Rural Chilecito"},{"$f":"IFERROR(VLOOKUP(Tabla_SERIED_11_6[[#This Row],[IdEstablecimiento]],'[2]Establecimiento 2023'!$A$1:$E$183,5,FALSE),0)","v":"04303-Monte Patria"},"16200210","2023-04-19T07:19:33",2,2]
[1,"5",2023,"105444",{"$f":"IFERROR(VLOOKUP(Tabla_SERIED_11_6[[#This Row],[IdEstablecimiento]],'[2]Establecimiento 2023'!$A$1:$E$183,3,FALSE),0)","v":"105444-Posta de Salud Rural Huintil"},{"$f":"IFERROR(VLOOKUP(Tabla_SERIED_11_6[[#This Row],[IdEstablecimiento]],'[2]Establecimiento 2023'!$A$1:$E$183,5,FALSE),0)","v":"04201-Illapel"},"15010200","2023-04-20T09:07:09",25,{"$nulls":4},2,14,9]
[1,"5",2023,"105457",{"$f":"IFERROR(VLOOKUP(Tabla_SERIED_11_6[[#This Row],[IdEstablecimiento]],'[2]Establecimiento 2023'!$A$1:$E$183,3,FALSE),0)","v":"105457-Posta de Salud Rural San Agustín (Salamanca)"},{"$f":"IFERROR(VLOOKUP(Tabla_SERIED_11_6[[#This Row],[IdEstablecimiento]],'[2]Establecimiento 2023'!$A$1:$E$183,5,FALSE),0)","v":"04204-Salamanca"},"15010100","2023-04-19T07:35:10",4,{"$nulls":3},4]
[1,"5",2023,"105448",{"$f":"IFERROR(VLOOKUP(Tabla_SERIED_11_6[[#This Row],[IdEstablecimiento]],'[2]Establecimiento 2023'!$A$1:$E$183,3,FALSE),0)","v":"105448-Posta de Salud Rural Santa Virginia"},{"$f":"IFERROR(VLOOKUP(Tabla_SERIED_11_6[[#This Row],[IdEstablecimiento]],'[2]Establecimiento 2023'!$A$1:$E$183,5,FALSE),0)","v":"04201-Illapel"},"15080008","2023-04-20T09:09:07",5,{"$nulls":7},1,null,2,null,2]
[1,"5",2023,"105453",{"$f":"IFERROR(VLOOKUP(Tabla_SERIED_11_6[[#This Row],[IdEstablecimiento]],'[2]Establecimiento 2023'!$A$1:$E$183,3,FALSE),0)","v":"105453-Posta de Salud Rural Tranquilla"},{"$f":"IFERROR(VLOOKUP(Tabla_SERIED_11_6[[#This Row],[IdEstablecimiento]],'[2]Establecimiento 2023'!$A$1:$E$183,5,FALSE),0)","v":"04204-Salamanca"},"15010500","2023-04-19T07:32:57",4,null,null,2,{"$nulls":3},2]
[1,"5",2023,"105465",{"$f":"IFERROR(VLOOKUP(Tabla_SERIED_11_6[[#This Row],[IdEstablecimiento]],'[2]Establecimiento 2023'!$A$1:$E$183,3,FALSE),0)","v":"105465-Posta de Salud Rural Ramadilla"},{"$f":"IFERROR(VLOOKUP(Tabla_SERIED_11_6[[#This Row],[IdEstablecimiento]],'[2]Establecimiento 2023'!$A$1:$E$183,5,FALSE),0)","v":"04302-Combarbalá"},"16090300","2023-04-19T07:38:23",83,83]
[1,"5",2023,"105469",{"$f":"IFERROR(VLOOKUP(Tabla_SERIED_11_6[[#This Row],[IdEstablecimiento]],'[2]Establecimiento 2023'!$A$1:$E$183,3,FALSE),0)","v":"105469-Posta de Salud Rural El Tambo (Vicuña)"},{"$f":"IFERROR(VLOOKUP(Tabla_SERIED_11_6[[#This Row],[IdEstablecimiento]],'[2]Establecimiento 2023'!$A$1:$E$183,5,FALSE),0)","v":"04106-Vicuña"},"15900010","2023-04-19T07:39:26",5.4,null,null,5.4]
[1,"5",2023,"105473",{"$f":"IFERROR(VLOOKUP(Tabla_SERIED_11_6[[#This Row],[IdEstablecimiento]],'[2]Establecimiento 2023'!$A$1:$E$183,3,FALSE),0)","v":"105473-Posta de Salud Rural Talcuna"},{"$f":"IFERROR(VLOOKUP(Tabla_SERIED_11_6[[#This Row],[IdEstablecimiento]],'[2]Establecimiento 2023'!$A$1:$E$183,5,FALSE),0)","v":"04106-Vicuña"},"15080008","2023-04-19T07:42:35",8,{"$nulls":7},0,null,8]
[1,"5",2023,"105481",{"$f":"IFERROR(VLOOKUP(Tabla_SERIED_11_6[[#This Row],[IdEstablecimiento]],'[2]Establecimiento 2023'!$A$1:$E$183,3,FALSE),0)","v":"105481-Posta de Salud Rural Tilama"},{"$f":"IFERROR(VLOOKUP(Tabla_SERIED_11_6[[#This Row],[IdEstablecimiento]],'[2]Establecimiento 2023'!$A$1:$E$183,5,FALSE),0)","v":"04203-Los Vilos"},"16100300","2023-04-19T07:44:16",13,6,7]
[1,"5",2023,"105489",{"$f":"IFERROR(VLOOKUP(Tabla_SERIED_11_6[[#This Row],[IdEstablecimiento]],'[2]Establecimiento 2023'!$A$1:$E$183,3,FALSE),0)","v":"105489-Posta de Salud Rural Ramadas de Tulahuén"},{"$f":"IFERROR(VLOOKUP(Tabla_SERIED_11_6[[#This Row],[IdEstablecimiento]],'[2]Establecimiento 2023'!$A$1:$E$183,5,FALSE),0)","v":"04303-Monte Patria"},"15010100","2023-04-19T07:47:47",8,{"$nulls":3},8]
[1,"5",2023,"200499",{"$f":"IFERROR(VLOOKUP(Tabla_SERIED_11_6[[#This Row],[IdEstablecimiento]],'[2]Establecimiento 2023'!$A$1:$E$183,3,FALSE),0)","v":"200499-Centro de Salud Familiar Rural Pan de Azúcar"},{"$f":"IFERROR(VLOOKUP(Tabla_SERIED_11_6[[#This Row],[IdEstablecimiento]],'[2]Establecimiento 2023'!$A$1:$E$183,5,FALSE),0)","v":"04102-Coquimbo"},"16200210","2023-04-21T09:24:32",42,42]
[1,"5",2023,"105473",{"$f":"IFERROR(VLOOKUP(Tabla_SERIED_11_6[[#This Row],[IdEstablecimiento]],'[2]Establecimiento 2023'!$A$1:$E$183,3,FALSE),0)","v":"105473-Posta de Salud Rural Talcuna"},{"$f":"IFERROR(VLOOKUP(Tabla_SERIED_11_6[[#This Row],[IdEstablecimiento]],'[2]Establecimiento 2023'!$A$1:$E$183,5,FALSE),0)","v":"04106-Vicuña"},"15900010","2023-04-19T07:42:35",3.2,null,null,3.2]
[1,"5",2023,"105477",{"$f":"IFERROR(VLOOKUP(Tabla_SERIED_11_6[[#This Row],[IdEstablecimiento]],'[2]Establecimiento 2023'!$A$1:$E$183,3,FALSE),0)","v":"105477-Posta de Salud Rural Pisco Elqui"},{"$f":"IFERROR(VLOOKUP(Tabla_SERIED_11_6[[#This Row],[IdEstablecimiento]],'[2]Establecimiento 2023'!$A$1:$E$183,5,FALSE),0)","v":"04105-Paihuano"},"16090300","2023-04-20T09:43:40",71,71]
[1,"5",2023,"105493",{"$f":"IFERROR(VLOOKUP(Tabla_SERIED_11_6[[#This Row],[IdEstablecimiento]],'[2]Establecimiento 2023'!$A$1:$E$183,3,FALSE),0)","v":"105493-Posta de Salud Rural Mincha Sur"},{"$f":"IFERROR(VLOOKUP(Tabla_SERIED_11_6[[#This Row],[IdEstablecimiento]],'[2]Establecimiento 2023'!$A$1:$E$183,5,FALSE),0)","v":"04202-Canela"},"16100300","2023-04-19T07:48:26",27,11,16]
[1,"5",2023,"105505",{"$f":"IFERROR(VLOOKUP(Tabla_SERIED_11_6[[#This Row],[IdEstablecimiento]],'[2]Establecimiento 2023'!$A$1:$E$183,3,FALSE),0)","v":"105505-Posta de Salud Rural Los Choros"},{"$f":"IFERROR(VLOOKUP(Tabla_SERIED_11_6[[#This Row],[IdEstablecimiento]],'[2]Establecimiento 2023'!$A$1:$E$183,5,FALSE),0)","v":"04104-La Higuera"},"15050100","2023-07-19T15:05:50",12,7,6,{"$nulls":3},1,2,3,6]
[1,"5",2023,"105458",{"$f":"IFERROR(VLOOKUP(Tabla_SERIED_11_6[[#This Row],[IdEstablecimiento]],'[2]Establecimiento 2023'!$A$1:$E$183,3,FALSE),0)","v":"105458-Posta de Salud Rural Tahuinco"},{"$f":"IFERROR(VLOOKUP(Tabla_SERIED_11_6[[#This Row],[IdEstablecimiento]],'[2]Establecimiento 2023'!$A$1:$E$183,5,FALSE),0)","v":"04204-Salamanca"},"15010100","2023-04-19T07:35:28",15,{"$nulls":3},14,{"$nulls":3},1]
[1,"5",2023,"105465",{"$f":"IFERROR(VLOOKUP(Tabla_SERIED_11_6[[#This Row],[IdEstablecimiento]],'[2]Establecimiento 2023'!$A$1:$E$183,3,FALSE),0)","v":"105465-Posta de Salud Rural Ramadilla"},{"$f":"IFERROR(VLOOKUP(Tabla_SERIED_11_6[[#This Row],[IdEstablecimiento]],'[2]Establecimiento 2023'!$A$1:$E$183,5,FALSE),0)","v":"04302-Combarbalá"},"15080008","2023-04-19T07:38:23",4,{"$nulls":7},2,null,2]
[1,"5",2023,"105488",{"$f":"IFERROR(VLOOKUP(Tabla_SERIED_11_6[[#This Row],[IdEstablecimiento]],'[2]Establecimiento 2023'!$A$1:$E$183,3,FALSE),0)","v":"105488-Posta de Salud Rural Espíritu Santo"},{"$f":"IFERROR(VLOOKUP(Tabla_SERIED_11_6[[#This Row],[IdEstablecimiento]],'[2]Establecimiento 2023'!$A$1:$E$183,5,FALSE),0)","v":"04202-Canela"},"16100300","2023-04-19T07:47:32",24,16,8]
[1,"5",2023,"105492",{"$f":"IFERROR(VLOOKUP(Tabla_SERIED_11_6[[#This Row],[IdEstablecimiento]],'[2]Establecimiento 2023'!$A$1:$E$183,3,FALSE),0)","v":"105492-Posta de Salud Rural Camisa"},{"$f":"IFERROR(VLOOKUP(Tabla_SERIED_11_6[[#This Row],[IdEstablecimiento]],'[2]Establecimiento 2023'!$A$1:$E$183,5,FALSE),0)","v":"04204-Salamanca"},"16100300","2023-04-20T09:33:31",48,24,24]
[1,"5",2023,"105700",{"$f":"IFERROR(VLOOKUP(Tabla_SERIED_11_6[[#This Row],[IdEstablecimiento]],'[2]Establecimiento 2023'!$A$1:$E$183,3,FALSE),0)","v":"105700-Centro Comunitario de Salud Familiar Villa el Indio"},{"$f":"IFERROR(VLOOKUP(Tabla_SERIED_11_6[[#This Row],[IdEstablecimiento]],'[2]Establecimiento 2023'!$A$1:$E$183,5,FALSE),0)","v":"04101-La Serena"},"15010200","2023-04-19T08:01:56",37,{"$nulls":4},8,18,11]
[1,"5",2023,"105701",{"$f":"IFERROR(VLOOKUP(Tabla_SERIED_11_6[[#This Row],[IdEstablecimiento]],'[2]Establecimiento 2023'!$A$1:$E$183,3,FALSE),0)","v":"105701-Centro Comunitario de Salud Familiar Villa Alemania"},{"$f":"IFERROR(VLOOKUP(Tabla_SERIED_11_6[[#This Row],[IdEstablecimiento]],'[2]Establecimiento 2023'!$A$1:$E$183,5,FALSE),0)","v":"04101-La Serena"},"15900010","2023-04-19T08:03:18",12.6,2.7,null,9.9]
[2,"5",2023,"105313",{"$f":"IFERROR(VLOOKUP(Tabla_SERIED_11_6[[#This Row],[IdEstablecimiento]],'[2]Establecimiento 2023'!$A$1:$E$183,3,FALSE),0)","v":"105313-Centro de Salud Familiar Dr. Emilio Schaffhauser"},{"$f":"IFERROR(VLOOKUP(Tabla_SERIED_11_6[[#This Row],[IdEstablecimiento]],'[2]Establecimiento 2023'!$A$1:$E$183,5,FALSE),0)","v":"04101-La Serena"},"15901300","2023-04-19T08:13:37",8.4,null,null,8.4]
[2,"5",2023,"105318",{"$f":"IFERROR(VLOOKUP(Tabla_SERIED_11_6[[#This Row],[IdEstablecimiento]],'[2]Establecimiento 2023'!$A$1:$E$183,3,FALSE),0)","v":"105318-Centro de Salud Familiar El Palqui"},{"$f":"IFERROR(VLOOKUP(Tabla_SERIED_11_6[[#This Row],[IdEstablecimiento]],'[2]Establecimiento 2023'!$A$1:$E$183,5,FALSE),0)","v":"04303-Monte Patria"},"16090300","2023-04-19T08:15:05",259,259]
[2,"5",2023,"105324",{"$f":"IFERROR(VLOOKUP(Tabla_SERIED_11_6[[#This Row],[IdEstablecimiento]],'[2]Establecimiento 2023'!$A$1:$E$183,3,FALSE),0)","v":"105324-Centro de Salud Familiar Sotaquí"},{"$f":"IFERROR(VLOOKUP(Tabla_SERIED_11_6[[#This Row],[IdEstablecimiento]],'[2]Establecimiento 2023'!$A$1:$E$183,5,FALSE),0)","v":"04301-Ovalle"},"15901400","2023-04-20T13:15:36",1,1,{"$nulls":4},1]
[2,"5",2023,"105425",{"$f":"IFERROR(VLOOKUP(Tabla_SERIED_11_6[[#This Row],[IdEstablecimiento]],'[2]Establecimiento 2023'!$A$1:$E$183,3,FALSE),0)","v":"105425-Posta de Salud Rural Chilecito"},{"$f":"IFERROR(VLOOKUP(Tabla_SERIED_11_6[[#This Row],[IdEstablecimiento]],'[2]Establecimiento 2023'!$A$1:$E$183,5,FALSE),0)","v":"04303-Monte Patria"},"15050100","2023-04-19T08:21:18",10,3,7,null,null,1,null,null,4,null,2,null,2,null,1]
[2,"5",2023,"105437",{"$f":"IFERROR(VLOOKUP(Tabla_SERIED_11_6[[#This Row],[IdEstablecimiento]],'[2]Establecimiento 2023'!$A$1:$E$183,3,FALSE),0)","v":"105437-Posta de Salud Rural Chalinga"},{"$f":"IFERROR(VLOOKUP(Tabla_SERIED_11_6[[#This Row],[IdEstablecimiento]],'[2]Establecimiento 2023'!$A$1:$E$183,5,FALSE),0)","v":"04301-Ovalle"},"16200230","2023-04-20T10:44:47",1,1,0]
[6,"5",2023,"200607",{"$f":"IFERROR(VLOOKUP(Tabla_SERIED_11_6[[#This Row],[IdEstablecimiento]],'[2]Establecimiento 2023'!$A$1:$E$183,3,FALSE),0)","v":"200607-Centro de Salud Familiar Lila Cortés Godoy"},{"$f":"IFERROR(VLOOKUP(Tabla_SERIED_11_6[[#This Row],[IdEstablecimiento]],'[2]Establecimiento 2023'!$A$1:$E$183,5,FALSE),0)","v":"04102-Coquimbo"},"15050500","2023-07-18T12:30:59",3,1,2,null,2,1]
[2,"5",2023,"105104",{"$f":"IFERROR(VLOOKUP(Tabla_SERIED_11_6[[#This Row],[IdEstablecimiento]],'[2]Establecimiento 2023'!$A$1:$E$183,3,FALSE),0)","v":"105104-Hospital de Salamanca"},{"$f":"IFERROR(VLOOKUP(Tabla_SERIED_11_6[[#This Row],[IdEstablecimiento]],'[2]Establecimiento 2023'!$A$1:$E$183,5,FALSE),0)","v":"105104-Hospital Salamanca"},"15050200","2023-04-20T07:03:33",2,1,1,0,0,0,0,0,0,1,null,1,0,0,0]
[10,"5",2023,"105108",{"$f":"IFERROR(VLOOKUP(Tabla_SERIED_11_6[[#This Row],[IdEstablecimiento]],'[2]Establecimiento 2023'!$A$1:$E$183,3,FALSE),0)","v":"105108-Hospital San Pedro (Los Vilos)"},{"$f":"IFERROR(VLOOKUP(Tabla_SERIED_11_6[[#This Row],[IdEstablecimiento]],'[2]Establecimiento 2023'!$A$1:$E$183,5,FALSE),0)","v":"105108-Hospital Los Vilos"},"15080014","2023-11-16T12:12:54",222,{"$nulls":3},114,108]
[10,"5",2023,"105307",{"$f":"IFERROR(VLOOKUP(Tabla_SERIED_11_6[[#This Row],[IdEstablecimiento]],'[2]Establecimiento 2023'!$A$1:$E$183,3,FALSE),0)","v":"105307-Centro de Salud Familiar Monte Patria"},{"$f":"IFERROR(VLOOKUP(Tabla_SERIED_11_6[[#This Row],[IdEstablecimiento]],'[2]Establecimiento 2023'!$A$1:$E$183,5,FALSE),0)","v":"04303-Monte Patria"},"15900020","2023-11-16T12:13:15",1.8,null,null,1.8]
[10,"5",2023,"105104",{"$f":"IFERROR(VLOOKUP(Tabla_SERIED_11_6[[#This Row],[IdEstablecimiento]],'[2]Establecimiento 2023'!$A$1:$E$183,3,FALSE),0)","v":"105104-Hospital de Salamanca"},{"$f":"IFERROR(VLOOKUP(Tabla_SERIED_11_6[[#This Row],[IdEstablecimiento]],'[2]Establecimiento 2023'!$A$1:$E$183,5,FALSE),0)","v":"105104-Hospital Salamanca"},"15080015","2023-11-16T12:11:40",254,{"$nulls":5},148,106]
[10,"5",2023,"105104",{"$f":"IFERROR(VLOOKUP(Tabla_SERIED_11_6[[#This Row],[IdEstablecimiento]],'[2]Establecimiento 2023'!$A$1:$E$183,3,FALSE),0)","v":"105104-Hospital de Salamanca"},{"$f":"IFERROR(VLOOKUP(Tabla_SERIED_11_6[[#This Row],[IdEstablecimiento]],'[2]Establecimiento 2023'!$A$1:$E$183,5,FALSE),0)","v":"105104-Hospital Salamanca"},"15901400","2023-11-16T12:11:40",2,null,2,null,null,1,1]
[10,"5",2023,"105105",{"$f":"IFERROR(VLOOKUP(Tabla_SERIED_11_6[[#This Row],[IdEstablecimiento]],'[2]Establecimiento 2023'!$A$1:$E$183,3,FALSE),0)","v":"105105-Hospital San Juan de Dios (Combarbalá)"},{"$f":"IFERROR(VLOOKUP(Tabla_SERIED_11_6[[#This Row],[IdEstablecimiento]],'[2]Establecimiento 2023'!$A$1:$E$183,5,FALSE),0)","v":"105105-Hospital Combarbalá"},"15080014","2023-11-16T12:12:02",98,{"$nulls":3},48,50]
[10,"5",2023,"105105",{"$f":"IFERROR(VLOOKUP(Tabla_SERIED_11_6[[#This Row],[IdEstablecimiento]],'[2]Establecimiento 2023'!$A$1:$E$183,3,FALSE),0)","v":"105105-Hospital San Juan de Dios (Combarbalá)"},{"$f":"IFERROR(VLOOKUP(Tabla_SERIED_11_6[[#This Row],[IdEstablecimiento]],'[2]Establecimiento 2023'!$A$1:$E$183,5,FALSE),0)","v":"105105-Hospital Combarbalá"},"15010500","2023-11-16T12:12:02",18,null,null,2,null,null,6,10]
[10,"5",2023,"105108",{"$f":"IFERROR(VLOOKUP(Tabla_SERIED_11_6[[#This Row],[IdEstablecimiento]],'[2]Establecimiento 2023'!$A$1:$E$183,3,FALSE),0)","v":"105108-Hospital San Pedro (Los Vilos)"},{"$f":"IFERROR(VLOOKUP(Tabla_SERIED_11_6[[#This Row],[IdEstablecimiento]],'[2]Establecimiento 2023'!$A$1:$E$183,5,FALSE),0)","v":"105108-Hospital Los Vilos"},"15050200","2023-11-16T12:12:54",9,5,4,null,null,1,2,1,3,2]
[10,"5",2023,"105108",{"$f":"IFERROR(VLOOKUP(Tabla_SERIED_11_6[[#This Row],[IdEstablecimiento]],'[2]Establecimiento 2023'!$A$1:$E$183,3,FALSE),0)","v":"105108-Hospital San Pedro (Los Vilos)"},{"$f":"IFERROR(VLOOKUP(Tabla_SERIED_11_6[[#This Row],[IdEstablecimiento]],'[2]Establecimiento 2023'!$A$1:$E$183,5,FALSE),0)","v":"105108-Hospital Los Vilos"},"15900050","2023-11-16T12:12:54",10,6,4,1,2,3,3,1]
[10,"5",2023,"105309",{"$f":"IFERROR(VLOOKUP(Tabla_SERIED_11_6[[#This Row],[IdEstablecimiento]],'[2]Establecimiento 2023'!$A$1:$E$183,3,FALSE),0)","v":"105309-Centro de Salud Familiar Canela"},{"$f":"IFERROR(VLOOKUP(Tabla_SERIED_11_6[[#This Row],[IdEstablecimiento]],'[2]Establecimiento 2023'!$A$1:$E$183,5,FALSE),0)","v":"04202-Canela"},"15080015","2023-11-16T12:13:36",197,{"$nulls":5},100,97]
[10,"5",2023,"105312",{"$f":"IFERROR(VLOOKUP(Tabla_SERIED_11_6[[#This Row],[IdEstablecimiento]],'[2]Establecimiento 2023'!$A$1:$E$183,3,FALSE),0)","v":"105312-Centro de Salud Familiar Carén"},{"$f":"IFERROR(VLOOKUP(Tabla_SERIED_11_6[[#This Row],[IdEstablecimiento]],'[2]Establecimiento 2023'!$A$1:$E$183,5,FALSE),0)","v":"04303-Monte Patria"},"15080008","2023-11-16T12:15:24",28,{"$nulls":7},9,null,16,null,3]
[10,"5",2023,"105312",{"$f":"IFERROR(VLOOKUP(Tabla_SERIED_11_6[[#This Row],[IdEstablecimiento]],'[2]Establecimiento 2023'!$A$1:$E$183,3,FALSE),0)","v":"105312-Centro de Salud Familiar Carén"},{"$f":"IFERROR(VLOOKUP(Tabla_SERIED_11_6[[#This Row],[IdEstablecimiento]],'[2]Establecimiento 2023'!$A$1:$E$183,5,FALSE),0)","v":"04303-Monte Patria"},"16200210","2023-11-16T12:15:24",27,27]
[10,"5",2023,"105317",{"$f":"IFERROR(VLOOKUP(Tabla_SERIED_11_6[[#This Row],[IdEstablecimiento]],'[2]Establecimiento 2023'!$A$1:$E$183,3,FALSE),0)","v":"105317-Centro de Salud Familiar Jorge Jordán Domic"},{"$f":"IFERROR(VLOOKUP(Tabla_SERIED_11_6[[#This Row],[IdEstablecimiento]],'[2]Establecimiento 2023'!$A$1:$E$183,5,FALSE),0)","v":"04301-Ovalle"},"15900030","2023-11-16T12:19:41",26.8,3.6,2,4.4,2.8,14]
[10,"5",2023,"105314",{"$f":"IFERROR(VLOOKUP(Tabla_SERIED_11_6[[#This Row],[IdEstablecimiento]],'[2]Establecimiento 2023'!$A$1:$E$183,3,FALSE),0)","v":"105314-Centro de Salud Familiar La Higuera"},{"$f":"IFERROR(VLOOKUP(Tabla_SERIED_11_6[[#This Row],[IdEstablecimiento]],'[2]Establecimiento 2023'!$A$1:$E$183,5,FALSE),0)","v":"04104-La Higuera"},"15080008","2023-11-16T12:18:15",12,{"$nulls":7},6,null,6]
[10,"5",2023,"105315",{"$f":"IFERROR(VLOOKUP(Tabla_SERIED_11_6[[#This Row],[IdEstablecimiento]],'[2]Establecimiento 2023'!$A$1:$E$183,3,FALSE),0)","v":"105315-Centro de Salud Familiar Cerrillos de Tamaya"},{"$f":"IFERROR(VLOOKUP(Tabla_SERIED_11_6[[#This Row],[IdEstablecimiento]],'[2]Establecimiento 2023'!$A$1:$E$183,5,FALSE),0)","v":"04301-Ovalle"},"16200220","2023-11-16T12:19:11",13,6,7]
[10,"5",2023,"105317",{"$f":"IFERROR(VLOOKUP(Tabla_SERIED_11_6[[#This Row],[IdEstablecimiento]],'[2]Establecimiento 2023'!$A$1:$E$183,3,FALSE),0)","v":"105317-Centro de Salud Familiar Jorge Jordán Domic"},{"$f":"IFERROR(VLOOKUP(Tabla_SERIED_11_6[[#This Row],[IdEstablecimiento]],'[2]Establecimiento 2023'!$A$1:$E$183,5,FALSE),0)","v":"04301-Ovalle"},"16090300","2023-11-16T12:19:41",719,719]
[10,"5",2023,"105318",{"$f":"IFERROR(VLOOKUP(Tabla_SERIED_11_6[[#This Row],[IdEstablecimiento]],'[2]Establecimiento 2023'!$A$1:$E$183,3,FALSE),0)","v":"105318-Centro de Salud Familiar El Palqui"},{"$f":"IFERROR(VLOOKUP(Tabla_SERIED_11_6[[#This Row],[IdEstablecimiento]],'[2]Establecimiento 2023'!$A$1:$E$183,5,FALSE),0)","v":"04303-Monte Patria"},"15900010","2023-11-16T12:20:15",18.4,0.8,4,13.6]
[10,"5",2023,"105318",{"$f":"IFERROR(VLOOKUP(Tabla_SERIED_11_6[[#This Row],[IdEstablecimiento]],'[2]Establecimiento 2023'!$A$1:$E$183,3,FALSE),0)","v":"105318-Centro de Salud Familiar El Palqui"},{"$f":"IFERROR(VLOOKUP(Tabla_SERIED_11_6[[#This Row],[IdEstablecimiento]],'[2]Establecimiento 2023'!$A$1:$E$183,5,FALSE),0)","v":"04303-Monte Patria"},"15900040","2023-11-16T12:20:15",8.8,null,null,8.8]
[10,"5",2023,"105314",{"$f":"IFERROR(VLOOKUP(Tabla_SERIED_11_6[[#This Row],[IdEstablecimiento]],'[2]Establecimiento 2023'!$A$1:$E$183,3,FALSE),0)","v":"105314-Centro de Salud Familiar La Higuera"},{"$f":"IFERROR(VLOOKUP(Tabla_SERIED_11_6[[#This Row],[IdEstablecimiento]],'[2]Establecimiento 2023'!$A$1:$E$183,5,FALSE),0)","v":"04104-La Higuera"},"15050100","2023-11-16T12:18:15",50,23,27,7,4,3,6,6,8,7,6,null,3]
[10,"5",2023,"105318",{"$f":"IFERROR(VLOOKUP(Tabla_SERIED_11_6[[#This Row],[IdEstablecimiento]],'[2]Establecimiento 2023'!$A$1:$E$183,3,FALSE),0)","v":"105318-Centro de Salud Familiar El Palqui"},{"$f":"IFERROR(VLOOKUP(Tabla_SERIED_11_6[[#This Row],[IdEstablecimiento]],'[2]Establecimiento 2023'!$A$1:$E$183,5,FALSE),0)","v":"04303-Monte Patria"},"16100600","2023-11-16T12:20:15",19,6,13]
[10,"5",2023,"105322",{"$f":"IFERROR(VLOOKUP(Tabla_SERIED_11_6[[#This Row],[IdEstablecimiento]],'[2]Establecimiento 2023'!$A$1:$E$183,3,FALSE),0)","v":"105322-Centro de Salud Familiar Marcos Macuada"},{"$f":"IFERROR(VLOOKUP(Tabla_SERIED_11_6[[#This Row],[IdEstablecimiento]],'[2]Establecimiento 2023'!$A$1:$E$183,5,FALSE),0)","v":"04301-Ovalle"},"15080008","2023-11-16T12:20:44",113,{"$nulls":7},64,null,28,7,14]
[10,"5",2023,"105322",{"$f":"IFERROR(VLOOKUP(Tabla_SERIED_11_6[[#This Row],[IdEstablecimiento]],'[2]Establecimiento 2023'!$A$1:$E$183,3,FALSE),0)","v":"105322-Centro de Salud Familiar Marcos Macuada"},{"$f":"IFERROR(VLOOKUP(Tabla_SERIED_11_6[[#This Row],[IdEstablecimiento]],'[2]Establecimiento 2023'!$A$1:$E$183,5,FALSE),0)","v":"04301-Ovalle"},"15050100","2023-11-16T12:20:44",502,209,297,7,5,48,57,61,109,116,64,null,14,7,14]
[10,"5",2023,"105322",{"$f":"IFERROR(VLOOKUP(Tabla_SERIED_11_6[[#This Row],[IdEstablecimiento]],'[2]Establecimiento 2023'!$A$1:$E$183,3,FALSE),0)","v":"105322-Centro de Salud Familiar Marcos Macuada"},{"$f":"IFERROR(VLOOKUP(Tabla_SERIED_11_6[[#This Row],[IdEstablecimiento]],'[2]Establecimiento 2023'!$A$1:$E$183,5,FALSE),0)","v":"04301-Ovalle"},"15060100","2023-11-16T12:20:44",11,3,8,0,0,0,5,0,2,3,0,null,1,0,0]
[10,"5",2023,"105324",{"$f":"IFERROR(VLOOKUP(Tabla_SERIED_11_6[[#This Row],[IdEstablecimiento]],'[2]Establecimiento 2023'!$A$1:$E$183,3,FALSE),0)","v":"105324-Centro de Salud Familiar Sotaquí"},{"$f":"IFERROR(VLOOKUP(Tabla_SERIED_11_6[[#This Row],[IdEstablecimiento]],'[2]Establecimiento 2023'!$A$1:$E$183,5,FALSE),0)","v":"04301-Ovalle"},"15900010","2023-11-16T12:21:14",35.2,4.8,6.4,24]
[10,"5",2023,"105324",{"$f":"IFERROR(VLOOKUP(Tabla_SERIED_11_6[[#This Row],[IdEstablecimiento]],'[2]Establecimiento 2023'!$A$1:$E$183,3,FALSE),0)","v":"105324-Centro de Salud Familiar Sotaquí"},{"$f":"IFERROR(VLOOKUP(Tabla_SERIED_11_6[[#This Row],[IdEstablecimiento]],'[2]Establecimiento 2023'!$A$1:$E$183,5,FALSE),0)","v":"04301-Ovalle"},"15901400","2023-11-16T12:21:14",1,null,1,null,null,1]
[10,"5",2023,"105324",{"$f":"IFERROR(VLOOKUP(Tabla_SERIED_11_6[[#This Row],[IdEstablecimiento]],'[2]Establecimiento 2023'!$A$1:$E$183,3,FALSE),0)","v":"105324-Centro de Salud Familiar Sotaquí"},{"$f":"IFERROR(VLOOKUP(Tabla_SERIED_11_6[[#This Row],[IdEstablecimiento]],'[2]Establecimiento 2023'!$A$1:$E$183,5,FALSE),0)","v":"04301-Ovalle"},"16200210","2023-11-16T12:21:14",7,7]
[10,"5",2023,"105326",{"$f":"IFERROR(VLOOKUP(Tabla_SERIED_11_6[[#This Row],[IdEstablecimiento]],'[2]Establecimiento 2023'!$A$1:$E$183,3,FALSE),0)","v":"105326-Centro de Salud Familiar Villa San Rafael de Rozas"},{"$f":"IFERROR(VLOOKUP(Tabla_SERIED_11_6[[#This Row],[IdEstablecimiento]],'[2]Establecimiento 2023'!$A$1:$E$183,5,FALSE),0)","v":"04201-Illapel"},"15030100","2023-11-16T12:21:55",4.8,null,4.8]
[10,"5",2023,"105326",{"$f":"IFERROR(VLOOKUP(Tabla_SERIED_11_6[[#This Row],[IdEstablecimiento]],'[2]Establecimiento 2023'!$A$1:$E$183,3,FALSE),0)","v":"105326-Centro de Salud Familiar Villa San Rafael de Rozas"},{"$f":"IFERROR(VLOOKUP(Tabla_SERIED_11_6[[#This Row],[IdEstablecimiento]],'[2]Establecimiento 2023'!$A$1:$E$183,5,FALSE),0)","v":"04201-Illapel"},"15080019","2023-11-16T12:21:55",2,{"$nulls":6},2]
[10,"5",2023,"105415",{"$f":"IFERROR(VLOOKUP(Tabla_SERIED_11_6[[#This Row],[IdEstablecimiento]],'[2]Establecimiento 2023'!$A$1:$E$183,3,FALSE),0)","v":"105415-Posta de Salud Rural Barraza"},{"$f":"IFERROR(VLOOKUP(Tabla_SERIED_11_6[[#This Row],[IdEstablecimiento]],'[2]Establecimiento 2023'!$A$1:$E$183,5,FALSE),0)","v":"04301-Ovalle"},"15080015","2023-11-16T12:22:38",14,{"$nulls":5},4,10]
[10,"5",2023,"105416",{"$f":"IFERROR(VLOOKUP(Tabla_SERIED_11_6[[#This Row],[IdEstablecimiento]],'[2]Establecimiento 2023'!$A$1:$E$183,3,FALSE),0)","v":"105416-Posta de Salud Rural Camarico (Ovalle)"},{"$f":"IFERROR(VLOOKUP(Tabla_SERIED_11_6[[#This Row],[IdEstablecimiento]],'[2]Establecimiento 2023'!$A$1:$E$183,5,FALSE),0)","v":"04301-Ovalle"},"15080015","2023-11-16T12:23:04",28,{"$nulls":5},8,20]
[10,"5",2023,"105416",{"$f":"IFERROR(VLOOKUP(Tabla_SERIED_11_6[[#This Row],[IdEstablecimiento]],'[2]Establecimiento 2023'!$A$1:$E$183,3,FALSE),0)","v":"105416-Posta de Salud Rural Camarico (Ovalle)"},{"$f":"IFERROR(VLOOKUP(Tabla_SERIED_11_6[[#This Row],[IdEstablecimiento]],'[2]Establecimiento 2023'!$A$1:$E$183,5,FALSE),0)","v":"04301-Ovalle"},"15050200","2023-11-16T12:23:04",2,2,{"$nulls":4},1,1]
[10,"5",2023,"105417",{"$f":"IFERROR(VLOOKUP(Tabla_SERIED_11_6[[#This Row],[IdEstablecimiento]],'[2]Establecimiento 2023'!$A$1:$E$183,3,FALSE),0)","v":"105417-Posta de Salud Rural Alcones Bajo"},{"$f":"IFERROR(VLOOKUP(Tabla_SERIED_11_6[[#This Row],[IdEstablecimiento]],'[2]Establecimiento 2023'!$A$1:$E$183,5,FALSE),0)","v":"04301-Ovalle"},"15050100","2023-11-16T12:23:39",25,7,18,null,null,2,5,3,5,5,1,null,2,null,2]
[10,"5",2023,"105422",{"$f":"IFERROR(VLOOKUP(Tabla_SERIED_11_6[[#This Row],[IdEstablecimiento]],'[2]Establecimiento 2023'!$A$1:$E$183,3,FALSE),0)","v":"105422-Posta de Salud Rural Hornillos"},{"$f":"IFERROR(VLOOKUP(Tabla_SERIED_11_6[[#This Row],[IdEstablecimiento]],'[2]Establecimiento 2023'!$A$1:$E$183,5,FALSE),0)","v":"04301-Ovalle"},"15080015","2023-11-16T12:24:29",14,{"$nulls":5},8,6]
[10,"5",2023,"105419",{"$f":"IFERROR(VLOOKUP(Tabla_SERIED_11_6[[#This Row],[IdEstablecimiento]],'[2]Establecimiento 2023'!$A$1:$E$183,3,FALSE),0)","v":"105419-Posta de Salud Rural Las Sossas"},{"$f":"IFERROR(VLOOKUP(Tabla_SERIED_11_6[[#This Row],[IdEstablecimiento]],'[2]Establecimiento 2023'!$A$1:$E$183,5,FALSE),0)","v":"04301-Ovalle"},"15080008","2023-11-16T12:24:55",2,{"$nulls":11},2]
[10,"5",2023,"105422",{"$f":"IFERROR(VLOOKUP(Tabla_SERIED_11_6[[#This Row],[IdEstablecimiento]],'[2]Establecimiento 2023'!$A$1:$E$183,3,FALSE),0)","v":"105422-Posta de Salud Rural Hornillos"},{"$f":"IFERROR(VLOOKUP(Tabla_SERIED_11_6[[#This Row],[IdEstablecimiento]],'[2]Establecimiento 2023'!$A$1:$E$183,5,FALSE),0)","v":"04301-Ovalle"},"16100300","2023-11-16T12:24:29",43,21,22]
[10,"5",2023,"105425",{"$f":"IFERROR(VLOOKUP(Tabla_SERIED_11_6[[#This Row],[IdEstablecimiento]],'[2]Establecimiento 2023'!$A$1:$E$183,3,FALSE),0)","v":"105425-Posta de Salud Rural Chilecito"},{"$f":"IFERROR(VLOOKUP(Tabla_SERIED_11_6[[#This Row],[IdEstablecimiento]],'[2]Establecimiento 2023'!$A$1:$E$183,5,FALSE),0)","v":"04303-Monte Patria"},"16090300","2023-11-16T12:28:54",70,70]
[10,"5",2023,"105427",{"$f":"IFERROR(VLOOKUP(Tabla_SERIED_11_6[[#This Row],[IdEstablecimiento]],'[2]Establecimiento 2023'!$A$1:$E$183,3,FALSE),0)","v":"105427-Posta de Salud Rural Hacienda Valdivia"},{"$f":"IFERROR(VLOOKUP(Tabla_SERIED_11_6[[#This Row],[IdEstablecimiento]],'[2]Establecimiento 2023'!$A$1:$E$183,5,FALSE),0)","v":"04303-Monte Patria"},"15050100","2023-11-16T12:30:05",10,4,6,{"$nulls":3},2,null,3,1,3,null,1]
[10,"5",2023,"105428",{"$f":"IFERROR(VLOOKUP(Tabla_SERIED_11_6[[#This Row],[IdEstablecimiento]],'[2]Establecimiento 2023'!$A$1:$E$183,3,FALSE),0)","v":"105428-Posta de Salud Rural Huatulame"},{"$f":"IFERROR(VLOOKUP(Tabla_SERIED_11_6[[#This Row],[IdEstablecimiento]],'[2]Establecimiento 2023'!$A$1:$E$183,5,FALSE),0)","v":"04303-Monte Patria"},"15080015","2023-11-16T12:30:58",13,{"$nulls":5},6,7]
[10,"5",2023,"105430",{"$f":"IFERROR(VLOOKUP(Tabla_SERIED_11_6[[#This Row],[IdEstablecimiento]],'[2]Establecimiento 2023'!$A$1:$E$183,3,FALSE),0)","v":"105430-Posta de Salud Rural Mialqui"},{"$f":"IFERROR(VLOOKUP(Tabla_SERIED_11_6[[#This Row],[IdEstablecimiento]],'[2]Establecimiento 2023'!$A$1:$E$183,5,FALSE),0)","v":"04303-Monte Patria"},"15080016","2023-11-16T15:00:18",2,{"$nulls":6},2]
[10,"5",2023,"105431",{"$f":"IFERROR(VLOOKUP(Tabla_SERIED_11_6[[#This Row],[IdEstablecimiento]],'[2]Establecimiento 2023'!$A$1:$E$183,3,FALSE),0)","v":"105431-Posta de Salud Rural Pedregal"},{"$f":"IFERROR(VLOOKUP(Tabla_SERIED_11_6[[#This Row],[IdEstablecimiento]],'[2]Establecimiento 2023'!$A$1:$E$183,5,FALSE),0)","v":"04303-Monte Patria"},"15080015","2023-11-16T15:21:37",12,{"$nulls":5},10,2]
[10,"5",2023,"105432",{"$f":"IFERROR(VLOOKUP(Tabla_SERIED_11_6[[#This Row],[IdEstablecimiento]],'[2]Establecimiento 2023'!$A$1:$E$183,3,FALSE),0)","v":"105432-Posta de Salud Rural Rapel (Monte Patria)"},{"$f":"IFERROR(VLOOKUP(Tabla_SERIED_11_6[[#This Row],[IdEstablecimiento]],'[2]Establecimiento 2023'!$A$1:$E$183,5,FALSE),0)","v":"04303-Monte Patria"},"15050100","2023-11-22T13:00:08",17,5,12,null,null,1,2,2,3,4,4,{"$nulls":3},1]
[10,"5",2023,"105432",{"$f":"IFERROR(VLOOKUP(Tabla_SERIED_11_6[[#This Row],[IdEstablecimiento]],'[2]Establecimiento 2023'!$A$1:$E$183,3,FALSE),0)","v":"105432-Posta de Salud Rural Rapel (Monte Patria)"},{"$f":"IFERROR(VLOOKUP(Tabla_SERIED_11_6[[#This Row],[IdEstablecimiento]],'[2]Establecimiento 2023'!$A$1:$E$183,5,FALSE),0)","v":"04303-Monte Patria"},"16200210","2023-11-22T13:00:08",8,8]
[10,"5",2023,"105434",{"$f":"IFERROR(VLOOKUP(Tabla_SERIED_11_6[[#This Row],[IdEstablecimiento]],'[2]Establecimiento 2023'!$A$1:$E$183,3,FALSE),0)","v":"105434-Posta de Salud Rural San Marcos (Combarbalá)"},{"$f":"IFERROR(VLOOKUP(Tabla_SERIED_11_6[[#This Row],[IdEstablecimiento]],'[2]Establecimiento 2023'!$A$1:$E$183,5,FALSE),0)","v":"04302-Combarbalá"},"15050200","2023-11-16T15:22:11",1,null,1,null,null,1]
[10,"5",2023,"105435",{"$f":"IFERROR(VLOOKUP(Tabla_SERIED_11_6[[#This Row],[IdEstablecimiento]],'[2]Establecimiento 2023'!$A$1:$E$183,3,FALSE),0)","v":"105435-Posta de Salud Rural Tulahuén"},{"$f":"IFERROR(VLOOKUP(Tabla_SERIED_11_6[[#This Row],[IdEstablecimiento]],'[2]Establecimiento 2023'!$A$1:$E$183,5,FALSE),0)","v":"04303-Monte Patria"},"15900010","2023-11-16T15:30:48",2.5,null,null,2.5]
[10,"5",2023,"105432",{"$f":"IFERROR(VLOOKUP(Tabla_SERIED_11_6[[#This Row],[IdEstablecimiento]],'[2]Establecimiento 2023'!$A$1:$E$183,3,FALSE),0)","v":"105432-Posta de Salud Rural Rapel (Monte Patria)"},{"$f":"IFERROR(VLOOKUP(Tabla_SERIED_11_6[[#This Row],[IdEstablecimiento]],'[2]Establecimiento 2023'!$A$1:$E$183,5,FALSE),0)","v":"04303-Monte Patria"},"16200220","2023-11-22T13:00:08",8,2,6]
[10,"5",2023,"105435",{"$f":"IFERROR(VLOOKUP(Tabla_SERIED_11_6[[#This Row],[IdEstablecimiento]],'[2]Establecimiento 2023'!$A$1:$E$183,3,FALSE),0)","v":"105435-Posta de Salud Rural Tulahuén"},{"$f":"IFERROR(VLOOKUP(Tabla_SERIED_11_6[[#This Row],[IdEstablecimiento]],'[2]Establecimiento 2023'!$A$1:$E$183,5,FALSE),0)","v":"04303-Monte Patria"},"16200220","2023-11-16T15:30:48",9,3,6]
[10,"5",2023,"105436",{"$f":"IFERROR(VLOOKUP(Tabla_SERIED_11_6[[#This Row],[IdEstablecimiento]],'[2]Establecimiento 2023'!$A$1:$E$183,3,FALSE),0)","v":"105436-Posta de Salud Rural El Maitén"},{"$f":"IFERROR(VLOOKUP(Tabla_SERIED_11_6[[#This Row],[IdEstablecimiento]],'[2]Establecimiento 2023'!$A$1:$E$183,5,FALSE),0)","v":"04303-Monte Patria"},"15050100","2023-11-16T15:31:07",7,4,3,{"$nulls":3},1,null,2,1,2,null,1]
[10,"5",2023,"105437",{"$f":"IFERROR(VLOOKUP(Tabla_SERIED_11_6[[#This Row],[IdEstablecimiento]],'[2]Establecimiento 2023'!$A$1:$E$183,3,FALSE),0)","v":"105437-Posta de Salud Rural Chalinga"},{"$f":"IFERROR(VLOOKUP(Tabla_SERIED_11_6[[#This Row],[IdEstablecimiento]],'[2]Establecimiento 2023'!$A$1:$E$183,5,FALSE),0)","v":"04301-Ovalle"},"15050200","2023-11-16T15:31:22",1,1,{"$nulls":7},1]
[10,"5",2023,"105439",{"$f":"IFERROR(VLOOKUP(Tabla_SERIED_11_6[[#This Row],[IdEstablecimiento]],'[2]Establecimiento 2023'!$A$1:$E$183,3,FALSE),0)","v":"105439-Posta de Salud Rural Cerro Blanco"},{"$f":"IFERROR(VLOOKUP(Tabla_SERIED_11_6[[#This Row],[IdEstablecimiento]],'[2]Establecimiento 2023'!$A$1:$E$183,5,FALSE),0)","v":"04301-Ovalle"},"15080008","2023-11-16T15:31:36",2,{"$nulls":11},2]
[10,"5",2023,"105439",{"$f":"IFERROR(VLOOKUP(Tabla_SERIED_11_6[[#This Row],[IdEstablecimiento]],'[2]Establecimiento 2023'!$A$1:$E$183,3,FALSE),0)","v":"105439-Posta de Salud Rural Cerro Blanco"},{"$f":"IFERROR(VLOOKUP(Tabla_SERIED_11_6[[#This Row],[IdEstablecimiento]],'[2]Establecimiento 2023'!$A$1:$E$183,5,FALSE),0)","v":"04301-Ovalle"},"15050100","2023-11-16T15:31:36",4,2,2,{"$nulls":3},1,null,null,1,{"$nulls":4},2]
[10,"5",2023,"105450",{"$f":"IFERROR(VLOOKUP(Tabla_SERIED_11_6[[#This Row],[IdEstablecimiento]],'[2]Establecimiento 2023'!$A$1:$E$183,3,FALSE),0)","v":"105450-Posta de Salud Rural Mincha Norte"},{"$f":"IFERROR(VLOOKUP(Tabla_SERIED_11_6[[#This Row],[IdEstablecimiento]],'[2]Establecimiento 2023'!$A$1:$E$183,5,FALSE),0)","v":"04202-Canela"},"16200210","2023-11-16T15:31:58",13,13]
[10,"5",2023,"105451",{"$f":"IFERROR(VLOOKUP(Tabla_SERIED_11_6[[#This Row],[IdEstablecimiento]],'[2]Establecimiento 2023'!$A$1:$E$183,3,FALSE),0)","v":"105451-Posta de Salud Rural Agua Fría"},{"$f":"IFERROR(VLOOKUP(Tabla_SERIED_11_6[[#This Row],[IdEstablecimiento]],'[2]Establecimiento 2023'!$A$1:$E$183,5,FALSE),0)","v":"04202-Canela"},"16200210","2023-11-16T15:58:38",4,4]
[10,"5",2023,"105452",{"$f":"IFERROR(VLOOKUP(Tabla_SERIED_11_6[[#This Row],[IdEstablecimiento]],'[2]Establecimiento 2023'!$A$1:$E$183,3,FALSE),0)","v":"105452-Posta de Salud Rural Cuncumén(Salamanca)"},{"$f":"IFERROR(VLOOKUP(Tabla_SERIED_11_6[[#This Row],[IdEstablecimiento]],'[2]Establecimiento 2023'!$A$1:$E$183,5,FALSE),0)","v":"04204-Salamanca"},"16090300","2023-11-16T16:44:50",52,52]
[10,"5",2023,"105455",{"$f":"IFERROR(VLOOKUP(Tabla_SERIED_11_6[[#This Row],[IdEstablecimiento]],'[2]Establecimiento 2023'!$A$1:$E$183,3,FALSE),0)","v":"105455-CESFAM Valle Alto"},{"$f":"IFERROR(VLOOKUP(Tabla_SERIED_11_6[[#This Row],[IdEstablecimiento]],'[2]Establecimiento 2023'!$A$1:$E$183,5,FALSE),0)","v":"04204-Salamanca"},"15080008","2023-11-16T16:45:52",18,{"$nulls":7},10,null,4,null,4]
[10,"5",2023,"105455",{"$f":"IFERROR(VLOOKUP(Tabla_SERIED_11_6[[#This Row],[IdEstablecimiento]],'[2]Establecimiento 2023'!$A$1:$E$183,3,FALSE),0)","v":"105455-CESFAM Valle Alto"},{"$f":"IFERROR(VLOOKUP(Tabla_SERIED_11_6[[#This Row],[IdEstablecimiento]],'[2]Establecimiento 2023'!$A$1:$E$183,5,FALSE),0)","v":"04204-Salamanca"},"16090300","2023-11-16T16:45:52",71,71]
[10,"5",2023,"105456",{"$f":"IFERROR(VLOOKUP(Tabla_SERIED_11_6[[#This Row],[IdEstablecimiento]],'[2]Establecimiento 2023'!$A$1:$E$183,3,FALSE),0)","v":"105456-Posta de Salud Rural Llimpo"},{"$f":"IFERROR(VLOOKUP(Tabla_SERIED_11_6[[#This Row],[IdEstablecimiento]],'[2]Establecimiento 2023'!$A$1:$E$183,5,FALSE),0)","v":"04204-Salamanca"},"15900010","2023-11-16T16:46:09",6.4,null,null,6.4]
[10,"5",2023,"105456",{"$f":"IFERROR(VLOOKUP(Tabla_SERIED_11_6[[#This Row],[IdEstablecimiento]],'[2]Establecimiento 2023'!$A$1:$E$183,3,FALSE),0)","v":"105456-Posta de Salud Rural Llimpo"},{"$f":"IFERROR(VLOOKUP(Tabla_SERIED_11_6[[#This Row],[IdEstablecimiento]],'[2]Establecimiento 2023'!$A$1:$E$183,5,FALSE),0)","v":"04204-Salamanca"},"16200220","2023-11-16T16:46:09",3,3]
[10,"5",2023,"105457",{"$f":"IFERROR(VLOOKUP(Tabla_SERIED_11_6[[#This Row],[IdEstablecimiento]],'[2]Establecimiento 2023'!$A$1:$E$183,3,FALSE),0)","v":"105457-Posta de Salud Rural San Agustín (Salamanca)"},{"$f":"IFERROR(VLOOKUP(Tabla_SERIED_11_6[[#This Row],[IdEstablecimiento]],'[2]Establecimiento 2023'!$A$1:$E$183,5,FALSE),0)","v":"04204-Salamanca"},"16100300","2023-11-16T16:46:25",69,32,37]
[10,"5",2023,"105458",{"$f":"IFERROR(VLOOKUP(Tabla_SERIED_11_6[[#This Row],[IdEstablecimiento]],'[2]Establecimiento 2023'!$A$1:$E$183,3,FALSE),0)","v":"105458-Posta de Salud Rural Tahuinco"},{"$f":"IFERROR(VLOOKUP(Tabla_SERIED_11_6[[#This Row],[IdEstablecimiento]],'[2]Establecimiento 2023'!$A$1:$E$183,5,FALSE),0)","v":"04204-Salamanca"},"15080014","2023-11-16T16:46:47",34,{"$nulls":3},22,12]
[10,"5",2023,"105459",{"$f":"IFERROR(VLOOKUP(Tabla_SERIED_11_6[[#This Row],[IdEstablecimiento]],'[2]Establecimiento 2023'!$A$1:$E$183,3,FALSE),0)","v":"105459-Posta de Salud Rural Barrancas"},{"$f":"IFERROR(VLOOKUP(Tabla_SERIED_11_6[[#This Row],[IdEstablecimiento]],'[2]Establecimiento 2023'!$A$1:$E$183,5,FALSE),0)","v":"04302-Combarbalá"},"15080014","2023-11-16T16:47:07",9,{"$nulls":4},8,null,null,1]
[10,"5",2023,"105453",{"$f":"IFERROR(VLOOKUP(Tabla_SERIED_11_6[[#This Row],[IdEstablecimiento]],'[2]Establecimiento 2023'!$A$1:$E$183,3,FALSE),0)","v":"105453-Posta de Salud Rural Tranquilla"},{"$f":"IFERROR(VLOOKUP(Tabla_SERIED_11_6[[#This Row],[IdEstablecimiento]],'[2]Establecimiento 2023'!$A$1:$E$183,5,FALSE),0)","v":"04204-Salamanca"},"15080008","2023-11-16T16:45:18",3,{"$nulls":11},3]
[10,"5",2023,"105453",{"$f":"IFERROR(VLOOKUP(Tabla_SERIED_11_6[[#This Row],[IdEstablecimiento]],'[2]Establecimiento 2023'!$A$1:$E$183,3,FALSE),0)","v":"105453-Posta de Salud Rural Tranquilla"},{"$f":"IFERROR(VLOOKUP(Tabla_SERIED_11_6[[#This Row],[IdEstablecimiento]],'[2]Establecimiento 2023'!$A$1:$E$183,5,FALSE),0)","v":"04204-Salamanca"},"15050200","2023-11-16T16:45:18",2,2,{"$nulls":5},1,null,1]
[10,"5",2023,"105459",{"$f":"IFERROR(VLOOKUP(Tabla_SERIED_11_6[[#This Row],[IdEstablecimiento]],'[2]Establecimiento 2023'!$A$1:$E$183,3,FALSE),0)","v":"105459-Posta de Salud Rural Barrancas"},{"$f":"IFERROR(VLOOKUP(Tabla_SERIED_11_6[[#This Row],[IdEstablecimiento]],'[2]Establecimiento 2023'!$A$1:$E$183,5,FALSE),0)","v":"04302-Combarbalá"},"16100300","2023-11-16T16:47:07",62,30,32]
[10,"5",2023,"200569",{"$f":"IFERROR(VLOOKUP(Tabla_SERIED_11_6[[#This Row],[IdEstablecimiento]],'[2]Establecimiento 2023'!$A$1:$E$183,3,FALSE),0)","v":"200569-Centro de Salud Familiar Fray Jorge"},{"$f":"IFERROR(VLOOKUP(Tabla_SERIED_11_6[[#This Row],[IdEstablecimiento]],'[2]Establecimiento 2023'!$A$1:$E$183,5,FALSE),0)","v":"04301-Ovalle"},"15030100","2023-11-17T08:57:58",23.6,3.2,null,20.4]
[10,"5",2023,"200569",{"$f":"IFERROR(VLOOKUP(Tabla_SERIED_11_6[[#This Row],[IdEstablecimiento]],'[2]Establecimiento 2023'!$A$1:$E$183,3,FALSE),0)","v":"200569-Centro de Salud Familiar Fray Jorge"},{"$f":"IFERROR(VLOOKUP(Tabla_SERIED_11_6[[#This Row],[IdEstablecimiento]],'[2]Establecimiento 2023'!$A$1:$E$183,5,FALSE),0)","v":"04301-Ovalle"},"15080019","2023-11-17T08:57:58",8,{"$nulls":5},8]
[10,"5",2023,"200569",{"$f":"IFERROR(VLOOKUP(Tabla_SERIED_11_6[[#This Row],[IdEstablecimiento]],'[2]Establecimiento 2023'!$A$1:$E$183,3,FALSE),0)","v":"200569-Centro de Salud Familiar Fray Jorge"},{"$f":"IFERROR(VLOOKUP(Tabla_SERIED_11_6[[#This Row],[IdEstablecimiento]],'[2]Establecimiento 2023'!$A$1:$E$183,5,FALSE),0)","v":"04301-Ovalle"},"16200210","2023-11-17T08:57:58",4,2]
[10,"5",2023,"200367",{"$f":"IFERROR(VLOOKUP(Tabla_SERIED_11_6[[#This Row],[IdEstablecimiento]],'[2]Establecimiento 2023'!$A$1:$E$183,3,FALSE),0)","v":"200367-Centro Comunitario de Salud Familiar Colonia Limarí"},{"$f":"IFERROR(VLOOKUP(Tabla_SERIED_11_6[[#This Row],[IdEstablecimiento]],'[2]Establecimiento 2023'!$A$1:$E$183,5,FALSE),0)","v":"04301-Ovalle"},"15080014","2023-11-17T08:58:42",22,{"$nulls":3},10,12]
[10,"5",2023,"200367",{"$f":"IFERROR(VLOOKUP(Tabla_SERIED_11_6[[#This Row],[IdEstablecimiento]],'[2]Establecimiento 2023'!$A$1:$E$183,3,FALSE),0)","v":"200367-Centro Comunitario de Salud Familiar Colonia Limarí"},{"$f":"IFERROR(VLOOKUP(Tabla_SERIED_11_6[[#This Row],[IdEstablecimiento]],'[2]Establecimiento 2023'!$A$1:$E$183,5,FALSE),0)","v":"04301-Ovalle"},"15060100","2023-11-17T08:58:42",1,null,1,{"$nulls":5},1]
[10,"5",2023,"200366",{"$f":"IFERROR(VLOOKUP(Tabla_SERIED_11_6[[#This Row],[IdEstablecimiento]],'[2]Establecimiento 2023'!$A$1:$E$183,3,FALSE),0)","v":"200366-Centro de Salud Familiar Urbano de Illapel"},{"$f":"IFERROR(VLOOKUP(Tabla_SERIED_11_6[[#This Row],[IdEstablecimiento]],'[2]Establecimiento 2023'!$A$1:$E$183,5,FALSE),0)","v":"04201-Illapel"},"15080016","2023-11-17T08:59:05",40,{"$nulls":3},4,4,24,8]
[10,"5",2023,"200366",{"$f":"IFERROR(VLOOKUP(Tabla_SERIED_11_6[[#This Row],[IdEstablecimiento]],'[2]Establecimiento 2023'!$A$1:$E$183,3,FALSE),0)","v":"200366-Centro de Salud Familiar Urbano de Illapel"},{"$f":"IFERROR(VLOOKUP(Tabla_SERIED_11_6[[#This Row],[IdEstablecimiento]],'[2]Establecimiento 2023'!$A$1:$E$183,5,FALSE),0)","v":"04201-Illapel"},"15050500","2023-11-17T08:59:05",1,0,1,null,1]
[10,"5",2023,"200366",{"$f":"IFERROR(VLOOKUP(Tabla_SERIED_11_6[[#This Row],[IdEstablecimiento]],'[2]Establecimiento 2023'!$A$1:$E$183,3,FALSE),0)","v":"200366-Centro de Salud Familiar Urbano de Illapel"},{"$f":"IFERROR(VLOOKUP(Tabla_SERIED_11_6[[#This Row],[IdEstablecimiento]],'[2]Establecimiento 2023'!$A$1:$E$183,5,FALSE),0)","v":"04201-Illapel"},"16200210","2023-11-17T08:59:05",41,41]
[10,"5",2023,"200258",{"$f":"IFERROR(VLOOKUP(Tabla_SERIED_11_6[[#This Row],[IdEstablecimiento]],'[2]Establecimiento 2023'!$A$1:$E$183,3,FALSE),0)","v":"200258-Centro Comunitario de Salud Familiar Los Copihues"},{"$f":"IFERROR(VLOOKUP(Tabla_SERIED_11_6[[#This Row],[IdEstablecimiento]],'[2]Establecimiento 2023'!$A$1:$E$183,5,FALSE),0)","v":"04301-Ovalle"},"15900010","2023-11-17T08:59:24",18.8,3.6,5.6,9.6]
[10,"5",2023,"200258",{"$f":"IFERROR(VLOOKUP(Tabla_SERIED_11_6[[#This Row],[IdEstablecimiento]],'[2]Establecimiento 2023'!$A$1:$E$183,3,FALSE),0)","v":"200258-Centro Comunitario de Salud Familiar Los Copihues"},{"$f":"IFERROR(VLOOKUP(Tabla_SERIED_11_6[[#This Row],[IdEstablecimiento]],'[2]Establecimiento 2023'!$A$1:$E$183,5,FALSE),0)","v":"04301-Ovalle"},"15080018","2023-11-17T08:59:24",2,0,0,0,2,0]
[10,"5",2023,"200258",{"$f":"IFERROR(VLOOKUP(Tabla_SERIED_11_6[[#This Row],[IdEstablecimiento]],'[2]Establecimiento 2023'!$A$1:$E$183,3,FALSE),0)","v":"200258-Centro Comunitario de Salud Familiar Los Copihues"},{"$f":"IFERROR(VLOOKUP(Tabla_SERIED_11_6[[#This Row],[IdEstablecimiento]],'[2]Establecimiento 2023'!$A$1:$E$183,5,FALSE),0)","v":"04301-Ovalle"},"16200210","2023-11-17T08:59:24",13,13]
[10,"5",2023,"105723",{"$f":"IFERROR(VLOOKUP(Tabla_SERIED_11_6[[#This Row],[IdEstablecimiento]],'[2]Establecimiento 2023'!$A$1:$E$183,3,FALSE),0)","v":"105723-Centro Comunitario de Salud Familiar Limarí"},{"$f":"IFERROR(VLOOKUP(Tabla_SERIED_11_6[[#This Row],[IdEstablecimiento]],'[2]Establecimiento 2023'!$A$1:$E$183,5,FALSE),0)","v":"04301-Ovalle"},"16090300","2023-11-17T09:01:19",296,296]
[10,"5",2023,"105723",{"$f":"IFERROR(VLOOKUP(Tabla_SERIED_11_6[[#This Row],[IdEstablecimiento]],'[2]Establecimiento 2023'!$A$1:$E$183,3,FALSE),0)","v":"105723-Centro Comunitario de Salud Familiar Limarí"},{"$f":"IFERROR(VLOOKUP(Tabla_SERIED_11_6[[#This Row],[IdEstablecimiento]],'[2]Establecimiento 2023'!$A$1:$E$183,5,FALSE),0)","v":"04301-Ovalle"},"16200100","2023-11-17T09:01:19",38,21,17]
[10,"5",2023,"105509",{"$f":"IFERROR(VLOOKUP(Tabla_SERIED_11_6[[#This Row],[IdEstablecimiento]],'[2]Establecimiento 2023'!$A$1:$E$183,3,FALSE),0)","v":"105509-Posta de Salud Rural Gualliguaica"},{"$f":"IFERROR(VLOOKUP(Tabla_SERIED_11_6[[#This Row],[IdEstablecimiento]],'[2]Establecimiento 2023'!$A$1:$E$183,5,FALSE),0)","v":"04106-Vicuña"},"15080014","2023-11-17T11:34:01",8,{"$nulls":3},4,4]
[10,"5",2023,"105500",{"$f":"IFERROR(VLOOKUP(Tabla_SERIED_11_6[[#This Row],[IdEstablecimiento]],'[2]Establecimiento 2023'!$A$1:$E$183,3,FALSE),0)","v":"105500-Posta de Salud Rural Caleta Hornos"},{"$f":"IFERROR(VLOOKUP(Tabla_SERIED_11_6[[#This Row],[IdEstablecimiento]],'[2]Establecimiento 2023'!$A$1:$E$183,5,FALSE),0)","v":"04104-La Higuera"},"16090300","2023-11-17T11:38:58",28,28]
[10,"5",2023,"105498",{"$f":"IFERROR(VLOOKUP(Tabla_SERIED_11_6[[#This Row],[IdEstablecimiento]],'[2]Establecimiento 2023'!$A$1:$E$183,3,FALSE),0)","v":"105498-Posta de Salud Rural Quebrada Linares"},{"$f":"IFERROR(VLOOKUP(Tabla_SERIED_11_6[[#This Row],[IdEstablecimiento]],'[2]Establecimiento 2023'!$A$1:$E$183,5,FALSE),0)","v":"04202-Canela"},"16200220","2023-11-17T11:39:25",4,2,2]
[10,"5",2023,"105493",{"$f":"IFERROR(VLOOKUP(Tabla_SERIED_11_6[[#This Row],[IdEstablecimiento]],'[2]Establecimiento 2023'!$A$1:$E$183,3,FALSE),0)","v":"105493-Posta de Salud Rural Mincha Sur"},{"$f":"IFERROR(VLOOKUP(Tabla_SERIED_11_6[[#This Row],[IdEstablecimiento]],'[2]Establecimiento 2023'!$A$1:$E$183,5,FALSE),0)","v":"04202-Canela"},"15080008","2023-11-17T13:11:29",1,{"$nulls":7},1]
[10,"5",2023,"105492",{"$f":"IFERROR(VLOOKUP(Tabla_SERIED_11_6[[#This Row],[IdEstablecimiento]],'[2]Establecimiento 2023'!$A$1:$E$183,3,FALSE),0)","v":"105492-Posta de Salud Rural Camisa"},{"$f":"IFERROR(VLOOKUP(Tabla_SERIED_11_6[[#This Row],[IdEstablecimiento]],'[2]Establecimiento 2023'!$A$1:$E$183,5,FALSE),0)","v":"04204-Salamanca"},"15050100","2023-11-21T10:22:22",18,11,7,1,null,null,1,2,1,8,2,null,2,1]
[10,"5",2023,"105492",{"$f":"IFERROR(VLOOKUP(Tabla_SERIED_11_6[[#This Row],[IdEstablecimiento]],'[2]Establecimiento 2023'!$A$1:$E$183,3,FALSE),0)","v":"105492-Posta de Salud Rural Camisa"},{"$f":"IFERROR(VLOOKUP(Tabla_SERIED_11_6[[#This Row],[IdEstablecimiento]],'[2]Establecimiento 2023'!$A$1:$E$183,5,FALSE),0)","v":"04204-Salamanca"},"16200220","2023-11-21T10:22:22",3,2,1]
[10,"5",2023,"105491",{"$f":"IFERROR(VLOOKUP(Tabla_SERIED_11_6[[#This Row],[IdEstablecimiento]],'[2]Establecimiento 2023'!$A$1:$E$183,3,FALSE),0)","v":"105491-Posta de Salud Rural Quelén Bajo"},{"$f":"IFERROR(VLOOKUP(Tabla_SERIED_11_6[[#This Row],[IdEstablecimiento]],'[2]Establecimiento 2023'!$A$1:$E$183,5,FALSE),0)","v":"04204-Salamanca"},"15080016","2023-11-21T10:23:44",6,{"$nulls":5},2,4]
[10,"5",2023,"105490",{"$f":"IFERROR(VLOOKUP(Tabla_SERIED_11_6[[#This Row],[IdEstablecimiento]],'[2]Establecimiento 2023'!$A$1:$E$183,3,FALSE),0)","v":"105490-Posta de Salud Rural El Durazno(Combarbalá)"},{"$f":"IFERROR(VLOOKUP(Tabla_SERIED_11_6[[#This Row],[IdEstablecimiento]],'[2]Establecimiento 2023'!$A$1:$E$183,5,FALSE),0)","v":"04302-Combarbalá"},"15080014","2023-11-21T10:24:13",4,{"$nulls":3},4]
[10,"5",2023,"105489",{"$f":"IFERROR(VLOOKUP(Tabla_SERIED_11_6[[#This Row],[IdEstablecimiento]],'[2]Establecimiento 2023'!$A$1:$E$183,3,FALSE),0)","v":"105489-Posta de Salud Rural Ramadas de Tulahuén"},{"$f":"IFERROR(VLOOKUP(Tabla_SERIED_11_6[[#This Row],[IdEstablecimiento]],'[2]Establecimiento 2023'!$A$1:$E$183,5,FALSE),0)","v":"04303-Monte Patria"},"15080015","2023-11-21T10:26:21",28,{"$nulls":5},16,12]
[10,"5",2023,"105484",{"$f":"IFERROR(VLOOKUP(Tabla_SERIED_11_6[[#This Row],[IdEstablecimiento]],'[2]Establecimiento 2023'!$A$1:$E$183,3,FALSE),0)","v":"105484-Posta de Salud Rural Huentelauquén"},{"$f":"IFERROR(VLOOKUP(Tabla_SERIED_11_6[[#This Row],[IdEstablecimiento]],'[2]Establecimiento 2023'!$A$1:$E$183,5,FALSE),0)","v":"04202-Canela"},"16090300","2023-11-21T10:38:56",65,65]
[10,"5",2023,"105722",{"$f":"IFERROR(VLOOKUP(Tabla_SERIED_11_6[[#This Row],[IdEstablecimiento]],'[2]Establecimiento 2023'!$A$1:$E$183,3,FALSE),0)","v":"105722-Centro Comunitario de Salud Familiar San José de la Dehesa"},{"$f":"IFERROR(VLOOKUP(Tabla_SERIED_11_6[[#This Row],[IdEstablecimiento]],'[2]Establecimiento 2023'!$A$1:$E$183,5,FALSE),0)","v":"04301-Ovalle"},"16200210","2023-11-17T11:23:15",14,14]
[10,"5",2023,"105510",{"$f":"IFERROR(VLOOKUP(Tabla_SERIED_11_6[[#This Row],[IdEstablecimiento]],'[2]Establecimiento 2023'!$A$1:$E$183,3,FALSE),0)","v":"105510-Posta de Salud Rural Recoleta"},{"$f":"IFERROR(VLOOKUP(Tabla_SERIED_11_6[[#This Row],[IdEstablecimiento]],'[2]Establecimiento 2023'!$A$1:$E$183,5,FALSE),0)","v":"04301-Ovalle"},"15900010","2023-11-17T11:33:39",7.7,3.2,1.8,2.7]
[10,"5",2023,"105507",{"$f":"IFERROR(VLOOKUP(Tabla_SERIED_11_6[[#This Row],[IdEstablecimiento]],'[2]Establecimiento 2023'!$A$1:$E$183,3,FALSE),0)","v":"105507-Posta de Salud Rural Huamalata"},{"$f":"IFERROR(VLOOKUP(Tabla_SERIED_11_6[[#This Row],[IdEstablecimiento]],'[2]Establecimiento 2023'!$A$1:$E$183,5,FALSE),0)","v":"04301-Ovalle"},"16090300","2023-11-17T11:34:23",116,116]
[10,"5",2023,"105507",{"$f":"IFERROR(VLOOKUP(Tabla_SERIED_11_6[[#This Row],[IdEstablecimiento]],'[2]Establecimiento 2023'!$A$1:$E$183,3,FALSE),0)","v":"105507-Posta de Salud Rural Huamalata"},{"$f":"IFERROR(VLOOKUP(Tabla_SERIED_11_6[[#This Row],[IdEstablecimiento]],'[2]Establecimiento 2023'!$A$1:$E$183,5,FALSE),0)","v":"04301-Ovalle"},"16200210","2023-11-17T11:34:23",15,15]
[10,"5",2023,"105506",{"$f":"IFERROR(VLOOKUP(Tabla_SERIED_11_6[[#This Row],[IdEstablecimiento]],'[2]Establecimiento 2023'!$A$1:$E$183,3,FALSE),0)","v":"105506-Posta de Salud Rural El Trapiche"},{"$f":"IFERROR(VLOOKUP(Tabla_SERIED_11_6[[#This Row],[IdEstablecimiento]],'[2]Establecimiento 2023'!$A$1:$E$183,5,FALSE),0)","v":"04104-La Higuera"},"15900010","2023-11-17T11:34:39",2.7,null,2.7]
[10,"5",2023,"105505",{"$f":"IFERROR(VLOOKUP(Tabla_SERIED_11_6[[#This Row],[IdEstablecimiento]],'[2]Establecimiento 2023'!$A$1:$E$183,3,FALSE),0)","v":"105505-Posta de Salud Rural Los Choros"},{"$f":"IFERROR(VLOOKUP(Tabla_SERIED_11_6[[#This Row],[IdEstablecimiento]],'[2]Establecimiento 2023'!$A$1:$E$183,5,FALSE),0)","v":"04104-La Higuera"},"15900010","2023-11-17T11:37:15",3.2,null,null,3.2]
[10,"5",2023,"105501",{"$f":"IFERROR(VLOOKUP(Tabla_SERIED_11_6[[#This Row],[IdEstablecimiento]],'[2]Establecimiento 2023'!$A$1:$E$183,3,FALSE),0)","v":"105501-Posta de Salud Rural Arboleda Grande"},{"$f":"IFERROR(VLOOKUP(Tabla_SERIED_11_6[[#This Row],[IdEstablecimiento]],'[2]Establecimiento 2023'!$A$1:$E$183,5,FALSE),0)","v":"04204-Salamanca"},"15080014","2023-11-17T11:37:37",6,{"$nulls":3},2,4]
[10,"5",2023,"105500",{"$f":"IFERROR(VLOOKUP(Tabla_SERIED_11_6[[#This Row],[IdEstablecimiento]],'[2]Establecimiento 2023'!$A$1:$E$183,3,FALSE),0)","v":"105500-Posta de Salud Rural Caleta Hornos"},{"$f":"IFERROR(VLOOKUP(Tabla_SERIED_11_6[[#This Row],[IdEstablecimiento]],'[2]Establecimiento 2023'!$A$1:$E$183,5,FALSE),0)","v":"04104-La Higuera"},"15080014","2023-11-17T11:38:58",30,{"$nulls":3},10,20]
[10,"5",2023,"105500",{"$f":"IFERROR(VLOOKUP(Tabla_SERIED_11_6[[#This Row],[IdEstablecimiento]],'[2]Establecimiento 2023'!$A$1:$E$183,3,FALSE),0)","v":"105500-Posta de Salud Rural Caleta Hornos"},{"$f":"IFERROR(VLOOKUP(Tabla_SERIED_11_6[[#This Row],[IdEstablecimiento]],'[2]Establecimiento 2023'!$A$1:$E$183,5,FALSE),0)","v":"04104-La Higuera"},"15050100","2023-11-17T11:38:58",27,15,12,null,null,1,5,10,5,4,2]
[10,"5",2023,"105482",{"$f":"IFERROR(VLOOKUP(Tabla_SERIED_11_6[[#This Row],[IdEstablecimiento]],'[2]Establecimiento 2023'!$A$1:$E$183,3,FALSE),0)","v":"105482-Posta de Salud Rural Canela Alta"},{"$f":"IFERROR(VLOOKUP(Tabla_SERIED_11_6[[#This Row],[IdEstablecimiento]],'[2]Establecimiento 2023'!$A$1:$E$183,5,FALSE),0)","v":"04202-Canela"},"15080015","2023-11-21T10:49:59",6,{"$nulls":5},4,2]
[10,"5",2023,"105482",{"$f":"IFERROR(VLOOKUP(Tabla_SERIED_11_6[[#This Row],[IdEstablecimiento]],'[2]Establecimiento 2023'!$A$1:$E$183,3,FALSE),0)","v":"105482-Posta de Salud Rural Canela Alta"},{"$f":"IFERROR(VLOOKUP(Tabla_SERIED_11_6[[#This Row],[IdEstablecimiento]],'[2]Establecimiento 2023'!$A$1:$E$183,5,FALSE),0)","v":"04202-Canela"},"16090300","2023-11-21T10:49:59",96,96]
[10,"5",2023,"105471",{"$f":"IFERROR(VLOOKUP(Tabla_SERIED_11_6[[#This Row],[IdEstablecimiento]],'[2]Establecimiento 2023'!$A$1:$E$183,3,FALSE),0)","v":"105471-Posta de Salud Rural Peralillo Vicuña"},{"$f":"IFERROR(VLOOKUP(Tabla_SERIED_11_6[[#This Row],[IdEstablecimiento]],'[2]Establecimiento 2023'!$A$1:$E$183,5,FALSE),0)","v":"04106-Vicuña"},"15080008","2023-11-21T10:55:15",8,{"$nulls":7},2,null,4,null,2]
[10,"5",2023,"105468",{"$f":"IFERROR(VLOOKUP(Tabla_SERIED_11_6[[#This Row],[IdEstablecimiento]],'[2]Establecimiento 2023'!$A$1:$E$183,3,FALSE),0)","v":"105468-Posta de Salud Rural El Molle"},{"$f":"IFERROR(VLOOKUP(Tabla_SERIED_11_6[[#This Row],[IdEstablecimiento]],'[2]Establecimiento 2023'!$A$1:$E$183,5,FALSE),0)","v":"04106-Vicuña"},"15080008","2023-11-21T11:05:53",2,{"$nulls":7},2,null,0]
[10,"5",2023,"105468",{"$f":"IFERROR(VLOOKUP(Tabla_SERIED_11_6[[#This Row],[IdEstablecimiento]],'[2]Establecimiento 2023'!$A$1:$E$183,3,FALSE),0)","v":"105468-Posta de Salud Rural El Molle"},{"$f":"IFERROR(VLOOKUP(Tabla_SERIED_11_6[[#This Row],[IdEstablecimiento]],'[2]Establecimiento 2023'!$A$1:$E$183,5,FALSE),0)","v":"04106-Vicuña"},"15050200","2023-11-21T11:05:53",3,3,{"$nulls":3},3]
[10,"5",2023,"105466",{"$f":"IFERROR(VLOOKUP(Tabla_SERIED_11_6[[#This Row],[IdEstablecimiento]],'[2]Establecimiento 2023'!$A$1:$E$183,3,FALSE),0)","v":"105466-Posta de Salud Rural Valle Hermoso"},{"$f":"IFERROR(VLOOKUP(Tabla_SERIED_11_6[[#This Row],[IdEstablecimiento]],'[2]Establecimiento 2023'!$A$1:$E$183,5,FALSE),0)","v":"04302-Combarbalá"},"16100300","2023-11-21T11:10:07",32,14,18]
[10,"5",2023,"105464",{"$f":"IFERROR(VLOOKUP(Tabla_SERIED_11_6[[#This Row],[IdEstablecimiento]],'[2]Establecimiento 2023'!$A$1:$E$183,3,FALSE),0)","v":"105464-Posta de Salud Rural La Ligua"},{"$f":"IFERROR(VLOOKUP(Tabla_SERIED_11_6[[#This Row],[IdEstablecimiento]],'[2]Establecimiento 2023'!$A$1:$E$183,5,FALSE),0)","v":"04302-Combarbalá"},"16100300","2023-11-21T11:11:48",80,33,47]
[10,"5",2023,"105463",{"$f":"IFERROR(VLOOKUP(Tabla_SERIED_11_6[[#This Row],[IdEstablecimiento]],'[2]Establecimiento 2023'!$A$1:$E$183,3,FALSE),0)","v":"105463-Posta de Salud Rural Quilitapia"},{"$f":"IFERROR(VLOOKUP(Tabla_SERIED_11_6[[#This Row],[IdEstablecimiento]],'[2]Establecimiento 2023'!$A$1:$E$183,5,FALSE),0)","v":"04302-Combarbalá"},"15080008","2023-11-21T12:37:59",1,{"$nulls":10},1]
[10,"5",2023,"105473",{"$f":"IFERROR(VLOOKUP(Tabla_SERIED_11_6[[#This Row],[IdEstablecimiento]],'[2]Establecimiento 2023'!$A$1:$E$183,3,FALSE),0)","v":"105473-Posta de Salud Rural Talcuna"},{"$f":"IFERROR(VLOOKUP(Tabla_SERIED_11_6[[#This Row],[IdEstablecimiento]],'[2]Establecimiento 2023'!$A$1:$E$183,5,FALSE),0)","v":"04106-Vicuña"},"16200210","2023-11-21T10:52:03",6,6]
[10,"5",2023,"105463",{"$f":"IFERROR(VLOOKUP(Tabla_SERIED_11_6[[#This Row],[IdEstablecimiento]],'[2]Establecimiento 2023'!$A$1:$E$183,3,FALSE),0)","v":"105463-Posta de Salud Rural Quilitapia"},{"$f":"IFERROR(VLOOKUP(Tabla_SERIED_11_6[[#This Row],[IdEstablecimiento]],'[2]Establecimiento 2023'!$A$1:$E$183,5,FALSE),0)","v":"04302-Combarbalá"},"15900010","2023-11-21T12:37:59",3.2,null,3.2]
[10,"5",2023,"105463",{"$f":"IFERROR(VLOOKUP(Tabla_SERIED_11_6[[#This Row],[IdEstablecimiento]],'[2]Establecimiento 2023'!$A$1:$E$183,3,FALSE),0)","v":"105463-Posta de Salud Rural Quilitapia"},{"$f":"IFERROR(VLOOKUP(Tabla_SERIED_11_6[[#This Row],[IdEstablecimiento]],'[2]Establecimiento 2023'!$A$1:$E$183,5,FALSE),0)","v":"04302-Combarbalá"},"15010500","2023-11-21T12:37:59",2,null,null,2]
[10,"5",2023,"105463",{"$f":"IFERROR(VLOOKUP(Tabla_SERIED_11_6[[#This Row],[IdEstablecimiento]],'[2]Establecimiento 2023'!$A$1:$E$183,3,FALSE),0)","v":"105463-Posta de Salud Rural Quilitapia"},{"$f":"IFERROR(VLOOKUP(Tabla_SERIED_11_6[[#This Row],[IdEstablecimiento]],'[2]Establecimiento 2023'!$A$1:$E$183,5,FALSE),0)","v":"04302-Combarbalá"},"16100300","2023-11-21T12:37:59",120,35,85]
[10,"5",2023,"105461",{"$f":"IFERROR(VLOOKUP(Tabla_SERIED_11_6[[#This Row],[IdEstablecimiento]],'[2]Establecimiento 2023'!$A$1:$E$183,3,FALSE),0)","v":"105461-Posta de Salud Rural El Huacho"},{"$f":"IFERROR(VLOOKUP(Tabla_SERIED_11_6[[#This Row],[IdEstablecimiento]],'[2]Establecimiento 2023'!$A$1:$E$183,5,FALSE),0)","v":"04302-Combarbalá"},"15050100","2023-11-21T12:38:49",8,3,5,{"$nulls":4},2,2,3,null,null,1]
[10,"5",2023,"105461",{"$f":"IFERROR(VLOOKUP(Tabla_SERIED_11_6[[#This Row],[IdEstablecimiento]],'[2]Establecimiento 2023'!$A$1:$E$183,3,FALSE),0)","v":"105461-Posta de Salud Rural El Huacho"},{"$f":"IFERROR(VLOOKUP(Tabla_SERIED_11_6[[#This Row],[IdEstablecimiento]],'[2]Establecimiento 2023'!$A$1:$E$183,5,FALSE),0)","v":"04302-Combarbalá"},"16200220","2023-11-21T12:38:49",2,0,2]
[10,"5",2023,"105460",{"$f":"IFERROR(VLOOKUP(Tabla_SERIED_11_6[[#This Row],[IdEstablecimiento]],'[2]Establecimiento 2023'!$A$1:$E$183,3,FALSE),0)","v":"105460-Centro Comunitario de Salud Familiar Cogotí 18"},{"$f":"IFERROR(VLOOKUP(Tabla_SERIED_11_6[[#This Row],[IdEstablecimiento]],'[2]Establecimiento 2023'!$A$1:$E$183,5,FALSE),0)","v":"04302-Combarbalá"},"15900050","2023-11-21T12:39:13",1,0,1,null,null,1]
[10,"5",2023,"105107",{"$f":"IFERROR(VLOOKUP(Tabla_SERIED_11_6[[#This Row],[IdEstablecimiento]],'[2]Establecimiento 2023'!$A$1:$E$183,3,FALSE),0)","v":"105107-Hospital San Juan de Dios (Vicuña)"},{"$f":"IFERROR(VLOOKUP(Tabla_SERIED_11_6[[#This Row],[IdEstablecimiento]],'[2]Establecimiento 2023'!$A$1:$E$183,5,FALSE),0)","v":"105107-Hospital Vicuña"},"15080014","2023-11-21T12:42:36",190,{"$nulls":3},88,102]
[10,"5",2023,"105107",{"$f":"IFERROR(VLOOKUP(Tabla_SERIED_11_6[[#This Row],[IdEstablecimiento]],'[2]Establecimiento 2023'!$A$1:$E$183,3,FALSE),0)","v":"105107-Hospital San Juan de Dios (Vicuña)"},{"$f":"IFERROR(VLOOKUP(Tabla_SERIED_11_6[[#This Row],[IdEstablecimiento]],'[2]Establecimiento 2023'!$A$1:$E$183,5,FALSE),0)","v":"105107-Hospital Vicuña"},"15900040","2023-11-21T12:42:36",4,{"$nulls":3},4]
[10,"5",2023,"105107",{"$f":"IFERROR(VLOOKUP(Tabla_SERIED_11_6[[#This Row],[IdEstablecimiento]],'[2]Establecimiento 2023'!$A$1:$E$183,3,FALSE),0)","v":"105107-Hospital San Juan de Dios (Vicuña)"},{"$f":"IFERROR(VLOOKUP(Tabla_SERIED_11_6[[#This Row],[IdEstablecimiento]],'[2]Establecimiento 2023'!$A$1:$E$183,5,FALSE),0)","v":"105107-Hospital Vicuña"},"16090600","2023-11-21T12:42:36",2,2]
[10,"5",2023,"105107",{"$f":"IFERROR(VLOOKUP(Tabla_SERIED_11_6[[#This Row],[IdEstablecimiento]],'[2]Establecimiento 2023'!$A$1:$E$183,3,FALSE),0)","v":"105107-Hospital San Juan de Dios (Vicuña)"},{"$f":"IFERROR(VLOOKUP(Tabla_SERIED_11_6[[#This Row],[IdEstablecimiento]],'[2]Establecimiento 2023'!$A$1:$E$183,5,FALSE),0)","v":"105107-Hospital Vicuña"},"16100300","2023-11-21T12:42:36",434,175,259]
[10,"5",2023,"105300",{"$f":"IFERROR(VLOOKUP(Tabla_SERIED_11_6[[#This Row],[IdEstablecimiento]],'[2]Establecimiento 2023'!$A$1:$E$183,3,FALSE),0)","v":"105300-Centro de Salud Familiar Cardenal Caro"},{"$f":"IFERROR(VLOOKUP(Tabla_SERIED_11_6[[#This Row],[IdEstablecimiento]],'[2]Establecimiento 2023'!$A$1:$E$183,5,FALSE),0)","v":"04101-La Serena"},"15900030","2023-11-21T12:52:06",16,0,2,2.8,6.8,4.4]
[10,"5",2023,"105300",{"$f":"IFERROR(VLOOKUP(Tabla_SERIED_11_6[[#This Row],[IdEstablecimiento]],'[2]Establecimiento 2023'!$A$1:$E$183,3,FALSE),0)","v":"105300-Centro de Salud Familiar Cardenal Caro"},{"$f":"IFERROR(VLOOKUP(Tabla_SERIED_11_6[[#This Row],[IdEstablecimiento]],'[2]Establecimiento 2023'!$A$1:$E$183,5,FALSE),0)","v":"04101-La Serena"},"15900050","2023-11-21T12:52:06",26,16,10,0,3,16,5,2]
[10,"5",2023,"105300",{"$f":"IFERROR(VLOOKUP(Tabla_SERIED_11_6[[#This Row],[IdEstablecimiento]],'[2]Establecimiento 2023'!$A$1:$E$183,3,FALSE),0)","v":"105300-Centro de Salud Familiar Cardenal Caro"},{"$f":"IFERROR(VLOOKUP(Tabla_SERIED_11_6[[#This Row],[IdEstablecimiento]],'[2]Establecimiento 2023'!$A$1:$E$183,5,FALSE),0)","v":"04101-La Serena"},"16200220","2023-11-21T12:52:06",38,10,28]
[10,"5",2023,"105301",{"$f":"IFERROR(VLOOKUP(Tabla_SERIED_11_6[[#This Row],[IdEstablecimiento]],'[2]Establecimiento 2023'!$A$1:$E$183,3,FALSE),0)","v":"105301-Centro de Salud Familiar Las Compañías"},{"$f":"IFERROR(VLOOKUP(Tabla_SERIED_11_6[[#This Row],[IdEstablecimiento]],'[2]Establecimiento 2023'!$A$1:$E$183,5,FALSE),0)","v":"04101-La Serena"},"15900010","2023-11-21T12:52:34",138.4,12,24.8,101.6]
[10,"5",2023,"105301",{"$f":"IFERROR(VLOOKUP(Tabla_SERIED_11_6[[#This Row],[IdEstablecimiento]],'[2]Establecimiento 2023'!$A$1:$E$183,3,FALSE),0)","v":"105301-Centro de Salud Familiar Las Compañías"},{"$f":"IFERROR(VLOOKUP(Tabla_SERIED_11_6[[#This Row],[IdEstablecimiento]],'[2]Establecimiento 2023'!$A$1:$E$183,5,FALSE),0)","v":"04101-La Serena"},"15900050","2023-11-21T12:52:34",6,4,2,null,null,1,2,3]
[10,"5",2023,"105301",{"$f":"IFERROR(VLOOKUP(Tabla_SERIED_11_6[[#This Row],[IdEstablecimiento]],'[2]Establecimiento 2023'!$A$1:$E$183,3,FALSE),0)","v":"105301-Centro de Salud Familiar Las Compañías"},{"$f":"IFERROR(VLOOKUP(Tabla_SERIED_11_6[[#This Row],[IdEstablecimiento]],'[2]Establecimiento 2023'!$A$1:$E$183,5,FALSE),0)","v":"04101-La Serena"},"16200220","2023-11-21T12:52:34",121,34,87]
[10,"5",2023,"105302",{"$f":"IFERROR(VLOOKUP(Tabla_SERIED_11_6[[#This Row],[IdEstablecimiento]],'[2]Establecimiento 2023'!$A$1:$E$183,3,FALSE),0)","v":"105302-Centro de Salud Familiar Pedro Aguirre Cerda"},{"$f":"IFERROR(VLOOKUP(Tabla_SERIED_11_6[[#This Row],[IdEstablecimiento]],'[2]Establecimiento 2023'!$A$1:$E$183,5,FALSE),0)","v":"04101-La Serena"},"15080016","2023-11-21T12:59:58",16,{"$nulls":3},4,2,6,4]
[10,"5",2023,"105303",{"$f":"IFERROR(VLOOKUP(Tabla_SERIED_11_6[[#This Row],[IdEstablecimiento]],'[2]Establecimiento 2023'!$A$1:$E$183,3,FALSE),0)","v":"105303-Centro de Salud Familiar San Juan"},{"$f":"IFERROR(VLOOKUP(Tabla_SERIED_11_6[[#This Row],[IdEstablecimiento]],'[2]Establecimiento 2023'!$A$1:$E$183,5,FALSE),0)","v":"04102-Coquimbo"},"15030100","2023-11-21T13:04:13",20.8,16.4,4.4,0]
[10,"5",2023,"105303",{"$f":"IFERROR(VLOOKUP(Tabla_SERIED_11_6[[#This Row],[IdEstablecimiento]],'[2]Establecimiento 2023'!$A$1:$E$183,3,FALSE),0)","v":"105303-Centro de Salud Familiar San Juan"},{"$f":"IFERROR(VLOOKUP(Tabla_SERIED_11_6[[#This Row],[IdEstablecimiento]],'[2]Establecimiento 2023'!$A$1:$E$183,5,FALSE),0)","v":"04102-Coquimbo"},"15901300","2023-11-21T13:04:13",4.4,0,0,4.4,0,0,0,0]
[10,"5",2023,"105302",{"$f":"IFERROR(VLOOKUP(Tabla_SERIED_11_6[[#This Row],[IdEstablecimiento]],'[2]Establecimiento 2023'!$A$1:$E$183,3,FALSE),0)","v":"105302-Centro de Salud Familiar Pedro Aguirre Cerda"},{"$f":"IFERROR(VLOOKUP(Tabla_SERIED_11_6[[#This Row],[IdEstablecimiento]],'[2]Establecimiento 2023'!$A$1:$E$183,5,FALSE),0)","v":"04101-La Serena"},"15080009","2023-11-21T12:59:58",9,{"$nulls":8},9]
[10,"5",2023,"105313",{"$f":"IFERROR(VLOOKUP(Tabla_SERIED_11_6[[#This Row],[IdEstablecimiento]],'[2]Establecimiento 2023'!$A$1:$E$183,3,FALSE),0)","v":"105313-Centro de Salud Familiar Dr. Emilio Schaffhauser"},{"$f":"IFERROR(VLOOKUP(Tabla_SERIED_11_6[[#This Row],[IdEstablecimiento]],'[2]Establecimiento 2023'!$A$1:$E$183,5,FALSE),0)","v":"04101-La Serena"},"15010500","2023-11-21T12:53:11",20,{"$nulls":3},4,4,6,6]
[10,"5",2023,"105313",{"$f":"IFERROR(VLOOKUP(Tabla_SERIED_11_6[[#This Row],[IdEstablecimiento]],'[2]Establecimiento 2023'!$A$1:$E$183,3,FALSE),0)","v":"105313-Centro de Salud Familiar Dr. Emilio Schaffhauser"},{"$f":"IFERROR(VLOOKUP(Tabla_SERIED_11_6[[#This Row],[IdEstablecimiento]],'[2]Establecimiento 2023'!$A$1:$E$183,5,FALSE),0)","v":"04101-La Serena"},"15050500","2023-11-21T12:53:11",4,3,1,2,null,2]
[10,"5",2023,"105313",{"$f":"IFERROR(VLOOKUP(Tabla_SERIED_11_6[[#This Row],[IdEstablecimiento]],'[2]Establecimiento 2023'!$A$1:$E$183,3,FALSE),0)","v":"105313-Centro de Salud Familiar Dr. Emilio Schaffhauser"},{"$f":"IFERROR(VLOOKUP(Tabla_SERIED_11_6[[#This Row],[IdEstablecimiento]],'[2]Establecimiento 2023'!$A$1:$E$183,5,FALSE),0)","v":"04101-La Serena"},"15901400","2023-11-21T12:53:11",7,5,4,null,null,4,2,1]
[10,"5",2023,"105313",{"$f":"IFERROR(VLOOKUP(Tabla_SERIED_11_6[[#This Row],[IdEstablecimiento]],'[2]Establecimiento 2023'!$A$1:$E$183,3,FALSE),0)","v":"105313-Centro de Salud Familiar Dr. Emilio Schaffhauser"},{"$f":"IFERROR(VLOOKUP(Tabla_SERIED_11_6[[#This Row],[IdEstablecimiento]],'[2]Establecimiento 2023'!$A$1:$E$183,5,FALSE),0)","v":"04101-La Serena"},"16100300","2023-11-21T12:53:11",1152,458,694]
[10,"5",2023,"105319",{"$f":"IFERROR(VLOOKUP(Tabla_SERIED_11_6[[#This Row],[IdEstablecimiento]],'[2]Establecimiento 2023'!$A$1:$E$183,3,FALSE),0)","v":"105319-Centro de Salud Familiar Cardenal Raúl Silva Henríquez de La Serena"},{"$f":"IFERROR(VLOOKUP(Tabla_SERIED_11_6[[#This Row],[IdEstablecimiento]],'[2]Establecimiento 2023'!$A$1:$E$183,5,FALSE),0)","v":"04101-La Serena"},"15050100","2023-11-21T12:53:30",714,321,373,10,27,67,65,94,177,124,104,null,18,15,13]
[10,"5",2023,"105319",{"$f":"IFERROR(VLOOKUP(Tabla_SERIED_11_6[[#This Row],[IdEstablecimiento]],'[2]Establecimiento 2023'!$A$1:$E$183,3,FALSE),0)","v":"105319-Centro de Salud Familiar Cardenal Raúl Silva Henríquez de La Serena"},{"$f":"IFERROR(VLOOKUP(Tabla_SERIED_11_6[[#This Row],[IdEstablecimiento]],'[2]Establecimiento 2023'!$A$1:$E$183,5,FALSE),0)","v":"04101-La Serena"},"15080019","2023-11-21T12:53:30",12,{"$nulls":5},6,6]
[10,"5",2023,"105319",{"$f":"IFERROR(VLOOKUP(Tabla_SERIED_11_6[[#This Row],[IdEstablecimiento]],'[2]Establecimiento 2023'!$A$1:$E$183,3,FALSE),0)","v":"105319-Centro de Salud Familiar Cardenal Raúl Silva Henríquez de La Serena"},{"$f":"IFERROR(VLOOKUP(Tabla_SERIED_11_6[[#This Row],[IdEstablecimiento]],'[2]Establecimiento 2023'!$A$1:$E$183,5,FALSE),0)","v":"04101-La Serena"},"16090500","2023-11-21T12:53:30",3,3]
[10,"5",2023,"105325",{"$f":"IFERROR(VLOOKUP(Tabla_SERIED_11_6[[#This Row],[IdEstablecimiento]],'[2]Establecimiento 2023'!$A$1:$E$183,3,FALSE),0)","v":"105325-Centro de Salud Familiar Juan Pablo II (La Serena)"},{"$f":"IFERROR(VLOOKUP(Tabla_SERIED_11_6[[#This Row],[IdEstablecimiento]],'[2]Establecimiento 2023'!$A$1:$E$183,5,FALSE),0)","v":"04101-La Serena"},"15080016","2023-11-21T12:53:51",32,{"$nulls":3},4,2,20,6]
[10,"5",2023,"105325",{"$f":"IFERROR(VLOOKUP(Tabla_SERIED_11_6[[#This Row],[IdEstablecimiento]],'[2]Establecimiento 2023'!$A$1:$E$183,3,FALSE),0)","v":"105325-Centro de Salud Familiar Juan Pablo II (La Serena)"},{"$f":"IFERROR(VLOOKUP(Tabla_SERIED_11_6[[#This Row],[IdEstablecimiento]],'[2]Establecimiento 2023'!$A$1:$E$183,5,FALSE),0)","v":"04101-La Serena"},"15050200","2023-11-21T12:53:51",18,8,10,0,0,2,2,1,10,3,null,0,0,0,0]
[10,"5",2023,"105325",{"$f":"IFERROR(VLOOKUP(Tabla_SERIED_11_6[[#This Row],[IdEstablecimiento]],'[2]Establecimiento 2023'!$A$1:$E$183,3,FALSE),0)","v":"105325-Centro de Salud Familiar Juan Pablo II (La Serena)"},{"$f":"IFERROR(VLOOKUP(Tabla_SERIED_11_6[[#This Row],[IdEstablecimiento]],'[2]Establecimiento 2023'!$A$1:$E$183,5,FALSE),0)","v":"04101-La Serena"},"16200210","2023-11-21T12:53:51",83,83]
[10,"5",2023,"105400",{"$f":"IFERROR(VLOOKUP(Tabla_SERIED_11_6[[#This Row],[IdEstablecimiento]],'[2]Establecimiento 2023'!$A$1:$E$183,3,FALSE),0)","v":"105400-Posta de Salud Rural Algarrobito"},{"$f":"IFERROR(VLOOKUP(Tabla_SERIED_11_6[[#This Row],[IdEstablecimiento]],'[2]Establecimiento 2023'!$A$1:$E$183,5,FALSE),0)","v":"04101-La Serena"},"15900030","2023-11-21T12:54:12",4,{"$nulls":3},4]
[10,"5",2023,"105401",{"$f":"IFERROR(VLOOKUP(Tabla_SERIED_11_6[[#This Row],[IdEstablecimiento]],'[2]Establecimiento 2023'!$A$1:$E$183,3,FALSE),0)","v":"105401-Posta de Salud Rural Las Rojas"},{"$f":"IFERROR(VLOOKUP(Tabla_SERIED_11_6[[#This Row],[IdEstablecimiento]],'[2]Establecimiento 2023'!$A$1:$E$183,5,FALSE),0)","v":"04101-La Serena"},"15900010","2023-11-21T12:54:32",11.2,null,null,11.2]
[10,"5",2023,"105401",{"$f":"IFERROR(VLOOKUP(Tabla_SERIED_11_6[[#This Row],[IdEstablecimiento]],'[2]Establecimiento 2023'!$A$1:$E$183,3,FALSE),0)","v":"105401-Posta de Salud Rural Las Rojas"},{"$f":"IFERROR(VLOOKUP(Tabla_SERIED_11_6[[#This Row],[IdEstablecimiento]],'[2]Establecimiento 2023'!$A$1:$E$183,5,FALSE),0)","v":"04101-La Serena"},"15050200","2023-11-21T12:54:32",2,1,1,{"$nulls":6},2]
[10,"5",2023,"105402",{"$f":"IFERROR(VLOOKUP(Tabla_SERIED_11_6[[#This Row],[IdEstablecimiento]],'[2]Establecimiento 2023'!$A$1:$E$183,3,FALSE),0)","v":"105402-Posta de Salud Rural El Romero"},{"$f":"IFERROR(VLOOKUP(Tabla_SERIED_11_6[[#This Row],[IdEstablecimiento]],'[2]Establecimiento 2023'!$A$1:$E$183,5,FALSE),0)","v":"04101-La Serena"},"15080008","2023-11-21T12:54:54",7,{"$nulls":7},1,null,6]
[10,"5",2023,"105499",{"$f":"IFERROR(VLOOKUP(Tabla_SERIED_11_6[[#This Row],[IdEstablecimiento]],'[2]Establecimiento 2023'!$A$1:$E$183,3,FALSE),0)","v":"105499-Posta de Salud Rural Lambert"},{"$f":"IFERROR(VLOOKUP(Tabla_SERIED_11_6[[#This Row],[IdEstablecimiento]],'[2]Establecimiento 2023'!$A$1:$E$183,5,FALSE),0)","v":"04101-La Serena"},"16090300","2023-11-21T12:55:32",14,14]
[10,"5",2023,"105700",{"$f":"IFERROR(VLOOKUP(Tabla_SERIED_11_6[[#This Row],[IdEstablecimiento]],'[2]Establecimiento 2023'!$A$1:$E$183,3,FALSE),0)","v":"105700-Centro Comunitario de Salud Familiar Villa el Indio"},{"$f":"IFERROR(VLOOKUP(Tabla_SERIED_11_6[[#This Row],[IdEstablecimiento]],'[2]Establecimiento 2023'!$A$1:$E$183,5,FALSE),0)","v":"04101-La Serena"},"15050100","2023-11-22T16:31:31",39,16,23,null,null,5,7,3,6,6,5,null,4,null,3]
[10,"5",2023,"105701",{"$f":"IFERROR(VLOOKUP(Tabla_SERIED_11_6[[#This Row],[IdEstablecimiento]],'[2]Establecimiento 2023'!$A$1:$E$183,3,FALSE),0)","v":"105701-Centro Comunitario de Salud Familiar Villa Alemania"},{"$f":"IFERROR(VLOOKUP(Tabla_SERIED_11_6[[#This Row],[IdEstablecimiento]],'[2]Establecimiento 2023'!$A$1:$E$183,5,FALSE),0)","v":"04101-La Serena"},"15900010","2023-11-21T12:57:35",8,0.8,3.2,4]
[10,"5",2023,"200402",{"$f":"IFERROR(VLOOKUP(Tabla_SERIED_11_6[[#This Row],[IdEstablecimiento]],'[2]Establecimiento 2023'!$A$1:$E$183,3,FALSE),0)","v":"200402-Centro Comunitario de Salud Familiar Arcos de Pinamar"},{"$f":"IFERROR(VLOOKUP(Tabla_SERIED_11_6[[#This Row],[IdEstablecimiento]],'[2]Establecimiento 2023'!$A$1:$E$183,5,FALSE),0)","v":"04101-La Serena"},"15080015","2023-11-21T12:58:28",63,{"$nulls":5},46,17]
[10,"5",2023,"105702",{"$f":"IFERROR(VLOOKUP(Tabla_SERIED_11_6[[#This Row],[IdEstablecimiento]],'[2]Establecimiento 2023'!$A$1:$E$183,3,FALSE),0)","v":"105702-Centro Comunitario de Salud Familiar Lambert"},{"$f":"IFERROR(VLOOKUP(Tabla_SERIED_11_6[[#This Row],[IdEstablecimiento]],'[2]Establecimiento 2023'!$A$1:$E$183,5,FALSE),0)","v":"04101-La Serena"},"15900010","2023-11-22T16:31:57",8,0,1.6,6.4]
[10,"5",2023,"200402",{"$f":"IFERROR(VLOOKUP(Tabla_SERIED_11_6[[#This Row],[IdEstablecimiento]],'[2]Establecimiento 2023'!$A$1:$E$183,3,FALSE),0)","v":"200402-Centro Comunitario de Salud Familiar Arcos de Pinamar"},{"$f":"IFERROR(VLOOKUP(Tabla_SERIED_11_6[[#This Row],[IdEstablecimiento]],'[2]Establecimiento 2023'!$A$1:$E$183,5,FALSE),0)","v":"04101-La Serena"},"15901200","2023-11-21T12:58:28",6.4,null,null,6.4]
[10,"5",2023,"200402",{"$f":"IFERROR(VLOOKUP(Tabla_SERIED_11_6[[#This Row],[IdEstablecimiento]],'[2]Establecimiento 2023'!$A$1:$E$183,3,FALSE),0)","v":"200402-Centro Comunitario de Salud Familiar Arcos de Pinamar"},{"$f":"IFERROR(VLOOKUP(Tabla_SERIED_11_6[[#This Row],[IdEstablecimiento]],'[2]Establecimiento 2023'!$A$1:$E$183,5,FALSE),0)","v":"04101-La Serena"},"15901400","2023-11-21T12:58:28",3,2,1,1,null,2]
[10,"5",2023,"105302",{"$f":"IFERROR(VLOOKUP(Tabla_SERIED_11_6[[#This Row],[IdEstablecimiento]],'[2]Establecimiento 2023'!$A$1:$E$183,3,FALSE),0)","v":"105302-Centro de Salud Familiar Pedro Aguirre Cerda"},{"$f":"IFERROR(VLOOKUP(Tabla_SERIED_11_6[[#This Row],[IdEstablecimiento]],'[2]Establecimiento 2023'!$A$1:$E$183,5,FALSE),0)","v":"04101-La Serena"},"15050500","2023-11-21T12:59:58",1,null,1,null,null,1]
[10,"5",2023,"105302",{"$f":"IFERROR(VLOOKUP(Tabla_SERIED_11_6[[#This Row],[IdEstablecimiento]],'[2]Establecimiento 2023'!$A$1:$E$183,3,FALSE),0)","v":"105302-Centro de Salud Familiar Pedro Aguirre Cerda"},{"$f":"IFERROR(VLOOKUP(Tabla_SERIED_11_6[[#This Row],[IdEstablecimiento]],'[2]Establecimiento 2023'!$A$1:$E$183,5,FALSE),0)","v":"04101-La Serena"},"16200210","2023-11-21T12:59:58",88,88]
[10,"5",2023,"105303",{"$f":"IFERROR(VLOOKUP(Tabla_SERIED_11_6[[#This Row],[IdEstablecimiento]],'[2]Establecimiento 2023'!$A$1:$E$183,3,FALSE),0)","v":"105303-Centro de Salud Familiar San Juan"},{"$f":"IFERROR(VLOOKUP(Tabla_SERIED_11_6[[#This Row],[IdEstablecimiento]],'[2]Establecimiento 2023'!$A$1:$E$183,5,FALSE),0)","v":"04102-Coquimbo"},"15080008","2023-11-21T13:04:13",148,{"$nulls":7},89,null,16,34,9]
[10,"5",2023,"105304",{"$f":"IFERROR(VLOOKUP(Tabla_SERIED_11_6[[#This Row],[IdEstablecimiento]],'[2]Establecimiento 2023'!$A$1:$E$183,3,FALSE),0)","v":"105304-Centro de Salud Familiar Santa Cecilia"},{"$f":"IFERROR(VLOOKUP(Tabla_SERIED_11_6[[#This Row],[IdEstablecimiento]],'[2]Establecimiento 2023'!$A$1:$E$183,5,FALSE),0)","v":"04102-Coquimbo"},"15080008","2023-11-21T13:04:29",161,{"$nulls":7},88,null,36,10,27]
[10,"5",2023,"105304",{"$f":"IFERROR(VLOOKUP(Tabla_SERIED_11_6[[#This Row],[IdEstablecimiento]],'[2]Establecimiento 2023'!$A$1:$E$183,3,FALSE),0)","v":"105304-Centro de Salud Familiar Santa Cecilia"},{"$f":"IFERROR(VLOOKUP(Tabla_SERIED_11_6[[#This Row],[IdEstablecimiento]],'[2]Establecimiento 2023'!$A$1:$E$183,5,FALSE),0)","v":"04102-Coquimbo"},"15900020","2023-11-21T13:04:29",19.9,0,4.8,15.1]
[10,"5",2023,"105304",{"$f":"IFERROR(VLOOKUP(Tabla_SERIED_11_6[[#This Row],[IdEstablecimiento]],'[2]Establecimiento 2023'!$A$1:$E$183,3,FALSE),0)","v":"105304-Centro de Salud Familiar Santa Cecilia"},{"$f":"IFERROR(VLOOKUP(Tabla_SERIED_11_6[[#This Row],[IdEstablecimiento]],'[2]Establecimiento 2023'!$A$1:$E$183,5,FALSE),0)","v":"04102-Coquimbo"},"16200100","2023-11-21T13:04:29",47,22,25]
[10,"5",2023,"105305",{"$f":"IFERROR(VLOOKUP(Tabla_SERIED_11_6[[#This Row],[IdEstablecimiento]],'[2]Establecimiento 2023'!$A$1:$E$183,3,FALSE),0)","v":"105305-Centro de Salud Familiar Tierras Blancas"},{"$f":"IFERROR(VLOOKUP(Tabla_SERIED_11_6[[#This Row],[IdEstablecimiento]],'[2]Establecimiento 2023'!$A$1:$E$183,5,FALSE),0)","v":"04102-Coquimbo"},"15900030","2023-11-21T13:04:44",29.6,null,6,16.4,7.2]
[10,"5",2023,"105305",{"$f":"IFERROR(VLOOKUP(Tabla_SERIED_11_6[[#This Row],[IdEstablecimiento]],'[2]Establecimiento 2023'!$A$1:$E$183,3,FALSE),0)","v":"105305-Centro de Salud Familiar Tierras Blancas"},{"$f":"IFERROR(VLOOKUP(Tabla_SERIED_11_6[[#This Row],[IdEstablecimiento]],'[2]Establecimiento 2023'!$A$1:$E$183,5,FALSE),0)","v":"04102-Coquimbo"},"16090300","2023-11-21T13:04:44",892,892]
[10,"5",2023,"105321",{"$f":"IFERROR(VLOOKUP(Tabla_SERIED_11_6[[#This Row],[IdEstablecimiento]],'[2]Establecimiento 2023'!$A$1:$E$183,3,FALSE),0)","v":"105321-Centro de Salud Familiar Tongoy"},{"$f":"IFERROR(VLOOKUP(Tabla_SERIED_11_6[[#This Row],[IdEstablecimiento]],'[2]Establecimiento 2023'!$A$1:$E$183,5,FALSE),0)","v":"04102-Coquimbo"},"15080015","2023-11-21T13:06:58",154,{"$nulls":5},94,60]
[10,"5",2023,"105321",{"$f":"IFERROR(VLOOKUP(Tabla_SERIED_11_6[[#This Row],[IdEstablecimiento]],'[2]Establecimiento 2023'!$A$1:$E$183,3,FALSE),0)","v":"105321-Centro de Salud Familiar Tongoy"},{"$f":"IFERROR(VLOOKUP(Tabla_SERIED_11_6[[#This Row],[IdEstablecimiento]],'[2]Establecimiento 2023'!$A$1:$E$183,5,FALSE),0)","v":"04102-Coquimbo"},"15080016","2023-11-21T13:06:58",2,{"$nulls":3},0,0,2]
[10,"5",2023,"105321",{"$f":"IFERROR(VLOOKUP(Tabla_SERIED_11_6[[#This Row],[IdEstablecimiento]],'[2]Establecimiento 2023'!$A$1:$E$183,3,FALSE),0)","v":"105321-Centro de Salud Familiar Tongoy"},{"$f":"IFERROR(VLOOKUP(Tabla_SERIED_11_6[[#This Row],[IdEstablecimiento]],'[2]Establecimiento 2023'!$A$1:$E$183,5,FALSE),0)","v":"04102-Coquimbo"},"16090300","2023-11-21T13:06:58",180,180]
[10,"5",2023,"105323",{"$f":"IFERROR(VLOOKUP(Tabla_SERIED_11_6[[#This Row],[IdEstablecimiento]],'[2]Establecimiento 2023'!$A$1:$E$183,3,FALSE),0)","v":"105323-Centro de Salud Familiar Dr. Sergio Aguilar Delgado"},{"$f":"IFERROR(VLOOKUP(Tabla_SERIED_11_6[[#This Row],[IdEstablecimiento]],'[2]Establecimiento 2023'!$A$1:$E$183,5,FALSE),0)","v":"04102-Coquimbo"},"15080009","2023-11-21T13:07:20",3,{"$nulls":8},3]
[10,"5",2023,"105323",{"$f":"IFERROR(VLOOKUP(Tabla_SERIED_11_6[[#This Row],[IdEstablecimiento]],'[2]Establecimiento 2023'!$A$1:$E$183,3,FALSE),0)","v":"105323-Centro de Salud Familiar Dr. Sergio Aguilar Delgado"},{"$f":"IFERROR(VLOOKUP(Tabla_SERIED_11_6[[#This Row],[IdEstablecimiento]],'[2]Establecimiento 2023'!$A$1:$E$183,5,FALSE),0)","v":"04102-Coquimbo"},"15900050","2023-11-21T13:07:20",8,6,1,null,null,3,3,1,1]
[10,"5",2023,"105323",{"$f":"IFERROR(VLOOKUP(Tabla_SERIED_11_6[[#This Row],[IdEstablecimiento]],'[2]Establecimiento 2023'!$A$1:$E$183,3,FALSE),0)","v":"105323-Centro de Salud Familiar Dr. Sergio Aguilar Delgado"},{"$f":"IFERROR(VLOOKUP(Tabla_SERIED_11_6[[#This Row],[IdEstablecimiento]],'[2]Establecimiento 2023'!$A$1:$E$183,5,FALSE),0)","v":"04102-Coquimbo"},"15060600","2023-11-21T13:07:20",1,null,1,null,1]
[10,"5",2023,"105405",{"$f":"IFERROR(VLOOKUP(Tabla_SERIED_11_6[[#This Row],[IdEstablecimiento]],'[2]Establecimiento 2023'!$A$1:$E$183,3,FALSE),0)","v":"105405-Posta de Salud Rural Guanaqueros"},{"$f":"IFERROR(VLOOKUP(Tabla_SERIED_11_6[[#This Row],[IdEstablecimiento]],'[2]Establecimiento 2023'!$A$1:$E$183,5,FALSE),0)","v":"04102-Coquimbo"},"15080014","2023-11-21T13:07:39",40,{"$nulls":3},20,20]
[10,"5",2023,"105405",{"$f":"IFERROR(VLOOKUP(Tabla_SERIED_11_6[[#This Row],[IdEstablecimiento]],'[2]Establecimiento 2023'!$A$1:$E$183,3,FALSE),0)","v":"105405-Posta de Salud Rural Guanaqueros"},{"$f":"IFERROR(VLOOKUP(Tabla_SERIED_11_6[[#This Row],[IdEstablecimiento]],'[2]Establecimiento 2023'!$A$1:$E$183,5,FALSE),0)","v":"04102-Coquimbo"},"16090300","2023-11-21T13:07:39",78,78]
[10,"5",2023,"105405",{"$f":"IFERROR(VLOOKUP(Tabla_SERIED_11_6[[#This Row],[IdEstablecimiento]],'[2]Establecimiento 2023'!$A$1:$E$183,3,FALSE),0)","v":"105405-Posta de Salud Rural Guanaqueros"},{"$f":"IFERROR(VLOOKUP(Tabla_SERIED_11_6[[#This Row],[IdEstablecimiento]],'[2]Establecimiento 2023'!$A$1:$E$183,5,FALSE),0)","v":"04102-Coquimbo"},"16200210","2023-11-21T13:07:39",2,2]
[10,"5",2023,"200273",{"$f":"IFERROR(VLOOKUP(Tabla_SERIED_11_6[[#This Row],[IdEstablecimiento]],'[2]Establecimiento 2023'!$A$1:$E$183,3,FALSE),0)","v":"200273-Centro Comunitario de Salud Familiar Punta Mira"},{"$f":"IFERROR(VLOOKUP(Tabla_SERIED_11_6[[#This Row],[IdEstablecimiento]],'[2]Establecimiento 2023'!$A$1:$E$183,5,FALSE),0)","v":"04102-Coquimbo"},"15080014","2023-11-21T13:08:27",22,{"$nulls":3},12,10,0,0,0,0,0,0,0]
[10,"5",2023,"200273",{"$f":"IFERROR(VLOOKUP(Tabla_SERIED_11_6[[#This Row],[IdEstablecimiento]],'[2]Establecimiento 2023'!$A$1:$E$183,3,FALSE),0)","v":"200273-Centro Comunitario de Salud Familiar Punta Mira"},{"$f":"IFERROR(VLOOKUP(Tabla_SERIED_11_6[[#This Row],[IdEstablecimiento]],'[2]Establecimiento 2023'!$A$1:$E$183,5,FALSE),0)","v":"04102-Coquimbo"},"15080016","2023-11-21T13:08:27",4,{"$nulls":3},0,0,2,2,0,0,0,0,0]
[10,"5",2023,"200273",{"$f":"IFERROR(VLOOKUP(Tabla_SERIED_11_6[[#This Row],[IdEstablecimiento]],'[2]Establecimiento 2023'!$A$1:$E$183,3,FALSE),0)","v":"200273-Centro Comunitario de Salud Familiar Punta Mira"},{"$f":"IFERROR(VLOOKUP(Tabla_SERIED_11_6[[#This Row],[IdEstablecimiento]],'[2]Establecimiento 2023'!$A$1:$E$183,5,FALSE),0)","v":"04102-Coquimbo"},"16200210","2023-11-21T13:08:27",2,2]
[10,"5",2023,"200494",{"$f":"IFERROR(VLOOKUP(Tabla_SERIED_11_6[[#This Row],[IdEstablecimiento]],'[2]Establecimiento 2023'!$A$1:$E$183,3,FALSE),0)","v":"200494-Centro de Salud Familiar El Sauce"},{"$f":"IFERROR(VLOOKUP(Tabla_SERIED_11_6[[#This Row],[IdEstablecimiento]],'[2]Establecimiento 2023'!$A$1:$E$183,5,FALSE),0)","v":"04102-Coquimbo"},"15080016","2023-11-21T13:08:43",32,{"$nulls":3},12,6,8,6]
[10,"5",2023,"200494",{"$f":"IFERROR(VLOOKUP(Tabla_SERIED_11_6[[#This Row],[IdEstablecimiento]],'[2]Establecimiento 2023'!$A$1:$E$183,3,FALSE),0)","v":"200494-Centro de Salud Familiar El Sauce"},{"$f":"IFERROR(VLOOKUP(Tabla_SERIED_11_6[[#This Row],[IdEstablecimiento]],'[2]Establecimiento 2023'!$A$1:$E$183,5,FALSE),0)","v":"04102-Coquimbo"},"15050100","2023-11-21T13:08:43",652,247,405,8,23,44,83,84,161,91,69,null,43,15,31]
[10,"5",2023,"200494",{"$f":"IFERROR(VLOOKUP(Tabla_SERIED_11_6[[#This Row],[IdEstablecimiento]],'[2]Establecimiento 2023'!$A$1:$E$183,3,FALSE),0)","v":"200494-Centro de Salud Familiar El Sauce"},{"$f":"IFERROR(VLOOKUP(Tabla_SERIED_11_6[[#This Row],[IdEstablecimiento]],'[2]Establecimiento 2023'!$A$1:$E$183,5,FALSE),0)","v":"04102-Coquimbo"},"16100300","2023-11-21T13:08:43",383,151,232]
[10,"5",2023,"200499",{"$f":"IFERROR(VLOOKUP(Tabla_SERIED_11_6[[#This Row],[IdEstablecimiento]],'[2]Establecimiento 2023'!$A$1:$E$183,3,FALSE),0)","v":"200499-Centro de Salud Familiar Rural Pan de Azúcar"},{"$f":"IFERROR(VLOOKUP(Tabla_SERIED_11_6[[#This Row],[IdEstablecimiento]],'[2]Establecimiento 2023'!$A$1:$E$183,5,FALSE),0)","v":"04102-Coquimbo"},"15010500","2023-11-21T13:09:00",14,null,0,8,0,0,2,4]
[10,"5",2023,"200499",{"$f":"IFERROR(VLOOKUP(Tabla_SERIED_11_6[[#This Row],[IdEstablecimiento]],'[2]Establecimiento 2023'!$A$1:$E$183,3,FALSE),0)","v":"200499-Centro de Salud Familiar Rural Pan de Azúcar"},{"$f":"IFERROR(VLOOKUP(Tabla_SERIED_11_6[[#This Row],[IdEstablecimiento]],'[2]Establecimiento 2023'!$A$1:$E$183,5,FALSE),0)","v":"04102-Coquimbo"},"15050100","2023-11-21T13:09:00",382,184,198,5,20,39,52,45,92,62,39,null,10,10,8]
[10,"5",2023,"200499",{"$f":"IFERROR(VLOOKUP(Tabla_SERIED_11_6[[#This Row],[IdEstablecimiento]],'[2]Establecimiento 2023'!$A$1:$E$183,3,FALSE),0)","v":"200499-Centro de Salud Familiar Rural Pan de Azúcar"},{"$f":"IFERROR(VLOOKUP(Tabla_SERIED_11_6[[#This Row],[IdEstablecimiento]],'[2]Establecimiento 2023'!$A$1:$E$183,5,FALSE),0)","v":"04102-Coquimbo"},"16100300","2023-11-21T13:09:00",439,206,233]
[10,"5",2023,"105310",{"$f":"IFERROR(VLOOKUP(Tabla_SERIED_11_6[[#This Row],[IdEstablecimiento]],'[2]Establecimiento 2023'!$A$1:$E$183,3,FALSE),0)","v":"105310-Centro de Salud Familiar Pichasca"},{"$f":"IFERROR(VLOOKUP(Tabla_SERIED_11_6[[#This Row],[IdEstablecimiento]],'[2]Establecimiento 2023'!$A$1:$E$183,5,FALSE),0)","v":"04305-Rio Hurtado"},"15050100","2023-11-21T14:43:35",40,21,19,null,null,1,4,4,6,17,3,null,4,null,1]
[10,"5",2023,"105409",{"$f":"IFERROR(VLOOKUP(Tabla_SERIED_11_6[[#This Row],[IdEstablecimiento]],'[2]Establecimiento 2023'!$A$1:$E$183,3,FALSE),0)","v":"105409-Posta de Salud Rural El Chañar"},{"$f":"IFERROR(VLOOKUP(Tabla_SERIED_11_6[[#This Row],[IdEstablecimiento]],'[2]Establecimiento 2023'!$A$1:$E$183,5,FALSE),0)","v":"04305-Rio Hurtado"},"15080015","2023-11-21T14:43:53",4,{"$nulls":5},4]
[10,"5",2023,"105410",{"$f":"IFERROR(VLOOKUP(Tabla_SERIED_11_6[[#This Row],[IdEstablecimiento]],'[2]Establecimiento 2023'!$A$1:$E$183,3,FALSE),0)","v":"105410-Posta de Salud Rural Hurtado"},{"$f":"IFERROR(VLOOKUP(Tabla_SERIED_11_6[[#This Row],[IdEstablecimiento]],'[2]Establecimiento 2023'!$A$1:$E$183,5,FALSE),0)","v":"04305-Rio Hurtado"},"15080008","2023-11-21T14:44:09",1,{"$nulls":7},1]
[10,"5",2023,"105411",{"$f":"IFERROR(VLOOKUP(Tabla_SERIED_11_6[[#This Row],[IdEstablecimiento]],'[2]Establecimiento 2023'!$A$1:$E$183,3,FALSE),0)","v":"105411-Posta de Salud Rural Las Breas (Río Hurtado)"},{"$f":"IFERROR(VLOOKUP(Tabla_SERIED_11_6[[#This Row],[IdEstablecimiento]],'[2]Establecimiento 2023'!$A$1:$E$183,5,FALSE),0)","v":"04305-Rio Hurtado"},"15010200","2023-11-21T14:44:25",10,{"$nulls":5},4,6]
[10,"5",2023,"105411",{"$f":"IFERROR(VLOOKUP(Tabla_SERIED_11_6[[#This Row],[IdEstablecimiento]],'[2]Establecimiento 2023'!$A$1:$E$183,3,FALSE),0)","v":"105411-Posta de Salud Rural Las Breas (Río Hurtado)"},{"$f":"IFERROR(VLOOKUP(Tabla_SERIED_11_6[[#This Row],[IdEstablecimiento]],'[2]Establecimiento 2023'!$A$1:$E$183,5,FALSE),0)","v":"04305-Rio Hurtado"},"16090300","2023-11-21T14:44:25",24,24]
[10,"5",2023,"105414",{"$f":"IFERROR(VLOOKUP(Tabla_SERIED_11_6[[#This Row],[IdEstablecimiento]],'[2]Establecimiento 2023'!$A$1:$E$183,3,FALSE),0)","v":"105414-Posta de Salud Rural Serón"},{"$f":"IFERROR(VLOOKUP(Tabla_SERIED_11_6[[#This Row],[IdEstablecimiento]],'[2]Establecimiento 2023'!$A$1:$E$183,5,FALSE),0)","v":"04305-Rio Hurtado"},"15080014","2023-11-21T14:44:54",8,{"$nulls":3},4,4]
[10,"5",2023,"105414",{"$f":"IFERROR(VLOOKUP(Tabla_SERIED_11_6[[#This Row],[IdEstablecimiento]],'[2]Establecimiento 2023'!$A$1:$E$183,3,FALSE),0)","v":"105414-Posta de Salud Rural Serón"},{"$f":"IFERROR(VLOOKUP(Tabla_SERIED_11_6[[#This Row],[IdEstablecimiento]],'[2]Establecimiento 2023'!$A$1:$E$183,5,FALSE),0)","v":"04305-Rio Hurtado"},"15900020","2023-11-21T14:44:54",3.2,null,null,3.2]
[10,"5",2023,"105414",{"$f":"IFERROR(VLOOKUP(Tabla_SERIED_11_6[[#This Row],[IdEstablecimiento]],'[2]Establecimiento 2023'!$A$1:$E$183,3,FALSE),0)","v":"105414-Posta de Salud Rural Serón"},{"$f":"IFERROR(VLOOKUP(Tabla_SERIED_11_6[[#This Row],[IdEstablecimiento]],'[2]Establecimiento 2023'!$A$1:$E$183,5,FALSE),0)","v":"04305-Rio Hurtado"},"16100300","2023-11-21T14:44:54",21,9,12]
[10,"5",2023,"105503",{"$f":"IFERROR(VLOOKUP(Tabla_SERIED_11_6[[#This Row],[IdEstablecimiento]],'[2]Establecimiento 2023'!$A$1:$E$183,3,FALSE),0)","v":"105503-Posta de Salud Rural Tabaqueros"},{"$f":"IFERROR(VLOOKUP(Tabla_SERIED_11_6[[#This Row],[IdEstablecimiento]],'[2]Establecimiento 2023'!$A$1:$E$183,5,FALSE),0)","v":"04305-Rio Hurtado"},"15050200","2023-11-21T14:45:44",2,2,{"$nulls":4},1,null,null,1]
[10,"5",2023,"105467",{"$f":"IFERROR(VLOOKUP(Tabla_SERIED_11_6[[#This Row],[IdEstablecimiento]],'[2]Establecimiento 2023'!$A$1:$E$183,3,FALSE),0)","v":"105467-Posta de Salud Rural Diaguitas"},{"$f":"IFERROR(VLOOKUP(Tabla_SERIED_11_6[[#This Row],[IdEstablecimiento]],'[2]Establecimiento 2023'!$A$1:$E$183,5,FALSE),0)","v":"04106-Vicuña"},"15080016","2023-11-22T12:55:52",2,{"$nulls":3},2]
[10,"5",2023,"105467",{"$f":"IFERROR(VLOOKUP(Tabla_SERIED_11_6[[#This Row],[IdEstablecimiento]],'[2]Establecimiento 2023'!$A$1:$E$183,3,FALSE),0)","v":"105467-Posta de Salud Rural Diaguitas"},{"$f":"IFERROR(VLOOKUP(Tabla_SERIED_11_6[[#This Row],[IdEstablecimiento]],'[2]Establecimiento 2023'!$A$1:$E$183,5,FALSE),0)","v":"04106-Vicuña"},"16200220","2023-11-22T12:55:52",2,1,1]
[10,"5",2023,"105469",{"$f":"IFERROR(VLOOKUP(Tabla_SERIED_11_6[[#This Row],[IdEstablecimiento]],'[2]Establecimiento 2023'!$A$1:$E$183,3,FALSE),0)","v":"105469-Posta de Salud Rural El Tambo (Vicuña)"},{"$f":"IFERROR(VLOOKUP(Tabla_SERIED_11_6[[#This Row],[IdEstablecimiento]],'[2]Establecimiento 2023'!$A$1:$E$183,5,FALSE),0)","v":"04106-Vicuña"},"15050100","2023-11-22T12:56:50",31,17,14,null,1,2,6,1,8,7,4,null,1,1]
[10,"5",2023,"105472",{"$f":"IFERROR(VLOOKUP(Tabla_SERIED_11_6[[#This Row],[IdEstablecimiento]],'[2]Establecimiento 2023'!$A$1:$E$183,3,FALSE),0)","v":"105472-Posta de Salud Rural Rivadavia"},{"$f":"IFERROR(VLOOKUP(Tabla_SERIED_11_6[[#This Row],[IdEstablecimiento]],'[2]Establecimiento 2023'!$A$1:$E$183,5,FALSE),0)","v":"04106-Vicuña"},"16090300","2023-11-22T12:56:32",65,65]
[10,"5",2023,"105472",{"$f":"IFERROR(VLOOKUP(Tabla_SERIED_11_6[[#This Row],[IdEstablecimiento]],'[2]Establecimiento 2023'!$A$1:$E$183,3,FALSE),0)","v":"105472-Posta de Salud Rural Rivadavia"},{"$f":"IFERROR(VLOOKUP(Tabla_SERIED_11_6[[#This Row],[IdEstablecimiento]],'[2]Establecimiento 2023'!$A$1:$E$183,5,FALSE),0)","v":"04106-Vicuña"},"16100600","2023-11-22T12:56:32",3,1,2]
[10,"5",2023,"105474",{"$f":"IFERROR(VLOOKUP(Tabla_SERIED_11_6[[#This Row],[IdEstablecimiento]],'[2]Establecimiento 2023'!$A$1:$E$183,3,FALSE),0)","v":"105474-Posta de Salud Rural Chapilca"},{"$f":"IFERROR(VLOOKUP(Tabla_SERIED_11_6[[#This Row],[IdEstablecimiento]],'[2]Establecimiento 2023'!$A$1:$E$183,5,FALSE),0)","v":"04106-Vicuña"},"15900010","2023-11-22T12:57:33",0.9,null,null,0.9]
[10,"5",2023,"200538",{"$f":"IFERROR(VLOOKUP(Tabla_SERIED_11_6[[#This Row],[IdEstablecimiento]],'[2]Establecimiento 2023'!$A$1:$E$183,3,FALSE),0)","v":"200538-Centro de Salud Familiar San Isidro Calingasta"},{"$f":"IFERROR(VLOOKUP(Tabla_SERIED_11_6[[#This Row],[IdEstablecimiento]],'[2]Establecimiento 2023'!$A$1:$E$183,5,FALSE),0)","v":"04106-Vicuña"},"15080016","2023-11-22T12:58:00",8,{"$nulls":3},2,null,6]
[10,"5",2023,"200538",{"$f":"IFERROR(VLOOKUP(Tabla_SERIED_11_6[[#This Row],[IdEstablecimiento]],'[2]Establecimiento 2023'!$A$1:$E$183,3,FALSE),0)","v":"200538-Centro de Salud Familiar San Isidro Calingasta"},{"$f":"IFERROR(VLOOKUP(Tabla_SERIED_11_6[[#This Row],[IdEstablecimiento]],'[2]Establecimiento 2023'!$A$1:$E$183,5,FALSE),0)","v":"04106-Vicuña"},"16090300","2023-11-22T12:58:00",140,140]
[10,"5",2023,"105308",{"$f":"IFERROR(VLOOKUP(Tabla_SERIED_11_6[[#This Row],[IdEstablecimiento]],'[2]Establecimiento 2023'!$A$1:$E$183,3,FALSE),0)","v":"105308-Centro de Salud Familiar Punitaqui"},{"$f":"IFERROR(VLOOKUP(Tabla_SERIED_11_6[[#This Row],[IdEstablecimiento]],'[2]Establecimiento 2023'!$A$1:$E$183,5,FALSE),0)","v":"04304-Punitaqui"},"15080015","2023-11-22T12:59:38",228,{"$nulls":5},118,110]
[10,"5",2023,"105308",{"$f":"IFERROR(VLOOKUP(Tabla_SERIED_11_6[[#This Row],[IdEstablecimiento]],'[2]Establecimiento 2023'!$A$1:$E$183,3,FALSE),0)","v":"105308-Centro de Salud Familiar Punitaqui"},{"$f":"IFERROR(VLOOKUP(Tabla_SERIED_11_6[[#This Row],[IdEstablecimiento]],'[2]Establecimiento 2023'!$A$1:$E$183,5,FALSE),0)","v":"04304-Punitaqui"},"15050200","2023-11-22T12:59:38",5,3,2,{"$nulls":5},1,2,null,2]
[10,"5",2023,"105308",{"$f":"IFERROR(VLOOKUP(Tabla_SERIED_11_6[[#This Row],[IdEstablecimiento]],'[2]Establecimiento 2023'!$A$1:$E$183,3,FALSE),0)","v":"105308-Centro de Salud Familiar Punitaqui"},{"$f":"IFERROR(VLOOKUP(Tabla_SERIED_11_6[[#This Row],[IdEstablecimiento]],'[2]Establecimiento 2023'!$A$1:$E$183,5,FALSE),0)","v":"04304-Punitaqui"},"16200210","2023-11-22T12:59:38",2,2]
[10,"5",2023,"105306",{"$f":"IFERROR(VLOOKUP(Tabla_SERIED_11_6[[#This Row],[IdEstablecimiento]],'[2]Establecimiento 2023'!$A$1:$E$183,3,FALSE),0)","v":"105306-Centro de Salud Familiar Paihuano"},{"$f":"IFERROR(VLOOKUP(Tabla_SERIED_11_6[[#This Row],[IdEstablecimiento]],'[2]Establecimiento 2023'!$A$1:$E$183,5,FALSE),0)","v":"04105-Paihuano"},"15900050","2023-11-22T13:04:55",2,1,1,0,0,1,1,0,0,0]
[10,"5",2023,"105475",{"$f":"IFERROR(VLOOKUP(Tabla_SERIED_11_6[[#This Row],[IdEstablecimiento]],'[2]Establecimiento 2023'!$A$1:$E$183,3,FALSE),0)","v":"105475-Posta de Salud Rural Horcón (Paiguano)"},{"$f":"IFERROR(VLOOKUP(Tabla_SERIED_11_6[[#This Row],[IdEstablecimiento]],'[2]Establecimiento 2023'!$A$1:$E$183,5,FALSE),0)","v":"04105-Paihuano"},"15010500","2023-11-22T13:06:16",2,{"$nulls":3},2]
[10,"5",2023,"105475",{"$f":"IFERROR(VLOOKUP(Tabla_SERIED_11_6[[#This Row],[IdEstablecimiento]],'[2]Establecimiento 2023'!$A$1:$E$183,3,FALSE),0)","v":"105475-Posta de Salud Rural Horcón (Paiguano)"},{"$f":"IFERROR(VLOOKUP(Tabla_SERIED_11_6[[#This Row],[IdEstablecimiento]],'[2]Establecimiento 2023'!$A$1:$E$183,5,FALSE),0)","v":"04105-Paihuano"},"15050100","2023-11-22T13:06:16",12,6,6,{"$nulls":3},1,3,2,4,1,null,1]
[9,"5",2023,"105476",{"$f":"IFERROR(VLOOKUP(Tabla_SERIED_11_6[[#This Row],[IdEstablecimiento]],'[2]Establecimiento 2023'!$A$1:$E$183,3,FALSE),0)","v":"105476-Posta de Salud Rural Monte Grande"},{"$f":"IFERROR(VLOOKUP(Tabla_SERIED_11_6[[#This Row],[IdEstablecimiento]],'[2]Establecimiento 2023'!$A$1:$E$183,5,FALSE),0)","v":"04105-Paihuano"},"16100300","2023-11-22T13:06:48",14,6,8]
[10,"5",2023,"105478",{"$f":"IFERROR(VLOOKUP(Tabla_SERIED_11_6[[#This Row],[IdEstablecimiento]],'[2]Establecimiento 2023'!$A$1:$E$183,3,FALSE),0)","v":"105478-Posta de Salud Rural Caimanes"},{"$f":"IFERROR(VLOOKUP(Tabla_SERIED_11_6[[#This Row],[IdEstablecimiento]],'[2]Establecimiento 2023'!$A$1:$E$183,5,FALSE),0)","v":"04203-Los Vilos"},"15080014","2023-11-22T13:11:27",12,{"$nulls":3},8,4]
[10,"5",2023,"105478",{"$f":"IFERROR(VLOOKUP(Tabla_SERIED_11_6[[#This Row],[IdEstablecimiento]],'[2]Establecimiento 2023'!$A$1:$E$183,3,FALSE),0)","v":"105478-Posta de Salud Rural Caimanes"},{"$f":"IFERROR(VLOOKUP(Tabla_SERIED_11_6[[#This Row],[IdEstablecimiento]],'[2]Establecimiento 2023'!$A$1:$E$183,5,FALSE),0)","v":"04203-Los Vilos"},"15080016","2023-11-22T13:11:27",4,{"$nulls":5},2,2]
[10,"5",2023,"105478",{"$f":"IFERROR(VLOOKUP(Tabla_SERIED_11_6[[#This Row],[IdEstablecimiento]],'[2]Establecimiento 2023'!$A$1:$E$183,3,FALSE),0)","v":"105478-Posta de Salud Rural Caimanes"},{"$f":"IFERROR(VLOOKUP(Tabla_SERIED_11_6[[#This Row],[IdEstablecimiento]],'[2]Establecimiento 2023'!$A$1:$E$183,5,FALSE),0)","v":"04203-Los Vilos"},"16090300","2023-11-22T13:11:27",36,36]
[10,"5",2023,"105479",{"$f":"IFERROR(VLOOKUP(Tabla_SERIED_11_6[[#This Row],[IdEstablecimiento]],'[2]Establecimiento 2023'!$A$1:$E$183,3,FALSE),0)","v":"105479-Posta de Salud Rural Guangualí"},{"$f":"IFERROR(VLOOKUP(Tabla_SERIED_11_6[[#This Row],[IdEstablecimiento]],'[2]Establecimiento 2023'!$A$1:$E$183,5,FALSE),0)","v":"04203-Los Vilos"},"16100300","2023-11-22T13:11:50",79,33,46]
[10,"5",2023,"105480",{"$f":"IFERROR(VLOOKUP(Tabla_SERIED_11_6[[#This Row],[IdEstablecimiento]],'[2]Establecimiento 2023'!$A$1:$E$183,3,FALSE),0)","v":"105480-Posta de Salud Rural Quilimarí"},{"$f":"IFERROR(VLOOKUP(Tabla_SERIED_11_6[[#This Row],[IdEstablecimiento]],'[2]Establecimiento 2023'!$A$1:$E$183,5,FALSE),0)","v":"04203-Los Vilos"},"15080015","2023-11-22T13:12:05",54,{"$nulls":5},28,26]
[10,"5",2023,"105481",{"$f":"IFERROR(VLOOKUP(Tabla_SERIED_11_6[[#This Row],[IdEstablecimiento]],'[2]Establecimiento 2023'!$A$1:$E$183,3,FALSE),0)","v":"105481-Posta de Salud Rural Tilama"},{"$f":"IFERROR(VLOOKUP(Tabla_SERIED_11_6[[#This Row],[IdEstablecimiento]],'[2]Establecimiento 2023'!$A$1:$E$183,5,FALSE),0)","v":"04203-Los Vilos"},"15080008","2023-11-22T13:12:20",2,{"$nulls":10},1,1]
[10,"5",2023,"105511",{"$f":"IFERROR(VLOOKUP(Tabla_SERIED_11_6[[#This Row],[IdEstablecimiento]],'[2]Establecimiento 2023'!$A$1:$E$183,3,FALSE),0)","v":"105511-Posta de Salud Rural Los Cóndores"},{"$f":"IFERROR(VLOOKUP(Tabla_SERIED_11_6[[#This Row],[IdEstablecimiento]],'[2]Establecimiento 2023'!$A$1:$E$183,5,FALSE),0)","v":"04203-Los Vilos"},"15080014","2023-11-22T13:18:53",26,{"$nulls":3},20,6]
[10,"5",2023,"105511",{"$f":"IFERROR(VLOOKUP(Tabla_SERIED_11_6[[#This Row],[IdEstablecimiento]],'[2]Establecimiento 2023'!$A$1:$E$183,3,FALSE),0)","v":"105511-Posta de Salud Rural Los Cóndores"},{"$f":"IFERROR(VLOOKUP(Tabla_SERIED_11_6[[#This Row],[IdEstablecimiento]],'[2]Establecimiento 2023'!$A$1:$E$183,5,FALSE),0)","v":"04203-Los Vilos"},"15080008","2023-11-22T13:18:53",5,{"$nulls":7},2,null,null,1,2]
[10,"5",2023,"105442",{"$f":"IFERROR(VLOOKUP(Tabla_SERIED_11_6[[#This Row],[IdEstablecimiento]],'[2]Establecimiento 2023'!$A$1:$E$183,3,FALSE),0)","v":"105442-Posta de Salud Rural San Pedro de Quiles"},{"$f":"IFERROR(VLOOKUP(Tabla_SERIED_11_6[[#This Row],[IdEstablecimiento]],'[2]Establecimiento 2023'!$A$1:$E$183,5,FALSE),0)","v":"04304-Punitaqui"},"15080015","2023-11-22T13:19:37",10,{"$nulls":5},2,8]
[10,"5",2023,"105441",{"$f":"IFERROR(VLOOKUP(Tabla_SERIED_11_6[[#This Row],[IdEstablecimiento]],'[2]Establecimiento 2023'!$A$1:$E$183,3,FALSE),0)","v":"105441-Posta de Salud Rural Manquehua"},{"$f":"IFERROR(VLOOKUP(Tabla_SERIED_11_6[[#This Row],[IdEstablecimiento]],'[2]Establecimiento 2023'!$A$1:$E$183,5,FALSE),0)","v":"04302-Combarbalá"},"15080014","2023-11-22T16:03:32",2,{"$nulls":3},2]
[10,"5",2023,"105441",{"$f":"IFERROR(VLOOKUP(Tabla_SERIED_11_6[[#This Row],[IdEstablecimiento]],'[2]Establecimiento 2023'!$A$1:$E$183,3,FALSE),0)","v":"105441-Posta de Salud Rural Manquehua"},{"$f":"IFERROR(VLOOKUP(Tabla_SERIED_11_6[[#This Row],[IdEstablecimiento]],'[2]Establecimiento 2023'!$A$1:$E$183,5,FALSE),0)","v":"04302-Combarbalá"},"16200210","2023-11-22T16:03:32",14,14]
[10,"5",2023,"105443",{"$f":"IFERROR(VLOOKUP(Tabla_SERIED_11_6[[#This Row],[IdEstablecimiento]],'[2]Establecimiento 2023'!$A$1:$E$183,3,FALSE),0)","v":"105443-Posta de Salud Rural Cárcamo"},{"$f":"IFERROR(VLOOKUP(Tabla_SERIED_11_6[[#This Row],[IdEstablecimiento]],'[2]Establecimiento 2023'!$A$1:$E$183,5,FALSE),0)","v":"04201-Illapel"},"15050100","2023-11-22T16:07:27",15,6,9,null,1,3,3,1,5,1,1]
[10,"5",2023,"105444",{"$f":"IFERROR(VLOOKUP(Tabla_SERIED_11_6[[#This Row],[IdEstablecimiento]],'[2]Establecimiento 2023'!$A$1:$E$183,3,FALSE),0)","v":"105444-Posta de Salud Rural Huintil"},{"$f":"IFERROR(VLOOKUP(Tabla_SERIED_11_6[[#This Row],[IdEstablecimiento]],'[2]Establecimiento 2023'!$A$1:$E$183,5,FALSE),0)","v":"04201-Illapel"},"15080008","2023-11-22T16:08:18",2,{"$nulls":11},2]
[10,"5",2023,"105444",{"$f":"IFERROR(VLOOKUP(Tabla_SERIED_11_6[[#This Row],[IdEstablecimiento]],'[2]Establecimiento 2023'!$A$1:$E$183,3,FALSE),0)","v":"105444-Posta de Salud Rural Huintil"},{"$f":"IFERROR(VLOOKUP(Tabla_SERIED_11_6[[#This Row],[IdEstablecimiento]],'[2]Establecimiento 2023'!$A$1:$E$183,5,FALSE),0)","v":"04201-Illapel"},"16200100","2023-11-22T16:08:18",2,null,2]
[10,"5",2023,"105445",{"$f":"IFERROR(VLOOKUP(Tabla_SERIED_11_6[[#This Row],[IdEstablecimiento]],'[2]Establecimiento 2023'!$A$1:$E$183,3,FALSE),0)","v":"105445-Posta de Salud Rural Limáhuida"},{"$f":"IFERROR(VLOOKUP(Tabla_SERIED_11_6[[#This Row],[IdEstablecimiento]],'[2]Establecimiento 2023'!$A$1:$E$183,5,FALSE),0)","v":"04201-Illapel"},"15080008","2023-11-22T16:08:45",5,{"$nulls":7},2,{"$nulls":3},3]
[10,"5",2023,"105448",{"$f":"IFERROR(VLOOKUP(Tabla_SERIED_11_6[[#This Row],[IdEstablecimiento]],'[2]Establecimiento 2023'!$A$1:$E$183,3,FALSE),0)","v":"105448-Posta de Salud Rural Santa Virginia"},{"$f":"IFERROR(VLOOKUP(Tabla_SERIED_11_6[[#This Row],[IdEstablecimiento]],'[2]Establecimiento 2023'!$A$1:$E$183,5,FALSE),0)","v":"04201-Illapel"},"15080015","2023-11-22T16:10:39",24,{"$nulls":5},12,12]
[10,"5",2023,"105448",{"$f":"IFERROR(VLOOKUP(Tabla_SERIED_11_6[[#This Row],[IdEstablecimiento]],'[2]Establecimiento 2023'!$A$1:$E$183,3,FALSE),0)","v":"105448-Posta de Salud Rural Santa Virginia"},{"$f":"IFERROR(VLOOKUP(Tabla_SERIED_11_6[[#This Row],[IdEstablecimiento]],'[2]Establecimiento 2023'!$A$1:$E$183,5,FALSE),0)","v":"04201-Illapel"},"15900050","2023-11-22T16:10:39",0,1]
[10,"5",2023,"105445",{"$f":"IFERROR(VLOOKUP(Tabla_SERIED_11_6[[#This Row],[IdEstablecimiento]],'[2]Establecimiento 2023'!$A$1:$E$183,3,FALSE),0)","v":"105445-Posta de Salud Rural Limáhuida"},{"$f":"IFERROR(VLOOKUP(Tabla_SERIED_11_6[[#This Row],[IdEstablecimiento]],'[2]Establecimiento 2023'!$A$1:$E$183,5,FALSE),0)","v":"04201-Illapel"},"15900050","2023-11-22T16:08:45",1,null,1,null,null,1]
[10,"5",2023,"105449",{"$f":"IFERROR(VLOOKUP(Tabla_SERIED_11_6[[#This Row],[IdEstablecimiento]],'[2]Establecimiento 2023'!$A$1:$E$183,3,FALSE),0)","v":"105449-Posta de Salud Rural Tunga Norte"},{"$f":"IFERROR(VLOOKUP(Tabla_SERIED_11_6[[#This Row],[IdEstablecimiento]],'[2]Establecimiento 2023'!$A$1:$E$183,5,FALSE),0)","v":"04201-Illapel"},"16090500","2023-11-22T16:10:24",1,1]
[10,"5",2023,"105486",{"$f":"IFERROR(VLOOKUP(Tabla_SERIED_11_6[[#This Row],[IdEstablecimiento]],'[2]Establecimiento 2023'!$A$1:$E$183,3,FALSE),0)","v":"105486-Posta de Salud Rural Tunga Sur"},{"$f":"IFERROR(VLOOKUP(Tabla_SERIED_11_6[[#This Row],[IdEstablecimiento]],'[2]Establecimiento 2023'!$A$1:$E$183,5,FALSE),0)","v":"04201-Illapel"},"15080008","2023-11-22T16:24:53",2,{"$nulls":9},2]
[10,"5",2023,"105487",{"$f":"IFERROR(VLOOKUP(Tabla_SERIED_11_6[[#This Row],[IdEstablecimiento]],'[2]Establecimiento 2023'!$A$1:$E$183,3,FALSE),0)","v":"105487-Posta de Salud Rural Cañas Uno"},{"$f":"IFERROR(VLOOKUP(Tabla_SERIED_11_6[[#This Row],[IdEstablecimiento]],'[2]Establecimiento 2023'!$A$1:$E$183,5,FALSE),0)","v":"04201-Illapel"},"15080014","2023-11-22T16:25:13",28,{"$nulls":3},12,14,null,null,2]
[10,"5",2023,"105487",{"$f":"IFERROR(VLOOKUP(Tabla_SERIED_11_6[[#This Row],[IdEstablecimiento]],'[2]Establecimiento 2023'!$A$1:$E$183,3,FALSE),0)","v":"105487-Posta de Salud Rural Cañas Uno"},{"$f":"IFERROR(VLOOKUP(Tabla_SERIED_11_6[[#This Row],[IdEstablecimiento]],'[2]Establecimiento 2023'!$A$1:$E$183,5,FALSE),0)","v":"04201-Illapel"},"16090300","2023-11-22T16:25:13",152,152]
[10,"5",2023,"105496",{"$f":"IFERROR(VLOOKUP(Tabla_SERIED_11_6[[#This Row],[IdEstablecimiento]],'[2]Establecimiento 2023'!$A$1:$E$183,3,FALSE),0)","v":"105496-Posta de Salud Rural Pintacura Sur"},{"$f":"IFERROR(VLOOKUP(Tabla_SERIED_11_6[[#This Row],[IdEstablecimiento]],'[2]Establecimiento 2023'!$A$1:$E$183,5,FALSE),0)","v":"04201-Illapel"},"15080008","2023-11-22T16:25:57",1,{"$nulls":7},1]
[10,"5",2023,"105496",{"$f":"IFERROR(VLOOKUP(Tabla_SERIED_11_6[[#This Row],[IdEstablecimiento]],'[2]Establecimiento 2023'!$A$1:$E$183,3,FALSE),0)","v":"105496-Posta de Salud Rural Pintacura Sur"},{"$f":"IFERROR(VLOOKUP(Tabla_SERIED_11_6[[#This Row],[IdEstablecimiento]],'[2]Establecimiento 2023'!$A$1:$E$183,5,FALSE),0)","v":"04201-Illapel"},"15050100","2023-11-22T16:25:57",5,2,4,null,1,null,null,0,3,null,1]
[10,"5",2023,"105504",{"$f":"IFERROR(VLOOKUP(Tabla_SERIED_11_6[[#This Row],[IdEstablecimiento]],'[2]Establecimiento 2023'!$A$1:$E$183,3,FALSE),0)","v":"105504-Posta de Salud Rural Socavón"},{"$f":"IFERROR(VLOOKUP(Tabla_SERIED_11_6[[#This Row],[IdEstablecimiento]],'[2]Establecimiento 2023'!$A$1:$E$183,5,FALSE),0)","v":"04201-Illapel"},"16090300","2023-11-22T16:29:06",36,36]
[10,"5",2023,"105702",{"$f":"IFERROR(VLOOKUP(Tabla_SERIED_11_6[[#This Row],[IdEstablecimiento]],'[2]Establecimiento 2023'!$A$1:$E$183,3,FALSE),0)","v":"105702-Centro Comunitario de Salud Familiar Lambert"},{"$f":"IFERROR(VLOOKUP(Tabla_SERIED_11_6[[#This Row],[IdEstablecimiento]],'[2]Establecimiento 2023'!$A$1:$E$183,5,FALSE),0)","v":"04101-La Serena"},"15050200","2023-11-22T16:31:57",1,1,{"$nulls":6},1]
[10,"5",2023,"105485",{"$f":"IFERROR(VLOOKUP(Tabla_SERIED_11_6[[#This Row],[IdEstablecimiento]],'[2]Establecimiento 2023'!$A$1:$E$183,3,FALSE),0)","v":"105485-Posta de Salud Rural Plan de Hornos"},{"$f":"IFERROR(VLOOKUP(Tabla_SERIED_11_6[[#This Row],[IdEstablecimiento]],'[2]Establecimiento 2023'!$A$1:$E$183,5,FALSE),0)","v":"04201-Illapel"},"16090300","2023-11-22T16:24:26",74,74]
[10,"5",2023,"105433",{"$f":"IFERROR(VLOOKUP(Tabla_SERIED_11_6[[#This Row],[IdEstablecimiento]],'[2]Establecimiento 2023'!$A$1:$E$183,3,FALSE),0)","v":"105433-Posta de Salud Rural San Lorenzo (Combarbalá)"},{"$f":"IFERROR(VLOOKUP(Tabla_SERIED_11_6[[#This Row],[IdEstablecimiento]],'[2]Establecimiento 2023'!$A$1:$E$183,5,FALSE),0)","v":"04302-Combarbalá"},"15080015","2023-11-22T16:36:20",2,{"$nulls":6},2]
[2,"5",2023,"105301",{"$f":"IFERROR(VLOOKUP(Tabla_SERIED_11_6[[#This Row],[IdEstablecimiento]],'[2]Establecimiento 2023'!$A$1:$E$183,3,FALSE),0)","v":"105301-Centro de Salud Familiar Las Compañías"},{"$f":"IFERROR(VLOOKUP(Tabla_SERIED_11_6[[#This Row],[IdEstablecimiento]],'[2]Establecimiento 2023'!$A$1:$E$183,5,FALSE),0)","v":"04101-La Serena"},"16100600","2023-04-19T08:11:32",2,0,2]
[2,"5",2023,"105452",{"$f":"IFERROR(VLOOKUP(Tabla_SERIED_11_6[[#This Row],[IdEstablecimiento]],'[2]Establecimiento 2023'!$A$1:$E$183,3,FALSE),0)","v":"105452-Posta de Salud Rural Cuncumén(Salamanca)"},{"$f":"IFERROR(VLOOKUP(Tabla_SERIED_11_6[[#This Row],[IdEstablecimiento]],'[2]Establecimiento 2023'!$A$1:$E$183,5,FALSE),0)","v":"04204-Salamanca"},"15010500","2023-04-19T08:36:02",2,{"$nulls":5},2]
[2,"5",2023,"105453",{"$f":"IFERROR(VLOOKUP(Tabla_SERIED_11_6[[#This Row],[IdEstablecimiento]],'[2]Establecimiento 2023'!$A$1:$E$183,3,FALSE),0)","v":"105453-Posta de Salud Rural Tranquilla"},{"$f":"IFERROR(VLOOKUP(Tabla_SERIED_11_6[[#This Row],[IdEstablecimiento]],'[2]Establecimiento 2023'!$A$1:$E$183,5,FALSE),0)","v":"04204-Salamanca"},"16090300","2023-04-19T08:36:25",83,83]
[2,"5",2023,"105416",{"$f":"IFERROR(VLOOKUP(Tabla_SERIED_11_6[[#This Row],[IdEstablecimiento]],'[2]Establecimiento 2023'!$A$1:$E$183,3,FALSE),0)","v":"105416-Posta de Salud Rural Camarico (Ovalle)"},{"$f":"IFERROR(VLOOKUP(Tabla_SERIED_11_6[[#This Row],[IdEstablecimiento]],'[2]Establecimiento 2023'!$A$1:$E$183,5,FALSE),0)","v":"04301-Ovalle"},"16200100","2023-04-20T13:16:53",1,1]
[2,"5",2023,"105433",{"$f":"IFERROR(VLOOKUP(Tabla_SERIED_11_6[[#This Row],[IdEstablecimiento]],'[2]Establecimiento 2023'!$A$1:$E$183,3,FALSE),0)","v":"105433-Posta de Salud Rural San Lorenzo (Combarbalá)"},{"$f":"IFERROR(VLOOKUP(Tabla_SERIED_11_6[[#This Row],[IdEstablecimiento]],'[2]Establecimiento 2023'!$A$1:$E$183,5,FALSE),0)","v":"04302-Combarbalá"},"15010200","2023-04-20T10:24:34",6,{"$nulls":5},2,4]
[2,"5",2023,"105310",{"$f":"IFERROR(VLOOKUP(Tabla_SERIED_11_6[[#This Row],[IdEstablecimiento]],'[2]Establecimiento 2023'!$A$1:$E$183,3,FALSE),0)","v":"105310-Centro de Salud Familiar Pichasca"},{"$f":"IFERROR(VLOOKUP(Tabla_SERIED_11_6[[#This Row],[IdEstablecimiento]],'[2]Establecimiento 2023'!$A$1:$E$183,5,FALSE),0)","v":"04305-Rio Hurtado"},"15900010","2023-04-19T08:12:50",3.2,null,null,3.2]
[2,"5",2023,"105317",{"$f":"IFERROR(VLOOKUP(Tabla_SERIED_11_6[[#This Row],[IdEstablecimiento]],'[2]Establecimiento 2023'!$A$1:$E$183,3,FALSE),0)","v":"105317-Centro de Salud Familiar Jorge Jordán Domic"},{"$f":"IFERROR(VLOOKUP(Tabla_SERIED_11_6[[#This Row],[IdEstablecimiento]],'[2]Establecimiento 2023'!$A$1:$E$183,5,FALSE),0)","v":"04301-Ovalle"},"16090300","2023-04-20T13:14:49",610,610]
[2,"5",2023,"105323",{"$f":"IFERROR(VLOOKUP(Tabla_SERIED_11_6[[#This Row],[IdEstablecimiento]],'[2]Establecimiento 2023'!$A$1:$E$183,3,FALSE),0)","v":"105323-Centro de Salud Familiar Dr. Sergio Aguilar Delgado"},{"$f":"IFERROR(VLOOKUP(Tabla_SERIED_11_6[[#This Row],[IdEstablecimiento]],'[2]Establecimiento 2023'!$A$1:$E$183,5,FALSE),0)","v":"04102-Coquimbo"},"15901400","2023-04-20T07:09:46",12,9,3,1,2,6,3,0,0,0]
[2,"5",2023,"105449",{"$f":"IFERROR(VLOOKUP(Tabla_SERIED_11_6[[#This Row],[IdEstablecimiento]],'[2]Establecimiento 2023'!$A$1:$E$183,3,FALSE),0)","v":"105449-Posta de Salud Rural Tunga Norte"},{"$f":"IFERROR(VLOOKUP(Tabla_SERIED_11_6[[#This Row],[IdEstablecimiento]],'[2]Establecimiento 2023'!$A$1:$E$183,5,FALSE),0)","v":"04201-Illapel"},"16090300","2023-04-19T08:35:29",26,26]
[2,"5",2023,"105452",{"$f":"IFERROR(VLOOKUP(Tabla_SERIED_11_6[[#This Row],[IdEstablecimiento]],'[2]Establecimiento 2023'!$A$1:$E$183,3,FALSE),0)","v":"105452-Posta de Salud Rural Cuncumén(Salamanca)"},{"$f":"IFERROR(VLOOKUP(Tabla_SERIED_11_6[[#This Row],[IdEstablecimiento]],'[2]Establecimiento 2023'!$A$1:$E$183,5,FALSE),0)","v":"04204-Salamanca"},"16090300","2023-04-19T08:36:02",45,45]
[2,"5",2023,"105457",{"$f":"IFERROR(VLOOKUP(Tabla_SERIED_11_6[[#This Row],[IdEstablecimiento]],'[2]Establecimiento 2023'!$A$1:$E$183,3,FALSE),0)","v":"105457-Posta de Salud Rural San Agustín (Salamanca)"},{"$f":"IFERROR(VLOOKUP(Tabla_SERIED_11_6[[#This Row],[IdEstablecimiento]],'[2]Establecimiento 2023'!$A$1:$E$183,5,FALSE),0)","v":"04204-Salamanca"},"16200210","2023-04-19T08:37:33",2,2]
[2,"5",2023,"105326",{"$f":"IFERROR(VLOOKUP(Tabla_SERIED_11_6[[#This Row],[IdEstablecimiento]],'[2]Establecimiento 2023'!$A$1:$E$183,3,FALSE),0)","v":"105326-Centro de Salud Familiar Villa San Rafael de Rozas"},{"$f":"IFERROR(VLOOKUP(Tabla_SERIED_11_6[[#This Row],[IdEstablecimiento]],'[2]Establecimiento 2023'!$A$1:$E$183,5,FALSE),0)","v":"04201-Illapel"},"15050200","2023-04-19T08:16:07",7,2,5,null,1,{"$nulls":3},1,3,null,2]
[2,"5",2023,"105409",{"$f":"IFERROR(VLOOKUP(Tabla_SERIED_11_6[[#This Row],[IdEstablecimiento]],'[2]Establecimiento 2023'!$A$1:$E$183,3,FALSE),0)","v":"105409-Posta de Salud Rural El Chañar"},{"$f":"IFERROR(VLOOKUP(Tabla_SERIED_11_6[[#This Row],[IdEstablecimiento]],'[2]Establecimiento 2023'!$A$1:$E$183,5,FALSE),0)","v":"04305-Rio Hurtado"},"16200220","2023-04-19T08:18:32",1,1,0]
[2,"5",2023,"105108",{"$f":"IFERROR(VLOOKUP(Tabla_SERIED_11_6[[#This Row],[IdEstablecimiento]],'[2]Establecimiento 2023'!$A$1:$E$183,3,FALSE),0)","v":"105108-Hospital San Pedro (Los Vilos)"},{"$f":"IFERROR(VLOOKUP(Tabla_SERIED_11_6[[#This Row],[IdEstablecimiento]],'[2]Establecimiento 2023'!$A$1:$E$183,5,FALSE),0)","v":"105108-Hospital Los Vilos"},"15900010","2023-04-21T08:56:46",140,6.4,71.2,62.4]
[2,"5",2023,"105469",{"$f":"IFERROR(VLOOKUP(Tabla_SERIED_11_6[[#This Row],[IdEstablecimiento]],'[2]Establecimiento 2023'!$A$1:$E$183,3,FALSE),0)","v":"105469-Posta de Salud Rural El Tambo (Vicuña)"},{"$f":"IFERROR(VLOOKUP(Tabla_SERIED_11_6[[#This Row],[IdEstablecimiento]],'[2]Establecimiento 2023'!$A$1:$E$183,5,FALSE),0)","v":"04106-Vicuña"},"16200220","2023-04-19T08:45:41",2,1,1]
[2,"5",2023,"105476",{"$f":"IFERROR(VLOOKUP(Tabla_SERIED_11_6[[#This Row],[IdEstablecimiento]],'[2]Establecimiento 2023'!$A$1:$E$183,3,FALSE),0)","v":"105476-Posta de Salud Rural Monte Grande"},{"$f":"IFERROR(VLOOKUP(Tabla_SERIED_11_6[[#This Row],[IdEstablecimiento]],'[2]Establecimiento 2023'!$A$1:$E$183,5,FALSE),0)","v":"04105-Paihuano"},"15050100","2023-04-20T07:14:41",6,3,3,{"$nulls":3},2,2,2]
[2,"5",2023,"105485",{"$f":"IFERROR(VLOOKUP(Tabla_SERIED_11_6[[#This Row],[IdEstablecimiento]],'[2]Establecimiento 2023'!$A$1:$E$183,3,FALSE),0)","v":"105485-Posta de Salud Rural Plan de Hornos"},{"$f":"IFERROR(VLOOKUP(Tabla_SERIED_11_6[[#This Row],[IdEstablecimiento]],'[2]Establecimiento 2023'!$A$1:$E$183,5,FALSE),0)","v":"04201-Illapel"},"15010200","2023-04-19T08:50:09",7,{"$nulls":5},4,3]
[2,"5",2023,"105455",{"$f":"IFERROR(VLOOKUP(Tabla_SERIED_11_6[[#This Row],[IdEstablecimiento]],'[2]Establecimiento 2023'!$A$1:$E$183,3,FALSE),0)","v":"105455-CESFAM Valle Alto"},{"$f":"IFERROR(VLOOKUP(Tabla_SERIED_11_6[[#This Row],[IdEstablecimiento]],'[2]Establecimiento 2023'!$A$1:$E$183,5,FALSE),0)","v":"04204-Salamanca"},"15080008","2023-04-20T10:07:52",15,{"$nulls":7},5,null,8,null,2]
[2,"5",2023,"105467",{"$f":"IFERROR(VLOOKUP(Tabla_SERIED_11_6[[#This Row],[IdEstablecimiento]],'[2]Establecimiento 2023'!$A$1:$E$183,3,FALSE),0)","v":"105467-Posta de Salud Rural Diaguitas"},{"$f":"IFERROR(VLOOKUP(Tabla_SERIED_11_6[[#This Row],[IdEstablecimiento]],'[2]Establecimiento 2023'!$A$1:$E$183,5,FALSE),0)","v":"04106-Vicuña"},"15030100","2023-04-19T08:45:07",3.2,3.2]
[2,"5",2023,"105472",{"$f":"IFERROR(VLOOKUP(Tabla_SERIED_11_6[[#This Row],[IdEstablecimiento]],'[2]Establecimiento 2023'!$A$1:$E$183,3,FALSE),0)","v":"105472-Posta de Salud Rural Rivadavia"},{"$f":"IFERROR(VLOOKUP(Tabla_SERIED_11_6[[#This Row],[IdEstablecimiento]],'[2]Establecimiento 2023'!$A$1:$E$183,5,FALSE),0)","v":"04106-Vicuña"},"16100600","2023-04-19T08:46:40",3,1,2]
[2,"5",2023,"105486",{"$f":"IFERROR(VLOOKUP(Tabla_SERIED_11_6[[#This Row],[IdEstablecimiento]],'[2]Establecimiento 2023'!$A$1:$E$183,3,FALSE),0)","v":"105486-Posta de Salud Rural Tunga Sur"},{"$f":"IFERROR(VLOOKUP(Tabla_SERIED_11_6[[#This Row],[IdEstablecimiento]],'[2]Establecimiento 2023'!$A$1:$E$183,5,FALSE),0)","v":"04201-Illapel"},"15900010","2023-04-19T08:51:36",3.6,null,null,3.6]
[2,"5",2023,"105500",{"$f":"IFERROR(VLOOKUP(Tabla_SERIED_11_6[[#This Row],[IdEstablecimiento]],'[2]Establecimiento 2023'!$A$1:$E$183,3,FALSE),0)","v":"105500-Posta de Salud Rural Caleta Hornos"},{"$f":"IFERROR(VLOOKUP(Tabla_SERIED_11_6[[#This Row],[IdEstablecimiento]],'[2]Establecimiento 2023'!$A$1:$E$183,5,FALSE),0)","v":"04104-La Higuera"},"16090300","2023-07-19T15:13:56",20,20]
[2,"5",2023,"105700",{"$f":"IFERROR(VLOOKUP(Tabla_SERIED_11_6[[#This Row],[IdEstablecimiento]],'[2]Establecimiento 2023'!$A$1:$E$183,3,FALSE),0)","v":"105700-Centro Comunitario de Salud Familiar Villa el Indio"},{"$f":"IFERROR(VLOOKUP(Tabla_SERIED_11_6[[#This Row],[IdEstablecimiento]],'[2]Establecimiento 2023'!$A$1:$E$183,5,FALSE),0)","v":"04101-La Serena"},"15050100","2023-04-19T09:01:15",28,6,22,null,2,null,3,1,5,2,10,null,3,2]
[2,"5",2023,"105723",{"$f":"IFERROR(VLOOKUP(Tabla_SERIED_11_6[[#This Row],[IdEstablecimiento]],'[2]Establecimiento 2023'!$A$1:$E$183,3,FALSE),0)","v":"105723-Centro Comunitario de Salud Familiar Limarí"},{"$f":"IFERROR(VLOOKUP(Tabla_SERIED_11_6[[#This Row],[IdEstablecimiento]],'[2]Establecimiento 2023'!$A$1:$E$183,5,FALSE),0)","v":"04301-Ovalle"},"16200210","2023-04-20T10:50:07",4,4]
[2,"5",2023,"105510",{"$f":"IFERROR(VLOOKUP(Tabla_SERIED_11_6[[#This Row],[IdEstablecimiento]],'[2]Establecimiento 2023'!$A$1:$E$183,3,FALSE),0)","v":"105510-Posta de Salud Rural Recoleta"},{"$f":"IFERROR(VLOOKUP(Tabla_SERIED_11_6[[#This Row],[IdEstablecimiento]],'[2]Establecimiento 2023'!$A$1:$E$183,5,FALSE),0)","v":"04301-Ovalle"},"16090300","2023-04-20T10:49:17",90,90]
[2,"5",2023,"105722",{"$f":"IFERROR(VLOOKUP(Tabla_SERIED_11_6[[#This Row],[IdEstablecimiento]],'[2]Establecimiento 2023'!$A$1:$E$183,3,FALSE),0)","v":"105722-Centro Comunitario de Salud Familiar San José de la Dehesa"},{"$f":"IFERROR(VLOOKUP(Tabla_SERIED_11_6[[#This Row],[IdEstablecimiento]],'[2]Establecimiento 2023'!$A$1:$E$183,5,FALSE),0)","v":"04301-Ovalle"},"15900050","2023-04-20T10:49:50",2,{"$nulls":4},2]
[2,"5",2023,"105723",{"$f":"IFERROR(VLOOKUP(Tabla_SERIED_11_6[[#This Row],[IdEstablecimiento]],'[2]Establecimiento 2023'!$A$1:$E$183,3,FALSE),0)","v":"105723-Centro Comunitario de Salud Familiar Limarí"},{"$f":"IFERROR(VLOOKUP(Tabla_SERIED_11_6[[#This Row],[IdEstablecimiento]],'[2]Establecimiento 2023'!$A$1:$E$183,5,FALSE),0)","v":"04301-Ovalle"},"15010500","2023-04-20T10:50:07",8,{"$nulls":5},6,2]
[2,"5",2023,"105105",{"$f":"IFERROR(VLOOKUP(Tabla_SERIED_11_6[[#This Row],[IdEstablecimiento]],'[2]Establecimiento 2023'!$A$1:$E$183,3,FALSE),0)","v":"105105-Hospital San Juan de Dios (Combarbalá)"},{"$f":"IFERROR(VLOOKUP(Tabla_SERIED_11_6[[#This Row],[IdEstablecimiento]],'[2]Establecimiento 2023'!$A$1:$E$183,5,FALSE),0)","v":"105105-Hospital Combarbalá"},"15900010","2023-04-20T13:35:11",20.9,null,0.8,20.1]
[2,"5",2023,"105300",{"$f":"IFERROR(VLOOKUP(Tabla_SERIED_11_6[[#This Row],[IdEstablecimiento]],'[2]Establecimiento 2023'!$A$1:$E$183,3,FALSE),0)","v":"105300-Centro de Salud Familiar Cardenal Caro"},{"$f":"IFERROR(VLOOKUP(Tabla_SERIED_11_6[[#This Row],[IdEstablecimiento]],'[2]Establecimiento 2023'!$A$1:$E$183,5,FALSE),0)","v":"04101-La Serena"},"15900040","2023-04-19T08:11:09",8.8,4.4,null,4.4]
[2,"5",2023,"105302",{"$f":"IFERROR(VLOOKUP(Tabla_SERIED_11_6[[#This Row],[IdEstablecimiento]],'[2]Establecimiento 2023'!$A$1:$E$183,3,FALSE),0)","v":"105302-Centro de Salud Familiar Pedro Aguirre Cerda"},{"$f":"IFERROR(VLOOKUP(Tabla_SERIED_11_6[[#This Row],[IdEstablecimiento]],'[2]Establecimiento 2023'!$A$1:$E$183,5,FALSE),0)","v":"04101-La Serena"},"16200100","2023-04-19T08:11:45",36,19,17]
[1,"5",2023,"200402",{"$f":"IFERROR(VLOOKUP(Tabla_SERIED_11_6[[#This Row],[IdEstablecimiento]],'[2]Establecimiento 2023'!$A$1:$E$183,3,FALSE),0)","v":"200402-Centro Comunitario de Salud Familiar Arcos de Pinamar"},{"$f":"IFERROR(VLOOKUP(Tabla_SERIED_11_6[[#This Row],[IdEstablecimiento]],'[2]Establecimiento 2023'!$A$1:$E$183,5,FALSE),0)","v":"04101-La Serena"},"15050200","2023-04-19T08:04:46",1,null,1,{"$nulls":8},1]
[2,"5",2023,"105313",{"$f":"IFERROR(VLOOKUP(Tabla_SERIED_11_6[[#This Row],[IdEstablecimiento]],'[2]Establecimiento 2023'!$A$1:$E$183,3,FALSE),0)","v":"105313-Centro de Salud Familiar Dr. Emilio Schaffhauser"},{"$f":"IFERROR(VLOOKUP(Tabla_SERIED_11_6[[#This Row],[IdEstablecimiento]],'[2]Establecimiento 2023'!$A$1:$E$183,5,FALSE),0)","v":"04101-La Serena"},"15010200","2023-04-19T08:13:37",407,{"$nulls":4},70,190,147]
[2,"5",2023,"105318",{"$f":"IFERROR(VLOOKUP(Tabla_SERIED_11_6[[#This Row],[IdEstablecimiento]],'[2]Establecimiento 2023'!$A$1:$E$183,3,FALSE),0)","v":"105318-Centro de Salud Familiar El Palqui"},{"$f":"IFERROR(VLOOKUP(Tabla_SERIED_11_6[[#This Row],[IdEstablecimiento]],'[2]Establecimiento 2023'!$A$1:$E$183,5,FALSE),0)","v":"04303-Monte Patria"},"15050200","2023-04-19T08:15:05",13,7,6,null,2,4,1,2,2,1,null,1]
[2,"5",2023,"105321",{"$f":"IFERROR(VLOOKUP(Tabla_SERIED_11_6[[#This Row],[IdEstablecimiento]],'[2]Establecimiento 2023'!$A$1:$E$183,3,FALSE),0)","v":"105321-Centro de Salud Familiar Tongoy"},{"$f":"IFERROR(VLOOKUP(Tabla_SERIED_11_6[[#This Row],[IdEstablecimiento]],'[2]Establecimiento 2023'!$A$1:$E$183,5,FALSE),0)","v":"04102-Coquimbo"},"15010400","2023-05-16T14:48:35",6,{"$nulls":4},2,4]
[2,"5",2023,"105322",{"$f":"IFERROR(VLOOKUP(Tabla_SERIED_11_6[[#This Row],[IdEstablecimiento]],'[2]Establecimiento 2023'!$A$1:$E$183,3,FALSE),0)","v":"105322-Centro de Salud Familiar Marcos Macuada"},{"$f":"IFERROR(VLOOKUP(Tabla_SERIED_11_6[[#This Row],[IdEstablecimiento]],'[2]Establecimiento 2023'!$A$1:$E$183,5,FALSE),0)","v":"04301-Ovalle"},"15010200","2023-04-20T13:15:13",379,{"$nulls":4},34,158,187]
[2,"5",2023,"200494",{"$f":"IFERROR(VLOOKUP(Tabla_SERIED_11_6[[#This Row],[IdEstablecimiento]],'[2]Establecimiento 2023'!$A$1:$E$183,3,FALSE),0)","v":"200494-Centro de Salud Familiar El Sauce"},{"$f":"IFERROR(VLOOKUP(Tabla_SERIED_11_6[[#This Row],[IdEstablecimiento]],'[2]Establecimiento 2023'!$A$1:$E$183,5,FALSE),0)","v":"04102-Coquimbo"},"15010100","2023-04-21T09:21:41",212,{"$nulls":3},158,54,0,0,0,0,0,0,0]
[9,"5",2023,"200569",{"$f":"IFERROR(VLOOKUP(Tabla_SERIED_11_6[[#This Row],[IdEstablecimiento]],'[2]Establecimiento 2023'!$A$1:$E$183,3,FALSE),0)","v":"200569-Centro de Salud Familiar Fray Jorge"},{"$f":"IFERROR(VLOOKUP(Tabla_SERIED_11_6[[#This Row],[IdEstablecimiento]],'[2]Establecimiento 2023'!$A$1:$E$183,5,FALSE),0)","v":"04301-Ovalle"},"16090300","2023-10-17T15:45:54",494,477]
[2,"5",2023,"105435",{"$f":"IFERROR(VLOOKUP(Tabla_SERIED_11_6[[#This Row],[IdEstablecimiento]],'[2]Establecimiento 2023'!$A$1:$E$183,3,FALSE),0)","v":"105435-Posta de Salud Rural Tulahuén"},{"$f":"IFERROR(VLOOKUP(Tabla_SERIED_11_6[[#This Row],[IdEstablecimiento]],'[2]Establecimiento 2023'!$A$1:$E$183,5,FALSE),0)","v":"04303-Monte Patria"},"15010400","2023-04-19T08:28:57",2,{"$nulls":6},2]
[2,"5",2023,"105447",{"$f":"IFERROR(VLOOKUP(Tabla_SERIED_11_6[[#This Row],[IdEstablecimiento]],'[2]Establecimiento 2023'!$A$1:$E$183,3,FALSE),0)","v":"105447-Posta de Salud Rural Peralillo Illapel"},{"$f":"IFERROR(VLOOKUP(Tabla_SERIED_11_6[[#This Row],[IdEstablecimiento]],'[2]Establecimiento 2023'!$A$1:$E$183,5,FALSE),0)","v":"04201-Illapel"},"16090300","2023-04-20T11:04:12",28,28]
[1,"5",2023,"200538",{"$f":"IFERROR(VLOOKUP(Tabla_SERIED_11_6[[#This Row],[IdEstablecimiento]],'[2]Establecimiento 2023'!$A$1:$E$183,3,FALSE),0)","v":"200538-Centro de Salud Familiar San Isidro Calingasta"},{"$f":"IFERROR(VLOOKUP(Tabla_SERIED_11_6[[#This Row],[IdEstablecimiento]],'[2]Establecimiento 2023'!$A$1:$E$183,5,FALSE),0)","v":"04106-Vicuña"},"15050100","2023-04-19T08:06:28",128,34,94,2,1,15,22,16,30,16,10,null,5,11]
[2,"5",2023,"105501",{"$f":"IFERROR(VLOOKUP(Tabla_SERIED_11_6[[#This Row],[IdEstablecimiento]],'[2]Establecimiento 2023'!$A$1:$E$183,3,FALSE),0)","v":"105501-Posta de Salud Rural Arboleda Grande"},{"$f":"IFERROR(VLOOKUP(Tabla_SERIED_11_6[[#This Row],[IdEstablecimiento]],'[2]Establecimiento 2023'!$A$1:$E$183,5,FALSE),0)","v":"04204-Salamanca"},"15010100","2023-04-20T09:31:22",16,{"$nulls":3},12,4]
[2,"5",2023,"200366",{"$f":"IFERROR(VLOOKUP(Tabla_SERIED_11_6[[#This Row],[IdEstablecimiento]],'[2]Establecimiento 2023'!$A$1:$E$183,3,FALSE),0)","v":"200366-Centro de Salud Familiar Urbano de Illapel"},{"$f":"IFERROR(VLOOKUP(Tabla_SERIED_11_6[[#This Row],[IdEstablecimiento]],'[2]Establecimiento 2023'!$A$1:$E$183,5,FALSE),0)","v":"04201-Illapel"},"15901500","2023-04-19T09:02:37",3.2,null,null,3.2]
[2,"5",2023,"200402",{"$f":"IFERROR(VLOOKUP(Tabla_SERIED_11_6[[#This Row],[IdEstablecimiento]],'[2]Establecimiento 2023'!$A$1:$E$183,3,FALSE),0)","v":"200402-Centro Comunitario de Salud Familiar Arcos de Pinamar"},{"$f":"IFERROR(VLOOKUP(Tabla_SERIED_11_6[[#This Row],[IdEstablecimiento]],'[2]Establecimiento 2023'!$A$1:$E$183,5,FALSE),0)","v":"04101-La Serena"},"15900030","2023-04-19T09:03:13",2.8,null,1.2,{"$nulls":3},1.6]
[2,"5",2023,"200538",{"$f":"IFERROR(VLOOKUP(Tabla_SERIED_11_6[[#This Row],[IdEstablecimiento]],'[2]Establecimiento 2023'!$A$1:$E$183,3,FALSE),0)","v":"200538-Centro de Salud Familiar San Isidro Calingasta"},{"$f":"IFERROR(VLOOKUP(Tabla_SERIED_11_6[[#This Row],[IdEstablecimiento]],'[2]Establecimiento 2023'!$A$1:$E$183,5,FALSE),0)","v":"04106-Vicuña"},"15010500","2023-04-19T09:03:38",6,{"$nulls":3},2,null,2,2]
[2,"5",2023,"200367",{"$f":"IFERROR(VLOOKUP(Tabla_SERIED_11_6[[#This Row],[IdEstablecimiento]],'[2]Establecimiento 2023'!$A$1:$E$183,3,FALSE),0)","v":"200367-Centro Comunitario de Salud Familiar Colonia Limarí"},{"$f":"IFERROR(VLOOKUP(Tabla_SERIED_11_6[[#This Row],[IdEstablecimiento]],'[2]Establecimiento 2023'!$A$1:$E$183,5,FALSE),0)","v":"04301-Ovalle"},"15020100","2023-04-20T10:51:05",2,{"$nulls":4},2]
[2,"5",2023,"200569",{"$f":"IFERROR(VLOOKUP(Tabla_SERIED_11_6[[#This Row],[IdEstablecimiento]],'[2]Establecimiento 2023'!$A$1:$E$183,3,FALSE),0)","v":"200569-Centro de Salud Familiar Fray Jorge"},{"$f":"IFERROR(VLOOKUP(Tabla_SERIED_11_6[[#This Row],[IdEstablecimiento]],'[2]Establecimiento 2023'!$A$1:$E$183,5,FALSE),0)","v":"04301-Ovalle"},"15900020","2023-04-20T10:51:47",2.4,2.4]
[2,"5",2023,"105484",{"$f":"IFERROR(VLOOKUP(Tabla_SERIED_11_6[[#This Row],[IdEstablecimiento]],'[2]Establecimiento 2023'!$A$1:$E$183,3,FALSE),0)","v":"105484-Posta de Salud Rural Huentelauquén"},{"$f":"IFERROR(VLOOKUP(Tabla_SERIED_11_6[[#This Row],[IdEstablecimiento]],'[2]Establecimiento 2023'!$A$1:$E$183,5,FALSE),0)","v":"04202-Canela"},"15060100","2023-04-20T09:27:12",5,2,3,{"$nulls":5},4,1]
[2,"5",2023,"105504",{"$f":"IFERROR(VLOOKUP(Tabla_SERIED_11_6[[#This Row],[IdEstablecimiento]],'[2]Establecimiento 2023'!$A$1:$E$183,3,FALSE),0)","v":"105504-Posta de Salud Rural Socavón"},{"$f":"IFERROR(VLOOKUP(Tabla_SERIED_11_6[[#This Row],[IdEstablecimiento]],'[2]Establecimiento 2023'!$A$1:$E$183,5,FALSE),0)","v":"04201-Illapel"},"15010200","2023-04-19T08:59:05",6,{"$nulls":5},4,2]
[2,"5",2023,"105722",{"$f":"IFERROR(VLOOKUP(Tabla_SERIED_11_6[[#This Row],[IdEstablecimiento]],'[2]Establecimiento 2023'!$A$1:$E$183,3,FALSE),0)","v":"105722-Centro Comunitario de Salud Familiar San José de la Dehesa"},{"$f":"IFERROR(VLOOKUP(Tabla_SERIED_11_6[[#This Row],[IdEstablecimiento]],'[2]Establecimiento 2023'!$A$1:$E$183,5,FALSE),0)","v":"04301-Ovalle"},"15010200","2023-04-20T10:49:50",106,{"$nulls":4},22,50,34]
[2,"5",2023,"200366",{"$f":"IFERROR(VLOOKUP(Tabla_SERIED_11_6[[#This Row],[IdEstablecimiento]],'[2]Establecimiento 2023'!$A$1:$E$183,3,FALSE),0)","v":"200366-Centro de Salud Familiar Urbano de Illapel"},{"$f":"IFERROR(VLOOKUP(Tabla_SERIED_11_6[[#This Row],[IdEstablecimiento]],'[2]Establecimiento 2023'!$A$1:$E$183,5,FALSE),0)","v":"04201-Illapel"},"16100300","2023-04-19T09:02:37",611,200,411]
[2,"5",2023,"200402",{"$f":"IFERROR(VLOOKUP(Tabla_SERIED_11_6[[#This Row],[IdEstablecimiento]],'[2]Establecimiento 2023'!$A$1:$E$183,3,FALSE),0)","v":"200402-Centro Comunitario de Salud Familiar Arcos de Pinamar"},{"$f":"IFERROR(VLOOKUP(Tabla_SERIED_11_6[[#This Row],[IdEstablecimiento]],'[2]Establecimiento 2023'!$A$1:$E$183,5,FALSE),0)","v":"04101-La Serena"},"15900040","2023-04-19T09:03:13",4.4,4.4]
[2,"5",2023,"200607",{"$f":"IFERROR(VLOOKUP(Tabla_SERIED_11_6[[#This Row],[IdEstablecimiento]],'[2]Establecimiento 2023'!$A$1:$E$183,3,FALSE),0)","v":"200607-Centro de Salud Familiar Lila Cortés Godoy"},{"$f":"IFERROR(VLOOKUP(Tabla_SERIED_11_6[[#This Row],[IdEstablecimiento]],'[2]Establecimiento 2023'!$A$1:$E$183,5,FALSE),0)","v":"04102-Coquimbo"},"15900040","2023-04-21T09:23:24",6.8,0,0,0,3.2,0,0,3.6]
[1,"5",2023,"200367",{"$f":"IFERROR(VLOOKUP(Tabla_SERIED_11_6[[#This Row],[IdEstablecimiento]],'[2]Establecimiento 2023'!$A$1:$E$183,3,FALSE),0)","v":"200367-Centro Comunitario de Salud Familiar Colonia Limarí"},{"$f":"IFERROR(VLOOKUP(Tabla_SERIED_11_6[[#This Row],[IdEstablecimiento]],'[2]Establecimiento 2023'!$A$1:$E$183,5,FALSE),0)","v":"04301-Ovalle"},"15050100","2023-04-20T11:11:24",56,20,36,null,null,4,6,8,15,14,5,null,2,null,2]
[1,"5",2023,"200494",{"$f":"IFERROR(VLOOKUP(Tabla_SERIED_11_6[[#This Row],[IdEstablecimiento]],'[2]Establecimiento 2023'!$A$1:$E$183,3,FALSE),0)","v":"200494-Centro de Salud Familiar El Sauce"},{"$f":"IFERROR(VLOOKUP(Tabla_SERIED_11_6[[#This Row],[IdEstablecimiento]],'[2]Establecimiento 2023'!$A$1:$E$183,5,FALSE),0)","v":"04102-Coquimbo"},"15900050","2023-04-21T09:24:54",7,3,4,1,1,2,1,2,0,0]
[3,"5",2023,"200607",{"$f":"IFERROR(VLOOKUP(Tabla_SERIED_11_6[[#This Row],[IdEstablecimiento]],'[2]Establecimiento 2023'!$A$1:$E$183,3,FALSE),0)","v":"200607-Centro de Salud Familiar Lila Cortés Godoy"},{"$f":"IFERROR(VLOOKUP(Tabla_SERIED_11_6[[#This Row],[IdEstablecimiento]],'[2]Establecimiento 2023'!$A$1:$E$183,5,FALSE),0)","v":"04102-Coquimbo"},"15010500","2023-04-19T09:58:00",26,null,null,6,2,6,4,8]
[2,"5",2023,"105105",{"$f":"IFERROR(VLOOKUP(Tabla_SERIED_11_6[[#This Row],[IdEstablecimiento]],'[2]Establecimiento 2023'!$A$1:$E$183,3,FALSE),0)","v":"105105-Hospital San Juan de Dios (Combarbalá)"},{"$f":"IFERROR(VLOOKUP(Tabla_SERIED_11_6[[#This Row],[IdEstablecimiento]],'[2]Establecimiento 2023'!$A$1:$E$183,5,FALSE),0)","v":"105105-Hospital Combarbalá"},"15900040","2023-04-20T13:35:11",8.8,null,4.4,4.4]
[2,"5",2023,"105107",{"$f":"IFERROR(VLOOKUP(Tabla_SERIED_11_6[[#This Row],[IdEstablecimiento]],'[2]Establecimiento 2023'!$A$1:$E$183,3,FALSE),0)","v":"105107-Hospital San Juan de Dios (Vicuña)"},{"$f":"IFERROR(VLOOKUP(Tabla_SERIED_11_6[[#This Row],[IdEstablecimiento]],'[2]Establecimiento 2023'!$A$1:$E$183,5,FALSE),0)","v":"105107-Hospital Vicuña"},"15010100","2023-04-19T08:10:44",88,{"$nulls":3},64,24]
[2,"5",2023,"105300",{"$f":"IFERROR(VLOOKUP(Tabla_SERIED_11_6[[#This Row],[IdEstablecimiento]],'[2]Establecimiento 2023'!$A$1:$E$183,3,FALSE),0)","v":"105300-Centro de Salud Familiar Cardenal Caro"},{"$f":"IFERROR(VLOOKUP(Tabla_SERIED_11_6[[#This Row],[IdEstablecimiento]],'[2]Establecimiento 2023'!$A$1:$E$183,5,FALSE),0)","v":"04101-La Serena"},"16090100","2023-04-19T08:11:09",4,4]
[2,"5",2023,"105479",{"$f":"IFERROR(VLOOKUP(Tabla_SERIED_11_6[[#This Row],[IdEstablecimiento]],'[2]Establecimiento 2023'!$A$1:$E$183,3,FALSE),0)","v":"105479-Posta de Salud Rural Guangualí"},{"$f":"IFERROR(VLOOKUP(Tabla_SERIED_11_6[[#This Row],[IdEstablecimiento]],'[2]Establecimiento 2023'!$A$1:$E$183,5,FALSE),0)","v":"04203-Los Vilos"},"16090300","2023-04-19T08:48:20",73,73]
[2,"5",2023,"105490",{"$f":"IFERROR(VLOOKUP(Tabla_SERIED_11_6[[#This Row],[IdEstablecimiento]],'[2]Establecimiento 2023'!$A$1:$E$183,3,FALSE),0)","v":"105490-Posta de Salud Rural El Durazno(Combarbalá)"},{"$f":"IFERROR(VLOOKUP(Tabla_SERIED_11_6[[#This Row],[IdEstablecimiento]],'[2]Establecimiento 2023'!$A$1:$E$183,5,FALSE),0)","v":"04302-Combarbalá"},"16090300","2023-04-20T10:28:21",40,40]
[2,"5",2023,"105505",{"$f":"IFERROR(VLOOKUP(Tabla_SERIED_11_6[[#This Row],[IdEstablecimiento]],'[2]Establecimiento 2023'!$A$1:$E$183,3,FALSE),0)","v":"105505-Posta de Salud Rural Los Choros"},{"$f":"IFERROR(VLOOKUP(Tabla_SERIED_11_6[[#This Row],[IdEstablecimiento]],'[2]Establecimiento 2023'!$A$1:$E$183,5,FALSE),0)","v":"04104-La Higuera"},"16100300","2023-07-19T15:14:29",21,9,12]
[2,"5",2023,"105304",{"$f":"IFERROR(VLOOKUP(Tabla_SERIED_11_6[[#This Row],[IdEstablecimiento]],'[2]Establecimiento 2023'!$A$1:$E$183,3,FALSE),0)","v":"105304-Centro de Salud Familiar Santa Cecilia"},{"$f":"IFERROR(VLOOKUP(Tabla_SERIED_11_6[[#This Row],[IdEstablecimiento]],'[2]Establecimiento 2023'!$A$1:$E$183,5,FALSE),0)","v":"04102-Coquimbo"},"15080010","2023-04-20T07:04:33",2,{"$nulls":7},0,null,0,2,0]
[2,"5",2023,"105302",{"$f":"IFERROR(VLOOKUP(Tabla_SERIED_11_6[[#This Row],[IdEstablecimiento]],'[2]Establecimiento 2023'!$A$1:$E$183,3,FALSE),0)","v":"105302-Centro de Salud Familiar Pedro Aguirre Cerda"},{"$f":"IFERROR(VLOOKUP(Tabla_SERIED_11_6[[#This Row],[IdEstablecimiento]],'[2]Establecimiento 2023'!$A$1:$E$183,5,FALSE),0)","v":"04101-La Serena"},"15901200","2023-04-19T08:11:45",9.2,null,null,9.2]
[2,"5",2023,"105310",{"$f":"IFERROR(VLOOKUP(Tabla_SERIED_11_6[[#This Row],[IdEstablecimiento]],'[2]Establecimiento 2023'!$A$1:$E$183,3,FALSE),0)","v":"105310-Centro de Salud Familiar Pichasca"},{"$f":"IFERROR(VLOOKUP(Tabla_SERIED_11_6[[#This Row],[IdEstablecimiento]],'[2]Establecimiento 2023'!$A$1:$E$183,5,FALSE),0)","v":"04305-Rio Hurtado"},"16200210","2023-04-19T08:12:50",17,17]
[2,"5",2023,"105405",{"$f":"IFERROR(VLOOKUP(Tabla_SERIED_11_6[[#This Row],[IdEstablecimiento]],'[2]Establecimiento 2023'!$A$1:$E$183,3,FALSE),0)","v":"105405-Posta de Salud Rural Guanaqueros"},{"$f":"IFERROR(VLOOKUP(Tabla_SERIED_11_6[[#This Row],[IdEstablecimiento]],'[2]Establecimiento 2023'!$A$1:$E$183,5,FALSE),0)","v":"04102-Coquimbo"},"15050100","2023-05-16T14:49:42",53,27,27,0,2,9,9,9,15,7,2,null,0,0,0]
[2,"5",2023,"105441",{"$f":"IFERROR(VLOOKUP(Tabla_SERIED_11_6[[#This Row],[IdEstablecimiento]],'[2]Establecimiento 2023'!$A$1:$E$183,3,FALSE),0)","v":"105441-Posta de Salud Rural Manquehua"},{"$f":"IFERROR(VLOOKUP(Tabla_SERIED_11_6[[#This Row],[IdEstablecimiento]],'[2]Establecimiento 2023'!$A$1:$E$183,5,FALSE),0)","v":"04302-Combarbalá"},"15900010","2023-04-20T10:47:12",2.4,null,null,2.4]
[2,"5",2023,"105313",{"$f":"IFERROR(VLOOKUP(Tabla_SERIED_11_6[[#This Row],[IdEstablecimiento]],'[2]Establecimiento 2023'!$A$1:$E$183,3,FALSE),0)","v":"105313-Centro de Salud Familiar Dr. Emilio Schaffhauser"},{"$f":"IFERROR(VLOOKUP(Tabla_SERIED_11_6[[#This Row],[IdEstablecimiento]],'[2]Establecimiento 2023'!$A$1:$E$183,5,FALSE),0)","v":"04101-La Serena"},"15900010","2023-04-19T08:13:37",268,33.6,69.6,164.8]
[2,"5",2023,"105314",{"$f":"IFERROR(VLOOKUP(Tabla_SERIED_11_6[[#This Row],[IdEstablecimiento]],'[2]Establecimiento 2023'!$A$1:$E$183,3,FALSE),0)","v":"105314-Centro de Salud Familiar La Higuera"},{"$f":"IFERROR(VLOOKUP(Tabla_SERIED_11_6[[#This Row],[IdEstablecimiento]],'[2]Establecimiento 2023'!$A$1:$E$183,5,FALSE),0)","v":"04104-La Higuera"},"15050200","2023-07-19T15:12:41",1,null,1,null,null,1]
[2,"5",2023,"105305",{"$f":"IFERROR(VLOOKUP(Tabla_SERIED_11_6[[#This Row],[IdEstablecimiento]],'[2]Establecimiento 2023'!$A$1:$E$183,3,FALSE),0)","v":"105305-Centro de Salud Familiar Tierras Blancas"},{"$f":"IFERROR(VLOOKUP(Tabla_SERIED_11_6[[#This Row],[IdEstablecimiento]],'[2]Establecimiento 2023'!$A$1:$E$183,5,FALSE),0)","v":"04102-Coquimbo"},"16200220","2023-04-20T07:04:50",79,22,57]
[2,"5",2023,"105311",{"$f":"IFERROR(VLOOKUP(Tabla_SERIED_11_6[[#This Row],[IdEstablecimiento]],'[2]Establecimiento 2023'!$A$1:$E$183,3,FALSE),0)","v":"105311-Centro de Salud Familiar Chañaral Alto"},{"$f":"IFERROR(VLOOKUP(Tabla_SERIED_11_6[[#This Row],[IdEstablecimiento]],'[2]Establecimiento 2023'!$A$1:$E$183,5,FALSE),0)","v":"04303-Monte Patria"},"15900050","2023-04-19T08:13:04",4,3,1,null,null,2,1,null,null,1]
[2,"5",2023,"105700",{"$f":"IFERROR(VLOOKUP(Tabla_SERIED_11_6[[#This Row],[IdEstablecimiento]],'[2]Establecimiento 2023'!$A$1:$E$183,3,FALSE),0)","v":"105700-Centro Comunitario de Salud Familiar Villa el Indio"},{"$f":"IFERROR(VLOOKUP(Tabla_SERIED_11_6[[#This Row],[IdEstablecimiento]],'[2]Establecimiento 2023'!$A$1:$E$183,5,FALSE),0)","v":"04101-La Serena"},"15010100","2023-04-19T09:01:15",6,{"$nulls":3},6]
[2,"5",2023,"200366",{"$f":"IFERROR(VLOOKUP(Tabla_SERIED_11_6[[#This Row],[IdEstablecimiento]],'[2]Establecimiento 2023'!$A$1:$E$183,3,FALSE),0)","v":"200366-Centro de Salud Familiar Urbano de Illapel"},{"$f":"IFERROR(VLOOKUP(Tabla_SERIED_11_6[[#This Row],[IdEstablecimiento]],'[2]Establecimiento 2023'!$A$1:$E$183,5,FALSE),0)","v":"04201-Illapel"},"15020200","2023-04-19T09:02:37",14,{"$nulls":4},0,10,4]
[2,"5",2023,"200569",{"$f":"IFERROR(VLOOKUP(Tabla_SERIED_11_6[[#This Row],[IdEstablecimiento]],'[2]Establecimiento 2023'!$A$1:$E$183,3,FALSE),0)","v":"200569-Centro de Salud Familiar Fray Jorge"},{"$f":"IFERROR(VLOOKUP(Tabla_SERIED_11_6[[#This Row],[IdEstablecimiento]],'[2]Establecimiento 2023'!$A$1:$E$183,5,FALSE),0)","v":"04301-Ovalle"},"16200210","2023-04-20T10:51:47",4,4]
[2,"5",2023,"105446",{"$f":"IFERROR(VLOOKUP(Tabla_SERIED_11_6[[#This Row],[IdEstablecimiento]],'[2]Establecimiento 2023'!$A$1:$E$183,3,FALSE),0)","v":"105446-Posta de Salud Rural Matancilla"},{"$f":"IFERROR(VLOOKUP(Tabla_SERIED_11_6[[#This Row],[IdEstablecimiento]],'[2]Establecimiento 2023'!$A$1:$E$183,5,FALSE),0)","v":"04201-Illapel"},"15050100","2023-04-19T08:32:17",1,1,{"$nulls":7},1]
[2,"5",2023,"105317",{"$f":"IFERROR(VLOOKUP(Tabla_SERIED_11_6[[#This Row],[IdEstablecimiento]],'[2]Establecimiento 2023'!$A$1:$E$183,3,FALSE),0)","v":"105317-Centro de Salud Familiar Jorge Jordán Domic"},{"$f":"IFERROR(VLOOKUP(Tabla_SERIED_11_6[[#This Row],[IdEstablecimiento]],'[2]Establecimiento 2023'!$A$1:$E$183,5,FALSE),0)","v":"04301-Ovalle"},"15020200","2023-04-20T13:14:49",2,{"$nulls":4},2]
[2,"5",2023,"105326",{"$f":"IFERROR(VLOOKUP(Tabla_SERIED_11_6[[#This Row],[IdEstablecimiento]],'[2]Establecimiento 2023'!$A$1:$E$183,3,FALSE),0)","v":"105326-Centro de Salud Familiar Villa San Rafael de Rozas"},{"$f":"IFERROR(VLOOKUP(Tabla_SERIED_11_6[[#This Row],[IdEstablecimiento]],'[2]Establecimiento 2023'!$A$1:$E$183,5,FALSE),0)","v":"04201-Illapel"},"15030100","2023-04-19T08:16:07",8,null,4,4]
[2,"5",2023,"105448",{"$f":"IFERROR(VLOOKUP(Tabla_SERIED_11_6[[#This Row],[IdEstablecimiento]],'[2]Establecimiento 2023'!$A$1:$E$183,3,FALSE),0)","v":"105448-Posta de Salud Rural Santa Virginia"},{"$f":"IFERROR(VLOOKUP(Tabla_SERIED_11_6[[#This Row],[IdEstablecimiento]],'[2]Establecimiento 2023'!$A$1:$E$183,5,FALSE),0)","v":"04201-Illapel"},"16100300","2023-04-19T08:34:31",41,19,22]
[2,"5",2023,"105458",{"$f":"IFERROR(VLOOKUP(Tabla_SERIED_11_6[[#This Row],[IdEstablecimiento]],'[2]Establecimiento 2023'!$A$1:$E$183,3,FALSE),0)","v":"105458-Posta de Salud Rural Tahuinco"},{"$f":"IFERROR(VLOOKUP(Tabla_SERIED_11_6[[#This Row],[IdEstablecimiento]],'[2]Establecimiento 2023'!$A$1:$E$183,5,FALSE),0)","v":"04204-Salamanca"},"15080008","2023-04-19T08:37:50",12,{"$nulls":7},2,null,8,1,1]
[2,"5",2023,"105462",{"$f":"IFERROR(VLOOKUP(Tabla_SERIED_11_6[[#This Row],[IdEstablecimiento]],'[2]Establecimiento 2023'!$A$1:$E$183,3,FALSE),0)","v":"105462-Posta de Salud Rural El Sauce (Combarbalá)"},{"$f":"IFERROR(VLOOKUP(Tabla_SERIED_11_6[[#This Row],[IdEstablecimiento]],'[2]Establecimiento 2023'!$A$1:$E$183,5,FALSE),0)","v":"04302-Combarbalá"},"15900030","2023-04-20T10:26:07",4.4,{"$nulls":4},4.4]
[2,"5",2023,"105414",{"$f":"IFERROR(VLOOKUP(Tabla_SERIED_11_6[[#This Row],[IdEstablecimiento]],'[2]Establecimiento 2023'!$A$1:$E$183,3,FALSE),0)","v":"105414-Posta de Salud Rural Serón"},{"$f":"IFERROR(VLOOKUP(Tabla_SERIED_11_6[[#This Row],[IdEstablecimiento]],'[2]Establecimiento 2023'!$A$1:$E$183,5,FALSE),0)","v":"04305-Rio Hurtado"},"16090300","2023-04-19T08:20:44",31,31]
[2,"5",2023,"105430",{"$f":"IFERROR(VLOOKUP(Tabla_SERIED_11_6[[#This Row],[IdEstablecimiento]],'[2]Establecimiento 2023'!$A$1:$E$183,3,FALSE),0)","v":"105430-Posta de Salud Rural Mialqui"},{"$f":"IFERROR(VLOOKUP(Tabla_SERIED_11_6[[#This Row],[IdEstablecimiento]],'[2]Establecimiento 2023'!$A$1:$E$183,5,FALSE),0)","v":"04303-Monte Patria"},"16090300","2023-04-19T08:22:20",36,36]
[2,"5",2023,"105450",{"$f":"IFERROR(VLOOKUP(Tabla_SERIED_11_6[[#This Row],[IdEstablecimiento]],'[2]Establecimiento 2023'!$A$1:$E$183,3,FALSE),0)","v":"105450-Posta de Salud Rural Mincha Norte"},{"$f":"IFERROR(VLOOKUP(Tabla_SERIED_11_6[[#This Row],[IdEstablecimiento]],'[2]Establecimiento 2023'!$A$1:$E$183,5,FALSE),0)","v":"04202-Canela"},"16090600","2023-04-20T09:29:06",1,1]
[2,"5",2023,"105451",{"$f":"IFERROR(VLOOKUP(Tabla_SERIED_11_6[[#This Row],[IdEstablecimiento]],'[2]Establecimiento 2023'!$A$1:$E$183,3,FALSE),0)","v":"105451-Posta de Salud Rural Agua Fría"},{"$f":"IFERROR(VLOOKUP(Tabla_SERIED_11_6[[#This Row],[IdEstablecimiento]],'[2]Establecimiento 2023'!$A$1:$E$183,5,FALSE),0)","v":"04202-Canela"},"15050100","2023-04-20T09:29:34",4,1,3,{"$nulls":4},1,2,1]
[2,"5",2023,"105471",{"$f":"IFERROR(VLOOKUP(Tabla_SERIED_11_6[[#This Row],[IdEstablecimiento]],'[2]Establecimiento 2023'!$A$1:$E$183,3,FALSE),0)","v":"105471-Posta de Salud Rural Peralillo Vicuña"},{"$f":"IFERROR(VLOOKUP(Tabla_SERIED_11_6[[#This Row],[IdEstablecimiento]],'[2]Establecimiento 2023'!$A$1:$E$183,5,FALSE),0)","v":"04106-Vicuña"},"15080008","2023-04-19T08:46:14",11,{"$nulls":7},6,null,4,null,1]
[2,"5",2023,"105491",{"$f":"IFERROR(VLOOKUP(Tabla_SERIED_11_6[[#This Row],[IdEstablecimiento]],'[2]Establecimiento 2023'!$A$1:$E$183,3,FALSE),0)","v":"105491-Posta de Salud Rural Quelén Bajo"},{"$f":"IFERROR(VLOOKUP(Tabla_SERIED_11_6[[#This Row],[IdEstablecimiento]],'[2]Establecimiento 2023'!$A$1:$E$183,5,FALSE),0)","v":"04204-Salamanca"},"16090300","2023-04-21T09:18:38",123,123]
[2,"5",2023,"105499",{"$f":"IFERROR(VLOOKUP(Tabla_SERIED_11_6[[#This Row],[IdEstablecimiento]],'[2]Establecimiento 2023'!$A$1:$E$183,3,FALSE),0)","v":"105499-Posta de Salud Rural Lambert"},{"$f":"IFERROR(VLOOKUP(Tabla_SERIED_11_6[[#This Row],[IdEstablecimiento]],'[2]Establecimiento 2023'!$A$1:$E$183,5,FALSE),0)","v":"04101-La Serena"},"15080008","2023-04-19T08:56:44",4,{"$nulls":7},3,{"$nulls":3},1]
[2,"5",2023,"105465",{"$f":"IFERROR(VLOOKUP(Tabla_SERIED_11_6[[#This Row],[IdEstablecimiento]],'[2]Establecimiento 2023'!$A$1:$E$183,3,FALSE),0)","v":"105465-Posta de Salud Rural Ramadilla"},{"$f":"IFERROR(VLOOKUP(Tabla_SERIED_11_6[[#This Row],[IdEstablecimiento]],'[2]Establecimiento 2023'!$A$1:$E$183,5,FALSE),0)","v":"04302-Combarbalá"},"15010200","2023-04-20T10:27:04",20,{"$nulls":5},6,14]
[2,"5",2023,"105319",{"$f":"IFERROR(VLOOKUP(Tabla_SERIED_11_6[[#This Row],[IdEstablecimiento]],'[2]Establecimiento 2023'!$A$1:$E$183,3,FALSE),0)","v":"105319-Centro de Salud Familiar Cardenal Raúl Silva Henríquez de La Serena"},{"$f":"IFERROR(VLOOKUP(Tabla_SERIED_11_6[[#This Row],[IdEstablecimiento]],'[2]Establecimiento 2023'!$A$1:$E$183,5,FALSE),0)","v":"04101-La Serena"},"16200220","2023-04-19T08:15:29",47,20,27]
[2,"5",2023,"105323",{"$f":"IFERROR(VLOOKUP(Tabla_SERIED_11_6[[#This Row],[IdEstablecimiento]],'[2]Establecimiento 2023'!$A$1:$E$183,3,FALSE),0)","v":"105323-Centro de Salud Familiar Dr. Sergio Aguilar Delgado"},{"$f":"IFERROR(VLOOKUP(Tabla_SERIED_11_6[[#This Row],[IdEstablecimiento]],'[2]Establecimiento 2023'!$A$1:$E$183,5,FALSE),0)","v":"04102-Coquimbo"},"16100300","2023-04-20T07:09:46",956,363,593]
[2,"5",2023,"105702",{"$f":"IFERROR(VLOOKUP(Tabla_SERIED_11_6[[#This Row],[IdEstablecimiento]],'[2]Establecimiento 2023'!$A$1:$E$183,3,FALSE),0)","v":"105702-Centro Comunitario de Salud Familiar Lambert"},{"$f":"IFERROR(VLOOKUP(Tabla_SERIED_11_6[[#This Row],[IdEstablecimiento]],'[2]Establecimiento 2023'!$A$1:$E$183,5,FALSE),0)","v":"04101-La Serena"},"15080008","2023-04-19T09:01:52",24,{"$nulls":7},8,null,12,null,4]
[2,"5",2023,"200366",{"$f":"IFERROR(VLOOKUP(Tabla_SERIED_11_6[[#This Row],[IdEstablecimiento]],'[2]Establecimiento 2023'!$A$1:$E$183,3,FALSE),0)","v":"200366-Centro de Salud Familiar Urbano de Illapel"},{"$f":"IFERROR(VLOOKUP(Tabla_SERIED_11_6[[#This Row],[IdEstablecimiento]],'[2]Establecimiento 2023'!$A$1:$E$183,5,FALSE),0)","v":"04201-Illapel"},"15010200","2023-04-19T09:02:37",308,{"$nulls":4},36,146,126]
[2,"5",2023,"200402",{"$f":"IFERROR(VLOOKUP(Tabla_SERIED_11_6[[#This Row],[IdEstablecimiento]],'[2]Establecimiento 2023'!$A$1:$E$183,3,FALSE),0)","v":"200402-Centro Comunitario de Salud Familiar Arcos de Pinamar"},{"$f":"IFERROR(VLOOKUP(Tabla_SERIED_11_6[[#This Row],[IdEstablecimiento]],'[2]Establecimiento 2023'!$A$1:$E$183,5,FALSE),0)","v":"04101-La Serena"},"15010200","2023-04-19T09:03:13",75,{"$nulls":4},8,36,31]
[2,"5",2023,"200607",{"$f":"IFERROR(VLOOKUP(Tabla_SERIED_11_6[[#This Row],[IdEstablecimiento]],'[2]Establecimiento 2023'!$A$1:$E$183,3,FALSE),0)","v":"200607-Centro de Salud Familiar Lila Cortés Godoy"},{"$f":"IFERROR(VLOOKUP(Tabla_SERIED_11_6[[#This Row],[IdEstablecimiento]],'[2]Establecimiento 2023'!$A$1:$E$183,5,FALSE),0)","v":"04102-Coquimbo"},"15010200","2023-04-21T09:23:24",520,{"$nulls":4},100,240,180]
[2,"5",2023,"200607",{"$f":"IFERROR(VLOOKUP(Tabla_SERIED_11_6[[#This Row],[IdEstablecimiento]],'[2]Establecimiento 2023'!$A$1:$E$183,3,FALSE),0)","v":"200607-Centro de Salud Familiar Lila Cortés Godoy"},{"$f":"IFERROR(VLOOKUP(Tabla_SERIED_11_6[[#This Row],[IdEstablecimiento]],'[2]Establecimiento 2023'!$A$1:$E$183,5,FALSE),0)","v":"04102-Coquimbo"},"15020100","2023-04-21T09:23:24",10,0,0,0,6,4,0,0,0,0,0,0,0]
[2,"5",2023,"105107",{"$f":"IFERROR(VLOOKUP(Tabla_SERIED_11_6[[#This Row],[IdEstablecimiento]],'[2]Establecimiento 2023'!$A$1:$E$183,3,FALSE),0)","v":"105107-Hospital San Juan de Dios (Vicuña)"},{"$f":"IFERROR(VLOOKUP(Tabla_SERIED_11_6[[#This Row],[IdEstablecimiento]],'[2]Establecimiento 2023'!$A$1:$E$183,5,FALSE),0)","v":"105107-Hospital Vicuña"},"15050100","2023-04-19T08:10:44",222,91,131,1,3,25,32,26,55,39,33,null,5,null,3]
[2,"5",2023,"105105",{"$f":"IFERROR(VLOOKUP(Tabla_SERIED_11_6[[#This Row],[IdEstablecimiento]],'[2]Establecimiento 2023'!$A$1:$E$183,3,FALSE),0)","v":"105105-Hospital San Juan de Dios (Combarbalá)"},{"$f":"IFERROR(VLOOKUP(Tabla_SERIED_11_6[[#This Row],[IdEstablecimiento]],'[2]Establecimiento 2023'!$A$1:$E$183,5,FALSE),0)","v":"105105-Hospital Combarbalá"},"16090300","2023-04-20T13:35:11",362,362]
[2,"5",2023,"105302",{"$f":"IFERROR(VLOOKUP(Tabla_SERIED_11_6[[#This Row],[IdEstablecimiento]],'[2]Establecimiento 2023'!$A$1:$E$183,3,FALSE),0)","v":"105302-Centro de Salud Familiar Pedro Aguirre Cerda"},{"$f":"IFERROR(VLOOKUP(Tabla_SERIED_11_6[[#This Row],[IdEstablecimiento]],'[2]Establecimiento 2023'!$A$1:$E$183,5,FALSE),0)","v":"04101-La Serena"},"15010500","2023-04-19T08:11:45",16,null,null,6,null,2,4,4]
[2,"5",2023,"105305",{"$f":"IFERROR(VLOOKUP(Tabla_SERIED_11_6[[#This Row],[IdEstablecimiento]],'[2]Establecimiento 2023'!$A$1:$E$183,3,FALSE),0)","v":"105305-Centro de Salud Familiar Tierras Blancas"},{"$f":"IFERROR(VLOOKUP(Tabla_SERIED_11_6[[#This Row],[IdEstablecimiento]],'[2]Establecimiento 2023'!$A$1:$E$183,5,FALSE),0)","v":"04102-Coquimbo"},"15050200","2023-04-20T07:04:50",12,4,8,0,0,0,0,1,5,2,null,4,0,0,0]
[2,"5",2023,"105325",{"$f":"IFERROR(VLOOKUP(Tabla_SERIED_11_6[[#This Row],[IdEstablecimiento]],'[2]Establecimiento 2023'!$A$1:$E$183,3,FALSE),0)","v":"105325-Centro de Salud Familiar Juan Pablo II (La Serena)"},{"$f":"IFERROR(VLOOKUP(Tabla_SERIED_11_6[[#This Row],[IdEstablecimiento]],'[2]Establecimiento 2023'!$A$1:$E$183,5,FALSE),0)","v":"04101-La Serena"},"15901400","2023-04-19T08:15:46",1,1,0,0,0,1,0,0]
[2,"5",2023,"105107",{"$f":"IFERROR(VLOOKUP(Tabla_SERIED_11_6[[#This Row],[IdEstablecimiento]],'[2]Establecimiento 2023'!$A$1:$E$183,3,FALSE),0)","v":"105107-Hospital San Juan de Dios (Vicuña)"},{"$f":"IFERROR(VLOOKUP(Tabla_SERIED_11_6[[#This Row],[IdEstablecimiento]],'[2]Establecimiento 2023'!$A$1:$E$183,5,FALSE),0)","v":"105107-Hospital Vicuña"},"15900030","2023-04-19T08:10:44",21.2,null,null,21.2]
[2,"5",2023,"105302",{"$f":"IFERROR(VLOOKUP(Tabla_SERIED_11_6[[#This Row],[IdEstablecimiento]],'[2]Establecimiento 2023'!$A$1:$E$183,3,FALSE),0)","v":"105302-Centro de Salud Familiar Pedro Aguirre Cerda"},{"$f":"IFERROR(VLOOKUP(Tabla_SERIED_11_6[[#This Row],[IdEstablecimiento]],'[2]Establecimiento 2023'!$A$1:$E$183,5,FALSE),0)","v":"04101-La Serena"},"15050200","2023-04-19T08:11:45",13,6,6,1,3,3,null,1,2,2,null,1]
[5,"5",2023,"200273",{"$f":"IFERROR(VLOOKUP(Tabla_SERIED_11_6[[#This Row],[IdEstablecimiento]],'[2]Establecimiento 2023'!$A$1:$E$183,3,FALSE),0)","v":"200273-Centro Comunitario de Salud Familiar Punta Mira"},{"$f":"IFERROR(VLOOKUP(Tabla_SERIED_11_6[[#This Row],[IdEstablecimiento]],'[2]Establecimiento 2023'!$A$1:$E$183,5,FALSE),0)","v":"04102-Coquimbo"},"15010400","2023-06-22T11:53:10",2,{"$nulls":6},2]
[5,"5",2023,"200538",{"$f":"IFERROR(VLOOKUP(Tabla_SERIED_11_6[[#This Row],[IdEstablecimiento]],'[2]Establecimiento 2023'!$A$1:$E$183,3,FALSE),0)","v":"200538-Centro de Salud Familiar San Isidro Calingasta"},{"$f":"IFERROR(VLOOKUP(Tabla_SERIED_11_6[[#This Row],[IdEstablecimiento]],'[2]Establecimiento 2023'!$A$1:$E$183,5,FALSE),0)","v":"04106-Vicuña"},"16200220","2023-06-22T11:54:34",7,2,5]
[2,"5",2023,"105503",{"$f":"IFERROR(VLOOKUP(Tabla_SERIED_11_6[[#This Row],[IdEstablecimiento]],'[2]Establecimiento 2023'!$A$1:$E$183,3,FALSE),0)","v":"105503-Posta de Salud Rural Tabaqueros"},{"$f":"IFERROR(VLOOKUP(Tabla_SERIED_11_6[[#This Row],[IdEstablecimiento]],'[2]Establecimiento 2023'!$A$1:$E$183,5,FALSE),0)","v":"04305-Rio Hurtado"},"16200210","2023-04-19T08:58:01",2,2]
[2,"5",2023,"200258",{"$f":"IFERROR(VLOOKUP(Tabla_SERIED_11_6[[#This Row],[IdEstablecimiento]],'[2]Establecimiento 2023'!$A$1:$E$183,3,FALSE),0)","v":"200258-Centro Comunitario de Salud Familiar Los Copihues"},{"$f":"IFERROR(VLOOKUP(Tabla_SERIED_11_6[[#This Row],[IdEstablecimiento]],'[2]Establecimiento 2023'!$A$1:$E$183,5,FALSE),0)","v":"04301-Ovalle"},"15050100","2023-04-20T10:51:26",81,34,47,1,3,5,7,5,20,20,10,null,5,1,4]
[2,"5",2023,"200499",{"$f":"IFERROR(VLOOKUP(Tabla_SERIED_11_6[[#This Row],[IdEstablecimiento]],'[2]Establecimiento 2023'!$A$1:$E$183,3,FALSE),0)","v":"200499-Centro de Salud Familiar Rural Pan de Azúcar"},{"$f":"IFERROR(VLOOKUP(Tabla_SERIED_11_6[[#This Row],[IdEstablecimiento]],'[2]Establecimiento 2023'!$A$1:$E$183,5,FALSE),0)","v":"04102-Coquimbo"},"15010400","2023-04-21T09:21:59",2,{"$nulls":4},0,2,0]
[2,"5",2023,"200538",{"$f":"IFERROR(VLOOKUP(Tabla_SERIED_11_6[[#This Row],[IdEstablecimiento]],'[2]Establecimiento 2023'!$A$1:$E$183,3,FALSE),0)","v":"200538-Centro de Salud Familiar San Isidro Calingasta"},{"$f":"IFERROR(VLOOKUP(Tabla_SERIED_11_6[[#This Row],[IdEstablecimiento]],'[2]Establecimiento 2023'!$A$1:$E$183,5,FALSE),0)","v":"04106-Vicuña"},"15010100","2023-04-19T09:03:38",39,{"$nulls":3},26,12,null,null,1]
[2,"5",2023,"200607",{"$f":"IFERROR(VLOOKUP(Tabla_SERIED_11_6[[#This Row],[IdEstablecimiento]],'[2]Establecimiento 2023'!$A$1:$E$183,3,FALSE),0)","v":"200607-Centro de Salud Familiar Lila Cortés Godoy"},{"$f":"IFERROR(VLOOKUP(Tabla_SERIED_11_6[[#This Row],[IdEstablecimiento]],'[2]Establecimiento 2023'!$A$1:$E$183,5,FALSE),0)","v":"04102-Coquimbo"},"15080009","2023-04-21T09:23:24",3,{"$nulls":8},3,0,0,0]
[2,"5",2023,"105410",{"$f":"IFERROR(VLOOKUP(Tabla_SERIED_11_6[[#This Row],[IdEstablecimiento]],'[2]Establecimiento 2023'!$A$1:$E$183,3,FALSE),0)","v":"105410-Posta de Salud Rural Hurtado"},{"$f":"IFERROR(VLOOKUP(Tabla_SERIED_11_6[[#This Row],[IdEstablecimiento]],'[2]Establecimiento 2023'!$A$1:$E$183,5,FALSE),0)","v":"04305-Rio Hurtado"},"15010200","2023-04-19T08:19:10",4,{"$nulls":6},4]
[2,"5",2023,"105427",{"$f":"IFERROR(VLOOKUP(Tabla_SERIED_11_6[[#This Row],[IdEstablecimiento]],'[2]Establecimiento 2023'!$A$1:$E$183,3,FALSE),0)","v":"105427-Posta de Salud Rural Hacienda Valdivia"},{"$f":"IFERROR(VLOOKUP(Tabla_SERIED_11_6[[#This Row],[IdEstablecimiento]],'[2]Establecimiento 2023'!$A$1:$E$183,5,FALSE),0)","v":"04303-Monte Patria"},"15010400","2023-04-19T08:21:45",2,{"$nulls":4},2]
[2,"5",2023,"105436",{"$f":"IFERROR(VLOOKUP(Tabla_SERIED_11_6[[#This Row],[IdEstablecimiento]],'[2]Establecimiento 2023'!$A$1:$E$183,3,FALSE),0)","v":"105436-Posta de Salud Rural El Maitén"},{"$f":"IFERROR(VLOOKUP(Tabla_SERIED_11_6[[#This Row],[IdEstablecimiento]],'[2]Establecimiento 2023'!$A$1:$E$183,5,FALSE),0)","v":"04303-Monte Patria"},"15010100","2023-04-19T08:29:17",4,{"$nulls":3},4]
[2,"5",2023,"105446",{"$f":"IFERROR(VLOOKUP(Tabla_SERIED_11_6[[#This Row],[IdEstablecimiento]],'[2]Establecimiento 2023'!$A$1:$E$183,3,FALSE),0)","v":"105446-Posta de Salud Rural Matancilla"},{"$f":"IFERROR(VLOOKUP(Tabla_SERIED_11_6[[#This Row],[IdEstablecimiento]],'[2]Establecimiento 2023'!$A$1:$E$183,5,FALSE),0)","v":"04201-Illapel"},"16200220","2023-04-19T08:32:17",5,3,2]
[2,"5",2023,"105456",{"$f":"IFERROR(VLOOKUP(Tabla_SERIED_11_6[[#This Row],[IdEstablecimiento]],'[2]Establecimiento 2023'!$A$1:$E$183,3,FALSE),0)","v":"105456-Posta de Salud Rural Llimpo"},{"$f":"IFERROR(VLOOKUP(Tabla_SERIED_11_6[[#This Row],[IdEstablecimiento]],'[2]Establecimiento 2023'!$A$1:$E$183,5,FALSE),0)","v":"04204-Salamanca"},"15050100","2023-04-19T08:37:10",16,7,9,null,1,null,2,2,4,5,null,null,2]
[2,"5",2023,"105300",{"$f":"IFERROR(VLOOKUP(Tabla_SERIED_11_6[[#This Row],[IdEstablecimiento]],'[2]Establecimiento 2023'!$A$1:$E$183,3,FALSE),0)","v":"105300-Centro de Salud Familiar Cardenal Caro"},{"$f":"IFERROR(VLOOKUP(Tabla_SERIED_11_6[[#This Row],[IdEstablecimiento]],'[2]Establecimiento 2023'!$A$1:$E$183,5,FALSE),0)","v":"04101-La Serena"},"16200210","2023-04-19T08:11:09",19,19]
[2,"5",2023,"105301",{"$f":"IFERROR(VLOOKUP(Tabla_SERIED_11_6[[#This Row],[IdEstablecimiento]],'[2]Establecimiento 2023'!$A$1:$E$183,3,FALSE),0)","v":"105301-Centro de Salud Familiar Las Compañías"},{"$f":"IFERROR(VLOOKUP(Tabla_SERIED_11_6[[#This Row],[IdEstablecimiento]],'[2]Establecimiento 2023'!$A$1:$E$183,5,FALSE),0)","v":"04101-La Serena"},"15020200","2023-04-19T08:11:32",4,{"$nulls":5},2,2]
[2,"5",2023,"105305",{"$f":"IFERROR(VLOOKUP(Tabla_SERIED_11_6[[#This Row],[IdEstablecimiento]],'[2]Establecimiento 2023'!$A$1:$E$183,3,FALSE),0)","v":"105305-Centro de Salud Familiar Tierras Blancas"},{"$f":"IFERROR(VLOOKUP(Tabla_SERIED_11_6[[#This Row],[IdEstablecimiento]],'[2]Establecimiento 2023'!$A$1:$E$183,5,FALSE),0)","v":"04102-Coquimbo"},"16100300","2023-04-20T07:04:50",718,296,422]
[2,"5",2023,"105312",{"$f":"IFERROR(VLOOKUP(Tabla_SERIED_11_6[[#This Row],[IdEstablecimiento]],'[2]Establecimiento 2023'!$A$1:$E$183,3,FALSE),0)","v":"105312-Centro de Salud Familiar Carén"},{"$f":"IFERROR(VLOOKUP(Tabla_SERIED_11_6[[#This Row],[IdEstablecimiento]],'[2]Establecimiento 2023'!$A$1:$E$183,5,FALSE),0)","v":"04303-Monte Patria"},"15010200","2023-04-19T08:13:21",64,{"$nulls":4},8,30,26]
[2,"5",2023,"105308",{"$f":"IFERROR(VLOOKUP(Tabla_SERIED_11_6[[#This Row],[IdEstablecimiento]],'[2]Establecimiento 2023'!$A$1:$E$183,3,FALSE),0)","v":"105308-Centro de Salud Familiar Punitaqui"},{"$f":"IFERROR(VLOOKUP(Tabla_SERIED_11_6[[#This Row],[IdEstablecimiento]],'[2]Establecimiento 2023'!$A$1:$E$183,5,FALSE),0)","v":"04304-Punitaqui"},"15900040","2023-04-24T06:47:48",4,{"$nulls":3},4]
[2,"5",2023,"105317",{"$f":"IFERROR(VLOOKUP(Tabla_SERIED_11_6[[#This Row],[IdEstablecimiento]],'[2]Establecimiento 2023'!$A$1:$E$183,3,FALSE),0)","v":"105317-Centro de Salud Familiar Jorge Jordán Domic"},{"$f":"IFERROR(VLOOKUP(Tabla_SERIED_11_6[[#This Row],[IdEstablecimiento]],'[2]Establecimiento 2023'!$A$1:$E$183,5,FALSE),0)","v":"04301-Ovalle"},"15010400","2023-04-20T13:14:49",14,{"$nulls":5},8,6]
[2,"5",2023,"105475",{"$f":"IFERROR(VLOOKUP(Tabla_SERIED_11_6[[#This Row],[IdEstablecimiento]],'[2]Establecimiento 2023'!$A$1:$E$183,3,FALSE),0)","v":"105475-Posta de Salud Rural Horcón (Paiguano)"},{"$f":"IFERROR(VLOOKUP(Tabla_SERIED_11_6[[#This Row],[IdEstablecimiento]],'[2]Establecimiento 2023'!$A$1:$E$183,5,FALSE),0)","v":"04105-Paihuano"},"15050200","2023-08-18T11:30:01",2,null,2,null,null,1,1]
[2,"5",2023,"105485",{"$f":"IFERROR(VLOOKUP(Tabla_SERIED_11_6[[#This Row],[IdEstablecimiento]],'[2]Establecimiento 2023'!$A$1:$E$183,3,FALSE),0)","v":"105485-Posta de Salud Rural Plan de Hornos"},{"$f":"IFERROR(VLOOKUP(Tabla_SERIED_11_6[[#This Row],[IdEstablecimiento]],'[2]Establecimiento 2023'!$A$1:$E$183,5,FALSE),0)","v":"04201-Illapel"},"16100300","2023-04-19T08:50:09",70,33,37]
[2,"5",2023,"105497",{"$f":"IFERROR(VLOOKUP(Tabla_SERIED_11_6[[#This Row],[IdEstablecimiento]],'[2]Establecimiento 2023'!$A$1:$E$183,3,FALSE),0)","v":"105497-Posta de Salud Rural Jabonería"},{"$f":"IFERROR(VLOOKUP(Tabla_SERIED_11_6[[#This Row],[IdEstablecimiento]],'[2]Establecimiento 2023'!$A$1:$E$183,5,FALSE),0)","v":"04202-Canela"},"16200220","2023-04-20T09:27:49",2,1,1]
[2,"5",2023,"105499",{"$f":"IFERROR(VLOOKUP(Tabla_SERIED_11_6[[#This Row],[IdEstablecimiento]],'[2]Establecimiento 2023'!$A$1:$E$183,3,FALSE),0)","v":"105499-Posta de Salud Rural Lambert"},{"$f":"IFERROR(VLOOKUP(Tabla_SERIED_11_6[[#This Row],[IdEstablecimiento]],'[2]Establecimiento 2023'!$A$1:$E$183,5,FALSE),0)","v":"04101-La Serena"},"15050100","2023-04-19T08:56:44",16,7,9,null,1,4,2,null,5,null,3,{"$nulls":3},1]
[2,"5",2023,"105106",{"$f":"IFERROR(VLOOKUP(Tabla_SERIED_11_6[[#This Row],[IdEstablecimiento]],'[2]Establecimiento 2023'!$A$1:$E$183,3,FALSE),0)","v":"105106-Hospital Dr. José Arraño (Andacollo)"},{"$f":"IFERROR(VLOOKUP(Tabla_SERIED_11_6[[#This Row],[IdEstablecimiento]],'[2]Establecimiento 2023'!$A$1:$E$183,5,FALSE),0)","v":"105106-Hospital Andacollo"},"15080008","2023-04-19T08:10:29",40,{"$nulls":7},21,null,4,7,8]
[2,"5",2023,"105300",{"$f":"IFERROR(VLOOKUP(Tabla_SERIED_11_6[[#This Row],[IdEstablecimiento]],'[2]Establecimiento 2023'!$A$1:$E$183,3,FALSE),0)","v":"105300-Centro de Salud Familiar Cardenal Caro"},{"$f":"IFERROR(VLOOKUP(Tabla_SERIED_11_6[[#This Row],[IdEstablecimiento]],'[2]Establecimiento 2023'!$A$1:$E$183,5,FALSE),0)","v":"04101-La Serena"},"15050200","2023-04-19T08:11:09",1,null,1,{"$nulls":8},1]
[2,"5",2023,"105402",{"$f":"IFERROR(VLOOKUP(Tabla_SERIED_11_6[[#This Row],[IdEstablecimiento]],'[2]Establecimiento 2023'!$A$1:$E$183,3,FALSE),0)","v":"105402-Posta de Salud Rural El Romero"},{"$f":"IFERROR(VLOOKUP(Tabla_SERIED_11_6[[#This Row],[IdEstablecimiento]],'[2]Establecimiento 2023'!$A$1:$E$183,5,FALSE),0)","v":"04101-La Serena"},"15010500","2023-04-19T08:18:12",4,{"$nulls":3},2,null,2]
[2,"5",2023,"105415",{"$f":"IFERROR(VLOOKUP(Tabla_SERIED_11_6[[#This Row],[IdEstablecimiento]],'[2]Establecimiento 2023'!$A$1:$E$183,3,FALSE),0)","v":"105415-Posta de Salud Rural Barraza"},{"$f":"IFERROR(VLOOKUP(Tabla_SERIED_11_6[[#This Row],[IdEstablecimiento]],'[2]Establecimiento 2023'!$A$1:$E$183,5,FALSE),0)","v":"04301-Ovalle"},"15050100","2023-04-20T13:16:39",22,8,14,{"$nulls":3},2,4,2,7,7]
[2,"5",2023,"105430",{"$f":"IFERROR(VLOOKUP(Tabla_SERIED_11_6[[#This Row],[IdEstablecimiento]],'[2]Establecimiento 2023'!$A$1:$E$183,3,FALSE),0)","v":"105430-Posta de Salud Rural Mialqui"},{"$f":"IFERROR(VLOOKUP(Tabla_SERIED_11_6[[#This Row],[IdEstablecimiento]],'[2]Establecimiento 2023'!$A$1:$E$183,5,FALSE),0)","v":"04303-Monte Patria"},"15010100","2023-04-19T08:22:20",8,{"$nulls":3},6,2]
[2,"5",2023,"105105",{"$f":"IFERROR(VLOOKUP(Tabla_SERIED_11_6[[#This Row],[IdEstablecimiento]],'[2]Establecimiento 2023'!$A$1:$E$183,3,FALSE),0)","v":"105105-Hospital San Juan de Dios (Combarbalá)"},{"$f":"IFERROR(VLOOKUP(Tabla_SERIED_11_6[[#This Row],[IdEstablecimiento]],'[2]Establecimiento 2023'!$A$1:$E$183,5,FALSE),0)","v":"105105-Hospital Combarbalá"},"15900020","2023-04-20T13:35:11",10.4,null,3.2,7.2]
[2,"5",2023,"105301",{"$f":"IFERROR(VLOOKUP(Tabla_SERIED_11_6[[#This Row],[IdEstablecimiento]],'[2]Establecimiento 2023'!$A$1:$E$183,3,FALSE),0)","v":"105301-Centro de Salud Familiar Las Compañías"},{"$f":"IFERROR(VLOOKUP(Tabla_SERIED_11_6[[#This Row],[IdEstablecimiento]],'[2]Establecimiento 2023'!$A$1:$E$183,5,FALSE),0)","v":"04101-La Serena"},"16090300","2023-04-19T08:11:32",538,538]
[2,"5",2023,"105302",{"$f":"IFERROR(VLOOKUP(Tabla_SERIED_11_6[[#This Row],[IdEstablecimiento]],'[2]Establecimiento 2023'!$A$1:$E$183,3,FALSE),0)","v":"105302-Centro de Salud Familiar Pedro Aguirre Cerda"},{"$f":"IFERROR(VLOOKUP(Tabla_SERIED_11_6[[#This Row],[IdEstablecimiento]],'[2]Establecimiento 2023'!$A$1:$E$183,5,FALSE),0)","v":"04101-La Serena"},"16090300","2023-04-19T08:11:45",657,657]
[2,"5",2023,"105303",{"$f":"IFERROR(VLOOKUP(Tabla_SERIED_11_6[[#This Row],[IdEstablecimiento]],'[2]Establecimiento 2023'!$A$1:$E$183,3,FALSE),0)","v":"105303-Centro de Salud Familiar San Juan"},{"$f":"IFERROR(VLOOKUP(Tabla_SERIED_11_6[[#This Row],[IdEstablecimiento]],'[2]Establecimiento 2023'!$A$1:$E$183,5,FALSE),0)","v":"04102-Coquimbo"},"15901300","2023-04-20T07:04:11",4.4,0,0,0,0,4.4,0,0]
[2,"5",2023,"105325",{"$f":"IFERROR(VLOOKUP(Tabla_SERIED_11_6[[#This Row],[IdEstablecimiento]],'[2]Establecimiento 2023'!$A$1:$E$183,3,FALSE),0)","v":"105325-Centro de Salud Familiar Juan Pablo II (La Serena)"},{"$f":"IFERROR(VLOOKUP(Tabla_SERIED_11_6[[#This Row],[IdEstablecimiento]],'[2]Establecimiento 2023'!$A$1:$E$183,5,FALSE),0)","v":"04101-La Serena"},"15020100","2023-04-19T08:15:46",6,0,0,2,4,0]
[2,"5",2023,"105405",{"$f":"IFERROR(VLOOKUP(Tabla_SERIED_11_6[[#This Row],[IdEstablecimiento]],'[2]Establecimiento 2023'!$A$1:$E$183,3,FALSE),0)","v":"105405-Posta de Salud Rural Guanaqueros"},{"$f":"IFERROR(VLOOKUP(Tabla_SERIED_11_6[[#This Row],[IdEstablecimiento]],'[2]Establecimiento 2023'!$A$1:$E$183,5,FALSE),0)","v":"04102-Coquimbo"},"15080008","2023-05-16T14:49:42",2,{"$nulls":7},2,null,0,0,0]
[2,"5",2023,"105511",{"$f":"IFERROR(VLOOKUP(Tabla_SERIED_11_6[[#This Row],[IdEstablecimiento]],'[2]Establecimiento 2023'!$A$1:$E$183,3,FALSE),0)","v":"105511-Posta de Salud Rural Los Cóndores"},{"$f":"IFERROR(VLOOKUP(Tabla_SERIED_11_6[[#This Row],[IdEstablecimiento]],'[2]Establecimiento 2023'!$A$1:$E$183,5,FALSE),0)","v":"04203-Los Vilos"},"15010200","2023-04-19T09:00:51",48,{"$nulls":4},14,18,16]
[2,"5",2023,"105723",{"$f":"IFERROR(VLOOKUP(Tabla_SERIED_11_6[[#This Row],[IdEstablecimiento]],'[2]Establecimiento 2023'!$A$1:$E$183,3,FALSE),0)","v":"105723-Centro Comunitario de Salud Familiar Limarí"},{"$f":"IFERROR(VLOOKUP(Tabla_SERIED_11_6[[#This Row],[IdEstablecimiento]],'[2]Establecimiento 2023'!$A$1:$E$183,5,FALSE),0)","v":"04301-Ovalle"},"16100300","2023-04-20T10:50:07",242,152,90]
[2,"5",2023,"105307",{"$f":"IFERROR(VLOOKUP(Tabla_SERIED_11_6[[#This Row],[IdEstablecimiento]],'[2]Establecimiento 2023'!$A$1:$E$183,3,FALSE),0)","v":"105307-Centro de Salud Familiar Monte Patria"},{"$f":"IFERROR(VLOOKUP(Tabla_SERIED_11_6[[#This Row],[IdEstablecimiento]],'[2]Establecimiento 2023'!$A$1:$E$183,5,FALSE),0)","v":"04303-Monte Patria"},"15010100","2023-04-19T08:12:29",124,{"$nulls":3},96,28]
[2,"5",2023,"105315",{"$f":"IFERROR(VLOOKUP(Tabla_SERIED_11_6[[#This Row],[IdEstablecimiento]],'[2]Establecimiento 2023'!$A$1:$E$183,3,FALSE),0)","v":"105315-Centro de Salud Familiar Cerrillos de Tamaya"},{"$f":"IFERROR(VLOOKUP(Tabla_SERIED_11_6[[#This Row],[IdEstablecimiento]],'[2]Establecimiento 2023'!$A$1:$E$183,5,FALSE),0)","v":"04301-Ovalle"},"15900020","2023-04-20T13:14:31",7.2,4.8,2.4]
[2,"5",2023,"105322",{"$f":"IFERROR(VLOOKUP(Tabla_SERIED_11_6[[#This Row],[IdEstablecimiento]],'[2]Establecimiento 2023'!$A$1:$E$183,3,FALSE),0)","v":"105322-Centro de Salud Familiar Marcos Macuada"},{"$f":"IFERROR(VLOOKUP(Tabla_SERIED_11_6[[#This Row],[IdEstablecimiento]],'[2]Establecimiento 2023'!$A$1:$E$183,5,FALSE),0)","v":"04301-Ovalle"},"15900020","2023-04-20T13:15:13",1.8,null,null,1.8]
[2,"5",2023,"105323",{"$f":"IFERROR(VLOOKUP(Tabla_SERIED_11_6[[#This Row],[IdEstablecimiento]],'[2]Establecimiento 2023'!$A$1:$E$183,3,FALSE),0)","v":"105323-Centro de Salud Familiar Dr. Sergio Aguilar Delgado"},{"$f":"IFERROR(VLOOKUP(Tabla_SERIED_11_6[[#This Row],[IdEstablecimiento]],'[2]Establecimiento 2023'!$A$1:$E$183,5,FALSE),0)","v":"04102-Coquimbo"},"15050100","2023-04-20T07:09:46",489,179,310,9,13,52,52,61,90,66,75,null,17,14,40]
[2,"5",2023,"105325",{"$f":"IFERROR(VLOOKUP(Tabla_SERIED_11_6[[#This Row],[IdEstablecimiento]],'[2]Establecimiento 2023'!$A$1:$E$183,3,FALSE),0)","v":"105325-Centro de Salud Familiar Juan Pablo II (La Serena)"},{"$f":"IFERROR(VLOOKUP(Tabla_SERIED_11_6[[#This Row],[IdEstablecimiento]],'[2]Establecimiento 2023'!$A$1:$E$183,5,FALSE),0)","v":"04101-La Serena"},"15901300","2023-04-19T08:15:46",4.4,0,0,0,4.4,0]
[2,"5",2023,"105454",{"$f":"IFERROR(VLOOKUP(Tabla_SERIED_11_6[[#This Row],[IdEstablecimiento]],'[2]Establecimiento 2023'!$A$1:$E$183,3,FALSE),0)","v":"105454-Posta de Salud Rural Cunlagua"},{"$f":"IFERROR(VLOOKUP(Tabla_SERIED_11_6[[#This Row],[IdEstablecimiento]],'[2]Establecimiento 2023'!$A$1:$E$183,5,FALSE),0)","v":"04204-Salamanca"},"16100300","2023-04-19T08:36:48",36,21,15]
[2,"5",2023,"105460",{"$f":"IFERROR(VLOOKUP(Tabla_SERIED_11_6[[#This Row],[IdEstablecimiento]],'[2]Establecimiento 2023'!$A$1:$E$183,3,FALSE),0)","v":"105460-Centro Comunitario de Salud Familiar Cogotí 18"},{"$f":"IFERROR(VLOOKUP(Tabla_SERIED_11_6[[#This Row],[IdEstablecimiento]],'[2]Establecimiento 2023'!$A$1:$E$183,5,FALSE),0)","v":"04302-Combarbalá"},"15900010","2023-04-20T10:28:45",4.8,null,1.6,3.2]
[2,"5",2023,"105469",{"$f":"IFERROR(VLOOKUP(Tabla_SERIED_11_6[[#This Row],[IdEstablecimiento]],'[2]Establecimiento 2023'!$A$1:$E$183,3,FALSE),0)","v":"105469-Posta de Salud Rural El Tambo (Vicuña)"},{"$f":"IFERROR(VLOOKUP(Tabla_SERIED_11_6[[#This Row],[IdEstablecimiento]],'[2]Establecimiento 2023'!$A$1:$E$183,5,FALSE),0)","v":"04106-Vicuña"},"15900010","2023-04-19T08:45:41",13.6,null,4,9.6]
[2,"5",2023,"105488",{"$f":"IFERROR(VLOOKUP(Tabla_SERIED_11_6[[#This Row],[IdEstablecimiento]],'[2]Establecimiento 2023'!$A$1:$E$183,3,FALSE),0)","v":"105488-Posta de Salud Rural Espíritu Santo"},{"$f":"IFERROR(VLOOKUP(Tabla_SERIED_11_6[[#This Row],[IdEstablecimiento]],'[2]Establecimiento 2023'!$A$1:$E$183,5,FALSE),0)","v":"04202-Canela"},"15050100","2023-04-20T09:27:29",1,1,{"$nulls":4},1]
[2,"5",2023,"105499",{"$f":"IFERROR(VLOOKUP(Tabla_SERIED_11_6[[#This Row],[IdEstablecimiento]],'[2]Establecimiento 2023'!$A$1:$E$183,3,FALSE),0)","v":"105499-Posta de Salud Rural Lambert"},{"$f":"IFERROR(VLOOKUP(Tabla_SERIED_11_6[[#This Row],[IdEstablecimiento]],'[2]Establecimiento 2023'!$A$1:$E$183,5,FALSE),0)","v":"04101-La Serena"},"15010200","2023-04-19T08:56:44",10,{"$nulls":5},10]
[2,"5",2023,"105304",{"$f":"IFERROR(VLOOKUP(Tabla_SERIED_11_6[[#This Row],[IdEstablecimiento]],'[2]Establecimiento 2023'!$A$1:$E$183,3,FALSE),0)","v":"105304-Centro de Salud Familiar Santa Cecilia"},{"$f":"IFERROR(VLOOKUP(Tabla_SERIED_11_6[[#This Row],[IdEstablecimiento]],'[2]Establecimiento 2023'!$A$1:$E$183,5,FALSE),0)","v":"04102-Coquimbo"},"15901200","2023-04-20T07:04:33",3.2,0,0,0,0,3.2,0,0]
[2,"5",2023,"105310",{"$f":"IFERROR(VLOOKUP(Tabla_SERIED_11_6[[#This Row],[IdEstablecimiento]],'[2]Establecimiento 2023'!$A$1:$E$183,3,FALSE),0)","v":"105310-Centro de Salud Familiar Pichasca"},{"$f":"IFERROR(VLOOKUP(Tabla_SERIED_11_6[[#This Row],[IdEstablecimiento]],'[2]Establecimiento 2023'!$A$1:$E$183,5,FALSE),0)","v":"04305-Rio Hurtado"},"15010500","2023-04-19T08:12:50",6,{"$nulls":5},4,2]
[2,"5",2023,"105314",{"$f":"IFERROR(VLOOKUP(Tabla_SERIED_11_6[[#This Row],[IdEstablecimiento]],'[2]Establecimiento 2023'!$A$1:$E$183,3,FALSE),0)","v":"105314-Centro de Salud Familiar La Higuera"},{"$f":"IFERROR(VLOOKUP(Tabla_SERIED_11_6[[#This Row],[IdEstablecimiento]],'[2]Establecimiento 2023'!$A$1:$E$183,5,FALSE),0)","v":"04104-La Higuera"},"15900010","2023-07-19T15:12:41",31.6,2.4,7.2,22]
[2,"5",2023,"105301",{"$f":"IFERROR(VLOOKUP(Tabla_SERIED_11_6[[#This Row],[IdEstablecimiento]],'[2]Establecimiento 2023'!$A$1:$E$183,3,FALSE),0)","v":"105301-Centro de Salud Familiar Las Compañías"},{"$f":"IFERROR(VLOOKUP(Tabla_SERIED_11_6[[#This Row],[IdEstablecimiento]],'[2]Establecimiento 2023'!$A$1:$E$183,5,FALSE),0)","v":"04101-La Serena"},"15010500","2023-04-19T08:11:32",6,null,null,2,4]
[2,"5",2023,"105304",{"$f":"IFERROR(VLOOKUP(Tabla_SERIED_11_6[[#This Row],[IdEstablecimiento]],'[2]Establecimiento 2023'!$A$1:$E$183,3,FALSE),0)","v":"105304-Centro de Salud Familiar Santa Cecilia"},{"$f":"IFERROR(VLOOKUP(Tabla_SERIED_11_6[[#This Row],[IdEstablecimiento]],'[2]Establecimiento 2023'!$A$1:$E$183,5,FALSE),0)","v":"04102-Coquimbo"},"16200210","2023-04-20T07:04:33",43,43]
[2,"5",2023,"105310",{"$f":"IFERROR(VLOOKUP(Tabla_SERIED_11_6[[#This Row],[IdEstablecimiento]],'[2]Establecimiento 2023'!$A$1:$E$183,3,FALSE),0)","v":"105310-Centro de Salud Familiar Pichasca"},{"$f":"IFERROR(VLOOKUP(Tabla_SERIED_11_6[[#This Row],[IdEstablecimiento]],'[2]Establecimiento 2023'!$A$1:$E$183,5,FALSE),0)","v":"04305-Rio Hurtado"},"15010400","2023-04-19T08:12:50",6,{"$nulls":5},4,2]
[2,"5",2023,"105441",{"$f":"IFERROR(VLOOKUP(Tabla_SERIED_11_6[[#This Row],[IdEstablecimiento]],'[2]Establecimiento 2023'!$A$1:$E$183,3,FALSE),0)","v":"105441-Posta de Salud Rural Manquehua"},{"$f":"IFERROR(VLOOKUP(Tabla_SERIED_11_6[[#This Row],[IdEstablecimiento]],'[2]Establecimiento 2023'!$A$1:$E$183,5,FALSE),0)","v":"04302-Combarbalá"},"16200210","2023-04-20T10:47:12",14,14]
[2,"5",2023,"105451",{"$f":"IFERROR(VLOOKUP(Tabla_SERIED_11_6[[#This Row],[IdEstablecimiento]],'[2]Establecimiento 2023'!$A$1:$E$183,3,FALSE),0)","v":"105451-Posta de Salud Rural Agua Fría"},{"$f":"IFERROR(VLOOKUP(Tabla_SERIED_11_6[[#This Row],[IdEstablecimiento]],'[2]Establecimiento 2023'!$A$1:$E$183,5,FALSE),0)","v":"04202-Canela"},"16090300","2023-04-20T09:29:34",81,81]
[2,"5",2023,"105462",{"$f":"IFERROR(VLOOKUP(Tabla_SERIED_11_6[[#This Row],[IdEstablecimiento]],'[2]Establecimiento 2023'!$A$1:$E$183,3,FALSE),0)","v":"105462-Posta de Salud Rural El Sauce (Combarbalá)"},{"$f":"IFERROR(VLOOKUP(Tabla_SERIED_11_6[[#This Row],[IdEstablecimiento]],'[2]Establecimiento 2023'!$A$1:$E$183,5,FALSE),0)","v":"04302-Combarbalá"},"15010100","2023-04-20T10:26:07",2,{"$nulls":3},2]
[2,"5",2023,"105465",{"$f":"IFERROR(VLOOKUP(Tabla_SERIED_11_6[[#This Row],[IdEstablecimiento]],'[2]Establecimiento 2023'!$A$1:$E$183,3,FALSE),0)","v":"105465-Posta de Salud Rural Ramadilla"},{"$f":"IFERROR(VLOOKUP(Tabla_SERIED_11_6[[#This Row],[IdEstablecimiento]],'[2]Establecimiento 2023'!$A$1:$E$183,5,FALSE),0)","v":"04302-Combarbalá"},"16200210","2023-04-20T10:27:04",9,9]
[2,"5",2023,"105477",{"$f":"IFERROR(VLOOKUP(Tabla_SERIED_11_6[[#This Row],[IdEstablecimiento]],'[2]Establecimiento 2023'!$A$1:$E$183,3,FALSE),0)","v":"105477-Posta de Salud Rural Pisco Elqui"},{"$f":"IFERROR(VLOOKUP(Tabla_SERIED_11_6[[#This Row],[IdEstablecimiento]],'[2]Establecimiento 2023'!$A$1:$E$183,5,FALSE),0)","v":"04105-Paihuano"},"16100300","2023-04-20T07:15:02",75,30,45]
[2,"5",2023,"105491",{"$f":"IFERROR(VLOOKUP(Tabla_SERIED_11_6[[#This Row],[IdEstablecimiento]],'[2]Establecimiento 2023'!$A$1:$E$183,3,FALSE),0)","v":"105491-Posta de Salud Rural Quelén Bajo"},{"$f":"IFERROR(VLOOKUP(Tabla_SERIED_11_6[[#This Row],[IdEstablecimiento]],'[2]Establecimiento 2023'!$A$1:$E$183,5,FALSE),0)","v":"04204-Salamanca"},"16200210","2023-04-21T09:18:38",3,3]
[2,"5",2023,"105507",{"$f":"IFERROR(VLOOKUP(Tabla_SERIED_11_6[[#This Row],[IdEstablecimiento]],'[2]Establecimiento 2023'!$A$1:$E$183,3,FALSE),0)","v":"105507-Posta de Salud Rural Huamalata"},{"$f":"IFERROR(VLOOKUP(Tabla_SERIED_11_6[[#This Row],[IdEstablecimiento]],'[2]Establecimiento 2023'!$A$1:$E$183,5,FALSE),0)","v":"04301-Ovalle"},"16200100","2023-04-20T10:48:46",5,4,1]
[2,"5",2023,"200258",{"$f":"IFERROR(VLOOKUP(Tabla_SERIED_11_6[[#This Row],[IdEstablecimiento]],'[2]Establecimiento 2023'!$A$1:$E$183,3,FALSE),0)","v":"200258-Centro Comunitario de Salud Familiar Los Copihues"},{"$f":"IFERROR(VLOOKUP(Tabla_SERIED_11_6[[#This Row],[IdEstablecimiento]],'[2]Establecimiento 2023'!$A$1:$E$183,5,FALSE),0)","v":"04301-Ovalle"},"15901300","2023-04-20T10:51:26",4.4,null,null,4.4]
[2,"5",2023,"200367",{"$f":"IFERROR(VLOOKUP(Tabla_SERIED_11_6[[#This Row],[IdEstablecimiento]],'[2]Establecimiento 2023'!$A$1:$E$183,3,FALSE),0)","v":"200367-Centro Comunitario de Salud Familiar Colonia Limarí"},{"$f":"IFERROR(VLOOKUP(Tabla_SERIED_11_6[[#This Row],[IdEstablecimiento]],'[2]Establecimiento 2023'!$A$1:$E$183,5,FALSE),0)","v":"04301-Ovalle"},"15010400","2023-04-20T10:51:05",4,{"$nulls":5},2,2]
[2,"5",2023,"105317",{"$f":"IFERROR(VLOOKUP(Tabla_SERIED_11_6[[#This Row],[IdEstablecimiento]],'[2]Establecimiento 2023'!$A$1:$E$183,3,FALSE),0)","v":"105317-Centro de Salud Familiar Jorge Jordán Domic"},{"$f":"IFERROR(VLOOKUP(Tabla_SERIED_11_6[[#This Row],[IdEstablecimiento]],'[2]Establecimiento 2023'!$A$1:$E$183,5,FALSE),0)","v":"04301-Ovalle"},"15080008","2023-04-20T13:14:49",198,{"$nulls":7},88,null,70,7,33]
[2,"5",2023,"105318",{"$f":"IFERROR(VLOOKUP(Tabla_SERIED_11_6[[#This Row],[IdEstablecimiento]],'[2]Establecimiento 2023'!$A$1:$E$183,3,FALSE),0)","v":"105318-Centro de Salud Familiar El Palqui"},{"$f":"IFERROR(VLOOKUP(Tabla_SERIED_11_6[[#This Row],[IdEstablecimiento]],'[2]Establecimiento 2023'!$A$1:$E$183,5,FALSE),0)","v":"04303-Monte Patria"},"15010100","2023-04-19T08:15:05",92,{"$nulls":3},62,30]
[2,"5",2023,"105323",{"$f":"IFERROR(VLOOKUP(Tabla_SERIED_11_6[[#This Row],[IdEstablecimiento]],'[2]Establecimiento 2023'!$A$1:$E$183,3,FALSE),0)","v":"105323-Centro de Salud Familiar Dr. Sergio Aguilar Delgado"},{"$f":"IFERROR(VLOOKUP(Tabla_SERIED_11_6[[#This Row],[IdEstablecimiento]],'[2]Establecimiento 2023'!$A$1:$E$183,5,FALSE),0)","v":"04102-Coquimbo"},"15900010","2023-04-20T07:09:46",192.8,18.4,41.6,132.8]
[2,"5",2023,"105325",{"$f":"IFERROR(VLOOKUP(Tabla_SERIED_11_6[[#This Row],[IdEstablecimiento]],'[2]Establecimiento 2023'!$A$1:$E$183,3,FALSE),0)","v":"105325-Centro de Salud Familiar Juan Pablo II (La Serena)"},{"$f":"IFERROR(VLOOKUP(Tabla_SERIED_11_6[[#This Row],[IdEstablecimiento]],'[2]Establecimiento 2023'!$A$1:$E$183,5,FALSE),0)","v":"04101-La Serena"},"15010200","2023-04-19T08:15:46",454,{"$nulls":4},46,225,183]
[2,"5",2023,"105405",{"$f":"IFERROR(VLOOKUP(Tabla_SERIED_11_6[[#This Row],[IdEstablecimiento]],'[2]Establecimiento 2023'!$A$1:$E$183,3,FALSE),0)","v":"105405-Posta de Salud Rural Guanaqueros"},{"$f":"IFERROR(VLOOKUP(Tabla_SERIED_11_6[[#This Row],[IdEstablecimiento]],'[2]Establecimiento 2023'!$A$1:$E$183,5,FALSE),0)","v":"04102-Coquimbo"},"15010400","2023-05-16T14:49:42",2,{"$nulls":4},0,0,2]
[2,"5",2023,"105433",{"$f":"IFERROR(VLOOKUP(Tabla_SERIED_11_6[[#This Row],[IdEstablecimiento]],'[2]Establecimiento 2023'!$A$1:$E$183,3,FALSE),0)","v":"105433-Posta de Salud Rural San Lorenzo (Combarbalá)"},{"$f":"IFERROR(VLOOKUP(Tabla_SERIED_11_6[[#This Row],[IdEstablecimiento]],'[2]Establecimiento 2023'!$A$1:$E$183,5,FALSE),0)","v":"04302-Combarbalá"},"16100300","2023-04-20T10:24:34",21,10,11]
[2,"5",2023,"105437",{"$f":"IFERROR(VLOOKUP(Tabla_SERIED_11_6[[#This Row],[IdEstablecimiento]],'[2]Establecimiento 2023'!$A$1:$E$183,3,FALSE),0)","v":"105437-Posta de Salud Rural Chalinga"},{"$f":"IFERROR(VLOOKUP(Tabla_SERIED_11_6[[#This Row],[IdEstablecimiento]],'[2]Establecimiento 2023'!$A$1:$E$183,5,FALSE),0)","v":"04301-Ovalle"},"15010100","2023-04-20T10:44:47",6,{"$nulls":3},6]
[2,"5",2023,"105443",{"$f":"IFERROR(VLOOKUP(Tabla_SERIED_11_6[[#This Row],[IdEstablecimiento]],'[2]Establecimiento 2023'!$A$1:$E$183,3,FALSE),0)","v":"105443-Posta de Salud Rural Cárcamo"},{"$f":"IFERROR(VLOOKUP(Tabla_SERIED_11_6[[#This Row],[IdEstablecimiento]],'[2]Establecimiento 2023'!$A$1:$E$183,5,FALSE),0)","v":"04201-Illapel"},"15010200","2023-04-19T08:30:40",16,{"$nulls":5},6,10]
[2,"5",2023,"105458",{"$f":"IFERROR(VLOOKUP(Tabla_SERIED_11_6[[#This Row],[IdEstablecimiento]],'[2]Establecimiento 2023'!$A$1:$E$183,3,FALSE),0)","v":"105458-Posta de Salud Rural Tahuinco"},{"$f":"IFERROR(VLOOKUP(Tabla_SERIED_11_6[[#This Row],[IdEstablecimiento]],'[2]Establecimiento 2023'!$A$1:$E$183,5,FALSE),0)","v":"04204-Salamanca"},"15050100","2023-04-19T08:37:50",60,23,37,null,null,3,9,6,14,19,3,null,4,1,1]
[2,"5",2023,"105458",{"$f":"IFERROR(VLOOKUP(Tabla_SERIED_11_6[[#This Row],[IdEstablecimiento]],'[2]Establecimiento 2023'!$A$1:$E$183,3,FALSE),0)","v":"105458-Posta de Salud Rural Tahuinco"},{"$f":"IFERROR(VLOOKUP(Tabla_SERIED_11_6[[#This Row],[IdEstablecimiento]],'[2]Establecimiento 2023'!$A$1:$E$183,5,FALSE),0)","v":"04204-Salamanca"},"16200210","2023-04-19T08:37:50",6,6]
[2,"5",2023,"105702",{"$f":"IFERROR(VLOOKUP(Tabla_SERIED_11_6[[#This Row],[IdEstablecimiento]],'[2]Establecimiento 2023'!$A$1:$E$183,3,FALSE),0)","v":"105702-Centro Comunitario de Salud Familiar Lambert"},{"$f":"IFERROR(VLOOKUP(Tabla_SERIED_11_6[[#This Row],[IdEstablecimiento]],'[2]Establecimiento 2023'!$A$1:$E$183,5,FALSE),0)","v":"04101-La Serena"},"15900010","2023-04-19T09:01:52",17.6,null,4,13.6]
[2,"5",2023,"200258",{"$f":"IFERROR(VLOOKUP(Tabla_SERIED_11_6[[#This Row],[IdEstablecimiento]],'[2]Establecimiento 2023'!$A$1:$E$183,3,FALSE),0)","v":"200258-Centro Comunitario de Salud Familiar Los Copihues"},{"$f":"IFERROR(VLOOKUP(Tabla_SERIED_11_6[[#This Row],[IdEstablecimiento]],'[2]Establecimiento 2023'!$A$1:$E$183,5,FALSE),0)","v":"04301-Ovalle"},"15010100","2023-04-20T10:51:26",22,{"$nulls":3},14,8]
[2,"5",2023,"200538",{"$f":"IFERROR(VLOOKUP(Tabla_SERIED_11_6[[#This Row],[IdEstablecimiento]],'[2]Establecimiento 2023'!$A$1:$E$183,3,FALSE),0)","v":"200538-Centro de Salud Familiar San Isidro Calingasta"},{"$f":"IFERROR(VLOOKUP(Tabla_SERIED_11_6[[#This Row],[IdEstablecimiento]],'[2]Establecimiento 2023'!$A$1:$E$183,5,FALSE),0)","v":"04106-Vicuña"},"15080009","2023-04-19T09:03:38",3,{"$nulls":8},3]
[2,"5",2023,"105322",{"$f":"IFERROR(VLOOKUP(Tabla_SERIED_11_6[[#This Row],[IdEstablecimiento]],'[2]Establecimiento 2023'!$A$1:$E$183,3,FALSE),0)","v":"105322-Centro de Salud Familiar Marcos Macuada"},{"$f":"IFERROR(VLOOKUP(Tabla_SERIED_11_6[[#This Row],[IdEstablecimiento]],'[2]Establecimiento 2023'!$A$1:$E$183,5,FALSE),0)","v":"04301-Ovalle"},"15050500","2023-04-20T13:15:13",3,2,1,1,null,2]
[2,"5",2023,"105400",{"$f":"IFERROR(VLOOKUP(Tabla_SERIED_11_6[[#This Row],[IdEstablecimiento]],'[2]Establecimiento 2023'!$A$1:$E$183,3,FALSE),0)","v":"105400-Posta de Salud Rural Algarrobito"},{"$f":"IFERROR(VLOOKUP(Tabla_SERIED_11_6[[#This Row],[IdEstablecimiento]],'[2]Establecimiento 2023'!$A$1:$E$183,5,FALSE),0)","v":"04101-La Serena"},"15010200","2023-04-19T08:17:21",64,{"$nulls":4},10,28,26]
[2,"5",2023,"105409",{"$f":"IFERROR(VLOOKUP(Tabla_SERIED_11_6[[#This Row],[IdEstablecimiento]],'[2]Establecimiento 2023'!$A$1:$E$183,3,FALSE),0)","v":"105409-Posta de Salud Rural El Chañar"},{"$f":"IFERROR(VLOOKUP(Tabla_SERIED_11_6[[#This Row],[IdEstablecimiento]],'[2]Establecimiento 2023'!$A$1:$E$183,5,FALSE),0)","v":"04305-Rio Hurtado"},"16200210","2023-04-19T08:18:32",1,1]
[2,"5",2023,"105465",{"$f":"IFERROR(VLOOKUP(Tabla_SERIED_11_6[[#This Row],[IdEstablecimiento]],'[2]Establecimiento 2023'!$A$1:$E$183,3,FALSE),0)","v":"105465-Posta de Salud Rural Ramadilla"},{"$f":"IFERROR(VLOOKUP(Tabla_SERIED_11_6[[#This Row],[IdEstablecimiento]],'[2]Establecimiento 2023'!$A$1:$E$183,5,FALSE),0)","v":"04302-Combarbalá"},"15080008","2023-04-20T10:27:04",4,{"$nulls":7},2,null,2]
[2,"5",2023,"105478",{"$f":"IFERROR(VLOOKUP(Tabla_SERIED_11_6[[#This Row],[IdEstablecimiento]],'[2]Establecimiento 2023'!$A$1:$E$183,3,FALSE),0)","v":"105478-Posta de Salud Rural Caimanes"},{"$f":"IFERROR(VLOOKUP(Tabla_SERIED_11_6[[#This Row],[IdEstablecimiento]],'[2]Establecimiento 2023'!$A$1:$E$183,5,FALSE),0)","v":"04203-Los Vilos"},"15900050","2023-04-19T08:47:54",2,1,1,null,1,null,null,1]
[2,"5",2023,"105479",{"$f":"IFERROR(VLOOKUP(Tabla_SERIED_11_6[[#This Row],[IdEstablecimiento]],'[2]Establecimiento 2023'!$A$1:$E$183,3,FALSE),0)","v":"105479-Posta de Salud Rural Guangualí"},{"$f":"IFERROR(VLOOKUP(Tabla_SERIED_11_6[[#This Row],[IdEstablecimiento]],'[2]Establecimiento 2023'!$A$1:$E$183,5,FALSE),0)","v":"04203-Los Vilos"},"15080008","2023-04-19T08:48:20",2,{"$nulls":7},2]
[2,"5",2023,"105499",{"$f":"IFERROR(VLOOKUP(Tabla_SERIED_11_6[[#This Row],[IdEstablecimiento]],'[2]Establecimiento 2023'!$A$1:$E$183,3,FALSE),0)","v":"105499-Posta de Salud Rural Lambert"},{"$f":"IFERROR(VLOOKUP(Tabla_SERIED_11_6[[#This Row],[IdEstablecimiento]],'[2]Establecimiento 2023'!$A$1:$E$183,5,FALSE),0)","v":"04101-La Serena"},"15010100","2023-04-19T08:56:44",4,{"$nulls":3},4]
[2,"5",2023,"105449",{"$f":"IFERROR(VLOOKUP(Tabla_SERIED_11_6[[#This Row],[IdEstablecimiento]],'[2]Establecimiento 2023'!$A$1:$E$183,3,FALSE),0)","v":"105449-Posta de Salud Rural Tunga Norte"},{"$f":"IFERROR(VLOOKUP(Tabla_SERIED_11_6[[#This Row],[IdEstablecimiento]],'[2]Establecimiento 2023'!$A$1:$E$183,5,FALSE),0)","v":"04201-Illapel"},"15050100","2023-04-19T08:35:29",2,2,{"$nulls":4},1,null,null,1]
[2,"5",2023,"105456",{"$f":"IFERROR(VLOOKUP(Tabla_SERIED_11_6[[#This Row],[IdEstablecimiento]],'[2]Establecimiento 2023'!$A$1:$E$183,3,FALSE),0)","v":"105456-Posta de Salud Rural Llimpo"},{"$f":"IFERROR(VLOOKUP(Tabla_SERIED_11_6[[#This Row],[IdEstablecimiento]],'[2]Establecimiento 2023'!$A$1:$E$183,5,FALSE),0)","v":"04204-Salamanca"},"15010100","2023-04-19T08:37:10",4,{"$nulls":3},4]
[2,"5",2023,"105464",{"$f":"IFERROR(VLOOKUP(Tabla_SERIED_11_6[[#This Row],[IdEstablecimiento]],'[2]Establecimiento 2023'!$A$1:$E$183,3,FALSE),0)","v":"105464-Posta de Salud Rural La Ligua"},{"$f":"IFERROR(VLOOKUP(Tabla_SERIED_11_6[[#This Row],[IdEstablecimiento]],'[2]Establecimiento 2023'!$A$1:$E$183,5,FALSE),0)","v":"04302-Combarbalá"},"15080008","2023-04-20T10:26:44",4,{"$nulls":7},3,{"$nulls":3},1]
[2,"5",2023,"105422",{"$f":"IFERROR(VLOOKUP(Tabla_SERIED_11_6[[#This Row],[IdEstablecimiento]],'[2]Establecimiento 2023'!$A$1:$E$183,3,FALSE),0)","v":"105422-Posta de Salud Rural Hornillos"},{"$f":"IFERROR(VLOOKUP(Tabla_SERIED_11_6[[#This Row],[IdEstablecimiento]],'[2]Establecimiento 2023'!$A$1:$E$183,5,FALSE),0)","v":"04301-Ovalle"},"15050100","2023-04-20T13:18:01",2,null,2,{"$nulls":7},1,null,1]
[2,"5",2023,"105432",{"$f":"IFERROR(VLOOKUP(Tabla_SERIED_11_6[[#This Row],[IdEstablecimiento]],'[2]Establecimiento 2023'!$A$1:$E$183,3,FALSE),0)","v":"105432-Posta de Salud Rural Rapel (Monte Patria)"},{"$f":"IFERROR(VLOOKUP(Tabla_SERIED_11_6[[#This Row],[IdEstablecimiento]],'[2]Establecimiento 2023'!$A$1:$E$183,5,FALSE),0)","v":"04303-Monte Patria"},"15010100","2023-04-19T08:22:56",4,{"$nulls":3},2,2]
[2,"5",2023,"105441",{"$f":"IFERROR(VLOOKUP(Tabla_SERIED_11_6[[#This Row],[IdEstablecimiento]],'[2]Establecimiento 2023'!$A$1:$E$183,3,FALSE),0)","v":"105441-Posta de Salud Rural Manquehua"},{"$f":"IFERROR(VLOOKUP(Tabla_SERIED_11_6[[#This Row],[IdEstablecimiento]],'[2]Establecimiento 2023'!$A$1:$E$183,5,FALSE),0)","v":"04302-Combarbalá"},"16090300","2023-04-20T10:47:12",91,91]
[2,"5",2023,"105472",{"$f":"IFERROR(VLOOKUP(Tabla_SERIED_11_6[[#This Row],[IdEstablecimiento]],'[2]Establecimiento 2023'!$A$1:$E$183,3,FALSE),0)","v":"105472-Posta de Salud Rural Rivadavia"},{"$f":"IFERROR(VLOOKUP(Tabla_SERIED_11_6[[#This Row],[IdEstablecimiento]],'[2]Establecimiento 2023'!$A$1:$E$183,5,FALSE),0)","v":"04106-Vicuña"},"15010200","2023-04-19T08:46:40",20,{"$nulls":5},6,14]
[2,"5",2023,"105478",{"$f":"IFERROR(VLOOKUP(Tabla_SERIED_11_6[[#This Row],[IdEstablecimiento]],'[2]Establecimiento 2023'!$A$1:$E$183,3,FALSE),0)","v":"105478-Posta de Salud Rural Caimanes"},{"$f":"IFERROR(VLOOKUP(Tabla_SERIED_11_6[[#This Row],[IdEstablecimiento]],'[2]Establecimiento 2023'!$A$1:$E$183,5,FALSE),0)","v":"04203-Los Vilos"},"16200220","2023-04-19T08:47:54",1,null,1]
[2,"5",2023,"105492",{"$f":"IFERROR(VLOOKUP(Tabla_SERIED_11_6[[#This Row],[IdEstablecimiento]],'[2]Establecimiento 2023'!$A$1:$E$183,3,FALSE),0)","v":"105492-Posta de Salud Rural Camisa"},{"$f":"IFERROR(VLOOKUP(Tabla_SERIED_11_6[[#This Row],[IdEstablecimiento]],'[2]Establecimiento 2023'!$A$1:$E$183,5,FALSE),0)","v":"04204-Salamanca"},"16090300","2023-04-21T09:19:00",47,47]
[2,"5",2023,"105459",{"$f":"IFERROR(VLOOKUP(Tabla_SERIED_11_6[[#This Row],[IdEstablecimiento]],'[2]Establecimiento 2023'!$A$1:$E$183,3,FALSE),0)","v":"105459-Posta de Salud Rural Barrancas"},{"$f":"IFERROR(VLOOKUP(Tabla_SERIED_11_6[[#This Row],[IdEstablecimiento]],'[2]Establecimiento 2023'!$A$1:$E$183,5,FALSE),0)","v":"04302-Combarbalá"},"16090300","2023-04-20T10:25:20",59,59]
[2,"5",2023,"105467",{"$f":"IFERROR(VLOOKUP(Tabla_SERIED_11_6[[#This Row],[IdEstablecimiento]],'[2]Establecimiento 2023'!$A$1:$E$183,3,FALSE),0)","v":"105467-Posta de Salud Rural Diaguitas"},{"$f":"IFERROR(VLOOKUP(Tabla_SERIED_11_6[[#This Row],[IdEstablecimiento]],'[2]Establecimiento 2023'!$A$1:$E$183,5,FALSE),0)","v":"04106-Vicuña"},"15900010","2023-04-19T08:45:07",3.3,3.3]
[2,"5",2023,"105314",{"$f":"IFERROR(VLOOKUP(Tabla_SERIED_11_6[[#This Row],[IdEstablecimiento]],'[2]Establecimiento 2023'!$A$1:$E$183,3,FALSE),0)","v":"105314-Centro de Salud Familiar La Higuera"},{"$f":"IFERROR(VLOOKUP(Tabla_SERIED_11_6[[#This Row],[IdEstablecimiento]],'[2]Establecimiento 2023'!$A$1:$E$183,5,FALSE),0)","v":"04104-La Higuera"},"15010500","2023-07-19T15:12:41",2,null,null,2]
[2,"5",2023,"200538",{"$f":"IFERROR(VLOOKUP(Tabla_SERIED_11_6[[#This Row],[IdEstablecimiento]],'[2]Establecimiento 2023'!$A$1:$E$183,3,FALSE),0)","v":"200538-Centro de Salud Familiar San Isidro Calingasta"},{"$f":"IFERROR(VLOOKUP(Tabla_SERIED_11_6[[#This Row],[IdEstablecimiento]],'[2]Establecimiento 2023'!$A$1:$E$183,5,FALSE),0)","v":"04106-Vicuña"},"15900010","2023-04-19T09:03:38",41.6,null,8,33.6]
[2,"5",2023,"200607",{"$f":"IFERROR(VLOOKUP(Tabla_SERIED_11_6[[#This Row],[IdEstablecimiento]],'[2]Establecimiento 2023'!$A$1:$E$183,3,FALSE),0)","v":"200607-Centro de Salud Familiar Lila Cortés Godoy"},{"$f":"IFERROR(VLOOKUP(Tabla_SERIED_11_6[[#This Row],[IdEstablecimiento]],'[2]Establecimiento 2023'!$A$1:$E$183,5,FALSE),0)","v":"04102-Coquimbo"},"15050100","2023-04-21T09:23:24",637,234,403,9,23,77,85,78,120,90,108,null,42,5,0]
[2,"5",2023,"105325",{"$f":"IFERROR(VLOOKUP(Tabla_SERIED_11_6[[#This Row],[IdEstablecimiento]],'[2]Establecimiento 2023'!$A$1:$E$183,3,FALSE),0)","v":"105325-Centro de Salud Familiar Juan Pablo II (La Serena)"},{"$f":"IFERROR(VLOOKUP(Tabla_SERIED_11_6[[#This Row],[IdEstablecimiento]],'[2]Establecimiento 2023'!$A$1:$E$183,5,FALSE),0)","v":"04101-La Serena"},"15050200","2023-04-19T08:15:46",15,6,8,0,1,0,1,0,7,6,null,0,0,0,0]
[2,"5",2023,"105402",{"$f":"IFERROR(VLOOKUP(Tabla_SERIED_11_6[[#This Row],[IdEstablecimiento]],'[2]Establecimiento 2023'!$A$1:$E$183,3,FALSE),0)","v":"105402-Posta de Salud Rural El Romero"},{"$f":"IFERROR(VLOOKUP(Tabla_SERIED_11_6[[#This Row],[IdEstablecimiento]],'[2]Establecimiento 2023'!$A$1:$E$183,5,FALSE),0)","v":"04101-La Serena"},"15010200","2023-04-19T08:18:12",24,{"$nulls":4},4,6,14]
[2,"5",2023,"105416",{"$f":"IFERROR(VLOOKUP(Tabla_SERIED_11_6[[#This Row],[IdEstablecimiento]],'[2]Establecimiento 2023'!$A$1:$E$183,3,FALSE),0)","v":"105416-Posta de Salud Rural Camarico (Ovalle)"},{"$f":"IFERROR(VLOOKUP(Tabla_SERIED_11_6[[#This Row],[IdEstablecimiento]],'[2]Establecimiento 2023'!$A$1:$E$183,5,FALSE),0)","v":"04301-Ovalle"},"16100300","2023-04-20T13:16:53",86,42,44]
[2,"5",2023,"105444",{"$f":"IFERROR(VLOOKUP(Tabla_SERIED_11_6[[#This Row],[IdEstablecimiento]],'[2]Establecimiento 2023'!$A$1:$E$183,3,FALSE),0)","v":"105444-Posta de Salud Rural Huintil"},{"$f":"IFERROR(VLOOKUP(Tabla_SERIED_11_6[[#This Row],[IdEstablecimiento]],'[2]Establecimiento 2023'!$A$1:$E$183,5,FALSE),0)","v":"04201-Illapel"},"15010200","2023-04-19T08:31:37",8,{"$nulls":5},4,4]
[2,"5",2023,"105454",{"$f":"IFERROR(VLOOKUP(Tabla_SERIED_11_6[[#This Row],[IdEstablecimiento]],'[2]Establecimiento 2023'!$A$1:$E$183,3,FALSE),0)","v":"105454-Posta de Salud Rural Cunlagua"},{"$f":"IFERROR(VLOOKUP(Tabla_SERIED_11_6[[#This Row],[IdEstablecimiento]],'[2]Establecimiento 2023'!$A$1:$E$183,5,FALSE),0)","v":"04204-Salamanca"},"15050100","2023-04-19T08:36:48",3,1,2,{"$nulls":4},1,1,1]
[2,"5",2023,"105460",{"$f":"IFERROR(VLOOKUP(Tabla_SERIED_11_6[[#This Row],[IdEstablecimiento]],'[2]Establecimiento 2023'!$A$1:$E$183,3,FALSE),0)","v":"105460-Centro Comunitario de Salud Familiar Cogotí 18"},{"$f":"IFERROR(VLOOKUP(Tabla_SERIED_11_6[[#This Row],[IdEstablecimiento]],'[2]Establecimiento 2023'!$A$1:$E$183,5,FALSE),0)","v":"04302-Combarbalá"},"15010500","2023-04-20T10:28:45",2,{"$nulls":5},2]
[2,"5",2023,"105427",{"$f":"IFERROR(VLOOKUP(Tabla_SERIED_11_6[[#This Row],[IdEstablecimiento]],'[2]Establecimiento 2023'!$A$1:$E$183,3,FALSE),0)","v":"105427-Posta de Salud Rural Hacienda Valdivia"},{"$f":"IFERROR(VLOOKUP(Tabla_SERIED_11_6[[#This Row],[IdEstablecimiento]],'[2]Establecimiento 2023'!$A$1:$E$183,5,FALSE),0)","v":"04303-Monte Patria"},"16100300","2023-04-19T08:21:45",27,12,15]
[2,"5",2023,"105430",{"$f":"IFERROR(VLOOKUP(Tabla_SERIED_11_6[[#This Row],[IdEstablecimiento]],'[2]Establecimiento 2023'!$A$1:$E$183,3,FALSE),0)","v":"105430-Posta de Salud Rural Mialqui"},{"$f":"IFERROR(VLOOKUP(Tabla_SERIED_11_6[[#This Row],[IdEstablecimiento]],'[2]Establecimiento 2023'!$A$1:$E$183,5,FALSE),0)","v":"04303-Monte Patria"},"15050100","2023-04-19T08:22:20",13,5,8,0,0,1,3,3,1,2,2,null,null,1]
[3,"5",2023,"105477",{"$f":"IFERROR(VLOOKUP(Tabla_SERIED_11_6[[#This Row],[IdEstablecimiento]],'[2]Establecimiento 2023'!$A$1:$E$183,3,FALSE),0)","v":"105477-Posta de Salud Rural Pisco Elqui"},{"$f":"IFERROR(VLOOKUP(Tabla_SERIED_11_6[[#This Row],[IdEstablecimiento]],'[2]Establecimiento 2023'!$A$1:$E$183,5,FALSE),0)","v":"04105-Paihuano"},"15010100","2023-04-19T14:12:02",10,{"$nulls":3},6,4]
[3,"5",2023,"105491",{"$f":"IFERROR(VLOOKUP(Tabla_SERIED_11_6[[#This Row],[IdEstablecimiento]],'[2]Establecimiento 2023'!$A$1:$E$183,3,FALSE),0)","v":"105491-Posta de Salud Rural Quelén Bajo"},{"$f":"IFERROR(VLOOKUP(Tabla_SERIED_11_6[[#This Row],[IdEstablecimiento]],'[2]Establecimiento 2023'!$A$1:$E$183,5,FALSE),0)","v":"04204-Salamanca"},"16090300","2023-04-19T09:42:57",129,129]
[2,"5",2023,"105306",{"$f":"IFERROR(VLOOKUP(Tabla_SERIED_11_6[[#This Row],[IdEstablecimiento]],'[2]Establecimiento 2023'!$A$1:$E$183,3,FALSE),0)","v":"105306-Centro de Salud Familiar Paihuano"},{"$f":"IFERROR(VLOOKUP(Tabla_SERIED_11_6[[#This Row],[IdEstablecimiento]],'[2]Establecimiento 2023'!$A$1:$E$183,5,FALSE),0)","v":"04105-Paihuano"},"16090500","2023-04-20T07:05:06",1,1]
[2,"5",2023,"105309",{"$f":"IFERROR(VLOOKUP(Tabla_SERIED_11_6[[#This Row],[IdEstablecimiento]],'[2]Establecimiento 2023'!$A$1:$E$183,3,FALSE),0)","v":"105309-Centro de Salud Familiar Canela"},{"$f":"IFERROR(VLOOKUP(Tabla_SERIED_11_6[[#This Row],[IdEstablecimiento]],'[2]Establecimiento 2023'!$A$1:$E$183,5,FALSE),0)","v":"04202-Canela"},"15900010","2023-04-20T09:25:53",51.3,5.4,14.4,31.5]
[3,"5",2023,"105326",{"$f":"IFERROR(VLOOKUP(Tabla_SERIED_11_6[[#This Row],[IdEstablecimiento]],'[2]Establecimiento 2023'!$A$1:$E$183,3,FALSE),0)","v":"105326-Centro de Salud Familiar Villa San Rafael de Rozas"},{"$f":"IFERROR(VLOOKUP(Tabla_SERIED_11_6[[#This Row],[IdEstablecimiento]],'[2]Establecimiento 2023'!$A$1:$E$183,5,FALSE),0)","v":"04201-Illapel"},"15080008","2023-04-19T09:16:37",51,{"$nulls":7},18,null,20,2,11]
[3,"5",2023,"105106",{"$f":"IFERROR(VLOOKUP(Tabla_SERIED_11_6[[#This Row],[IdEstablecimiento]],'[2]Establecimiento 2023'!$A$1:$E$183,3,FALSE),0)","v":"105106-Hospital Dr. José Arraño (Andacollo)"},{"$f":"IFERROR(VLOOKUP(Tabla_SERIED_11_6[[#This Row],[IdEstablecimiento]],'[2]Establecimiento 2023'!$A$1:$E$183,5,FALSE),0)","v":"105106-Hospital Andacollo"},"16200210","2023-04-19T09:05:11",29,29]
[3,"5",2023,"105108",{"$f":"IFERROR(VLOOKUP(Tabla_SERIED_11_6[[#This Row],[IdEstablecimiento]],'[2]Establecimiento 2023'!$A$1:$E$183,3,FALSE),0)","v":"105108-Hospital San Pedro (Los Vilos)"},{"$f":"IFERROR(VLOOKUP(Tabla_SERIED_11_6[[#This Row],[IdEstablecimiento]],'[2]Establecimiento 2023'!$A$1:$E$183,5,FALSE),0)","v":"105108-Hospital Los Vilos"},"15050500","2023-04-20T09:19:31",3,2,1,1,null,2]
[3,"5",2023,"105301",{"$f":"IFERROR(VLOOKUP(Tabla_SERIED_11_6[[#This Row],[IdEstablecimiento]],'[2]Establecimiento 2023'!$A$1:$E$183,3,FALSE),0)","v":"105301-Centro de Salud Familiar Las Compañías"},{"$f":"IFERROR(VLOOKUP(Tabla_SERIED_11_6[[#This Row],[IdEstablecimiento]],'[2]Establecimiento 2023'!$A$1:$E$183,5,FALSE),0)","v":"04101-La Serena"},"15080008","2023-04-19T09:07:01",130,{"$nulls":7},55,null,42,7,26]
[3,"5",2023,"105501",{"$f":"IFERROR(VLOOKUP(Tabla_SERIED_11_6[[#This Row],[IdEstablecimiento]],'[2]Establecimiento 2023'!$A$1:$E$183,3,FALSE),0)","v":"105501-Posta de Salud Rural Arboleda Grande"},{"$f":"IFERROR(VLOOKUP(Tabla_SERIED_11_6[[#This Row],[IdEstablecimiento]],'[2]Establecimiento 2023'!$A$1:$E$183,5,FALSE),0)","v":"04204-Salamanca"},"15050100","2023-04-19T09:48:45",40,21,19,2,null,1,4,6,12,12,1,null,1,1]
[3,"5",2023,"105722",{"$f":"IFERROR(VLOOKUP(Tabla_SERIED_11_6[[#This Row],[IdEstablecimiento]],'[2]Establecimiento 2023'!$A$1:$E$183,3,FALSE),0)","v":"105722-Centro Comunitario de Salud Familiar San José de la Dehesa"},{"$f":"IFERROR(VLOOKUP(Tabla_SERIED_11_6[[#This Row],[IdEstablecimiento]],'[2]Establecimiento 2023'!$A$1:$E$183,5,FALSE),0)","v":"04301-Ovalle"},"15050100","2023-04-21T09:33:54",138,44,94,null,3,12,15,13,37,34,12,null,10,null,2]
[3,"5",2023,"200499",{"$f":"IFERROR(VLOOKUP(Tabla_SERIED_11_6[[#This Row],[IdEstablecimiento]],'[2]Establecimiento 2023'!$A$1:$E$183,3,FALSE),0)","v":"200499-Centro de Salud Familiar Rural Pan de Azúcar"},{"$f":"IFERROR(VLOOKUP(Tabla_SERIED_11_6[[#This Row],[IdEstablecimiento]],'[2]Establecimiento 2023'!$A$1:$E$183,5,FALSE),0)","v":"04102-Coquimbo"},"15010500","2023-04-19T09:55:28",6,null,0,2,0,0,4,0]
[2,"5",2023,"200569",{"$f":"IFERROR(VLOOKUP(Tabla_SERIED_11_6[[#This Row],[IdEstablecimiento]],'[2]Establecimiento 2023'!$A$1:$E$183,3,FALSE),0)","v":"200569-Centro de Salud Familiar Fray Jorge"},{"$f":"IFERROR(VLOOKUP(Tabla_SERIED_11_6[[#This Row],[IdEstablecimiento]],'[2]Establecimiento 2023'!$A$1:$E$183,5,FALSE),0)","v":"04301-Ovalle"},"15060100","2023-04-20T10:51:47",5,2,3,null,null,2,1,null,2]
[3,"5",2023,"105300",{"$f":"IFERROR(VLOOKUP(Tabla_SERIED_11_6[[#This Row],[IdEstablecimiento]],'[2]Establecimiento 2023'!$A$1:$E$183,3,FALSE),0)","v":"105300-Centro de Salud Familiar Cardenal Caro"},{"$f":"IFERROR(VLOOKUP(Tabla_SERIED_11_6[[#This Row],[IdEstablecimiento]],'[2]Establecimiento 2023'!$A$1:$E$183,5,FALSE),0)","v":"04101-La Serena"},"15030100","2023-04-24T06:55:39",7.2,3.2,4]
[3,"5",2023,"105303",{"$f":"IFERROR(VLOOKUP(Tabla_SERIED_11_6[[#This Row],[IdEstablecimiento]],'[2]Establecimiento 2023'!$A$1:$E$183,3,FALSE),0)","v":"105303-Centro de Salud Familiar San Juan"},{"$f":"IFERROR(VLOOKUP(Tabla_SERIED_11_6[[#This Row],[IdEstablecimiento]],'[2]Establecimiento 2023'!$A$1:$E$183,5,FALSE),0)","v":"04102-Coquimbo"},"16100300","2023-04-19T09:07:34",713,289,424]
[3,"5",2023,"105304",{"$f":"IFERROR(VLOOKUP(Tabla_SERIED_11_6[[#This Row],[IdEstablecimiento]],'[2]Establecimiento 2023'!$A$1:$E$183,3,FALSE),0)","v":"105304-Centro de Salud Familiar Santa Cecilia"},{"$f":"IFERROR(VLOOKUP(Tabla_SERIED_11_6[[#This Row],[IdEstablecimiento]],'[2]Establecimiento 2023'!$A$1:$E$183,5,FALSE),0)","v":"04102-Coquimbo"},"16200220","2023-04-19T09:07:49",60,21,39]
[3,"5",2023,"105415",{"$f":"IFERROR(VLOOKUP(Tabla_SERIED_11_6[[#This Row],[IdEstablecimiento]],'[2]Establecimiento 2023'!$A$1:$E$183,3,FALSE),0)","v":"105415-Posta de Salud Rural Barraza"},{"$f":"IFERROR(VLOOKUP(Tabla_SERIED_11_6[[#This Row],[IdEstablecimiento]],'[2]Establecimiento 2023'!$A$1:$E$183,5,FALSE),0)","v":"04301-Ovalle"},"15010100","2023-04-19T14:04:21",8,{"$nulls":3},8]
[3,"5",2023,"105105",{"$f":"IFERROR(VLOOKUP(Tabla_SERIED_11_6[[#This Row],[IdEstablecimiento]],'[2]Establecimiento 2023'!$A$1:$E$183,3,FALSE),0)","v":"105105-Hospital San Juan de Dios (Combarbalá)"},{"$f":"IFERROR(VLOOKUP(Tabla_SERIED_11_6[[#This Row],[IdEstablecimiento]],'[2]Establecimiento 2023'!$A$1:$E$183,5,FALSE),0)","v":"105105-Hospital Combarbalá"},"15900040","2023-04-19T09:04:55",8.8,null,null,8.8]
[3,"5",2023,"105302",{"$f":"IFERROR(VLOOKUP(Tabla_SERIED_11_6[[#This Row],[IdEstablecimiento]],'[2]Establecimiento 2023'!$A$1:$E$183,3,FALSE),0)","v":"105302-Centro de Salud Familiar Pedro Aguirre Cerda"},{"$f":"IFERROR(VLOOKUP(Tabla_SERIED_11_6[[#This Row],[IdEstablecimiento]],'[2]Establecimiento 2023'!$A$1:$E$183,5,FALSE),0)","v":"04101-La Serena"},"15900020","2023-04-19T09:07:19",14.4,0.8,9.6,4]
[3,"5",2023,"105312",{"$f":"IFERROR(VLOOKUP(Tabla_SERIED_11_6[[#This Row],[IdEstablecimiento]],'[2]Establecimiento 2023'!$A$1:$E$183,3,FALSE),0)","v":"105312-Centro de Salud Familiar Carén"},{"$f":"IFERROR(VLOOKUP(Tabla_SERIED_11_6[[#This Row],[IdEstablecimiento]],'[2]Establecimiento 2023'!$A$1:$E$183,5,FALSE),0)","v":"04303-Monte Patria"},"15010100","2023-04-19T09:11:18",13,{"$nulls":3},6,7]
[3,"5",2023,"105325",{"$f":"IFERROR(VLOOKUP(Tabla_SERIED_11_6[[#This Row],[IdEstablecimiento]],'[2]Establecimiento 2023'!$A$1:$E$183,3,FALSE),0)","v":"105325-Centro de Salud Familiar Juan Pablo II (La Serena)"},{"$f":"IFERROR(VLOOKUP(Tabla_SERIED_11_6[[#This Row],[IdEstablecimiento]],'[2]Establecimiento 2023'!$A$1:$E$183,5,FALSE),0)","v":"04101-La Serena"},"15060100","2023-04-19T09:16:13",7,6,1,0,0,0,3,0,1,3,0,null,0,0,0]
[3,"5",2023,"105305",{"$f":"IFERROR(VLOOKUP(Tabla_SERIED_11_6[[#This Row],[IdEstablecimiento]],'[2]Establecimiento 2023'!$A$1:$E$183,3,FALSE),0)","v":"105305-Centro de Salud Familiar Tierras Blancas"},{"$f":"IFERROR(VLOOKUP(Tabla_SERIED_11_6[[#This Row],[IdEstablecimiento]],'[2]Establecimiento 2023'!$A$1:$E$183,5,FALSE),0)","v":"04102-Coquimbo"},"15901400","2023-04-19T09:08:07",7,3,4,null,null,5,1,1]
[3,"5",2023,"105106",{"$f":"IFERROR(VLOOKUP(Tabla_SERIED_11_6[[#This Row],[IdEstablecimiento]],'[2]Establecimiento 2023'!$A$1:$E$183,3,FALSE),0)","v":"105106-Hospital Dr. José Arraño (Andacollo)"},{"$f":"IFERROR(VLOOKUP(Tabla_SERIED_11_6[[#This Row],[IdEstablecimiento]],'[2]Establecimiento 2023'!$A$1:$E$183,5,FALSE),0)","v":"105106-Hospital Andacollo"},"15900040","2023-04-19T09:05:11",3.6,null,null,3.6]
[3,"5",2023,"105300",{"$f":"IFERROR(VLOOKUP(Tabla_SERIED_11_6[[#This Row],[IdEstablecimiento]],'[2]Establecimiento 2023'!$A$1:$E$183,3,FALSE),0)","v":"105300-Centro de Salud Familiar Cardenal Caro"},{"$f":"IFERROR(VLOOKUP(Tabla_SERIED_11_6[[#This Row],[IdEstablecimiento]],'[2]Establecimiento 2023'!$A$1:$E$183,5,FALSE),0)","v":"04101-La Serena"},"16090100","2023-04-24T06:55:39",9,9]
[3,"5",2023,"105302",{"$f":"IFERROR(VLOOKUP(Tabla_SERIED_11_6[[#This Row],[IdEstablecimiento]],'[2]Establecimiento 2023'!$A$1:$E$183,3,FALSE),0)","v":"105302-Centro de Salud Familiar Pedro Aguirre Cerda"},{"$f":"IFERROR(VLOOKUP(Tabla_SERIED_11_6[[#This Row],[IdEstablecimiento]],'[2]Establecimiento 2023'!$A$1:$E$183,5,FALSE),0)","v":"04101-La Serena"},"15010300","2023-04-19T09:07:19",4,{"$nulls":4},4]
[3,"5",2023,"105304",{"$f":"IFERROR(VLOOKUP(Tabla_SERIED_11_6[[#This Row],[IdEstablecimiento]],'[2]Establecimiento 2023'!$A$1:$E$183,3,FALSE),0)","v":"105304-Centro de Salud Familiar Santa Cecilia"},{"$f":"IFERROR(VLOOKUP(Tabla_SERIED_11_6[[#This Row],[IdEstablecimiento]],'[2]Establecimiento 2023'!$A$1:$E$183,5,FALSE),0)","v":"04102-Coquimbo"},"15900050","2023-04-19T09:07:49",6,null,null,0,1,4,1,0]
[3,"5",2023,"105104",{"$f":"IFERROR(VLOOKUP(Tabla_SERIED_11_6[[#This Row],[IdEstablecimiento]],'[2]Establecimiento 2023'!$A$1:$E$183,3,FALSE),0)","v":"105104-Hospital de Salamanca"},{"$f":"IFERROR(VLOOKUP(Tabla_SERIED_11_6[[#This Row],[IdEstablecimiento]],'[2]Establecimiento 2023'!$A$1:$E$183,5,FALSE),0)","v":"105104-Hospital Salamanca"},"15060100","2023-04-20T09:18:25",3,2,1,0,0,3,0,0,0,0,0,null,0,0,0]
[3,"5",2023,"105106",{"$f":"IFERROR(VLOOKUP(Tabla_SERIED_11_6[[#This Row],[IdEstablecimiento]],'[2]Establecimiento 2023'!$A$1:$E$183,3,FALSE),0)","v":"105106-Hospital Dr. José Arraño (Andacollo)"},{"$f":"IFERROR(VLOOKUP(Tabla_SERIED_11_6[[#This Row],[IdEstablecimiento]],'[2]Establecimiento 2023'!$A$1:$E$183,5,FALSE),0)","v":"105106-Hospital Andacollo"},"15900050","2023-04-19T09:05:11",2,1,1,null,null,2]
[3,"5",2023,"105414",{"$f":"IFERROR(VLOOKUP(Tabla_SERIED_11_6[[#This Row],[IdEstablecimiento]],'[2]Establecimiento 2023'!$A$1:$E$183,3,FALSE),0)","v":"105414-Posta de Salud Rural Serón"},{"$f":"IFERROR(VLOOKUP(Tabla_SERIED_11_6[[#This Row],[IdEstablecimiento]],'[2]Establecimiento 2023'!$A$1:$E$183,5,FALSE),0)","v":"04305-Rio Hurtado"},"15010200","2023-04-19T14:26:03",27,{"$nulls":4},2,10,15]
[3,"5",2023,"105433",{"$f":"IFERROR(VLOOKUP(Tabla_SERIED_11_6[[#This Row],[IdEstablecimiento]],'[2]Establecimiento 2023'!$A$1:$E$183,3,FALSE),0)","v":"105433-Posta de Salud Rural San Lorenzo (Combarbalá)"},{"$f":"IFERROR(VLOOKUP(Tabla_SERIED_11_6[[#This Row],[IdEstablecimiento]],'[2]Establecimiento 2023'!$A$1:$E$183,5,FALSE),0)","v":"04302-Combarbalá"},"15050100","2023-04-19T09:26:40",1,null,1,{"$nulls":6},1]
[3,"5",2023,"105441",{"$f":"IFERROR(VLOOKUP(Tabla_SERIED_11_6[[#This Row],[IdEstablecimiento]],'[2]Establecimiento 2023'!$A$1:$E$183,3,FALSE),0)","v":"105441-Posta de Salud Rural Manquehua"},{"$f":"IFERROR(VLOOKUP(Tabla_SERIED_11_6[[#This Row],[IdEstablecimiento]],'[2]Establecimiento 2023'!$A$1:$E$183,5,FALSE),0)","v":"04302-Combarbalá"},"16100300","2023-04-19T09:28:44",95,43,52]
[3,"5",2023,"105304",{"$f":"IFERROR(VLOOKUP(Tabla_SERIED_11_6[[#This Row],[IdEstablecimiento]],'[2]Establecimiento 2023'!$A$1:$E$183,3,FALSE),0)","v":"105304-Centro de Salud Familiar Santa Cecilia"},{"$f":"IFERROR(VLOOKUP(Tabla_SERIED_11_6[[#This Row],[IdEstablecimiento]],'[2]Establecimiento 2023'!$A$1:$E$183,5,FALSE),0)","v":"04102-Coquimbo"},"15080012","2023-04-19T09:07:49",2,null,0,2]
[3,"5",2023,"105306",{"$f":"IFERROR(VLOOKUP(Tabla_SERIED_11_6[[#This Row],[IdEstablecimiento]],'[2]Establecimiento 2023'!$A$1:$E$183,3,FALSE),0)","v":"105306-Centro de Salud Familiar Paihuano"},{"$f":"IFERROR(VLOOKUP(Tabla_SERIED_11_6[[#This Row],[IdEstablecimiento]],'[2]Establecimiento 2023'!$A$1:$E$183,5,FALSE),0)","v":"04105-Paihuano"},"15900020","2023-04-19T14:00:59",4,null,null,4]
[3,"5",2023,"105313",{"$f":"IFERROR(VLOOKUP(Tabla_SERIED_11_6[[#This Row],[IdEstablecimiento]],'[2]Establecimiento 2023'!$A$1:$E$183,3,FALSE),0)","v":"105313-Centro de Salud Familiar Dr. Emilio Schaffhauser"},{"$f":"IFERROR(VLOOKUP(Tabla_SERIED_11_6[[#This Row],[IdEstablecimiento]],'[2]Establecimiento 2023'!$A$1:$E$183,5,FALSE),0)","v":"04101-La Serena"},"15020500","2023-04-19T09:11:35",2,{"$nulls":6},2]
[3,"5",2023,"105108",{"$f":"IFERROR(VLOOKUP(Tabla_SERIED_11_6[[#This Row],[IdEstablecimiento]],'[2]Establecimiento 2023'!$A$1:$E$183,3,FALSE),0)","v":"105108-Hospital San Pedro (Los Vilos)"},{"$f":"IFERROR(VLOOKUP(Tabla_SERIED_11_6[[#This Row],[IdEstablecimiento]],'[2]Establecimiento 2023'!$A$1:$E$183,5,FALSE),0)","v":"105108-Hospital Los Vilos"},"15080008","2023-04-20T09:19:31",106,{"$nulls":7},52,null,34,12,8]
[3,"5",2023,"105302",{"$f":"IFERROR(VLOOKUP(Tabla_SERIED_11_6[[#This Row],[IdEstablecimiento]],'[2]Establecimiento 2023'!$A$1:$E$183,3,FALSE),0)","v":"105302-Centro de Salud Familiar Pedro Aguirre Cerda"},{"$f":"IFERROR(VLOOKUP(Tabla_SERIED_11_6[[#This Row],[IdEstablecimiento]],'[2]Establecimiento 2023'!$A$1:$E$183,5,FALSE),0)","v":"04101-La Serena"},"16200100","2023-04-19T09:07:19",40,22,18]
[3,"5",2023,"105312",{"$f":"IFERROR(VLOOKUP(Tabla_SERIED_11_6[[#This Row],[IdEstablecimiento]],'[2]Establecimiento 2023'!$A$1:$E$183,3,FALSE),0)","v":"105312-Centro de Salud Familiar Carén"},{"$f":"IFERROR(VLOOKUP(Tabla_SERIED_11_6[[#This Row],[IdEstablecimiento]],'[2]Establecimiento 2023'!$A$1:$E$183,5,FALSE),0)","v":"04303-Monte Patria"},"15050100","2023-04-19T09:11:18",64,17,47,1,1,4,8,9,14,9,12,null,5,null,1]
[3,"5",2023,"105443",{"$f":"IFERROR(VLOOKUP(Tabla_SERIED_11_6[[#This Row],[IdEstablecimiento]],'[2]Establecimiento 2023'!$A$1:$E$183,3,FALSE),0)","v":"105443-Posta de Salud Rural Cárcamo"},{"$f":"IFERROR(VLOOKUP(Tabla_SERIED_11_6[[#This Row],[IdEstablecimiento]],'[2]Establecimiento 2023'!$A$1:$E$183,5,FALSE),0)","v":"04201-Illapel"},"15900010","2023-04-19T09:29:49",3.2,null,null,3.2]
[3,"5",2023,"105455",{"$f":"IFERROR(VLOOKUP(Tabla_SERIED_11_6[[#This Row],[IdEstablecimiento]],'[2]Establecimiento 2023'!$A$1:$E$183,3,FALSE),0)","v":"105455-CESFAM Valle Alto"},{"$f":"IFERROR(VLOOKUP(Tabla_SERIED_11_6[[#This Row],[IdEstablecimiento]],'[2]Establecimiento 2023'!$A$1:$E$183,5,FALSE),0)","v":"04204-Salamanca"},"15020100","2023-04-19T14:07:28",3,null,1,null,null,2]
[3,"5",2023,"105463",{"$f":"IFERROR(VLOOKUP(Tabla_SERIED_11_6[[#This Row],[IdEstablecimiento]],'[2]Establecimiento 2023'!$A$1:$E$183,3,FALSE),0)","v":"105463-Posta de Salud Rural Quilitapia"},{"$f":"IFERROR(VLOOKUP(Tabla_SERIED_11_6[[#This Row],[IdEstablecimiento]],'[2]Establecimiento 2023'!$A$1:$E$183,5,FALSE),0)","v":"04302-Combarbalá"},"15050100","2023-04-19T09:35:09",14,9,5,null,1,1,2,null,3,7]
[3,"5",2023,"105314",{"$f":"IFERROR(VLOOKUP(Tabla_SERIED_11_6[[#This Row],[IdEstablecimiento]],'[2]Establecimiento 2023'!$A$1:$E$183,3,FALSE),0)","v":"105314-Centro de Salud Familiar La Higuera"},{"$f":"IFERROR(VLOOKUP(Tabla_SERIED_11_6[[#This Row],[IdEstablecimiento]],'[2]Establecimiento 2023'!$A$1:$E$183,5,FALSE),0)","v":"04104-La Higuera"},"16200220","2023-07-19T15:16:19",7,2,5]
[3,"5",2023,"105318",{"$f":"IFERROR(VLOOKUP(Tabla_SERIED_11_6[[#This Row],[IdEstablecimiento]],'[2]Establecimiento 2023'!$A$1:$E$183,3,FALSE),0)","v":"105318-Centro de Salud Familiar El Palqui"},{"$f":"IFERROR(VLOOKUP(Tabla_SERIED_11_6[[#This Row],[IdEstablecimiento]],'[2]Establecimiento 2023'!$A$1:$E$183,5,FALSE),0)","v":"04303-Monte Patria"},"15900020","2023-04-21T09:46:09",18.4,null,3.2,15.2]
[3,"5",2023,"105444",{"$f":"IFERROR(VLOOKUP(Tabla_SERIED_11_6[[#This Row],[IdEstablecimiento]],'[2]Establecimiento 2023'!$A$1:$E$183,3,FALSE),0)","v":"105444-Posta de Salud Rural Huintil"},{"$f":"IFERROR(VLOOKUP(Tabla_SERIED_11_6[[#This Row],[IdEstablecimiento]],'[2]Establecimiento 2023'!$A$1:$E$183,5,FALSE),0)","v":"04201-Illapel"},"15010500","2023-04-19T09:30:05",4,null,null,4]
[3,"5",2023,"105317",{"$f":"IFERROR(VLOOKUP(Tabla_SERIED_11_6[[#This Row],[IdEstablecimiento]],'[2]Establecimiento 2023'!$A$1:$E$183,3,FALSE),0)","v":"105317-Centro de Salud Familiar Jorge Jordán Domic"},{"$f":"IFERROR(VLOOKUP(Tabla_SERIED_11_6[[#This Row],[IdEstablecimiento]],'[2]Establecimiento 2023'!$A$1:$E$183,5,FALSE),0)","v":"04301-Ovalle"},"15050200","2023-04-19T14:02:34",10,5,5,{"$nulls":4},1,3,3,null,3]
[3,"5",2023,"105319",{"$f":"IFERROR(VLOOKUP(Tabla_SERIED_11_6[[#This Row],[IdEstablecimiento]],'[2]Establecimiento 2023'!$A$1:$E$183,3,FALSE),0)","v":"105319-Centro de Salud Familiar Cardenal Raúl Silva Henríquez de La Serena"},{"$f":"IFERROR(VLOOKUP(Tabla_SERIED_11_6[[#This Row],[IdEstablecimiento]],'[2]Establecimiento 2023'!$A$1:$E$183,5,FALSE),0)","v":"04101-La Serena"},"15900050","2023-04-19T09:14:37",17,10,7,null,2,15]
[3,"5",2023,"105318",{"$f":"IFERROR(VLOOKUP(Tabla_SERIED_11_6[[#This Row],[IdEstablecimiento]],'[2]Establecimiento 2023'!$A$1:$E$183,3,FALSE),0)","v":"105318-Centro de Salud Familiar El Palqui"},{"$f":"IFERROR(VLOOKUP(Tabla_SERIED_11_6[[#This Row],[IdEstablecimiento]],'[2]Establecimiento 2023'!$A$1:$E$183,5,FALSE),0)","v":"04303-Monte Patria"},"15010400","2023-04-21T09:46:09",8,{"$nulls":5},6,2]
[3,"5",2023,"105322",{"$f":"IFERROR(VLOOKUP(Tabla_SERIED_11_6[[#This Row],[IdEstablecimiento]],'[2]Establecimiento 2023'!$A$1:$E$183,3,FALSE),0)","v":"105322-Centro de Salud Familiar Marcos Macuada"},{"$f":"IFERROR(VLOOKUP(Tabla_SERIED_11_6[[#This Row],[IdEstablecimiento]],'[2]Establecimiento 2023'!$A$1:$E$183,5,FALSE),0)","v":"04301-Ovalle"},"16090300","2023-04-19T14:03:00",856,856]
[3,"5",2023,"105302",{"$f":"IFERROR(VLOOKUP(Tabla_SERIED_11_6[[#This Row],[IdEstablecimiento]],'[2]Establecimiento 2023'!$A$1:$E$183,3,FALSE),0)","v":"105302-Centro de Salud Familiar Pedro Aguirre Cerda"},{"$f":"IFERROR(VLOOKUP(Tabla_SERIED_11_6[[#This Row],[IdEstablecimiento]],'[2]Establecimiento 2023'!$A$1:$E$183,5,FALSE),0)","v":"04101-La Serena"},"15020200","2023-04-19T09:07:19",26,{"$nulls":4},2,10,14]
[3,"5",2023,"105302",{"$f":"IFERROR(VLOOKUP(Tabla_SERIED_11_6[[#This Row],[IdEstablecimiento]],'[2]Establecimiento 2023'!$A$1:$E$183,3,FALSE),0)","v":"105302-Centro de Salud Familiar Pedro Aguirre Cerda"},{"$f":"IFERROR(VLOOKUP(Tabla_SERIED_11_6[[#This Row],[IdEstablecimiento]],'[2]Establecimiento 2023'!$A$1:$E$183,5,FALSE),0)","v":"04101-La Serena"},"15080014","2023-04-19T09:07:19",37,{"$nulls":3},21,16]
[3,"5",2023,"105305",{"$f":"IFERROR(VLOOKUP(Tabla_SERIED_11_6[[#This Row],[IdEstablecimiento]],'[2]Establecimiento 2023'!$A$1:$E$183,3,FALSE),0)","v":"105305-Centro de Salud Familiar Tierras Blancas"},{"$f":"IFERROR(VLOOKUP(Tabla_SERIED_11_6[[#This Row],[IdEstablecimiento]],'[2]Establecimiento 2023'!$A$1:$E$183,5,FALSE),0)","v":"04102-Coquimbo"},"15050100","2023-04-19T09:08:07",687,402,285,5,26,76,84,66,160,113,99,null,31,null,27]
[3,"5",2023,"105464",{"$f":"IFERROR(VLOOKUP(Tabla_SERIED_11_6[[#This Row],[IdEstablecimiento]],'[2]Establecimiento 2023'!$A$1:$E$183,3,FALSE),0)","v":"105464-Posta de Salud Rural La Ligua"},{"$f":"IFERROR(VLOOKUP(Tabla_SERIED_11_6[[#This Row],[IdEstablecimiento]],'[2]Establecimiento 2023'!$A$1:$E$183,5,FALSE),0)","v":"04302-Combarbalá"},"15010100","2023-04-19T09:35:25",6,{"$nulls":4},6]
[3,"5",2023,"105469",{"$f":"IFERROR(VLOOKUP(Tabla_SERIED_11_6[[#This Row],[IdEstablecimiento]],'[2]Establecimiento 2023'!$A$1:$E$183,3,FALSE),0)","v":"105469-Posta de Salud Rural El Tambo (Vicuña)"},{"$f":"IFERROR(VLOOKUP(Tabla_SERIED_11_6[[#This Row],[IdEstablecimiento]],'[2]Establecimiento 2023'!$A$1:$E$183,5,FALSE),0)","v":"04106-Vicuña"},"16200220","2023-04-19T09:37:03",3,2,1]
[3,"5",2023,"105483",{"$f":"IFERROR(VLOOKUP(Tabla_SERIED_11_6[[#This Row],[IdEstablecimiento]],'[2]Establecimiento 2023'!$A$1:$E$183,3,FALSE),0)","v":"105483-Posta de Salud Rural Los Rulos"},{"$f":"IFERROR(VLOOKUP(Tabla_SERIED_11_6[[#This Row],[IdEstablecimiento]],'[2]Establecimiento 2023'!$A$1:$E$183,5,FALSE),0)","v":"04202-Canela"},"16100300","2023-04-19T14:13:08",35,10,25]
[3,"5",2023,"105324",{"$f":"IFERROR(VLOOKUP(Tabla_SERIED_11_6[[#This Row],[IdEstablecimiento]],'[2]Establecimiento 2023'!$A$1:$E$183,3,FALSE),0)","v":"105324-Centro de Salud Familiar Sotaquí"},{"$f":"IFERROR(VLOOKUP(Tabla_SERIED_11_6[[#This Row],[IdEstablecimiento]],'[2]Establecimiento 2023'!$A$1:$E$183,5,FALSE),0)","v":"04301-Ovalle"},"15010500","2023-04-19T14:03:35",19,{"$nulls":4},2,8,9]
[3,"5",2023,"105456",{"$f":"IFERROR(VLOOKUP(Tabla_SERIED_11_6[[#This Row],[IdEstablecimiento]],'[2]Establecimiento 2023'!$A$1:$E$183,3,FALSE),0)","v":"105456-Posta de Salud Rural Llimpo"},{"$f":"IFERROR(VLOOKUP(Tabla_SERIED_11_6[[#This Row],[IdEstablecimiento]],'[2]Establecimiento 2023'!$A$1:$E$183,5,FALSE),0)","v":"04204-Salamanca"},"15050100","2023-04-19T09:32:57",22,9,13,null,null,1,2,1,6,9,null,null,2,null,1]
[3,"5",2023,"105474",{"$f":"IFERROR(VLOOKUP(Tabla_SERIED_11_6[[#This Row],[IdEstablecimiento]],'[2]Establecimiento 2023'!$A$1:$E$183,3,FALSE),0)","v":"105474-Posta de Salud Rural Chapilca"},{"$f":"IFERROR(VLOOKUP(Tabla_SERIED_11_6[[#This Row],[IdEstablecimiento]],'[2]Establecimiento 2023'!$A$1:$E$183,5,FALSE),0)","v":"04106-Vicuña"},"16090300","2023-04-19T09:38:42",13,13]
[3,"5",2023,"105310",{"$f":"IFERROR(VLOOKUP(Tabla_SERIED_11_6[[#This Row],[IdEstablecimiento]],'[2]Establecimiento 2023'!$A$1:$E$183,3,FALSE),0)","v":"105310-Centro de Salud Familiar Pichasca"},{"$f":"IFERROR(VLOOKUP(Tabla_SERIED_11_6[[#This Row],[IdEstablecimiento]],'[2]Establecimiento 2023'!$A$1:$E$183,5,FALSE),0)","v":"04305-Rio Hurtado"},"15010500","2023-04-19T14:23:34",10,{"$nulls":3},2,null,6,2]
[3,"5",2023,"105313",{"$f":"IFERROR(VLOOKUP(Tabla_SERIED_11_6[[#This Row],[IdEstablecimiento]],'[2]Establecimiento 2023'!$A$1:$E$183,3,FALSE),0)","v":"105313-Centro de Salud Familiar Dr. Emilio Schaffhauser"},{"$f":"IFERROR(VLOOKUP(Tabla_SERIED_11_6[[#This Row],[IdEstablecimiento]],'[2]Establecimiento 2023'!$A$1:$E$183,5,FALSE),0)","v":"04101-La Serena"},"16200220","2023-04-19T09:11:35",75,27,48]
[3,"5",2023,"105318",{"$f":"IFERROR(VLOOKUP(Tabla_SERIED_11_6[[#This Row],[IdEstablecimiento]],'[2]Establecimiento 2023'!$A$1:$E$183,3,FALSE),0)","v":"105318-Centro de Salud Familiar El Palqui"},{"$f":"IFERROR(VLOOKUP(Tabla_SERIED_11_6[[#This Row],[IdEstablecimiento]],'[2]Establecimiento 2023'!$A$1:$E$183,5,FALSE),0)","v":"04303-Monte Patria"},"16090500","2023-04-21T09:46:09",19,19]
[3,"5",2023,"105321",{"$f":"IFERROR(VLOOKUP(Tabla_SERIED_11_6[[#This Row],[IdEstablecimiento]],'[2]Establecimiento 2023'!$A$1:$E$183,3,FALSE),0)","v":"105321-Centro de Salud Familiar Tongoy"},{"$f":"IFERROR(VLOOKUP(Tabla_SERIED_11_6[[#This Row],[IdEstablecimiento]],'[2]Establecimiento 2023'!$A$1:$E$183,5,FALSE),0)","v":"04102-Coquimbo"},"15050100","2023-05-16T14:48:55",205,91,114,1,7,26,21,28,46,31,26,null,16,null,3]
[3,"5",2023,"105473",{"$f":"IFERROR(VLOOKUP(Tabla_SERIED_11_6[[#This Row],[IdEstablecimiento]],'[2]Establecimiento 2023'!$A$1:$E$183,3,FALSE),0)","v":"105473-Posta de Salud Rural Talcuna"},{"$f":"IFERROR(VLOOKUP(Tabla_SERIED_11_6[[#This Row],[IdEstablecimiento]],'[2]Establecimiento 2023'!$A$1:$E$183,5,FALSE),0)","v":"04106-Vicuña"},"15080008","2023-04-19T09:38:25",11,{"$nulls":7},3,null,8]
[3,"5",2023,"105487",{"$f":"IFERROR(VLOOKUP(Tabla_SERIED_11_6[[#This Row],[IdEstablecimiento]],'[2]Establecimiento 2023'!$A$1:$E$183,3,FALSE),0)","v":"105487-Posta de Salud Rural Cañas Uno"},{"$f":"IFERROR(VLOOKUP(Tabla_SERIED_11_6[[#This Row],[IdEstablecimiento]],'[2]Establecimiento 2023'!$A$1:$E$183,5,FALSE),0)","v":"04201-Illapel"},"16200220","2023-04-19T09:42:09",32,12,20]
[2,"5",2023,"105400",{"$f":"IFERROR(VLOOKUP(Tabla_SERIED_11_6[[#This Row],[IdEstablecimiento]],'[2]Establecimiento 2023'!$A$1:$E$183,3,FALSE),0)","v":"105400-Posta de Salud Rural Algarrobito"},{"$f":"IFERROR(VLOOKUP(Tabla_SERIED_11_6[[#This Row],[IdEstablecimiento]],'[2]Establecimiento 2023'!$A$1:$E$183,5,FALSE),0)","v":"04101-La Serena"},"15900010","2023-04-19T08:17:21",8.1,null,null,8.1]
[3,"5",2023,"105470",{"$f":"IFERROR(VLOOKUP(Tabla_SERIED_11_6[[#This Row],[IdEstablecimiento]],'[2]Establecimiento 2023'!$A$1:$E$183,3,FALSE),0)","v":"105470-Posta de Salud Rural Huanta"},{"$f":"IFERROR(VLOOKUP(Tabla_SERIED_11_6[[#This Row],[IdEstablecimiento]],'[2]Establecimiento 2023'!$A$1:$E$183,5,FALSE),0)","v":"04106-Vicuña"},"16090300","2023-04-19T09:37:36",12,12]
[3,"5",2023,"105481",{"$f":"IFERROR(VLOOKUP(Tabla_SERIED_11_6[[#This Row],[IdEstablecimiento]],'[2]Establecimiento 2023'!$A$1:$E$183,3,FALSE),0)","v":"105481-Posta de Salud Rural Tilama"},{"$f":"IFERROR(VLOOKUP(Tabla_SERIED_11_6[[#This Row],[IdEstablecimiento]],'[2]Establecimiento 2023'!$A$1:$E$183,5,FALSE),0)","v":"04203-Los Vilos"},"15080014","2023-04-19T09:40:10",2,{"$nulls":3},2]
[3,"5",2023,"105483",{"$f":"IFERROR(VLOOKUP(Tabla_SERIED_11_6[[#This Row],[IdEstablecimiento]],'[2]Establecimiento 2023'!$A$1:$E$183,3,FALSE),0)","v":"105483-Posta de Salud Rural Los Rulos"},{"$f":"IFERROR(VLOOKUP(Tabla_SERIED_11_6[[#This Row],[IdEstablecimiento]],'[2]Establecimiento 2023'!$A$1:$E$183,5,FALSE),0)","v":"04202-Canela"},"16200210","2023-04-19T14:13:08",2,2]
[3,"5",2023,"105507",{"$f":"IFERROR(VLOOKUP(Tabla_SERIED_11_6[[#This Row],[IdEstablecimiento]],'[2]Establecimiento 2023'!$A$1:$E$183,3,FALSE),0)","v":"105507-Posta de Salud Rural Huamalata"},{"$f":"IFERROR(VLOOKUP(Tabla_SERIED_11_6[[#This Row],[IdEstablecimiento]],'[2]Establecimiento 2023'!$A$1:$E$183,5,FALSE),0)","v":"04301-Ovalle"},"15010200","2023-04-19T14:18:22",44,{"$nulls":4},2,26,16]
[3,"5",2023,"105312",{"$f":"IFERROR(VLOOKUP(Tabla_SERIED_11_6[[#This Row],[IdEstablecimiento]],'[2]Establecimiento 2023'!$A$1:$E$183,3,FALSE),0)","v":"105312-Centro de Salud Familiar Carén"},{"$f":"IFERROR(VLOOKUP(Tabla_SERIED_11_6[[#This Row],[IdEstablecimiento]],'[2]Establecimiento 2023'!$A$1:$E$183,5,FALSE),0)","v":"04303-Monte Patria"},"16200220","2023-04-19T09:11:18",7,3,4]
[3,"5",2023,"105313",{"$f":"IFERROR(VLOOKUP(Tabla_SERIED_11_6[[#This Row],[IdEstablecimiento]],'[2]Establecimiento 2023'!$A$1:$E$183,3,FALSE),0)","v":"105313-Centro de Salud Familiar Dr. Emilio Schaffhauser"},{"$f":"IFERROR(VLOOKUP(Tabla_SERIED_11_6[[#This Row],[IdEstablecimiento]],'[2]Establecimiento 2023'!$A$1:$E$183,5,FALSE),0)","v":"04101-La Serena"},"15900050","2023-04-19T09:11:35",20,7,13,null,3,10,6,1]
[3,"5",2023,"105503",{"$f":"IFERROR(VLOOKUP(Tabla_SERIED_11_6[[#This Row],[IdEstablecimiento]],'[2]Establecimiento 2023'!$A$1:$E$183,3,FALSE),0)","v":"105503-Posta de Salud Rural Tabaqueros"},{"$f":"IFERROR(VLOOKUP(Tabla_SERIED_11_6[[#This Row],[IdEstablecimiento]],'[2]Establecimiento 2023'!$A$1:$E$183,5,FALSE),0)","v":"04305-Rio Hurtado"},"15080008","2023-04-19T14:26:37",3,{"$nulls":7},1,null,2]
[3,"5",2023,"200258",{"$f":"IFERROR(VLOOKUP(Tabla_SERIED_11_6[[#This Row],[IdEstablecimiento]],'[2]Establecimiento 2023'!$A$1:$E$183,3,FALSE),0)","v":"200258-Centro Comunitario de Salud Familiar Los Copihues"},{"$f":"IFERROR(VLOOKUP(Tabla_SERIED_11_6[[#This Row],[IdEstablecimiento]],'[2]Establecimiento 2023'!$A$1:$E$183,5,FALSE),0)","v":"04301-Ovalle"},"15010100","2023-04-21T09:35:07",31,{"$nulls":3},18,12,{"$nulls":6},1]
[3,"5",2023,"105487",{"$f":"IFERROR(VLOOKUP(Tabla_SERIED_11_6[[#This Row],[IdEstablecimiento]],'[2]Establecimiento 2023'!$A$1:$E$183,3,FALSE),0)","v":"105487-Posta de Salud Rural Cañas Uno"},{"$f":"IFERROR(VLOOKUP(Tabla_SERIED_11_6[[#This Row],[IdEstablecimiento]],'[2]Establecimiento 2023'!$A$1:$E$183,5,FALSE),0)","v":"04201-Illapel"},"15050100","2023-04-19T09:42:09",61,26,35,null,1,1,4,9,13,18,8,null,5,null,2]
[3,"5",2023,"105497",{"$f":"IFERROR(VLOOKUP(Tabla_SERIED_11_6[[#This Row],[IdEstablecimiento]],'[2]Establecimiento 2023'!$A$1:$E$183,3,FALSE),0)","v":"105497-Posta de Salud Rural Jabonería"},{"$f":"IFERROR(VLOOKUP(Tabla_SERIED_11_6[[#This Row],[IdEstablecimiento]],'[2]Establecimiento 2023'!$A$1:$E$183,5,FALSE),0)","v":"04202-Canela"},"15010100","2023-04-19T14:15:12",2,{"$nulls":4},2]
[3,"5",2023,"105501",{"$f":"IFERROR(VLOOKUP(Tabla_SERIED_11_6[[#This Row],[IdEstablecimiento]],'[2]Establecimiento 2023'!$A$1:$E$183,3,FALSE),0)","v":"105501-Posta de Salud Rural Arboleda Grande"},{"$f":"IFERROR(VLOOKUP(Tabla_SERIED_11_6[[#This Row],[IdEstablecimiento]],'[2]Establecimiento 2023'!$A$1:$E$183,5,FALSE),0)","v":"04204-Salamanca"},"15010200","2023-04-19T09:48:45",51,{"$nulls":4},4,24,23]
[3,"5",2023,"105702",{"$f":"IFERROR(VLOOKUP(Tabla_SERIED_11_6[[#This Row],[IdEstablecimiento]],'[2]Establecimiento 2023'!$A$1:$E$183,3,FALSE),0)","v":"105702-Centro Comunitario de Salud Familiar Lambert"},{"$f":"IFERROR(VLOOKUP(Tabla_SERIED_11_6[[#This Row],[IdEstablecimiento]],'[2]Establecimiento 2023'!$A$1:$E$183,5,FALSE),0)","v":"04101-La Serena"},"16200220","2023-04-19T09:53:37",2,null,2]
[2,"5",2023,"105477",{"$f":"IFERROR(VLOOKUP(Tabla_SERIED_11_6[[#This Row],[IdEstablecimiento]],'[2]Establecimiento 2023'!$A$1:$E$183,3,FALSE),0)","v":"105477-Posta de Salud Rural Pisco Elqui"},{"$f":"IFERROR(VLOOKUP(Tabla_SERIED_11_6[[#This Row],[IdEstablecimiento]],'[2]Establecimiento 2023'!$A$1:$E$183,5,FALSE),0)","v":"04105-Paihuano"},"16090300","2023-04-20T07:15:02",75,75]
[3,"5",2023,"105104",{"$f":"IFERROR(VLOOKUP(Tabla_SERIED_11_6[[#This Row],[IdEstablecimiento]],'[2]Establecimiento 2023'!$A$1:$E$183,3,FALSE),0)","v":"105104-Hospital de Salamanca"},{"$f":"IFERROR(VLOOKUP(Tabla_SERIED_11_6[[#This Row],[IdEstablecimiento]],'[2]Establecimiento 2023'!$A$1:$E$183,5,FALSE),0)","v":"105104-Hospital Salamanca"},"16200210","2023-04-20T09:18:25",1,1]
[3,"5",2023,"105301",{"$f":"IFERROR(VLOOKUP(Tabla_SERIED_11_6[[#This Row],[IdEstablecimiento]],'[2]Establecimiento 2023'!$A$1:$E$183,3,FALSE),0)","v":"105301-Centro de Salud Familiar Las Compañías"},{"$f":"IFERROR(VLOOKUP(Tabla_SERIED_11_6[[#This Row],[IdEstablecimiento]],'[2]Establecimiento 2023'!$A$1:$E$183,5,FALSE),0)","v":"04101-La Serena"},"15050200","2023-04-19T09:07:01",7,7,{"$nulls":3},2,2,1,2]
[2,"5",2023,"105478",{"$f":"IFERROR(VLOOKUP(Tabla_SERIED_11_6[[#This Row],[IdEstablecimiento]],'[2]Establecimiento 2023'!$A$1:$E$183,3,FALSE),0)","v":"105478-Posta de Salud Rural Caimanes"},{"$f":"IFERROR(VLOOKUP(Tabla_SERIED_11_6[[#This Row],[IdEstablecimiento]],'[2]Establecimiento 2023'!$A$1:$E$183,5,FALSE),0)","v":"04203-Los Vilos"},"15900010","2023-04-19T08:47:54",5.1,0.8,3.4,0.9]
[2,"5",2023,"105486",{"$f":"IFERROR(VLOOKUP(Tabla_SERIED_11_6[[#This Row],[IdEstablecimiento]],'[2]Establecimiento 2023'!$A$1:$E$183,3,FALSE),0)","v":"105486-Posta de Salud Rural Tunga Sur"},{"$f":"IFERROR(VLOOKUP(Tabla_SERIED_11_6[[#This Row],[IdEstablecimiento]],'[2]Establecimiento 2023'!$A$1:$E$183,5,FALSE),0)","v":"04201-Illapel"},"16200220","2023-04-19T08:51:36",10,5,5]
[2,"5",2023,"105498",{"$f":"IFERROR(VLOOKUP(Tabla_SERIED_11_6[[#This Row],[IdEstablecimiento]],'[2]Establecimiento 2023'!$A$1:$E$183,3,FALSE),0)","v":"105498-Posta de Salud Rural Quebrada Linares"},{"$f":"IFERROR(VLOOKUP(Tabla_SERIED_11_6[[#This Row],[IdEstablecimiento]],'[2]Establecimiento 2023'!$A$1:$E$183,5,FALSE),0)","v":"04202-Canela"},"15010200","2023-04-20T09:28:41",2,{"$nulls":5},2]
[3,"5",2023,"200402",{"$f":"IFERROR(VLOOKUP(Tabla_SERIED_11_6[[#This Row],[IdEstablecimiento]],'[2]Establecimiento 2023'!$A$1:$E$183,3,FALSE),0)","v":"200402-Centro Comunitario de Salud Familiar Arcos de Pinamar"},{"$f":"IFERROR(VLOOKUP(Tabla_SERIED_11_6[[#This Row],[IdEstablecimiento]],'[2]Establecimiento 2023'!$A$1:$E$183,5,FALSE),0)","v":"04101-La Serena"},"15050100","2023-04-19T09:54:51",86,35,51,2,3,8,12,6,16,19,15,null,2,null,3]
[3,"5",2023,"200499",{"$f":"IFERROR(VLOOKUP(Tabla_SERIED_11_6[[#This Row],[IdEstablecimiento]],'[2]Establecimiento 2023'!$A$1:$E$183,3,FALSE),0)","v":"200499-Centro de Salud Familiar Rural Pan de Azúcar"},{"$f":"IFERROR(VLOOKUP(Tabla_SERIED_11_6[[#This Row],[IdEstablecimiento]],'[2]Establecimiento 2023'!$A$1:$E$183,5,FALSE),0)","v":"04102-Coquimbo"},"16200210","2023-04-19T09:55:28",43,43]
[3,"5",2023,"105325",{"$f":"IFERROR(VLOOKUP(Tabla_SERIED_11_6[[#This Row],[IdEstablecimiento]],'[2]Establecimiento 2023'!$A$1:$E$183,3,FALSE),0)","v":"105325-Centro de Salud Familiar Juan Pablo II (La Serena)"},{"$f":"IFERROR(VLOOKUP(Tabla_SERIED_11_6[[#This Row],[IdEstablecimiento]],'[2]Establecimiento 2023'!$A$1:$E$183,5,FALSE),0)","v":"04101-La Serena"},"15900010","2023-04-19T09:16:13",258.4,20,85.6,152.8]
[3,"5",2023,"105108",{"$f":"IFERROR(VLOOKUP(Tabla_SERIED_11_6[[#This Row],[IdEstablecimiento]],'[2]Establecimiento 2023'!$A$1:$E$183,3,FALSE),0)","v":"105108-Hospital San Pedro (Los Vilos)"},{"$f":"IFERROR(VLOOKUP(Tabla_SERIED_11_6[[#This Row],[IdEstablecimiento]],'[2]Establecimiento 2023'!$A$1:$E$183,5,FALSE),0)","v":"105108-Hospital Los Vilos"},"15050100","2023-04-20T09:19:31",373,161,212,6,21,37,47,51,65,57,52,null,17,12,8]
[3,"5",2023,"105304",{"$f":"IFERROR(VLOOKUP(Tabla_SERIED_11_6[[#This Row],[IdEstablecimiento]],'[2]Establecimiento 2023'!$A$1:$E$183,3,FALSE),0)","v":"105304-Centro de Salud Familiar Santa Cecilia"},{"$f":"IFERROR(VLOOKUP(Tabla_SERIED_11_6[[#This Row],[IdEstablecimiento]],'[2]Establecimiento 2023'!$A$1:$E$183,5,FALSE),0)","v":"04102-Coquimbo"},"15010500","2023-04-19T09:07:49",28,null,0,14,2,6,6,0]
[3,"5",2023,"105305",{"$f":"IFERROR(VLOOKUP(Tabla_SERIED_11_6[[#This Row],[IdEstablecimiento]],'[2]Establecimiento 2023'!$A$1:$E$183,3,FALSE),0)","v":"105305-Centro de Salud Familiar Tierras Blancas"},{"$f":"IFERROR(VLOOKUP(Tabla_SERIED_11_6[[#This Row],[IdEstablecimiento]],'[2]Establecimiento 2023'!$A$1:$E$183,5,FALSE),0)","v":"04102-Coquimbo"},"15900050","2023-04-19T09:08:07",4,1,3,1,null,null,1,1,1]
[3,"5",2023,"200494",{"$f":"IFERROR(VLOOKUP(Tabla_SERIED_11_6[[#This Row],[IdEstablecimiento]],'[2]Establecimiento 2023'!$A$1:$E$183,3,FALSE),0)","v":"200494-Centro de Salud Familiar El Sauce"},{"$f":"IFERROR(VLOOKUP(Tabla_SERIED_11_6[[#This Row],[IdEstablecimiento]],'[2]Establecimiento 2023'!$A$1:$E$183,5,FALSE),0)","v":"04102-Coquimbo"},"15010500","2023-04-19T09:55:11",20,{"$nulls":3},4,2,6,8]
[3,"5",2023,"200499",{"$f":"IFERROR(VLOOKUP(Tabla_SERIED_11_6[[#This Row],[IdEstablecimiento]],'[2]Establecimiento 2023'!$A$1:$E$183,3,FALSE),0)","v":"200499-Centro de Salud Familiar Rural Pan de Azúcar"},{"$f":"IFERROR(VLOOKUP(Tabla_SERIED_11_6[[#This Row],[IdEstablecimiento]],'[2]Establecimiento 2023'!$A$1:$E$183,5,FALSE),0)","v":"04102-Coquimbo"},"15900050","2023-04-19T09:55:28",4,3,1,null,1,1,0,2]
[3,"5",2023,"105510",{"$f":"IFERROR(VLOOKUP(Tabla_SERIED_11_6[[#This Row],[IdEstablecimiento]],'[2]Establecimiento 2023'!$A$1:$E$183,3,FALSE),0)","v":"105510-Posta de Salud Rural Recoleta"},{"$f":"IFERROR(VLOOKUP(Tabla_SERIED_11_6[[#This Row],[IdEstablecimiento]],'[2]Establecimiento 2023'!$A$1:$E$183,5,FALSE),0)","v":"04301-Ovalle"},"15050100","2023-04-19T14:19:26",27,12,15,null,1,1,7,1,8,3,3,null,2,null,1]
[3,"5",2023,"200258",{"$f":"IFERROR(VLOOKUP(Tabla_SERIED_11_6[[#This Row],[IdEstablecimiento]],'[2]Establecimiento 2023'!$A$1:$E$183,3,FALSE),0)","v":"200258-Centro Comunitario de Salud Familiar Los Copihues"},{"$f":"IFERROR(VLOOKUP(Tabla_SERIED_11_6[[#This Row],[IdEstablecimiento]],'[2]Establecimiento 2023'!$A$1:$E$183,5,FALSE),0)","v":"04301-Ovalle"},"15900030","2023-04-21T09:35:07",4.4,{"$nulls":3},4.4]
[3,"5",2023,"105468",{"$f":"IFERROR(VLOOKUP(Tabla_SERIED_11_6[[#This Row],[IdEstablecimiento]],'[2]Establecimiento 2023'!$A$1:$E$183,3,FALSE),0)","v":"105468-Posta de Salud Rural El Molle"},{"$f":"IFERROR(VLOOKUP(Tabla_SERIED_11_6[[#This Row],[IdEstablecimiento]],'[2]Establecimiento 2023'!$A$1:$E$183,5,FALSE),0)","v":"04106-Vicuña"},"15050200","2023-04-19T09:36:34",1,1,{"$nulls":4},1]
[3,"5",2023,"105471",{"$f":"IFERROR(VLOOKUP(Tabla_SERIED_11_6[[#This Row],[IdEstablecimiento]],'[2]Establecimiento 2023'!$A$1:$E$183,3,FALSE),0)","v":"105471-Posta de Salud Rural Peralillo Vicuña"},{"$f":"IFERROR(VLOOKUP(Tabla_SERIED_11_6[[#This Row],[IdEstablecimiento]],'[2]Establecimiento 2023'!$A$1:$E$183,5,FALSE),0)","v":"04106-Vicuña"},"15010200","2023-04-19T09:37:55",46,{"$nulls":4},2,24,20]
[3,"5",2023,"105311",{"$f":"IFERROR(VLOOKUP(Tabla_SERIED_11_6[[#This Row],[IdEstablecimiento]],'[2]Establecimiento 2023'!$A$1:$E$183,3,FALSE),0)","v":"105311-Centro de Salud Familiar Chañaral Alto"},{"$f":"IFERROR(VLOOKUP(Tabla_SERIED_11_6[[#This Row],[IdEstablecimiento]],'[2]Establecimiento 2023'!$A$1:$E$183,5,FALSE),0)","v":"04303-Monte Patria"},"15900020","2023-04-19T09:10:58",1.6,null,null,1.6]
[3,"5",2023,"105436",{"$f":"IFERROR(VLOOKUP(Tabla_SERIED_11_6[[#This Row],[IdEstablecimiento]],'[2]Establecimiento 2023'!$A$1:$E$183,3,FALSE),0)","v":"105436-Posta de Salud Rural El Maitén"},{"$f":"IFERROR(VLOOKUP(Tabla_SERIED_11_6[[#This Row],[IdEstablecimiento]],'[2]Establecimiento 2023'!$A$1:$E$183,5,FALSE),0)","v":"04303-Monte Patria"},"15010100","2023-04-19T09:27:49",2,{"$nulls":3},2]
[3,"5",2023,"105416",{"$f":"IFERROR(VLOOKUP(Tabla_SERIED_11_6[[#This Row],[IdEstablecimiento]],'[2]Establecimiento 2023'!$A$1:$E$183,3,FALSE),0)","v":"105416-Posta de Salud Rural Camarico (Ovalle)"},{"$f":"IFERROR(VLOOKUP(Tabla_SERIED_11_6[[#This Row],[IdEstablecimiento]],'[2]Establecimiento 2023'!$A$1:$E$183,5,FALSE),0)","v":"04301-Ovalle"},"15010400","2023-04-19T14:04:43",6,{"$nulls":5},6]
[3,"5",2023,"105416",{"$f":"IFERROR(VLOOKUP(Tabla_SERIED_11_6[[#This Row],[IdEstablecimiento]],'[2]Establecimiento 2023'!$A$1:$E$183,3,FALSE),0)","v":"105416-Posta de Salud Rural Camarico (Ovalle)"},{"$f":"IFERROR(VLOOKUP(Tabla_SERIED_11_6[[#This Row],[IdEstablecimiento]],'[2]Establecimiento 2023'!$A$1:$E$183,5,FALSE),0)","v":"04301-Ovalle"},"16090300","2023-04-19T14:04:43",94,94]
[3,"5",2023,"105432",{"$f":"IFERROR(VLOOKUP(Tabla_SERIED_11_6[[#This Row],[IdEstablecimiento]],'[2]Establecimiento 2023'!$A$1:$E$183,3,FALSE),0)","v":"105432-Posta de Salud Rural Rapel (Monte Patria)"},{"$f":"IFERROR(VLOOKUP(Tabla_SERIED_11_6[[#This Row],[IdEstablecimiento]],'[2]Establecimiento 2023'!$A$1:$E$183,5,FALSE),0)","v":"04303-Monte Patria"},"16100300","2023-04-19T09:26:17",98,45,53]
[3,"5",2023,"105486",{"$f":"IFERROR(VLOOKUP(Tabla_SERIED_11_6[[#This Row],[IdEstablecimiento]],'[2]Establecimiento 2023'!$A$1:$E$183,3,FALSE),0)","v":"105486-Posta de Salud Rural Tunga Sur"},{"$f":"IFERROR(VLOOKUP(Tabla_SERIED_11_6[[#This Row],[IdEstablecimiento]],'[2]Establecimiento 2023'!$A$1:$E$183,5,FALSE),0)","v":"04201-Illapel"},"15900010","2023-04-19T09:41:53",3.6,null,null,3.6]
[3,"5",2023,"105497",{"$f":"IFERROR(VLOOKUP(Tabla_SERIED_11_6[[#This Row],[IdEstablecimiento]],'[2]Establecimiento 2023'!$A$1:$E$183,3,FALSE),0)","v":"105497-Posta de Salud Rural Jabonería"},{"$f":"IFERROR(VLOOKUP(Tabla_SERIED_11_6[[#This Row],[IdEstablecimiento]],'[2]Establecimiento 2023'!$A$1:$E$183,5,FALSE),0)","v":"04202-Canela"},"16100300","2023-04-19T14:15:12",23,9,14]
[3,"5",2023,"105308",{"$f":"IFERROR(VLOOKUP(Tabla_SERIED_11_6[[#This Row],[IdEstablecimiento]],'[2]Establecimiento 2023'!$A$1:$E$183,3,FALSE),0)","v":"105308-Centro de Salud Familiar Punitaqui"},{"$f":"IFERROR(VLOOKUP(Tabla_SERIED_11_6[[#This Row],[IdEstablecimiento]],'[2]Establecimiento 2023'!$A$1:$E$183,5,FALSE),0)","v":"04304-Punitaqui"},"15010400","2023-04-20T09:20:01",12,{"$nulls":5},4,8]
[3,"5",2023,"105315",{"$f":"IFERROR(VLOOKUP(Tabla_SERIED_11_6[[#This Row],[IdEstablecimiento]],'[2]Establecimiento 2023'!$A$1:$E$183,3,FALSE),0)","v":"105315-Centro de Salud Familiar Cerrillos de Tamaya"},{"$f":"IFERROR(VLOOKUP(Tabla_SERIED_11_6[[#This Row],[IdEstablecimiento]],'[2]Establecimiento 2023'!$A$1:$E$183,5,FALSE),0)","v":"04301-Ovalle"},"15080008","2023-04-19T14:02:10",78,{"$nulls":7},35,null,32,9,2]
[3,"5",2023,"105307",{"$f":"IFERROR(VLOOKUP(Tabla_SERIED_11_6[[#This Row],[IdEstablecimiento]],'[2]Establecimiento 2023'!$A$1:$E$183,3,FALSE),0)","v":"105307-Centro de Salud Familiar Monte Patria"},{"$f":"IFERROR(VLOOKUP(Tabla_SERIED_11_6[[#This Row],[IdEstablecimiento]],'[2]Establecimiento 2023'!$A$1:$E$183,5,FALSE),0)","v":"04303-Monte Patria"},"15010400","2023-04-19T09:09:34",4,{"$nulls":5},4]
[3,"5",2023,"105308",{"$f":"IFERROR(VLOOKUP(Tabla_SERIED_11_6[[#This Row],[IdEstablecimiento]],'[2]Establecimiento 2023'!$A$1:$E$183,3,FALSE),0)","v":"105308-Centro de Salud Familiar Punitaqui"},{"$f":"IFERROR(VLOOKUP(Tabla_SERIED_11_6[[#This Row],[IdEstablecimiento]],'[2]Establecimiento 2023'!$A$1:$E$183,5,FALSE),0)","v":"04304-Punitaqui"},"15050500","2023-04-20T09:20:01",2,1,1,null,null,2]
[3,"5",2023,"105700",{"$f":"IFERROR(VLOOKUP(Tabla_SERIED_11_6[[#This Row],[IdEstablecimiento]],'[2]Establecimiento 2023'!$A$1:$E$183,3,FALSE),0)","v":"105700-Centro Comunitario de Salud Familiar Villa el Indio"},{"$f":"IFERROR(VLOOKUP(Tabla_SERIED_11_6[[#This Row],[IdEstablecimiento]],'[2]Establecimiento 2023'!$A$1:$E$183,5,FALSE),0)","v":"04101-La Serena"},"15080008","2023-04-19T09:52:08",20,{"$nulls":7},7,null,10,3]
[3,"5",2023,"105453",{"$f":"IFERROR(VLOOKUP(Tabla_SERIED_11_6[[#This Row],[IdEstablecimiento]],'[2]Establecimiento 2023'!$A$1:$E$183,3,FALSE),0)","v":"105453-Posta de Salud Rural Tranquilla"},{"$f":"IFERROR(VLOOKUP(Tabla_SERIED_11_6[[#This Row],[IdEstablecimiento]],'[2]Establecimiento 2023'!$A$1:$E$183,5,FALSE),0)","v":"04204-Salamanca"},"15900010","2023-04-19T09:32:15",1.6,null,null,1.6]
[3,"5",2023,"105455",{"$f":"IFERROR(VLOOKUP(Tabla_SERIED_11_6[[#This Row],[IdEstablecimiento]],'[2]Establecimiento 2023'!$A$1:$E$183,3,FALSE),0)","v":"105455-CESFAM Valle Alto"},{"$f":"IFERROR(VLOOKUP(Tabla_SERIED_11_6[[#This Row],[IdEstablecimiento]],'[2]Establecimiento 2023'!$A$1:$E$183,5,FALSE),0)","v":"04204-Salamanca"},"16200210","2023-04-19T14:07:28",5,5]
[3,"5",2023,"105464",{"$f":"IFERROR(VLOOKUP(Tabla_SERIED_11_6[[#This Row],[IdEstablecimiento]],'[2]Establecimiento 2023'!$A$1:$E$183,3,FALSE),0)","v":"105464-Posta de Salud Rural La Ligua"},{"$f":"IFERROR(VLOOKUP(Tabla_SERIED_11_6[[#This Row],[IdEstablecimiento]],'[2]Establecimiento 2023'!$A$1:$E$183,5,FALSE),0)","v":"04302-Combarbalá"},"16200210","2023-04-19T09:35:25",4,4]
[3,"5",2023,"105453",{"$f":"IFERROR(VLOOKUP(Tabla_SERIED_11_6[[#This Row],[IdEstablecimiento]],'[2]Establecimiento 2023'!$A$1:$E$183,3,FALSE),0)","v":"105453-Posta de Salud Rural Tranquilla"},{"$f":"IFERROR(VLOOKUP(Tabla_SERIED_11_6[[#This Row],[IdEstablecimiento]],'[2]Establecimiento 2023'!$A$1:$E$183,5,FALSE),0)","v":"04204-Salamanca"},"15010500","2023-04-19T09:32:15",2,{"$nulls":3},2]
[3,"5",2023,"105457",{"$f":"IFERROR(VLOOKUP(Tabla_SERIED_11_6[[#This Row],[IdEstablecimiento]],'[2]Establecimiento 2023'!$A$1:$E$183,3,FALSE),0)","v":"105457-Posta de Salud Rural San Agustín (Salamanca)"},{"$f":"IFERROR(VLOOKUP(Tabla_SERIED_11_6[[#This Row],[IdEstablecimiento]],'[2]Establecimiento 2023'!$A$1:$E$183,5,FALSE),0)","v":"04204-Salamanca"},"15080014","2023-04-19T09:33:16",6,{"$nulls":3},6]
[3,"5",2023,"105464",{"$f":"IFERROR(VLOOKUP(Tabla_SERIED_11_6[[#This Row],[IdEstablecimiento]],'[2]Establecimiento 2023'!$A$1:$E$183,3,FALSE),0)","v":"105464-Posta de Salud Rural La Ligua"},{"$f":"IFERROR(VLOOKUP(Tabla_SERIED_11_6[[#This Row],[IdEstablecimiento]],'[2]Establecimiento 2023'!$A$1:$E$183,5,FALSE),0)","v":"04302-Combarbalá"},"16100300","2023-04-19T09:35:25",81,35,46]
[3,"5",2023,"200366",{"$f":"IFERROR(VLOOKUP(Tabla_SERIED_11_6[[#This Row],[IdEstablecimiento]],'[2]Establecimiento 2023'!$A$1:$E$183,3,FALSE),0)","v":"200366-Centro de Salud Familiar Urbano de Illapel"},{"$f":"IFERROR(VLOOKUP(Tabla_SERIED_11_6[[#This Row],[IdEstablecimiento]],'[2]Establecimiento 2023'!$A$1:$E$183,5,FALSE),0)","v":"04201-Illapel"},"15080016","2023-04-19T09:54:28",4,{"$nulls":4},4]
[3,"5",2023,"200367",{"$f":"IFERROR(VLOOKUP(Tabla_SERIED_11_6[[#This Row],[IdEstablecimiento]],'[2]Establecimiento 2023'!$A$1:$E$183,3,FALSE),0)","v":"200367-Centro Comunitario de Salud Familiar Colonia Limarí"},{"$f":"IFERROR(VLOOKUP(Tabla_SERIED_11_6[[#This Row],[IdEstablecimiento]],'[2]Establecimiento 2023'!$A$1:$E$183,5,FALSE),0)","v":"04301-Ovalle"},"16090300","2023-04-21T09:35:36",165,165]
[3,"5",2023,"200607",{"$f":"IFERROR(VLOOKUP(Tabla_SERIED_11_6[[#This Row],[IdEstablecimiento]],'[2]Establecimiento 2023'!$A$1:$E$183,3,FALSE),0)","v":"200607-Centro de Salud Familiar Lila Cortés Godoy"},{"$f":"IFERROR(VLOOKUP(Tabla_SERIED_11_6[[#This Row],[IdEstablecimiento]],'[2]Establecimiento 2023'!$A$1:$E$183,5,FALSE),0)","v":"04102-Coquimbo"},"15050200","2023-04-19T09:58:00",14,10,4,1,null,3,1,3,2,4]
[3,"5",2023,"105481",{"$f":"IFERROR(VLOOKUP(Tabla_SERIED_11_6[[#This Row],[IdEstablecimiento]],'[2]Establecimiento 2023'!$A$1:$E$183,3,FALSE),0)","v":"105481-Posta de Salud Rural Tilama"},{"$f":"IFERROR(VLOOKUP(Tabla_SERIED_11_6[[#This Row],[IdEstablecimiento]],'[2]Establecimiento 2023'!$A$1:$E$183,5,FALSE),0)","v":"04203-Los Vilos"},"16100300","2023-04-19T09:40:10",25,10,15]
[3,"5",2023,"105486",{"$f":"IFERROR(VLOOKUP(Tabla_SERIED_11_6[[#This Row],[IdEstablecimiento]],'[2]Establecimiento 2023'!$A$1:$E$183,3,FALSE),0)","v":"105486-Posta de Salud Rural Tunga Sur"},{"$f":"IFERROR(VLOOKUP(Tabla_SERIED_11_6[[#This Row],[IdEstablecimiento]],'[2]Establecimiento 2023'!$A$1:$E$183,5,FALSE),0)","v":"04201-Illapel"},"15080008","2023-04-19T09:41:53",1,{"$nulls":7},1]
[3,"5",2023,"105317",{"$f":"IFERROR(VLOOKUP(Tabla_SERIED_11_6[[#This Row],[IdEstablecimiento]],'[2]Establecimiento 2023'!$A$1:$E$183,3,FALSE),0)","v":"105317-Centro de Salud Familiar Jorge Jordán Domic"},{"$f":"IFERROR(VLOOKUP(Tabla_SERIED_11_6[[#This Row],[IdEstablecimiento]],'[2]Establecimiento 2023'!$A$1:$E$183,5,FALSE),0)","v":"04301-Ovalle"},"15020200","2023-04-19T14:02:34",6,{"$nulls":4},2,2,2]
[3,"5",2023,"105324",{"$f":"IFERROR(VLOOKUP(Tabla_SERIED_11_6[[#This Row],[IdEstablecimiento]],'[2]Establecimiento 2023'!$A$1:$E$183,3,FALSE),0)","v":"105324-Centro de Salud Familiar Sotaquí"},{"$f":"IFERROR(VLOOKUP(Tabla_SERIED_11_6[[#This Row],[IdEstablecimiento]],'[2]Establecimiento 2023'!$A$1:$E$183,5,FALSE),0)","v":"04301-Ovalle"},"15050100","2023-04-19T14:03:35",159,54,106,1,3,10,18,18,32,31,17,null,19,null,10]
[3,"5",2023,"105723",{"$f":"IFERROR(VLOOKUP(Tabla_SERIED_11_6[[#This Row],[IdEstablecimiento]],'[2]Establecimiento 2023'!$A$1:$E$183,3,FALSE),0)","v":"105723-Centro Comunitario de Salud Familiar Limarí"},{"$f":"IFERROR(VLOOKUP(Tabla_SERIED_11_6[[#This Row],[IdEstablecimiento]],'[2]Establecimiento 2023'!$A$1:$E$183,5,FALSE),0)","v":"04301-Ovalle"},"15080008","2023-04-21T09:34:36",15,{"$nulls":7},6,null,6,null,3]
[3,"5",2023,"200538",{"$f":"IFERROR(VLOOKUP(Tabla_SERIED_11_6[[#This Row],[IdEstablecimiento]],'[2]Establecimiento 2023'!$A$1:$E$183,3,FALSE),0)","v":"200538-Centro de Salud Familiar San Isidro Calingasta"},{"$f":"IFERROR(VLOOKUP(Tabla_SERIED_11_6[[#This Row],[IdEstablecimiento]],'[2]Establecimiento 2023'!$A$1:$E$183,5,FALSE),0)","v":"04106-Vicuña"},"15900010","2023-04-19T09:55:45",43.2,null,8,35.2]
[3,"5",2023,"200569",{"$f":"IFERROR(VLOOKUP(Tabla_SERIED_11_6[[#This Row],[IdEstablecimiento]],'[2]Establecimiento 2023'!$A$1:$E$183,3,FALSE),0)","v":"200569-Centro de Salud Familiar Fray Jorge"},{"$f":"IFERROR(VLOOKUP(Tabla_SERIED_11_6[[#This Row],[IdEstablecimiento]],'[2]Establecimiento 2023'!$A$1:$E$183,5,FALSE),0)","v":"04301-Ovalle"},"15020100","2023-04-19T14:19:56",4,null,null,2,2]
[3,"5",2023,"105411",{"$f":"IFERROR(VLOOKUP(Tabla_SERIED_11_6[[#This Row],[IdEstablecimiento]],'[2]Establecimiento 2023'!$A$1:$E$183,3,FALSE),0)","v":"105411-Posta de Salud Rural Las Breas (Río Hurtado)"},{"$f":"IFERROR(VLOOKUP(Tabla_SERIED_11_6[[#This Row],[IdEstablecimiento]],'[2]Establecimiento 2023'!$A$1:$E$183,5,FALSE),0)","v":"04305-Rio Hurtado"},"15010200","2023-04-19T14:25:17",6,{"$nulls":4},2,2,2]
[3,"5",2023,"105313",{"$f":"IFERROR(VLOOKUP(Tabla_SERIED_11_6[[#This Row],[IdEstablecimiento]],'[2]Establecimiento 2023'!$A$1:$E$183,3,FALSE),0)","v":"105313-Centro de Salud Familiar Dr. Emilio Schaffhauser"},{"$f":"IFERROR(VLOOKUP(Tabla_SERIED_11_6[[#This Row],[IdEstablecimiento]],'[2]Establecimiento 2023'!$A$1:$E$183,5,FALSE),0)","v":"04101-La Serena"},"15050500","2023-04-19T09:11:35",7,3,4,2,null,5]
[3,"5",2023,"105319",{"$f":"IFERROR(VLOOKUP(Tabla_SERIED_11_6[[#This Row],[IdEstablecimiento]],'[2]Establecimiento 2023'!$A$1:$E$183,3,FALSE),0)","v":"105319-Centro de Salud Familiar Cardenal Raúl Silva Henríquez de La Serena"},{"$f":"IFERROR(VLOOKUP(Tabla_SERIED_11_6[[#This Row],[IdEstablecimiento]],'[2]Establecimiento 2023'!$A$1:$E$183,5,FALSE),0)","v":"04101-La Serena"},"15010200","2023-04-19T09:14:37",639,{"$nulls":4},32,304,303]
[3,"5",2023,"105323",{"$f":"IFERROR(VLOOKUP(Tabla_SERIED_11_6[[#This Row],[IdEstablecimiento]],'[2]Establecimiento 2023'!$A$1:$E$183,3,FALSE),0)","v":"105323-Centro de Salud Familiar Dr. Sergio Aguilar Delgado"},{"$f":"IFERROR(VLOOKUP(Tabla_SERIED_11_6[[#This Row],[IdEstablecimiento]],'[2]Establecimiento 2023'!$A$1:$E$183,5,FALSE),0)","v":"04102-Coquimbo"},"15050100","2023-04-19T09:15:30",595,229,366,7,24,48,66,74,110,93,91,null,23,25,34]
[3,"5",2023,"105428",{"$f":"IFERROR(VLOOKUP(Tabla_SERIED_11_6[[#This Row],[IdEstablecimiento]],'[2]Establecimiento 2023'!$A$1:$E$183,3,FALSE),0)","v":"105428-Posta de Salud Rural Huatulame"},{"$f":"IFERROR(VLOOKUP(Tabla_SERIED_11_6[[#This Row],[IdEstablecimiento]],'[2]Establecimiento 2023'!$A$1:$E$183,5,FALSE),0)","v":"04303-Monte Patria"},"15010100","2023-04-19T09:25:26",6,{"$nulls":3},4,2]
[3,"5",2023,"105442",{"$f":"IFERROR(VLOOKUP(Tabla_SERIED_11_6[[#This Row],[IdEstablecimiento]],'[2]Establecimiento 2023'!$A$1:$E$183,3,FALSE),0)","v":"105442-Posta de Salud Rural San Pedro de Quiles"},{"$f":"IFERROR(VLOOKUP(Tabla_SERIED_11_6[[#This Row],[IdEstablecimiento]],'[2]Establecimiento 2023'!$A$1:$E$183,5,FALSE),0)","v":"04304-Punitaqui"},"15010200","2023-04-19T09:29:32",8,{"$nulls":6},8]
[3,"5",2023,"105405",{"$f":"IFERROR(VLOOKUP(Tabla_SERIED_11_6[[#This Row],[IdEstablecimiento]],'[2]Establecimiento 2023'!$A$1:$E$183,3,FALSE),0)","v":"105405-Posta de Salud Rural Guanaqueros"},{"$f":"IFERROR(VLOOKUP(Tabla_SERIED_11_6[[#This Row],[IdEstablecimiento]],'[2]Establecimiento 2023'!$A$1:$E$183,5,FALSE),0)","v":"04102-Coquimbo"},"15010200","2023-05-16T14:49:57",56,{"$nulls":5},32,24]
[3,"5",2023,"105407",{"$f":"IFERROR(VLOOKUP(Tabla_SERIED_11_6[[#This Row],[IdEstablecimiento]],'[2]Establecimiento 2023'!$A$1:$E$183,3,FALSE),0)","v":"105407-Posta de Salud Rural Tambillo"},{"$f":"IFERROR(VLOOKUP(Tabla_SERIED_11_6[[#This Row],[IdEstablecimiento]],'[2]Establecimiento 2023'!$A$1:$E$183,5,FALSE),0)","v":"04102-Coquimbo"},"16090300","2023-04-19T09:21:38",39,39]
[3,"5",2023,"105415",{"$f":"IFERROR(VLOOKUP(Tabla_SERIED_11_6[[#This Row],[IdEstablecimiento]],'[2]Establecimiento 2023'!$A$1:$E$183,3,FALSE),0)","v":"105415-Posta de Salud Rural Barraza"},{"$f":"IFERROR(VLOOKUP(Tabla_SERIED_11_6[[#This Row],[IdEstablecimiento]],'[2]Establecimiento 2023'!$A$1:$E$183,5,FALSE),0)","v":"04301-Ovalle"},"16100300","2023-04-19T14:04:21",162,66,96]
[3,"5",2023,"105427",{"$f":"IFERROR(VLOOKUP(Tabla_SERIED_11_6[[#This Row],[IdEstablecimiento]],'[2]Establecimiento 2023'!$A$1:$E$183,3,FALSE),0)","v":"105427-Posta de Salud Rural Hacienda Valdivia"},{"$f":"IFERROR(VLOOKUP(Tabla_SERIED_11_6[[#This Row],[IdEstablecimiento]],'[2]Establecimiento 2023'!$A$1:$E$183,5,FALSE),0)","v":"04303-Monte Patria"},"15010100","2023-04-19T09:25:07",6,{"$nulls":3},2,4]
[3,"5",2023,"105479",{"$f":"IFERROR(VLOOKUP(Tabla_SERIED_11_6[[#This Row],[IdEstablecimiento]],'[2]Establecimiento 2023'!$A$1:$E$183,3,FALSE),0)","v":"105479-Posta de Salud Rural Guangualí"},{"$f":"IFERROR(VLOOKUP(Tabla_SERIED_11_6[[#This Row],[IdEstablecimiento]],'[2]Establecimiento 2023'!$A$1:$E$183,5,FALSE),0)","v":"04203-Los Vilos"},"15010200","2023-04-19T09:39:31",40,{"$nulls":5},26,14]
[3,"5",2023,"105489",{"$f":"IFERROR(VLOOKUP(Tabla_SERIED_11_6[[#This Row],[IdEstablecimiento]],'[2]Establecimiento 2023'!$A$1:$E$183,3,FALSE),0)","v":"105489-Posta de Salud Rural Ramadas de Tulahuén"},{"$f":"IFERROR(VLOOKUP(Tabla_SERIED_11_6[[#This Row],[IdEstablecimiento]],'[2]Establecimiento 2023'!$A$1:$E$183,5,FALSE),0)","v":"04303-Monte Patria"},"15900010","2023-04-19T09:42:28",1.7,null,1.7]
[3,"5",2023,"105499",{"$f":"IFERROR(VLOOKUP(Tabla_SERIED_11_6[[#This Row],[IdEstablecimiento]],'[2]Establecimiento 2023'!$A$1:$E$183,3,FALSE),0)","v":"105499-Posta de Salud Rural Lambert"},{"$f":"IFERROR(VLOOKUP(Tabla_SERIED_11_6[[#This Row],[IdEstablecimiento]],'[2]Establecimiento 2023'!$A$1:$E$183,5,FALSE),0)","v":"04101-La Serena"},"15080008","2023-04-19T09:44:56",6,{"$nulls":7},2,null,null,4]
[3,"5",2023,"105503",{"$f":"IFERROR(VLOOKUP(Tabla_SERIED_11_6[[#This Row],[IdEstablecimiento]],'[2]Establecimiento 2023'!$A$1:$E$183,3,FALSE),0)","v":"105503-Posta de Salud Rural Tabaqueros"},{"$f":"IFERROR(VLOOKUP(Tabla_SERIED_11_6[[#This Row],[IdEstablecimiento]],'[2]Establecimiento 2023'!$A$1:$E$183,5,FALSE),0)","v":"04305-Rio Hurtado"},"15010100","2023-04-19T14:26:37",4,{"$nulls":3},4]
[3,"5",2023,"105723",{"$f":"IFERROR(VLOOKUP(Tabla_SERIED_11_6[[#This Row],[IdEstablecimiento]],'[2]Establecimiento 2023'!$A$1:$E$183,3,FALSE),0)","v":"105723-Centro Comunitario de Salud Familiar Limarí"},{"$f":"IFERROR(VLOOKUP(Tabla_SERIED_11_6[[#This Row],[IdEstablecimiento]],'[2]Establecimiento 2023'!$A$1:$E$183,5,FALSE),0)","v":"04301-Ovalle"},"15080014","2023-04-21T09:34:36",22,{"$nulls":3},12,10]
[3,"5",2023,"200273",{"$f":"IFERROR(VLOOKUP(Tabla_SERIED_11_6[[#This Row],[IdEstablecimiento]],'[2]Establecimiento 2023'!$A$1:$E$183,3,FALSE),0)","v":"200273-Centro Comunitario de Salud Familiar Punta Mira"},{"$f":"IFERROR(VLOOKUP(Tabla_SERIED_11_6[[#This Row],[IdEstablecimiento]],'[2]Establecimiento 2023'!$A$1:$E$183,5,FALSE),0)","v":"04102-Coquimbo"},"15050100","2023-04-19T09:54:10",65,25,40,1,1,6,2,10,12,16,8,null,6,0,3]
[3,"5",2023,"200366",{"$f":"IFERROR(VLOOKUP(Tabla_SERIED_11_6[[#This Row],[IdEstablecimiento]],'[2]Establecimiento 2023'!$A$1:$E$183,3,FALSE),0)","v":"200366-Centro de Salud Familiar Urbano de Illapel"},{"$f":"IFERROR(VLOOKUP(Tabla_SERIED_11_6[[#This Row],[IdEstablecimiento]],'[2]Establecimiento 2023'!$A$1:$E$183,5,FALSE),0)","v":"04201-Illapel"},"16200230","2023-04-19T09:54:28",1,0,1]
[3,"5",2023,"105400",{"$f":"IFERROR(VLOOKUP(Tabla_SERIED_11_6[[#This Row],[IdEstablecimiento]],'[2]Establecimiento 2023'!$A$1:$E$183,3,FALSE),0)","v":"105400-Posta de Salud Rural Algarrobito"},{"$f":"IFERROR(VLOOKUP(Tabla_SERIED_11_6[[#This Row],[IdEstablecimiento]],'[2]Establecimiento 2023'!$A$1:$E$183,5,FALSE),0)","v":"04101-La Serena"},"15060100","2023-04-19T09:17:01",1,null,1,{"$nulls":5},1]
[3,"5",2023,"105416",{"$f":"IFERROR(VLOOKUP(Tabla_SERIED_11_6[[#This Row],[IdEstablecimiento]],'[2]Establecimiento 2023'!$A$1:$E$183,3,FALSE),0)","v":"105416-Posta de Salud Rural Camarico (Ovalle)"},{"$f":"IFERROR(VLOOKUP(Tabla_SERIED_11_6[[#This Row],[IdEstablecimiento]],'[2]Establecimiento 2023'!$A$1:$E$183,5,FALSE),0)","v":"04301-Ovalle"},"15080008","2023-04-19T14:04:43",3,{"$nulls":7},1,null,2]
[3,"5",2023,"105432",{"$f":"IFERROR(VLOOKUP(Tabla_SERIED_11_6[[#This Row],[IdEstablecimiento]],'[2]Establecimiento 2023'!$A$1:$E$183,3,FALSE),0)","v":"105432-Posta de Salud Rural Rapel (Monte Patria)"},{"$f":"IFERROR(VLOOKUP(Tabla_SERIED_11_6[[#This Row],[IdEstablecimiento]],'[2]Establecimiento 2023'!$A$1:$E$183,5,FALSE),0)","v":"04303-Monte Patria"},"15900010","2023-04-19T09:26:17",8,null,null,8]
[3,"5",2023,"105309",{"$f":"IFERROR(VLOOKUP(Tabla_SERIED_11_6[[#This Row],[IdEstablecimiento]],'[2]Establecimiento 2023'!$A$1:$E$183,3,FALSE),0)","v":"105309-Centro de Salud Familiar Canela"},{"$f":"IFERROR(VLOOKUP(Tabla_SERIED_11_6[[#This Row],[IdEstablecimiento]],'[2]Establecimiento 2023'!$A$1:$E$183,5,FALSE),0)","v":"04202-Canela"},"15900030","2023-04-19T14:01:21",3.6,{"$nulls":3},3.6]
[3,"5",2023,"105313",{"$f":"IFERROR(VLOOKUP(Tabla_SERIED_11_6[[#This Row],[IdEstablecimiento]],'[2]Establecimiento 2023'!$A$1:$E$183,3,FALSE),0)","v":"105313-Centro de Salud Familiar Dr. Emilio Schaffhauser"},{"$f":"IFERROR(VLOOKUP(Tabla_SERIED_11_6[[#This Row],[IdEstablecimiento]],'[2]Establecimiento 2023'!$A$1:$E$183,5,FALSE),0)","v":"04101-La Serena"},"15020100","2023-04-19T09:11:35",10,null,null,4,6]
[3,"5",2023,"105319",{"$f":"IFERROR(VLOOKUP(Tabla_SERIED_11_6[[#This Row],[IdEstablecimiento]],'[2]Establecimiento 2023'!$A$1:$E$183,3,FALSE),0)","v":"105319-Centro de Salud Familiar Cardenal Raúl Silva Henríquez de La Serena"},{"$f":"IFERROR(VLOOKUP(Tabla_SERIED_11_6[[#This Row],[IdEstablecimiento]],'[2]Establecimiento 2023'!$A$1:$E$183,5,FALSE),0)","v":"04101-La Serena"},"16100300","2023-04-19T09:14:37",749,350,399]
[3,"5",2023,"105323",{"$f":"IFERROR(VLOOKUP(Tabla_SERIED_11_6[[#This Row],[IdEstablecimiento]],'[2]Establecimiento 2023'!$A$1:$E$183,3,FALSE),0)","v":"105323-Centro de Salud Familiar Dr. Sergio Aguilar Delgado"},{"$f":"IFERROR(VLOOKUP(Tabla_SERIED_11_6[[#This Row],[IdEstablecimiento]],'[2]Establecimiento 2023'!$A$1:$E$183,5,FALSE),0)","v":"04102-Coquimbo"},"15010200","2023-04-19T09:15:30",462,{"$nulls":4},60,220,182]
[3,"5",2023,"105458",{"$f":"IFERROR(VLOOKUP(Tabla_SERIED_11_6[[#This Row],[IdEstablecimiento]],'[2]Establecimiento 2023'!$A$1:$E$183,3,FALSE),0)","v":"105458-Posta de Salud Rural Tahuinco"},{"$f":"IFERROR(VLOOKUP(Tabla_SERIED_11_6[[#This Row],[IdEstablecimiento]],'[2]Establecimiento 2023'!$A$1:$E$183,5,FALSE),0)","v":"04204-Salamanca"},"15080008","2023-04-19T09:33:32",9,{"$nulls":7},1,null,4,null,4]
[3,"5",2023,"105473",{"$f":"IFERROR(VLOOKUP(Tabla_SERIED_11_6[[#This Row],[IdEstablecimiento]],'[2]Establecimiento 2023'!$A$1:$E$183,3,FALSE),0)","v":"105473-Posta de Salud Rural Talcuna"},{"$f":"IFERROR(VLOOKUP(Tabla_SERIED_11_6[[#This Row],[IdEstablecimiento]],'[2]Establecimiento 2023'!$A$1:$E$183,5,FALSE),0)","v":"04106-Vicuña"},"16200220","2023-04-19T09:38:25",4,2,2]
[3,"5",2023,"200499",{"$f":"IFERROR(VLOOKUP(Tabla_SERIED_11_6[[#This Row],[IdEstablecimiento]],'[2]Establecimiento 2023'!$A$1:$E$183,3,FALSE),0)","v":"200499-Centro de Salud Familiar Rural Pan de Azúcar"},{"$f":"IFERROR(VLOOKUP(Tabla_SERIED_11_6[[#This Row],[IdEstablecimiento]],'[2]Establecimiento 2023'!$A$1:$E$183,5,FALSE),0)","v":"04102-Coquimbo"},"15050200","2023-04-19T09:55:28",6,4,2,1,2,1,0,0,2,0,null,0,0,0,0]
[3,"5",2023,"105400",{"$f":"IFERROR(VLOOKUP(Tabla_SERIED_11_6[[#This Row],[IdEstablecimiento]],'[2]Establecimiento 2023'!$A$1:$E$183,3,FALSE),0)","v":"105400-Posta de Salud Rural Algarrobito"},{"$f":"IFERROR(VLOOKUP(Tabla_SERIED_11_6[[#This Row],[IdEstablecimiento]],'[2]Establecimiento 2023'!$A$1:$E$183,5,FALSE),0)","v":"04101-La Serena"},"15010200","2023-04-19T09:17:01",92,{"$nulls":4},12,46,34]
[3,"5",2023,"105407",{"$f":"IFERROR(VLOOKUP(Tabla_SERIED_11_6[[#This Row],[IdEstablecimiento]],'[2]Establecimiento 2023'!$A$1:$E$183,3,FALSE),0)","v":"105407-Posta de Salud Rural Tambillo"},{"$f":"IFERROR(VLOOKUP(Tabla_SERIED_11_6[[#This Row],[IdEstablecimiento]],'[2]Establecimiento 2023'!$A$1:$E$183,5,FALSE),0)","v":"04102-Coquimbo"},"15010100","2023-04-19T09:21:38",10,{"$nulls":3},10,0]
[3,"5",2023,"105437",{"$f":"IFERROR(VLOOKUP(Tabla_SERIED_11_6[[#This Row],[IdEstablecimiento]],'[2]Establecimiento 2023'!$A$1:$E$183,3,FALSE),0)","v":"105437-Posta de Salud Rural Chalinga"},{"$f":"IFERROR(VLOOKUP(Tabla_SERIED_11_6[[#This Row],[IdEstablecimiento]],'[2]Establecimiento 2023'!$A$1:$E$183,5,FALSE),0)","v":"04301-Ovalle"},"15010100","2023-04-19T14:05:53",4,{"$nulls":3},4]
[3,"5",2023,"105437",{"$f":"IFERROR(VLOOKUP(Tabla_SERIED_11_6[[#This Row],[IdEstablecimiento]],'[2]Establecimiento 2023'!$A$1:$E$183,3,FALSE),0)","v":"105437-Posta de Salud Rural Chalinga"},{"$f":"IFERROR(VLOOKUP(Tabla_SERIED_11_6[[#This Row],[IdEstablecimiento]],'[2]Establecimiento 2023'!$A$1:$E$183,5,FALSE),0)","v":"04301-Ovalle"},"16200220","2023-04-19T14:05:53",17,9,8]
[3,"5",2023,"105456",{"$f":"IFERROR(VLOOKUP(Tabla_SERIED_11_6[[#This Row],[IdEstablecimiento]],'[2]Establecimiento 2023'!$A$1:$E$183,3,FALSE),0)","v":"105456-Posta de Salud Rural Llimpo"},{"$f":"IFERROR(VLOOKUP(Tabla_SERIED_11_6[[#This Row],[IdEstablecimiento]],'[2]Establecimiento 2023'!$A$1:$E$183,5,FALSE),0)","v":"04204-Salamanca"},"15010100","2023-04-19T09:32:57",4,{"$nulls":3},4]
[3,"5",2023,"105466",{"$f":"IFERROR(VLOOKUP(Tabla_SERIED_11_6[[#This Row],[IdEstablecimiento]],'[2]Establecimiento 2023'!$A$1:$E$183,3,FALSE),0)","v":"105466-Posta de Salud Rural Valle Hermoso"},{"$f":"IFERROR(VLOOKUP(Tabla_SERIED_11_6[[#This Row],[IdEstablecimiento]],'[2]Establecimiento 2023'!$A$1:$E$183,5,FALSE),0)","v":"04302-Combarbalá"},"16200210","2023-04-19T09:36:05",12,12]
[3,"5",2023,"105303",{"$f":"IFERROR(VLOOKUP(Tabla_SERIED_11_6[[#This Row],[IdEstablecimiento]],'[2]Establecimiento 2023'!$A$1:$E$183,3,FALSE),0)","v":"105303-Centro de Salud Familiar San Juan"},{"$f":"IFERROR(VLOOKUP(Tabla_SERIED_11_6[[#This Row],[IdEstablecimiento]],'[2]Establecimiento 2023'!$A$1:$E$183,5,FALSE),0)","v":"04102-Coquimbo"},"16090300","2023-04-19T09:07:34",713,713]
[3,"5",2023,"105309",{"$f":"IFERROR(VLOOKUP(Tabla_SERIED_11_6[[#This Row],[IdEstablecimiento]],'[2]Establecimiento 2023'!$A$1:$E$183,3,FALSE),0)","v":"105309-Centro de Salud Familiar Canela"},{"$f":"IFERROR(VLOOKUP(Tabla_SERIED_11_6[[#This Row],[IdEstablecimiento]],'[2]Establecimiento 2023'!$A$1:$E$183,5,FALSE),0)","v":"04202-Canela"},"15080008","2023-04-19T14:01:21",50,{"$nulls":7},25,null,20,null,5]
[3,"5",2023,"105317",{"$f":"IFERROR(VLOOKUP(Tabla_SERIED_11_6[[#This Row],[IdEstablecimiento]],'[2]Establecimiento 2023'!$A$1:$E$183,3,FALSE),0)","v":"105317-Centro de Salud Familiar Jorge Jordán Domic"},{"$f":"IFERROR(VLOOKUP(Tabla_SERIED_11_6[[#This Row],[IdEstablecimiento]],'[2]Establecimiento 2023'!$A$1:$E$183,5,FALSE),0)","v":"04301-Ovalle"},"16200220","2023-04-19T14:02:34",77,24,53]
[3,"5",2023,"105487",{"$f":"IFERROR(VLOOKUP(Tabla_SERIED_11_6[[#This Row],[IdEstablecimiento]],'[2]Establecimiento 2023'!$A$1:$E$183,3,FALSE),0)","v":"105487-Posta de Salud Rural Cañas Uno"},{"$f":"IFERROR(VLOOKUP(Tabla_SERIED_11_6[[#This Row],[IdEstablecimiento]],'[2]Establecimiento 2023'!$A$1:$E$183,5,FALSE),0)","v":"04201-Illapel"},"16200210","2023-04-19T09:42:09",32,32]
[3,"5",2023,"105505",{"$f":"IFERROR(VLOOKUP(Tabla_SERIED_11_6[[#This Row],[IdEstablecimiento]],'[2]Establecimiento 2023'!$A$1:$E$183,3,FALSE),0)","v":"105505-Posta de Salud Rural Los Choros"},{"$f":"IFERROR(VLOOKUP(Tabla_SERIED_11_6[[#This Row],[IdEstablecimiento]],'[2]Establecimiento 2023'!$A$1:$E$183,5,FALSE),0)","v":"04104-La Higuera"},"16090300","2023-07-19T15:17:06",21,21]
[3,"5",2023,"105702",{"$f":"IFERROR(VLOOKUP(Tabla_SERIED_11_6[[#This Row],[IdEstablecimiento]],'[2]Establecimiento 2023'!$A$1:$E$183,3,FALSE),0)","v":"105702-Centro Comunitario de Salud Familiar Lambert"},{"$f":"IFERROR(VLOOKUP(Tabla_SERIED_11_6[[#This Row],[IdEstablecimiento]],'[2]Establecimiento 2023'!$A$1:$E$183,5,FALSE),0)","v":"04101-La Serena"},"15010100","2023-04-19T09:53:37",34,{"$nulls":3},18,16]
[3,"5",2023,"105322",{"$f":"IFERROR(VLOOKUP(Tabla_SERIED_11_6[[#This Row],[IdEstablecimiento]],'[2]Establecimiento 2023'!$A$1:$E$183,3,FALSE),0)","v":"105322-Centro de Salud Familiar Marcos Macuada"},{"$f":"IFERROR(VLOOKUP(Tabla_SERIED_11_6[[#This Row],[IdEstablecimiento]],'[2]Establecimiento 2023'!$A$1:$E$183,5,FALSE),0)","v":"04301-Ovalle"},"15900010","2023-04-19T14:03:00",184.5,11.3,51.1,122.1]
[3,"5",2023,"105323",{"$f":"IFERROR(VLOOKUP(Tabla_SERIED_11_6[[#This Row],[IdEstablecimiento]],'[2]Establecimiento 2023'!$A$1:$E$183,3,FALSE),0)","v":"105323-Centro de Salud Familiar Dr. Sergio Aguilar Delgado"},{"$f":"IFERROR(VLOOKUP(Tabla_SERIED_11_6[[#This Row],[IdEstablecimiento]],'[2]Establecimiento 2023'!$A$1:$E$183,5,FALSE),0)","v":"04102-Coquimbo"},"16090100","2023-04-19T09:15:30",6,6]
[3,"5",2023,"105414",{"$f":"IFERROR(VLOOKUP(Tabla_SERIED_11_6[[#This Row],[IdEstablecimiento]],'[2]Establecimiento 2023'!$A$1:$E$183,3,FALSE),0)","v":"105414-Posta de Salud Rural Serón"},{"$f":"IFERROR(VLOOKUP(Tabla_SERIED_11_6[[#This Row],[IdEstablecimiento]],'[2]Establecimiento 2023'!$A$1:$E$183,5,FALSE),0)","v":"04305-Rio Hurtado"},"15050100","2023-04-19T14:26:03",19,11,8,{"$nulls":3},1,1,5,8,3,{"$nulls":3},1]
[3,"5",2023,"105478",{"$f":"IFERROR(VLOOKUP(Tabla_SERIED_11_6[[#This Row],[IdEstablecimiento]],'[2]Establecimiento 2023'!$A$1:$E$183,3,FALSE),0)","v":"105478-Posta de Salud Rural Caimanes"},{"$f":"IFERROR(VLOOKUP(Tabla_SERIED_11_6[[#This Row],[IdEstablecimiento]],'[2]Establecimiento 2023'!$A$1:$E$183,5,FALSE),0)","v":"04203-Los Vilos"},"16200210","2023-04-19T14:12:23",1,1]
[3,"5",2023,"105505",{"$f":"IFERROR(VLOOKUP(Tabla_SERIED_11_6[[#This Row],[IdEstablecimiento]],'[2]Establecimiento 2023'!$A$1:$E$183,3,FALSE),0)","v":"105505-Posta de Salud Rural Los Choros"},{"$f":"IFERROR(VLOOKUP(Tabla_SERIED_11_6[[#This Row],[IdEstablecimiento]],'[2]Establecimiento 2023'!$A$1:$E$183,5,FALSE),0)","v":"04104-La Higuera"},"15010100","2023-07-19T15:17:06",4,{"$nulls":4},4]
[3,"5",2023,"105700",{"$f":"IFERROR(VLOOKUP(Tabla_SERIED_11_6[[#This Row],[IdEstablecimiento]],'[2]Establecimiento 2023'!$A$1:$E$183,3,FALSE),0)","v":"105700-Centro Comunitario de Salud Familiar Villa el Indio"},{"$f":"IFERROR(VLOOKUP(Tabla_SERIED_11_6[[#This Row],[IdEstablecimiento]],'[2]Establecimiento 2023'!$A$1:$E$183,5,FALSE),0)","v":"04101-La Serena"},"16090300","2023-04-19T09:52:08",115,115]
[3,"5",2023,"200273",{"$f":"IFERROR(VLOOKUP(Tabla_SERIED_11_6[[#This Row],[IdEstablecimiento]],'[2]Establecimiento 2023'!$A$1:$E$183,3,FALSE),0)","v":"200273-Centro Comunitario de Salud Familiar Punta Mira"},{"$f":"IFERROR(VLOOKUP(Tabla_SERIED_11_6[[#This Row],[IdEstablecimiento]],'[2]Establecimiento 2023'!$A$1:$E$183,5,FALSE),0)","v":"04102-Coquimbo"},"16100300","2023-04-19T09:54:10",64,26,38]
[3,"5",2023,"200494",{"$f":"IFERROR(VLOOKUP(Tabla_SERIED_11_6[[#This Row],[IdEstablecimiento]],'[2]Establecimiento 2023'!$A$1:$E$183,3,FALSE),0)","v":"200494-Centro de Salud Familiar El Sauce"},{"$f":"IFERROR(VLOOKUP(Tabla_SERIED_11_6[[#This Row],[IdEstablecimiento]],'[2]Establecimiento 2023'!$A$1:$E$183,5,FALSE),0)","v":"04102-Coquimbo"},"15020100","2023-04-19T09:55:11",8,{"$nulls":3},8]
[3,"5",2023,"200494",{"$f":"IFERROR(VLOOKUP(Tabla_SERIED_11_6[[#This Row],[IdEstablecimiento]],'[2]Establecimiento 2023'!$A$1:$E$183,3,FALSE),0)","v":"200494-Centro de Salud Familiar El Sauce"},{"$f":"IFERROR(VLOOKUP(Tabla_SERIED_11_6[[#This Row],[IdEstablecimiento]],'[2]Establecimiento 2023'!$A$1:$E$183,5,FALSE),0)","v":"04102-Coquimbo"},"15030100","2023-04-19T09:55:11",6,null,2,4]
[3,"5",2023,"105422",{"$f":"IFERROR(VLOOKUP(Tabla_SERIED_11_6[[#This Row],[IdEstablecimiento]],'[2]Establecimiento 2023'!$A$1:$E$183,3,FALSE),0)","v":"105422-Posta de Salud Rural Hornillos"},{"$f":"IFERROR(VLOOKUP(Tabla_SERIED_11_6[[#This Row],[IdEstablecimiento]],'[2]Establecimiento 2023'!$A$1:$E$183,5,FALSE),0)","v":"04301-Ovalle"},"15080008","2023-04-19T14:05:31",3,{"$nulls":9},3]
[3,"5",2023,"105433",{"$f":"IFERROR(VLOOKUP(Tabla_SERIED_11_6[[#This Row],[IdEstablecimiento]],'[2]Establecimiento 2023'!$A$1:$E$183,3,FALSE),0)","v":"105433-Posta de Salud Rural San Lorenzo (Combarbalá)"},{"$f":"IFERROR(VLOOKUP(Tabla_SERIED_11_6[[#This Row],[IdEstablecimiento]],'[2]Establecimiento 2023'!$A$1:$E$183,5,FALSE),0)","v":"04302-Combarbalá"},"16090300","2023-04-19T09:26:40",19,19]
[3,"5",2023,"105451",{"$f":"IFERROR(VLOOKUP(Tabla_SERIED_11_6[[#This Row],[IdEstablecimiento]],'[2]Establecimiento 2023'!$A$1:$E$183,3,FALSE),0)","v":"105451-Posta de Salud Rural Agua Fría"},{"$f":"IFERROR(VLOOKUP(Tabla_SERIED_11_6[[#This Row],[IdEstablecimiento]],'[2]Establecimiento 2023'!$A$1:$E$183,5,FALSE),0)","v":"04202-Canela"},"16200210","2023-04-19T14:07:10",5,5]
[3,"5",2023,"105461",{"$f":"IFERROR(VLOOKUP(Tabla_SERIED_11_6[[#This Row],[IdEstablecimiento]],'[2]Establecimiento 2023'!$A$1:$E$183,3,FALSE),0)","v":"105461-Posta de Salud Rural El Huacho"},{"$f":"IFERROR(VLOOKUP(Tabla_SERIED_11_6[[#This Row],[IdEstablecimiento]],'[2]Establecimiento 2023'!$A$1:$E$183,5,FALSE),0)","v":"04302-Combarbalá"},"16200220","2023-04-19T09:34:36",2,1,1]
[3,"5",2023,"105466",{"$f":"IFERROR(VLOOKUP(Tabla_SERIED_11_6[[#This Row],[IdEstablecimiento]],'[2]Establecimiento 2023'!$A$1:$E$183,3,FALSE),0)","v":"105466-Posta de Salud Rural Valle Hermoso"},{"$f":"IFERROR(VLOOKUP(Tabla_SERIED_11_6[[#This Row],[IdEstablecimiento]],'[2]Establecimiento 2023'!$A$1:$E$183,5,FALSE),0)","v":"04302-Combarbalá"},"16200220","2023-04-19T09:36:05",12,9,3]
[3,"5",2023,"105105",{"$f":"IFERROR(VLOOKUP(Tabla_SERIED_11_6[[#This Row],[IdEstablecimiento]],'[2]Establecimiento 2023'!$A$1:$E$183,3,FALSE),0)","v":"105105-Hospital San Juan de Dios (Combarbalá)"},{"$f":"IFERROR(VLOOKUP(Tabla_SERIED_11_6[[#This Row],[IdEstablecimiento]],'[2]Establecimiento 2023'!$A$1:$E$183,5,FALSE),0)","v":"105105-Hospital Combarbalá"},"15900030","2023-04-19T09:04:55",6.8,null,null,4.4,2.4]
[6,"5",2023,"200366",{"$f":"IFERROR(VLOOKUP(Tabla_SERIED_11_6[[#This Row],[IdEstablecimiento]],'[2]Establecimiento 2023'!$A$1:$E$183,3,FALSE),0)","v":"200366-Centro de Salud Familiar Urbano de Illapel"},{"$f":"IFERROR(VLOOKUP(Tabla_SERIED_11_6[[#This Row],[IdEstablecimiento]],'[2]Establecimiento 2023'!$A$1:$E$183,5,FALSE),0)","v":"04201-Illapel"},"15900050","2023-07-18T09:49:39",7,4,3,null,null,2,2,3]
[6,"5",2023,"200494",{"$f":"IFERROR(VLOOKUP(Tabla_SERIED_11_6[[#This Row],[IdEstablecimiento]],'[2]Establecimiento 2023'!$A$1:$E$183,3,FALSE),0)","v":"200494-Centro de Salud Familiar El Sauce"},{"$f":"IFERROR(VLOOKUP(Tabla_SERIED_11_6[[#This Row],[IdEstablecimiento]],'[2]Establecimiento 2023'!$A$1:$E$183,5,FALSE),0)","v":"04102-Coquimbo"},"15080019","2023-08-18T11:35:12",6,{"$nulls":5},2,4]
[6,"5",2023,"200569",{"$f":"IFERROR(VLOOKUP(Tabla_SERIED_11_6[[#This Row],[IdEstablecimiento]],'[2]Establecimiento 2023'!$A$1:$E$183,3,FALSE),0)","v":"200569-Centro de Salud Familiar Fray Jorge"},{"$f":"IFERROR(VLOOKUP(Tabla_SERIED_11_6[[#This Row],[IdEstablecimiento]],'[2]Establecimiento 2023'!$A$1:$E$183,5,FALSE),0)","v":"04301-Ovalle"},"15050200","2023-08-18T11:36:54",18,6,12,0,0,1,3,2,6,3,null,3,0,0,0]
[3,"5",2023,"105492",{"$f":"IFERROR(VLOOKUP(Tabla_SERIED_11_6[[#This Row],[IdEstablecimiento]],'[2]Establecimiento 2023'!$A$1:$E$183,3,FALSE),0)","v":"105492-Posta de Salud Rural Camisa"},{"$f":"IFERROR(VLOOKUP(Tabla_SERIED_11_6[[#This Row],[IdEstablecimiento]],'[2]Establecimiento 2023'!$A$1:$E$183,5,FALSE),0)","v":"04204-Salamanca"},"16090300","2023-04-19T09:43:18",49,49]
[3,"5",2023,"105301",{"$f":"IFERROR(VLOOKUP(Tabla_SERIED_11_6[[#This Row],[IdEstablecimiento]],'[2]Establecimiento 2023'!$A$1:$E$183,3,FALSE),0)","v":"105301-Centro de Salud Familiar Las Compañías"},{"$f":"IFERROR(VLOOKUP(Tabla_SERIED_11_6[[#This Row],[IdEstablecimiento]],'[2]Establecimiento 2023'!$A$1:$E$183,5,FALSE),0)","v":"04101-La Serena"},"15010500","2023-04-19T09:07:01",8,null,null,2,2,2,2]
[3,"5",2023,"105308",{"$f":"IFERROR(VLOOKUP(Tabla_SERIED_11_6[[#This Row],[IdEstablecimiento]],'[2]Establecimiento 2023'!$A$1:$E$183,3,FALSE),0)","v":"105308-Centro de Salud Familiar Punitaqui"},{"$f":"IFERROR(VLOOKUP(Tabla_SERIED_11_6[[#This Row],[IdEstablecimiento]],'[2]Establecimiento 2023'!$A$1:$E$183,5,FALSE),0)","v":"04304-Punitaqui"},"15030100","2023-04-20T09:20:01",9.6,null,null,9.6]
[3,"5",2023,"105315",{"$f":"IFERROR(VLOOKUP(Tabla_SERIED_11_6[[#This Row],[IdEstablecimiento]],'[2]Establecimiento 2023'!$A$1:$E$183,3,FALSE),0)","v":"105315-Centro de Salud Familiar Cerrillos de Tamaya"},{"$f":"IFERROR(VLOOKUP(Tabla_SERIED_11_6[[#This Row],[IdEstablecimiento]],'[2]Establecimiento 2023'!$A$1:$E$183,5,FALSE),0)","v":"04301-Ovalle"},"16200220","2023-04-19T14:02:10",13,7,6]
[3,"5",2023,"105501",{"$f":"IFERROR(VLOOKUP(Tabla_SERIED_11_6[[#This Row],[IdEstablecimiento]],'[2]Establecimiento 2023'!$A$1:$E$183,3,FALSE),0)","v":"105501-Posta de Salud Rural Arboleda Grande"},{"$f":"IFERROR(VLOOKUP(Tabla_SERIED_11_6[[#This Row],[IdEstablecimiento]],'[2]Establecimiento 2023'!$A$1:$E$183,5,FALSE),0)","v":"04204-Salamanca"},"15900010","2023-04-19T09:48:45",7.2,4,null,3.2]
[3,"5",2023,"105701",{"$f":"IFERROR(VLOOKUP(Tabla_SERIED_11_6[[#This Row],[IdEstablecimiento]],'[2]Establecimiento 2023'!$A$1:$E$183,3,FALSE),0)","v":"105701-Centro Comunitario de Salud Familiar Villa Alemania"},{"$f":"IFERROR(VLOOKUP(Tabla_SERIED_11_6[[#This Row],[IdEstablecimiento]],'[2]Establecimiento 2023'!$A$1:$E$183,5,FALSE),0)","v":"04101-La Serena"},"15080008","2023-04-19T09:53:16",19,{"$nulls":7},8,null,10,null,1]
[3,"5",2023,"105722",{"$f":"IFERROR(VLOOKUP(Tabla_SERIED_11_6[[#This Row],[IdEstablecimiento]],'[2]Establecimiento 2023'!$A$1:$E$183,3,FALSE),0)","v":"105722-Centro Comunitario de Salud Familiar San José de la Dehesa"},{"$f":"IFERROR(VLOOKUP(Tabla_SERIED_11_6[[#This Row],[IdEstablecimiento]],'[2]Establecimiento 2023'!$A$1:$E$183,5,FALSE),0)","v":"04301-Ovalle"},"15010100","2023-04-21T09:33:54",42,{"$nulls":3},30,12]
[3,"5",2023,"200367",{"$f":"IFERROR(VLOOKUP(Tabla_SERIED_11_6[[#This Row],[IdEstablecimiento]],'[2]Establecimiento 2023'!$A$1:$E$183,3,FALSE),0)","v":"200367-Centro Comunitario de Salud Familiar Colonia Limarí"},{"$f":"IFERROR(VLOOKUP(Tabla_SERIED_11_6[[#This Row],[IdEstablecimiento]],'[2]Establecimiento 2023'!$A$1:$E$183,5,FALSE),0)","v":"04301-Ovalle"},"16200210","2023-04-21T09:35:36",8,8]
[3,"5",2023,"105323",{"$f":"IFERROR(VLOOKUP(Tabla_SERIED_11_6[[#This Row],[IdEstablecimiento]],'[2]Establecimiento 2023'!$A$1:$E$183,3,FALSE),0)","v":"105323-Centro de Salud Familiar Dr. Sergio Aguilar Delgado"},{"$f":"IFERROR(VLOOKUP(Tabla_SERIED_11_6[[#This Row],[IdEstablecimiento]],'[2]Establecimiento 2023'!$A$1:$E$183,5,FALSE),0)","v":"04102-Coquimbo"},"15900040","2023-04-19T09:15:30",13.6,null,null,3.6,10]
[3,"5",2023,"105401",{"$f":"IFERROR(VLOOKUP(Tabla_SERIED_11_6[[#This Row],[IdEstablecimiento]],'[2]Establecimiento 2023'!$A$1:$E$183,3,FALSE),0)","v":"105401-Posta de Salud Rural Las Rojas"},{"$f":"IFERROR(VLOOKUP(Tabla_SERIED_11_6[[#This Row],[IdEstablecimiento]],'[2]Establecimiento 2023'!$A$1:$E$183,5,FALSE),0)","v":"04101-La Serena"},"15080008","2023-04-19T09:17:19",13,{"$nulls":7},7,null,6]
[3,"5",2023,"105416",{"$f":"IFERROR(VLOOKUP(Tabla_SERIED_11_6[[#This Row],[IdEstablecimiento]],'[2]Establecimiento 2023'!$A$1:$E$183,3,FALSE),0)","v":"105416-Posta de Salud Rural Camarico (Ovalle)"},{"$f":"IFERROR(VLOOKUP(Tabla_SERIED_11_6[[#This Row],[IdEstablecimiento]],'[2]Establecimiento 2023'!$A$1:$E$183,5,FALSE),0)","v":"04301-Ovalle"},"15050200","2023-04-19T14:04:43",3,2,1,{"$nulls":5},3]
[3,"5",2023,"105425",{"$f":"IFERROR(VLOOKUP(Tabla_SERIED_11_6[[#This Row],[IdEstablecimiento]],'[2]Establecimiento 2023'!$A$1:$E$183,3,FALSE),0)","v":"105425-Posta de Salud Rural Chilecito"},{"$f":"IFERROR(VLOOKUP(Tabla_SERIED_11_6[[#This Row],[IdEstablecimiento]],'[2]Establecimiento 2023'!$A$1:$E$183,5,FALSE),0)","v":"04303-Monte Patria"},"16100300","2023-04-19T09:24:47",50,24,26]
[3,"5",2023,"105441",{"$f":"IFERROR(VLOOKUP(Tabla_SERIED_11_6[[#This Row],[IdEstablecimiento]],'[2]Establecimiento 2023'!$A$1:$E$183,3,FALSE),0)","v":"105441-Posta de Salud Rural Manquehua"},{"$f":"IFERROR(VLOOKUP(Tabla_SERIED_11_6[[#This Row],[IdEstablecimiento]],'[2]Establecimiento 2023'!$A$1:$E$183,5,FALSE),0)","v":"04302-Combarbalá"},"15050100","2023-04-19T09:28:44",10,7,4,{"$nulls":5},2,6,1,{"$nulls":3},1]
[3,"5",2023,"105444",{"$f":"IFERROR(VLOOKUP(Tabla_SERIED_11_6[[#This Row],[IdEstablecimiento]],'[2]Establecimiento 2023'!$A$1:$E$183,3,FALSE),0)","v":"105444-Posta de Salud Rural Huintil"},{"$f":"IFERROR(VLOOKUP(Tabla_SERIED_11_6[[#This Row],[IdEstablecimiento]],'[2]Establecimiento 2023'!$A$1:$E$183,5,FALSE),0)","v":"04201-Illapel"},"16200210","2023-04-19T09:30:05",8,8]
[3,"5",2023,"200499",{"$f":"IFERROR(VLOOKUP(Tabla_SERIED_11_6[[#This Row],[IdEstablecimiento]],'[2]Establecimiento 2023'!$A$1:$E$183,3,FALSE),0)","v":"200499-Centro de Salud Familiar Rural Pan de Azúcar"},{"$f":"IFERROR(VLOOKUP(Tabla_SERIED_11_6[[#This Row],[IdEstablecimiento]],'[2]Establecimiento 2023'!$A$1:$E$183,5,FALSE),0)","v":"04102-Coquimbo"},"15080008","2023-04-19T09:55:28",112,{"$nulls":7},57,null,30,22,3]
[3,"5",2023,"105104",{"$f":"IFERROR(VLOOKUP(Tabla_SERIED_11_6[[#This Row],[IdEstablecimiento]],'[2]Establecimiento 2023'!$A$1:$E$183,3,FALSE),0)","v":"105104-Hospital de Salamanca"},{"$f":"IFERROR(VLOOKUP(Tabla_SERIED_11_6[[#This Row],[IdEstablecimiento]],'[2]Establecimiento 2023'!$A$1:$E$183,5,FALSE),0)","v":"105104-Hospital Salamanca"},"16200220","2023-04-20T09:18:25",1,0,1]
[3,"5",2023,"105108",{"$f":"IFERROR(VLOOKUP(Tabla_SERIED_11_6[[#This Row],[IdEstablecimiento]],'[2]Establecimiento 2023'!$A$1:$E$183,3,FALSE),0)","v":"105108-Hospital San Pedro (Los Vilos)"},{"$f":"IFERROR(VLOOKUP(Tabla_SERIED_11_6[[#This Row],[IdEstablecimiento]],'[2]Establecimiento 2023'!$A$1:$E$183,5,FALSE),0)","v":"105108-Hospital Los Vilos"},"15010200","2023-04-20T09:19:31",294,{"$nulls":4},50,130,114]
[3,"5",2023,"105450",{"$f":"IFERROR(VLOOKUP(Tabla_SERIED_11_6[[#This Row],[IdEstablecimiento]],'[2]Establecimiento 2023'!$A$1:$E$183,3,FALSE),0)","v":"105450-Posta de Salud Rural Mincha Norte"},{"$f":"IFERROR(VLOOKUP(Tabla_SERIED_11_6[[#This Row],[IdEstablecimiento]],'[2]Establecimiento 2023'!$A$1:$E$183,5,FALSE),0)","v":"04202-Canela"},"16100700","2023-04-19T14:06:40",1,1]
[3,"5",2023,"105463",{"$f":"IFERROR(VLOOKUP(Tabla_SERIED_11_6[[#This Row],[IdEstablecimiento]],'[2]Establecimiento 2023'!$A$1:$E$183,3,FALSE),0)","v":"105463-Posta de Salud Rural Quilitapia"},{"$f":"IFERROR(VLOOKUP(Tabla_SERIED_11_6[[#This Row],[IdEstablecimiento]],'[2]Establecimiento 2023'!$A$1:$E$183,5,FALSE),0)","v":"04302-Combarbalá"},"15010100","2023-04-19T09:35:09",4,{"$nulls":3},4]
[3,"5",2023,"105471",{"$f":"IFERROR(VLOOKUP(Tabla_SERIED_11_6[[#This Row],[IdEstablecimiento]],'[2]Establecimiento 2023'!$A$1:$E$183,3,FALSE),0)","v":"105471-Posta de Salud Rural Peralillo Vicuña"},{"$f":"IFERROR(VLOOKUP(Tabla_SERIED_11_6[[#This Row],[IdEstablecimiento]],'[2]Establecimiento 2023'!$A$1:$E$183,5,FALSE),0)","v":"04106-Vicuña"},"16090300","2023-04-19T09:37:55",82,82]
[2,"5",2023,"105304",{"$f":"IFERROR(VLOOKUP(Tabla_SERIED_11_6[[#This Row],[IdEstablecimiento]],'[2]Establecimiento 2023'!$A$1:$E$183,3,FALSE),0)","v":"105304-Centro de Salud Familiar Santa Cecilia"},{"$f":"IFERROR(VLOOKUP(Tabla_SERIED_11_6[[#This Row],[IdEstablecimiento]],'[2]Establecimiento 2023'!$A$1:$E$183,5,FALSE),0)","v":"04102-Coquimbo"},"15900030","2023-04-20T07:04:33",9.6,0,0,4.8,1.6,3.2,0,0]
[3,"5",2023,"105302",{"$f":"IFERROR(VLOOKUP(Tabla_SERIED_11_6[[#This Row],[IdEstablecimiento]],'[2]Establecimiento 2023'!$A$1:$E$183,3,FALSE),0)","v":"105302-Centro de Salud Familiar Pedro Aguirre Cerda"},{"$f":"IFERROR(VLOOKUP(Tabla_SERIED_11_6[[#This Row],[IdEstablecimiento]],'[2]Establecimiento 2023'!$A$1:$E$183,5,FALSE),0)","v":"04101-La Serena"},"16090300","2023-04-19T09:07:19",696,696]
[3,"5",2023,"105302",{"$f":"IFERROR(VLOOKUP(Tabla_SERIED_11_6[[#This Row],[IdEstablecimiento]],'[2]Establecimiento 2023'!$A$1:$E$183,3,FALSE),0)","v":"105302-Centro de Salud Familiar Pedro Aguirre Cerda"},{"$f":"IFERROR(VLOOKUP(Tabla_SERIED_11_6[[#This Row],[IdEstablecimiento]],'[2]Establecimiento 2023'!$A$1:$E$183,5,FALSE),0)","v":"04101-La Serena"},"16090600","2023-04-19T09:07:19",1,1]
[3,"5",2023,"105305",{"$f":"IFERROR(VLOOKUP(Tabla_SERIED_11_6[[#This Row],[IdEstablecimiento]],'[2]Establecimiento 2023'!$A$1:$E$183,3,FALSE),0)","v":"105305-Centro de Salud Familiar Tierras Blancas"},{"$f":"IFERROR(VLOOKUP(Tabla_SERIED_11_6[[#This Row],[IdEstablecimiento]],'[2]Establecimiento 2023'!$A$1:$E$183,5,FALSE),0)","v":"04102-Coquimbo"},"15080009","2023-04-19T09:08:07",6,{"$nulls":8},6]
[3,"5",2023,"105313",{"$f":"IFERROR(VLOOKUP(Tabla_SERIED_11_6[[#This Row],[IdEstablecimiento]],'[2]Establecimiento 2023'!$A$1:$E$183,3,FALSE),0)","v":"105313-Centro de Salud Familiar Dr. Emilio Schaffhauser"},{"$f":"IFERROR(VLOOKUP(Tabla_SERIED_11_6[[#This Row],[IdEstablecimiento]],'[2]Establecimiento 2023'!$A$1:$E$183,5,FALSE),0)","v":"04101-La Serena"},"15080008","2023-04-19T09:11:35",287,{"$nulls":7},121,null,94,27,45]
[3,"5",2023,"105314",{"$f":"IFERROR(VLOOKUP(Tabla_SERIED_11_6[[#This Row],[IdEstablecimiento]],'[2]Establecimiento 2023'!$A$1:$E$183,3,FALSE),0)","v":"105314-Centro de Salud Familiar La Higuera"},{"$f":"IFERROR(VLOOKUP(Tabla_SERIED_11_6[[#This Row],[IdEstablecimiento]],'[2]Establecimiento 2023'!$A$1:$E$183,5,FALSE),0)","v":"04104-La Higuera"},"15080008","2023-07-19T15:16:19",9,{"$nulls":7},7,null,2]
[3,"5",2023,"105321",{"$f":"IFERROR(VLOOKUP(Tabla_SERIED_11_6[[#This Row],[IdEstablecimiento]],'[2]Establecimiento 2023'!$A$1:$E$183,3,FALSE),0)","v":"105321-Centro de Salud Familiar Tongoy"},{"$f":"IFERROR(VLOOKUP(Tabla_SERIED_11_6[[#This Row],[IdEstablecimiento]],'[2]Establecimiento 2023'!$A$1:$E$183,5,FALSE),0)","v":"04102-Coquimbo"},"15900050","2023-05-16T14:48:55",2,2,null,2]
[3,"5",2023,"105325",{"$f":"IFERROR(VLOOKUP(Tabla_SERIED_11_6[[#This Row],[IdEstablecimiento]],'[2]Establecimiento 2023'!$A$1:$E$183,3,FALSE),0)","v":"105325-Centro de Salud Familiar Juan Pablo II (La Serena)"},{"$f":"IFERROR(VLOOKUP(Tabla_SERIED_11_6[[#This Row],[IdEstablecimiento]],'[2]Establecimiento 2023'!$A$1:$E$183,5,FALSE),0)","v":"04101-La Serena"},"15050200","2023-04-19T09:16:13",16,9,7,0,0,1,1,3,11,0,null,0,0,0,0]
[3,"5",2023,"105326",{"$f":"IFERROR(VLOOKUP(Tabla_SERIED_11_6[[#This Row],[IdEstablecimiento]],'[2]Establecimiento 2023'!$A$1:$E$183,3,FALSE),0)","v":"105326-Centro de Salud Familiar Villa San Rafael de Rozas"},{"$f":"IFERROR(VLOOKUP(Tabla_SERIED_11_6[[#This Row],[IdEstablecimiento]],'[2]Establecimiento 2023'!$A$1:$E$183,5,FALSE),0)","v":"04201-Illapel"},"15030100","2023-04-19T09:16:37",10,2,4,4]
[3,"5",2023,"105428",{"$f":"IFERROR(VLOOKUP(Tabla_SERIED_11_6[[#This Row],[IdEstablecimiento]],'[2]Establecimiento 2023'!$A$1:$E$183,3,FALSE),0)","v":"105428-Posta de Salud Rural Huatulame"},{"$f":"IFERROR(VLOOKUP(Tabla_SERIED_11_6[[#This Row],[IdEstablecimiento]],'[2]Establecimiento 2023'!$A$1:$E$183,5,FALSE),0)","v":"04303-Monte Patria"},"15080008","2023-04-19T09:25:26",2,{"$nulls":7},2]
[3,"5",2023,"105437",{"$f":"IFERROR(VLOOKUP(Tabla_SERIED_11_6[[#This Row],[IdEstablecimiento]],'[2]Establecimiento 2023'!$A$1:$E$183,3,FALSE),0)","v":"105437-Posta de Salud Rural Chalinga"},{"$f":"IFERROR(VLOOKUP(Tabla_SERIED_11_6[[#This Row],[IdEstablecimiento]],'[2]Establecimiento 2023'!$A$1:$E$183,5,FALSE),0)","v":"04301-Ovalle"},"16100300","2023-04-19T14:05:53",116,57,59]
[3,"5",2023,"105442",{"$f":"IFERROR(VLOOKUP(Tabla_SERIED_11_6[[#This Row],[IdEstablecimiento]],'[2]Establecimiento 2023'!$A$1:$E$183,3,FALSE),0)","v":"105442-Posta de Salud Rural San Pedro de Quiles"},{"$f":"IFERROR(VLOOKUP(Tabla_SERIED_11_6[[#This Row],[IdEstablecimiento]],'[2]Establecimiento 2023'!$A$1:$E$183,5,FALSE),0)","v":"04304-Punitaqui"},"15050100","2023-04-19T09:29:32",4,4,{"$nulls":7},4]
[3,"5",2023,"105450",{"$f":"IFERROR(VLOOKUP(Tabla_SERIED_11_6[[#This Row],[IdEstablecimiento]],'[2]Establecimiento 2023'!$A$1:$E$183,3,FALSE),0)","v":"105450-Posta de Salud Rural Mincha Norte"},{"$f":"IFERROR(VLOOKUP(Tabla_SERIED_11_6[[#This Row],[IdEstablecimiento]],'[2]Establecimiento 2023'!$A$1:$E$183,5,FALSE),0)","v":"04202-Canela"},"16090600","2023-04-19T14:06:40",1,1]
[3,"5",2023,"105460",{"$f":"IFERROR(VLOOKUP(Tabla_SERIED_11_6[[#This Row],[IdEstablecimiento]],'[2]Establecimiento 2023'!$A$1:$E$183,3,FALSE),0)","v":"105460-Centro Comunitario de Salud Familiar Cogotí 18"},{"$f":"IFERROR(VLOOKUP(Tabla_SERIED_11_6[[#This Row],[IdEstablecimiento]],'[2]Establecimiento 2023'!$A$1:$E$183,5,FALSE),0)","v":"04302-Combarbalá"},"15010400","2023-04-19T09:34:15",2,{"$nulls":5},2]
[3,"5",2023,"105463",{"$f":"IFERROR(VLOOKUP(Tabla_SERIED_11_6[[#This Row],[IdEstablecimiento]],'[2]Establecimiento 2023'!$A$1:$E$183,3,FALSE),0)","v":"105463-Posta de Salud Rural Quilitapia"},{"$f":"IFERROR(VLOOKUP(Tabla_SERIED_11_6[[#This Row],[IdEstablecimiento]],'[2]Establecimiento 2023'!$A$1:$E$183,5,FALSE),0)","v":"04302-Combarbalá"},"16090300","2023-04-19T09:35:09",110,110]
[3,"5",2023,"105473",{"$f":"IFERROR(VLOOKUP(Tabla_SERIED_11_6[[#This Row],[IdEstablecimiento]],'[2]Establecimiento 2023'!$A$1:$E$183,3,FALSE),0)","v":"105473-Posta de Salud Rural Talcuna"},{"$f":"IFERROR(VLOOKUP(Tabla_SERIED_11_6[[#This Row],[IdEstablecimiento]],'[2]Establecimiento 2023'!$A$1:$E$183,5,FALSE),0)","v":"04106-Vicuña"},"15010100","2023-04-19T09:38:25",10,{"$nulls":3},8,2]
[3,"5",2023,"105490",{"$f":"IFERROR(VLOOKUP(Tabla_SERIED_11_6[[#This Row],[IdEstablecimiento]],'[2]Establecimiento 2023'!$A$1:$E$183,3,FALSE),0)","v":"105490-Posta de Salud Rural El Durazno(Combarbalá)"},{"$f":"IFERROR(VLOOKUP(Tabla_SERIED_11_6[[#This Row],[IdEstablecimiento]],'[2]Establecimiento 2023'!$A$1:$E$183,5,FALSE),0)","v":"04302-Combarbalá"},"16090300","2023-04-19T09:42:42",40,40]
[3,"5",2023,"105496",{"$f":"IFERROR(VLOOKUP(Tabla_SERIED_11_6[[#This Row],[IdEstablecimiento]],'[2]Establecimiento 2023'!$A$1:$E$183,3,FALSE),0)","v":"105496-Posta de Salud Rural Pintacura Sur"},{"$f":"IFERROR(VLOOKUP(Tabla_SERIED_11_6[[#This Row],[IdEstablecimiento]],'[2]Establecimiento 2023'!$A$1:$E$183,5,FALSE),0)","v":"04201-Illapel"},"16200210","2023-04-19T09:43:47",7,7]
[3,"5",2023,"105504",{"$f":"IFERROR(VLOOKUP(Tabla_SERIED_11_6[[#This Row],[IdEstablecimiento]],'[2]Establecimiento 2023'!$A$1:$E$183,3,FALSE),0)","v":"105504-Posta de Salud Rural Socavón"},{"$f":"IFERROR(VLOOKUP(Tabla_SERIED_11_6[[#This Row],[IdEstablecimiento]],'[2]Establecimiento 2023'!$A$1:$E$183,5,FALSE),0)","v":"04201-Illapel"},"15010200","2023-04-19T09:49:12",22,{"$nulls":5},10,12]
[4,"5",2023,"105324",{"$f":"IFERROR(VLOOKUP(Tabla_SERIED_11_6[[#This Row],[IdEstablecimiento]],'[2]Establecimiento 2023'!$A$1:$E$183,3,FALSE),0)","v":"105324-Centro de Salud Familiar Sotaquí"},{"$f":"IFERROR(VLOOKUP(Tabla_SERIED_11_6[[#This Row],[IdEstablecimiento]],'[2]Establecimiento 2023'!$A$1:$E$183,5,FALSE),0)","v":"04301-Ovalle"},"15010400","2023-05-16T12:14:12",6,{"$nulls":5},2,4]
[4,"5",2023,"105400",{"$f":"IFERROR(VLOOKUP(Tabla_SERIED_11_6[[#This Row],[IdEstablecimiento]],'[2]Establecimiento 2023'!$A$1:$E$183,3,FALSE),0)","v":"105400-Posta de Salud Rural Algarrobito"},{"$f":"IFERROR(VLOOKUP(Tabla_SERIED_11_6[[#This Row],[IdEstablecimiento]],'[2]Establecimiento 2023'!$A$1:$E$183,5,FALSE),0)","v":"04101-La Serena"},"16100300","2023-05-16T12:16:38",200,81,119]
[4,"5",2023,"105427",{"$f":"IFERROR(VLOOKUP(Tabla_SERIED_11_6[[#This Row],[IdEstablecimiento]],'[2]Establecimiento 2023'!$A$1:$E$183,3,FALSE),0)","v":"105427-Posta de Salud Rural Hacienda Valdivia"},{"$f":"IFERROR(VLOOKUP(Tabla_SERIED_11_6[[#This Row],[IdEstablecimiento]],'[2]Establecimiento 2023'!$A$1:$E$183,5,FALSE),0)","v":"04303-Monte Patria"},"15050200","2023-05-16T12:26:03",1,1,{"$nulls":6},1]
[4,"5",2023,"105443",{"$f":"IFERROR(VLOOKUP(Tabla_SERIED_11_6[[#This Row],[IdEstablecimiento]],'[2]Establecimiento 2023'!$A$1:$E$183,3,FALSE),0)","v":"105443-Posta de Salud Rural Cárcamo"},{"$f":"IFERROR(VLOOKUP(Tabla_SERIED_11_6[[#This Row],[IdEstablecimiento]],'[2]Establecimiento 2023'!$A$1:$E$183,5,FALSE),0)","v":"04201-Illapel"},"15010200","2023-05-16T12:30:09",12,{"$nulls":5},4,8]
[4,"5",2023,"105456",{"$f":"IFERROR(VLOOKUP(Tabla_SERIED_11_6[[#This Row],[IdEstablecimiento]],'[2]Establecimiento 2023'!$A$1:$E$183,3,FALSE),0)","v":"105456-Posta de Salud Rural Llimpo"},{"$f":"IFERROR(VLOOKUP(Tabla_SERIED_11_6[[#This Row],[IdEstablecimiento]],'[2]Establecimiento 2023'!$A$1:$E$183,5,FALSE),0)","v":"04204-Salamanca"},"15010500","2023-05-16T14:19:58",2,{"$nulls":5},2]
[4,"5",2023,"105462",{"$f":"IFERROR(VLOOKUP(Tabla_SERIED_11_6[[#This Row],[IdEstablecimiento]],'[2]Establecimiento 2023'!$A$1:$E$183,3,FALSE),0)","v":"105462-Posta de Salud Rural El Sauce (Combarbalá)"},{"$f":"IFERROR(VLOOKUP(Tabla_SERIED_11_6[[#This Row],[IdEstablecimiento]],'[2]Establecimiento 2023'!$A$1:$E$183,5,FALSE),0)","v":"04302-Combarbalá"},"16090300","2023-05-16T14:21:36",69,69]
[4,"5",2023,"105108",{"$f":"IFERROR(VLOOKUP(Tabla_SERIED_11_6[[#This Row],[IdEstablecimiento]],'[2]Establecimiento 2023'!$A$1:$E$183,3,FALSE),0)","v":"105108-Hospital San Pedro (Los Vilos)"},{"$f":"IFERROR(VLOOKUP(Tabla_SERIED_11_6[[#This Row],[IdEstablecimiento]],'[2]Establecimiento 2023'!$A$1:$E$183,5,FALSE),0)","v":"105108-Hospital Los Vilos"},"15900020","2023-05-16T11:50:20",3.2,null,null,3.2]
[4,"5",2023,"105301",{"$f":"IFERROR(VLOOKUP(Tabla_SERIED_11_6[[#This Row],[IdEstablecimiento]],'[2]Establecimiento 2023'!$A$1:$E$183,3,FALSE),0)","v":"105301-Centro de Salud Familiar Las Compañías"},{"$f":"IFERROR(VLOOKUP(Tabla_SERIED_11_6[[#This Row],[IdEstablecimiento]],'[2]Establecimiento 2023'!$A$1:$E$183,5,FALSE),0)","v":"04101-La Serena"},"15010500","2023-05-16T11:51:38",10,null,null,2,4,2,null,2]
[4,"5",2023,"105302",{"$f":"IFERROR(VLOOKUP(Tabla_SERIED_11_6[[#This Row],[IdEstablecimiento]],'[2]Establecimiento 2023'!$A$1:$E$183,3,FALSE),0)","v":"105302-Centro de Salud Familiar Pedro Aguirre Cerda"},{"$f":"IFERROR(VLOOKUP(Tabla_SERIED_11_6[[#This Row],[IdEstablecimiento]],'[2]Establecimiento 2023'!$A$1:$E$183,5,FALSE),0)","v":"04101-La Serena"},"15080018","2023-05-16T11:51:48",18,null,2,6,6,4]
[4,"5",2023,"105465",{"$f":"IFERROR(VLOOKUP(Tabla_SERIED_11_6[[#This Row],[IdEstablecimiento]],'[2]Establecimiento 2023'!$A$1:$E$183,3,FALSE),0)","v":"105465-Posta de Salud Rural Ramadilla"},{"$f":"IFERROR(VLOOKUP(Tabla_SERIED_11_6[[#This Row],[IdEstablecimiento]],'[2]Establecimiento 2023'!$A$1:$E$183,5,FALSE),0)","v":"04302-Combarbalá"},"15010100","2023-05-16T14:22:15",2,{"$nulls":3},2]
[4,"5",2023,"105472",{"$f":"IFERROR(VLOOKUP(Tabla_SERIED_11_6[[#This Row],[IdEstablecimiento]],'[2]Establecimiento 2023'!$A$1:$E$183,3,FALSE),0)","v":"105472-Posta de Salud Rural Rivadavia"},{"$f":"IFERROR(VLOOKUP(Tabla_SERIED_11_6[[#This Row],[IdEstablecimiento]],'[2]Establecimiento 2023'!$A$1:$E$183,5,FALSE),0)","v":"04106-Vicuña"},"16100300","2023-05-16T14:24:06",59,25,34]
[4,"5",2023,"105478",{"$f":"IFERROR(VLOOKUP(Tabla_SERIED_11_6[[#This Row],[IdEstablecimiento]],'[2]Establecimiento 2023'!$A$1:$E$183,3,FALSE),0)","v":"105478-Posta de Salud Rural Caimanes"},{"$f":"IFERROR(VLOOKUP(Tabla_SERIED_11_6[[#This Row],[IdEstablecimiento]],'[2]Establecimiento 2023'!$A$1:$E$183,5,FALSE),0)","v":"04203-Los Vilos"},"15080008","2023-05-16T14:25:35",2,{"$nulls":7},2]
[3,"5",2023,"105471",{"$f":"IFERROR(VLOOKUP(Tabla_SERIED_11_6[[#This Row],[IdEstablecimiento]],'[2]Establecimiento 2023'!$A$1:$E$183,3,FALSE),0)","v":"105471-Posta de Salud Rural Peralillo Vicuña"},{"$f":"IFERROR(VLOOKUP(Tabla_SERIED_11_6[[#This Row],[IdEstablecimiento]],'[2]Establecimiento 2023'!$A$1:$E$183,5,FALSE),0)","v":"04106-Vicuña"},"15010300","2023-04-19T09:37:55",2,{"$nulls":3},2]
[3,"5",2023,"200494",{"$f":"IFERROR(VLOOKUP(Tabla_SERIED_11_6[[#This Row],[IdEstablecimiento]],'[2]Establecimiento 2023'!$A$1:$E$183,3,FALSE),0)","v":"200494-Centro de Salud Familiar El Sauce"},{"$f":"IFERROR(VLOOKUP(Tabla_SERIED_11_6[[#This Row],[IdEstablecimiento]],'[2]Establecimiento 2023'!$A$1:$E$183,5,FALSE),0)","v":"04102-Coquimbo"},"15900020","2023-04-19T09:55:11",2.4,null,2.4]
[4,"5",2023,"200366",{"$f":"IFERROR(VLOOKUP(Tabla_SERIED_11_6[[#This Row],[IdEstablecimiento]],'[2]Establecimiento 2023'!$A$1:$E$183,3,FALSE),0)","v":"200366-Centro de Salud Familiar Urbano de Illapel"},{"$f":"IFERROR(VLOOKUP(Tabla_SERIED_11_6[[#This Row],[IdEstablecimiento]],'[2]Establecimiento 2023'!$A$1:$E$183,5,FALSE),0)","v":"04201-Illapel"},"16090100","2023-05-16T14:37:44",12,12]
[4,"5",2023,"200366",{"$f":"IFERROR(VLOOKUP(Tabla_SERIED_11_6[[#This Row],[IdEstablecimiento]],'[2]Establecimiento 2023'!$A$1:$E$183,3,FALSE),0)","v":"200366-Centro de Salud Familiar Urbano de Illapel"},{"$f":"IFERROR(VLOOKUP(Tabla_SERIED_11_6[[#This Row],[IdEstablecimiento]],'[2]Establecimiento 2023'!$A$1:$E$183,5,FALSE),0)","v":"04201-Illapel"},"16100300","2023-05-16T14:37:44",671,237,434]
[4,"5",2023,"105489",{"$f":"IFERROR(VLOOKUP(Tabla_SERIED_11_6[[#This Row],[IdEstablecimiento]],'[2]Establecimiento 2023'!$A$1:$E$183,3,FALSE),0)","v":"105489-Posta de Salud Rural Ramadas de Tulahuén"},{"$f":"IFERROR(VLOOKUP(Tabla_SERIED_11_6[[#This Row],[IdEstablecimiento]],'[2]Establecimiento 2023'!$A$1:$E$183,5,FALSE),0)","v":"04303-Monte Patria"},"15080008","2023-05-16T14:28:10",2,{"$nulls":7},2]
[4,"5",2023,"105498",{"$f":"IFERROR(VLOOKUP(Tabla_SERIED_11_6[[#This Row],[IdEstablecimiento]],'[2]Establecimiento 2023'!$A$1:$E$183,3,FALSE),0)","v":"105498-Posta de Salud Rural Quebrada Linares"},{"$f":"IFERROR(VLOOKUP(Tabla_SERIED_11_6[[#This Row],[IdEstablecimiento]],'[2]Establecimiento 2023'!$A$1:$E$183,5,FALSE),0)","v":"04202-Canela"},"16200100","2023-05-16T14:30:01",1,1]
[2,"5",2023,"105105",{"$f":"IFERROR(VLOOKUP(Tabla_SERIED_11_6[[#This Row],[IdEstablecimiento]],'[2]Establecimiento 2023'!$A$1:$E$183,3,FALSE),0)","v":"105105-Hospital San Juan de Dios (Combarbalá)"},{"$f":"IFERROR(VLOOKUP(Tabla_SERIED_11_6[[#This Row],[IdEstablecimiento]],'[2]Establecimiento 2023'!$A$1:$E$183,5,FALSE),0)","v":"105105-Hospital Combarbalá"},"15080008","2023-04-20T13:35:11",67,{"$nulls":7},23,null,28,4,12]
[4,"5",2023,"105302",{"$f":"IFERROR(VLOOKUP(Tabla_SERIED_11_6[[#This Row],[IdEstablecimiento]],'[2]Establecimiento 2023'!$A$1:$E$183,3,FALSE),0)","v":"105302-Centro de Salud Familiar Pedro Aguirre Cerda"},{"$f":"IFERROR(VLOOKUP(Tabla_SERIED_11_6[[#This Row],[IdEstablecimiento]],'[2]Establecimiento 2023'!$A$1:$E$183,5,FALSE),0)","v":"04101-La Serena"},"16090300","2023-05-16T11:51:48",625,625]
[4,"5",2023,"105306",{"$f":"IFERROR(VLOOKUP(Tabla_SERIED_11_6[[#This Row],[IdEstablecimiento]],'[2]Establecimiento 2023'!$A$1:$E$183,3,FALSE),0)","v":"105306-Centro de Salud Familiar Paihuano"},{"$f":"IFERROR(VLOOKUP(Tabla_SERIED_11_6[[#This Row],[IdEstablecimiento]],'[2]Establecimiento 2023'!$A$1:$E$183,5,FALSE),0)","v":"04105-Paihuano"},"15900010","2023-05-16T11:52:43",12.8,2.4,null,10.4]
[3,"5",2023,"105702",{"$f":"IFERROR(VLOOKUP(Tabla_SERIED_11_6[[#This Row],[IdEstablecimiento]],'[2]Establecimiento 2023'!$A$1:$E$183,3,FALSE),0)","v":"105702-Centro Comunitario de Salud Familiar Lambert"},{"$f":"IFERROR(VLOOKUP(Tabla_SERIED_11_6[[#This Row],[IdEstablecimiento]],'[2]Establecimiento 2023'!$A$1:$E$183,5,FALSE),0)","v":"04101-La Serena"},"15080008","2023-04-19T09:53:37",21,{"$nulls":7},11,null,6,1,3]
[3,"5",2023,"200258",{"$f":"IFERROR(VLOOKUP(Tabla_SERIED_11_6[[#This Row],[IdEstablecimiento]],'[2]Establecimiento 2023'!$A$1:$E$183,3,FALSE),0)","v":"200258-Centro Comunitario de Salud Familiar Los Copihues"},{"$f":"IFERROR(VLOOKUP(Tabla_SERIED_11_6[[#This Row],[IdEstablecimiento]],'[2]Establecimiento 2023'!$A$1:$E$183,5,FALSE),0)","v":"04301-Ovalle"},"15010200","2023-04-21T09:35:07",72,{"$nulls":4},2,40,30]
[4,"5",2023,"105104",{"$f":"IFERROR(VLOOKUP(Tabla_SERIED_11_6[[#This Row],[IdEstablecimiento]],'[2]Establecimiento 2023'!$A$1:$E$183,3,FALSE),0)","v":"105104-Hospital de Salamanca"},{"$f":"IFERROR(VLOOKUP(Tabla_SERIED_11_6[[#This Row],[IdEstablecimiento]],'[2]Establecimiento 2023'!$A$1:$E$183,5,FALSE),0)","v":"105104-Hospital Salamanca"},"15020200","2023-05-16T11:48:59",2,{"$nulls":5},2]
[4,"5",2023,"105108",{"$f":"IFERROR(VLOOKUP(Tabla_SERIED_11_6[[#This Row],[IdEstablecimiento]],'[2]Establecimiento 2023'!$A$1:$E$183,3,FALSE),0)","v":"105108-Hospital San Pedro (Los Vilos)"},{"$f":"IFERROR(VLOOKUP(Tabla_SERIED_11_6[[#This Row],[IdEstablecimiento]],'[2]Establecimiento 2023'!$A$1:$E$183,5,FALSE),0)","v":"105108-Hospital Los Vilos"},"15010200","2023-05-16T11:50:20",288,{"$nulls":4},20,176,92]
[4,"5",2023,"105313",{"$f":"IFERROR(VLOOKUP(Tabla_SERIED_11_6[[#This Row],[IdEstablecimiento]],'[2]Establecimiento 2023'!$A$1:$E$183,3,FALSE),0)","v":"105313-Centro de Salud Familiar Dr. Emilio Schaffhauser"},{"$f":"IFERROR(VLOOKUP(Tabla_SERIED_11_6[[#This Row],[IdEstablecimiento]],'[2]Establecimiento 2023'!$A$1:$E$183,5,FALSE),0)","v":"04101-La Serena"},"16200220","2023-05-16T11:55:03",80,29,51]
[4,"5",2023,"105322",{"$f":"IFERROR(VLOOKUP(Tabla_SERIED_11_6[[#This Row],[IdEstablecimiento]],'[2]Establecimiento 2023'!$A$1:$E$183,3,FALSE),0)","v":"105322-Centro de Salud Familiar Marcos Macuada"},{"$f":"IFERROR(VLOOKUP(Tabla_SERIED_11_6[[#This Row],[IdEstablecimiento]],'[2]Establecimiento 2023'!$A$1:$E$183,5,FALSE),0)","v":"04301-Ovalle"},"15050200","2023-05-16T12:13:43",3,1,2,0,0,0,1,0,0,1,null,1,0,0,0]
[4,"5",2023,"105323",{"$f":"IFERROR(VLOOKUP(Tabla_SERIED_11_6[[#This Row],[IdEstablecimiento]],'[2]Establecimiento 2023'!$A$1:$E$183,3,FALSE),0)","v":"105323-Centro de Salud Familiar Dr. Sergio Aguilar Delgado"},{"$f":"IFERROR(VLOOKUP(Tabla_SERIED_11_6[[#This Row],[IdEstablecimiento]],'[2]Establecimiento 2023'!$A$1:$E$183,5,FALSE),0)","v":"04102-Coquimbo"},"15010400","2023-05-16T12:13:55",8,{"$nulls":5},2,6]
[4,"5",2023,"105310",{"$f":"IFERROR(VLOOKUP(Tabla_SERIED_11_6[[#This Row],[IdEstablecimiento]],'[2]Establecimiento 2023'!$A$1:$E$183,3,FALSE),0)","v":"105310-Centro de Salud Familiar Pichasca"},{"$f":"IFERROR(VLOOKUP(Tabla_SERIED_11_6[[#This Row],[IdEstablecimiento]],'[2]Establecimiento 2023'!$A$1:$E$183,5,FALSE),0)","v":"04305-Rio Hurtado"},"15080016","2023-05-16T11:54:14",1,{"$nulls":3},1]
[4,"5",2023,"105506",{"$f":"IFERROR(VLOOKUP(Tabla_SERIED_11_6[[#This Row],[IdEstablecimiento]],'[2]Establecimiento 2023'!$A$1:$E$183,3,FALSE),0)","v":"105506-Posta de Salud Rural El Trapiche"},{"$f":"IFERROR(VLOOKUP(Tabla_SERIED_11_6[[#This Row],[IdEstablecimiento]],'[2]Establecimiento 2023'!$A$1:$E$183,5,FALSE),0)","v":"04104-La Higuera"},"15050100","2023-07-19T15:25:13",14,7,7,null,null,1,5,1,1,4,1,null,1]
[4,"5",2023,"105302",{"$f":"IFERROR(VLOOKUP(Tabla_SERIED_11_6[[#This Row],[IdEstablecimiento]],'[2]Establecimiento 2023'!$A$1:$E$183,3,FALSE),0)","v":"105302-Centro de Salud Familiar Pedro Aguirre Cerda"},{"$f":"IFERROR(VLOOKUP(Tabla_SERIED_11_6[[#This Row],[IdEstablecimiento]],'[2]Establecimiento 2023'!$A$1:$E$183,5,FALSE),0)","v":"04101-La Serena"},"15901300","2023-05-16T11:51:48",7.2,null,null,3.6,null,3.6]
[4,"5",2023,"105303",{"$f":"IFERROR(VLOOKUP(Tabla_SERIED_11_6[[#This Row],[IdEstablecimiento]],'[2]Establecimiento 2023'!$A$1:$E$183,3,FALSE),0)","v":"105303-Centro de Salud Familiar San Juan"},{"$f":"IFERROR(VLOOKUP(Tabla_SERIED_11_6[[#This Row],[IdEstablecimiento]],'[2]Establecimiento 2023'!$A$1:$E$183,5,FALSE),0)","v":"04102-Coquimbo"},"15020100","2023-05-16T11:52:01",8,0,2,0,4,2]
[4,"5",2023,"105500",{"$f":"IFERROR(VLOOKUP(Tabla_SERIED_11_6[[#This Row],[IdEstablecimiento]],'[2]Establecimiento 2023'!$A$1:$E$183,3,FALSE),0)","v":"105500-Posta de Salud Rural Caleta Hornos"},{"$f":"IFERROR(VLOOKUP(Tabla_SERIED_11_6[[#This Row],[IdEstablecimiento]],'[2]Establecimiento 2023'!$A$1:$E$183,5,FALSE),0)","v":"04104-La Higuera"},"16100300","2023-07-19T15:19:20",29,14,15]
[4,"5",2023,"105505",{"$f":"IFERROR(VLOOKUP(Tabla_SERIED_11_6[[#This Row],[IdEstablecimiento]],'[2]Establecimiento 2023'!$A$1:$E$183,3,FALSE),0)","v":"105505-Posta de Salud Rural Los Choros"},{"$f":"IFERROR(VLOOKUP(Tabla_SERIED_11_6[[#This Row],[IdEstablecimiento]],'[2]Establecimiento 2023'!$A$1:$E$183,5,FALSE),0)","v":"04104-La Higuera"},"16090300","2023-07-19T15:20:00",27,27]
[4,"5",2023,"200494",{"$f":"IFERROR(VLOOKUP(Tabla_SERIED_11_6[[#This Row],[IdEstablecimiento]],'[2]Establecimiento 2023'!$A$1:$E$183,3,FALSE),0)","v":"200494-Centro de Salud Familiar El Sauce"},{"$f":"IFERROR(VLOOKUP(Tabla_SERIED_11_6[[#This Row],[IdEstablecimiento]],'[2]Establecimiento 2023'!$A$1:$E$183,5,FALSE),0)","v":"04102-Coquimbo"},"15080014","2023-05-16T14:38:49",190,{"$nulls":3},118,72]
[4,"5",2023,"105315",{"$f":"IFERROR(VLOOKUP(Tabla_SERIED_11_6[[#This Row],[IdEstablecimiento]],'[2]Establecimiento 2023'!$A$1:$E$183,3,FALSE),0)","v":"105315-Centro de Salud Familiar Cerrillos de Tamaya"},{"$f":"IFERROR(VLOOKUP(Tabla_SERIED_11_6[[#This Row],[IdEstablecimiento]],'[2]Establecimiento 2023'!$A$1:$E$183,5,FALSE),0)","v":"04301-Ovalle"},"15050200","2023-05-16T11:55:26",5,4,1,null,null,3,1,null,1]
[4,"5",2023,"105322",{"$f":"IFERROR(VLOOKUP(Tabla_SERIED_11_6[[#This Row],[IdEstablecimiento]],'[2]Establecimiento 2023'!$A$1:$E$183,3,FALSE),0)","v":"105322-Centro de Salud Familiar Marcos Macuada"},{"$f":"IFERROR(VLOOKUP(Tabla_SERIED_11_6[[#This Row],[IdEstablecimiento]],'[2]Establecimiento 2023'!$A$1:$E$183,5,FALSE),0)","v":"04301-Ovalle"},"15080014","2023-05-16T12:13:43",12,{"$nulls":3},6,6,0,0,0,0,0,0,0]
[4,"5",2023,"105326",{"$f":"IFERROR(VLOOKUP(Tabla_SERIED_11_6[[#This Row],[IdEstablecimiento]],'[2]Establecimiento 2023'!$A$1:$E$183,3,FALSE),0)","v":"105326-Centro de Salud Familiar Villa San Rafael de Rozas"},{"$f":"IFERROR(VLOOKUP(Tabla_SERIED_11_6[[#This Row],[IdEstablecimiento]],'[2]Establecimiento 2023'!$A$1:$E$183,5,FALSE),0)","v":"04201-Illapel"},"15901300","2023-05-16T12:16:19",2,{"$nulls":3},2]
[4,"5",2023,"105417",{"$f":"IFERROR(VLOOKUP(Tabla_SERIED_11_6[[#This Row],[IdEstablecimiento]],'[2]Establecimiento 2023'!$A$1:$E$183,3,FALSE),0)","v":"105417-Posta de Salud Rural Alcones Bajo"},{"$f":"IFERROR(VLOOKUP(Tabla_SERIED_11_6[[#This Row],[IdEstablecimiento]],'[2]Establecimiento 2023'!$A$1:$E$183,5,FALSE),0)","v":"04301-Ovalle"},"15900020","2023-05-16T12:25:05",1.6,null,1.6]
[4,"5",2023,"105417",{"$f":"IFERROR(VLOOKUP(Tabla_SERIED_11_6[[#This Row],[IdEstablecimiento]],'[2]Establecimiento 2023'!$A$1:$E$183,3,FALSE),0)","v":"105417-Posta de Salud Rural Alcones Bajo"},{"$f":"IFERROR(VLOOKUP(Tabla_SERIED_11_6[[#This Row],[IdEstablecimiento]],'[2]Establecimiento 2023'!$A$1:$E$183,5,FALSE),0)","v":"04301-Ovalle"},"16100300","2023-05-16T12:25:05",96,46,50]
[4,"5",2023,"200366",{"$f":"IFERROR(VLOOKUP(Tabla_SERIED_11_6[[#This Row],[IdEstablecimiento]],'[2]Establecimiento 2023'!$A$1:$E$183,3,FALSE),0)","v":"200366-Centro de Salud Familiar Urbano de Illapel"},{"$f":"IFERROR(VLOOKUP(Tabla_SERIED_11_6[[#This Row],[IdEstablecimiento]],'[2]Establecimiento 2023'!$A$1:$E$183,5,FALSE),0)","v":"04201-Illapel"},"16200210","2023-05-16T14:37:44",37,37]
[4,"5",2023,"105305",{"$f":"IFERROR(VLOOKUP(Tabla_SERIED_11_6[[#This Row],[IdEstablecimiento]],'[2]Establecimiento 2023'!$A$1:$E$183,3,FALSE),0)","v":"105305-Centro de Salud Familiar Tierras Blancas"},{"$f":"IFERROR(VLOOKUP(Tabla_SERIED_11_6[[#This Row],[IdEstablecimiento]],'[2]Establecimiento 2023'!$A$1:$E$183,5,FALSE),0)","v":"04102-Coquimbo"},"15010400","2023-05-16T11:52:31",10,{"$nulls":4},2,8]
[4,"5",2023,"105308",{"$f":"IFERROR(VLOOKUP(Tabla_SERIED_11_6[[#This Row],[IdEstablecimiento]],'[2]Establecimiento 2023'!$A$1:$E$183,3,FALSE),0)","v":"105308-Centro de Salud Familiar Punitaqui"},{"$f":"IFERROR(VLOOKUP(Tabla_SERIED_11_6[[#This Row],[IdEstablecimiento]],'[2]Establecimiento 2023'!$A$1:$E$183,5,FALSE),0)","v":"04304-Punitaqui"},"16090300","2023-07-21T08:51:41",529,529]
[4,"5",2023,"105437",{"$f":"IFERROR(VLOOKUP(Tabla_SERIED_11_6[[#This Row],[IdEstablecimiento]],'[2]Establecimiento 2023'!$A$1:$E$183,3,FALSE),0)","v":"105437-Posta de Salud Rural Chalinga"},{"$f":"IFERROR(VLOOKUP(Tabla_SERIED_11_6[[#This Row],[IdEstablecimiento]],'[2]Establecimiento 2023'!$A$1:$E$183,5,FALSE),0)","v":"04301-Ovalle"},"16200210","2023-05-16T12:29:01",17,17]
[4,"5",2023,"105453",{"$f":"IFERROR(VLOOKUP(Tabla_SERIED_11_6[[#This Row],[IdEstablecimiento]],'[2]Establecimiento 2023'!$A$1:$E$183,3,FALSE),0)","v":"105453-Posta de Salud Rural Tranquilla"},{"$f":"IFERROR(VLOOKUP(Tabla_SERIED_11_6[[#This Row],[IdEstablecimiento]],'[2]Establecimiento 2023'!$A$1:$E$183,5,FALSE),0)","v":"04204-Salamanca"},"15010100","2023-05-16T14:19:23",2,{"$nulls":3},2]
[4,"5",2023,"105460",{"$f":"IFERROR(VLOOKUP(Tabla_SERIED_11_6[[#This Row],[IdEstablecimiento]],'[2]Establecimiento 2023'!$A$1:$E$183,3,FALSE),0)","v":"105460-Centro Comunitario de Salud Familiar Cogotí 18"},{"$f":"IFERROR(VLOOKUP(Tabla_SERIED_11_6[[#This Row],[IdEstablecimiento]],'[2]Establecimiento 2023'!$A$1:$E$183,5,FALSE),0)","v":"04302-Combarbalá"},"15050500","2023-05-16T14:21:14",1,1,null,1]
[4,"5",2023,"105324",{"$f":"IFERROR(VLOOKUP(Tabla_SERIED_11_6[[#This Row],[IdEstablecimiento]],'[2]Establecimiento 2023'!$A$1:$E$183,3,FALSE),0)","v":"105324-Centro de Salud Familiar Sotaquí"},{"$f":"IFERROR(VLOOKUP(Tabla_SERIED_11_6[[#This Row],[IdEstablecimiento]],'[2]Establecimiento 2023'!$A$1:$E$183,5,FALSE),0)","v":"04301-Ovalle"},"15080014","2023-05-16T12:14:12",68,{"$nulls":3},48,18,{"$nulls":6},2]
[4,"5",2023,"105326",{"$f":"IFERROR(VLOOKUP(Tabla_SERIED_11_6[[#This Row],[IdEstablecimiento]],'[2]Establecimiento 2023'!$A$1:$E$183,3,FALSE),0)","v":"105326-Centro de Salud Familiar Villa San Rafael de Rozas"},{"$f":"IFERROR(VLOOKUP(Tabla_SERIED_11_6[[#This Row],[IdEstablecimiento]],'[2]Establecimiento 2023'!$A$1:$E$183,5,FALSE),0)","v":"04201-Illapel"},"15020100","2023-05-16T12:16:19",2,{"$nulls":3},2]
[4,"5",2023,"105413",{"$f":"IFERROR(VLOOKUP(Tabla_SERIED_11_6[[#This Row],[IdEstablecimiento]],'[2]Establecimiento 2023'!$A$1:$E$183,3,FALSE),0)","v":"105413-Posta de Salud Rural Samo Alto"},{"$f":"IFERROR(VLOOKUP(Tabla_SERIED_11_6[[#This Row],[IdEstablecimiento]],'[2]Establecimiento 2023'!$A$1:$E$183,5,FALSE),0)","v":"04305-Rio Hurtado"},"15050100","2023-05-16T12:24:14",13,7,6,{"$nulls":5},6,6,null,null,1]
[4,"5",2023,"105419",{"$f":"IFERROR(VLOOKUP(Tabla_SERIED_11_6[[#This Row],[IdEstablecimiento]],'[2]Establecimiento 2023'!$A$1:$E$183,3,FALSE),0)","v":"105419-Posta de Salud Rural Las Sossas"},{"$f":"IFERROR(VLOOKUP(Tabla_SERIED_11_6[[#This Row],[IdEstablecimiento]],'[2]Establecimiento 2023'!$A$1:$E$183,5,FALSE),0)","v":"04301-Ovalle"},"16090300","2023-05-16T12:25:20",48,48]
[4,"5",2023,"200494",{"$f":"IFERROR(VLOOKUP(Tabla_SERIED_11_6[[#This Row],[IdEstablecimiento]],'[2]Establecimiento 2023'!$A$1:$E$183,3,FALSE),0)","v":"200494-Centro de Salud Familiar El Sauce"},{"$f":"IFERROR(VLOOKUP(Tabla_SERIED_11_6[[#This Row],[IdEstablecimiento]],'[2]Establecimiento 2023'!$A$1:$E$183,5,FALSE),0)","v":"04102-Coquimbo"},"15080009","2023-05-16T14:38:49",12,{"$nulls":8},12]
[4,"5",2023,"105323",{"$f":"IFERROR(VLOOKUP(Tabla_SERIED_11_6[[#This Row],[IdEstablecimiento]],'[2]Establecimiento 2023'!$A$1:$E$183,3,FALSE),0)","v":"105323-Centro de Salud Familiar Dr. Sergio Aguilar Delgado"},{"$f":"IFERROR(VLOOKUP(Tabla_SERIED_11_6[[#This Row],[IdEstablecimiento]],'[2]Establecimiento 2023'!$A$1:$E$183,5,FALSE),0)","v":"04102-Coquimbo"},"16100100","2023-05-16T12:13:55",4,4]
[4,"5",2023,"105402",{"$f":"IFERROR(VLOOKUP(Tabla_SERIED_11_6[[#This Row],[IdEstablecimiento]],'[2]Establecimiento 2023'!$A$1:$E$183,3,FALSE),0)","v":"105402-Posta de Salud Rural El Romero"},{"$f":"IFERROR(VLOOKUP(Tabla_SERIED_11_6[[#This Row],[IdEstablecimiento]],'[2]Establecimiento 2023'!$A$1:$E$183,5,FALSE),0)","v":"04101-La Serena"},"16090300","2023-05-16T12:17:05",45,45]
[4,"5",2023,"105443",{"$f":"IFERROR(VLOOKUP(Tabla_SERIED_11_6[[#This Row],[IdEstablecimiento]],'[2]Establecimiento 2023'!$A$1:$E$183,3,FALSE),0)","v":"105443-Posta de Salud Rural Cárcamo"},{"$f":"IFERROR(VLOOKUP(Tabla_SERIED_11_6[[#This Row],[IdEstablecimiento]],'[2]Establecimiento 2023'!$A$1:$E$183,5,FALSE),0)","v":"04201-Illapel"},"15900010","2023-05-16T12:30:09",3.2,null,null,3.2]
[4,"5",2023,"105458",{"$f":"IFERROR(VLOOKUP(Tabla_SERIED_11_6[[#This Row],[IdEstablecimiento]],'[2]Establecimiento 2023'!$A$1:$E$183,3,FALSE),0)","v":"105458-Posta de Salud Rural Tahuinco"},{"$f":"IFERROR(VLOOKUP(Tabla_SERIED_11_6[[#This Row],[IdEstablecimiento]],'[2]Establecimiento 2023'!$A$1:$E$183,5,FALSE),0)","v":"04204-Salamanca"},"15900010","2023-05-16T14:20:46",16,null,null,16]
[4,"5",2023,"105468",{"$f":"IFERROR(VLOOKUP(Tabla_SERIED_11_6[[#This Row],[IdEstablecimiento]],'[2]Establecimiento 2023'!$A$1:$E$183,3,FALSE),0)","v":"105468-Posta de Salud Rural El Molle"},{"$f":"IFERROR(VLOOKUP(Tabla_SERIED_11_6[[#This Row],[IdEstablecimiento]],'[2]Establecimiento 2023'!$A$1:$E$183,5,FALSE),0)","v":"04106-Vicuña"},"15900010","2023-05-16T14:23:03",3.2,null,null,3.2]
[4,"5",2023,"105405",{"$f":"IFERROR(VLOOKUP(Tabla_SERIED_11_6[[#This Row],[IdEstablecimiento]],'[2]Establecimiento 2023'!$A$1:$E$183,3,FALSE),0)","v":"105405-Posta de Salud Rural Guanaqueros"},{"$f":"IFERROR(VLOOKUP(Tabla_SERIED_11_6[[#This Row],[IdEstablecimiento]],'[2]Establecimiento 2023'!$A$1:$E$183,5,FALSE),0)","v":"04102-Coquimbo"},"15900010","2023-05-16T12:17:40",26.4,0,0,26.4]
[4,"5",2023,"105428",{"$f":"IFERROR(VLOOKUP(Tabla_SERIED_11_6[[#This Row],[IdEstablecimiento]],'[2]Establecimiento 2023'!$A$1:$E$183,3,FALSE),0)","v":"105428-Posta de Salud Rural Huatulame"},{"$f":"IFERROR(VLOOKUP(Tabla_SERIED_11_6[[#This Row],[IdEstablecimiento]],'[2]Establecimiento 2023'!$A$1:$E$183,5,FALSE),0)","v":"04303-Monte Patria"},"16200210","2023-05-16T12:26:17",6,6]
[4,"5",2023,"105105",{"$f":"IFERROR(VLOOKUP(Tabla_SERIED_11_6[[#This Row],[IdEstablecimiento]],'[2]Establecimiento 2023'!$A$1:$E$183,3,FALSE),0)","v":"105105-Hospital San Juan de Dios (Combarbalá)"},{"$f":"IFERROR(VLOOKUP(Tabla_SERIED_11_6[[#This Row],[IdEstablecimiento]],'[2]Establecimiento 2023'!$A$1:$E$183,5,FALSE),0)","v":"105105-Hospital Combarbalá"},"15080016","2023-05-16T11:49:16",8,{"$nulls":3},2,null,6]
[3,"5",2023,"105506",{"$f":"IFERROR(VLOOKUP(Tabla_SERIED_11_6[[#This Row],[IdEstablecimiento]],'[2]Establecimiento 2023'!$A$1:$E$183,3,FALSE),0)","v":"105506-Posta de Salud Rural El Trapiche"},{"$f":"IFERROR(VLOOKUP(Tabla_SERIED_11_6[[#This Row],[IdEstablecimiento]],'[2]Establecimiento 2023'!$A$1:$E$183,5,FALSE),0)","v":"04104-La Higuera"},"15900010","2023-07-19T15:17:25",2.4,null,null,2.4]
[4,"5",2023,"200569",{"$f":"IFERROR(VLOOKUP(Tabla_SERIED_11_6[[#This Row],[IdEstablecimiento]],'[2]Establecimiento 2023'!$A$1:$E$183,3,FALSE),0)","v":"200569-Centro de Salud Familiar Fray Jorge"},{"$f":"IFERROR(VLOOKUP(Tabla_SERIED_11_6[[#This Row],[IdEstablecimiento]],'[2]Establecimiento 2023'!$A$1:$E$183,5,FALSE),0)","v":"04301-Ovalle"},"15010300","2023-05-16T14:39:31",8,{"$nulls":3},8]
[4,"5",2023,"105108",{"$f":"IFERROR(VLOOKUP(Tabla_SERIED_11_6[[#This Row],[IdEstablecimiento]],'[2]Establecimiento 2023'!$A$1:$E$183,3,FALSE),0)","v":"105108-Hospital San Pedro (Los Vilos)"},{"$f":"IFERROR(VLOOKUP(Tabla_SERIED_11_6[[#This Row],[IdEstablecimiento]],'[2]Establecimiento 2023'!$A$1:$E$183,5,FALSE),0)","v":"105108-Hospital Los Vilos"},"15010400","2023-05-16T11:50:20",2,{"$nulls":6},2]
[4,"5",2023,"105434",{"$f":"IFERROR(VLOOKUP(Tabla_SERIED_11_6[[#This Row],[IdEstablecimiento]],'[2]Establecimiento 2023'!$A$1:$E$183,3,FALSE),0)","v":"105434-Posta de Salud Rural San Marcos (Combarbalá)"},{"$f":"IFERROR(VLOOKUP(Tabla_SERIED_11_6[[#This Row],[IdEstablecimiento]],'[2]Establecimiento 2023'!$A$1:$E$183,5,FALSE),0)","v":"04302-Combarbalá"},"15010200","2023-05-16T12:27:21",28,{"$nulls":5},8,20]
[4,"5",2023,"105441",{"$f":"IFERROR(VLOOKUP(Tabla_SERIED_11_6[[#This Row],[IdEstablecimiento]],'[2]Establecimiento 2023'!$A$1:$E$183,3,FALSE),0)","v":"105441-Posta de Salud Rural Manquehua"},{"$f":"IFERROR(VLOOKUP(Tabla_SERIED_11_6[[#This Row],[IdEstablecimiento]],'[2]Establecimiento 2023'!$A$1:$E$183,5,FALSE),0)","v":"04302-Combarbalá"},"16100300","2023-05-16T12:29:42",90,37,53]
[4,"5",2023,"105456",{"$f":"IFERROR(VLOOKUP(Tabla_SERIED_11_6[[#This Row],[IdEstablecimiento]],'[2]Establecimiento 2023'!$A$1:$E$183,3,FALSE),0)","v":"105456-Posta de Salud Rural Llimpo"},{"$f":"IFERROR(VLOOKUP(Tabla_SERIED_11_6[[#This Row],[IdEstablecimiento]],'[2]Establecimiento 2023'!$A$1:$E$183,5,FALSE),0)","v":"04204-Salamanca"},"16200220","2023-05-16T14:19:58",1,1]
[4,"5",2023,"105466",{"$f":"IFERROR(VLOOKUP(Tabla_SERIED_11_6[[#This Row],[IdEstablecimiento]],'[2]Establecimiento 2023'!$A$1:$E$183,3,FALSE),0)","v":"105466-Posta de Salud Rural Valle Hermoso"},{"$f":"IFERROR(VLOOKUP(Tabla_SERIED_11_6[[#This Row],[IdEstablecimiento]],'[2]Establecimiento 2023'!$A$1:$E$183,5,FALSE),0)","v":"04302-Combarbalá"},"15080014","2023-05-16T14:22:26",4,{"$nulls":4},4]
[4,"5",2023,"105481",{"$f":"IFERROR(VLOOKUP(Tabla_SERIED_11_6[[#This Row],[IdEstablecimiento]],'[2]Establecimiento 2023'!$A$1:$E$183,3,FALSE),0)","v":"105481-Posta de Salud Rural Tilama"},{"$f":"IFERROR(VLOOKUP(Tabla_SERIED_11_6[[#This Row],[IdEstablecimiento]],'[2]Establecimiento 2023'!$A$1:$E$183,5,FALSE),0)","v":"04203-Los Vilos"},"15080008","2023-05-16T14:26:09",5,{"$nulls":7},1,null,4]
[4,"5",2023,"105509",{"$f":"IFERROR(VLOOKUP(Tabla_SERIED_11_6[[#This Row],[IdEstablecimiento]],'[2]Establecimiento 2023'!$A$1:$E$183,3,FALSE),0)","v":"105509-Posta de Salud Rural Gualliguaica"},{"$f":"IFERROR(VLOOKUP(Tabla_SERIED_11_6[[#This Row],[IdEstablecimiento]],'[2]Establecimiento 2023'!$A$1:$E$183,5,FALSE),0)","v":"04106-Vicuña"},"15010200","2023-05-16T14:32:28",12,{"$nulls":4},2,4,6]
[4,"5",2023,"105701",{"$f":"IFERROR(VLOOKUP(Tabla_SERIED_11_6[[#This Row],[IdEstablecimiento]],'[2]Establecimiento 2023'!$A$1:$E$183,3,FALSE),0)","v":"105701-Centro Comunitario de Salud Familiar Villa Alemania"},{"$f":"IFERROR(VLOOKUP(Tabla_SERIED_11_6[[#This Row],[IdEstablecimiento]],'[2]Establecimiento 2023'!$A$1:$E$183,5,FALSE),0)","v":"04101-La Serena"},"16090300","2023-05-16T14:33:19",31,31]
[3,"5",2023,"200607",{"$f":"IFERROR(VLOOKUP(Tabla_SERIED_11_6[[#This Row],[IdEstablecimiento]],'[2]Establecimiento 2023'!$A$1:$E$183,3,FALSE),0)","v":"200607-Centro de Salud Familiar Lila Cortés Godoy"},{"$f":"IFERROR(VLOOKUP(Tabla_SERIED_11_6[[#This Row],[IdEstablecimiento]],'[2]Establecimiento 2023'!$A$1:$E$183,5,FALSE),0)","v":"04102-Coquimbo"},"15901200","2023-04-19T09:58:00",9.6,null,3.2,null,3.2,3.2]
[4,"5",2023,"105487",{"$f":"IFERROR(VLOOKUP(Tabla_SERIED_11_6[[#This Row],[IdEstablecimiento]],'[2]Establecimiento 2023'!$A$1:$E$183,3,FALSE),0)","v":"105487-Posta de Salud Rural Cañas Uno"},{"$f":"IFERROR(VLOOKUP(Tabla_SERIED_11_6[[#This Row],[IdEstablecimiento]],'[2]Establecimiento 2023'!$A$1:$E$183,5,FALSE),0)","v":"04201-Illapel"},"15080008","2023-05-16T14:27:44",17,{"$nulls":7},6,null,8,1,2]
[4,"5",2023,"105492",{"$f":"IFERROR(VLOOKUP(Tabla_SERIED_11_6[[#This Row],[IdEstablecimiento]],'[2]Establecimiento 2023'!$A$1:$E$183,3,FALSE),0)","v":"105492-Posta de Salud Rural Camisa"},{"$f":"IFERROR(VLOOKUP(Tabla_SERIED_11_6[[#This Row],[IdEstablecimiento]],'[2]Establecimiento 2023'!$A$1:$E$183,5,FALSE),0)","v":"04204-Salamanca"},"16090300","2023-05-16T14:29:09",47,47]
[4,"5",2023,"105302",{"$f":"IFERROR(VLOOKUP(Tabla_SERIED_11_6[[#This Row],[IdEstablecimiento]],'[2]Establecimiento 2023'!$A$1:$E$183,3,FALSE),0)","v":"105302-Centro de Salud Familiar Pedro Aguirre Cerda"},{"$f":"IFERROR(VLOOKUP(Tabla_SERIED_11_6[[#This Row],[IdEstablecimiento]],'[2]Establecimiento 2023'!$A$1:$E$183,5,FALSE),0)","v":"04101-La Serena"},"15901400","2023-05-16T11:51:48",4,4,{"$nulls":3},2,1,1]
[4,"5",2023,"105307",{"$f":"IFERROR(VLOOKUP(Tabla_SERIED_11_6[[#This Row],[IdEstablecimiento]],'[2]Establecimiento 2023'!$A$1:$E$183,3,FALSE),0)","v":"105307-Centro de Salud Familiar Monte Patria"},{"$f":"IFERROR(VLOOKUP(Tabla_SERIED_11_6[[#This Row],[IdEstablecimiento]],'[2]Establecimiento 2023'!$A$1:$E$183,5,FALSE),0)","v":"04303-Monte Patria"},"15900050","2023-05-16T11:53:00",1,null,1,{"$nulls":3},1]
[4,"5",2023,"105106",{"$f":"IFERROR(VLOOKUP(Tabla_SERIED_11_6[[#This Row],[IdEstablecimiento]],'[2]Establecimiento 2023'!$A$1:$E$183,3,FALSE),0)","v":"105106-Hospital Dr. José Arraño (Andacollo)"},{"$f":"IFERROR(VLOOKUP(Tabla_SERIED_11_6[[#This Row],[IdEstablecimiento]],'[2]Establecimiento 2023'!$A$1:$E$183,5,FALSE),0)","v":"105106-Hospital Andacollo"},"15050100","2023-05-16T11:49:36",198,80,118,5,6,19,24,25,42,40,27,null,2,4,4]
[4,"5",2023,"105469",{"$f":"IFERROR(VLOOKUP(Tabla_SERIED_11_6[[#This Row],[IdEstablecimiento]],'[2]Establecimiento 2023'!$A$1:$E$183,3,FALSE),0)","v":"105469-Posta de Salud Rural El Tambo (Vicuña)"},{"$f":"IFERROR(VLOOKUP(Tabla_SERIED_11_6[[#This Row],[IdEstablecimiento]],'[2]Establecimiento 2023'!$A$1:$E$183,5,FALSE),0)","v":"04106-Vicuña"},"15010500","2023-05-16T14:23:14",4,null,null,2,null,null,2]
[4,"5",2023,"105476",{"$f":"IFERROR(VLOOKUP(Tabla_SERIED_11_6[[#This Row],[IdEstablecimiento]],'[2]Establecimiento 2023'!$A$1:$E$183,3,FALSE),0)","v":"105476-Posta de Salud Rural Monte Grande"},{"$f":"IFERROR(VLOOKUP(Tabla_SERIED_11_6[[#This Row],[IdEstablecimiento]],'[2]Establecimiento 2023'!$A$1:$E$183,5,FALSE),0)","v":"04105-Paihuano"},"15050100","2023-05-16T14:25:10",3,2,1,{"$nulls":3},2,null,1]
[4,"5",2023,"105482",{"$f":"IFERROR(VLOOKUP(Tabla_SERIED_11_6[[#This Row],[IdEstablecimiento]],'[2]Establecimiento 2023'!$A$1:$E$183,3,FALSE),0)","v":"105482-Posta de Salud Rural Canela Alta"},{"$f":"IFERROR(VLOOKUP(Tabla_SERIED_11_6[[#This Row],[IdEstablecimiento]],'[2]Establecimiento 2023'!$A$1:$E$183,5,FALSE),0)","v":"04202-Canela"},"16090300","2023-05-16T14:26:20",90,90]
[4,"5",2023,"105722",{"$f":"IFERROR(VLOOKUP(Tabla_SERIED_11_6[[#This Row],[IdEstablecimiento]],'[2]Establecimiento 2023'!$A$1:$E$183,3,FALSE),0)","v":"105722-Centro Comunitario de Salud Familiar San José de la Dehesa"},{"$f":"IFERROR(VLOOKUP(Tabla_SERIED_11_6[[#This Row],[IdEstablecimiento]],'[2]Establecimiento 2023'!$A$1:$E$183,5,FALSE),0)","v":"04301-Ovalle"},"15900020","2023-05-16T14:35:13",3.2,null,null,3.2]
[4,"5",2023,"105452",{"$f":"IFERROR(VLOOKUP(Tabla_SERIED_11_6[[#This Row],[IdEstablecimiento]],'[2]Establecimiento 2023'!$A$1:$E$183,3,FALSE),0)","v":"105452-Posta de Salud Rural Cuncumén(Salamanca)"},{"$f":"IFERROR(VLOOKUP(Tabla_SERIED_11_6[[#This Row],[IdEstablecimiento]],'[2]Establecimiento 2023'!$A$1:$E$183,5,FALSE),0)","v":"04204-Salamanca"},"15050200","2023-05-16T14:19:07",1,1,{"$nulls":6},1]
[4,"5",2023,"105454",{"$f":"IFERROR(VLOOKUP(Tabla_SERIED_11_6[[#This Row],[IdEstablecimiento]],'[2]Establecimiento 2023'!$A$1:$E$183,3,FALSE),0)","v":"105454-Posta de Salud Rural Cunlagua"},{"$f":"IFERROR(VLOOKUP(Tabla_SERIED_11_6[[#This Row],[IdEstablecimiento]],'[2]Establecimiento 2023'!$A$1:$E$183,5,FALSE),0)","v":"04204-Salamanca"},"16200220","2023-05-16T14:19:36",3,2,1]
[4,"5",2023,"105107",{"$f":"IFERROR(VLOOKUP(Tabla_SERIED_11_6[[#This Row],[IdEstablecimiento]],'[2]Establecimiento 2023'!$A$1:$E$183,3,FALSE),0)","v":"105107-Hospital San Juan de Dios (Vicuña)"},{"$f":"IFERROR(VLOOKUP(Tabla_SERIED_11_6[[#This Row],[IdEstablecimiento]],'[2]Establecimiento 2023'!$A$1:$E$183,5,FALSE),0)","v":"105107-Hospital Vicuña"},"15010400","2023-05-16T11:49:59",8,{"$nulls":5},4,4]
[4,"5",2023,"105300",{"$f":"IFERROR(VLOOKUP(Tabla_SERIED_11_6[[#This Row],[IdEstablecimiento]],'[2]Establecimiento 2023'!$A$1:$E$183,3,FALSE),0)","v":"105300-Centro de Salud Familiar Cardenal Caro"},{"$f":"IFERROR(VLOOKUP(Tabla_SERIED_11_6[[#This Row],[IdEstablecimiento]],'[2]Establecimiento 2023'!$A$1:$E$183,5,FALSE),0)","v":"04101-La Serena"},"16090300","2023-05-16T11:51:23",966,966]
[4,"5",2023,"105317",{"$f":"IFERROR(VLOOKUP(Tabla_SERIED_11_6[[#This Row],[IdEstablecimiento]],'[2]Establecimiento 2023'!$A$1:$E$183,3,FALSE),0)","v":"105317-Centro de Salud Familiar Jorge Jordán Domic"},{"$f":"IFERROR(VLOOKUP(Tabla_SERIED_11_6[[#This Row],[IdEstablecimiento]],'[2]Establecimiento 2023'!$A$1:$E$183,5,FALSE),0)","v":"04301-Ovalle"},"15901500","2023-05-16T11:55:43",6.4,null,3.2,3.2]
[4,"5",2023,"105460",{"$f":"IFERROR(VLOOKUP(Tabla_SERIED_11_6[[#This Row],[IdEstablecimiento]],'[2]Establecimiento 2023'!$A$1:$E$183,3,FALSE),0)","v":"105460-Centro Comunitario de Salud Familiar Cogotí 18"},{"$f":"IFERROR(VLOOKUP(Tabla_SERIED_11_6[[#This Row],[IdEstablecimiento]],'[2]Establecimiento 2023'!$A$1:$E$183,5,FALSE),0)","v":"04302-Combarbalá"},"16090500","2023-05-16T14:21:14",2,2]
[4,"5",2023,"200366",{"$f":"IFERROR(VLOOKUP(Tabla_SERIED_11_6[[#This Row],[IdEstablecimiento]],'[2]Establecimiento 2023'!$A$1:$E$183,3,FALSE),0)","v":"200366-Centro de Salud Familiar Urbano de Illapel"},{"$f":"IFERROR(VLOOKUP(Tabla_SERIED_11_6[[#This Row],[IdEstablecimiento]],'[2]Establecimiento 2023'!$A$1:$E$183,5,FALSE),0)","v":"04201-Illapel"},"15080008","2023-05-16T14:37:44",74,{"$nulls":7},44,null,20,1,9]
[4,"5",2023,"200402",{"$f":"IFERROR(VLOOKUP(Tabla_SERIED_11_6[[#This Row],[IdEstablecimiento]],'[2]Establecimiento 2023'!$A$1:$E$183,3,FALSE),0)","v":"200402-Centro Comunitario de Salud Familiar Arcos de Pinamar"},{"$f":"IFERROR(VLOOKUP(Tabla_SERIED_11_6[[#This Row],[IdEstablecimiento]],'[2]Establecimiento 2023'!$A$1:$E$183,5,FALSE),0)","v":"04101-La Serena"},"15010200","2023-05-16T14:38:35",46,{"$nulls":5},28,18]
[4,"5",2023,"200569",{"$f":"IFERROR(VLOOKUP(Tabla_SERIED_11_6[[#This Row],[IdEstablecimiento]],'[2]Establecimiento 2023'!$A$1:$E$183,3,FALSE),0)","v":"200569-Centro de Salud Familiar Fray Jorge"},{"$f":"IFERROR(VLOOKUP(Tabla_SERIED_11_6[[#This Row],[IdEstablecimiento]],'[2]Establecimiento 2023'!$A$1:$E$183,5,FALSE),0)","v":"04301-Ovalle"},"15050200","2023-05-16T14:39:31",21,14,7,null,null,1,4,2,6,7,null,1]
[4,"5",2023,"105323",{"$f":"IFERROR(VLOOKUP(Tabla_SERIED_11_6[[#This Row],[IdEstablecimiento]],'[2]Establecimiento 2023'!$A$1:$E$183,3,FALSE),0)","v":"105323-Centro de Salud Familiar Dr. Sergio Aguilar Delgado"},{"$f":"IFERROR(VLOOKUP(Tabla_SERIED_11_6[[#This Row],[IdEstablecimiento]],'[2]Establecimiento 2023'!$A$1:$E$183,5,FALSE),0)","v":"04102-Coquimbo"},"15010100","2023-05-16T12:13:55",28,{"$nulls":3},20,8]
[4,"5",2023,"105325",{"$f":"IFERROR(VLOOKUP(Tabla_SERIED_11_6[[#This Row],[IdEstablecimiento]],'[2]Establecimiento 2023'!$A$1:$E$183,3,FALSE),0)","v":"105325-Centro de Salud Familiar Juan Pablo II (La Serena)"},{"$f":"IFERROR(VLOOKUP(Tabla_SERIED_11_6[[#This Row],[IdEstablecimiento]],'[2]Establecimiento 2023'!$A$1:$E$183,5,FALSE),0)","v":"04101-La Serena"},"16200210","2023-05-16T12:14:24",37,37]
[4,"5",2023,"105321",{"$f":"IFERROR(VLOOKUP(Tabla_SERIED_11_6[[#This Row],[IdEstablecimiento]],'[2]Establecimiento 2023'!$A$1:$E$183,3,FALSE),0)","v":"105321-Centro de Salud Familiar Tongoy"},{"$f":"IFERROR(VLOOKUP(Tabla_SERIED_11_6[[#This Row],[IdEstablecimiento]],'[2]Establecimiento 2023'!$A$1:$E$183,5,FALSE),0)","v":"04102-Coquimbo"},"15010500","2023-05-16T12:13:28",12,null,null,4,null,2,6]
[4,"5",2023,"105322",{"$f":"IFERROR(VLOOKUP(Tabla_SERIED_11_6[[#This Row],[IdEstablecimiento]],'[2]Establecimiento 2023'!$A$1:$E$183,3,FALSE),0)","v":"105322-Centro de Salud Familiar Marcos Macuada"},{"$f":"IFERROR(VLOOKUP(Tabla_SERIED_11_6[[#This Row],[IdEstablecimiento]],'[2]Establecimiento 2023'!$A$1:$E$183,5,FALSE),0)","v":"04301-Ovalle"},"16200210","2023-05-16T12:13:43",40,40]
[4,"5",2023,"105302",{"$f":"IFERROR(VLOOKUP(Tabla_SERIED_11_6[[#This Row],[IdEstablecimiento]],'[2]Establecimiento 2023'!$A$1:$E$183,3,FALSE),0)","v":"105302-Centro de Salud Familiar Pedro Aguirre Cerda"},{"$f":"IFERROR(VLOOKUP(Tabla_SERIED_11_6[[#This Row],[IdEstablecimiento]],'[2]Establecimiento 2023'!$A$1:$E$183,5,FALSE),0)","v":"04101-La Serena"},"16200220","2023-05-16T11:51:48",55,22,33]
[4,"5",2023,"200607",{"$f":"IFERROR(VLOOKUP(Tabla_SERIED_11_6[[#This Row],[IdEstablecimiento]],'[2]Establecimiento 2023'!$A$1:$E$183,3,FALSE),0)","v":"200607-Centro de Salud Familiar Lila Cortés Godoy"},{"$f":"IFERROR(VLOOKUP(Tabla_SERIED_11_6[[#This Row],[IdEstablecimiento]],'[2]Establecimiento 2023'!$A$1:$E$183,5,FALSE),0)","v":"04102-Coquimbo"},"15050500","2023-05-16T14:39:48",4,null,4,1,2,1]
[4,"5",2023,"105479",{"$f":"IFERROR(VLOOKUP(Tabla_SERIED_11_6[[#This Row],[IdEstablecimiento]],'[2]Establecimiento 2023'!$A$1:$E$183,3,FALSE),0)","v":"105479-Posta de Salud Rural Guangualí"},{"$f":"IFERROR(VLOOKUP(Tabla_SERIED_11_6[[#This Row],[IdEstablecimiento]],'[2]Establecimiento 2023'!$A$1:$E$183,5,FALSE),0)","v":"04203-Los Vilos"},"16200210","2023-05-16T14:25:47",3,3]
[4,"5",2023,"105484",{"$f":"IFERROR(VLOOKUP(Tabla_SERIED_11_6[[#This Row],[IdEstablecimiento]],'[2]Establecimiento 2023'!$A$1:$E$183,3,FALSE),0)","v":"105484-Posta de Salud Rural Huentelauquén"},{"$f":"IFERROR(VLOOKUP(Tabla_SERIED_11_6[[#This Row],[IdEstablecimiento]],'[2]Establecimiento 2023'!$A$1:$E$183,5,FALSE),0)","v":"04202-Canela"},"15050200","2023-05-16T14:26:44",1,null,1,{"$nulls":3},1]
[4,"5",2023,"105507",{"$f":"IFERROR(VLOOKUP(Tabla_SERIED_11_6[[#This Row],[IdEstablecimiento]],'[2]Establecimiento 2023'!$A$1:$E$183,3,FALSE),0)","v":"105507-Posta de Salud Rural Huamalata"},{"$f":"IFERROR(VLOOKUP(Tabla_SERIED_11_6[[#This Row],[IdEstablecimiento]],'[2]Establecimiento 2023'!$A$1:$E$183,5,FALSE),0)","v":"04301-Ovalle"},"16200210","2023-05-16T14:32:05",17,17]
[4,"5",2023,"105311",{"$f":"IFERROR(VLOOKUP(Tabla_SERIED_11_6[[#This Row],[IdEstablecimiento]],'[2]Establecimiento 2023'!$A$1:$E$183,3,FALSE),0)","v":"105311-Centro de Salud Familiar Chañaral Alto"},{"$f":"IFERROR(VLOOKUP(Tabla_SERIED_11_6[[#This Row],[IdEstablecimiento]],'[2]Establecimiento 2023'!$A$1:$E$183,5,FALSE),0)","v":"04303-Monte Patria"},"15900040","2023-05-16T11:54:31",6.8,null,null,3.6,3.2]
[4,"5",2023,"105313",{"$f":"IFERROR(VLOOKUP(Tabla_SERIED_11_6[[#This Row],[IdEstablecimiento]],'[2]Establecimiento 2023'!$A$1:$E$183,3,FALSE),0)","v":"105313-Centro de Salud Familiar Dr. Emilio Schaffhauser"},{"$f":"IFERROR(VLOOKUP(Tabla_SERIED_11_6[[#This Row],[IdEstablecimiento]],'[2]Establecimiento 2023'!$A$1:$E$183,5,FALSE),0)","v":"04101-La Serena"},"15080008","2023-05-16T11:55:03",289,{"$nulls":7},139,null,88,22,40]
[4,"5",2023,"105415",{"$f":"IFERROR(VLOOKUP(Tabla_SERIED_11_6[[#This Row],[IdEstablecimiento]],'[2]Establecimiento 2023'!$A$1:$E$183,3,FALSE),0)","v":"105415-Posta de Salud Rural Barraza"},{"$f":"IFERROR(VLOOKUP(Tabla_SERIED_11_6[[#This Row],[IdEstablecimiento]],'[2]Establecimiento 2023'!$A$1:$E$183,5,FALSE),0)","v":"04301-Ovalle"},"16100300","2023-05-16T12:24:36",171,73,98]
[4,"5",2023,"105432",{"$f":"IFERROR(VLOOKUP(Tabla_SERIED_11_6[[#This Row],[IdEstablecimiento]],'[2]Establecimiento 2023'!$A$1:$E$183,3,FALSE),0)","v":"105432-Posta de Salud Rural Rapel (Monte Patria)"},{"$f":"IFERROR(VLOOKUP(Tabla_SERIED_11_6[[#This Row],[IdEstablecimiento]],'[2]Establecimiento 2023'!$A$1:$E$183,5,FALSE),0)","v":"04303-Monte Patria"},"15080008","2023-05-16T12:26:59",3,{"$nulls":7},1,null,null,1,1]
[4,"5",2023,"105445",{"$f":"IFERROR(VLOOKUP(Tabla_SERIED_11_6[[#This Row],[IdEstablecimiento]],'[2]Establecimiento 2023'!$A$1:$E$183,3,FALSE),0)","v":"105445-Posta de Salud Rural Limáhuida"},{"$f":"IFERROR(VLOOKUP(Tabla_SERIED_11_6[[#This Row],[IdEstablecimiento]],'[2]Establecimiento 2023'!$A$1:$E$183,5,FALSE),0)","v":"04201-Illapel"},"16100300","2023-05-16T14:17:23",37,17,20]
[4,"5",2023,"105453",{"$f":"IFERROR(VLOOKUP(Tabla_SERIED_11_6[[#This Row],[IdEstablecimiento]],'[2]Establecimiento 2023'!$A$1:$E$183,3,FALSE),0)","v":"105453-Posta de Salud Rural Tranquilla"},{"$f":"IFERROR(VLOOKUP(Tabla_SERIED_11_6[[#This Row],[IdEstablecimiento]],'[2]Establecimiento 2023'!$A$1:$E$183,5,FALSE),0)","v":"04204-Salamanca"},"16200210","2023-05-16T14:19:23",6,6]
[4,"5",2023,"105104",{"$f":"IFERROR(VLOOKUP(Tabla_SERIED_11_6[[#This Row],[IdEstablecimiento]],'[2]Establecimiento 2023'!$A$1:$E$183,3,FALSE),0)","v":"105104-Hospital de Salamanca"},{"$f":"IFERROR(VLOOKUP(Tabla_SERIED_11_6[[#This Row],[IdEstablecimiento]],'[2]Establecimiento 2023'!$A$1:$E$183,5,FALSE),0)","v":"105104-Hospital Salamanca"},"15900050","2023-05-16T11:48:59",3,1,2,null,2,1]
[4,"5",2023,"105106",{"$f":"IFERROR(VLOOKUP(Tabla_SERIED_11_6[[#This Row],[IdEstablecimiento]],'[2]Establecimiento 2023'!$A$1:$E$183,3,FALSE),0)","v":"105106-Hospital Dr. José Arraño (Andacollo)"},{"$f":"IFERROR(VLOOKUP(Tabla_SERIED_11_6[[#This Row],[IdEstablecimiento]],'[2]Establecimiento 2023'!$A$1:$E$183,5,FALSE),0)","v":"105106-Hospital Andacollo"},"16200210","2023-05-16T11:49:36",25,25]
[4,"5",2023,"105302",{"$f":"IFERROR(VLOOKUP(Tabla_SERIED_11_6[[#This Row],[IdEstablecimiento]],'[2]Establecimiento 2023'!$A$1:$E$183,3,FALSE),0)","v":"105302-Centro de Salud Familiar Pedro Aguirre Cerda"},{"$f":"IFERROR(VLOOKUP(Tabla_SERIED_11_6[[#This Row],[IdEstablecimiento]],'[2]Establecimiento 2023'!$A$1:$E$183,5,FALSE),0)","v":"04101-La Serena"},"15080010","2023-05-16T11:51:48",2,{"$nulls":9},2]
[4,"5",2023,"105422",{"$f":"IFERROR(VLOOKUP(Tabla_SERIED_11_6[[#This Row],[IdEstablecimiento]],'[2]Establecimiento 2023'!$A$1:$E$183,3,FALSE),0)","v":"105422-Posta de Salud Rural Hornillos"},{"$f":"IFERROR(VLOOKUP(Tabla_SERIED_11_6[[#This Row],[IdEstablecimiento]],'[2]Establecimiento 2023'!$A$1:$E$183,5,FALSE),0)","v":"04301-Ovalle"},"16200210","2023-05-16T12:25:36",2,2]
[4,"5",2023,"105434",{"$f":"IFERROR(VLOOKUP(Tabla_SERIED_11_6[[#This Row],[IdEstablecimiento]],'[2]Establecimiento 2023'!$A$1:$E$183,3,FALSE),0)","v":"105434-Posta de Salud Rural San Marcos (Combarbalá)"},{"$f":"IFERROR(VLOOKUP(Tabla_SERIED_11_6[[#This Row],[IdEstablecimiento]],'[2]Establecimiento 2023'!$A$1:$E$183,5,FALSE),0)","v":"04302-Combarbalá"},"15050200","2023-05-16T12:27:21",2,1,1,null,null,2]
[4,"5",2023,"105317",{"$f":"IFERROR(VLOOKUP(Tabla_SERIED_11_6[[#This Row],[IdEstablecimiento]],'[2]Establecimiento 2023'!$A$1:$E$183,3,FALSE),0)","v":"105317-Centro de Salud Familiar Jorge Jordán Domic"},{"$f":"IFERROR(VLOOKUP(Tabla_SERIED_11_6[[#This Row],[IdEstablecimiento]],'[2]Establecimiento 2023'!$A$1:$E$183,5,FALSE),0)","v":"04301-Ovalle"},"15050100","2023-05-16T11:55:43",607,190,417,1,9,41,69,50,132,125,90,null,54,6,30]
[3,"5",2023,"105107",{"$f":"IFERROR(VLOOKUP(Tabla_SERIED_11_6[[#This Row],[IdEstablecimiento]],'[2]Establecimiento 2023'!$A$1:$E$183,3,FALSE),0)","v":"105107-Hospital San Juan de Dios (Vicuña)"},{"$f":"IFERROR(VLOOKUP(Tabla_SERIED_11_6[[#This Row],[IdEstablecimiento]],'[2]Establecimiento 2023'!$A$1:$E$183,5,FALSE),0)","v":"105107-Hospital Vicuña"},"15050100","2023-05-16T14:40:12",250,95,155,4,3,27,37,28,59,48,36,null,2,1,5]
[4,"5",2023,"105428",{"$f":"IFERROR(VLOOKUP(Tabla_SERIED_11_6[[#This Row],[IdEstablecimiento]],'[2]Establecimiento 2023'!$A$1:$E$183,3,FALSE),0)","v":"105428-Posta de Salud Rural Huatulame"},{"$f":"IFERROR(VLOOKUP(Tabla_SERIED_11_6[[#This Row],[IdEstablecimiento]],'[2]Establecimiento 2023'!$A$1:$E$183,5,FALSE),0)","v":"04303-Monte Patria"},"16200220","2023-05-16T12:26:17",6,2,4]
[4,"5",2023,"105430",{"$f":"IFERROR(VLOOKUP(Tabla_SERIED_11_6[[#This Row],[IdEstablecimiento]],'[2]Establecimiento 2023'!$A$1:$E$183,3,FALSE),0)","v":"105430-Posta de Salud Rural Mialqui"},{"$f":"IFERROR(VLOOKUP(Tabla_SERIED_11_6[[#This Row],[IdEstablecimiento]],'[2]Establecimiento 2023'!$A$1:$E$183,5,FALSE),0)","v":"04303-Monte Patria"},"16200210","2023-05-16T12:26:37",12,12]
[4,"5",2023,"105322",{"$f":"IFERROR(VLOOKUP(Tabla_SERIED_11_6[[#This Row],[IdEstablecimiento]],'[2]Establecimiento 2023'!$A$1:$E$183,3,FALSE),0)","v":"105322-Centro de Salud Familiar Marcos Macuada"},{"$f":"IFERROR(VLOOKUP(Tabla_SERIED_11_6[[#This Row],[IdEstablecimiento]],'[2]Establecimiento 2023'!$A$1:$E$183,5,FALSE),0)","v":"04301-Ovalle"},"15010200","2023-05-16T12:13:43",355,{"$nulls":4},6,154,195]
[4,"5",2023,"105325",{"$f":"IFERROR(VLOOKUP(Tabla_SERIED_11_6[[#This Row],[IdEstablecimiento]],'[2]Establecimiento 2023'!$A$1:$E$183,3,FALSE),0)","v":"105325-Centro de Salud Familiar Juan Pablo II (La Serena)"},{"$f":"IFERROR(VLOOKUP(Tabla_SERIED_11_6[[#This Row],[IdEstablecimiento]],'[2]Establecimiento 2023'!$A$1:$E$183,5,FALSE),0)","v":"04101-La Serena"},"15010500","2023-05-16T12:14:24",26,null,0,2,null,4,16,4]
[4,"5",2023,"105411",{"$f":"IFERROR(VLOOKUP(Tabla_SERIED_11_6[[#This Row],[IdEstablecimiento]],'[2]Establecimiento 2023'!$A$1:$E$183,3,FALSE),0)","v":"105411-Posta de Salud Rural Las Breas (Río Hurtado)"},{"$f":"IFERROR(VLOOKUP(Tabla_SERIED_11_6[[#This Row],[IdEstablecimiento]],'[2]Establecimiento 2023'!$A$1:$E$183,5,FALSE),0)","v":"04305-Rio Hurtado"},"15010300","2023-05-16T12:23:58",2,{"$nulls":4},2]
[4,"5",2023,"105456",{"$f":"IFERROR(VLOOKUP(Tabla_SERIED_11_6[[#This Row],[IdEstablecimiento]],'[2]Establecimiento 2023'!$A$1:$E$183,3,FALSE),0)","v":"105456-Posta de Salud Rural Llimpo"},{"$f":"IFERROR(VLOOKUP(Tabla_SERIED_11_6[[#This Row],[IdEstablecimiento]],'[2]Establecimiento 2023'!$A$1:$E$183,5,FALSE),0)","v":"04204-Salamanca"},"15010200","2023-05-16T14:19:58",28,{"$nulls":5},16,12]
[4,"5",2023,"105449",{"$f":"IFERROR(VLOOKUP(Tabla_SERIED_11_6[[#This Row],[IdEstablecimiento]],'[2]Establecimiento 2023'!$A$1:$E$183,3,FALSE),0)","v":"105449-Posta de Salud Rural Tunga Norte"},{"$f":"IFERROR(VLOOKUP(Tabla_SERIED_11_6[[#This Row],[IdEstablecimiento]],'[2]Establecimiento 2023'!$A$1:$E$183,5,FALSE),0)","v":"04201-Illapel"},"16100300","2023-05-16T14:18:21",26,14,12]
[4,"5",2023,"105310",{"$f":"IFERROR(VLOOKUP(Tabla_SERIED_11_6[[#This Row],[IdEstablecimiento]],'[2]Establecimiento 2023'!$A$1:$E$183,3,FALSE),0)","v":"105310-Centro de Salud Familiar Pichasca"},{"$f":"IFERROR(VLOOKUP(Tabla_SERIED_11_6[[#This Row],[IdEstablecimiento]],'[2]Establecimiento 2023'!$A$1:$E$183,5,FALSE),0)","v":"04305-Rio Hurtado"},"15010500","2023-05-16T11:54:14",6,{"$nulls":3},2,null,4]
[3,"5",2023,"200367",{"$f":"IFERROR(VLOOKUP(Tabla_SERIED_11_6[[#This Row],[IdEstablecimiento]],'[2]Establecimiento 2023'!$A$1:$E$183,3,FALSE),0)","v":"200367-Centro Comunitario de Salud Familiar Colonia Limarí"},{"$f":"IFERROR(VLOOKUP(Tabla_SERIED_11_6[[#This Row],[IdEstablecimiento]],'[2]Establecimiento 2023'!$A$1:$E$183,5,FALSE),0)","v":"04301-Ovalle"},"15020100","2023-04-21T09:35:36",2,{"$nulls":4},2]
[3,"5",2023,"200402",{"$f":"IFERROR(VLOOKUP(Tabla_SERIED_11_6[[#This Row],[IdEstablecimiento]],'[2]Establecimiento 2023'!$A$1:$E$183,3,FALSE),0)","v":"200402-Centro Comunitario de Salud Familiar Arcos de Pinamar"},{"$f":"IFERROR(VLOOKUP(Tabla_SERIED_11_6[[#This Row],[IdEstablecimiento]],'[2]Establecimiento 2023'!$A$1:$E$183,5,FALSE),0)","v":"04101-La Serena"},"16200220","2023-04-19T09:54:51",4,1,3]
[3,"5",2023,"200569",{"$f":"IFERROR(VLOOKUP(Tabla_SERIED_11_6[[#This Row],[IdEstablecimiento]],'[2]Establecimiento 2023'!$A$1:$E$183,3,FALSE),0)","v":"200569-Centro de Salud Familiar Fray Jorge"},{"$f":"IFERROR(VLOOKUP(Tabla_SERIED_11_6[[#This Row],[IdEstablecimiento]],'[2]Establecimiento 2023'!$A$1:$E$183,5,FALSE),0)","v":"04301-Ovalle"},"15900040","2023-04-19T14:19:56",5.2,null,2.4,2.8]
[4,"5",2023,"105303",{"$f":"IFERROR(VLOOKUP(Tabla_SERIED_11_6[[#This Row],[IdEstablecimiento]],'[2]Establecimiento 2023'!$A$1:$E$183,3,FALSE),0)","v":"105303-Centro de Salud Familiar San Juan"},{"$f":"IFERROR(VLOOKUP(Tabla_SERIED_11_6[[#This Row],[IdEstablecimiento]],'[2]Establecimiento 2023'!$A$1:$E$183,5,FALSE),0)","v":"04102-Coquimbo"},"15900010","2023-05-16T11:52:01",188.8,42.4,28.8,117.6]
[4,"5",2023,"105463",{"$f":"IFERROR(VLOOKUP(Tabla_SERIED_11_6[[#This Row],[IdEstablecimiento]],'[2]Establecimiento 2023'!$A$1:$E$183,3,FALSE),0)","v":"105463-Posta de Salud Rural Quilitapia"},{"$f":"IFERROR(VLOOKUP(Tabla_SERIED_11_6[[#This Row],[IdEstablecimiento]],'[2]Establecimiento 2023'!$A$1:$E$183,5,FALSE),0)","v":"04302-Combarbalá"},"15080008","2023-05-16T14:21:48",4,{"$nulls":7},1,null,2,null,1]
[4,"5",2023,"105479",{"$f":"IFERROR(VLOOKUP(Tabla_SERIED_11_6[[#This Row],[IdEstablecimiento]],'[2]Establecimiento 2023'!$A$1:$E$183,3,FALSE),0)","v":"105479-Posta de Salud Rural Guangualí"},{"$f":"IFERROR(VLOOKUP(Tabla_SERIED_11_6[[#This Row],[IdEstablecimiento]],'[2]Establecimiento 2023'!$A$1:$E$183,5,FALSE),0)","v":"04203-Los Vilos"},"15080008","2023-05-16T14:25:47",7,{"$nulls":7},1,null,6]
[4,"5",2023,"105427",{"$f":"IFERROR(VLOOKUP(Tabla_SERIED_11_6[[#This Row],[IdEstablecimiento]],'[2]Establecimiento 2023'!$A$1:$E$183,3,FALSE),0)","v":"105427-Posta de Salud Rural Hacienda Valdivia"},{"$f":"IFERROR(VLOOKUP(Tabla_SERIED_11_6[[#This Row],[IdEstablecimiento]],'[2]Establecimiento 2023'!$A$1:$E$183,5,FALSE),0)","v":"04303-Monte Patria"},"16100300","2023-05-16T12:26:03",21,10,11]
[4,"5",2023,"105314",{"$f":"IFERROR(VLOOKUP(Tabla_SERIED_11_6[[#This Row],[IdEstablecimiento]],'[2]Establecimiento 2023'!$A$1:$E$183,3,FALSE),0)","v":"105314-Centro de Salud Familiar La Higuera"},{"$f":"IFERROR(VLOOKUP(Tabla_SERIED_11_6[[#This Row],[IdEstablecimiento]],'[2]Establecimiento 2023'!$A$1:$E$183,5,FALSE),0)","v":"04104-La Higuera"},"15900020","2023-07-19T15:18:55",3.2,null,null,3.2]
[4,"5",2023,"105459",{"$f":"IFERROR(VLOOKUP(Tabla_SERIED_11_6[[#This Row],[IdEstablecimiento]],'[2]Establecimiento 2023'!$A$1:$E$183,3,FALSE),0)","v":"105459-Posta de Salud Rural Barrancas"},{"$f":"IFERROR(VLOOKUP(Tabla_SERIED_11_6[[#This Row],[IdEstablecimiento]],'[2]Establecimiento 2023'!$A$1:$E$183,5,FALSE),0)","v":"04302-Combarbalá"},"15010100","2023-05-16T14:21:02",10,{"$nulls":3},4,6]
[4,"5",2023,"105461",{"$f":"IFERROR(VLOOKUP(Tabla_SERIED_11_6[[#This Row],[IdEstablecimiento]],'[2]Establecimiento 2023'!$A$1:$E$183,3,FALSE),0)","v":"105461-Posta de Salud Rural El Huacho"},{"$f":"IFERROR(VLOOKUP(Tabla_SERIED_11_6[[#This Row],[IdEstablecimiento]],'[2]Establecimiento 2023'!$A$1:$E$183,5,FALSE),0)","v":"04302-Combarbalá"},"15080008","2023-05-16T14:21:26",1,{"$nulls":7},1]
[4,"5",2023,"105471",{"$f":"IFERROR(VLOOKUP(Tabla_SERIED_11_6[[#This Row],[IdEstablecimiento]],'[2]Establecimiento 2023'!$A$1:$E$183,3,FALSE),0)","v":"105471-Posta de Salud Rural Peralillo Vicuña"},{"$f":"IFERROR(VLOOKUP(Tabla_SERIED_11_6[[#This Row],[IdEstablecimiento]],'[2]Establecimiento 2023'!$A$1:$E$183,5,FALSE),0)","v":"04106-Vicuña"},"15050100","2023-05-16T14:23:53",22,9,13,1,1,1,2,1,7,2,6,null,1]
[4,"5",2023,"105319",{"$f":"IFERROR(VLOOKUP(Tabla_SERIED_11_6[[#This Row],[IdEstablecimiento]],'[2]Establecimiento 2023'!$A$1:$E$183,3,FALSE),0)","v":"105319-Centro de Salud Familiar Cardenal Raúl Silva Henríquez de La Serena"},{"$f":"IFERROR(VLOOKUP(Tabla_SERIED_11_6[[#This Row],[IdEstablecimiento]],'[2]Establecimiento 2023'!$A$1:$E$183,5,FALSE),0)","v":"04101-La Serena"},"16090300","2023-05-16T12:12:43",663,663]
[4,"5",2023,"105323",{"$f":"IFERROR(VLOOKUP(Tabla_SERIED_11_6[[#This Row],[IdEstablecimiento]],'[2]Establecimiento 2023'!$A$1:$E$183,3,FALSE),0)","v":"105323-Centro de Salud Familiar Dr. Sergio Aguilar Delgado"},{"$f":"IFERROR(VLOOKUP(Tabla_SERIED_11_6[[#This Row],[IdEstablecimiento]],'[2]Establecimiento 2023'!$A$1:$E$183,5,FALSE),0)","v":"04102-Coquimbo"},"15900010","2023-05-16T12:13:55",222.4,24.8,54.4,143.2]
[4,"5",2023,"105304",{"$f":"IFERROR(VLOOKUP(Tabla_SERIED_11_6[[#This Row],[IdEstablecimiento]],'[2]Establecimiento 2023'!$A$1:$E$183,3,FALSE),0)","v":"105304-Centro de Salud Familiar Santa Cecilia"},{"$f":"IFERROR(VLOOKUP(Tabla_SERIED_11_6[[#This Row],[IdEstablecimiento]],'[2]Establecimiento 2023'!$A$1:$E$183,5,FALSE),0)","v":"04102-Coquimbo"},"16100300","2023-05-16T11:52:18",501,182,319]
[4,"5",2023,"200402",{"$f":"IFERROR(VLOOKUP(Tabla_SERIED_11_6[[#This Row],[IdEstablecimiento]],'[2]Establecimiento 2023'!$A$1:$E$183,3,FALSE),0)","v":"200402-Centro Comunitario de Salud Familiar Arcos de Pinamar"},{"$f":"IFERROR(VLOOKUP(Tabla_SERIED_11_6[[#This Row],[IdEstablecimiento]],'[2]Establecimiento 2023'!$A$1:$E$183,5,FALSE),0)","v":"04101-La Serena"},"15080014","2023-05-16T14:38:35",3,{"$nulls":3},1,2]
[4,"5",2023,"200569",{"$f":"IFERROR(VLOOKUP(Tabla_SERIED_11_6[[#This Row],[IdEstablecimiento]],'[2]Establecimiento 2023'!$A$1:$E$183,3,FALSE),0)","v":"200569-Centro de Salud Familiar Fray Jorge"},{"$f":"IFERROR(VLOOKUP(Tabla_SERIED_11_6[[#This Row],[IdEstablecimiento]],'[2]Establecimiento 2023'!$A$1:$E$183,5,FALSE),0)","v":"04301-Ovalle"},"15900010","2023-05-16T14:39:31",172,19.2,71.2,81.6]
[4,"5",2023,"105405",{"$f":"IFERROR(VLOOKUP(Tabla_SERIED_11_6[[#This Row],[IdEstablecimiento]],'[2]Establecimiento 2023'!$A$1:$E$183,3,FALSE),0)","v":"105405-Posta de Salud Rural Guanaqueros"},{"$f":"IFERROR(VLOOKUP(Tabla_SERIED_11_6[[#This Row],[IdEstablecimiento]],'[2]Establecimiento 2023'!$A$1:$E$183,5,FALSE),0)","v":"04102-Coquimbo"},"15010200","2023-05-16T12:17:40",36,{"$nulls":5},28,8]
[4,"5",2023,"105405",{"$f":"IFERROR(VLOOKUP(Tabla_SERIED_11_6[[#This Row],[IdEstablecimiento]],'[2]Establecimiento 2023'!$A$1:$E$183,3,FALSE),0)","v":"105405-Posta de Salud Rural Guanaqueros"},{"$f":"IFERROR(VLOOKUP(Tabla_SERIED_11_6[[#This Row],[IdEstablecimiento]],'[2]Establecimiento 2023'!$A$1:$E$183,5,FALSE),0)","v":"04102-Coquimbo"},"16200210","2023-05-16T12:17:40",1,1]
[4,"5",2023,"105432",{"$f":"IFERROR(VLOOKUP(Tabla_SERIED_11_6[[#This Row],[IdEstablecimiento]],'[2]Establecimiento 2023'!$A$1:$E$183,3,FALSE),0)","v":"105432-Posta de Salud Rural Rapel (Monte Patria)"},{"$f":"IFERROR(VLOOKUP(Tabla_SERIED_11_6[[#This Row],[IdEstablecimiento]],'[2]Establecimiento 2023'!$A$1:$E$183,5,FALSE),0)","v":"04303-Monte Patria"},"15050200","2023-05-16T12:26:59",1,null,1,{"$nulls":3},1]
[4,"5",2023,"105444",{"$f":"IFERROR(VLOOKUP(Tabla_SERIED_11_6[[#This Row],[IdEstablecimiento]],'[2]Establecimiento 2023'!$A$1:$E$183,3,FALSE),0)","v":"105444-Posta de Salud Rural Huintil"},{"$f":"IFERROR(VLOOKUP(Tabla_SERIED_11_6[[#This Row],[IdEstablecimiento]],'[2]Establecimiento 2023'!$A$1:$E$183,5,FALSE),0)","v":"04201-Illapel"},"15050100","2023-05-16T14:17:07",13,4,9,null,null,4,1,null,4,2,null,null,1,null,1]
[4,"5",2023,"105467",{"$f":"IFERROR(VLOOKUP(Tabla_SERIED_11_6[[#This Row],[IdEstablecimiento]],'[2]Establecimiento 2023'!$A$1:$E$183,3,FALSE),0)","v":"105467-Posta de Salud Rural Diaguitas"},{"$f":"IFERROR(VLOOKUP(Tabla_SERIED_11_6[[#This Row],[IdEstablecimiento]],'[2]Establecimiento 2023'!$A$1:$E$183,5,FALSE),0)","v":"04106-Vicuña"},"15080008","2023-05-16T14:22:38",4,{"$nulls":7},2,null,null,1,1]
[4,"5",2023,"105472",{"$f":"IFERROR(VLOOKUP(Tabla_SERIED_11_6[[#This Row],[IdEstablecimiento]],'[2]Establecimiento 2023'!$A$1:$E$183,3,FALSE),0)","v":"105472-Posta de Salud Rural Rivadavia"},{"$f":"IFERROR(VLOOKUP(Tabla_SERIED_11_6[[#This Row],[IdEstablecimiento]],'[2]Establecimiento 2023'!$A$1:$E$183,5,FALSE),0)","v":"04106-Vicuña"},"16090500","2023-05-16T14:24:06",3,3]
[4,"5",2023,"105485",{"$f":"IFERROR(VLOOKUP(Tabla_SERIED_11_6[[#This Row],[IdEstablecimiento]],'[2]Establecimiento 2023'!$A$1:$E$183,3,FALSE),0)","v":"105485-Posta de Salud Rural Plan de Hornos"},{"$f":"IFERROR(VLOOKUP(Tabla_SERIED_11_6[[#This Row],[IdEstablecimiento]],'[2]Establecimiento 2023'!$A$1:$E$183,5,FALSE),0)","v":"04201-Illapel"},"16200210","2023-05-16T14:26:56",8,8]
[4,"5",2023,"105313",{"$f":"IFERROR(VLOOKUP(Tabla_SERIED_11_6[[#This Row],[IdEstablecimiento]],'[2]Establecimiento 2023'!$A$1:$E$183,3,FALSE),0)","v":"105313-Centro de Salud Familiar Dr. Emilio Schaffhauser"},{"$f":"IFERROR(VLOOKUP(Tabla_SERIED_11_6[[#This Row],[IdEstablecimiento]],'[2]Establecimiento 2023'!$A$1:$E$183,5,FALSE),0)","v":"04101-La Serena"},"15010500","2023-05-16T11:55:03",14,{"$nulls":3},4,2,6,2]
[4,"5",2023,"105319",{"$f":"IFERROR(VLOOKUP(Tabla_SERIED_11_6[[#This Row],[IdEstablecimiento]],'[2]Establecimiento 2023'!$A$1:$E$183,3,FALSE),0)","v":"105319-Centro de Salud Familiar Cardenal Raúl Silva Henríquez de La Serena"},{"$f":"IFERROR(VLOOKUP(Tabla_SERIED_11_6[[#This Row],[IdEstablecimiento]],'[2]Establecimiento 2023'!$A$1:$E$183,5,FALSE),0)","v":"04101-La Serena"},"15020200","2023-05-16T12:12:43",6,{"$nulls":5},6]
[4,"5",2023,"105324",{"$f":"IFERROR(VLOOKUP(Tabla_SERIED_11_6[[#This Row],[IdEstablecimiento]],'[2]Establecimiento 2023'!$A$1:$E$183,3,FALSE),0)","v":"105324-Centro de Salud Familiar Sotaquí"},{"$f":"IFERROR(VLOOKUP(Tabla_SERIED_11_6[[#This Row],[IdEstablecimiento]],'[2]Establecimiento 2023'!$A$1:$E$183,5,FALSE),0)","v":"04301-Ovalle"},"15080008","2023-05-16T12:14:12",50,{"$nulls":7},17,null,24,1,8]
[4,"5",2023,"105448",{"$f":"IFERROR(VLOOKUP(Tabla_SERIED_11_6[[#This Row],[IdEstablecimiento]],'[2]Establecimiento 2023'!$A$1:$E$183,3,FALSE),0)","v":"105448-Posta de Salud Rural Santa Virginia"},{"$f":"IFERROR(VLOOKUP(Tabla_SERIED_11_6[[#This Row],[IdEstablecimiento]],'[2]Establecimiento 2023'!$A$1:$E$183,5,FALSE),0)","v":"04201-Illapel"},"15010100","2023-05-16T14:18:05",14,{"$nulls":3},8,6]
[4,"5",2023,"105501",{"$f":"IFERROR(VLOOKUP(Tabla_SERIED_11_6[[#This Row],[IdEstablecimiento]],'[2]Establecimiento 2023'!$A$1:$E$183,3,FALSE),0)","v":"105501-Posta de Salud Rural Arboleda Grande"},{"$f":"IFERROR(VLOOKUP(Tabla_SERIED_11_6[[#This Row],[IdEstablecimiento]],'[2]Establecimiento 2023'!$A$1:$E$183,5,FALSE),0)","v":"04204-Salamanca"},"16200210","2023-05-16T14:30:35",1,1]
[4,"5",2023,"200273",{"$f":"IFERROR(VLOOKUP(Tabla_SERIED_11_6[[#This Row],[IdEstablecimiento]],'[2]Establecimiento 2023'!$A$1:$E$183,3,FALSE),0)","v":"200273-Centro Comunitario de Salud Familiar Punta Mira"},{"$f":"IFERROR(VLOOKUP(Tabla_SERIED_11_6[[#This Row],[IdEstablecimiento]],'[2]Establecimiento 2023'!$A$1:$E$183,5,FALSE),0)","v":"04102-Coquimbo"},"15010400","2023-05-16T14:37:29",2,{"$nulls":6},2]
[4,"5",2023,"105488",{"$f":"IFERROR(VLOOKUP(Tabla_SERIED_11_6[[#This Row],[IdEstablecimiento]],'[2]Establecimiento 2023'!$A$1:$E$183,3,FALSE),0)","v":"105488-Posta de Salud Rural Espíritu Santo"},{"$f":"IFERROR(VLOOKUP(Tabla_SERIED_11_6[[#This Row],[IdEstablecimiento]],'[2]Establecimiento 2023'!$A$1:$E$183,5,FALSE),0)","v":"04202-Canela"},"16100300","2023-05-16T14:27:57",24,16,8]
[4,"5",2023,"105507",{"$f":"IFERROR(VLOOKUP(Tabla_SERIED_11_6[[#This Row],[IdEstablecimiento]],'[2]Establecimiento 2023'!$A$1:$E$183,3,FALSE),0)","v":"105507-Posta de Salud Rural Huamalata"},{"$f":"IFERROR(VLOOKUP(Tabla_SERIED_11_6[[#This Row],[IdEstablecimiento]],'[2]Establecimiento 2023'!$A$1:$E$183,5,FALSE),0)","v":"04301-Ovalle"},"15010200","2023-05-16T14:32:05",24,{"$nulls":5},12,12]
[4,"5",2023,"105722",{"$f":"IFERROR(VLOOKUP(Tabla_SERIED_11_6[[#This Row],[IdEstablecimiento]],'[2]Establecimiento 2023'!$A$1:$E$183,3,FALSE),0)","v":"105722-Centro Comunitario de Salud Familiar San José de la Dehesa"},{"$f":"IFERROR(VLOOKUP(Tabla_SERIED_11_6[[#This Row],[IdEstablecimiento]],'[2]Establecimiento 2023'!$A$1:$E$183,5,FALSE),0)","v":"04301-Ovalle"},"15010100","2023-05-16T14:35:13",36,{"$nulls":3},28,8]
[4,"5",2023,"105401",{"$f":"IFERROR(VLOOKUP(Tabla_SERIED_11_6[[#This Row],[IdEstablecimiento]],'[2]Establecimiento 2023'!$A$1:$E$183,3,FALSE),0)","v":"105401-Posta de Salud Rural Las Rojas"},{"$f":"IFERROR(VLOOKUP(Tabla_SERIED_11_6[[#This Row],[IdEstablecimiento]],'[2]Establecimiento 2023'!$A$1:$E$183,5,FALSE),0)","v":"04101-La Serena"},"15010100","2023-05-16T12:16:51",8,{"$nulls":3},6,2]
[4,"5",2023,"105402",{"$f":"IFERROR(VLOOKUP(Tabla_SERIED_11_6[[#This Row],[IdEstablecimiento]],'[2]Establecimiento 2023'!$A$1:$E$183,3,FALSE),0)","v":"105402-Posta de Salud Rural El Romero"},{"$f":"IFERROR(VLOOKUP(Tabla_SERIED_11_6[[#This Row],[IdEstablecimiento]],'[2]Establecimiento 2023'!$A$1:$E$183,5,FALSE),0)","v":"04101-La Serena"},"15010500","2023-05-16T12:17:05",4,{"$nulls":3},2,null,2]
[4,"5",2023,"105106",{"$f":"IFERROR(VLOOKUP(Tabla_SERIED_11_6[[#This Row],[IdEstablecimiento]],'[2]Establecimiento 2023'!$A$1:$E$183,3,FALSE),0)","v":"105106-Hospital Dr. José Arraño (Andacollo)"},{"$f":"IFERROR(VLOOKUP(Tabla_SERIED_11_6[[#This Row],[IdEstablecimiento]],'[2]Establecimiento 2023'!$A$1:$E$183,5,FALSE),0)","v":"105106-Hospital Andacollo"},"15020100","2023-05-16T11:49:36",2,null,2]
[4,"5",2023,"105107",{"$f":"IFERROR(VLOOKUP(Tabla_SERIED_11_6[[#This Row],[IdEstablecimiento]],'[2]Establecimiento 2023'!$A$1:$E$183,3,FALSE),0)","v":"105107-Hospital San Juan de Dios (Vicuña)"},{"$f":"IFERROR(VLOOKUP(Tabla_SERIED_11_6[[#This Row],[IdEstablecimiento]],'[2]Establecimiento 2023'!$A$1:$E$183,5,FALSE),0)","v":"105107-Hospital Vicuña"},"15900020","2023-05-16T11:49:59",4.8,null,null,4.8]
[4,"5",2023,"105463",{"$f":"IFERROR(VLOOKUP(Tabla_SERIED_11_6[[#This Row],[IdEstablecimiento]],'[2]Establecimiento 2023'!$A$1:$E$183,3,FALSE),0)","v":"105463-Posta de Salud Rural Quilitapia"},{"$f":"IFERROR(VLOOKUP(Tabla_SERIED_11_6[[#This Row],[IdEstablecimiento]],'[2]Establecimiento 2023'!$A$1:$E$183,5,FALSE),0)","v":"04302-Combarbalá"},"15050100","2023-05-16T14:21:48",15,8,7,null,1,2,1,null,5,3,1,null,1,null,1]
[4,"5",2023,"105474",{"$f":"IFERROR(VLOOKUP(Tabla_SERIED_11_6[[#This Row],[IdEstablecimiento]],'[2]Establecimiento 2023'!$A$1:$E$183,3,FALSE),0)","v":"105474-Posta de Salud Rural Chapilca"},{"$f":"IFERROR(VLOOKUP(Tabla_SERIED_11_6[[#This Row],[IdEstablecimiento]],'[2]Establecimiento 2023'!$A$1:$E$183,5,FALSE),0)","v":"04106-Vicuña"},"15010200","2023-05-16T14:24:39",4,{"$nulls":5},2,2]
[4,"5",2023,"105481",{"$f":"IFERROR(VLOOKUP(Tabla_SERIED_11_6[[#This Row],[IdEstablecimiento]],'[2]Establecimiento 2023'!$A$1:$E$183,3,FALSE),0)","v":"105481-Posta de Salud Rural Tilama"},{"$f":"IFERROR(VLOOKUP(Tabla_SERIED_11_6[[#This Row],[IdEstablecimiento]],'[2]Establecimiento 2023'!$A$1:$E$183,5,FALSE),0)","v":"04203-Los Vilos"},"15010500","2023-05-16T14:26:09",2,{"$nulls":3},2]
[4,"5",2023,"200607",{"$f":"IFERROR(VLOOKUP(Tabla_SERIED_11_6[[#This Row],[IdEstablecimiento]],'[2]Establecimiento 2023'!$A$1:$E$183,3,FALSE),0)","v":"200607-Centro de Salud Familiar Lila Cortés Godoy"},{"$f":"IFERROR(VLOOKUP(Tabla_SERIED_11_6[[#This Row],[IdEstablecimiento]],'[2]Establecimiento 2023'!$A$1:$E$183,5,FALSE),0)","v":"04102-Coquimbo"},"15010300","2023-05-16T14:39:48",4,{"$nulls":4},4]
[3,"5",2023,"105105",{"$f":"IFERROR(VLOOKUP(Tabla_SERIED_11_6[[#This Row],[IdEstablecimiento]],'[2]Establecimiento 2023'!$A$1:$E$183,3,FALSE),0)","v":"105105-Hospital San Juan de Dios (Combarbalá)"},{"$f":"IFERROR(VLOOKUP(Tabla_SERIED_11_6[[#This Row],[IdEstablecimiento]],'[2]Establecimiento 2023'!$A$1:$E$183,5,FALSE),0)","v":"105105-Hospital Combarbalá"},"15080009","2023-04-19T09:04:55",6,{"$nulls":8},3,3]
[3,"5",2023,"105301",{"$f":"IFERROR(VLOOKUP(Tabla_SERIED_11_6[[#This Row],[IdEstablecimiento]],'[2]Establecimiento 2023'!$A$1:$E$183,3,FALSE),0)","v":"105301-Centro de Salud Familiar Las Compañías"},{"$f":"IFERROR(VLOOKUP(Tabla_SERIED_11_6[[#This Row],[IdEstablecimiento]],'[2]Establecimiento 2023'!$A$1:$E$183,5,FALSE),0)","v":"04101-La Serena"},"15010100","2023-04-19T09:07:01",174,{"$nulls":3},78,96]
[4,"5",2023,"105507",{"$f":"IFERROR(VLOOKUP(Tabla_SERIED_11_6[[#This Row],[IdEstablecimiento]],'[2]Establecimiento 2023'!$A$1:$E$183,3,FALSE),0)","v":"105507-Posta de Salud Rural Huamalata"},{"$f":"IFERROR(VLOOKUP(Tabla_SERIED_11_6[[#This Row],[IdEstablecimiento]],'[2]Establecimiento 2023'!$A$1:$E$183,5,FALSE),0)","v":"04301-Ovalle"},"16090300","2023-05-16T14:32:05",122,122]
[4,"5",2023,"200366",{"$f":"IFERROR(VLOOKUP(Tabla_SERIED_11_6[[#This Row],[IdEstablecimiento]],'[2]Establecimiento 2023'!$A$1:$E$183,3,FALSE),0)","v":"200366-Centro de Salud Familiar Urbano de Illapel"},{"$f":"IFERROR(VLOOKUP(Tabla_SERIED_11_6[[#This Row],[IdEstablecimiento]],'[2]Establecimiento 2023'!$A$1:$E$183,5,FALSE),0)","v":"04201-Illapel"},"15010500","2023-05-16T14:37:44",32,null,null,6,8,4,8,6]
[4,"5",2023,"105104",{"$f":"IFERROR(VLOOKUP(Tabla_SERIED_11_6[[#This Row],[IdEstablecimiento]],'[2]Establecimiento 2023'!$A$1:$E$183,3,FALSE),0)","v":"105104-Hospital de Salamanca"},{"$f":"IFERROR(VLOOKUP(Tabla_SERIED_11_6[[#This Row],[IdEstablecimiento]],'[2]Establecimiento 2023'!$A$1:$E$183,5,FALSE),0)","v":"105104-Hospital Salamanca"},"16200210","2023-05-16T11:48:59",4,4]
[4,"5",2023,"105311",{"$f":"IFERROR(VLOOKUP(Tabla_SERIED_11_6[[#This Row],[IdEstablecimiento]],'[2]Establecimiento 2023'!$A$1:$E$183,3,FALSE),0)","v":"105311-Centro de Salud Familiar Chañaral Alto"},{"$f":"IFERROR(VLOOKUP(Tabla_SERIED_11_6[[#This Row],[IdEstablecimiento]],'[2]Establecimiento 2023'!$A$1:$E$183,5,FALSE),0)","v":"04303-Monte Patria"},"15900030","2023-05-16T11:54:31",4,{"$nulls":3},4]
[4,"5",2023,"105321",{"$f":"IFERROR(VLOOKUP(Tabla_SERIED_11_6[[#This Row],[IdEstablecimiento]],'[2]Establecimiento 2023'!$A$1:$E$183,3,FALSE),0)","v":"105321-Centro de Salud Familiar Tongoy"},{"$f":"IFERROR(VLOOKUP(Tabla_SERIED_11_6[[#This Row],[IdEstablecimiento]],'[2]Establecimiento 2023'!$A$1:$E$183,5,FALSE),0)","v":"04102-Coquimbo"},"15010200","2023-05-16T12:13:28",118,{"$nulls":4},4,68,46]
[4,"5",2023,"105106",{"$f":"IFERROR(VLOOKUP(Tabla_SERIED_11_6[[#This Row],[IdEstablecimiento]],'[2]Establecimiento 2023'!$A$1:$E$183,3,FALSE),0)","v":"105106-Hospital Dr. José Arraño (Andacollo)"},{"$f":"IFERROR(VLOOKUP(Tabla_SERIED_11_6[[#This Row],[IdEstablecimiento]],'[2]Establecimiento 2023'!$A$1:$E$183,5,FALSE),0)","v":"105106-Hospital Andacollo"},"15900030","2023-05-16T11:49:36",4.4,null,null,4.4]
[4,"5",2023,"105471",{"$f":"IFERROR(VLOOKUP(Tabla_SERIED_11_6[[#This Row],[IdEstablecimiento]],'[2]Establecimiento 2023'!$A$1:$E$183,3,FALSE),0)","v":"105471-Posta de Salud Rural Peralillo Vicuña"},{"$f":"IFERROR(VLOOKUP(Tabla_SERIED_11_6[[#This Row],[IdEstablecimiento]],'[2]Establecimiento 2023'!$A$1:$E$183,5,FALSE),0)","v":"04106-Vicuña"},"15010500","2023-05-16T14:23:53",2,{"$nulls":3},2]
[4,"5",2023,"105478",{"$f":"IFERROR(VLOOKUP(Tabla_SERIED_11_6[[#This Row],[IdEstablecimiento]],'[2]Establecimiento 2023'!$A$1:$E$183,3,FALSE),0)","v":"105478-Posta de Salud Rural Caimanes"},{"$f":"IFERROR(VLOOKUP(Tabla_SERIED_11_6[[#This Row],[IdEstablecimiento]],'[2]Establecimiento 2023'!$A$1:$E$183,5,FALSE),0)","v":"04203-Los Vilos"},"15010500","2023-05-16T14:25:35",2,{"$nulls":5},2]
[4,"5",2023,"105486",{"$f":"IFERROR(VLOOKUP(Tabla_SERIED_11_6[[#This Row],[IdEstablecimiento]],'[2]Establecimiento 2023'!$A$1:$E$183,3,FALSE),0)","v":"105486-Posta de Salud Rural Tunga Sur"},{"$f":"IFERROR(VLOOKUP(Tabla_SERIED_11_6[[#This Row],[IdEstablecimiento]],'[2]Establecimiento 2023'!$A$1:$E$183,5,FALSE),0)","v":"04201-Illapel"},"15010100","2023-05-16T14:27:08",4,{"$nulls":3},2,2]
[4,"5",2023,"105498",{"$f":"IFERROR(VLOOKUP(Tabla_SERIED_11_6[[#This Row],[IdEstablecimiento]],'[2]Establecimiento 2023'!$A$1:$E$183,3,FALSE),0)","v":"105498-Posta de Salud Rural Quebrada Linares"},{"$f":"IFERROR(VLOOKUP(Tabla_SERIED_11_6[[#This Row],[IdEstablecimiento]],'[2]Establecimiento 2023'!$A$1:$E$183,5,FALSE),0)","v":"04202-Canela"},"15010200","2023-05-16T14:30:01",2,{"$nulls":5},2]
[4,"5",2023,"105302",{"$f":"IFERROR(VLOOKUP(Tabla_SERIED_11_6[[#This Row],[IdEstablecimiento]],'[2]Establecimiento 2023'!$A$1:$E$183,3,FALSE),0)","v":"105302-Centro de Salud Familiar Pedro Aguirre Cerda"},{"$f":"IFERROR(VLOOKUP(Tabla_SERIED_11_6[[#This Row],[IdEstablecimiento]],'[2]Establecimiento 2023'!$A$1:$E$183,5,FALSE),0)","v":"04101-La Serena"},"15900050","2023-05-16T11:51:48",12,6,6,null,3,6,3]
[4,"5",2023,"105305",{"$f":"IFERROR(VLOOKUP(Tabla_SERIED_11_6[[#This Row],[IdEstablecimiento]],'[2]Establecimiento 2023'!$A$1:$E$183,3,FALSE),0)","v":"105305-Centro de Salud Familiar Tierras Blancas"},{"$f":"IFERROR(VLOOKUP(Tabla_SERIED_11_6[[#This Row],[IdEstablecimiento]],'[2]Establecimiento 2023'!$A$1:$E$183,5,FALSE),0)","v":"04102-Coquimbo"},"15900050","2023-05-16T11:52:31",5,2,5,null,1,4]
[4,"5",2023,"105300",{"$f":"IFERROR(VLOOKUP(Tabla_SERIED_11_6[[#This Row],[IdEstablecimiento]],'[2]Establecimiento 2023'!$A$1:$E$183,3,FALSE),0)","v":"105300-Centro de Salud Familiar Cardenal Caro"},{"$f":"IFERROR(VLOOKUP(Tabla_SERIED_11_6[[#This Row],[IdEstablecimiento]],'[2]Establecimiento 2023'!$A$1:$E$183,5,FALSE),0)","v":"04101-La Serena"},"15010500","2023-05-16T11:51:23",2,{"$nulls":5},2]
[4,"5",2023,"105302",{"$f":"IFERROR(VLOOKUP(Tabla_SERIED_11_6[[#This Row],[IdEstablecimiento]],'[2]Establecimiento 2023'!$A$1:$E$183,3,FALSE),0)","v":"105302-Centro de Salud Familiar Pedro Aguirre Cerda"},{"$f":"IFERROR(VLOOKUP(Tabla_SERIED_11_6[[#This Row],[IdEstablecimiento]],'[2]Establecimiento 2023'!$A$1:$E$183,5,FALSE),0)","v":"04101-La Serena"},"16200100","2023-05-16T11:51:48",34,20,14]
[4,"5",2023,"200569",{"$f":"IFERROR(VLOOKUP(Tabla_SERIED_11_6[[#This Row],[IdEstablecimiento]],'[2]Establecimiento 2023'!$A$1:$E$183,3,FALSE),0)","v":"200569-Centro de Salud Familiar Fray Jorge"},{"$f":"IFERROR(VLOOKUP(Tabla_SERIED_11_6[[#This Row],[IdEstablecimiento]],'[2]Establecimiento 2023'!$A$1:$E$183,5,FALSE),0)","v":"04301-Ovalle"},"15030100","2023-05-16T14:39:31",19.2,8,8,3.2]
[4,"5",2023,"200569",{"$f":"IFERROR(VLOOKUP(Tabla_SERIED_11_6[[#This Row],[IdEstablecimiento]],'[2]Establecimiento 2023'!$A$1:$E$183,3,FALSE),0)","v":"200569-Centro de Salud Familiar Fray Jorge"},{"$f":"IFERROR(VLOOKUP(Tabla_SERIED_11_6[[#This Row],[IdEstablecimiento]],'[2]Establecimiento 2023'!$A$1:$E$183,5,FALSE),0)","v":"04301-Ovalle"},"15900040","2023-05-16T14:39:31",7.2,0,0,7.2]
[4,"5",2023,"105722",{"$f":"IFERROR(VLOOKUP(Tabla_SERIED_11_6[[#This Row],[IdEstablecimiento]],'[2]Establecimiento 2023'!$A$1:$E$183,3,FALSE),0)","v":"105722-Centro Comunitario de Salud Familiar San José de la Dehesa"},{"$f":"IFERROR(VLOOKUP(Tabla_SERIED_11_6[[#This Row],[IdEstablecimiento]],'[2]Establecimiento 2023'!$A$1:$E$183,5,FALSE),0)","v":"04301-Ovalle"},"15010300","2023-05-16T14:35:13",6,{"$nulls":3},6]
[4,"5",2023,"105723",{"$f":"IFERROR(VLOOKUP(Tabla_SERIED_11_6[[#This Row],[IdEstablecimiento]],'[2]Establecimiento 2023'!$A$1:$E$183,3,FALSE),0)","v":"105723-Centro Comunitario de Salud Familiar Limarí"},{"$f":"IFERROR(VLOOKUP(Tabla_SERIED_11_6[[#This Row],[IdEstablecimiento]],'[2]Establecimiento 2023'!$A$1:$E$183,5,FALSE),0)","v":"04301-Ovalle"},"15900040","2023-05-16T14:35:24",2.8,{"$nulls":4},2.8]
[4,"5",2023,"200367",{"$f":"IFERROR(VLOOKUP(Tabla_SERIED_11_6[[#This Row],[IdEstablecimiento]],'[2]Establecimiento 2023'!$A$1:$E$183,3,FALSE),0)","v":"200367-Centro Comunitario de Salud Familiar Colonia Limarí"},{"$f":"IFERROR(VLOOKUP(Tabla_SERIED_11_6[[#This Row],[IdEstablecimiento]],'[2]Establecimiento 2023'!$A$1:$E$183,5,FALSE),0)","v":"04301-Ovalle"},"15010200","2023-05-16T14:37:58",46,{"$nulls":4},2,26,18]
[4,"5",2023,"105312",{"$f":"IFERROR(VLOOKUP(Tabla_SERIED_11_6[[#This Row],[IdEstablecimiento]],'[2]Establecimiento 2023'!$A$1:$E$183,3,FALSE),0)","v":"105312-Centro de Salud Familiar Carén"},{"$f":"IFERROR(VLOOKUP(Tabla_SERIED_11_6[[#This Row],[IdEstablecimiento]],'[2]Establecimiento 2023'!$A$1:$E$183,5,FALSE),0)","v":"04303-Monte Patria"},"15010200","2023-05-16T11:54:50",44,{"$nulls":4},2,26,16]
[4,"5",2023,"105313",{"$f":"IFERROR(VLOOKUP(Tabla_SERIED_11_6[[#This Row],[IdEstablecimiento]],'[2]Establecimiento 2023'!$A$1:$E$183,3,FALSE),0)","v":"105313-Centro de Salud Familiar Dr. Emilio Schaffhauser"},{"$f":"IFERROR(VLOOKUP(Tabla_SERIED_11_6[[#This Row],[IdEstablecimiento]],'[2]Establecimiento 2023'!$A$1:$E$183,5,FALSE),0)","v":"04101-La Serena"},"16100100","2023-05-16T11:55:03",36,15,21]
[4,"5",2023,"105473",{"$f":"IFERROR(VLOOKUP(Tabla_SERIED_11_6[[#This Row],[IdEstablecimiento]],'[2]Establecimiento 2023'!$A$1:$E$183,3,FALSE),0)","v":"105473-Posta de Salud Rural Talcuna"},{"$f":"IFERROR(VLOOKUP(Tabla_SERIED_11_6[[#This Row],[IdEstablecimiento]],'[2]Establecimiento 2023'!$A$1:$E$183,5,FALSE),0)","v":"04106-Vicuña"},"15900010","2023-05-16T14:24:28",9.6,null,3.2,6.4]
[4,"5",2023,"105482",{"$f":"IFERROR(VLOOKUP(Tabla_SERIED_11_6[[#This Row],[IdEstablecimiento]],'[2]Establecimiento 2023'!$A$1:$E$183,3,FALSE),0)","v":"105482-Posta de Salud Rural Canela Alta"},{"$f":"IFERROR(VLOOKUP(Tabla_SERIED_11_6[[#This Row],[IdEstablecimiento]],'[2]Establecimiento 2023'!$A$1:$E$183,5,FALSE),0)","v":"04202-Canela"},"16200210","2023-05-16T14:26:20",4,4]
[4,"5",2023,"105483",{"$f":"IFERROR(VLOOKUP(Tabla_SERIED_11_6[[#This Row],[IdEstablecimiento]],'[2]Establecimiento 2023'!$A$1:$E$183,3,FALSE),0)","v":"105483-Posta de Salud Rural Los Rulos"},{"$f":"IFERROR(VLOOKUP(Tabla_SERIED_11_6[[#This Row],[IdEstablecimiento]],'[2]Establecimiento 2023'!$A$1:$E$183,5,FALSE),0)","v":"04202-Canela"},"16100300","2023-05-16T14:26:32",38,13,25]
[4,"5",2023,"105309",{"$f":"IFERROR(VLOOKUP(Tabla_SERIED_11_6[[#This Row],[IdEstablecimiento]],'[2]Establecimiento 2023'!$A$1:$E$183,3,FALSE),0)","v":"105309-Centro de Salud Familiar Canela"},{"$f":"IFERROR(VLOOKUP(Tabla_SERIED_11_6[[#This Row],[IdEstablecimiento]],'[2]Establecimiento 2023'!$A$1:$E$183,5,FALSE),0)","v":"04202-Canela"},"16100600","2023-05-16T11:53:32",1,0,1]
[4,"5",2023,"105314",{"$f":"IFERROR(VLOOKUP(Tabla_SERIED_11_6[[#This Row],[IdEstablecimiento]],'[2]Establecimiento 2023'!$A$1:$E$183,3,FALSE),0)","v":"105314-Centro de Salud Familiar La Higuera"},{"$f":"IFERROR(VLOOKUP(Tabla_SERIED_11_6[[#This Row],[IdEstablecimiento]],'[2]Establecimiento 2023'!$A$1:$E$183,5,FALSE),0)","v":"04104-La Higuera"},"15010100","2023-07-19T15:18:55",24,{"$nulls":3},18,6]
[4,"5",2023,"105318",{"$f":"IFERROR(VLOOKUP(Tabla_SERIED_11_6[[#This Row],[IdEstablecimiento]],'[2]Establecimiento 2023'!$A$1:$E$183,3,FALSE),0)","v":"105318-Centro de Salud Familiar El Palqui"},{"$f":"IFERROR(VLOOKUP(Tabla_SERIED_11_6[[#This Row],[IdEstablecimiento]],'[2]Establecimiento 2023'!$A$1:$E$183,5,FALSE),0)","v":"04303-Monte Patria"},"16200210","2023-05-16T11:55:57",13,13]
[4,"5",2023,"105500",{"$f":"IFERROR(VLOOKUP(Tabla_SERIED_11_6[[#This Row],[IdEstablecimiento]],'[2]Establecimiento 2023'!$A$1:$E$183,3,FALSE),0)","v":"105500-Posta de Salud Rural Caleta Hornos"},{"$f":"IFERROR(VLOOKUP(Tabla_SERIED_11_6[[#This Row],[IdEstablecimiento]],'[2]Establecimiento 2023'!$A$1:$E$183,5,FALSE),0)","v":"04104-La Higuera"},"15050100","2023-07-19T15:19:20",27,17,10,1,null,5,9,3,4,4,1]
[4,"5",2023,"105325",{"$f":"IFERROR(VLOOKUP(Tabla_SERIED_11_6[[#This Row],[IdEstablecimiento]],'[2]Establecimiento 2023'!$A$1:$E$183,3,FALSE),0)","v":"105325-Centro de Salud Familiar Juan Pablo II (La Serena)"},{"$f":"IFERROR(VLOOKUP(Tabla_SERIED_11_6[[#This Row],[IdEstablecimiento]],'[2]Establecimiento 2023'!$A$1:$E$183,5,FALSE),0)","v":"04101-La Serena"},"16200100","2023-05-16T12:14:24",3,2,1]
[4,"5",2023,"105405",{"$f":"IFERROR(VLOOKUP(Tabla_SERIED_11_6[[#This Row],[IdEstablecimiento]],'[2]Establecimiento 2023'!$A$1:$E$183,3,FALSE),0)","v":"105405-Posta de Salud Rural Guanaqueros"},{"$f":"IFERROR(VLOOKUP(Tabla_SERIED_11_6[[#This Row],[IdEstablecimiento]],'[2]Establecimiento 2023'!$A$1:$E$183,5,FALSE),0)","v":"04102-Coquimbo"},"16090300","2023-05-16T12:17:40",69,69]
[4,"5",2023,"105417",{"$f":"IFERROR(VLOOKUP(Tabla_SERIED_11_6[[#This Row],[IdEstablecimiento]],'[2]Establecimiento 2023'!$A$1:$E$183,3,FALSE),0)","v":"105417-Posta de Salud Rural Alcones Bajo"},{"$f":"IFERROR(VLOOKUP(Tabla_SERIED_11_6[[#This Row],[IdEstablecimiento]],'[2]Establecimiento 2023'!$A$1:$E$183,5,FALSE),0)","v":"04301-Ovalle"},"15050200","2023-05-16T12:25:05",1,1,{"$nulls":3},1]
[4,"5",2023,"105510",{"$f":"IFERROR(VLOOKUP(Tabla_SERIED_11_6[[#This Row],[IdEstablecimiento]],'[2]Establecimiento 2023'!$A$1:$E$183,3,FALSE),0)","v":"105510-Posta de Salud Rural Recoleta"},{"$f":"IFERROR(VLOOKUP(Tabla_SERIED_11_6[[#This Row],[IdEstablecimiento]],'[2]Establecimiento 2023'!$A$1:$E$183,5,FALSE),0)","v":"04301-Ovalle"},"15900010","2023-05-16T14:32:38",2.7,null,null,2.7]
[4,"5",2023,"105701",{"$f":"IFERROR(VLOOKUP(Tabla_SERIED_11_6[[#This Row],[IdEstablecimiento]],'[2]Establecimiento 2023'!$A$1:$E$183,3,FALSE),0)","v":"105701-Centro Comunitario de Salud Familiar Villa Alemania"},{"$f":"IFERROR(VLOOKUP(Tabla_SERIED_11_6[[#This Row],[IdEstablecimiento]],'[2]Establecimiento 2023'!$A$1:$E$183,5,FALSE),0)","v":"04101-La Serena"},"15050200","2023-05-16T14:33:19",1,null,1,{"$nulls":6},1]
[4,"5",2023,"200402",{"$f":"IFERROR(VLOOKUP(Tabla_SERIED_11_6[[#This Row],[IdEstablecimiento]],'[2]Establecimiento 2023'!$A$1:$E$183,3,FALSE),0)","v":"200402-Centro Comunitario de Salud Familiar Arcos de Pinamar"},{"$f":"IFERROR(VLOOKUP(Tabla_SERIED_11_6[[#This Row],[IdEstablecimiento]],'[2]Establecimiento 2023'!$A$1:$E$183,5,FALSE),0)","v":"04101-La Serena"},"15080008","2023-05-16T14:38:35",28,{"$nulls":7},13,null,12,null,3]
[4,"5",2023,"105419",{"$f":"IFERROR(VLOOKUP(Tabla_SERIED_11_6[[#This Row],[IdEstablecimiento]],'[2]Establecimiento 2023'!$A$1:$E$183,3,FALSE),0)","v":"105419-Posta de Salud Rural Las Sossas"},{"$f":"IFERROR(VLOOKUP(Tabla_SERIED_11_6[[#This Row],[IdEstablecimiento]],'[2]Establecimiento 2023'!$A$1:$E$183,5,FALSE),0)","v":"04301-Ovalle"},"15050100","2023-05-16T12:25:20",2,1,1,{"$nulls":6},2]
[4,"5",2023,"105449",{"$f":"IFERROR(VLOOKUP(Tabla_SERIED_11_6[[#This Row],[IdEstablecimiento]],'[2]Establecimiento 2023'!$A$1:$E$183,3,FALSE),0)","v":"105449-Posta de Salud Rural Tunga Norte"},{"$f":"IFERROR(VLOOKUP(Tabla_SERIED_11_6[[#This Row],[IdEstablecimiento]],'[2]Establecimiento 2023'!$A$1:$E$183,5,FALSE),0)","v":"04201-Illapel"},"15050100","2023-05-16T14:18:21",2,2,{"$nulls":4},1,null,null,1]
[4,"5",2023,"105454",{"$f":"IFERROR(VLOOKUP(Tabla_SERIED_11_6[[#This Row],[IdEstablecimiento]],'[2]Establecimiento 2023'!$A$1:$E$183,3,FALSE),0)","v":"105454-Posta de Salud Rural Cunlagua"},{"$f":"IFERROR(VLOOKUP(Tabla_SERIED_11_6[[#This Row],[IdEstablecimiento]],'[2]Establecimiento 2023'!$A$1:$E$183,5,FALSE),0)","v":"04204-Salamanca"},"15010200","2023-05-16T14:19:36",6,{"$nulls":5},4,2]
[4,"5",2023,"105326",{"$f":"IFERROR(VLOOKUP(Tabla_SERIED_11_6[[#This Row],[IdEstablecimiento]],'[2]Establecimiento 2023'!$A$1:$E$183,3,FALSE),0)","v":"105326-Centro de Salud Familiar Villa San Rafael de Rozas"},{"$f":"IFERROR(VLOOKUP(Tabla_SERIED_11_6[[#This Row],[IdEstablecimiento]],'[2]Establecimiento 2023'!$A$1:$E$183,5,FALSE),0)","v":"04201-Illapel"},"15030100","2023-05-16T12:16:19",8,null,null,8]
[4,"5",2023,"105409",{"$f":"IFERROR(VLOOKUP(Tabla_SERIED_11_6[[#This Row],[IdEstablecimiento]],'[2]Establecimiento 2023'!$A$1:$E$183,3,FALSE),0)","v":"105409-Posta de Salud Rural El Chañar"},{"$f":"IFERROR(VLOOKUP(Tabla_SERIED_11_6[[#This Row],[IdEstablecimiento]],'[2]Establecimiento 2023'!$A$1:$E$183,5,FALSE),0)","v":"04305-Rio Hurtado"},"15080008","2023-05-16T12:18:08",1,{"$nulls":7},1]
[4,"5",2023,"105413",{"$f":"IFERROR(VLOOKUP(Tabla_SERIED_11_6[[#This Row],[IdEstablecimiento]],'[2]Establecimiento 2023'!$A$1:$E$183,3,FALSE),0)","v":"105413-Posta de Salud Rural Samo Alto"},{"$f":"IFERROR(VLOOKUP(Tabla_SERIED_11_6[[#This Row],[IdEstablecimiento]],'[2]Establecimiento 2023'!$A$1:$E$183,5,FALSE),0)","v":"04305-Rio Hurtado"},"16200220","2023-05-16T12:24:14",5,null,5]
[4,"5",2023,"200607",{"$f":"IFERROR(VLOOKUP(Tabla_SERIED_11_6[[#This Row],[IdEstablecimiento]],'[2]Establecimiento 2023'!$A$1:$E$183,3,FALSE),0)","v":"200607-Centro de Salud Familiar Lila Cortés Godoy"},{"$f":"IFERROR(VLOOKUP(Tabla_SERIED_11_6[[#This Row],[IdEstablecimiento]],'[2]Establecimiento 2023'!$A$1:$E$183,5,FALSE),0)","v":"04102-Coquimbo"},"16200210","2023-05-16T14:39:48",64,64]
[4,"5",2023,"200494",{"$f":"IFERROR(VLOOKUP(Tabla_SERIED_11_6[[#This Row],[IdEstablecimiento]],'[2]Establecimiento 2023'!$A$1:$E$183,3,FALSE),0)","v":"200494-Centro de Salud Familiar El Sauce"},{"$f":"IFERROR(VLOOKUP(Tabla_SERIED_11_6[[#This Row],[IdEstablecimiento]],'[2]Establecimiento 2023'!$A$1:$E$183,5,FALSE),0)","v":"04102-Coquimbo"},"15010300","2023-05-16T14:38:49",4,{"$nulls":3},4]
[4,"5",2023,"200569",{"$f":"IFERROR(VLOOKUP(Tabla_SERIED_11_6[[#This Row],[IdEstablecimiento]],'[2]Establecimiento 2023'!$A$1:$E$183,3,FALSE),0)","v":"200569-Centro de Salud Familiar Fray Jorge"},{"$f":"IFERROR(VLOOKUP(Tabla_SERIED_11_6[[#This Row],[IdEstablecimiento]],'[2]Establecimiento 2023'!$A$1:$E$183,5,FALSE),0)","v":"04301-Ovalle"},"15060100","2023-05-16T14:39:31",3,2,1,null,null,1,null,1,1]
[5,"5",2023,"105322",{"$f":"IFERROR(VLOOKUP(Tabla_SERIED_11_6[[#This Row],[IdEstablecimiento]],'[2]Establecimiento 2023'!$A$1:$E$183,3,FALSE),0)","v":"105322-Centro de Salud Familiar Marcos Macuada"},{"$f":"IFERROR(VLOOKUP(Tabla_SERIED_11_6[[#This Row],[IdEstablecimiento]],'[2]Establecimiento 2023'!$A$1:$E$183,5,FALSE),0)","v":"04301-Ovalle"},"15900030","2023-06-22T11:15:30",16,4,0,12,0,0,0,0]
[4,"5",2023,"200494",{"$f":"IFERROR(VLOOKUP(Tabla_SERIED_11_6[[#This Row],[IdEstablecimiento]],'[2]Establecimiento 2023'!$A$1:$E$183,3,FALSE),0)","v":"200494-Centro de Salud Familiar El Sauce"},{"$f":"IFERROR(VLOOKUP(Tabla_SERIED_11_6[[#This Row],[IdEstablecimiento]],'[2]Establecimiento 2023'!$A$1:$E$183,5,FALSE),0)","v":"04102-Coquimbo"},"15050200","2023-05-16T14:38:49",14,7,7,{"$nulls":3},5,1,2,2,null,4]
[4,"5",2023,"105107",{"$f":"IFERROR(VLOOKUP(Tabla_SERIED_11_6[[#This Row],[IdEstablecimiento]],'[2]Establecimiento 2023'!$A$1:$E$183,3,FALSE),0)","v":"105107-Hospital San Juan de Dios (Vicuña)"},{"$f":"IFERROR(VLOOKUP(Tabla_SERIED_11_6[[#This Row],[IdEstablecimiento]],'[2]Establecimiento 2023'!$A$1:$E$183,5,FALSE),0)","v":"105107-Hospital Vicuña"},"15900030","2023-05-16T11:49:59",10.4,null,null,6,4.4]
[4,"5",2023,"105302",{"$f":"IFERROR(VLOOKUP(Tabla_SERIED_11_6[[#This Row],[IdEstablecimiento]],'[2]Establecimiento 2023'!$A$1:$E$183,3,FALSE),0)","v":"105302-Centro de Salud Familiar Pedro Aguirre Cerda"},{"$f":"IFERROR(VLOOKUP(Tabla_SERIED_11_6[[#This Row],[IdEstablecimiento]],'[2]Establecimiento 2023'!$A$1:$E$183,5,FALSE),0)","v":"04101-La Serena"},"15030100","2023-05-16T11:51:48",4,null,4]
[4,"5",2023,"200367",{"$f":"IFERROR(VLOOKUP(Tabla_SERIED_11_6[[#This Row],[IdEstablecimiento]],'[2]Establecimiento 2023'!$A$1:$E$183,3,FALSE),0)","v":"200367-Centro Comunitario de Salud Familiar Colonia Limarí"},{"$f":"IFERROR(VLOOKUP(Tabla_SERIED_11_6[[#This Row],[IdEstablecimiento]],'[2]Establecimiento 2023'!$A$1:$E$183,5,FALSE),0)","v":"04301-Ovalle"},"16200100","2023-05-16T14:37:58",6,4,2]
[4,"5",2023,"200569",{"$f":"IFERROR(VLOOKUP(Tabla_SERIED_11_6[[#This Row],[IdEstablecimiento]],'[2]Establecimiento 2023'!$A$1:$E$183,3,FALSE),0)","v":"200569-Centro de Salud Familiar Fray Jorge"},{"$f":"IFERROR(VLOOKUP(Tabla_SERIED_11_6[[#This Row],[IdEstablecimiento]],'[2]Establecimiento 2023'!$A$1:$E$183,5,FALSE),0)","v":"04301-Ovalle"},"15010100","2023-05-16T14:39:31",296,{"$nulls":3},190,106]
[5,"5",2023,"105301",{"$f":"IFERROR(VLOOKUP(Tabla_SERIED_11_6[[#This Row],[IdEstablecimiento]],'[2]Establecimiento 2023'!$A$1:$E$183,3,FALSE),0)","v":"105301-Centro de Salud Familiar Las Compañías"},{"$f":"IFERROR(VLOOKUP(Tabla_SERIED_11_6[[#This Row],[IdEstablecimiento]],'[2]Establecimiento 2023'!$A$1:$E$183,5,FALSE),0)","v":"04101-La Serena"},"15060100","2023-06-22T11:02:59",12,6,6,null,null,3,2,3,null,4]
[5,"5",2023,"105500",{"$f":"IFERROR(VLOOKUP(Tabla_SERIED_11_6[[#This Row],[IdEstablecimiento]],'[2]Establecimiento 2023'!$A$1:$E$183,3,FALSE),0)","v":"105500-Posta de Salud Rural Caleta Hornos"},{"$f":"IFERROR(VLOOKUP(Tabla_SERIED_11_6[[#This Row],[IdEstablecimiento]],'[2]Establecimiento 2023'!$A$1:$E$183,5,FALSE),0)","v":"04104-La Higuera"},"15010200","2023-07-19T15:27:48",26,{"$nulls":5},12,14]
[5,"5",2023,"105722",{"$f":"IFERROR(VLOOKUP(Tabla_SERIED_11_6[[#This Row],[IdEstablecimiento]],'[2]Establecimiento 2023'!$A$1:$E$183,3,FALSE),0)","v":"105722-Centro Comunitario de Salud Familiar San José de la Dehesa"},{"$f":"IFERROR(VLOOKUP(Tabla_SERIED_11_6[[#This Row],[IdEstablecimiento]],'[2]Establecimiento 2023'!$A$1:$E$183,5,FALSE),0)","v":"04301-Ovalle"},"15010500","2023-06-22T11:51:52",6,{"$nulls":5},6]
[5,"5",2023,"200494",{"$f":"IFERROR(VLOOKUP(Tabla_SERIED_11_6[[#This Row],[IdEstablecimiento]],'[2]Establecimiento 2023'!$A$1:$E$183,3,FALSE),0)","v":"200494-Centro de Salud Familiar El Sauce"},{"$f":"IFERROR(VLOOKUP(Tabla_SERIED_11_6[[#This Row],[IdEstablecimiento]],'[2]Establecimiento 2023'!$A$1:$E$183,5,FALSE),0)","v":"04102-Coquimbo"},"15080014","2023-06-22T11:54:06",324,{"$nulls":3},178,146]
[5,"5",2023,"105322",{"$f":"IFERROR(VLOOKUP(Tabla_SERIED_11_6[[#This Row],[IdEstablecimiento]],'[2]Establecimiento 2023'!$A$1:$E$183,3,FALSE),0)","v":"105322-Centro de Salud Familiar Marcos Macuada"},{"$f":"IFERROR(VLOOKUP(Tabla_SERIED_11_6[[#This Row],[IdEstablecimiento]],'[2]Establecimiento 2023'!$A$1:$E$183,5,FALSE),0)","v":"04301-Ovalle"},"16200210","2023-06-22T11:15:30",46,46]
[5,"5",2023,"105407",{"$f":"IFERROR(VLOOKUP(Tabla_SERIED_11_6[[#This Row],[IdEstablecimiento]],'[2]Establecimiento 2023'!$A$1:$E$183,3,FALSE),0)","v":"105407-Posta de Salud Rural Tambillo"},{"$f":"IFERROR(VLOOKUP(Tabla_SERIED_11_6[[#This Row],[IdEstablecimiento]],'[2]Establecimiento 2023'!$A$1:$E$183,5,FALSE),0)","v":"04102-Coquimbo"},"15050100","2023-06-22T11:25:14",14,6,8,0,0,0,5,0,4,1,3,null,0,1,0]
[5,"5",2023,"105407",{"$f":"IFERROR(VLOOKUP(Tabla_SERIED_11_6[[#This Row],[IdEstablecimiento]],'[2]Establecimiento 2023'!$A$1:$E$183,3,FALSE),0)","v":"105407-Posta de Salud Rural Tambillo"},{"$f":"IFERROR(VLOOKUP(Tabla_SERIED_11_6[[#This Row],[IdEstablecimiento]],'[2]Establecimiento 2023'!$A$1:$E$183,5,FALSE),0)","v":"04102-Coquimbo"},"15080014","2023-06-22T11:25:14",10,{"$nulls":3},10]
[5,"5",2023,"105422",{"$f":"IFERROR(VLOOKUP(Tabla_SERIED_11_6[[#This Row],[IdEstablecimiento]],'[2]Establecimiento 2023'!$A$1:$E$183,3,FALSE),0)","v":"105422-Posta de Salud Rural Hornillos"},{"$f":"IFERROR(VLOOKUP(Tabla_SERIED_11_6[[#This Row],[IdEstablecimiento]],'[2]Establecimiento 2023'!$A$1:$E$183,5,FALSE),0)","v":"04301-Ovalle"},"15050100","2023-06-22T11:28:12",13,4,9,{"$nulls":3},2,2,3,3,2,{"$nulls":3},1]
[5,"5",2023,"105108",{"$f":"IFERROR(VLOOKUP(Tabla_SERIED_11_6[[#This Row],[IdEstablecimiento]],'[2]Establecimiento 2023'!$A$1:$E$183,3,FALSE),0)","v":"105108-Hospital San Pedro (Los Vilos)"},{"$f":"IFERROR(VLOOKUP(Tabla_SERIED_11_6[[#This Row],[IdEstablecimiento]],'[2]Establecimiento 2023'!$A$1:$E$183,5,FALSE),0)","v":"105108-Hospital Los Vilos"},"15900030","2023-06-22T11:02:30",20,1.6,10,6.8,1.6]
[5,"5",2023,"105305",{"$f":"IFERROR(VLOOKUP(Tabla_SERIED_11_6[[#This Row],[IdEstablecimiento]],'[2]Establecimiento 2023'!$A$1:$E$183,3,FALSE),0)","v":"105305-Centro de Salud Familiar Tierras Blancas"},{"$f":"IFERROR(VLOOKUP(Tabla_SERIED_11_6[[#This Row],[IdEstablecimiento]],'[2]Establecimiento 2023'!$A$1:$E$183,5,FALSE),0)","v":"04102-Coquimbo"},"15060100","2023-06-22T11:04:03",19,9,10,null,null,2,2,2,8,3,2]
[5,"5",2023,"105311",{"$f":"IFERROR(VLOOKUP(Tabla_SERIED_11_6[[#This Row],[IdEstablecimiento]],'[2]Establecimiento 2023'!$A$1:$E$183,3,FALSE),0)","v":"105311-Centro de Salud Familiar Chañaral Alto"},{"$f":"IFERROR(VLOOKUP(Tabla_SERIED_11_6[[#This Row],[IdEstablecimiento]],'[2]Establecimiento 2023'!$A$1:$E$183,5,FALSE),0)","v":"04303-Monte Patria"},"16200210","2023-06-22T11:05:55",37,37]
[5,"5",2023,"105307",{"$f":"IFERROR(VLOOKUP(Tabla_SERIED_11_6[[#This Row],[IdEstablecimiento]],'[2]Establecimiento 2023'!$A$1:$E$183,3,FALSE),0)","v":"105307-Centro de Salud Familiar Monte Patria"},{"$f":"IFERROR(VLOOKUP(Tabla_SERIED_11_6[[#This Row],[IdEstablecimiento]],'[2]Establecimiento 2023'!$A$1:$E$183,5,FALSE),0)","v":"04303-Monte Patria"},"16200100","2023-06-22T11:04:31",4,2,2]
[5,"5",2023,"105315",{"$f":"IFERROR(VLOOKUP(Tabla_SERIED_11_6[[#This Row],[IdEstablecimiento]],'[2]Establecimiento 2023'!$A$1:$E$183,3,FALSE),0)","v":"105315-Centro de Salud Familiar Cerrillos de Tamaya"},{"$f":"IFERROR(VLOOKUP(Tabla_SERIED_11_6[[#This Row],[IdEstablecimiento]],'[2]Establecimiento 2023'!$A$1:$E$183,5,FALSE),0)","v":"04301-Ovalle"},"15900050","2023-06-22T11:06:47",1,1,{"$nulls":4},1]
[5,"5",2023,"105318",{"$f":"IFERROR(VLOOKUP(Tabla_SERIED_11_6[[#This Row],[IdEstablecimiento]],'[2]Establecimiento 2023'!$A$1:$E$183,3,FALSE),0)","v":"105318-Centro de Salud Familiar El Palqui"},{"$f":"IFERROR(VLOOKUP(Tabla_SERIED_11_6[[#This Row],[IdEstablecimiento]],'[2]Establecimiento 2023'!$A$1:$E$183,5,FALSE),0)","v":"04303-Monte Patria"},"15900040","2023-06-22T11:07:13",8.8,null,8.8]
[5,"5",2023,"105433",{"$f":"IFERROR(VLOOKUP(Tabla_SERIED_11_6[[#This Row],[IdEstablecimiento]],'[2]Establecimiento 2023'!$A$1:$E$183,3,FALSE),0)","v":"105433-Posta de Salud Rural San Lorenzo (Combarbalá)"},{"$f":"IFERROR(VLOOKUP(Tabla_SERIED_11_6[[#This Row],[IdEstablecimiento]],'[2]Establecimiento 2023'!$A$1:$E$183,5,FALSE),0)","v":"04302-Combarbalá"},"16200210","2023-06-22T11:29:51",3,3]
[5,"5",2023,"105444",{"$f":"IFERROR(VLOOKUP(Tabla_SERIED_11_6[[#This Row],[IdEstablecimiento]],'[2]Establecimiento 2023'!$A$1:$E$183,3,FALSE),0)","v":"105444-Posta de Salud Rural Huintil"},{"$f":"IFERROR(VLOOKUP(Tabla_SERIED_11_6[[#This Row],[IdEstablecimiento]],'[2]Establecimiento 2023'!$A$1:$E$183,5,FALSE),0)","v":"04201-Illapel"},"15900020","2023-06-22T11:32:14",3.2,null,null,3.2]
[5,"5",2023,"105456",{"$f":"IFERROR(VLOOKUP(Tabla_SERIED_11_6[[#This Row],[IdEstablecimiento]],'[2]Establecimiento 2023'!$A$1:$E$183,3,FALSE),0)","v":"105456-Posta de Salud Rural Llimpo"},{"$f":"IFERROR(VLOOKUP(Tabla_SERIED_11_6[[#This Row],[IdEstablecimiento]],'[2]Establecimiento 2023'!$A$1:$E$183,5,FALSE),0)","v":"04204-Salamanca"},"15080016","2023-06-22T11:35:01",2,{"$nulls":5},2]
[5,"5",2023,"105324",{"$f":"IFERROR(VLOOKUP(Tabla_SERIED_11_6[[#This Row],[IdEstablecimiento]],'[2]Establecimiento 2023'!$A$1:$E$183,3,FALSE),0)","v":"105324-Centro de Salud Familiar Sotaquí"},{"$f":"IFERROR(VLOOKUP(Tabla_SERIED_11_6[[#This Row],[IdEstablecimiento]],'[2]Establecimiento 2023'!$A$1:$E$183,5,FALSE),0)","v":"04301-Ovalle"},"15080008","2023-06-22T11:15:56",60,{"$nulls":7},16,null,34,3,7]
[5,"5",2023,"105326",{"$f":"IFERROR(VLOOKUP(Tabla_SERIED_11_6[[#This Row],[IdEstablecimiento]],'[2]Establecimiento 2023'!$A$1:$E$183,3,FALSE),0)","v":"105326-Centro de Salud Familiar Villa San Rafael de Rozas"},{"$f":"IFERROR(VLOOKUP(Tabla_SERIED_11_6[[#This Row],[IdEstablecimiento]],'[2]Establecimiento 2023'!$A$1:$E$183,5,FALSE),0)","v":"04201-Illapel"},"15060100","2023-06-22T11:22:40",2,1,1,{"$nulls":3},1,1]
[5,"5",2023,"105405",{"$f":"IFERROR(VLOOKUP(Tabla_SERIED_11_6[[#This Row],[IdEstablecimiento]],'[2]Establecimiento 2023'!$A$1:$E$183,3,FALSE),0)","v":"105405-Posta de Salud Rural Guanaqueros"},{"$f":"IFERROR(VLOOKUP(Tabla_SERIED_11_6[[#This Row],[IdEstablecimiento]],'[2]Establecimiento 2023'!$A$1:$E$183,5,FALSE),0)","v":"04102-Coquimbo"},"15080008","2023-06-22T11:24:48",11,{"$nulls":7},8,null,2,null,1]
[5,"5",2023,"105465",{"$f":"IFERROR(VLOOKUP(Tabla_SERIED_11_6[[#This Row],[IdEstablecimiento]],'[2]Establecimiento 2023'!$A$1:$E$183,3,FALSE),0)","v":"105465-Posta de Salud Rural Ramadilla"},{"$f":"IFERROR(VLOOKUP(Tabla_SERIED_11_6[[#This Row],[IdEstablecimiento]],'[2]Establecimiento 2023'!$A$1:$E$183,5,FALSE),0)","v":"04302-Combarbalá"},"15010200","2023-06-22T11:37:34",16,{"$nulls":5},6,10]
[5,"5",2023,"105467",{"$f":"IFERROR(VLOOKUP(Tabla_SERIED_11_6[[#This Row],[IdEstablecimiento]],'[2]Establecimiento 2023'!$A$1:$E$183,3,FALSE),0)","v":"105467-Posta de Salud Rural Diaguitas"},{"$f":"IFERROR(VLOOKUP(Tabla_SERIED_11_6[[#This Row],[IdEstablecimiento]],'[2]Establecimiento 2023'!$A$1:$E$183,5,FALSE),0)","v":"04106-Vicuña"},"15050200","2023-06-22T11:38:03",1,1,{"$nulls":7},1]
[5,"5",2023,"105473",{"$f":"IFERROR(VLOOKUP(Tabla_SERIED_11_6[[#This Row],[IdEstablecimiento]],'[2]Establecimiento 2023'!$A$1:$E$183,3,FALSE),0)","v":"105473-Posta de Salud Rural Talcuna"},{"$f":"IFERROR(VLOOKUP(Tabla_SERIED_11_6[[#This Row],[IdEstablecimiento]],'[2]Establecimiento 2023'!$A$1:$E$183,5,FALSE),0)","v":"04106-Vicuña"},"16200210","2023-06-22T11:40:20",5,5]
[4,"5",2023,"105444",{"$f":"IFERROR(VLOOKUP(Tabla_SERIED_11_6[[#This Row],[IdEstablecimiento]],'[2]Establecimiento 2023'!$A$1:$E$183,3,FALSE),0)","v":"105444-Posta de Salud Rural Huintil"},{"$f":"IFERROR(VLOOKUP(Tabla_SERIED_11_6[[#This Row],[IdEstablecimiento]],'[2]Establecimiento 2023'!$A$1:$E$183,5,FALSE),0)","v":"04201-Illapel"},"16090300","2023-05-16T14:17:07",60,60]
[4,"5",2023,"105451",{"$f":"IFERROR(VLOOKUP(Tabla_SERIED_11_6[[#This Row],[IdEstablecimiento]],'[2]Establecimiento 2023'!$A$1:$E$183,3,FALSE),0)","v":"105451-Posta de Salud Rural Agua Fría"},{"$f":"IFERROR(VLOOKUP(Tabla_SERIED_11_6[[#This Row],[IdEstablecimiento]],'[2]Establecimiento 2023'!$A$1:$E$183,5,FALSE),0)","v":"04202-Canela"},"15080014","2023-05-16T14:18:49",2,{"$nulls":4},2]
[4,"5",2023,"105463",{"$f":"IFERROR(VLOOKUP(Tabla_SERIED_11_6[[#This Row],[IdEstablecimiento]],'[2]Establecimiento 2023'!$A$1:$E$183,3,FALSE),0)","v":"105463-Posta de Salud Rural Quilitapia"},{"$f":"IFERROR(VLOOKUP(Tabla_SERIED_11_6[[#This Row],[IdEstablecimiento]],'[2]Establecimiento 2023'!$A$1:$E$183,5,FALSE),0)","v":"04302-Combarbalá"},"15900010","2023-05-16T14:21:48",5.6,null,1.6,4]
[5,"5",2023,"105425",{"$f":"IFERROR(VLOOKUP(Tabla_SERIED_11_6[[#This Row],[IdEstablecimiento]],'[2]Establecimiento 2023'!$A$1:$E$183,3,FALSE),0)","v":"105425-Posta de Salud Rural Chilecito"},{"$f":"IFERROR(VLOOKUP(Tabla_SERIED_11_6[[#This Row],[IdEstablecimiento]],'[2]Establecimiento 2023'!$A$1:$E$183,5,FALSE),0)","v":"04303-Monte Patria"},"16200210","2023-06-22T11:28:26",2,2]
[5,"5",2023,"105434",{"$f":"IFERROR(VLOOKUP(Tabla_SERIED_11_6[[#This Row],[IdEstablecimiento]],'[2]Establecimiento 2023'!$A$1:$E$183,3,FALSE),0)","v":"105434-Posta de Salud Rural San Marcos (Combarbalá)"},{"$f":"IFERROR(VLOOKUP(Tabla_SERIED_11_6[[#This Row],[IdEstablecimiento]],'[2]Establecimiento 2023'!$A$1:$E$183,5,FALSE),0)","v":"04302-Combarbalá"},"15010500","2023-06-22T11:30:03",4,null,null,4]
[5,"5",2023,"105448",{"$f":"IFERROR(VLOOKUP(Tabla_SERIED_11_6[[#This Row],[IdEstablecimiento]],'[2]Establecimiento 2023'!$A$1:$E$183,3,FALSE),0)","v":"105448-Posta de Salud Rural Santa Virginia"},{"$f":"IFERROR(VLOOKUP(Tabla_SERIED_11_6[[#This Row],[IdEstablecimiento]],'[2]Establecimiento 2023'!$A$1:$E$183,5,FALSE),0)","v":"04201-Illapel"},"15010200","2023-06-22T11:33:11",12,{"$nulls":5},8,4]
[5,"5",2023,"105319",{"$f":"IFERROR(VLOOKUP(Tabla_SERIED_11_6[[#This Row],[IdEstablecimiento]],'[2]Establecimiento 2023'!$A$1:$E$183,3,FALSE),0)","v":"105319-Centro de Salud Familiar Cardenal Raúl Silva Henríquez de La Serena"},{"$f":"IFERROR(VLOOKUP(Tabla_SERIED_11_6[[#This Row],[IdEstablecimiento]],'[2]Establecimiento 2023'!$A$1:$E$183,5,FALSE),0)","v":"04101-La Serena"},"16100100","2023-06-22T12:07:03",5,3,2]
[5,"5",2023,"105324",{"$f":"IFERROR(VLOOKUP(Tabla_SERIED_11_6[[#This Row],[IdEstablecimiento]],'[2]Establecimiento 2023'!$A$1:$E$183,3,FALSE),0)","v":"105324-Centro de Salud Familiar Sotaquí"},{"$f":"IFERROR(VLOOKUP(Tabla_SERIED_11_6[[#This Row],[IdEstablecimiento]],'[2]Establecimiento 2023'!$A$1:$E$183,5,FALSE),0)","v":"04301-Ovalle"},"16090300","2023-06-22T11:15:56",307,307]
[5,"5",2023,"105483",{"$f":"IFERROR(VLOOKUP(Tabla_SERIED_11_6[[#This Row],[IdEstablecimiento]],'[2]Establecimiento 2023'!$A$1:$E$183,3,FALSE),0)","v":"105483-Posta de Salud Rural Los Rulos"},{"$f":"IFERROR(VLOOKUP(Tabla_SERIED_11_6[[#This Row],[IdEstablecimiento]],'[2]Establecimiento 2023'!$A$1:$E$183,5,FALSE),0)","v":"04202-Canela"},"16200220","2023-06-22T11:43:37",11,4,7]
[5,"5",2023,"105505",{"$f":"IFERROR(VLOOKUP(Tabla_SERIED_11_6[[#This Row],[IdEstablecimiento]],'[2]Establecimiento 2023'!$A$1:$E$183,3,FALSE),0)","v":"105505-Posta de Salud Rural Los Choros"},{"$f":"IFERROR(VLOOKUP(Tabla_SERIED_11_6[[#This Row],[IdEstablecimiento]],'[2]Establecimiento 2023'!$A$1:$E$183,5,FALSE),0)","v":"04104-La Higuera"},"15010100","2023-07-19T15:28:10",10,{"$nulls":3},4,6]
[5,"5",2023,"105510",{"$f":"IFERROR(VLOOKUP(Tabla_SERIED_11_6[[#This Row],[IdEstablecimiento]],'[2]Establecimiento 2023'!$A$1:$E$183,3,FALSE),0)","v":"105510-Posta de Salud Rural Recoleta"},{"$f":"IFERROR(VLOOKUP(Tabla_SERIED_11_6[[#This Row],[IdEstablecimiento]],'[2]Establecimiento 2023'!$A$1:$E$183,5,FALSE),0)","v":"04301-Ovalle"},"15900010","2023-06-22T11:49:19",5.4,null,null,5.4]
[5,"5",2023,"105413",{"$f":"IFERROR(VLOOKUP(Tabla_SERIED_11_6[[#This Row],[IdEstablecimiento]],'[2]Establecimiento 2023'!$A$1:$E$183,3,FALSE),0)","v":"105413-Posta de Salud Rural Samo Alto"},{"$f":"IFERROR(VLOOKUP(Tabla_SERIED_11_6[[#This Row],[IdEstablecimiento]],'[2]Establecimiento 2023'!$A$1:$E$183,5,FALSE),0)","v":"04305-Rio Hurtado"},"15080008","2023-06-22T11:26:28",2,{"$nulls":9},2]
[5,"5",2023,"105432",{"$f":"IFERROR(VLOOKUP(Tabla_SERIED_11_6[[#This Row],[IdEstablecimiento]],'[2]Establecimiento 2023'!$A$1:$E$183,3,FALSE),0)","v":"105432-Posta de Salud Rural Rapel (Monte Patria)"},{"$f":"IFERROR(VLOOKUP(Tabla_SERIED_11_6[[#This Row],[IdEstablecimiento]],'[2]Establecimiento 2023'!$A$1:$E$183,5,FALSE),0)","v":"04303-Monte Patria"},"15080008","2023-06-22T11:29:37",4,{"$nulls":7},2,null,1,1]
[5,"5",2023,"105105",{"$f":"IFERROR(VLOOKUP(Tabla_SERIED_11_6[[#This Row],[IdEstablecimiento]],'[2]Establecimiento 2023'!$A$1:$E$183,3,FALSE),0)","v":"105105-Hospital San Juan de Dios (Combarbalá)"},{"$f":"IFERROR(VLOOKUP(Tabla_SERIED_11_6[[#This Row],[IdEstablecimiento]],'[2]Establecimiento 2023'!$A$1:$E$183,5,FALSE),0)","v":"105105-Hospital Combarbalá"},"16200210","2023-06-22T11:01:14",34,34]
[5,"5",2023,"105300",{"$f":"IFERROR(VLOOKUP(Tabla_SERIED_11_6[[#This Row],[IdEstablecimiento]],'[2]Establecimiento 2023'!$A$1:$E$183,3,FALSE),0)","v":"105300-Centro de Salud Familiar Cardenal Caro"},{"$f":"IFERROR(VLOOKUP(Tabla_SERIED_11_6[[#This Row],[IdEstablecimiento]],'[2]Establecimiento 2023'!$A$1:$E$183,5,FALSE),0)","v":"04101-La Serena"},"15901400","2023-06-22T11:02:44",24,15,9,null,2,10,10,2]
[5,"5",2023,"105301",{"$f":"IFERROR(VLOOKUP(Tabla_SERIED_11_6[[#This Row],[IdEstablecimiento]],'[2]Establecimiento 2023'!$A$1:$E$183,3,FALSE),0)","v":"105301-Centro de Salud Familiar Las Compañías"},{"$f":"IFERROR(VLOOKUP(Tabla_SERIED_11_6[[#This Row],[IdEstablecimiento]],'[2]Establecimiento 2023'!$A$1:$E$183,5,FALSE),0)","v":"04101-La Serena"},"15050500","2023-06-22T11:02:59",1,1,{"$nulls":3},1]
[5,"5",2023,"105444",{"$f":"IFERROR(VLOOKUP(Tabla_SERIED_11_6[[#This Row],[IdEstablecimiento]],'[2]Establecimiento 2023'!$A$1:$E$183,3,FALSE),0)","v":"105444-Posta de Salud Rural Huintil"},{"$f":"IFERROR(VLOOKUP(Tabla_SERIED_11_6[[#This Row],[IdEstablecimiento]],'[2]Establecimiento 2023'!$A$1:$E$183,5,FALSE),0)","v":"04201-Illapel"},"15010100","2023-06-22T11:32:14",2,{"$nulls":4},2]
[5,"5",2023,"105722",{"$f":"IFERROR(VLOOKUP(Tabla_SERIED_11_6[[#This Row],[IdEstablecimiento]],'[2]Establecimiento 2023'!$A$1:$E$183,3,FALSE),0)","v":"105722-Centro Comunitario de Salud Familiar San José de la Dehesa"},{"$f":"IFERROR(VLOOKUP(Tabla_SERIED_11_6[[#This Row],[IdEstablecimiento]],'[2]Establecimiento 2023'!$A$1:$E$183,5,FALSE),0)","v":"04301-Ovalle"},"16200220","2023-06-22T11:51:52",18,7,11]
[5,"5",2023,"200402",{"$f":"IFERROR(VLOOKUP(Tabla_SERIED_11_6[[#This Row],[IdEstablecimiento]],'[2]Establecimiento 2023'!$A$1:$E$183,3,FALSE),0)","v":"200402-Centro Comunitario de Salud Familiar Arcos de Pinamar"},{"$f":"IFERROR(VLOOKUP(Tabla_SERIED_11_6[[#This Row],[IdEstablecimiento]],'[2]Establecimiento 2023'!$A$1:$E$183,5,FALSE),0)","v":"04101-La Serena"},"15900030","2023-06-22T11:53:53",8,3.2,null,4.8]
[5,"5",2023,"105465",{"$f":"IFERROR(VLOOKUP(Tabla_SERIED_11_6[[#This Row],[IdEstablecimiento]],'[2]Establecimiento 2023'!$A$1:$E$183,3,FALSE),0)","v":"105465-Posta de Salud Rural Ramadilla"},{"$f":"IFERROR(VLOOKUP(Tabla_SERIED_11_6[[#This Row],[IdEstablecimiento]],'[2]Establecimiento 2023'!$A$1:$E$183,5,FALSE),0)","v":"04302-Combarbalá"},"16200220","2023-06-22T11:37:34",8,4,4]
[5,"5",2023,"105468",{"$f":"IFERROR(VLOOKUP(Tabla_SERIED_11_6[[#This Row],[IdEstablecimiento]],'[2]Establecimiento 2023'!$A$1:$E$183,3,FALSE),0)","v":"105468-Posta de Salud Rural El Molle"},{"$f":"IFERROR(VLOOKUP(Tabla_SERIED_11_6[[#This Row],[IdEstablecimiento]],'[2]Establecimiento 2023'!$A$1:$E$183,5,FALSE),0)","v":"04106-Vicuña"},"16200210","2023-06-22T11:38:17",3,3]
[5,"5",2023,"105480",{"$f":"IFERROR(VLOOKUP(Tabla_SERIED_11_6[[#This Row],[IdEstablecimiento]],'[2]Establecimiento 2023'!$A$1:$E$183,3,FALSE),0)","v":"105480-Posta de Salud Rural Quilimarí"},{"$f":"IFERROR(VLOOKUP(Tabla_SERIED_11_6[[#This Row],[IdEstablecimiento]],'[2]Establecimiento 2023'!$A$1:$E$183,5,FALSE),0)","v":"04203-Los Vilos"},"16200220","2023-06-22T11:42:07",2,2]
[5,"5",2023,"105452",{"$f":"IFERROR(VLOOKUP(Tabla_SERIED_11_6[[#This Row],[IdEstablecimiento]],'[2]Establecimiento 2023'!$A$1:$E$183,3,FALSE),0)","v":"105452-Posta de Salud Rural Cuncumén(Salamanca)"},{"$f":"IFERROR(VLOOKUP(Tabla_SERIED_11_6[[#This Row],[IdEstablecimiento]],'[2]Establecimiento 2023'!$A$1:$E$183,5,FALSE),0)","v":"04204-Salamanca"},"15900010","2023-06-22T11:34:05",10.4,null,null,10.4]
[5,"5",2023,"105458",{"$f":"IFERROR(VLOOKUP(Tabla_SERIED_11_6[[#This Row],[IdEstablecimiento]],'[2]Establecimiento 2023'!$A$1:$E$183,3,FALSE),0)","v":"105458-Posta de Salud Rural Tahuinco"},{"$f":"IFERROR(VLOOKUP(Tabla_SERIED_11_6[[#This Row],[IdEstablecimiento]],'[2]Establecimiento 2023'!$A$1:$E$183,5,FALSE),0)","v":"04204-Salamanca"},"16200220","2023-06-22T11:35:28",4,1,3]
[5,"5",2023,"105466",{"$f":"IFERROR(VLOOKUP(Tabla_SERIED_11_6[[#This Row],[IdEstablecimiento]],'[2]Establecimiento 2023'!$A$1:$E$183,3,FALSE),0)","v":"105466-Posta de Salud Rural Valle Hermoso"},{"$f":"IFERROR(VLOOKUP(Tabla_SERIED_11_6[[#This Row],[IdEstablecimiento]],'[2]Establecimiento 2023'!$A$1:$E$183,5,FALSE),0)","v":"04302-Combarbalá"},"16090300","2023-06-22T11:37:47",29,29]
[4,"5",2023,"105472",{"$f":"IFERROR(VLOOKUP(Tabla_SERIED_11_6[[#This Row],[IdEstablecimiento]],'[2]Establecimiento 2023'!$A$1:$E$183,3,FALSE),0)","v":"105472-Posta de Salud Rural Rivadavia"},{"$f":"IFERROR(VLOOKUP(Tabla_SERIED_11_6[[#This Row],[IdEstablecimiento]],'[2]Establecimiento 2023'!$A$1:$E$183,5,FALSE),0)","v":"04106-Vicuña"},"16090300","2023-05-16T14:24:06",59,59]
[4,"5",2023,"105482",{"$f":"IFERROR(VLOOKUP(Tabla_SERIED_11_6[[#This Row],[IdEstablecimiento]],'[2]Establecimiento 2023'!$A$1:$E$183,3,FALSE),0)","v":"105482-Posta de Salud Rural Canela Alta"},{"$f":"IFERROR(VLOOKUP(Tabla_SERIED_11_6[[#This Row],[IdEstablecimiento]],'[2]Establecimiento 2023'!$A$1:$E$183,5,FALSE),0)","v":"04202-Canela"},"16100300","2023-05-16T14:26:20",90,40,50]
[4,"5",2023,"105498",{"$f":"IFERROR(VLOOKUP(Tabla_SERIED_11_6[[#This Row],[IdEstablecimiento]],'[2]Establecimiento 2023'!$A$1:$E$183,3,FALSE),0)","v":"105498-Posta de Salud Rural Quebrada Linares"},{"$f":"IFERROR(VLOOKUP(Tabla_SERIED_11_6[[#This Row],[IdEstablecimiento]],'[2]Establecimiento 2023'!$A$1:$E$183,5,FALSE),0)","v":"04202-Canela"},"16200210","2023-05-16T14:30:01",4,4]
[5,"5",2023,"105480",{"$f":"IFERROR(VLOOKUP(Tabla_SERIED_11_6[[#This Row],[IdEstablecimiento]],'[2]Establecimiento 2023'!$A$1:$E$183,3,FALSE),0)","v":"105480-Posta de Salud Rural Quilimarí"},{"$f":"IFERROR(VLOOKUP(Tabla_SERIED_11_6[[#This Row],[IdEstablecimiento]],'[2]Establecimiento 2023'!$A$1:$E$183,5,FALSE),0)","v":"04203-Los Vilos"},"15080008","2023-06-22T11:42:07",8,{"$nulls":7},5,null,2,null,1]
[5,"5",2023,"105486",{"$f":"IFERROR(VLOOKUP(Tabla_SERIED_11_6[[#This Row],[IdEstablecimiento]],'[2]Establecimiento 2023'!$A$1:$E$183,3,FALSE),0)","v":"105486-Posta de Salud Rural Tunga Sur"},{"$f":"IFERROR(VLOOKUP(Tabla_SERIED_11_6[[#This Row],[IdEstablecimiento]],'[2]Establecimiento 2023'!$A$1:$E$183,5,FALSE),0)","v":"04201-Illapel"},"15010100","2023-06-22T11:44:29",4,{"$nulls":3},2,2]
[5,"5",2023,"105503",{"$f":"IFERROR(VLOOKUP(Tabla_SERIED_11_6[[#This Row],[IdEstablecimiento]],'[2]Establecimiento 2023'!$A$1:$E$183,3,FALSE),0)","v":"105503-Posta de Salud Rural Tabaqueros"},{"$f":"IFERROR(VLOOKUP(Tabla_SERIED_11_6[[#This Row],[IdEstablecimiento]],'[2]Establecimiento 2023'!$A$1:$E$183,5,FALSE),0)","v":"04305-Rio Hurtado"},"15050100","2023-06-22T11:47:53",5,2,3,{"$nulls":3},1,null,2,2]
[5,"5",2023,"105507",{"$f":"IFERROR(VLOOKUP(Tabla_SERIED_11_6[[#This Row],[IdEstablecimiento]],'[2]Establecimiento 2023'!$A$1:$E$183,3,FALSE),0)","v":"105507-Posta de Salud Rural Huamalata"},{"$f":"IFERROR(VLOOKUP(Tabla_SERIED_11_6[[#This Row],[IdEstablecimiento]],'[2]Establecimiento 2023'!$A$1:$E$183,5,FALSE),0)","v":"04301-Ovalle"},"15900010","2023-06-22T11:48:39",1.8,null,0.9,0.9]
[5,"5",2023,"200499",{"$f":"IFERROR(VLOOKUP(Tabla_SERIED_11_6[[#This Row],[IdEstablecimiento]],'[2]Establecimiento 2023'!$A$1:$E$183,3,FALSE),0)","v":"200499-Centro de Salud Familiar Rural Pan de Azúcar"},{"$f":"IFERROR(VLOOKUP(Tabla_SERIED_11_6[[#This Row],[IdEstablecimiento]],'[2]Establecimiento 2023'!$A$1:$E$183,5,FALSE),0)","v":"04102-Coquimbo"},"15010200","2023-06-22T11:54:18",285,{"$nulls":4},2,154,129]
[5,"5",2023,"105108",{"$f":"IFERROR(VLOOKUP(Tabla_SERIED_11_6[[#This Row],[IdEstablecimiento]],'[2]Establecimiento 2023'!$A$1:$E$183,3,FALSE),0)","v":"105108-Hospital San Pedro (Los Vilos)"},{"$f":"IFERROR(VLOOKUP(Tabla_SERIED_11_6[[#This Row],[IdEstablecimiento]],'[2]Establecimiento 2023'!$A$1:$E$183,5,FALSE),0)","v":"105108-Hospital Los Vilos"},"15030100","2023-06-22T11:02:30",8.8,4,null,4.8]
[5,"5",2023,"105302",{"$f":"IFERROR(VLOOKUP(Tabla_SERIED_11_6[[#This Row],[IdEstablecimiento]],'[2]Establecimiento 2023'!$A$1:$E$183,3,FALSE),0)","v":"105302-Centro de Salud Familiar Pedro Aguirre Cerda"},{"$f":"IFERROR(VLOOKUP(Tabla_SERIED_11_6[[#This Row],[IdEstablecimiento]],'[2]Establecimiento 2023'!$A$1:$E$183,5,FALSE),0)","v":"04101-La Serena"},"15060100","2023-06-22T11:03:11",29,15,14,null,1,5,2,5,5,9,1,null,null,1]
[4,"5",2023,"200366",{"$f":"IFERROR(VLOOKUP(Tabla_SERIED_11_6[[#This Row],[IdEstablecimiento]],'[2]Establecimiento 2023'!$A$1:$E$183,3,FALSE),0)","v":"200366-Centro de Salud Familiar Urbano de Illapel"},{"$f":"IFERROR(VLOOKUP(Tabla_SERIED_11_6[[#This Row],[IdEstablecimiento]],'[2]Establecimiento 2023'!$A$1:$E$183,5,FALSE),0)","v":"04201-Illapel"},"15050100","2023-05-16T14:37:44",308,125,183,3,3,10,36,47,73,72,44,null,10,1,9]
[4,"5",2023,"105104",{"$f":"IFERROR(VLOOKUP(Tabla_SERIED_11_6[[#This Row],[IdEstablecimiento]],'[2]Establecimiento 2023'!$A$1:$E$183,3,FALSE),0)","v":"105104-Hospital de Salamanca"},{"$f":"IFERROR(VLOOKUP(Tabla_SERIED_11_6[[#This Row],[IdEstablecimiento]],'[2]Establecimiento 2023'!$A$1:$E$183,5,FALSE),0)","v":"105104-Hospital Salamanca"},"15030100","2023-05-16T11:48:59",3.2,null,3.2]
[4,"5",2023,"105301",{"$f":"IFERROR(VLOOKUP(Tabla_SERIED_11_6[[#This Row],[IdEstablecimiento]],'[2]Establecimiento 2023'!$A$1:$E$183,3,FALSE),0)","v":"105301-Centro de Salud Familiar Las Compañías"},{"$f":"IFERROR(VLOOKUP(Tabla_SERIED_11_6[[#This Row],[IdEstablecimiento]],'[2]Establecimiento 2023'!$A$1:$E$183,5,FALSE),0)","v":"04101-La Serena"},"15060100","2023-05-16T11:51:38",6,1,5,null,null,2,1,1,1,1]
[4,"5",2023,"105304",{"$f":"IFERROR(VLOOKUP(Tabla_SERIED_11_6[[#This Row],[IdEstablecimiento]],'[2]Establecimiento 2023'!$A$1:$E$183,3,FALSE),0)","v":"105304-Centro de Salud Familiar Santa Cecilia"},{"$f":"IFERROR(VLOOKUP(Tabla_SERIED_11_6[[#This Row],[IdEstablecimiento]],'[2]Establecimiento 2023'!$A$1:$E$183,5,FALSE),0)","v":"04102-Coquimbo"},"15900030","2023-05-16T11:52:18",3.2,0,0,3.2,0,0]
[4,"5",2023,"105304",{"$f":"IFERROR(VLOOKUP(Tabla_SERIED_11_6[[#This Row],[IdEstablecimiento]],'[2]Establecimiento 2023'!$A$1:$E$183,3,FALSE),0)","v":"105304-Centro de Salud Familiar Santa Cecilia"},{"$f":"IFERROR(VLOOKUP(Tabla_SERIED_11_6[[#This Row],[IdEstablecimiento]],'[2]Establecimiento 2023'!$A$1:$E$183,5,FALSE),0)","v":"04102-Coquimbo"},"15901500","2023-05-16T11:52:18",6.4,0,0,6.4]
[5,"5",2023,"105104",{"$f":"IFERROR(VLOOKUP(Tabla_SERIED_11_6[[#This Row],[IdEstablecimiento]],'[2]Establecimiento 2023'!$A$1:$E$183,3,FALSE),0)","v":"105104-Hospital de Salamanca"},{"$f":"IFERROR(VLOOKUP(Tabla_SERIED_11_6[[#This Row],[IdEstablecimiento]],'[2]Establecimiento 2023'!$A$1:$E$183,5,FALSE),0)","v":"105104-Hospital Salamanca"},"15080014","2023-06-22T11:00:55",156,{"$nulls":3},78,78]
[4,"5",2023,"105435",{"$f":"IFERROR(VLOOKUP(Tabla_SERIED_11_6[[#This Row],[IdEstablecimiento]],'[2]Establecimiento 2023'!$A$1:$E$183,3,FALSE),0)","v":"105435-Posta de Salud Rural Tulahuén"},{"$f":"IFERROR(VLOOKUP(Tabla_SERIED_11_6[[#This Row],[IdEstablecimiento]],'[2]Establecimiento 2023'!$A$1:$E$183,5,FALSE),0)","v":"04303-Monte Patria"},"15050100","2023-05-16T12:27:36",23,5,18,{"$nulls":3},1,1,7,5,7,null,1,null,1]
[4,"5",2023,"105441",{"$f":"IFERROR(VLOOKUP(Tabla_SERIED_11_6[[#This Row],[IdEstablecimiento]],'[2]Establecimiento 2023'!$A$1:$E$183,3,FALSE),0)","v":"105441-Posta de Salud Rural Manquehua"},{"$f":"IFERROR(VLOOKUP(Tabla_SERIED_11_6[[#This Row],[IdEstablecimiento]],'[2]Establecimiento 2023'!$A$1:$E$183,5,FALSE),0)","v":"04302-Combarbalá"},"15080008","2023-05-16T12:29:42",2,{"$nulls":7},1,{"$nulls":3},1]
[5,"5",2023,"105479",{"$f":"IFERROR(VLOOKUP(Tabla_SERIED_11_6[[#This Row],[IdEstablecimiento]],'[2]Establecimiento 2023'!$A$1:$E$183,3,FALSE),0)","v":"105479-Posta de Salud Rural Guangualí"},{"$f":"IFERROR(VLOOKUP(Tabla_SERIED_11_6[[#This Row],[IdEstablecimiento]],'[2]Establecimiento 2023'!$A$1:$E$183,5,FALSE),0)","v":"04203-Los Vilos"},"15080008","2023-06-22T11:41:54",1,{"$nulls":7},1]
[5,"5",2023,"105701",{"$f":"IFERROR(VLOOKUP(Tabla_SERIED_11_6[[#This Row],[IdEstablecimiento]],'[2]Establecimiento 2023'!$A$1:$E$183,3,FALSE),0)","v":"105701-Centro Comunitario de Salud Familiar Villa Alemania"},{"$f":"IFERROR(VLOOKUP(Tabla_SERIED_11_6[[#This Row],[IdEstablecimiento]],'[2]Establecimiento 2023'!$A$1:$E$183,5,FALSE),0)","v":"04101-La Serena"},"16200210","2023-06-22T11:50:30",21,21]
[5,"5",2023,"105702",{"$f":"IFERROR(VLOOKUP(Tabla_SERIED_11_6[[#This Row],[IdEstablecimiento]],'[2]Establecimiento 2023'!$A$1:$E$183,3,FALSE),0)","v":"105702-Centro Comunitario de Salud Familiar Lambert"},{"$f":"IFERROR(VLOOKUP(Tabla_SERIED_11_6[[#This Row],[IdEstablecimiento]],'[2]Establecimiento 2023'!$A$1:$E$183,5,FALSE),0)","v":"04101-La Serena"},"15010500","2023-06-22T11:50:44",4,null,null,2,null,null,2]
[5,"5",2023,"200499",{"$f":"IFERROR(VLOOKUP(Tabla_SERIED_11_6[[#This Row],[IdEstablecimiento]],'[2]Establecimiento 2023'!$A$1:$E$183,3,FALSE),0)","v":"200499-Centro de Salud Familiar Rural Pan de Azúcar"},{"$f":"IFERROR(VLOOKUP(Tabla_SERIED_11_6[[#This Row],[IdEstablecimiento]],'[2]Establecimiento 2023'!$A$1:$E$183,5,FALSE),0)","v":"04102-Coquimbo"},"15080014","2023-06-22T11:54:18",170,{"$nulls":3},76,94]
[4,"5",2023,"105309",{"$f":"IFERROR(VLOOKUP(Tabla_SERIED_11_6[[#This Row],[IdEstablecimiento]],'[2]Establecimiento 2023'!$A$1:$E$183,3,FALSE),0)","v":"105309-Centro de Salud Familiar Canela"},{"$f":"IFERROR(VLOOKUP(Tabla_SERIED_11_6[[#This Row],[IdEstablecimiento]],'[2]Establecimiento 2023'!$A$1:$E$183,5,FALSE),0)","v":"04202-Canela"},"15010200","2023-05-16T11:53:32",138,{"$nulls":4},2,78,58]
[4,"5",2023,"105309",{"$f":"IFERROR(VLOOKUP(Tabla_SERIED_11_6[[#This Row],[IdEstablecimiento]],'[2]Establecimiento 2023'!$A$1:$E$183,3,FALSE),0)","v":"105309-Centro de Salud Familiar Canela"},{"$f":"IFERROR(VLOOKUP(Tabla_SERIED_11_6[[#This Row],[IdEstablecimiento]],'[2]Establecimiento 2023'!$A$1:$E$183,5,FALSE),0)","v":"04202-Canela"},"16090600","2023-05-16T11:53:32",1,1]
[4,"5",2023,"105318",{"$f":"IFERROR(VLOOKUP(Tabla_SERIED_11_6[[#This Row],[IdEstablecimiento]],'[2]Establecimiento 2023'!$A$1:$E$183,3,FALSE),0)","v":"105318-Centro de Salud Familiar El Palqui"},{"$f":"IFERROR(VLOOKUP(Tabla_SERIED_11_6[[#This Row],[IdEstablecimiento]],'[2]Establecimiento 2023'!$A$1:$E$183,5,FALSE),0)","v":"04303-Monte Patria"},"15050100","2023-05-16T11:55:57",270,70,200,0,3,9,35,26,67,63,30,null,13,7,17]
[5,"5",2023,"105108",{"$f":"IFERROR(VLOOKUP(Tabla_SERIED_11_6[[#This Row],[IdEstablecimiento]],'[2]Establecimiento 2023'!$A$1:$E$183,3,FALSE),0)","v":"105108-Hospital San Pedro (Los Vilos)"},{"$f":"IFERROR(VLOOKUP(Tabla_SERIED_11_6[[#This Row],[IdEstablecimiento]],'[2]Establecimiento 2023'!$A$1:$E$183,5,FALSE),0)","v":"105108-Hospital Los Vilos"},"16200210","2023-06-22T11:02:30",1,1]
[5,"5",2023,"105305",{"$f":"IFERROR(VLOOKUP(Tabla_SERIED_11_6[[#This Row],[IdEstablecimiento]],'[2]Establecimiento 2023'!$A$1:$E$183,3,FALSE),0)","v":"105305-Centro de Salud Familiar Tierras Blancas"},{"$f":"IFERROR(VLOOKUP(Tabla_SERIED_11_6[[#This Row],[IdEstablecimiento]],'[2]Establecimiento 2023'!$A$1:$E$183,5,FALSE),0)","v":"04102-Coquimbo"},"15900040","2023-06-22T11:04:03",3.6,null,null,3.6]
[5,"5",2023,"105311",{"$f":"IFERROR(VLOOKUP(Tabla_SERIED_11_6[[#This Row],[IdEstablecimiento]],'[2]Establecimiento 2023'!$A$1:$E$183,3,FALSE),0)","v":"105311-Centro de Salud Familiar Chañaral Alto"},{"$f":"IFERROR(VLOOKUP(Tabla_SERIED_11_6[[#This Row],[IdEstablecimiento]],'[2]Establecimiento 2023'!$A$1:$E$183,5,FALSE),0)","v":"04303-Monte Patria"},"15900050","2023-06-22T11:05:55",4,2,2,{"$nulls":3},4]
[4,"5",2023,"105486",{"$f":"IFERROR(VLOOKUP(Tabla_SERIED_11_6[[#This Row],[IdEstablecimiento]],'[2]Establecimiento 2023'!$A$1:$E$183,3,FALSE),0)","v":"105486-Posta de Salud Rural Tunga Sur"},{"$f":"IFERROR(VLOOKUP(Tabla_SERIED_11_6[[#This Row],[IdEstablecimiento]],'[2]Establecimiento 2023'!$A$1:$E$183,5,FALSE),0)","v":"04201-Illapel"},"16100300","2023-05-16T14:27:08",60,27,33]
[5,"5",2023,"105105",{"$f":"IFERROR(VLOOKUP(Tabla_SERIED_11_6[[#This Row],[IdEstablecimiento]],'[2]Establecimiento 2023'!$A$1:$E$183,3,FALSE),0)","v":"105105-Hospital San Juan de Dios (Combarbalá)"},{"$f":"IFERROR(VLOOKUP(Tabla_SERIED_11_6[[#This Row],[IdEstablecimiento]],'[2]Establecimiento 2023'!$A$1:$E$183,5,FALSE),0)","v":"105105-Hospital Combarbalá"},"15900040","2023-06-22T11:01:14",8.4,null,null,8.4]
[5,"5",2023,"105302",{"$f":"IFERROR(VLOOKUP(Tabla_SERIED_11_6[[#This Row],[IdEstablecimiento]],'[2]Establecimiento 2023'!$A$1:$E$183,3,FALSE),0)","v":"105302-Centro de Salud Familiar Pedro Aguirre Cerda"},{"$f":"IFERROR(VLOOKUP(Tabla_SERIED_11_6[[#This Row],[IdEstablecimiento]],'[2]Establecimiento 2023'!$A$1:$E$183,5,FALSE),0)","v":"04101-La Serena"},"15010500","2023-06-22T11:03:11",8,null,null,4,2,null,null,2]
[5,"5",2023,"105304",{"$f":"IFERROR(VLOOKUP(Tabla_SERIED_11_6[[#This Row],[IdEstablecimiento]],'[2]Establecimiento 2023'!$A$1:$E$183,3,FALSE),0)","v":"105304-Centro de Salud Familiar Santa Cecilia"},{"$f":"IFERROR(VLOOKUP(Tabla_SERIED_11_6[[#This Row],[IdEstablecimiento]],'[2]Establecimiento 2023'!$A$1:$E$183,5,FALSE),0)","v":"04102-Coquimbo"},"15010200","2023-06-22T11:03:46",470,{"$nulls":4},16,248,206]
[5,"5",2023,"105309",{"$f":"IFERROR(VLOOKUP(Tabla_SERIED_11_6[[#This Row],[IdEstablecimiento]],'[2]Establecimiento 2023'!$A$1:$E$183,3,FALSE),0)","v":"105309-Centro de Salud Familiar Canela"},{"$f":"IFERROR(VLOOKUP(Tabla_SERIED_11_6[[#This Row],[IdEstablecimiento]],'[2]Establecimiento 2023'!$A$1:$E$183,5,FALSE),0)","v":"04202-Canela"},"15080009","2023-06-22T11:05:29",3,{"$nulls":8},3]
[5,"5",2023,"105315",{"$f":"IFERROR(VLOOKUP(Tabla_SERIED_11_6[[#This Row],[IdEstablecimiento]],'[2]Establecimiento 2023'!$A$1:$E$183,3,FALSE),0)","v":"105315-Centro de Salud Familiar Cerrillos de Tamaya"},{"$f":"IFERROR(VLOOKUP(Tabla_SERIED_11_6[[#This Row],[IdEstablecimiento]],'[2]Establecimiento 2023'!$A$1:$E$183,5,FALSE),0)","v":"04301-Ovalle"},"15080008","2023-06-22T11:06:47",81,{"$nulls":7},32,null,38,8,3]
[5,"5",2023,"105318",{"$f":"IFERROR(VLOOKUP(Tabla_SERIED_11_6[[#This Row],[IdEstablecimiento]],'[2]Establecimiento 2023'!$A$1:$E$183,3,FALSE),0)","v":"105318-Centro de Salud Familiar El Palqui"},{"$f":"IFERROR(VLOOKUP(Tabla_SERIED_11_6[[#This Row],[IdEstablecimiento]],'[2]Establecimiento 2023'!$A$1:$E$183,5,FALSE),0)","v":"04303-Monte Patria"},"15080009","2023-06-22T11:07:13",3,{"$nulls":8},3]
[4,"5",2023,"105302",{"$f":"IFERROR(VLOOKUP(Tabla_SERIED_11_6[[#This Row],[IdEstablecimiento]],'[2]Establecimiento 2023'!$A$1:$E$183,3,FALSE),0)","v":"105302-Centro de Salud Familiar Pedro Aguirre Cerda"},{"$f":"IFERROR(VLOOKUP(Tabla_SERIED_11_6[[#This Row],[IdEstablecimiento]],'[2]Establecimiento 2023'!$A$1:$E$183,5,FALSE),0)","v":"04101-La Serena"},"16100300","2023-05-16T11:51:48",625,243,382]
[5,"5",2023,"105471",{"$f":"IFERROR(VLOOKUP(Tabla_SERIED_11_6[[#This Row],[IdEstablecimiento]],'[2]Establecimiento 2023'!$A$1:$E$183,3,FALSE),0)","v":"105471-Posta de Salud Rural Peralillo Vicuña"},{"$f":"IFERROR(VLOOKUP(Tabla_SERIED_11_6[[#This Row],[IdEstablecimiento]],'[2]Establecimiento 2023'!$A$1:$E$183,5,FALSE),0)","v":"04106-Vicuña"},"15010500","2023-06-22T11:39:34",4,{"$nulls":3},2,null,2]
[5,"5",2023,"105475",{"$f":"IFERROR(VLOOKUP(Tabla_SERIED_11_6[[#This Row],[IdEstablecimiento]],'[2]Establecimiento 2023'!$A$1:$E$183,3,FALSE),0)","v":"105475-Posta de Salud Rural Horcón (Paiguano)"},{"$f":"IFERROR(VLOOKUP(Tabla_SERIED_11_6[[#This Row],[IdEstablecimiento]],'[2]Establecimiento 2023'!$A$1:$E$183,5,FALSE),0)","v":"04105-Paihuano"},"15900020","2023-06-22T11:40:53",4,null,null,4]
[5,"5",2023,"105322",{"$f":"IFERROR(VLOOKUP(Tabla_SERIED_11_6[[#This Row],[IdEstablecimiento]],'[2]Establecimiento 2023'!$A$1:$E$183,3,FALSE),0)","v":"105322-Centro de Salud Familiar Marcos Macuada"},{"$f":"IFERROR(VLOOKUP(Tabla_SERIED_11_6[[#This Row],[IdEstablecimiento]],'[2]Establecimiento 2023'!$A$1:$E$183,5,FALSE),0)","v":"04301-Ovalle"},"15010200","2023-06-22T11:15:30",427,{"$nulls":4},2,224,201]
[5,"5",2023,"105400",{"$f":"IFERROR(VLOOKUP(Tabla_SERIED_11_6[[#This Row],[IdEstablecimiento]],'[2]Establecimiento 2023'!$A$1:$E$183,3,FALSE),0)","v":"105400-Posta de Salud Rural Algarrobito"},{"$f":"IFERROR(VLOOKUP(Tabla_SERIED_11_6[[#This Row],[IdEstablecimiento]],'[2]Establecimiento 2023'!$A$1:$E$183,5,FALSE),0)","v":"04101-La Serena"},"15080008","2023-06-22T11:23:15",10,{"$nulls":7},4,null,6]
[5,"5",2023,"105402",{"$f":"IFERROR(VLOOKUP(Tabla_SERIED_11_6[[#This Row],[IdEstablecimiento]],'[2]Establecimiento 2023'!$A$1:$E$183,3,FALSE),0)","v":"105402-Posta de Salud Rural El Romero"},{"$f":"IFERROR(VLOOKUP(Tabla_SERIED_11_6[[#This Row],[IdEstablecimiento]],'[2]Establecimiento 2023'!$A$1:$E$183,5,FALSE),0)","v":"04101-La Serena"},"15050100","2023-06-22T11:24:12",24,12,12,null,null,6,10,2,null,null,2,null,4]
[5,"5",2023,"105313",{"$f":"IFERROR(VLOOKUP(Tabla_SERIED_11_6[[#This Row],[IdEstablecimiento]],'[2]Establecimiento 2023'!$A$1:$E$183,3,FALSE),0)","v":"105313-Centro de Salud Familiar Dr. Emilio Schaffhauser"},{"$f":"IFERROR(VLOOKUP(Tabla_SERIED_11_6[[#This Row],[IdEstablecimiento]],'[2]Establecimiento 2023'!$A$1:$E$183,5,FALSE),0)","v":"04101-La Serena"},"15901300","2023-06-22T11:06:23",20.4,null,2,10.4,8]
[5,"5",2023,"105318",{"$f":"IFERROR(VLOOKUP(Tabla_SERIED_11_6[[#This Row],[IdEstablecimiento]],'[2]Establecimiento 2023'!$A$1:$E$183,3,FALSE),0)","v":"105318-Centro de Salud Familiar El Palqui"},{"$f":"IFERROR(VLOOKUP(Tabla_SERIED_11_6[[#This Row],[IdEstablecimiento]],'[2]Establecimiento 2023'!$A$1:$E$183,5,FALSE),0)","v":"04303-Monte Patria"},"15900020","2023-06-22T11:07:13",12,1.6,1.6,8.8]
[5,"5",2023,"105431",{"$f":"IFERROR(VLOOKUP(Tabla_SERIED_11_6[[#This Row],[IdEstablecimiento]],'[2]Establecimiento 2023'!$A$1:$E$183,3,FALSE),0)","v":"105431-Posta de Salud Rural Pedregal"},{"$f":"IFERROR(VLOOKUP(Tabla_SERIED_11_6[[#This Row],[IdEstablecimiento]],'[2]Establecimiento 2023'!$A$1:$E$183,5,FALSE),0)","v":"04303-Monte Patria"},"15080014","2023-06-22T11:29:24",2,{"$nulls":3},2]
[5,"5",2023,"105322",{"$f":"IFERROR(VLOOKUP(Tabla_SERIED_11_6[[#This Row],[IdEstablecimiento]],'[2]Establecimiento 2023'!$A$1:$E$183,3,FALSE),0)","v":"105322-Centro de Salud Familiar Marcos Macuada"},{"$f":"IFERROR(VLOOKUP(Tabla_SERIED_11_6[[#This Row],[IdEstablecimiento]],'[2]Establecimiento 2023'!$A$1:$E$183,5,FALSE),0)","v":"04301-Ovalle"},"15030100","2023-06-22T11:15:30",11.2,4,4,3.2]
[5,"5",2023,"105410",{"$f":"IFERROR(VLOOKUP(Tabla_SERIED_11_6[[#This Row],[IdEstablecimiento]],'[2]Establecimiento 2023'!$A$1:$E$183,3,FALSE),0)","v":"105410-Posta de Salud Rural Hurtado"},{"$f":"IFERROR(VLOOKUP(Tabla_SERIED_11_6[[#This Row],[IdEstablecimiento]],'[2]Establecimiento 2023'!$A$1:$E$183,5,FALSE),0)","v":"04305-Rio Hurtado"},"15900010","2023-06-22T11:25:53",6.6,null,null,6.6]
[5,"5",2023,"105425",{"$f":"IFERROR(VLOOKUP(Tabla_SERIED_11_6[[#This Row],[IdEstablecimiento]],'[2]Establecimiento 2023'!$A$1:$E$183,3,FALSE),0)","v":"105425-Posta de Salud Rural Chilecito"},{"$f":"IFERROR(VLOOKUP(Tabla_SERIED_11_6[[#This Row],[IdEstablecimiento]],'[2]Establecimiento 2023'!$A$1:$E$183,5,FALSE),0)","v":"04303-Monte Patria"},"15080014","2023-06-22T11:28:26",2,{"$nulls":3},2]
[5,"5",2023,"105444",{"$f":"IFERROR(VLOOKUP(Tabla_SERIED_11_6[[#This Row],[IdEstablecimiento]],'[2]Establecimiento 2023'!$A$1:$E$183,3,FALSE),0)","v":"105444-Posta de Salud Rural Huintil"},{"$f":"IFERROR(VLOOKUP(Tabla_SERIED_11_6[[#This Row],[IdEstablecimiento]],'[2]Establecimiento 2023'!$A$1:$E$183,5,FALSE),0)","v":"04201-Illapel"},"16200210","2023-06-22T11:32:14",12,12]
[5,"5",2023,"105431",{"$f":"IFERROR(VLOOKUP(Tabla_SERIED_11_6[[#This Row],[IdEstablecimiento]],'[2]Establecimiento 2023'!$A$1:$E$183,3,FALSE),0)","v":"105431-Posta de Salud Rural Pedregal"},{"$f":"IFERROR(VLOOKUP(Tabla_SERIED_11_6[[#This Row],[IdEstablecimiento]],'[2]Establecimiento 2023'!$A$1:$E$183,5,FALSE),0)","v":"04303-Monte Patria"},"15080008","2023-06-22T11:29:24",2,{"$nulls":11},2]
[5,"5",2023,"105444",{"$f":"IFERROR(VLOOKUP(Tabla_SERIED_11_6[[#This Row],[IdEstablecimiento]],'[2]Establecimiento 2023'!$A$1:$E$183,3,FALSE),0)","v":"105444-Posta de Salud Rural Huintil"},{"$f":"IFERROR(VLOOKUP(Tabla_SERIED_11_6[[#This Row],[IdEstablecimiento]],'[2]Establecimiento 2023'!$A$1:$E$183,5,FALSE),0)","v":"04201-Illapel"},"15010500","2023-06-22T11:32:14",2,null,null,2]
[5,"5",2023,"105453",{"$f":"IFERROR(VLOOKUP(Tabla_SERIED_11_6[[#This Row],[IdEstablecimiento]],'[2]Establecimiento 2023'!$A$1:$E$183,3,FALSE),0)","v":"105453-Posta de Salud Rural Tranquilla"},{"$f":"IFERROR(VLOOKUP(Tabla_SERIED_11_6[[#This Row],[IdEstablecimiento]],'[2]Establecimiento 2023'!$A$1:$E$183,5,FALSE),0)","v":"04204-Salamanca"},"16090300","2023-06-22T11:34:21",99,99]
[5,"5",2023,"105451",{"$f":"IFERROR(VLOOKUP(Tabla_SERIED_11_6[[#This Row],[IdEstablecimiento]],'[2]Establecimiento 2023'!$A$1:$E$183,3,FALSE),0)","v":"105451-Posta de Salud Rural Agua Fría"},{"$f":"IFERROR(VLOOKUP(Tabla_SERIED_11_6[[#This Row],[IdEstablecimiento]],'[2]Establecimiento 2023'!$A$1:$E$183,5,FALSE),0)","v":"04202-Canela"},"16100300","2023-06-22T11:33:53",77,42,35]
[5,"5",2023,"105455",{"$f":"IFERROR(VLOOKUP(Tabla_SERIED_11_6[[#This Row],[IdEstablecimiento]],'[2]Establecimiento 2023'!$A$1:$E$183,3,FALSE),0)","v":"105455-CESFAM Valle Alto"},{"$f":"IFERROR(VLOOKUP(Tabla_SERIED_11_6[[#This Row],[IdEstablecimiento]],'[2]Establecimiento 2023'!$A$1:$E$183,5,FALSE),0)","v":"04204-Salamanca"},"16090300","2023-06-22T11:34:46",65,65]
[5,"5",2023,"105305",{"$f":"IFERROR(VLOOKUP(Tabla_SERIED_11_6[[#This Row],[IdEstablecimiento]],'[2]Establecimiento 2023'!$A$1:$E$183,3,FALSE),0)","v":"105305-Centro de Salud Familiar Tierras Blancas"},{"$f":"IFERROR(VLOOKUP(Tabla_SERIED_11_6[[#This Row],[IdEstablecimiento]],'[2]Establecimiento 2023'!$A$1:$E$183,5,FALSE),0)","v":"04102-Coquimbo"},"15080009","2023-06-22T11:04:03",12,{"$nulls":8},12]
[5,"5",2023,"105305",{"$f":"IFERROR(VLOOKUP(Tabla_SERIED_11_6[[#This Row],[IdEstablecimiento]],'[2]Establecimiento 2023'!$A$1:$E$183,3,FALSE),0)","v":"105305-Centro de Salud Familiar Tierras Blancas"},{"$f":"IFERROR(VLOOKUP(Tabla_SERIED_11_6[[#This Row],[IdEstablecimiento]],'[2]Establecimiento 2023'!$A$1:$E$183,5,FALSE),0)","v":"04102-Coquimbo"},"15080016","2023-06-22T11:04:03",2,{"$nulls":3},2]
[5,"5",2023,"105310",{"$f":"IFERROR(VLOOKUP(Tabla_SERIED_11_6[[#This Row],[IdEstablecimiento]],'[2]Establecimiento 2023'!$A$1:$E$183,3,FALSE),0)","v":"105310-Centro de Salud Familiar Pichasca"},{"$f":"IFERROR(VLOOKUP(Tabla_SERIED_11_6[[#This Row],[IdEstablecimiento]],'[2]Establecimiento 2023'!$A$1:$E$183,5,FALSE),0)","v":"04305-Rio Hurtado"},"16090300","2023-06-22T11:05:41",116,116]
[5,"5",2023,"105319",{"$f":"IFERROR(VLOOKUP(Tabla_SERIED_11_6[[#This Row],[IdEstablecimiento]],'[2]Establecimiento 2023'!$A$1:$E$183,3,FALSE),0)","v":"105319-Centro de Salud Familiar Cardenal Raúl Silva Henríquez de La Serena"},{"$f":"IFERROR(VLOOKUP(Tabla_SERIED_11_6[[#This Row],[IdEstablecimiento]],'[2]Establecimiento 2023'!$A$1:$E$183,5,FALSE),0)","v":"04101-La Serena"},"15050100","2023-06-22T12:07:03",756,370,386,11,34,72,97,103,137,158,113,null,11,null,20]
[5,"5",2023,"105460",{"$f":"IFERROR(VLOOKUP(Tabla_SERIED_11_6[[#This Row],[IdEstablecimiento]],'[2]Establecimiento 2023'!$A$1:$E$183,3,FALSE),0)","v":"105460-Centro Comunitario de Salud Familiar Cogotí 18"},{"$f":"IFERROR(VLOOKUP(Tabla_SERIED_11_6[[#This Row],[IdEstablecimiento]],'[2]Establecimiento 2023'!$A$1:$E$183,5,FALSE),0)","v":"04302-Combarbalá"},"16090300","2023-06-22T11:36:03",113,113]
[5,"5",2023,"105468",{"$f":"IFERROR(VLOOKUP(Tabla_SERIED_11_6[[#This Row],[IdEstablecimiento]],'[2]Establecimiento 2023'!$A$1:$E$183,3,FALSE),0)","v":"105468-Posta de Salud Rural El Molle"},{"$f":"IFERROR(VLOOKUP(Tabla_SERIED_11_6[[#This Row],[IdEstablecimiento]],'[2]Establecimiento 2023'!$A$1:$E$183,5,FALSE),0)","v":"04106-Vicuña"},"15010200","2023-06-22T11:38:17",28,{"$nulls":5},18,10]
[5,"5",2023,"105477",{"$f":"IFERROR(VLOOKUP(Tabla_SERIED_11_6[[#This Row],[IdEstablecimiento]],'[2]Establecimiento 2023'!$A$1:$E$183,3,FALSE),0)","v":"105477-Posta de Salud Rural Pisco Elqui"},{"$f":"IFERROR(VLOOKUP(Tabla_SERIED_11_6[[#This Row],[IdEstablecimiento]],'[2]Establecimiento 2023'!$A$1:$E$183,5,FALSE),0)","v":"04105-Paihuano"},"15010200","2023-06-22T11:41:23",10,{"$nulls":5},6,4]
[5,"5",2023,"105452",{"$f":"IFERROR(VLOOKUP(Tabla_SERIED_11_6[[#This Row],[IdEstablecimiento]],'[2]Establecimiento 2023'!$A$1:$E$183,3,FALSE),0)","v":"105452-Posta de Salud Rural Cuncumén(Salamanca)"},{"$f":"IFERROR(VLOOKUP(Tabla_SERIED_11_6[[#This Row],[IdEstablecimiento]],'[2]Establecimiento 2023'!$A$1:$E$183,5,FALSE),0)","v":"04204-Salamanca"},"15080016","2023-06-22T11:34:05",2,{"$nulls":4},2]
[5,"5",2023,"105453",{"$f":"IFERROR(VLOOKUP(Tabla_SERIED_11_6[[#This Row],[IdEstablecimiento]],'[2]Establecimiento 2023'!$A$1:$E$183,3,FALSE),0)","v":"105453-Posta de Salud Rural Tranquilla"},{"$f":"IFERROR(VLOOKUP(Tabla_SERIED_11_6[[#This Row],[IdEstablecimiento]],'[2]Establecimiento 2023'!$A$1:$E$183,5,FALSE),0)","v":"04204-Salamanca"},"15080016","2023-06-22T11:34:21",4,{"$nulls":3},2,null,null,2]
[5,"5",2023,"105463",{"$f":"IFERROR(VLOOKUP(Tabla_SERIED_11_6[[#This Row],[IdEstablecimiento]],'[2]Establecimiento 2023'!$A$1:$E$183,3,FALSE),0)","v":"105463-Posta de Salud Rural Quilitapia"},{"$f":"IFERROR(VLOOKUP(Tabla_SERIED_11_6[[#This Row],[IdEstablecimiento]],'[2]Establecimiento 2023'!$A$1:$E$183,5,FALSE),0)","v":"04302-Combarbalá"},"15080008","2023-06-22T11:37:01",3,{"$nulls":7},1,null,2]
[5,"5",2023,"105499",{"$f":"IFERROR(VLOOKUP(Tabla_SERIED_11_6[[#This Row],[IdEstablecimiento]],'[2]Establecimiento 2023'!$A$1:$E$183,3,FALSE),0)","v":"105499-Posta de Salud Rural Lambert"},{"$f":"IFERROR(VLOOKUP(Tabla_SERIED_11_6[[#This Row],[IdEstablecimiento]],'[2]Establecimiento 2023'!$A$1:$E$183,5,FALSE),0)","v":"04101-La Serena"},"16090300","2023-06-22T11:47:10",16,16]
[5,"5",2023,"105503",{"$f":"IFERROR(VLOOKUP(Tabla_SERIED_11_6[[#This Row],[IdEstablecimiento]],'[2]Establecimiento 2023'!$A$1:$E$183,3,FALSE),0)","v":"105503-Posta de Salud Rural Tabaqueros"},{"$f":"IFERROR(VLOOKUP(Tabla_SERIED_11_6[[#This Row],[IdEstablecimiento]],'[2]Establecimiento 2023'!$A$1:$E$183,5,FALSE),0)","v":"04305-Rio Hurtado"},"16200210","2023-06-22T11:47:53",4,4]
[5,"5",2023,"200258",{"$f":"IFERROR(VLOOKUP(Tabla_SERIED_11_6[[#This Row],[IdEstablecimiento]],'[2]Establecimiento 2023'!$A$1:$E$183,3,FALSE),0)","v":"200258-Centro Comunitario de Salud Familiar Los Copihues"},{"$f":"IFERROR(VLOOKUP(Tabla_SERIED_11_6[[#This Row],[IdEstablecimiento]],'[2]Establecimiento 2023'!$A$1:$E$183,5,FALSE),0)","v":"04301-Ovalle"},"16090300","2023-06-22T11:52:54",133,133]
[5,"5",2023,"105324",{"$f":"IFERROR(VLOOKUP(Tabla_SERIED_11_6[[#This Row],[IdEstablecimiento]],'[2]Establecimiento 2023'!$A$1:$E$183,3,FALSE),0)","v":"105324-Centro de Salud Familiar Sotaquí"},{"$f":"IFERROR(VLOOKUP(Tabla_SERIED_11_6[[#This Row],[IdEstablecimiento]],'[2]Establecimiento 2023'!$A$1:$E$183,5,FALSE),0)","v":"04301-Ovalle"},"15050100","2023-06-22T11:15:56",166,63,103,1,2,10,28,18,30,33,16,null,17,3,8]
[5,"5",2023,"105400",{"$f":"IFERROR(VLOOKUP(Tabla_SERIED_11_6[[#This Row],[IdEstablecimiento]],'[2]Establecimiento 2023'!$A$1:$E$183,3,FALSE),0)","v":"105400-Posta de Salud Rural Algarrobito"},{"$f":"IFERROR(VLOOKUP(Tabla_SERIED_11_6[[#This Row],[IdEstablecimiento]],'[2]Establecimiento 2023'!$A$1:$E$183,5,FALSE),0)","v":"04101-La Serena"},"15060100","2023-06-22T11:23:15",1,null,1,{"$nulls":5},1]
[5,"5",2023,"105410",{"$f":"IFERROR(VLOOKUP(Tabla_SERIED_11_6[[#This Row],[IdEstablecimiento]],'[2]Establecimiento 2023'!$A$1:$E$183,3,FALSE),0)","v":"105410-Posta de Salud Rural Hurtado"},{"$f":"IFERROR(VLOOKUP(Tabla_SERIED_11_6[[#This Row],[IdEstablecimiento]],'[2]Establecimiento 2023'!$A$1:$E$183,5,FALSE),0)","v":"04305-Rio Hurtado"},"16200220","2023-06-22T11:25:53",1,null,1]
[5,"5",2023,"105481",{"$f":"IFERROR(VLOOKUP(Tabla_SERIED_11_6[[#This Row],[IdEstablecimiento]],'[2]Establecimiento 2023'!$A$1:$E$183,3,FALSE),0)","v":"105481-Posta de Salud Rural Tilama"},{"$f":"IFERROR(VLOOKUP(Tabla_SERIED_11_6[[#This Row],[IdEstablecimiento]],'[2]Establecimiento 2023'!$A$1:$E$183,5,FALSE),0)","v":"04203-Los Vilos"},"15080008","2023-06-22T11:42:19",5,{"$nulls":7},1,null,4]
[5,"5",2023,"105482",{"$f":"IFERROR(VLOOKUP(Tabla_SERIED_11_6[[#This Row],[IdEstablecimiento]],'[2]Establecimiento 2023'!$A$1:$E$183,3,FALSE),0)","v":"105482-Posta de Salud Rural Canela Alta"},{"$f":"IFERROR(VLOOKUP(Tabla_SERIED_11_6[[#This Row],[IdEstablecimiento]],'[2]Establecimiento 2023'!$A$1:$E$183,5,FALSE),0)","v":"04202-Canela"},"16100300","2023-06-22T11:42:35",93,43,50]
[5,"5",2023,"105501",{"$f":"IFERROR(VLOOKUP(Tabla_SERIED_11_6[[#This Row],[IdEstablecimiento]],'[2]Establecimiento 2023'!$A$1:$E$183,3,FALSE),0)","v":"105501-Posta de Salud Rural Arboleda Grande"},{"$f":"IFERROR(VLOOKUP(Tabla_SERIED_11_6[[#This Row],[IdEstablecimiento]],'[2]Establecimiento 2023'!$A$1:$E$183,5,FALSE),0)","v":"04204-Salamanca"},"16100300","2023-06-22T11:47:40",121,64,57]
[5,"5",2023,"200402",{"$f":"IFERROR(VLOOKUP(Tabla_SERIED_11_6[[#This Row],[IdEstablecimiento]],'[2]Establecimiento 2023'!$A$1:$E$183,3,FALSE),0)","v":"200402-Centro Comunitario de Salud Familiar Arcos de Pinamar"},{"$f":"IFERROR(VLOOKUP(Tabla_SERIED_11_6[[#This Row],[IdEstablecimiento]],'[2]Establecimiento 2023'!$A$1:$E$183,5,FALSE),0)","v":"04101-La Serena"},"15080008","2023-06-22T11:53:53",23,{"$nulls":7},10,null,6,3,4]
[5,"5",2023,"200494",{"$f":"IFERROR(VLOOKUP(Tabla_SERIED_11_6[[#This Row],[IdEstablecimiento]],'[2]Establecimiento 2023'!$A$1:$E$183,3,FALSE),0)","v":"200494-Centro de Salud Familiar El Sauce"},{"$f":"IFERROR(VLOOKUP(Tabla_SERIED_11_6[[#This Row],[IdEstablecimiento]],'[2]Establecimiento 2023'!$A$1:$E$183,5,FALSE),0)","v":"04102-Coquimbo"},"15030100","2023-06-22T11:54:06",8.8,null,3.2,5.6]
[5,"5",2023,"200569",{"$f":"IFERROR(VLOOKUP(Tabla_SERIED_11_6[[#This Row],[IdEstablecimiento]],'[2]Establecimiento 2023'!$A$1:$E$183,3,FALSE),0)","v":"200569-Centro de Salud Familiar Fray Jorge"},{"$f":"IFERROR(VLOOKUP(Tabla_SERIED_11_6[[#This Row],[IdEstablecimiento]],'[2]Establecimiento 2023'!$A$1:$E$183,5,FALSE),0)","v":"04301-Ovalle"},"16200220","2023-07-20T12:21:37",4,2,2]
[5,"5",2023,"105106",{"$f":"IFERROR(VLOOKUP(Tabla_SERIED_11_6[[#This Row],[IdEstablecimiento]],'[2]Establecimiento 2023'!$A$1:$E$183,3,FALSE),0)","v":"105106-Hospital Dr. José Arraño (Andacollo)"},{"$f":"IFERROR(VLOOKUP(Tabla_SERIED_11_6[[#This Row],[IdEstablecimiento]],'[2]Establecimiento 2023'!$A$1:$E$183,5,FALSE),0)","v":"105106-Hospital Andacollo"},"15010200","2023-06-22T11:01:28",211,{"$nulls":4},12,118,81]
[5,"5",2023,"105302",{"$f":"IFERROR(VLOOKUP(Tabla_SERIED_11_6[[#This Row],[IdEstablecimiento]],'[2]Establecimiento 2023'!$A$1:$E$183,3,FALSE),0)","v":"105302-Centro de Salud Familiar Pedro Aguirre Cerda"},{"$f":"IFERROR(VLOOKUP(Tabla_SERIED_11_6[[#This Row],[IdEstablecimiento]],'[2]Establecimiento 2023'!$A$1:$E$183,5,FALSE),0)","v":"04101-La Serena"},"15030100","2023-06-22T11:03:11",4,null,4]
[5,"5",2023,"105306",{"$f":"IFERROR(VLOOKUP(Tabla_SERIED_11_6[[#This Row],[IdEstablecimiento]],'[2]Establecimiento 2023'!$A$1:$E$183,3,FALSE),0)","v":"105306-Centro de Salud Familiar Paihuano"},{"$f":"IFERROR(VLOOKUP(Tabla_SERIED_11_6[[#This Row],[IdEstablecimiento]],'[2]Establecimiento 2023'!$A$1:$E$183,5,FALSE),0)","v":"04105-Paihuano"},"15080008","2023-06-22T11:04:18",12,{"$nulls":7},9,null,2,null,1]
[5,"5",2023,"105308",{"$f":"IFERROR(VLOOKUP(Tabla_SERIED_11_6[[#This Row],[IdEstablecimiento]],'[2]Establecimiento 2023'!$A$1:$E$183,3,FALSE),0)","v":"105308-Centro de Salud Familiar Punitaqui"},{"$f":"IFERROR(VLOOKUP(Tabla_SERIED_11_6[[#This Row],[IdEstablecimiento]],'[2]Establecimiento 2023'!$A$1:$E$183,5,FALSE),0)","v":"04304-Punitaqui"},"15050200","2023-06-22T11:05:13",3,3,{"$nulls":5},2,1]
[5,"5",2023,"105434",{"$f":"IFERROR(VLOOKUP(Tabla_SERIED_11_6[[#This Row],[IdEstablecimiento]],'[2]Establecimiento 2023'!$A$1:$E$183,3,FALSE),0)","v":"105434-Posta de Salud Rural San Marcos (Combarbalá)"},{"$f":"IFERROR(VLOOKUP(Tabla_SERIED_11_6[[#This Row],[IdEstablecimiento]],'[2]Establecimiento 2023'!$A$1:$E$183,5,FALSE),0)","v":"04302-Combarbalá"},"15050100","2023-06-22T11:30:03",9,5,4,null,1,{"$nulls":3},1,4,null,null,1,1,1]
[5,"5",2023,"105444",{"$f":"IFERROR(VLOOKUP(Tabla_SERIED_11_6[[#This Row],[IdEstablecimiento]],'[2]Establecimiento 2023'!$A$1:$E$183,3,FALSE),0)","v":"105444-Posta de Salud Rural Huintil"},{"$f":"IFERROR(VLOOKUP(Tabla_SERIED_11_6[[#This Row],[IdEstablecimiento]],'[2]Establecimiento 2023'!$A$1:$E$183,5,FALSE),0)","v":"04201-Illapel"},"16090300","2023-06-22T11:32:14",58,58]
[5,"5",2023,"105454",{"$f":"IFERROR(VLOOKUP(Tabla_SERIED_11_6[[#This Row],[IdEstablecimiento]],'[2]Establecimiento 2023'!$A$1:$E$183,3,FALSE),0)","v":"105454-Posta de Salud Rural Cunlagua"},{"$f":"IFERROR(VLOOKUP(Tabla_SERIED_11_6[[#This Row],[IdEstablecimiento]],'[2]Establecimiento 2023'!$A$1:$E$183,5,FALSE),0)","v":"04204-Salamanca"},"15050100","2023-06-22T11:34:34",4,3,1,{"$nulls":4},2,2]
[5,"5",2023,"105485",{"$f":"IFERROR(VLOOKUP(Tabla_SERIED_11_6[[#This Row],[IdEstablecimiento]],'[2]Establecimiento 2023'!$A$1:$E$183,3,FALSE),0)","v":"105485-Posta de Salud Rural Plan de Hornos"},{"$f":"IFERROR(VLOOKUP(Tabla_SERIED_11_6[[#This Row],[IdEstablecimiento]],'[2]Establecimiento 2023'!$A$1:$E$183,5,FALSE),0)","v":"04201-Illapel"},"15010100","2023-06-22T11:44:11",8,{"$nulls":3},4,4]
[5,"5",2023,"105105",{"$f":"IFERROR(VLOOKUP(Tabla_SERIED_11_6[[#This Row],[IdEstablecimiento]],'[2]Establecimiento 2023'!$A$1:$E$183,3,FALSE),0)","v":"105105-Hospital San Juan de Dios (Combarbalá)"},{"$f":"IFERROR(VLOOKUP(Tabla_SERIED_11_6[[#This Row],[IdEstablecimiento]],'[2]Establecimiento 2023'!$A$1:$E$183,5,FALSE),0)","v":"105105-Hospital Combarbalá"},"15080009","2023-06-22T11:01:14",3,{"$nulls":9},3]
[5,"5",2023,"105300",{"$f":"IFERROR(VLOOKUP(Tabla_SERIED_11_6[[#This Row],[IdEstablecimiento]],'[2]Establecimiento 2023'!$A$1:$E$183,3,FALSE),0)","v":"105300-Centro de Salud Familiar Cardenal Caro"},{"$f":"IFERROR(VLOOKUP(Tabla_SERIED_11_6[[#This Row],[IdEstablecimiento]],'[2]Establecimiento 2023'!$A$1:$E$183,5,FALSE),0)","v":"04101-La Serena"},"16100300","2023-06-22T11:02:44",1169,478,691]
[5,"5",2023,"105313",{"$f":"IFERROR(VLOOKUP(Tabla_SERIED_11_6[[#This Row],[IdEstablecimiento]],'[2]Establecimiento 2023'!$A$1:$E$183,3,FALSE),0)","v":"105313-Centro de Salud Familiar Dr. Emilio Schaffhauser"},{"$f":"IFERROR(VLOOKUP(Tabla_SERIED_11_6[[#This Row],[IdEstablecimiento]],'[2]Establecimiento 2023'!$A$1:$E$183,5,FALSE),0)","v":"04101-La Serena"},"16090600","2023-06-22T11:06:23",1,1]
[5,"5",2023,"105314",{"$f":"IFERROR(VLOOKUP(Tabla_SERIED_11_6[[#This Row],[IdEstablecimiento]],'[2]Establecimiento 2023'!$A$1:$E$183,3,FALSE),0)","v":"105314-Centro de Salud Familiar La Higuera"},{"$f":"IFERROR(VLOOKUP(Tabla_SERIED_11_6[[#This Row],[IdEstablecimiento]],'[2]Establecimiento 2023'!$A$1:$E$183,5,FALSE),0)","v":"04104-La Higuera"},"15080008","2023-07-19T15:27:21",8,{"$nulls":7},8]
[5,"5",2023,"105405",{"$f":"IFERROR(VLOOKUP(Tabla_SERIED_11_6[[#This Row],[IdEstablecimiento]],'[2]Establecimiento 2023'!$A$1:$E$183,3,FALSE),0)","v":"105405-Posta de Salud Rural Guanaqueros"},{"$f":"IFERROR(VLOOKUP(Tabla_SERIED_11_6[[#This Row],[IdEstablecimiento]],'[2]Establecimiento 2023'!$A$1:$E$183,5,FALSE),0)","v":"04102-Coquimbo"},"15080014","2023-06-22T11:24:48",38,{"$nulls":3},22,16]
[5,"5",2023,"105301",{"$f":"IFERROR(VLOOKUP(Tabla_SERIED_11_6[[#This Row],[IdEstablecimiento]],'[2]Establecimiento 2023'!$A$1:$E$183,3,FALSE),0)","v":"105301-Centro de Salud Familiar Las Compañías"},{"$f":"IFERROR(VLOOKUP(Tabla_SERIED_11_6[[#This Row],[IdEstablecimiento]],'[2]Establecimiento 2023'!$A$1:$E$183,5,FALSE),0)","v":"04101-La Serena"},"16100600","2023-06-22T11:02:59",1,0,1]
[5,"5",2023,"105506",{"$f":"IFERROR(VLOOKUP(Tabla_SERIED_11_6[[#This Row],[IdEstablecimiento]],'[2]Establecimiento 2023'!$A$1:$E$183,3,FALSE),0)","v":"105506-Posta de Salud Rural El Trapiche"},{"$f":"IFERROR(VLOOKUP(Tabla_SERIED_11_6[[#This Row],[IdEstablecimiento]],'[2]Establecimiento 2023'!$A$1:$E$183,5,FALSE),0)","v":"04104-La Higuera"},"15050100","2023-07-19T15:28:28",18,7,11,{"$nulls":3},2,4,4,6,2]
[5,"5",2023,"105702",{"$f":"IFERROR(VLOOKUP(Tabla_SERIED_11_6[[#This Row],[IdEstablecimiento]],'[2]Establecimiento 2023'!$A$1:$E$183,3,FALSE),0)","v":"105702-Centro Comunitario de Salud Familiar Lambert"},{"$f":"IFERROR(VLOOKUP(Tabla_SERIED_11_6[[#This Row],[IdEstablecimiento]],'[2]Establecimiento 2023'!$A$1:$E$183,5,FALSE),0)","v":"04101-La Serena"},"15050200","2023-06-22T11:50:44",2,1,1,{"$nulls":5},1,null,null,1]
[5,"5",2023,"105442",{"$f":"IFERROR(VLOOKUP(Tabla_SERIED_11_6[[#This Row],[IdEstablecimiento]],'[2]Establecimiento 2023'!$A$1:$E$183,3,FALSE),0)","v":"105442-Posta de Salud Rural San Pedro de Quiles"},{"$f":"IFERROR(VLOOKUP(Tabla_SERIED_11_6[[#This Row],[IdEstablecimiento]],'[2]Establecimiento 2023'!$A$1:$E$183,5,FALSE),0)","v":"04304-Punitaqui"},"15050100","2023-06-22T11:31:44",2,2,{"$nulls":7},2]
[5,"5",2023,"105448",{"$f":"IFERROR(VLOOKUP(Tabla_SERIED_11_6[[#This Row],[IdEstablecimiento]],'[2]Establecimiento 2023'!$A$1:$E$183,3,FALSE),0)","v":"105448-Posta de Salud Rural Santa Virginia"},{"$f":"IFERROR(VLOOKUP(Tabla_SERIED_11_6[[#This Row],[IdEstablecimiento]],'[2]Establecimiento 2023'!$A$1:$E$183,5,FALSE),0)","v":"04201-Illapel"},"16200210","2023-06-22T11:33:11",9,9]
[5,"5",2023,"105302",{"$f":"IFERROR(VLOOKUP(Tabla_SERIED_11_6[[#This Row],[IdEstablecimiento]],'[2]Establecimiento 2023'!$A$1:$E$183,3,FALSE),0)","v":"105302-Centro de Salud Familiar Pedro Aguirre Cerda"},{"$f":"IFERROR(VLOOKUP(Tabla_SERIED_11_6[[#This Row],[IdEstablecimiento]],'[2]Establecimiento 2023'!$A$1:$E$183,5,FALSE),0)","v":"04101-La Serena"},"15901200","2023-06-22T11:03:11",10.4,null,null,6,4.4]
[5,"5",2023,"200258",{"$f":"IFERROR(VLOOKUP(Tabla_SERIED_11_6[[#This Row],[IdEstablecimiento]],'[2]Establecimiento 2023'!$A$1:$E$183,3,FALSE),0)","v":"200258-Centro Comunitario de Salud Familiar Los Copihues"},{"$f":"IFERROR(VLOOKUP(Tabla_SERIED_11_6[[#This Row],[IdEstablecimiento]],'[2]Establecimiento 2023'!$A$1:$E$183,5,FALSE),0)","v":"04301-Ovalle"},"15080014","2023-06-22T11:52:54",18,{"$nulls":3},10,8]
[5,"5",2023,"105303",{"$f":"IFERROR(VLOOKUP(Tabla_SERIED_11_6[[#This Row],[IdEstablecimiento]],'[2]Establecimiento 2023'!$A$1:$E$183,3,FALSE),0)","v":"105303-Centro de Salud Familiar San Juan"},{"$f":"IFERROR(VLOOKUP(Tabla_SERIED_11_6[[#This Row],[IdEstablecimiento]],'[2]Establecimiento 2023'!$A$1:$E$183,5,FALSE),0)","v":"04102-Coquimbo"},"15080008","2023-08-18T11:31:50",166,{"$nulls":7},73,null,52,31,10]
[5,"5",2023,"105307",{"$f":"IFERROR(VLOOKUP(Tabla_SERIED_11_6[[#This Row],[IdEstablecimiento]],'[2]Establecimiento 2023'!$A$1:$E$183,3,FALSE),0)","v":"105307-Centro de Salud Familiar Monte Patria"},{"$f":"IFERROR(VLOOKUP(Tabla_SERIED_11_6[[#This Row],[IdEstablecimiento]],'[2]Establecimiento 2023'!$A$1:$E$183,5,FALSE),0)","v":"04303-Monte Patria"},"16200220","2023-06-22T11:04:31",28,9,19]
[5,"5",2023,"105304",{"$f":"IFERROR(VLOOKUP(Tabla_SERIED_11_6[[#This Row],[IdEstablecimiento]],'[2]Establecimiento 2023'!$A$1:$E$183,3,FALSE),0)","v":"105304-Centro de Salud Familiar Santa Cecilia"},{"$f":"IFERROR(VLOOKUP(Tabla_SERIED_11_6[[#This Row],[IdEstablecimiento]],'[2]Establecimiento 2023'!$A$1:$E$183,5,FALSE),0)","v":"04102-Coquimbo"},"15010500","2023-06-22T11:03:46",22,null,0,10,4,4,4,0]
[5,"5",2023,"105305",{"$f":"IFERROR(VLOOKUP(Tabla_SERIED_11_6[[#This Row],[IdEstablecimiento]],'[2]Establecimiento 2023'!$A$1:$E$183,3,FALSE),0)","v":"105305-Centro de Salud Familiar Tierras Blancas"},{"$f":"IFERROR(VLOOKUP(Tabla_SERIED_11_6[[#This Row],[IdEstablecimiento]],'[2]Establecimiento 2023'!$A$1:$E$183,5,FALSE),0)","v":"04102-Coquimbo"},"15901200","2023-06-22T11:04:03",10,null,3.2,4,2.8]
[5,"5",2023,"105308",{"$f":"IFERROR(VLOOKUP(Tabla_SERIED_11_6[[#This Row],[IdEstablecimiento]],'[2]Establecimiento 2023'!$A$1:$E$183,3,FALSE),0)","v":"105308-Centro de Salud Familiar Punitaqui"},{"$f":"IFERROR(VLOOKUP(Tabla_SERIED_11_6[[#This Row],[IdEstablecimiento]],'[2]Establecimiento 2023'!$A$1:$E$183,5,FALSE),0)","v":"04304-Punitaqui"},"16100300","2023-06-22T11:05:13",505,224,281]
[5,"5",2023,"105310",{"$f":"IFERROR(VLOOKUP(Tabla_SERIED_11_6[[#This Row],[IdEstablecimiento]],'[2]Establecimiento 2023'!$A$1:$E$183,3,FALSE),0)","v":"105310-Centro de Salud Familiar Pichasca"},{"$f":"IFERROR(VLOOKUP(Tabla_SERIED_11_6[[#This Row],[IdEstablecimiento]],'[2]Establecimiento 2023'!$A$1:$E$183,5,FALSE),0)","v":"04305-Rio Hurtado"},"15080014","2023-06-22T11:05:41",14,{"$nulls":3},14]
[5,"5",2023,"105311",{"$f":"IFERROR(VLOOKUP(Tabla_SERIED_11_6[[#This Row],[IdEstablecimiento]],'[2]Establecimiento 2023'!$A$1:$E$183,3,FALSE),0)","v":"105311-Centro de Salud Familiar Chañaral Alto"},{"$f":"IFERROR(VLOOKUP(Tabla_SERIED_11_6[[#This Row],[IdEstablecimiento]],'[2]Establecimiento 2023'!$A$1:$E$183,5,FALSE),0)","v":"04303-Monte Patria"},"15900030","2023-06-22T11:05:55",4,{"$nulls":3},4]
[5,"5",2023,"105313",{"$f":"IFERROR(VLOOKUP(Tabla_SERIED_11_6[[#This Row],[IdEstablecimiento]],'[2]Establecimiento 2023'!$A$1:$E$183,3,FALSE),0)","v":"105313-Centro de Salud Familiar Dr. Emilio Schaffhauser"},{"$f":"IFERROR(VLOOKUP(Tabla_SERIED_11_6[[#This Row],[IdEstablecimiento]],'[2]Establecimiento 2023'!$A$1:$E$183,5,FALSE),0)","v":"04101-La Serena"},"15080018","2023-06-22T11:06:23",14,4,null,4,4,2]
[5,"5",2023,"105318",{"$f":"IFERROR(VLOOKUP(Tabla_SERIED_11_6[[#This Row],[IdEstablecimiento]],'[2]Establecimiento 2023'!$A$1:$E$183,3,FALSE),0)","v":"105318-Centro de Salud Familiar El Palqui"},{"$f":"IFERROR(VLOOKUP(Tabla_SERIED_11_6[[#This Row],[IdEstablecimiento]],'[2]Establecimiento 2023'!$A$1:$E$183,5,FALSE),0)","v":"04303-Monte Patria"},"16200220","2023-06-22T11:07:13",17,6,11]
[5,"5",2023,"105314",{"$f":"IFERROR(VLOOKUP(Tabla_SERIED_11_6[[#This Row],[IdEstablecimiento]],'[2]Establecimiento 2023'!$A$1:$E$183,3,FALSE),0)","v":"105314-Centro de Salud Familiar La Higuera"},{"$f":"IFERROR(VLOOKUP(Tabla_SERIED_11_6[[#This Row],[IdEstablecimiento]],'[2]Establecimiento 2023'!$A$1:$E$183,5,FALSE),0)","v":"04104-La Higuera"},"15080014","2023-07-19T15:27:21",10,{"$nulls":3},2,8]
[5,"5",2023,"105319",{"$f":"IFERROR(VLOOKUP(Tabla_SERIED_11_6[[#This Row],[IdEstablecimiento]],'[2]Establecimiento 2023'!$A$1:$E$183,3,FALSE),0)","v":"105319-Centro de Salud Familiar Cardenal Raúl Silva Henríquez de La Serena"},{"$f":"IFERROR(VLOOKUP(Tabla_SERIED_11_6[[#This Row],[IdEstablecimiento]],'[2]Establecimiento 2023'!$A$1:$E$183,5,FALSE),0)","v":"04101-La Serena"},"15080008","2023-06-22T12:07:03",155,{"$nulls":7},113,null,22,null,20]
[5,"5",2023,"105463",{"$f":"IFERROR(VLOOKUP(Tabla_SERIED_11_6[[#This Row],[IdEstablecimiento]],'[2]Establecimiento 2023'!$A$1:$E$183,3,FALSE),0)","v":"105463-Posta de Salud Rural Quilitapia"},{"$f":"IFERROR(VLOOKUP(Tabla_SERIED_11_6[[#This Row],[IdEstablecimiento]],'[2]Establecimiento 2023'!$A$1:$E$183,5,FALSE),0)","v":"04302-Combarbalá"},"16090300","2023-06-22T11:37:01",117,117]
[5,"5",2023,"105475",{"$f":"IFERROR(VLOOKUP(Tabla_SERIED_11_6[[#This Row],[IdEstablecimiento]],'[2]Establecimiento 2023'!$A$1:$E$183,3,FALSE),0)","v":"105475-Posta de Salud Rural Horcón (Paiguano)"},{"$f":"IFERROR(VLOOKUP(Tabla_SERIED_11_6[[#This Row],[IdEstablecimiento]],'[2]Establecimiento 2023'!$A$1:$E$183,5,FALSE),0)","v":"04105-Paihuano"},"15080014","2023-06-22T11:40:53",8,{"$nulls":3},4,4]
[5,"5",2023,"105322",{"$f":"IFERROR(VLOOKUP(Tabla_SERIED_11_6[[#This Row],[IdEstablecimiento]],'[2]Establecimiento 2023'!$A$1:$E$183,3,FALSE),0)","v":"105322-Centro de Salud Familiar Marcos Macuada"},{"$f":"IFERROR(VLOOKUP(Tabla_SERIED_11_6[[#This Row],[IdEstablecimiento]],'[2]Establecimiento 2023'!$A$1:$E$183,5,FALSE),0)","v":"04301-Ovalle"},"16090300","2023-06-22T11:15:30",832,832]
[5,"5",2023,"105323",{"$f":"IFERROR(VLOOKUP(Tabla_SERIED_11_6[[#This Row],[IdEstablecimiento]],'[2]Establecimiento 2023'!$A$1:$E$183,3,FALSE),0)","v":"105323-Centro de Salud Familiar Dr. Sergio Aguilar Delgado"},{"$f":"IFERROR(VLOOKUP(Tabla_SERIED_11_6[[#This Row],[IdEstablecimiento]],'[2]Establecimiento 2023'!$A$1:$E$183,5,FALSE),0)","v":"04102-Coquimbo"},"15060100","2023-06-22T11:15:42",26,16,10,null,3,4,4,3,5,7]
[5,"5",2023,"105322",{"$f":"IFERROR(VLOOKUP(Tabla_SERIED_11_6[[#This Row],[IdEstablecimiento]],'[2]Establecimiento 2023'!$A$1:$E$183,3,FALSE),0)","v":"105322-Centro de Salud Familiar Marcos Macuada"},{"$f":"IFERROR(VLOOKUP(Tabla_SERIED_11_6[[#This Row],[IdEstablecimiento]],'[2]Establecimiento 2023'!$A$1:$E$183,5,FALSE),0)","v":"04301-Ovalle"},"15900010","2023-06-22T11:15:30",142.4,3.2,44.8,94.4]
[5,"5",2023,"200494",{"$f":"IFERROR(VLOOKUP(Tabla_SERIED_11_6[[#This Row],[IdEstablecimiento]],'[2]Establecimiento 2023'!$A$1:$E$183,3,FALSE),0)","v":"200494-Centro de Salud Familiar El Sauce"},{"$f":"IFERROR(VLOOKUP(Tabla_SERIED_11_6[[#This Row],[IdEstablecimiento]],'[2]Establecimiento 2023'!$A$1:$E$183,5,FALSE),0)","v":"04102-Coquimbo"},"15080009","2023-06-22T11:54:06",9,{"$nulls":8},9]
[5,"5",2023,"200607",{"$f":"IFERROR(VLOOKUP(Tabla_SERIED_11_6[[#This Row],[IdEstablecimiento]],'[2]Establecimiento 2023'!$A$1:$E$183,3,FALSE),0)","v":"200607-Centro de Salud Familiar Lila Cortés Godoy"},{"$f":"IFERROR(VLOOKUP(Tabla_SERIED_11_6[[#This Row],[IdEstablecimiento]],'[2]Establecimiento 2023'!$A$1:$E$183,5,FALSE),0)","v":"04102-Coquimbo"},"15050100","2023-06-22T11:54:50",960,298,662,26,42,94,116,148,145,127,121,null,122,null,19]
[5,"5",2023,"105400",{"$f":"IFERROR(VLOOKUP(Tabla_SERIED_11_6[[#This Row],[IdEstablecimiento]],'[2]Establecimiento 2023'!$A$1:$E$183,3,FALSE),0)","v":"105400-Posta de Salud Rural Algarrobito"},{"$f":"IFERROR(VLOOKUP(Tabla_SERIED_11_6[[#This Row],[IdEstablecimiento]],'[2]Establecimiento 2023'!$A$1:$E$183,5,FALSE),0)","v":"04101-La Serena"},"15010200","2023-06-22T11:23:15",70,{"$nulls":5},28,42]
[5,"5",2023,"105402",{"$f":"IFERROR(VLOOKUP(Tabla_SERIED_11_6[[#This Row],[IdEstablecimiento]],'[2]Establecimiento 2023'!$A$1:$E$183,3,FALSE),0)","v":"105402-Posta de Salud Rural El Romero"},{"$f":"IFERROR(VLOOKUP(Tabla_SERIED_11_6[[#This Row],[IdEstablecimiento]],'[2]Establecimiento 2023'!$A$1:$E$183,5,FALSE),0)","v":"04101-La Serena"},"15900010","2023-06-22T11:24:12",18.4,null,null,18.4]
[5,"5",2023,"105496",{"$f":"IFERROR(VLOOKUP(Tabla_SERIED_11_6[[#This Row],[IdEstablecimiento]],'[2]Establecimiento 2023'!$A$1:$E$183,3,FALSE),0)","v":"105496-Posta de Salud Rural Pintacura Sur"},{"$f":"IFERROR(VLOOKUP(Tabla_SERIED_11_6[[#This Row],[IdEstablecimiento]],'[2]Establecimiento 2023'!$A$1:$E$183,5,FALSE),0)","v":"04201-Illapel"},"15050100","2023-06-22T11:46:28",7,4,3,{"$nulls":4},0,2,5,{"$nulls":4},0]
[5,"5",2023,"105326",{"$f":"IFERROR(VLOOKUP(Tabla_SERIED_11_6[[#This Row],[IdEstablecimiento]],'[2]Establecimiento 2023'!$A$1:$E$183,3,FALSE),0)","v":"105326-Centro de Salud Familiar Villa San Rafael de Rozas"},{"$f":"IFERROR(VLOOKUP(Tabla_SERIED_11_6[[#This Row],[IdEstablecimiento]],'[2]Establecimiento 2023'!$A$1:$E$183,5,FALSE),0)","v":"04201-Illapel"},"15901400","2023-06-22T11:22:40",1,1,{"$nulls":5},1]
[5,"5",2023,"105416",{"$f":"IFERROR(VLOOKUP(Tabla_SERIED_11_6[[#This Row],[IdEstablecimiento]],'[2]Establecimiento 2023'!$A$1:$E$183,3,FALSE),0)","v":"105416-Posta de Salud Rural Camarico (Ovalle)"},{"$f":"IFERROR(VLOOKUP(Tabla_SERIED_11_6[[#This Row],[IdEstablecimiento]],'[2]Establecimiento 2023'!$A$1:$E$183,5,FALSE),0)","v":"04301-Ovalle"},"15050200","2023-06-22T11:27:21",1,1,{"$nulls":6},1]
[5,"5",2023,"105422",{"$f":"IFERROR(VLOOKUP(Tabla_SERIED_11_6[[#This Row],[IdEstablecimiento]],'[2]Establecimiento 2023'!$A$1:$E$183,3,FALSE),0)","v":"105422-Posta de Salud Rural Hornillos"},{"$f":"IFERROR(VLOOKUP(Tabla_SERIED_11_6[[#This Row],[IdEstablecimiento]],'[2]Establecimiento 2023'!$A$1:$E$183,5,FALSE),0)","v":"04301-Ovalle"},"16200210","2023-06-22T11:28:12",2,2]
[5,"5",2023,"105104",{"$f":"IFERROR(VLOOKUP(Tabla_SERIED_11_6[[#This Row],[IdEstablecimiento]],'[2]Establecimiento 2023'!$A$1:$E$183,3,FALSE),0)","v":"105104-Hospital de Salamanca"},{"$f":"IFERROR(VLOOKUP(Tabla_SERIED_11_6[[#This Row],[IdEstablecimiento]],'[2]Establecimiento 2023'!$A$1:$E$183,5,FALSE),0)","v":"105104-Hospital Salamanca"},"15900030","2023-06-22T11:00:55",2.8,null,null,2.8,null,0]
[5,"5",2023,"105506",{"$f":"IFERROR(VLOOKUP(Tabla_SERIED_11_6[[#This Row],[IdEstablecimiento]],'[2]Establecimiento 2023'!$A$1:$E$183,3,FALSE),0)","v":"105506-Posta de Salud Rural El Trapiche"},{"$f":"IFERROR(VLOOKUP(Tabla_SERIED_11_6[[#This Row],[IdEstablecimiento]],'[2]Establecimiento 2023'!$A$1:$E$183,5,FALSE),0)","v":"04104-La Higuera"},"15080014","2023-07-19T15:28:28",2,{"$nulls":4},2]
[5,"5",2023,"105417",{"$f":"IFERROR(VLOOKUP(Tabla_SERIED_11_6[[#This Row],[IdEstablecimiento]],'[2]Establecimiento 2023'!$A$1:$E$183,3,FALSE),0)","v":"105417-Posta de Salud Rural Alcones Bajo"},{"$f":"IFERROR(VLOOKUP(Tabla_SERIED_11_6[[#This Row],[IdEstablecimiento]],'[2]Establecimiento 2023'!$A$1:$E$183,5,FALSE),0)","v":"04301-Ovalle"},"15050200","2023-06-22T11:57:25",1,1,{"$nulls":3},1]
[5,"5",2023,"105434",{"$f":"IFERROR(VLOOKUP(Tabla_SERIED_11_6[[#This Row],[IdEstablecimiento]],'[2]Establecimiento 2023'!$A$1:$E$183,3,FALSE),0)","v":"105434-Posta de Salud Rural San Marcos (Combarbalá)"},{"$f":"IFERROR(VLOOKUP(Tabla_SERIED_11_6[[#This Row],[IdEstablecimiento]],'[2]Establecimiento 2023'!$A$1:$E$183,5,FALSE),0)","v":"04302-Combarbalá"},"15080008","2023-06-22T11:30:03",4,{"$nulls":9},2,1,1]
[5,"5",2023,"105439",{"$f":"IFERROR(VLOOKUP(Tabla_SERIED_11_6[[#This Row],[IdEstablecimiento]],'[2]Establecimiento 2023'!$A$1:$E$183,3,FALSE),0)","v":"105439-Posta de Salud Rural Cerro Blanco"},{"$f":"IFERROR(VLOOKUP(Tabla_SERIED_11_6[[#This Row],[IdEstablecimiento]],'[2]Establecimiento 2023'!$A$1:$E$183,5,FALSE),0)","v":"04301-Ovalle"},"16090300","2023-06-22T11:31:02",47,47]
[5,"5",2023,"200402",{"$f":"IFERROR(VLOOKUP(Tabla_SERIED_11_6[[#This Row],[IdEstablecimiento]],'[2]Establecimiento 2023'!$A$1:$E$183,3,FALSE),0)","v":"200402-Centro Comunitario de Salud Familiar Arcos de Pinamar"},{"$f":"IFERROR(VLOOKUP(Tabla_SERIED_11_6[[#This Row],[IdEstablecimiento]],'[2]Establecimiento 2023'!$A$1:$E$183,5,FALSE),0)","v":"04101-La Serena"},"15900050","2023-06-22T11:53:53",6,3,3,2,1,2,1]
[5,"5",2023,"200538",{"$f":"IFERROR(VLOOKUP(Tabla_SERIED_11_6[[#This Row],[IdEstablecimiento]],'[2]Establecimiento 2023'!$A$1:$E$183,3,FALSE),0)","v":"200538-Centro de Salud Familiar San Isidro Calingasta"},{"$f":"IFERROR(VLOOKUP(Tabla_SERIED_11_6[[#This Row],[IdEstablecimiento]],'[2]Establecimiento 2023'!$A$1:$E$183,5,FALSE),0)","v":"04106-Vicuña"},"15010500","2023-06-22T11:54:34",8,{"$nulls":4},4,4]
[5,"5",2023,"200538",{"$f":"IFERROR(VLOOKUP(Tabla_SERIED_11_6[[#This Row],[IdEstablecimiento]],'[2]Establecimiento 2023'!$A$1:$E$183,3,FALSE),0)","v":"200538-Centro de Salud Familiar San Isidro Calingasta"},{"$f":"IFERROR(VLOOKUP(Tabla_SERIED_11_6[[#This Row],[IdEstablecimiento]],'[2]Establecimiento 2023'!$A$1:$E$183,5,FALSE),0)","v":"04106-Vicuña"},"15050200","2023-06-22T11:54:34",5,3,2,null,null,1,null,2,2]
[5,"5",2023,"105300",{"$f":"IFERROR(VLOOKUP(Tabla_SERIED_11_6[[#This Row],[IdEstablecimiento]],'[2]Establecimiento 2023'!$A$1:$E$183,3,FALSE),0)","v":"105300-Centro de Salud Familiar Cardenal Caro"},{"$f":"IFERROR(VLOOKUP(Tabla_SERIED_11_6[[#This Row],[IdEstablecimiento]],'[2]Establecimiento 2023'!$A$1:$E$183,5,FALSE),0)","v":"04101-La Serena"},"15040100","2023-06-22T11:02:44",8,null,8]
[5,"5",2023,"105450",{"$f":"IFERROR(VLOOKUP(Tabla_SERIED_11_6[[#This Row],[IdEstablecimiento]],'[2]Establecimiento 2023'!$A$1:$E$183,3,FALSE),0)","v":"105450-Posta de Salud Rural Mincha Norte"},{"$f":"IFERROR(VLOOKUP(Tabla_SERIED_11_6[[#This Row],[IdEstablecimiento]],'[2]Establecimiento 2023'!$A$1:$E$183,5,FALSE),0)","v":"04202-Canela"},"16100300","2023-06-22T11:33:37",227,102,125]
[5,"5",2023,"105489",{"$f":"IFERROR(VLOOKUP(Tabla_SERIED_11_6[[#This Row],[IdEstablecimiento]],'[2]Establecimiento 2023'!$A$1:$E$183,3,FALSE),0)","v":"105489-Posta de Salud Rural Ramadas de Tulahuén"},{"$f":"IFERROR(VLOOKUP(Tabla_SERIED_11_6[[#This Row],[IdEstablecimiento]],'[2]Establecimiento 2023'!$A$1:$E$183,5,FALSE),0)","v":"04303-Monte Patria"},"16100300","2023-06-22T11:45:10",35,19,16]
[5,"5",2023,"105498",{"$f":"IFERROR(VLOOKUP(Tabla_SERIED_11_6[[#This Row],[IdEstablecimiento]],'[2]Establecimiento 2023'!$A$1:$E$183,3,FALSE),0)","v":"105498-Posta de Salud Rural Quebrada Linares"},{"$f":"IFERROR(VLOOKUP(Tabla_SERIED_11_6[[#This Row],[IdEstablecimiento]],'[2]Establecimiento 2023'!$A$1:$E$183,5,FALSE),0)","v":"04202-Canela"},"16200210","2023-06-22T11:46:58",4,4]
[5,"5",2023,"105315",{"$f":"IFERROR(VLOOKUP(Tabla_SERIED_11_6[[#This Row],[IdEstablecimiento]],'[2]Establecimiento 2023'!$A$1:$E$183,3,FALSE),0)","v":"105315-Centro de Salud Familiar Cerrillos de Tamaya"},{"$f":"IFERROR(VLOOKUP(Tabla_SERIED_11_6[[#This Row],[IdEstablecimiento]],'[2]Establecimiento 2023'!$A$1:$E$183,5,FALSE),0)","v":"04301-Ovalle"},"15050200","2023-06-22T11:06:47",6,4,2,1,1,1,{"$nulls":7},3]
[5,"5",2023,"105325",{"$f":"IFERROR(VLOOKUP(Tabla_SERIED_11_6[[#This Row],[IdEstablecimiento]],'[2]Establecimiento 2023'!$A$1:$E$183,3,FALSE),0)","v":"105325-Centro de Salud Familiar Juan Pablo II (La Serena)"},{"$f":"IFERROR(VLOOKUP(Tabla_SERIED_11_6[[#This Row],[IdEstablecimiento]],'[2]Establecimiento 2023'!$A$1:$E$183,5,FALSE),0)","v":"04101-La Serena"},"15080016","2023-06-22T11:16:28",45,{"$nulls":3},10,2,26,7]
[5,"5",2023,"105413",{"$f":"IFERROR(VLOOKUP(Tabla_SERIED_11_6[[#This Row],[IdEstablecimiento]],'[2]Establecimiento 2023'!$A$1:$E$183,3,FALSE),0)","v":"105413-Posta de Salud Rural Samo Alto"},{"$f":"IFERROR(VLOOKUP(Tabla_SERIED_11_6[[#This Row],[IdEstablecimiento]],'[2]Establecimiento 2023'!$A$1:$E$183,5,FALSE),0)","v":"04305-Rio Hurtado"},"16200210","2023-06-22T11:26:28",6,6]
[5,"5",2023,"105425",{"$f":"IFERROR(VLOOKUP(Tabla_SERIED_11_6[[#This Row],[IdEstablecimiento]],'[2]Establecimiento 2023'!$A$1:$E$183,3,FALSE),0)","v":"105425-Posta de Salud Rural Chilecito"},{"$f":"IFERROR(VLOOKUP(Tabla_SERIED_11_6[[#This Row],[IdEstablecimiento]],'[2]Establecimiento 2023'!$A$1:$E$183,5,FALSE),0)","v":"04303-Monte Patria"},"15010400","2023-06-22T11:28:26",2,{"$nulls":5},2]
[5,"5",2023,"105455",{"$f":"IFERROR(VLOOKUP(Tabla_SERIED_11_6[[#This Row],[IdEstablecimiento]],'[2]Establecimiento 2023'!$A$1:$E$183,3,FALSE),0)","v":"105455-CESFAM Valle Alto"},{"$f":"IFERROR(VLOOKUP(Tabla_SERIED_11_6[[#This Row],[IdEstablecimiento]],'[2]Establecimiento 2023'!$A$1:$E$183,5,FALSE),0)","v":"04204-Salamanca"},"15020100","2023-06-22T11:34:46",1,null,null,1]
[5,"5",2023,"105466",{"$f":"IFERROR(VLOOKUP(Tabla_SERIED_11_6[[#This Row],[IdEstablecimiento]],'[2]Establecimiento 2023'!$A$1:$E$183,3,FALSE),0)","v":"105466-Posta de Salud Rural Valle Hermoso"},{"$f":"IFERROR(VLOOKUP(Tabla_SERIED_11_6[[#This Row],[IdEstablecimiento]],'[2]Establecimiento 2023'!$A$1:$E$183,5,FALSE),0)","v":"04302-Combarbalá"},"15080008","2023-06-22T11:37:47",2,{"$nulls":11},2]
[5,"5",2023,"105478",{"$f":"IFERROR(VLOOKUP(Tabla_SERIED_11_6[[#This Row],[IdEstablecimiento]],'[2]Establecimiento 2023'!$A$1:$E$183,3,FALSE),0)","v":"105478-Posta de Salud Rural Caimanes"},{"$f":"IFERROR(VLOOKUP(Tabla_SERIED_11_6[[#This Row],[IdEstablecimiento]],'[2]Establecimiento 2023'!$A$1:$E$183,5,FALSE),0)","v":"04203-Los Vilos"},"15900040","2023-06-22T11:41:37",9.6,null,null,9.6]
[5,"5",2023,"105313",{"$f":"IFERROR(VLOOKUP(Tabla_SERIED_11_6[[#This Row],[IdEstablecimiento]],'[2]Establecimiento 2023'!$A$1:$E$183,3,FALSE),0)","v":"105313-Centro de Salud Familiar Dr. Emilio Schaffhauser"},{"$f":"IFERROR(VLOOKUP(Tabla_SERIED_11_6[[#This Row],[IdEstablecimiento]],'[2]Establecimiento 2023'!$A$1:$E$183,5,FALSE),0)","v":"04101-La Serena"},"15020200","2023-06-22T11:06:23",10,{"$nulls":4},2,6,2]
[5,"5",2023,"105702",{"$f":"IFERROR(VLOOKUP(Tabla_SERIED_11_6[[#This Row],[IdEstablecimiento]],'[2]Establecimiento 2023'!$A$1:$E$183,3,FALSE),0)","v":"105702-Centro Comunitario de Salud Familiar Lambert"},{"$f":"IFERROR(VLOOKUP(Tabla_SERIED_11_6[[#This Row],[IdEstablecimiento]],'[2]Establecimiento 2023'!$A$1:$E$183,5,FALSE),0)","v":"04101-La Serena"},"15050100","2023-06-22T11:50:44",85,26,59,null,1,3,8,13,25,14,12,null,5,null,4]
[5,"5",2023,"200273",{"$f":"IFERROR(VLOOKUP(Tabla_SERIED_11_6[[#This Row],[IdEstablecimiento]],'[2]Establecimiento 2023'!$A$1:$E$183,3,FALSE),0)","v":"200273-Centro Comunitario de Salud Familiar Punta Mira"},{"$f":"IFERROR(VLOOKUP(Tabla_SERIED_11_6[[#This Row],[IdEstablecimiento]],'[2]Establecimiento 2023'!$A$1:$E$183,5,FALSE),0)","v":"04102-Coquimbo"},"15080008","2023-06-22T11:53:10",21,{"$nulls":7},8,null,10,0,3]
[5,"5",2023,"105107",{"$f":"IFERROR(VLOOKUP(Tabla_SERIED_11_6[[#This Row],[IdEstablecimiento]],'[2]Establecimiento 2023'!$A$1:$E$183,3,FALSE),0)","v":"105107-Hospital San Juan de Dios (Vicuña)"},{"$f":"IFERROR(VLOOKUP(Tabla_SERIED_11_6[[#This Row],[IdEstablecimiento]],'[2]Establecimiento 2023'!$A$1:$E$183,5,FALSE),0)","v":"105107-Hospital Vicuña"},"16200220","2023-06-22T11:01:58",13,2,11]
[5,"5",2023,"105302",{"$f":"IFERROR(VLOOKUP(Tabla_SERIED_11_6[[#This Row],[IdEstablecimiento]],'[2]Establecimiento 2023'!$A$1:$E$183,3,FALSE),0)","v":"105302-Centro de Salud Familiar Pedro Aguirre Cerda"},{"$f":"IFERROR(VLOOKUP(Tabla_SERIED_11_6[[#This Row],[IdEstablecimiento]],'[2]Establecimiento 2023'!$A$1:$E$183,5,FALSE),0)","v":"04101-La Serena"},"16200100","2023-06-22T11:03:11",34,20,14]
[5,"5",2023,"105483",{"$f":"IFERROR(VLOOKUP(Tabla_SERIED_11_6[[#This Row],[IdEstablecimiento]],'[2]Establecimiento 2023'!$A$1:$E$183,3,FALSE),0)","v":"105483-Posta de Salud Rural Los Rulos"},{"$f":"IFERROR(VLOOKUP(Tabla_SERIED_11_6[[#This Row],[IdEstablecimiento]],'[2]Establecimiento 2023'!$A$1:$E$183,5,FALSE),0)","v":"04202-Canela"},"15900010","2023-06-22T11:43:37",3.2,null,null,3.2]
[5,"5",2023,"105499",{"$f":"IFERROR(VLOOKUP(Tabla_SERIED_11_6[[#This Row],[IdEstablecimiento]],'[2]Establecimiento 2023'!$A$1:$E$183,3,FALSE),0)","v":"105499-Posta de Salud Rural Lambert"},{"$f":"IFERROR(VLOOKUP(Tabla_SERIED_11_6[[#This Row],[IdEstablecimiento]],'[2]Establecimiento 2023'!$A$1:$E$183,5,FALSE),0)","v":"04101-La Serena"},"15900010","2023-06-22T11:47:10",19.2,null,3.2,16]
[5,"5",2023,"105437",{"$f":"IFERROR(VLOOKUP(Tabla_SERIED_11_6[[#This Row],[IdEstablecimiento]],'[2]Establecimiento 2023'!$A$1:$E$183,3,FALSE),0)","v":"105437-Posta de Salud Rural Chalinga"},{"$f":"IFERROR(VLOOKUP(Tabla_SERIED_11_6[[#This Row],[IdEstablecimiento]],'[2]Establecimiento 2023'!$A$1:$E$183,5,FALSE),0)","v":"04301-Ovalle"},"15010200","2023-06-22T11:30:46",8,{"$nulls":5},2,6]
[5,"5",2023,"105410",{"$f":"IFERROR(VLOOKUP(Tabla_SERIED_11_6[[#This Row],[IdEstablecimiento]],'[2]Establecimiento 2023'!$A$1:$E$183,3,FALSE),0)","v":"105410-Posta de Salud Rural Hurtado"},{"$f":"IFERROR(VLOOKUP(Tabla_SERIED_11_6[[#This Row],[IdEstablecimiento]],'[2]Establecimiento 2023'!$A$1:$E$183,5,FALSE),0)","v":"04305-Rio Hurtado"},"16100300","2023-06-22T11:25:53",42,20,22]
[5,"5",2023,"105417",{"$f":"IFERROR(VLOOKUP(Tabla_SERIED_11_6[[#This Row],[IdEstablecimiento]],'[2]Establecimiento 2023'!$A$1:$E$183,3,FALSE),0)","v":"105417-Posta de Salud Rural Alcones Bajo"},{"$f":"IFERROR(VLOOKUP(Tabla_SERIED_11_6[[#This Row],[IdEstablecimiento]],'[2]Establecimiento 2023'!$A$1:$E$183,5,FALSE),0)","v":"04301-Ovalle"},"15900020","2023-06-22T11:57:25",3.3,null,null,3.3]
[5,"5",2023,"105104",{"$f":"IFERROR(VLOOKUP(Tabla_SERIED_11_6[[#This Row],[IdEstablecimiento]],'[2]Establecimiento 2023'!$A$1:$E$183,3,FALSE),0)","v":"105104-Hospital de Salamanca"},{"$f":"IFERROR(VLOOKUP(Tabla_SERIED_11_6[[#This Row],[IdEstablecimiento]],'[2]Establecimiento 2023'!$A$1:$E$183,5,FALSE),0)","v":"105104-Hospital Salamanca"},"16100300","2023-06-22T11:00:55",503,214,289]
[5,"5",2023,"105108",{"$f":"IFERROR(VLOOKUP(Tabla_SERIED_11_6[[#This Row],[IdEstablecimiento]],'[2]Establecimiento 2023'!$A$1:$E$183,3,FALSE),0)","v":"105108-Hospital San Pedro (Los Vilos)"},{"$f":"IFERROR(VLOOKUP(Tabla_SERIED_11_6[[#This Row],[IdEstablecimiento]],'[2]Establecimiento 2023'!$A$1:$E$183,5,FALSE),0)","v":"105108-Hospital Los Vilos"},"15050200","2023-06-22T11:02:30",14,9,5,null,null,2,1,null,6,5]
[5,"5",2023,"105302",{"$f":"IFERROR(VLOOKUP(Tabla_SERIED_11_6[[#This Row],[IdEstablecimiento]],'[2]Establecimiento 2023'!$A$1:$E$183,3,FALSE),0)","v":"105302-Centro de Salud Familiar Pedro Aguirre Cerda"},{"$f":"IFERROR(VLOOKUP(Tabla_SERIED_11_6[[#This Row],[IdEstablecimiento]],'[2]Establecimiento 2023'!$A$1:$E$183,5,FALSE),0)","v":"04101-La Serena"},"16200210","2023-06-22T11:03:11",64,64]
[5,"5",2023,"105434",{"$f":"IFERROR(VLOOKUP(Tabla_SERIED_11_6[[#This Row],[IdEstablecimiento]],'[2]Establecimiento 2023'!$A$1:$E$183,3,FALSE),0)","v":"105434-Posta de Salud Rural San Marcos (Combarbalá)"},{"$f":"IFERROR(VLOOKUP(Tabla_SERIED_11_6[[#This Row],[IdEstablecimiento]],'[2]Establecimiento 2023'!$A$1:$E$183,5,FALSE),0)","v":"04302-Combarbalá"},"16200100","2023-06-22T11:30:03",3,1,2]
[5,"5",2023,"105451",{"$f":"IFERROR(VLOOKUP(Tabla_SERIED_11_6[[#This Row],[IdEstablecimiento]],'[2]Establecimiento 2023'!$A$1:$E$183,3,FALSE),0)","v":"105451-Posta de Salud Rural Agua Fría"},{"$f":"IFERROR(VLOOKUP(Tabla_SERIED_11_6[[#This Row],[IdEstablecimiento]],'[2]Establecimiento 2023'!$A$1:$E$183,5,FALSE),0)","v":"04202-Canela"},"16090300","2023-06-22T11:33:53",77,77]
[5,"5",2023,"105456",{"$f":"IFERROR(VLOOKUP(Tabla_SERIED_11_6[[#This Row],[IdEstablecimiento]],'[2]Establecimiento 2023'!$A$1:$E$183,3,FALSE),0)","v":"105456-Posta de Salud Rural Llimpo"},{"$f":"IFERROR(VLOOKUP(Tabla_SERIED_11_6[[#This Row],[IdEstablecimiento]],'[2]Establecimiento 2023'!$A$1:$E$183,5,FALSE),0)","v":"04204-Salamanca"},"15050100","2023-06-22T11:35:01",38,16,22,3,2,null,1,3,5,13,4,null,2,1,4]
[5,"5",2023,"105309",{"$f":"IFERROR(VLOOKUP(Tabla_SERIED_11_6[[#This Row],[IdEstablecimiento]],'[2]Establecimiento 2023'!$A$1:$E$183,3,FALSE),0)","v":"105309-Centro de Salud Familiar Canela"},{"$f":"IFERROR(VLOOKUP(Tabla_SERIED_11_6[[#This Row],[IdEstablecimiento]],'[2]Establecimiento 2023'!$A$1:$E$183,5,FALSE),0)","v":"04202-Canela"},"16090500","2023-06-22T11:05:29",2,2]
[5,"5",2023,"105312",{"$f":"IFERROR(VLOOKUP(Tabla_SERIED_11_6[[#This Row],[IdEstablecimiento]],'[2]Establecimiento 2023'!$A$1:$E$183,3,FALSE),0)","v":"105312-Centro de Salud Familiar Carén"},{"$f":"IFERROR(VLOOKUP(Tabla_SERIED_11_6[[#This Row],[IdEstablecimiento]],'[2]Establecimiento 2023'!$A$1:$E$183,5,FALSE),0)","v":"04303-Monte Patria"},"16200210","2023-06-22T11:06:10",9,9]
[5,"5",2023,"200258",{"$f":"IFERROR(VLOOKUP(Tabla_SERIED_11_6[[#This Row],[IdEstablecimiento]],'[2]Establecimiento 2023'!$A$1:$E$183,3,FALSE),0)","v":"200258-Centro Comunitario de Salud Familiar Los Copihues"},{"$f":"IFERROR(VLOOKUP(Tabla_SERIED_11_6[[#This Row],[IdEstablecimiento]],'[2]Establecimiento 2023'!$A$1:$E$183,5,FALSE),0)","v":"04301-Ovalle"},"15050100","2023-06-22T11:52:54",91,39,52,0,2,11,11,11,22,14,12,null,2,2,4]
[5,"5",2023,"105465",{"$f":"IFERROR(VLOOKUP(Tabla_SERIED_11_6[[#This Row],[IdEstablecimiento]],'[2]Establecimiento 2023'!$A$1:$E$183,3,FALSE),0)","v":"105465-Posta de Salud Rural Ramadilla"},{"$f":"IFERROR(VLOOKUP(Tabla_SERIED_11_6[[#This Row],[IdEstablecimiento]],'[2]Establecimiento 2023'!$A$1:$E$183,5,FALSE),0)","v":"04302-Combarbalá"},"16200210","2023-06-22T11:37:34",8,8]
[5,"5",2023,"105467",{"$f":"IFERROR(VLOOKUP(Tabla_SERIED_11_6[[#This Row],[IdEstablecimiento]],'[2]Establecimiento 2023'!$A$1:$E$183,3,FALSE),0)","v":"105467-Posta de Salud Rural Diaguitas"},{"$f":"IFERROR(VLOOKUP(Tabla_SERIED_11_6[[#This Row],[IdEstablecimiento]],'[2]Establecimiento 2023'!$A$1:$E$183,5,FALSE),0)","v":"04106-Vicuña"},"15010400","2023-06-22T11:38:03",2,{"$nulls":6},2]
[5,"5",2023,"105473",{"$f":"IFERROR(VLOOKUP(Tabla_SERIED_11_6[[#This Row],[IdEstablecimiento]],'[2]Establecimiento 2023'!$A$1:$E$183,3,FALSE),0)","v":"105473-Posta de Salud Rural Talcuna"},{"$f":"IFERROR(VLOOKUP(Tabla_SERIED_11_6[[#This Row],[IdEstablecimiento]],'[2]Establecimiento 2023'!$A$1:$E$183,5,FALSE),0)","v":"04106-Vicuña"},"15900010","2023-06-22T11:40:20",9.6,null,3.2,6.4]
[5,"5",2023,"105499",{"$f":"IFERROR(VLOOKUP(Tabla_SERIED_11_6[[#This Row],[IdEstablecimiento]],'[2]Establecimiento 2023'!$A$1:$E$183,3,FALSE),0)","v":"105499-Posta de Salud Rural Lambert"},{"$f":"IFERROR(VLOOKUP(Tabla_SERIED_11_6[[#This Row],[IdEstablecimiento]],'[2]Establecimiento 2023'!$A$1:$E$183,5,FALSE),0)","v":"04101-La Serena"},"15010100","2023-06-22T11:47:10",6,{"$nulls":3},2,4]
[5,"5",2023,"105504",{"$f":"IFERROR(VLOOKUP(Tabla_SERIED_11_6[[#This Row],[IdEstablecimiento]],'[2]Establecimiento 2023'!$A$1:$E$183,3,FALSE),0)","v":"105504-Posta de Salud Rural Socavón"},{"$f":"IFERROR(VLOOKUP(Tabla_SERIED_11_6[[#This Row],[IdEstablecimiento]],'[2]Establecimiento 2023'!$A$1:$E$183,5,FALSE),0)","v":"04201-Illapel"},"15050100","2023-06-22T11:48:05",10,3,7,{"$nulls":3},1,null,3,5,1,null,0]
[5,"5",2023,"105700",{"$f":"IFERROR(VLOOKUP(Tabla_SERIED_11_6[[#This Row],[IdEstablecimiento]],'[2]Establecimiento 2023'!$A$1:$E$183,3,FALSE),0)","v":"105700-Centro Comunitario de Salud Familiar Villa el Indio"},{"$f":"IFERROR(VLOOKUP(Tabla_SERIED_11_6[[#This Row],[IdEstablecimiento]],'[2]Establecimiento 2023'!$A$1:$E$183,5,FALSE),0)","v":"04101-La Serena"},"16200210","2023-06-22T11:50:18",4,4]
[5,"5",2023,"200366",{"$f":"IFERROR(VLOOKUP(Tabla_SERIED_11_6[[#This Row],[IdEstablecimiento]],'[2]Establecimiento 2023'!$A$1:$E$183,3,FALSE),0)","v":"200366-Centro de Salud Familiar Urbano de Illapel"},{"$f":"IFERROR(VLOOKUP(Tabla_SERIED_11_6[[#This Row],[IdEstablecimiento]],'[2]Establecimiento 2023'!$A$1:$E$183,5,FALSE),0)","v":"04201-Illapel"},"15050100","2023-06-22T11:53:26",360,145,215,3,3,12,44,57,95,85,49,null,4,1,7]
[5,"5",2023,"200367",{"$f":"IFERROR(VLOOKUP(Tabla_SERIED_11_6[[#This Row],[IdEstablecimiento]],'[2]Establecimiento 2023'!$A$1:$E$183,3,FALSE),0)","v":"200367-Centro Comunitario de Salud Familiar Colonia Limarí"},{"$f":"IFERROR(VLOOKUP(Tabla_SERIED_11_6[[#This Row],[IdEstablecimiento]],'[2]Establecimiento 2023'!$A$1:$E$183,5,FALSE),0)","v":"04301-Ovalle"},"15080008","2023-07-19T15:28:51",13,{"$nulls":7},8,null,4,null,1]
[5,"5",2023,"200607",{"$f":"IFERROR(VLOOKUP(Tabla_SERIED_11_6[[#This Row],[IdEstablecimiento]],'[2]Establecimiento 2023'!$A$1:$E$183,3,FALSE),0)","v":"200607-Centro de Salud Familiar Lila Cortés Godoy"},{"$f":"IFERROR(VLOOKUP(Tabla_SERIED_11_6[[#This Row],[IdEstablecimiento]],'[2]Establecimiento 2023'!$A$1:$E$183,5,FALSE),0)","v":"04102-Coquimbo"},"16200210","2023-06-22T11:54:50",72,72]
[5,"5",2023,"105304",{"$f":"IFERROR(VLOOKUP(Tabla_SERIED_11_6[[#This Row],[IdEstablecimiento]],'[2]Establecimiento 2023'!$A$1:$E$183,3,FALSE),0)","v":"105304-Centro de Salud Familiar Santa Cecilia"},{"$f":"IFERROR(VLOOKUP(Tabla_SERIED_11_6[[#This Row],[IdEstablecimiento]],'[2]Establecimiento 2023'!$A$1:$E$183,5,FALSE),0)","v":"04102-Coquimbo"},"15050100","2023-06-22T11:03:46",610,213,397,9,22,41,72,91,124,106,81,null,23,16,25]
[5,"5",2023,"105304",{"$f":"IFERROR(VLOOKUP(Tabla_SERIED_11_6[[#This Row],[IdEstablecimiento]],'[2]Establecimiento 2023'!$A$1:$E$183,3,FALSE),0)","v":"105304-Centro de Salud Familiar Santa Cecilia"},{"$f":"IFERROR(VLOOKUP(Tabla_SERIED_11_6[[#This Row],[IdEstablecimiento]],'[2]Establecimiento 2023'!$A$1:$E$183,5,FALSE),0)","v":"04102-Coquimbo"},"15901200","2023-06-22T11:03:46",3.2,0,0,3.2,0,0]
[5,"5",2023,"105309",{"$f":"IFERROR(VLOOKUP(Tabla_SERIED_11_6[[#This Row],[IdEstablecimiento]],'[2]Establecimiento 2023'!$A$1:$E$183,3,FALSE),0)","v":"105309-Centro de Salud Familiar Canela"},{"$f":"IFERROR(VLOOKUP(Tabla_SERIED_11_6[[#This Row],[IdEstablecimiento]],'[2]Establecimiento 2023'!$A$1:$E$183,5,FALSE),0)","v":"04202-Canela"},"15080016","2023-06-22T11:05:29",2,{"$nulls":4},2]
[5,"5",2023,"105469",{"$f":"IFERROR(VLOOKUP(Tabla_SERIED_11_6[[#This Row],[IdEstablecimiento]],'[2]Establecimiento 2023'!$A$1:$E$183,3,FALSE),0)","v":"105469-Posta de Salud Rural El Tambo (Vicuña)"},{"$f":"IFERROR(VLOOKUP(Tabla_SERIED_11_6[[#This Row],[IdEstablecimiento]],'[2]Establecimiento 2023'!$A$1:$E$183,5,FALSE),0)","v":"04106-Vicuña"},"16100300","2023-06-22T11:38:59",51,19,32]
[5,"5",2023,"105476",{"$f":"IFERROR(VLOOKUP(Tabla_SERIED_11_6[[#This Row],[IdEstablecimiento]],'[2]Establecimiento 2023'!$A$1:$E$183,3,FALSE),0)","v":"105476-Posta de Salud Rural Monte Grande"},{"$f":"IFERROR(VLOOKUP(Tabla_SERIED_11_6[[#This Row],[IdEstablecimiento]],'[2]Establecimiento 2023'!$A$1:$E$183,5,FALSE),0)","v":"04105-Paihuano"},"16090300","2023-06-22T11:41:08",12,12]
[5,"5",2023,"105701",{"$f":"IFERROR(VLOOKUP(Tabla_SERIED_11_6[[#This Row],[IdEstablecimiento]],'[2]Establecimiento 2023'!$A$1:$E$183,3,FALSE),0)","v":"105701-Centro Comunitario de Salud Familiar Villa Alemania"},{"$f":"IFERROR(VLOOKUP(Tabla_SERIED_11_6[[#This Row],[IdEstablecimiento]],'[2]Establecimiento 2023'!$A$1:$E$183,5,FALSE),0)","v":"04101-La Serena"},"15900010","2023-06-22T11:50:30",7.2,1.8,null,5.4]
[5,"5",2023,"200569",{"$f":"IFERROR(VLOOKUP(Tabla_SERIED_11_6[[#This Row],[IdEstablecimiento]],'[2]Establecimiento 2023'!$A$1:$E$183,3,FALSE),0)","v":"200569-Centro de Salud Familiar Fray Jorge"},{"$f":"IFERROR(VLOOKUP(Tabla_SERIED_11_6[[#This Row],[IdEstablecimiento]],'[2]Establecimiento 2023'!$A$1:$E$183,5,FALSE),0)","v":"04301-Ovalle"},"16200210","2023-07-20T12:21:37",4,4]
[5,"5",2023,"105491",{"$f":"IFERROR(VLOOKUP(Tabla_SERIED_11_6[[#This Row],[IdEstablecimiento]],'[2]Establecimiento 2023'!$A$1:$E$183,3,FALSE),0)","v":"105491-Posta de Salud Rural Quelén Bajo"},{"$f":"IFERROR(VLOOKUP(Tabla_SERIED_11_6[[#This Row],[IdEstablecimiento]],'[2]Establecimiento 2023'!$A$1:$E$183,5,FALSE),0)","v":"04204-Salamanca"},"16200220","2023-06-22T11:45:41",5,2,3]
[5,"5",2023,"105492",{"$f":"IFERROR(VLOOKUP(Tabla_SERIED_11_6[[#This Row],[IdEstablecimiento]],'[2]Establecimiento 2023'!$A$1:$E$183,3,FALSE),0)","v":"105492-Posta de Salud Rural Camisa"},{"$f":"IFERROR(VLOOKUP(Tabla_SERIED_11_6[[#This Row],[IdEstablecimiento]],'[2]Establecimiento 2023'!$A$1:$E$183,5,FALSE),0)","v":"04204-Salamanca"},"16200220","2023-06-22T11:45:55",2,1,1]
[5,"5",2023,"105105",{"$f":"IFERROR(VLOOKUP(Tabla_SERIED_11_6[[#This Row],[IdEstablecimiento]],'[2]Establecimiento 2023'!$A$1:$E$183,3,FALSE),0)","v":"105105-Hospital San Juan de Dios (Combarbalá)"},{"$f":"IFERROR(VLOOKUP(Tabla_SERIED_11_6[[#This Row],[IdEstablecimiento]],'[2]Establecimiento 2023'!$A$1:$E$183,5,FALSE),0)","v":"105105-Hospital Combarbalá"},"15080014","2023-06-22T11:01:14",96,{"$nulls":3},66,30]
[5,"5",2023,"105107",{"$f":"IFERROR(VLOOKUP(Tabla_SERIED_11_6[[#This Row],[IdEstablecimiento]],'[2]Establecimiento 2023'!$A$1:$E$183,3,FALSE),0)","v":"105107-Hospital San Juan de Dios (Vicuña)"},{"$f":"IFERROR(VLOOKUP(Tabla_SERIED_11_6[[#This Row],[IdEstablecimiento]],'[2]Establecimiento 2023'!$A$1:$E$183,5,FALSE),0)","v":"105107-Hospital Vicuña"},"15080018","2023-06-22T11:01:58",2,{"$nulls":4},2]
[6,"5",2023,"105107",{"$f":"IFERROR(VLOOKUP(Tabla_SERIED_11_6[[#This Row],[IdEstablecimiento]],'[2]Establecimiento 2023'!$A$1:$E$183,3,FALSE),0)","v":"105107-Hospital San Juan de Dios (Vicuña)"},{"$f":"IFERROR(VLOOKUP(Tabla_SERIED_11_6[[#This Row],[IdEstablecimiento]],'[2]Establecimiento 2023'!$A$1:$E$183,5,FALSE),0)","v":"105107-Hospital Vicuña"},"16200220","2023-07-19T12:10:17",11,2,9]
[6,"5",2023,"105301",{"$f":"IFERROR(VLOOKUP(Tabla_SERIED_11_6[[#This Row],[IdEstablecimiento]],'[2]Establecimiento 2023'!$A$1:$E$183,3,FALSE),0)","v":"105301-Centro de Salud Familiar Las Compañías"},{"$f":"IFERROR(VLOOKUP(Tabla_SERIED_11_6[[#This Row],[IdEstablecimiento]],'[2]Establecimiento 2023'!$A$1:$E$183,5,FALSE),0)","v":"04101-La Serena"},"15900010","2023-07-17T13:17:33",159.2,15.2,45.6,98.4]
[6,"5",2023,"105309",{"$f":"IFERROR(VLOOKUP(Tabla_SERIED_11_6[[#This Row],[IdEstablecimiento]],'[2]Establecimiento 2023'!$A$1:$E$183,3,FALSE),0)","v":"105309-Centro de Salud Familiar Canela"},{"$f":"IFERROR(VLOOKUP(Tabla_SERIED_11_6[[#This Row],[IdEstablecimiento]],'[2]Establecimiento 2023'!$A$1:$E$183,5,FALSE),0)","v":"04202-Canela"},"15900050","2023-08-18T11:32:40",4,4,{"$nulls":3},1,1,2]
[6,"5",2023,"105313",{"$f":"IFERROR(VLOOKUP(Tabla_SERIED_11_6[[#This Row],[IdEstablecimiento]],'[2]Establecimiento 2023'!$A$1:$E$183,3,FALSE),0)","v":"105313-Centro de Salud Familiar Dr. Emilio Schaffhauser"},{"$f":"IFERROR(VLOOKUP(Tabla_SERIED_11_6[[#This Row],[IdEstablecimiento]],'[2]Establecimiento 2023'!$A$1:$E$183,5,FALSE),0)","v":"04101-La Serena"},"15030100","2023-07-17T14:55:07",12.4,null,4,8.4]
[6,"5",2023,"105319",{"$f":"IFERROR(VLOOKUP(Tabla_SERIED_11_6[[#This Row],[IdEstablecimiento]],'[2]Establecimiento 2023'!$A$1:$E$183,3,FALSE),0)","v":"105319-Centro de Salud Familiar Cardenal Raúl Silva Henríquez de La Serena"},{"$f":"IFERROR(VLOOKUP(Tabla_SERIED_11_6[[#This Row],[IdEstablecimiento]],'[2]Establecimiento 2023'!$A$1:$E$183,5,FALSE),0)","v":"04101-La Serena"},"15010500","2023-07-19T15:47:29",10,{"$nulls":3},6,4]
[5,"5",2023,"200569",{"$f":"IFERROR(VLOOKUP(Tabla_SERIED_11_6[[#This Row],[IdEstablecimiento]],'[2]Establecimiento 2023'!$A$1:$E$183,3,FALSE),0)","v":"200569-Centro de Salud Familiar Fray Jorge"},{"$f":"IFERROR(VLOOKUP(Tabla_SERIED_11_6[[#This Row],[IdEstablecimiento]],'[2]Establecimiento 2023'!$A$1:$E$183,5,FALSE),0)","v":"04301-Ovalle"},"15080016","2023-07-20T12:21:37",8,{"$nulls":3},6,2]
[6,"5",2023,"105479",{"$f":"IFERROR(VLOOKUP(Tabla_SERIED_11_6[[#This Row],[IdEstablecimiento]],'[2]Establecimiento 2023'!$A$1:$E$183,3,FALSE),0)","v":"105479-Posta de Salud Rural Guangualí"},{"$f":"IFERROR(VLOOKUP(Tabla_SERIED_11_6[[#This Row],[IdEstablecimiento]],'[2]Establecimiento 2023'!$A$1:$E$183,5,FALSE),0)","v":"04203-Los Vilos"},"16100300","2023-07-17T16:38:38",76,29,47]
[6,"5",2023,"105490",{"$f":"IFERROR(VLOOKUP(Tabla_SERIED_11_6[[#This Row],[IdEstablecimiento]],'[2]Establecimiento 2023'!$A$1:$E$183,3,FALSE),0)","v":"105490-Posta de Salud Rural El Durazno(Combarbalá)"},{"$f":"IFERROR(VLOOKUP(Tabla_SERIED_11_6[[#This Row],[IdEstablecimiento]],'[2]Establecimiento 2023'!$A$1:$E$183,5,FALSE),0)","v":"04302-Combarbalá"},"15050100","2023-07-18T15:40:56",8,4,4,null,null,1,{"$nulls":3},5,{"$nulls":4},2]
[6,"5",2023,"105319",{"$f":"IFERROR(VLOOKUP(Tabla_SERIED_11_6[[#This Row],[IdEstablecimiento]],'[2]Establecimiento 2023'!$A$1:$E$183,3,FALSE),0)","v":"105319-Centro de Salud Familiar Cardenal Raúl Silva Henríquez de La Serena"},{"$f":"IFERROR(VLOOKUP(Tabla_SERIED_11_6[[#This Row],[IdEstablecimiento]],'[2]Establecimiento 2023'!$A$1:$E$183,5,FALSE),0)","v":"04101-La Serena"},"15080016","2023-07-19T15:47:29",8,{"$nulls":3},6,2]
[6,"5",2023,"105323",{"$f":"IFERROR(VLOOKUP(Tabla_SERIED_11_6[[#This Row],[IdEstablecimiento]],'[2]Establecimiento 2023'!$A$1:$E$183,3,FALSE),0)","v":"105323-Centro de Salud Familiar Dr. Sergio Aguilar Delgado"},{"$f":"IFERROR(VLOOKUP(Tabla_SERIED_11_6[[#This Row],[IdEstablecimiento]],'[2]Establecimiento 2023'!$A$1:$E$183,5,FALSE),0)","v":"04102-Coquimbo"},"16090100","2023-07-18T12:53:31",4,4]
[6,"5",2023,"105402",{"$f":"IFERROR(VLOOKUP(Tabla_SERIED_11_6[[#This Row],[IdEstablecimiento]],'[2]Establecimiento 2023'!$A$1:$E$183,3,FALSE),0)","v":"105402-Posta de Salud Rural El Romero"},{"$f":"IFERROR(VLOOKUP(Tabla_SERIED_11_6[[#This Row],[IdEstablecimiento]],'[2]Establecimiento 2023'!$A$1:$E$183,5,FALSE),0)","v":"04101-La Serena"},"15900010","2023-07-17T15:26:03",11.2,null,1.6,9.6]
[5,"5",2023,"200538",{"$f":"IFERROR(VLOOKUP(Tabla_SERIED_11_6[[#This Row],[IdEstablecimiento]],'[2]Establecimiento 2023'!$A$1:$E$183,3,FALSE),0)","v":"200538-Centro de Salud Familiar San Isidro Calingasta"},{"$f":"IFERROR(VLOOKUP(Tabla_SERIED_11_6[[#This Row],[IdEstablecimiento]],'[2]Establecimiento 2023'!$A$1:$E$183,5,FALSE),0)","v":"04106-Vicuña"},"15080014","2023-06-22T11:54:34",73,{"$nulls":3},34,38,null,null,1]
[6,"5",2023,"105321",{"$f":"IFERROR(VLOOKUP(Tabla_SERIED_11_6[[#This Row],[IdEstablecimiento]],'[2]Establecimiento 2023'!$A$1:$E$183,3,FALSE),0)","v":"105321-Centro de Salud Familiar Tongoy"},{"$f":"IFERROR(VLOOKUP(Tabla_SERIED_11_6[[#This Row],[IdEstablecimiento]],'[2]Establecimiento 2023'!$A$1:$E$183,5,FALSE),0)","v":"04102-Coquimbo"},"15900010","2023-07-18T12:52:38",74.4,8,16,50.4]
[6,"5",2023,"105322",{"$f":"IFERROR(VLOOKUP(Tabla_SERIED_11_6[[#This Row],[IdEstablecimiento]],'[2]Establecimiento 2023'!$A$1:$E$183,3,FALSE),0)","v":"105322-Centro de Salud Familiar Marcos Macuada"},{"$f":"IFERROR(VLOOKUP(Tabla_SERIED_11_6[[#This Row],[IdEstablecimiento]],'[2]Establecimiento 2023'!$A$1:$E$183,5,FALSE),0)","v":"04301-Ovalle"},"15020500","2023-07-19T15:48:06",2,null,0,0,0,0,2,0]
[6,"5",2023,"105302",{"$f":"IFERROR(VLOOKUP(Tabla_SERIED_11_6[[#This Row],[IdEstablecimiento]],'[2]Establecimiento 2023'!$A$1:$E$183,3,FALSE),0)","v":"105302-Centro de Salud Familiar Pedro Aguirre Cerda"},{"$f":"IFERROR(VLOOKUP(Tabla_SERIED_11_6[[#This Row],[IdEstablecimiento]],'[2]Establecimiento 2023'!$A$1:$E$183,5,FALSE),0)","v":"04101-La Serena"},"15050200","2023-07-17T13:20:20",8,3,5,null,null,2,1,null,3,1,null,1]
[6,"5",2023,"105504",{"$f":"IFERROR(VLOOKUP(Tabla_SERIED_11_6[[#This Row],[IdEstablecimiento]],'[2]Establecimiento 2023'!$A$1:$E$183,3,FALSE),0)","v":"105504-Posta de Salud Rural Socavón"},{"$f":"IFERROR(VLOOKUP(Tabla_SERIED_11_6[[#This Row],[IdEstablecimiento]],'[2]Establecimiento 2023'!$A$1:$E$183,5,FALSE),0)","v":"04201-Illapel"},"16200220","2023-07-18T09:38:20",8,2,6]
[6,"5",2023,"200258",{"$f":"IFERROR(VLOOKUP(Tabla_SERIED_11_6[[#This Row],[IdEstablecimiento]],'[2]Establecimiento 2023'!$A$1:$E$183,3,FALSE),0)","v":"200258-Centro Comunitario de Salud Familiar Los Copihues"},{"$f":"IFERROR(VLOOKUP(Tabla_SERIED_11_6[[#This Row],[IdEstablecimiento]],'[2]Establecimiento 2023'!$A$1:$E$183,5,FALSE),0)","v":"04301-Ovalle"},"15901400","2023-07-18T09:49:15",1,0,1,{"$nulls":3},1]
[6,"5",2023,"200402",{"$f":"IFERROR(VLOOKUP(Tabla_SERIED_11_6[[#This Row],[IdEstablecimiento]],'[2]Establecimiento 2023'!$A$1:$E$183,3,FALSE),0)","v":"200402-Centro Comunitario de Salud Familiar Arcos de Pinamar"},{"$f":"IFERROR(VLOOKUP(Tabla_SERIED_11_6[[#This Row],[IdEstablecimiento]],'[2]Establecimiento 2023'!$A$1:$E$183,5,FALSE),0)","v":"04101-La Serena"},"16100300","2023-07-18T09:51:12",68,32,36]
[6,"5",2023,"105416",{"$f":"IFERROR(VLOOKUP(Tabla_SERIED_11_6[[#This Row],[IdEstablecimiento]],'[2]Establecimiento 2023'!$A$1:$E$183,3,FALSE),0)","v":"105416-Posta de Salud Rural Camarico (Ovalle)"},{"$f":"IFERROR(VLOOKUP(Tabla_SERIED_11_6[[#This Row],[IdEstablecimiento]],'[2]Establecimiento 2023'!$A$1:$E$183,5,FALSE),0)","v":"04301-Ovalle"},"15010200","2023-07-17T15:37:38",28,{"$nulls":5},8,20]
[6,"5",2023,"105437",{"$f":"IFERROR(VLOOKUP(Tabla_SERIED_11_6[[#This Row],[IdEstablecimiento]],'[2]Establecimiento 2023'!$A$1:$E$183,3,FALSE),0)","v":"105437-Posta de Salud Rural Chalinga"},{"$f":"IFERROR(VLOOKUP(Tabla_SERIED_11_6[[#This Row],[IdEstablecimiento]],'[2]Establecimiento 2023'!$A$1:$E$183,5,FALSE),0)","v":"04301-Ovalle"},"15080008","2023-07-17T15:49:59",3,{"$nulls":7},1,null,2]
[6,"5",2023,"105443",{"$f":"IFERROR(VLOOKUP(Tabla_SERIED_11_6[[#This Row],[IdEstablecimiento]],'[2]Establecimiento 2023'!$A$1:$E$183,3,FALSE),0)","v":"105443-Posta de Salud Rural Cárcamo"},{"$f":"IFERROR(VLOOKUP(Tabla_SERIED_11_6[[#This Row],[IdEstablecimiento]],'[2]Establecimiento 2023'!$A$1:$E$183,5,FALSE),0)","v":"04201-Illapel"},"15080009","2023-07-17T15:52:13",3,{"$nulls":8},3]
[6,"5",2023,"105305",{"$f":"IFERROR(VLOOKUP(Tabla_SERIED_11_6[[#This Row],[IdEstablecimiento]],'[2]Establecimiento 2023'!$A$1:$E$183,3,FALSE),0)","v":"105305-Centro de Salud Familiar Tierras Blancas"},{"$f":"IFERROR(VLOOKUP(Tabla_SERIED_11_6[[#This Row],[IdEstablecimiento]],'[2]Establecimiento 2023'!$A$1:$E$183,5,FALSE),0)","v":"04102-Coquimbo"},"15030100","2023-07-19T12:12:59",7.2,null,7.2]
[6,"5",2023,"105310",{"$f":"IFERROR(VLOOKUP(Tabla_SERIED_11_6[[#This Row],[IdEstablecimiento]],'[2]Establecimiento 2023'!$A$1:$E$183,3,FALSE),0)","v":"105310-Centro de Salud Familiar Pichasca"},{"$f":"IFERROR(VLOOKUP(Tabla_SERIED_11_6[[#This Row],[IdEstablecimiento]],'[2]Establecimiento 2023'!$A$1:$E$183,5,FALSE),0)","v":"04305-Rio Hurtado"},"15900020","2023-07-17T14:51:33",1.6,null,1.6]
[6,"5",2023,"105323",{"$f":"IFERROR(VLOOKUP(Tabla_SERIED_11_6[[#This Row],[IdEstablecimiento]],'[2]Establecimiento 2023'!$A$1:$E$183,3,FALSE),0)","v":"105323-Centro de Salud Familiar Dr. Sergio Aguilar Delgado"},{"$f":"IFERROR(VLOOKUP(Tabla_SERIED_11_6[[#This Row],[IdEstablecimiento]],'[2]Establecimiento 2023'!$A$1:$E$183,5,FALSE),0)","v":"04102-Coquimbo"},"16090300","2023-07-18T12:53:31",1093,1093]
[5,"5",2023,"105702",{"$f":"IFERROR(VLOOKUP(Tabla_SERIED_11_6[[#This Row],[IdEstablecimiento]],'[2]Establecimiento 2023'!$A$1:$E$183,3,FALSE),0)","v":"105702-Centro Comunitario de Salud Familiar Lambert"},{"$f":"IFERROR(VLOOKUP(Tabla_SERIED_11_6[[#This Row],[IdEstablecimiento]],'[2]Establecimiento 2023'!$A$1:$E$183,5,FALSE),0)","v":"04101-La Serena"},"15900020","2023-06-22T11:50:44",2.4,null,null,2.4]
[5,"5",2023,"105105",{"$f":"IFERROR(VLOOKUP(Tabla_SERIED_11_6[[#This Row],[IdEstablecimiento]],'[2]Establecimiento 2023'!$A$1:$E$183,3,FALSE),0)","v":"105105-Hospital San Juan de Dios (Combarbalá)"},{"$f":"IFERROR(VLOOKUP(Tabla_SERIED_11_6[[#This Row],[IdEstablecimiento]],'[2]Establecimiento 2023'!$A$1:$E$183,5,FALSE),0)","v":"105105-Hospital Combarbalá"},"15050100","2023-06-22T11:01:14",235,97,138,1,1,10,33,18,52,73,18,null,9,4,16]
[6,"5",2023,"105300",{"$f":"IFERROR(VLOOKUP(Tabla_SERIED_11_6[[#This Row],[IdEstablecimiento]],'[2]Establecimiento 2023'!$A$1:$E$183,3,FALSE),0)","v":"105300-Centro de Salud Familiar Cardenal Caro"},{"$f":"IFERROR(VLOOKUP(Tabla_SERIED_11_6[[#This Row],[IdEstablecimiento]],'[2]Establecimiento 2023'!$A$1:$E$183,5,FALSE),0)","v":"04101-La Serena"},"15080016","2023-07-17T13:19:12",8,{"$nulls":3},2,null,2,4]
[6,"5",2023,"105449",{"$f":"IFERROR(VLOOKUP(Tabla_SERIED_11_6[[#This Row],[IdEstablecimiento]],'[2]Establecimiento 2023'!$A$1:$E$183,3,FALSE),0)","v":"105449-Posta de Salud Rural Tunga Norte"},{"$f":"IFERROR(VLOOKUP(Tabla_SERIED_11_6[[#This Row],[IdEstablecimiento]],'[2]Establecimiento 2023'!$A$1:$E$183,5,FALSE),0)","v":"04201-Illapel"},"16200220","2023-07-17T16:01:53",3,0,3]
[6,"5",2023,"105463",{"$f":"IFERROR(VLOOKUP(Tabla_SERIED_11_6[[#This Row],[IdEstablecimiento]],'[2]Establecimiento 2023'!$A$1:$E$183,3,FALSE),0)","v":"105463-Posta de Salud Rural Quilitapia"},{"$f":"IFERROR(VLOOKUP(Tabla_SERIED_11_6[[#This Row],[IdEstablecimiento]],'[2]Establecimiento 2023'!$A$1:$E$183,5,FALSE),0)","v":"04302-Combarbalá"},"16200220","2023-07-18T15:31:07",13,5,8]
[6,"5",2023,"105464",{"$f":"IFERROR(VLOOKUP(Tabla_SERIED_11_6[[#This Row],[IdEstablecimiento]],'[2]Establecimiento 2023'!$A$1:$E$183,3,FALSE),0)","v":"105464-Posta de Salud Rural La Ligua"},{"$f":"IFERROR(VLOOKUP(Tabla_SERIED_11_6[[#This Row],[IdEstablecimiento]],'[2]Establecimiento 2023'!$A$1:$E$183,5,FALSE),0)","v":"04302-Combarbalá"},"15050100","2023-07-18T15:31:41",17,9,8,{"$nulls":3},1,3,5,6,2]
[6,"5",2023,"105471",{"$f":"IFERROR(VLOOKUP(Tabla_SERIED_11_6[[#This Row],[IdEstablecimiento]],'[2]Establecimiento 2023'!$A$1:$E$183,3,FALSE),0)","v":"105471-Posta de Salud Rural Peralillo Vicuña"},{"$f":"IFERROR(VLOOKUP(Tabla_SERIED_11_6[[#This Row],[IdEstablecimiento]],'[2]Establecimiento 2023'!$A$1:$E$183,5,FALSE),0)","v":"04106-Vicuña"},"15080008","2023-08-18T11:34:11",10,{"$nulls":7},6,null,2,null,2]
[6,"5",2023,"105400",{"$f":"IFERROR(VLOOKUP(Tabla_SERIED_11_6[[#This Row],[IdEstablecimiento]],'[2]Establecimiento 2023'!$A$1:$E$183,3,FALSE),0)","v":"105400-Posta de Salud Rural Algarrobito"},{"$f":"IFERROR(VLOOKUP(Tabla_SERIED_11_6[[#This Row],[IdEstablecimiento]],'[2]Establecimiento 2023'!$A$1:$E$183,5,FALSE),0)","v":"04101-La Serena"},"16090300","2023-07-17T15:23:00",216,216]
[6,"5",2023,"105417",{"$f":"IFERROR(VLOOKUP(Tabla_SERIED_11_6[[#This Row],[IdEstablecimiento]],'[2]Establecimiento 2023'!$A$1:$E$183,3,FALSE),0)","v":"105417-Posta de Salud Rural Alcones Bajo"},{"$f":"IFERROR(VLOOKUP(Tabla_SERIED_11_6[[#This Row],[IdEstablecimiento]],'[2]Establecimiento 2023'!$A$1:$E$183,5,FALSE),0)","v":"04301-Ovalle"},"15010200","2023-07-17T15:38:58",22,{"$nulls":5},10,12]
[6,"5",2023,"105304",{"$f":"IFERROR(VLOOKUP(Tabla_SERIED_11_6[[#This Row],[IdEstablecimiento]],'[2]Establecimiento 2023'!$A$1:$E$183,3,FALSE),0)","v":"105304-Centro de Salud Familiar Santa Cecilia"},{"$f":"IFERROR(VLOOKUP(Tabla_SERIED_11_6[[#This Row],[IdEstablecimiento]],'[2]Establecimiento 2023'!$A$1:$E$183,5,FALSE),0)","v":"04102-Coquimbo"},"15050500","2023-08-18T11:32:15",2,2,0,0,0,2]
[6,"5",2023,"105104",{"$f":"IFERROR(VLOOKUP(Tabla_SERIED_11_6[[#This Row],[IdEstablecimiento]],'[2]Establecimiento 2023'!$A$1:$E$183,3,FALSE),0)","v":"105104-Hospital de Salamanca"},{"$f":"IFERROR(VLOOKUP(Tabla_SERIED_11_6[[#This Row],[IdEstablecimiento]],'[2]Establecimiento 2023'!$A$1:$E$183,5,FALSE),0)","v":"105104-Hospital Salamanca"},"16090300","2023-07-19T11:57:23",485,485]
[6,"5",2023,"105306",{"$f":"IFERROR(VLOOKUP(Tabla_SERIED_11_6[[#This Row],[IdEstablecimiento]],'[2]Establecimiento 2023'!$A$1:$E$183,3,FALSE),0)","v":"105306-Centro de Salud Familiar Paihuano"},{"$f":"IFERROR(VLOOKUP(Tabla_SERIED_11_6[[#This Row],[IdEstablecimiento]],'[2]Establecimiento 2023'!$A$1:$E$183,5,FALSE),0)","v":"04105-Paihuano"},"16100300","2023-07-18T11:35:43",63,23,40]
[6,"5",2023,"105322",{"$f":"IFERROR(VLOOKUP(Tabla_SERIED_11_6[[#This Row],[IdEstablecimiento]],'[2]Establecimiento 2023'!$A$1:$E$183,3,FALSE),0)","v":"105322-Centro de Salud Familiar Marcos Macuada"},{"$f":"IFERROR(VLOOKUP(Tabla_SERIED_11_6[[#This Row],[IdEstablecimiento]],'[2]Establecimiento 2023'!$A$1:$E$183,5,FALSE),0)","v":"04301-Ovalle"},"15900030","2023-07-19T15:48:06",20,0,8.8,8.8,2.4,0,0,0]
[6,"5",2023,"105323",{"$f":"IFERROR(VLOOKUP(Tabla_SERIED_11_6[[#This Row],[IdEstablecimiento]],'[2]Establecimiento 2023'!$A$1:$E$183,3,FALSE),0)","v":"105323-Centro de Salud Familiar Dr. Sergio Aguilar Delgado"},{"$f":"IFERROR(VLOOKUP(Tabla_SERIED_11_6[[#This Row],[IdEstablecimiento]],'[2]Establecimiento 2023'!$A$1:$E$183,5,FALSE),0)","v":"04102-Coquimbo"},"15010200","2023-07-18T12:53:31",287,{"$nulls":5},171,116]
[6,"5",2023,"105402",{"$f":"IFERROR(VLOOKUP(Tabla_SERIED_11_6[[#This Row],[IdEstablecimiento]],'[2]Establecimiento 2023'!$A$1:$E$183,3,FALSE),0)","v":"105402-Posta de Salud Rural El Romero"},{"$f":"IFERROR(VLOOKUP(Tabla_SERIED_11_6[[#This Row],[IdEstablecimiento]],'[2]Establecimiento 2023'!$A$1:$E$183,5,FALSE),0)","v":"04101-La Serena"},"16090300","2023-07-17T15:26:03",52,52]
[6,"5",2023,"105419",{"$f":"IFERROR(VLOOKUP(Tabla_SERIED_11_6[[#This Row],[IdEstablecimiento]],'[2]Establecimiento 2023'!$A$1:$E$183,3,FALSE),0)","v":"105419-Posta de Salud Rural Las Sossas"},{"$f":"IFERROR(VLOOKUP(Tabla_SERIED_11_6[[#This Row],[IdEstablecimiento]],'[2]Establecimiento 2023'!$A$1:$E$183,5,FALSE),0)","v":"04301-Ovalle"},"16200220","2023-07-19T15:49:50",1,null,1]
[5,"5",2023,"105471",{"$f":"IFERROR(VLOOKUP(Tabla_SERIED_11_6[[#This Row],[IdEstablecimiento]],'[2]Establecimiento 2023'!$A$1:$E$183,3,FALSE),0)","v":"105471-Posta de Salud Rural Peralillo Vicuña"},{"$f":"IFERROR(VLOOKUP(Tabla_SERIED_11_6[[#This Row],[IdEstablecimiento]],'[2]Establecimiento 2023'!$A$1:$E$183,5,FALSE),0)","v":"04106-Vicuña"},"16200220","2023-06-22T11:39:34",5,2,3]
[6,"5",2023,"105317",{"$f":"IFERROR(VLOOKUP(Tabla_SERIED_11_6[[#This Row],[IdEstablecimiento]],'[2]Establecimiento 2023'!$A$1:$E$183,3,FALSE),0)","v":"105317-Centro de Salud Familiar Jorge Jordán Domic"},{"$f":"IFERROR(VLOOKUP(Tabla_SERIED_11_6[[#This Row],[IdEstablecimiento]],'[2]Establecimiento 2023'!$A$1:$E$183,5,FALSE),0)","v":"04301-Ovalle"},"15050200","2023-07-17T15:15:09",12,5,7,null,1,1,1,null,4,2,null,3]
[6,"5",2023,"105323",{"$f":"IFERROR(VLOOKUP(Tabla_SERIED_11_6[[#This Row],[IdEstablecimiento]],'[2]Establecimiento 2023'!$A$1:$E$183,3,FALSE),0)","v":"105323-Centro de Salud Familiar Dr. Sergio Aguilar Delgado"},{"$f":"IFERROR(VLOOKUP(Tabla_SERIED_11_6[[#This Row],[IdEstablecimiento]],'[2]Establecimiento 2023'!$A$1:$E$183,5,FALSE),0)","v":"04102-Coquimbo"},"16200220","2023-07-18T12:53:31",39,19,20]
[6,"5",2023,"105444",{"$f":"IFERROR(VLOOKUP(Tabla_SERIED_11_6[[#This Row],[IdEstablecimiento]],'[2]Establecimiento 2023'!$A$1:$E$183,3,FALSE),0)","v":"105444-Posta de Salud Rural Huintil"},{"$f":"IFERROR(VLOOKUP(Tabla_SERIED_11_6[[#This Row],[IdEstablecimiento]],'[2]Establecimiento 2023'!$A$1:$E$183,5,FALSE),0)","v":"04201-Illapel"},"15900010","2023-07-17T15:56:07",6.4,null,null,6.4]
[6,"5",2023,"105455",{"$f":"IFERROR(VLOOKUP(Tabla_SERIED_11_6[[#This Row],[IdEstablecimiento]],'[2]Establecimiento 2023'!$A$1:$E$183,3,FALSE),0)","v":"105455-CESFAM Valle Alto"},{"$f":"IFERROR(VLOOKUP(Tabla_SERIED_11_6[[#This Row],[IdEstablecimiento]],'[2]Establecimiento 2023'!$A$1:$E$183,5,FALSE),0)","v":"04204-Salamanca"},"15080008","2023-07-18T16:20:12",11,{"$nulls":7},2,null,4,2,3]
[6,"5",2023,"105456",{"$f":"IFERROR(VLOOKUP(Tabla_SERIED_11_6[[#This Row],[IdEstablecimiento]],'[2]Establecimiento 2023'!$A$1:$E$183,3,FALSE),0)","v":"105456-Posta de Salud Rural Llimpo"},{"$f":"IFERROR(VLOOKUP(Tabla_SERIED_11_6[[#This Row],[IdEstablecimiento]],'[2]Establecimiento 2023'!$A$1:$E$183,5,FALSE),0)","v":"04204-Salamanca"},"15080016","2023-07-19T14:31:52",2,{"$nulls":5},2]
[6,"5",2023,"105325",{"$f":"IFERROR(VLOOKUP(Tabla_SERIED_11_6[[#This Row],[IdEstablecimiento]],'[2]Establecimiento 2023'!$A$1:$E$183,3,FALSE),0)","v":"105325-Centro de Salud Familiar Juan Pablo II (La Serena)"},{"$f":"IFERROR(VLOOKUP(Tabla_SERIED_11_6[[#This Row],[IdEstablecimiento]],'[2]Establecimiento 2023'!$A$1:$E$183,5,FALSE),0)","v":"04101-La Serena"},"16200210","2023-07-17T15:22:31",50,50]
[6,"5",2023,"200538",{"$f":"IFERROR(VLOOKUP(Tabla_SERIED_11_6[[#This Row],[IdEstablecimiento]],'[2]Establecimiento 2023'!$A$1:$E$183,3,FALSE),0)","v":"200538-Centro de Salud Familiar San Isidro Calingasta"},{"$f":"IFERROR(VLOOKUP(Tabla_SERIED_11_6[[#This Row],[IdEstablecimiento]],'[2]Establecimiento 2023'!$A$1:$E$183,5,FALSE),0)","v":"04106-Vicuña"},"16100600","2023-08-18T11:35:42",1,null,1]
[6,"5",2023,"105504",{"$f":"IFERROR(VLOOKUP(Tabla_SERIED_11_6[[#This Row],[IdEstablecimiento]],'[2]Establecimiento 2023'!$A$1:$E$183,3,FALSE),0)","v":"105504-Posta de Salud Rural Socavón"},{"$f":"IFERROR(VLOOKUP(Tabla_SERIED_11_6[[#This Row],[IdEstablecimiento]],'[2]Establecimiento 2023'!$A$1:$E$183,5,FALSE),0)","v":"04201-Illapel"},"16100300","2023-07-18T09:38:20",29,14,15]
[6,"5",2023,"105414",{"$f":"IFERROR(VLOOKUP(Tabla_SERIED_11_6[[#This Row],[IdEstablecimiento]],'[2]Establecimiento 2023'!$A$1:$E$183,3,FALSE),0)","v":"105414-Posta de Salud Rural Serón"},{"$f":"IFERROR(VLOOKUP(Tabla_SERIED_11_6[[#This Row],[IdEstablecimiento]],'[2]Establecimiento 2023'!$A$1:$E$183,5,FALSE),0)","v":"04305-Rio Hurtado"},"15900020","2023-07-17T15:36:23",2.5,2.5]
[6,"5",2023,"105430",{"$f":"IFERROR(VLOOKUP(Tabla_SERIED_11_6[[#This Row],[IdEstablecimiento]],'[2]Establecimiento 2023'!$A$1:$E$183,3,FALSE),0)","v":"105430-Posta de Salud Rural Mialqui"},{"$f":"IFERROR(VLOOKUP(Tabla_SERIED_11_6[[#This Row],[IdEstablecimiento]],'[2]Establecimiento 2023'!$A$1:$E$183,5,FALSE),0)","v":"04303-Monte Patria"},"16090300","2023-07-17T15:45:30",27,27]
[6,"5",2023,"105437",{"$f":"IFERROR(VLOOKUP(Tabla_SERIED_11_6[[#This Row],[IdEstablecimiento]],'[2]Establecimiento 2023'!$A$1:$E$183,3,FALSE),0)","v":"105437-Posta de Salud Rural Chalinga"},{"$f":"IFERROR(VLOOKUP(Tabla_SERIED_11_6[[#This Row],[IdEstablecimiento]],'[2]Establecimiento 2023'!$A$1:$E$183,5,FALSE),0)","v":"04301-Ovalle"},"15050500","2023-07-17T15:49:59",2,null,2,null,2]
[5,"5",2023,"105481",{"$f":"IFERROR(VLOOKUP(Tabla_SERIED_11_6[[#This Row],[IdEstablecimiento]],'[2]Establecimiento 2023'!$A$1:$E$183,3,FALSE),0)","v":"105481-Posta de Salud Rural Tilama"},{"$f":"IFERROR(VLOOKUP(Tabla_SERIED_11_6[[#This Row],[IdEstablecimiento]],'[2]Establecimiento 2023'!$A$1:$E$183,5,FALSE),0)","v":"04203-Los Vilos"},"15050200","2023-06-22T11:42:19",1,1,{"$nulls":5},1]
[5,"5",2023,"105486",{"$f":"IFERROR(VLOOKUP(Tabla_SERIED_11_6[[#This Row],[IdEstablecimiento]],'[2]Establecimiento 2023'!$A$1:$E$183,3,FALSE),0)","v":"105486-Posta de Salud Rural Tunga Sur"},{"$f":"IFERROR(VLOOKUP(Tabla_SERIED_11_6[[#This Row],[IdEstablecimiento]],'[2]Establecimiento 2023'!$A$1:$E$183,5,FALSE),0)","v":"04201-Illapel"},"16200210","2023-06-22T11:44:29",11,11]
[6,"5",2023,"200607",{"$f":"IFERROR(VLOOKUP(Tabla_SERIED_11_6[[#This Row],[IdEstablecimiento]],'[2]Establecimiento 2023'!$A$1:$E$183,3,FALSE),0)","v":"200607-Centro de Salud Familiar Lila Cortés Godoy"},{"$f":"IFERROR(VLOOKUP(Tabla_SERIED_11_6[[#This Row],[IdEstablecimiento]],'[2]Establecimiento 2023'!$A$1:$E$183,5,FALSE),0)","v":"04102-Coquimbo"},"15050100","2023-07-18T12:30:59",703,262,441,26,40,88,110,74,129,97,80,null,32,27]
[6,"5",2023,"105300",{"$f":"IFERROR(VLOOKUP(Tabla_SERIED_11_6[[#This Row],[IdEstablecimiento]],'[2]Establecimiento 2023'!$A$1:$E$183,3,FALSE),0)","v":"105300-Centro de Salud Familiar Cardenal Caro"},{"$f":"IFERROR(VLOOKUP(Tabla_SERIED_11_6[[#This Row],[IdEstablecimiento]],'[2]Establecimiento 2023'!$A$1:$E$183,5,FALSE),0)","v":"04101-La Serena"},"16090100","2023-07-17T13:19:12",7,7]
[6,"5",2023,"200366",{"$f":"IFERROR(VLOOKUP(Tabla_SERIED_11_6[[#This Row],[IdEstablecimiento]],'[2]Establecimiento 2023'!$A$1:$E$183,3,FALSE),0)","v":"200366-Centro de Salud Familiar Urbano de Illapel"},{"$f":"IFERROR(VLOOKUP(Tabla_SERIED_11_6[[#This Row],[IdEstablecimiento]],'[2]Establecimiento 2023'!$A$1:$E$183,5,FALSE),0)","v":"04201-Illapel"},"16200100","2023-07-18T09:49:39",24,17,7]
[6,"5",2023,"105410",{"$f":"IFERROR(VLOOKUP(Tabla_SERIED_11_6[[#This Row],[IdEstablecimiento]],'[2]Establecimiento 2023'!$A$1:$E$183,3,FALSE),0)","v":"105410-Posta de Salud Rural Hurtado"},{"$f":"IFERROR(VLOOKUP(Tabla_SERIED_11_6[[#This Row],[IdEstablecimiento]],'[2]Establecimiento 2023'!$A$1:$E$183,5,FALSE),0)","v":"04305-Rio Hurtado"},"16200210","2023-07-17T15:33:06",1,1]
[6,"5",2023,"105431",{"$f":"IFERROR(VLOOKUP(Tabla_SERIED_11_6[[#This Row],[IdEstablecimiento]],'[2]Establecimiento 2023'!$A$1:$E$183,3,FALSE),0)","v":"105431-Posta de Salud Rural Pedregal"},{"$f":"IFERROR(VLOOKUP(Tabla_SERIED_11_6[[#This Row],[IdEstablecimiento]],'[2]Establecimiento 2023'!$A$1:$E$183,5,FALSE),0)","v":"04303-Monte Patria"},"15080008","2023-07-17T15:46:03",3,{"$nulls":7},2,{"$nulls":3},1]
[6,"5",2023,"105478",{"$f":"IFERROR(VLOOKUP(Tabla_SERIED_11_6[[#This Row],[IdEstablecimiento]],'[2]Establecimiento 2023'!$A$1:$E$183,3,FALSE),0)","v":"105478-Posta de Salud Rural Caimanes"},{"$f":"IFERROR(VLOOKUP(Tabla_SERIED_11_6[[#This Row],[IdEstablecimiento]],'[2]Establecimiento 2023'!$A$1:$E$183,5,FALSE),0)","v":"04203-Los Vilos"},"16090300","2023-07-17T16:36:24",36,36]
[6,"5",2023,"105486",{"$f":"IFERROR(VLOOKUP(Tabla_SERIED_11_6[[#This Row],[IdEstablecimiento]],'[2]Establecimiento 2023'!$A$1:$E$183,3,FALSE),0)","v":"105486-Posta de Salud Rural Tunga Sur"},{"$f":"IFERROR(VLOOKUP(Tabla_SERIED_11_6[[#This Row],[IdEstablecimiento]],'[2]Establecimiento 2023'!$A$1:$E$183,5,FALSE),0)","v":"04201-Illapel"},"15080008","2023-07-19T15:51:07",2,{"$nulls":7},1,{"$nulls":3},1]
[6,"5",2023,"105493",{"$f":"IFERROR(VLOOKUP(Tabla_SERIED_11_6[[#This Row],[IdEstablecimiento]],'[2]Establecimiento 2023'!$A$1:$E$183,3,FALSE),0)","v":"105493-Posta de Salud Rural Mincha Sur"},{"$f":"IFERROR(VLOOKUP(Tabla_SERIED_11_6[[#This Row],[IdEstablecimiento]],'[2]Establecimiento 2023'!$A$1:$E$183,5,FALSE),0)","v":"04202-Canela"},"15080014","2023-07-19T15:51:55",2,{"$nulls":3},2]
[6,"5",2023,"105303",{"$f":"IFERROR(VLOOKUP(Tabla_SERIED_11_6[[#This Row],[IdEstablecimiento]],'[2]Establecimiento 2023'!$A$1:$E$183,3,FALSE),0)","v":"105303-Centro de Salud Familiar San Juan"},{"$f":"IFERROR(VLOOKUP(Tabla_SERIED_11_6[[#This Row],[IdEstablecimiento]],'[2]Establecimiento 2023'!$A$1:$E$183,5,FALSE),0)","v":"04102-Coquimbo"},"15900020","2023-07-19T12:14:03",8,1.6,0,6.4]
[6,"5",2023,"105307",{"$f":"IFERROR(VLOOKUP(Tabla_SERIED_11_6[[#This Row],[IdEstablecimiento]],'[2]Establecimiento 2023'!$A$1:$E$183,3,FALSE),0)","v":"105307-Centro de Salud Familiar Monte Patria"},{"$f":"IFERROR(VLOOKUP(Tabla_SERIED_11_6[[#This Row],[IdEstablecimiento]],'[2]Establecimiento 2023'!$A$1:$E$183,5,FALSE),0)","v":"04303-Monte Patria"},"15080014","2023-07-17T13:21:31",162,{"$nulls":3},84,78]
[6,"5",2023,"105310",{"$f":"IFERROR(VLOOKUP(Tabla_SERIED_11_6[[#This Row],[IdEstablecimiento]],'[2]Establecimiento 2023'!$A$1:$E$183,3,FALSE),0)","v":"105310-Centro de Salud Familiar Pichasca"},{"$f":"IFERROR(VLOOKUP(Tabla_SERIED_11_6[[#This Row],[IdEstablecimiento]],'[2]Establecimiento 2023'!$A$1:$E$183,5,FALSE),0)","v":"04305-Rio Hurtado"},"15050100","2023-07-17T14:51:33",33,19,16,2,1,1,7,null,11,5,3,null,2,1]
[6,"5",2023,"105450",{"$f":"IFERROR(VLOOKUP(Tabla_SERIED_11_6[[#This Row],[IdEstablecimiento]],'[2]Establecimiento 2023'!$A$1:$E$183,3,FALSE),0)","v":"105450-Posta de Salud Rural Mincha Norte"},{"$f":"IFERROR(VLOOKUP(Tabla_SERIED_11_6[[#This Row],[IdEstablecimiento]],'[2]Establecimiento 2023'!$A$1:$E$183,5,FALSE),0)","v":"04202-Canela"},"16100300","2023-07-17T16:03:26",65,28,37]
[6,"5",2023,"200499",{"$f":"IFERROR(VLOOKUP(Tabla_SERIED_11_6[[#This Row],[IdEstablecimiento]],'[2]Establecimiento 2023'!$A$1:$E$183,3,FALSE),0)","v":"200499-Centro de Salud Familiar Rural Pan de Azúcar"},{"$f":"IFERROR(VLOOKUP(Tabla_SERIED_11_6[[#This Row],[IdEstablecimiento]],'[2]Establecimiento 2023'!$A$1:$E$183,5,FALSE),0)","v":"04102-Coquimbo"},"15900010","2023-07-18T15:23:28",151.2,12.8,46.4,92]
[6,"5",2023,"105457",{"$f":"IFERROR(VLOOKUP(Tabla_SERIED_11_6[[#This Row],[IdEstablecimiento]],'[2]Establecimiento 2023'!$A$1:$E$183,3,FALSE),0)","v":"105457-Posta de Salud Rural San Agustín (Salamanca)"},{"$f":"IFERROR(VLOOKUP(Tabla_SERIED_11_6[[#This Row],[IdEstablecimiento]],'[2]Establecimiento 2023'!$A$1:$E$183,5,FALSE),0)","v":"04204-Salamanca"},"15080008","2023-07-17T16:12:22",1,{"$nulls":7},1]
[6,"5",2023,"105460",{"$f":"IFERROR(VLOOKUP(Tabla_SERIED_11_6[[#This Row],[IdEstablecimiento]],'[2]Establecimiento 2023'!$A$1:$E$183,3,FALSE),0)","v":"105460-Centro Comunitario de Salud Familiar Cogotí 18"},{"$f":"IFERROR(VLOOKUP(Tabla_SERIED_11_6[[#This Row],[IdEstablecimiento]],'[2]Establecimiento 2023'!$A$1:$E$183,5,FALSE),0)","v":"04302-Combarbalá"},"15050100","2023-08-18T11:33:30",14,6,8,null,1,1,3,null,1,4,null,null,1,2,1]
[6,"5",2023,"105454",{"$f":"IFERROR(VLOOKUP(Tabla_SERIED_11_6[[#This Row],[IdEstablecimiento]],'[2]Establecimiento 2023'!$A$1:$E$183,3,FALSE),0)","v":"105454-Posta de Salud Rural Cunlagua"},{"$f":"IFERROR(VLOOKUP(Tabla_SERIED_11_6[[#This Row],[IdEstablecimiento]],'[2]Establecimiento 2023'!$A$1:$E$183,5,FALSE),0)","v":"04204-Salamanca"},"15080014","2023-07-17T16:11:37",2,{"$nulls":4},2]
[6,"5",2023,"105461",{"$f":"IFERROR(VLOOKUP(Tabla_SERIED_11_6[[#This Row],[IdEstablecimiento]],'[2]Establecimiento 2023'!$A$1:$E$183,3,FALSE),0)","v":"105461-Posta de Salud Rural El Huacho"},{"$f":"IFERROR(VLOOKUP(Tabla_SERIED_11_6[[#This Row],[IdEstablecimiento]],'[2]Establecimiento 2023'!$A$1:$E$183,5,FALSE),0)","v":"04302-Combarbalá"},"16090300","2023-07-18T15:29:54",37,37]
[6,"5",2023,"105108",{"$f":"IFERROR(VLOOKUP(Tabla_SERIED_11_6[[#This Row],[IdEstablecimiento]],'[2]Establecimiento 2023'!$A$1:$E$183,3,FALSE),0)","v":"105108-Hospital San Pedro (Los Vilos)"},{"$f":"IFERROR(VLOOKUP(Tabla_SERIED_11_6[[#This Row],[IdEstablecimiento]],'[2]Establecimiento 2023'!$A$1:$E$183,5,FALSE),0)","v":"105108-Hospital Los Vilos"},"15010500","2023-07-19T12:11:54",20,null,null,4,2,8,6]
[6,"5",2023,"105315",{"$f":"IFERROR(VLOOKUP(Tabla_SERIED_11_6[[#This Row],[IdEstablecimiento]],'[2]Establecimiento 2023'!$A$1:$E$183,3,FALSE),0)","v":"105315-Centro de Salud Familiar Cerrillos de Tamaya"},{"$f":"IFERROR(VLOOKUP(Tabla_SERIED_11_6[[#This Row],[IdEstablecimiento]],'[2]Establecimiento 2023'!$A$1:$E$183,5,FALSE),0)","v":"04301-Ovalle"},"15080009","2023-07-17T14:57:49",2,{"$nulls":10},2]
[6,"5",2023,"105319",{"$f":"IFERROR(VLOOKUP(Tabla_SERIED_11_6[[#This Row],[IdEstablecimiento]],'[2]Establecimiento 2023'!$A$1:$E$183,3,FALSE),0)","v":"105319-Centro de Salud Familiar Cardenal Raúl Silva Henríquez de La Serena"},{"$f":"IFERROR(VLOOKUP(Tabla_SERIED_11_6[[#This Row],[IdEstablecimiento]],'[2]Establecimiento 2023'!$A$1:$E$183,5,FALSE),0)","v":"04101-La Serena"},"16200210","2023-07-19T15:47:29",36,36]
[6,"5",2023,"105400",{"$f":"IFERROR(VLOOKUP(Tabla_SERIED_11_6[[#This Row],[IdEstablecimiento]],'[2]Establecimiento 2023'!$A$1:$E$183,3,FALSE),0)","v":"105400-Posta de Salud Rural Algarrobito"},{"$f":"IFERROR(VLOOKUP(Tabla_SERIED_11_6[[#This Row],[IdEstablecimiento]],'[2]Establecimiento 2023'!$A$1:$E$183,5,FALSE),0)","v":"04101-La Serena"},"15900050","2023-07-17T15:23:00",1,1,{"$nulls":3},1]
[6,"5",2023,"105463",{"$f":"IFERROR(VLOOKUP(Tabla_SERIED_11_6[[#This Row],[IdEstablecimiento]],'[2]Establecimiento 2023'!$A$1:$E$183,3,FALSE),0)","v":"105463-Posta de Salud Rural Quilitapia"},{"$f":"IFERROR(VLOOKUP(Tabla_SERIED_11_6[[#This Row],[IdEstablecimiento]],'[2]Establecimiento 2023'!$A$1:$E$183,5,FALSE),0)","v":"04302-Combarbalá"},"15900010","2023-07-18T15:31:07",6.4,1.6,null,4.8]
[6,"5",2023,"105474",{"$f":"IFERROR(VLOOKUP(Tabla_SERIED_11_6[[#This Row],[IdEstablecimiento]],'[2]Establecimiento 2023'!$A$1:$E$183,3,FALSE),0)","v":"105474-Posta de Salud Rural Chapilca"},{"$f":"IFERROR(VLOOKUP(Tabla_SERIED_11_6[[#This Row],[IdEstablecimiento]],'[2]Establecimiento 2023'!$A$1:$E$183,5,FALSE),0)","v":"04106-Vicuña"},"15010200","2023-07-18T15:40:10",7,{"$nulls":5},4,3]
[6,"5",2023,"105483",{"$f":"IFERROR(VLOOKUP(Tabla_SERIED_11_6[[#This Row],[IdEstablecimiento]],'[2]Establecimiento 2023'!$A$1:$E$183,3,FALSE),0)","v":"105483-Posta de Salud Rural Los Rulos"},{"$f":"IFERROR(VLOOKUP(Tabla_SERIED_11_6[[#This Row],[IdEstablecimiento]],'[2]Establecimiento 2023'!$A$1:$E$183,5,FALSE),0)","v":"04202-Canela"},"16090300","2023-07-17T16:44:06",35,35]
[6,"5",2023,"105301",{"$f":"IFERROR(VLOOKUP(Tabla_SERIED_11_6[[#This Row],[IdEstablecimiento]],'[2]Establecimiento 2023'!$A$1:$E$183,3,FALSE),0)","v":"105301-Centro de Salud Familiar Las Compañías"},{"$f":"IFERROR(VLOOKUP(Tabla_SERIED_11_6[[#This Row],[IdEstablecimiento]],'[2]Establecimiento 2023'!$A$1:$E$183,5,FALSE),0)","v":"04101-La Serena"},"15900030","2023-07-17T13:17:33",12,{"$nulls":3},8.8,3.2]
[6,"5",2023,"105304",{"$f":"IFERROR(VLOOKUP(Tabla_SERIED_11_6[[#This Row],[IdEstablecimiento]],'[2]Establecimiento 2023'!$A$1:$E$183,3,FALSE),0)","v":"105304-Centro de Salud Familiar Santa Cecilia"},{"$f":"IFERROR(VLOOKUP(Tabla_SERIED_11_6[[#This Row],[IdEstablecimiento]],'[2]Establecimiento 2023'!$A$1:$E$183,5,FALSE),0)","v":"04102-Coquimbo"},"15080018","2023-08-18T11:32:15",4,0,0,0,2,2]
[6,"5",2023,"105308",{"$f":"IFERROR(VLOOKUP(Tabla_SERIED_11_6[[#This Row],[IdEstablecimiento]],'[2]Establecimiento 2023'!$A$1:$E$183,3,FALSE),0)","v":"105308-Centro de Salud Familiar Punitaqui"},{"$f":"IFERROR(VLOOKUP(Tabla_SERIED_11_6[[#This Row],[IdEstablecimiento]],'[2]Establecimiento 2023'!$A$1:$E$183,5,FALSE),0)","v":"04304-Punitaqui"},"16200220","2023-07-18T15:52:12",3,2,1]
[5,"5",2023,"105511",{"$f":"IFERROR(VLOOKUP(Tabla_SERIED_11_6[[#This Row],[IdEstablecimiento]],'[2]Establecimiento 2023'!$A$1:$E$183,3,FALSE),0)","v":"105511-Posta de Salud Rural Los Cóndores"},{"$f":"IFERROR(VLOOKUP(Tabla_SERIED_11_6[[#This Row],[IdEstablecimiento]],'[2]Establecimiento 2023'!$A$1:$E$183,5,FALSE),0)","v":"04203-Los Vilos"},"16200220","2023-06-22T11:49:31",3,2,1]
[6,"5",2023,"105436",{"$f":"IFERROR(VLOOKUP(Tabla_SERIED_11_6[[#This Row],[IdEstablecimiento]],'[2]Establecimiento 2023'!$A$1:$E$183,3,FALSE),0)","v":"105436-Posta de Salud Rural El Maitén"},{"$f":"IFERROR(VLOOKUP(Tabla_SERIED_11_6[[#This Row],[IdEstablecimiento]],'[2]Establecimiento 2023'!$A$1:$E$183,5,FALSE),0)","v":"04303-Monte Patria"},"15050100","2023-07-17T15:48:35",3,1,2,{"$nulls":4},1,null,null,2]
[6,"5",2023,"105446",{"$f":"IFERROR(VLOOKUP(Tabla_SERIED_11_6[[#This Row],[IdEstablecimiento]],'[2]Establecimiento 2023'!$A$1:$E$183,3,FALSE),0)","v":"105446-Posta de Salud Rural Matancilla"},{"$f":"IFERROR(VLOOKUP(Tabla_SERIED_11_6[[#This Row],[IdEstablecimiento]],'[2]Establecimiento 2023'!$A$1:$E$183,5,FALSE),0)","v":"04201-Illapel"},"15050100","2023-07-17T15:58:59",1,1,{"$nulls":7},1]
[6,"5",2023,"105447",{"$f":"IFERROR(VLOOKUP(Tabla_SERIED_11_6[[#This Row],[IdEstablecimiento]],'[2]Establecimiento 2023'!$A$1:$E$183,3,FALSE),0)","v":"105447-Posta de Salud Rural Peralillo Illapel"},{"$f":"IFERROR(VLOOKUP(Tabla_SERIED_11_6[[#This Row],[IdEstablecimiento]],'[2]Establecimiento 2023'!$A$1:$E$183,5,FALSE),0)","v":"04201-Illapel"},"15010200","2023-07-17T15:59:46",42,{"$nulls":5},20,22]
[6,"5",2023,"105700",{"$f":"IFERROR(VLOOKUP(Tabla_SERIED_11_6[[#This Row],[IdEstablecimiento]],'[2]Establecimiento 2023'!$A$1:$E$183,3,FALSE),0)","v":"105700-Centro Comunitario de Salud Familiar Villa el Indio"},{"$f":"IFERROR(VLOOKUP(Tabla_SERIED_11_6[[#This Row],[IdEstablecimiento]],'[2]Establecimiento 2023'!$A$1:$E$183,5,FALSE),0)","v":"04101-La Serena"},"15080014","2023-07-18T09:43:25",10,{"$nulls":3},10]
[6,"5",2023,"200494",{"$f":"IFERROR(VLOOKUP(Tabla_SERIED_11_6[[#This Row],[IdEstablecimiento]],'[2]Establecimiento 2023'!$A$1:$E$183,3,FALSE),0)","v":"200494-Centro de Salud Familiar El Sauce"},{"$f":"IFERROR(VLOOKUP(Tabla_SERIED_11_6[[#This Row],[IdEstablecimiento]],'[2]Establecimiento 2023'!$A$1:$E$183,5,FALSE),0)","v":"04102-Coquimbo"},"16200220","2023-08-18T11:35:12",48,17,31]
[6,"5",2023,"105468",{"$f":"IFERROR(VLOOKUP(Tabla_SERIED_11_6[[#This Row],[IdEstablecimiento]],'[2]Establecimiento 2023'!$A$1:$E$183,3,FALSE),0)","v":"105468-Posta de Salud Rural El Molle"},{"$f":"IFERROR(VLOOKUP(Tabla_SERIED_11_6[[#This Row],[IdEstablecimiento]],'[2]Establecimiento 2023'!$A$1:$E$183,5,FALSE),0)","v":"04106-Vicuña"},"16090300","2023-07-18T15:35:20",47,47]
[5,"5",2023,"200366",{"$f":"IFERROR(VLOOKUP(Tabla_SERIED_11_6[[#This Row],[IdEstablecimiento]],'[2]Establecimiento 2023'!$A$1:$E$183,3,FALSE),0)","v":"200366-Centro de Salud Familiar Urbano de Illapel"},{"$f":"IFERROR(VLOOKUP(Tabla_SERIED_11_6[[#This Row],[IdEstablecimiento]],'[2]Establecimiento 2023'!$A$1:$E$183,5,FALSE),0)","v":"04201-Illapel"},"15080008","2023-06-22T11:53:26",64,{"$nulls":7},48,null,8,1,7]
[5,"5",2023,"200538",{"$f":"IFERROR(VLOOKUP(Tabla_SERIED_11_6[[#This Row],[IdEstablecimiento]],'[2]Establecimiento 2023'!$A$1:$E$183,3,FALSE),0)","v":"200538-Centro de Salud Familiar San Isidro Calingasta"},{"$f":"IFERROR(VLOOKUP(Tabla_SERIED_11_6[[#This Row],[IdEstablecimiento]],'[2]Establecimiento 2023'!$A$1:$E$183,5,FALSE),0)","v":"04106-Vicuña"},"15900020","2023-06-22T11:54:34",0.8,null,null,0.8]
[5,"5",2023,"105415",{"$f":"IFERROR(VLOOKUP(Tabla_SERIED_11_6[[#This Row],[IdEstablecimiento]],'[2]Establecimiento 2023'!$A$1:$E$183,3,FALSE),0)","v":"105415-Posta de Salud Rural Barraza"},{"$f":"IFERROR(VLOOKUP(Tabla_SERIED_11_6[[#This Row],[IdEstablecimiento]],'[2]Establecimiento 2023'!$A$1:$E$183,5,FALSE),0)","v":"04301-Ovalle"},"15080008","2023-06-22T11:27:03",4,{"$nulls":7},4]
[5,"5",2023,"105432",{"$f":"IFERROR(VLOOKUP(Tabla_SERIED_11_6[[#This Row],[IdEstablecimiento]],'[2]Establecimiento 2023'!$A$1:$E$183,3,FALSE),0)","v":"105432-Posta de Salud Rural Rapel (Monte Patria)"},{"$f":"IFERROR(VLOOKUP(Tabla_SERIED_11_6[[#This Row],[IdEstablecimiento]],'[2]Establecimiento 2023'!$A$1:$E$183,5,FALSE),0)","v":"04303-Monte Patria"},"15010500","2023-06-22T11:29:37",2,{"$nulls":6},2]
[6,"5",2023,"105410",{"$f":"IFERROR(VLOOKUP(Tabla_SERIED_11_6[[#This Row],[IdEstablecimiento]],'[2]Establecimiento 2023'!$A$1:$E$183,3,FALSE),0)","v":"105410-Posta de Salud Rural Hurtado"},{"$f":"IFERROR(VLOOKUP(Tabla_SERIED_11_6[[#This Row],[IdEstablecimiento]],'[2]Establecimiento 2023'!$A$1:$E$183,5,FALSE),0)","v":"04305-Rio Hurtado"},"15010200","2023-07-17T15:33:06",4,{"$nulls":5},2,2]
[6,"5",2023,"105434",{"$f":"IFERROR(VLOOKUP(Tabla_SERIED_11_6[[#This Row],[IdEstablecimiento]],'[2]Establecimiento 2023'!$A$1:$E$183,3,FALSE),0)","v":"105434-Posta de Salud Rural San Marcos (Combarbalá)"},{"$f":"IFERROR(VLOOKUP(Tabla_SERIED_11_6[[#This Row],[IdEstablecimiento]],'[2]Establecimiento 2023'!$A$1:$E$183,5,FALSE),0)","v":"04302-Combarbalá"},"16200220","2023-07-18T16:50:01",6,1,5]
[6,"5",2023,"105488",{"$f":"IFERROR(VLOOKUP(Tabla_SERIED_11_6[[#This Row],[IdEstablecimiento]],'[2]Establecimiento 2023'!$A$1:$E$183,3,FALSE),0)","v":"105488-Posta de Salud Rural Espíritu Santo"},{"$f":"IFERROR(VLOOKUP(Tabla_SERIED_11_6[[#This Row],[IdEstablecimiento]],'[2]Establecimiento 2023'!$A$1:$E$183,5,FALSE),0)","v":"04202-Canela"},"16090300","2023-07-17T16:47:13",24,24]
[6,"5",2023,"105506",{"$f":"IFERROR(VLOOKUP(Tabla_SERIED_11_6[[#This Row],[IdEstablecimiento]],'[2]Establecimiento 2023'!$A$1:$E$183,3,FALSE),0)","v":"105506-Posta de Salud Rural El Trapiche"},{"$f":"IFERROR(VLOOKUP(Tabla_SERIED_11_6[[#This Row],[IdEstablecimiento]],'[2]Establecimiento 2023'!$A$1:$E$183,5,FALSE),0)","v":"04104-La Higuera"},"15050200","2023-07-18T09:41:11",1,1,{"$nulls":4},1]
[6,"5",2023,"105701",{"$f":"IFERROR(VLOOKUP(Tabla_SERIED_11_6[[#This Row],[IdEstablecimiento]],'[2]Establecimiento 2023'!$A$1:$E$183,3,FALSE),0)","v":"105701-Centro Comunitario de Salud Familiar Villa Alemania"},{"$f":"IFERROR(VLOOKUP(Tabla_SERIED_11_6[[#This Row],[IdEstablecimiento]],'[2]Establecimiento 2023'!$A$1:$E$183,5,FALSE),0)","v":"04101-La Serena"},"15010500","2023-07-18T09:44:01",2,{"$nulls":6},2]
[6,"5",2023,"105305",{"$f":"IFERROR(VLOOKUP(Tabla_SERIED_11_6[[#This Row],[IdEstablecimiento]],'[2]Establecimiento 2023'!$A$1:$E$183,3,FALSE),0)","v":"105305-Centro de Salud Familiar Tierras Blancas"},{"$f":"IFERROR(VLOOKUP(Tabla_SERIED_11_6[[#This Row],[IdEstablecimiento]],'[2]Establecimiento 2023'!$A$1:$E$183,5,FALSE),0)","v":"04102-Coquimbo"},"15080009","2023-07-19T12:12:59",15,{"$nulls":8},15]
[6,"5",2023,"105302",{"$f":"IFERROR(VLOOKUP(Tabla_SERIED_11_6[[#This Row],[IdEstablecimiento]],'[2]Establecimiento 2023'!$A$1:$E$183,3,FALSE),0)","v":"105302-Centro de Salud Familiar Pedro Aguirre Cerda"},{"$f":"IFERROR(VLOOKUP(Tabla_SERIED_11_6[[#This Row],[IdEstablecimiento]],'[2]Establecimiento 2023'!$A$1:$E$183,5,FALSE),0)","v":"04101-La Serena"},"15050500","2023-07-17T13:20:20",3,null,3,null,2,1]
[6,"5",2023,"105305",{"$f":"IFERROR(VLOOKUP(Tabla_SERIED_11_6[[#This Row],[IdEstablecimiento]],'[2]Establecimiento 2023'!$A$1:$E$183,3,FALSE),0)","v":"105305-Centro de Salud Familiar Tierras Blancas"},{"$f":"IFERROR(VLOOKUP(Tabla_SERIED_11_6[[#This Row],[IdEstablecimiento]],'[2]Establecimiento 2023'!$A$1:$E$183,5,FALSE),0)","v":"04102-Coquimbo"},"16090300","2023-07-19T12:12:59",834,834]
[6,"5",2023,"105492",{"$f":"IFERROR(VLOOKUP(Tabla_SERIED_11_6[[#This Row],[IdEstablecimiento]],'[2]Establecimiento 2023'!$A$1:$E$183,3,FALSE),0)","v":"105492-Posta de Salud Rural Camisa"},{"$f":"IFERROR(VLOOKUP(Tabla_SERIED_11_6[[#This Row],[IdEstablecimiento]],'[2]Establecimiento 2023'!$A$1:$E$183,5,FALSE),0)","v":"04204-Salamanca"},"15080014","2023-07-17T16:48:46",4,{"$nulls":3},4]
[6,"5",2023,"105503",{"$f":"IFERROR(VLOOKUP(Tabla_SERIED_11_6[[#This Row],[IdEstablecimiento]],'[2]Establecimiento 2023'!$A$1:$E$183,3,FALSE),0)","v":"105503-Posta de Salud Rural Tabaqueros"},{"$f":"IFERROR(VLOOKUP(Tabla_SERIED_11_6[[#This Row],[IdEstablecimiento]],'[2]Establecimiento 2023'!$A$1:$E$183,5,FALSE),0)","v":"04305-Rio Hurtado"},"15080014","2023-07-18T09:35:06",4,{"$nulls":3},2,2]
[6,"5",2023,"105506",{"$f":"IFERROR(VLOOKUP(Tabla_SERIED_11_6[[#This Row],[IdEstablecimiento]],'[2]Establecimiento 2023'!$A$1:$E$183,3,FALSE),0)","v":"105506-Posta de Salud Rural El Trapiche"},{"$f":"IFERROR(VLOOKUP(Tabla_SERIED_11_6[[#This Row],[IdEstablecimiento]],'[2]Establecimiento 2023'!$A$1:$E$183,5,FALSE),0)","v":"04104-La Higuera"},"16200220","2023-07-18T09:41:11",2,null,2]
[6,"5",2023,"105313",{"$f":"IFERROR(VLOOKUP(Tabla_SERIED_11_6[[#This Row],[IdEstablecimiento]],'[2]Establecimiento 2023'!$A$1:$E$183,3,FALSE),0)","v":"105313-Centro de Salud Familiar Dr. Emilio Schaffhauser"},{"$f":"IFERROR(VLOOKUP(Tabla_SERIED_11_6[[#This Row],[IdEstablecimiento]],'[2]Establecimiento 2023'!$A$1:$E$183,5,FALSE),0)","v":"04101-La Serena"},"16200220","2023-07-17T14:55:07",93,40,53]
[6,"5",2023,"105319",{"$f":"IFERROR(VLOOKUP(Tabla_SERIED_11_6[[#This Row],[IdEstablecimiento]],'[2]Establecimiento 2023'!$A$1:$E$183,3,FALSE),0)","v":"105319-Centro de Salud Familiar Cardenal Raúl Silva Henríquez de La Serena"},{"$f":"IFERROR(VLOOKUP(Tabla_SERIED_11_6[[#This Row],[IdEstablecimiento]],'[2]Establecimiento 2023'!$A$1:$E$183,5,FALSE),0)","v":"04101-La Serena"},"15080008","2023-07-19T15:47:29",116,{"$nulls":7},76,null,26,null,14]
[6,"5",2023,"105326",{"$f":"IFERROR(VLOOKUP(Tabla_SERIED_11_6[[#This Row],[IdEstablecimiento]],'[2]Establecimiento 2023'!$A$1:$E$183,3,FALSE),0)","v":"105326-Centro de Salud Familiar Villa San Rafael de Rozas"},{"$f":"IFERROR(VLOOKUP(Tabla_SERIED_11_6[[#This Row],[IdEstablecimiento]],'[2]Establecimiento 2023'!$A$1:$E$183,5,FALSE),0)","v":"04201-Illapel"},"15080014","2023-07-18T17:01:45",49,{"$nulls":4},46,null,null,3]
[6,"5",2023,"105410",{"$f":"IFERROR(VLOOKUP(Tabla_SERIED_11_6[[#This Row],[IdEstablecimiento]],'[2]Establecimiento 2023'!$A$1:$E$183,3,FALSE),0)","v":"105410-Posta de Salud Rural Hurtado"},{"$f":"IFERROR(VLOOKUP(Tabla_SERIED_11_6[[#This Row],[IdEstablecimiento]],'[2]Establecimiento 2023'!$A$1:$E$183,5,FALSE),0)","v":"04305-Rio Hurtado"},"16100300","2023-07-17T15:33:06",37,15,22]
[6,"5",2023,"105407",{"$f":"IFERROR(VLOOKUP(Tabla_SERIED_11_6[[#This Row],[IdEstablecimiento]],'[2]Establecimiento 2023'!$A$1:$E$183,3,FALSE),0)","v":"105407-Posta de Salud Rural Tambillo"},{"$f":"IFERROR(VLOOKUP(Tabla_SERIED_11_6[[#This Row],[IdEstablecimiento]],'[2]Establecimiento 2023'!$A$1:$E$183,5,FALSE),0)","v":"04102-Coquimbo"},"15010200","2023-07-18T12:55:04",10,{"$nulls":5},4,6]
[6,"5",2023,"105417",{"$f":"IFERROR(VLOOKUP(Tabla_SERIED_11_6[[#This Row],[IdEstablecimiento]],'[2]Establecimiento 2023'!$A$1:$E$183,3,FALSE),0)","v":"105417-Posta de Salud Rural Alcones Bajo"},{"$f":"IFERROR(VLOOKUP(Tabla_SERIED_11_6[[#This Row],[IdEstablecimiento]],'[2]Establecimiento 2023'!$A$1:$E$183,5,FALSE),0)","v":"04301-Ovalle"},"15900010","2023-07-17T15:38:58",10.8,null,4,6.8]
[6,"5",2023,"105434",{"$f":"IFERROR(VLOOKUP(Tabla_SERIED_11_6[[#This Row],[IdEstablecimiento]],'[2]Establecimiento 2023'!$A$1:$E$183,3,FALSE),0)","v":"105434-Posta de Salud Rural San Marcos (Combarbalá)"},{"$f":"IFERROR(VLOOKUP(Tabla_SERIED_11_6[[#This Row],[IdEstablecimiento]],'[2]Establecimiento 2023'!$A$1:$E$183,5,FALSE),0)","v":"04302-Combarbalá"},"15010200","2023-07-18T16:50:01",14,{"$nulls":5},4,10]
[6,"5",2023,"200569",{"$f":"IFERROR(VLOOKUP(Tabla_SERIED_11_6[[#This Row],[IdEstablecimiento]],'[2]Establecimiento 2023'!$A$1:$E$183,3,FALSE),0)","v":"200569-Centro de Salud Familiar Fray Jorge"},{"$f":"IFERROR(VLOOKUP(Tabla_SERIED_11_6[[#This Row],[IdEstablecimiento]],'[2]Establecimiento 2023'!$A$1:$E$183,5,FALSE),0)","v":"04301-Ovalle"},"15900030","2023-08-18T11:36:54",27.2,0,2.8,13.2,11.2,0]
[6,"5",2023,"105405",{"$f":"IFERROR(VLOOKUP(Tabla_SERIED_11_6[[#This Row],[IdEstablecimiento]],'[2]Establecimiento 2023'!$A$1:$E$183,3,FALSE),0)","v":"105405-Posta de Salud Rural Guanaqueros"},{"$f":"IFERROR(VLOOKUP(Tabla_SERIED_11_6[[#This Row],[IdEstablecimiento]],'[2]Establecimiento 2023'!$A$1:$E$183,5,FALSE),0)","v":"04102-Coquimbo"},"16090300","2023-07-19T12:02:50",80,80]
[6,"5",2023,"105419",{"$f":"IFERROR(VLOOKUP(Tabla_SERIED_11_6[[#This Row],[IdEstablecimiento]],'[2]Establecimiento 2023'!$A$1:$E$183,3,FALSE),0)","v":"105419-Posta de Salud Rural Las Sossas"},{"$f":"IFERROR(VLOOKUP(Tabla_SERIED_11_6[[#This Row],[IdEstablecimiento]],'[2]Establecimiento 2023'!$A$1:$E$183,5,FALSE),0)","v":"04301-Ovalle"},"15010200","2023-07-19T15:49:50",4,{"$nulls":6},4]
[6,"5",2023,"105326",{"$f":"IFERROR(VLOOKUP(Tabla_SERIED_11_6[[#This Row],[IdEstablecimiento]],'[2]Establecimiento 2023'!$A$1:$E$183,3,FALSE),0)","v":"105326-Centro de Salud Familiar Villa San Rafael de Rozas"},{"$f":"IFERROR(VLOOKUP(Tabla_SERIED_11_6[[#This Row],[IdEstablecimiento]],'[2]Establecimiento 2023'!$A$1:$E$183,5,FALSE),0)","v":"04201-Illapel"},"15080008","2023-07-18T17:01:45",37,{"$nulls":7},16,null,10,3,8]
[6,"5",2023,"105409",{"$f":"IFERROR(VLOOKUP(Tabla_SERIED_11_6[[#This Row],[IdEstablecimiento]],'[2]Establecimiento 2023'!$A$1:$E$183,3,FALSE),0)","v":"105409-Posta de Salud Rural El Chañar"},{"$f":"IFERROR(VLOOKUP(Tabla_SERIED_11_6[[#This Row],[IdEstablecimiento]],'[2]Establecimiento 2023'!$A$1:$E$183,5,FALSE),0)","v":"04305-Rio Hurtado"},"16090300","2023-07-19T12:51:40",20,20]
[6,"5",2023,"105433",{"$f":"IFERROR(VLOOKUP(Tabla_SERIED_11_6[[#This Row],[IdEstablecimiento]],'[2]Establecimiento 2023'!$A$1:$E$183,3,FALSE),0)","v":"105433-Posta de Salud Rural San Lorenzo (Combarbalá)"},{"$f":"IFERROR(VLOOKUP(Tabla_SERIED_11_6[[#This Row],[IdEstablecimiento]],'[2]Establecimiento 2023'!$A$1:$E$183,5,FALSE),0)","v":"04302-Combarbalá"},"15050100","2023-07-18T15:55:17",2,2,{"$nulls":7},2]
[6,"5",2023,"105104",{"$f":"IFERROR(VLOOKUP(Tabla_SERIED_11_6[[#This Row],[IdEstablecimiento]],'[2]Establecimiento 2023'!$A$1:$E$183,3,FALSE),0)","v":"105104-Hospital de Salamanca"},{"$f":"IFERROR(VLOOKUP(Tabla_SERIED_11_6[[#This Row],[IdEstablecimiento]],'[2]Establecimiento 2023'!$A$1:$E$183,5,FALSE),0)","v":"105104-Hospital Salamanca"},"15080018","2023-07-19T11:57:23",7,null,null,1,4,2]
[6,"5",2023,"105105",{"$f":"IFERROR(VLOOKUP(Tabla_SERIED_11_6[[#This Row],[IdEstablecimiento]],'[2]Establecimiento 2023'!$A$1:$E$183,3,FALSE),0)","v":"105105-Hospital San Juan de Dios (Combarbalá)"},{"$f":"IFERROR(VLOOKUP(Tabla_SERIED_11_6[[#This Row],[IdEstablecimiento]],'[2]Establecimiento 2023'!$A$1:$E$183,5,FALSE),0)","v":"105105-Hospital Combarbalá"},"15080016","2023-07-19T12:04:50",20,{"$nulls":3},2,null,10,8]
[6,"5",2023,"105302",{"$f":"IFERROR(VLOOKUP(Tabla_SERIED_11_6[[#This Row],[IdEstablecimiento]],'[2]Establecimiento 2023'!$A$1:$E$183,3,FALSE),0)","v":"105302-Centro de Salud Familiar Pedro Aguirre Cerda"},{"$f":"IFERROR(VLOOKUP(Tabla_SERIED_11_6[[#This Row],[IdEstablecimiento]],'[2]Establecimiento 2023'!$A$1:$E$183,5,FALSE),0)","v":"04101-La Serena"},"15010200","2023-07-17T13:20:20",359,{"$nulls":5},176,183]
[6,"5",2023,"105469",{"$f":"IFERROR(VLOOKUP(Tabla_SERIED_11_6[[#This Row],[IdEstablecimiento]],'[2]Establecimiento 2023'!$A$1:$E$183,3,FALSE),0)","v":"105469-Posta de Salud Rural El Tambo (Vicuña)"},{"$f":"IFERROR(VLOOKUP(Tabla_SERIED_11_6[[#This Row],[IdEstablecimiento]],'[2]Establecimiento 2023'!$A$1:$E$183,5,FALSE),0)","v":"04106-Vicuña"},"15010500","2023-08-18T11:33:51",4,null,null,2,null,null,2]
[6,"5",2023,"105481",{"$f":"IFERROR(VLOOKUP(Tabla_SERIED_11_6[[#This Row],[IdEstablecimiento]],'[2]Establecimiento 2023'!$A$1:$E$183,3,FALSE),0)","v":"105481-Posta de Salud Rural Tilama"},{"$f":"IFERROR(VLOOKUP(Tabla_SERIED_11_6[[#This Row],[IdEstablecimiento]],'[2]Establecimiento 2023'!$A$1:$E$183,5,FALSE),0)","v":"04203-Los Vilos"},"16090500","2023-07-17T16:40:37",1,1]
[6,"5",2023,"105487",{"$f":"IFERROR(VLOOKUP(Tabla_SERIED_11_6[[#This Row],[IdEstablecimiento]],'[2]Establecimiento 2023'!$A$1:$E$183,3,FALSE),0)","v":"105487-Posta de Salud Rural Cañas Uno"},{"$f":"IFERROR(VLOOKUP(Tabla_SERIED_11_6[[#This Row],[IdEstablecimiento]],'[2]Establecimiento 2023'!$A$1:$E$183,5,FALSE),0)","v":"04201-Illapel"},"15080009","2023-07-17T16:46:33",3,{"$nulls":8},3]
[6,"5",2023,"105414",{"$f":"IFERROR(VLOOKUP(Tabla_SERIED_11_6[[#This Row],[IdEstablecimiento]],'[2]Establecimiento 2023'!$A$1:$E$183,3,FALSE),0)","v":"105414-Posta de Salud Rural Serón"},{"$f":"IFERROR(VLOOKUP(Tabla_SERIED_11_6[[#This Row],[IdEstablecimiento]],'[2]Establecimiento 2023'!$A$1:$E$183,5,FALSE),0)","v":"04305-Rio Hurtado"},"16090300","2023-07-17T15:36:23",30,30]
[6,"5",2023,"105417",{"$f":"IFERROR(VLOOKUP(Tabla_SERIED_11_6[[#This Row],[IdEstablecimiento]],'[2]Establecimiento 2023'!$A$1:$E$183,3,FALSE),0)","v":"105417-Posta de Salud Rural Alcones Bajo"},{"$f":"IFERROR(VLOOKUP(Tabla_SERIED_11_6[[#This Row],[IdEstablecimiento]],'[2]Establecimiento 2023'!$A$1:$E$183,5,FALSE),0)","v":"04301-Ovalle"},"16200100","2023-07-17T15:38:58",4,4]
[6,"5",2023,"105444",{"$f":"IFERROR(VLOOKUP(Tabla_SERIED_11_6[[#This Row],[IdEstablecimiento]],'[2]Establecimiento 2023'!$A$1:$E$183,3,FALSE),0)","v":"105444-Posta de Salud Rural Huintil"},{"$f":"IFERROR(VLOOKUP(Tabla_SERIED_11_6[[#This Row],[IdEstablecimiento]],'[2]Establecimiento 2023'!$A$1:$E$183,5,FALSE),0)","v":"04201-Illapel"},"15050100","2023-07-17T15:56:07",8,3,5,null,2,null,1,null,1,4]
[6,"5",2023,"105444",{"$f":"IFERROR(VLOOKUP(Tabla_SERIED_11_6[[#This Row],[IdEstablecimiento]],'[2]Establecimiento 2023'!$A$1:$E$183,3,FALSE),0)","v":"105444-Posta de Salud Rural Huintil"},{"$f":"IFERROR(VLOOKUP(Tabla_SERIED_11_6[[#This Row],[IdEstablecimiento]],'[2]Establecimiento 2023'!$A$1:$E$183,5,FALSE),0)","v":"04201-Illapel"},"15050200","2023-07-17T15:56:07",1,1,null,null,1]
[6,"5",2023,"200273",{"$f":"IFERROR(VLOOKUP(Tabla_SERIED_11_6[[#This Row],[IdEstablecimiento]],'[2]Establecimiento 2023'!$A$1:$E$183,3,FALSE),0)","v":"200273-Centro Comunitario de Salud Familiar Punta Mira"},{"$f":"IFERROR(VLOOKUP(Tabla_SERIED_11_6[[#This Row],[IdEstablecimiento]],'[2]Establecimiento 2023'!$A$1:$E$183,5,FALSE),0)","v":"04102-Coquimbo"},"15080016","2023-07-19T12:15:38",2,{"$nulls":6},2]
[6,"5",2023,"200538",{"$f":"IFERROR(VLOOKUP(Tabla_SERIED_11_6[[#This Row],[IdEstablecimiento]],'[2]Establecimiento 2023'!$A$1:$E$183,3,FALSE),0)","v":"200538-Centro de Salud Familiar San Isidro Calingasta"},{"$f":"IFERROR(VLOOKUP(Tabla_SERIED_11_6[[#This Row],[IdEstablecimiento]],'[2]Establecimiento 2023'!$A$1:$E$183,5,FALSE),0)","v":"04106-Vicuña"},"15900050","2023-08-18T11:35:42",1,null,1,null,1]
[6,"5",2023,"105471",{"$f":"IFERROR(VLOOKUP(Tabla_SERIED_11_6[[#This Row],[IdEstablecimiento]],'[2]Establecimiento 2023'!$A$1:$E$183,3,FALSE),0)","v":"105471-Posta de Salud Rural Peralillo Vicuña"},{"$f":"IFERROR(VLOOKUP(Tabla_SERIED_11_6[[#This Row],[IdEstablecimiento]],'[2]Establecimiento 2023'!$A$1:$E$183,5,FALSE),0)","v":"04106-Vicuña"},"15080016","2023-08-18T11:34:11",2,{"$nulls":4},2]
[6,"5",2023,"105301",{"$f":"IFERROR(VLOOKUP(Tabla_SERIED_11_6[[#This Row],[IdEstablecimiento]],'[2]Establecimiento 2023'!$A$1:$E$183,3,FALSE),0)","v":"105301-Centro de Salud Familiar Las Compañías"},{"$f":"IFERROR(VLOOKUP(Tabla_SERIED_11_6[[#This Row],[IdEstablecimiento]],'[2]Establecimiento 2023'!$A$1:$E$183,5,FALSE),0)","v":"04101-La Serena"},"15080019","2023-07-17T13:17:33",4,{"$nulls":6},4]
[6,"5",2023,"105305",{"$f":"IFERROR(VLOOKUP(Tabla_SERIED_11_6[[#This Row],[IdEstablecimiento]],'[2]Establecimiento 2023'!$A$1:$E$183,3,FALSE),0)","v":"105305-Centro de Salud Familiar Tierras Blancas"},{"$f":"IFERROR(VLOOKUP(Tabla_SERIED_11_6[[#This Row],[IdEstablecimiento]],'[2]Establecimiento 2023'!$A$1:$E$183,5,FALSE),0)","v":"04102-Coquimbo"},"15020200","2023-07-19T12:12:59",8,{"$nulls":5},2,6]
[6,"5",2023,"105476",{"$f":"IFERROR(VLOOKUP(Tabla_SERIED_11_6[[#This Row],[IdEstablecimiento]],'[2]Establecimiento 2023'!$A$1:$E$183,3,FALSE),0)","v":"105476-Posta de Salud Rural Monte Grande"},{"$f":"IFERROR(VLOOKUP(Tabla_SERIED_11_6[[#This Row],[IdEstablecimiento]],'[2]Establecimiento 2023'!$A$1:$E$183,5,FALSE),0)","v":"04105-Paihuano"},"15050100","2023-07-17T16:31:33",3,2,1,{"$nulls":3},2,null,1]
[6,"5",2023,"105487",{"$f":"IFERROR(VLOOKUP(Tabla_SERIED_11_6[[#This Row],[IdEstablecimiento]],'[2]Establecimiento 2023'!$A$1:$E$183,3,FALSE),0)","v":"105487-Posta de Salud Rural Cañas Uno"},{"$f":"IFERROR(VLOOKUP(Tabla_SERIED_11_6[[#This Row],[IdEstablecimiento]],'[2]Establecimiento 2023'!$A$1:$E$183,5,FALSE),0)","v":"04201-Illapel"},"15050200","2023-07-17T16:46:33",1,null,1,{"$nulls":8},1,null,0]
[6,"5",2023,"105489",{"$f":"IFERROR(VLOOKUP(Tabla_SERIED_11_6[[#This Row],[IdEstablecimiento]],'[2]Establecimiento 2023'!$A$1:$E$183,3,FALSE),0)","v":"105489-Posta de Salud Rural Ramadas de Tulahuén"},{"$f":"IFERROR(VLOOKUP(Tabla_SERIED_11_6[[#This Row],[IdEstablecimiento]],'[2]Establecimiento 2023'!$A$1:$E$183,5,FALSE),0)","v":"04303-Monte Patria"},"15080014","2023-07-19T15:51:30",8,{"$nulls":4},8]
[6,"5",2023,"105506",{"$f":"IFERROR(VLOOKUP(Tabla_SERIED_11_6[[#This Row],[IdEstablecimiento]],'[2]Establecimiento 2023'!$A$1:$E$183,3,FALSE),0)","v":"105506-Posta de Salud Rural El Trapiche"},{"$f":"IFERROR(VLOOKUP(Tabla_SERIED_11_6[[#This Row],[IdEstablecimiento]],'[2]Establecimiento 2023'!$A$1:$E$183,5,FALSE),0)","v":"04104-La Higuera"},"15080016","2023-07-18T09:41:11",2,{"$nulls":3},2]
[6,"5",2023,"105106",{"$f":"IFERROR(VLOOKUP(Tabla_SERIED_11_6[[#This Row],[IdEstablecimiento]],'[2]Establecimiento 2023'!$A$1:$E$183,3,FALSE),0)","v":"105106-Hospital Dr. José Arraño (Andacollo)"},{"$f":"IFERROR(VLOOKUP(Tabla_SERIED_11_6[[#This Row],[IdEstablecimiento]],'[2]Establecimiento 2023'!$A$1:$E$183,5,FALSE),0)","v":"105106-Hospital Andacollo"},"15900030","2023-07-19T12:07:56",4.4,{"$nulls":3},4.4]
[6,"5",2023,"105303",{"$f":"IFERROR(VLOOKUP(Tabla_SERIED_11_6[[#This Row],[IdEstablecimiento]],'[2]Establecimiento 2023'!$A$1:$E$183,3,FALSE),0)","v":"105303-Centro de Salud Familiar San Juan"},{"$f":"IFERROR(VLOOKUP(Tabla_SERIED_11_6[[#This Row],[IdEstablecimiento]],'[2]Establecimiento 2023'!$A$1:$E$183,5,FALSE),0)","v":"04102-Coquimbo"},"15080014","2023-07-19T12:14:03",332,{"$nulls":3},170,162]
[6,"5",2023,"105305",{"$f":"IFERROR(VLOOKUP(Tabla_SERIED_11_6[[#This Row],[IdEstablecimiento]],'[2]Establecimiento 2023'!$A$1:$E$183,3,FALSE),0)","v":"105305-Centro de Salud Familiar Tierras Blancas"},{"$f":"IFERROR(VLOOKUP(Tabla_SERIED_11_6[[#This Row],[IdEstablecimiento]],'[2]Establecimiento 2023'!$A$1:$E$183,5,FALSE),0)","v":"04102-Coquimbo"},"15900050","2023-07-19T12:12:59",9,4,5,null,4,3,null,1,1]
[6,"5",2023,"105310",{"$f":"IFERROR(VLOOKUP(Tabla_SERIED_11_6[[#This Row],[IdEstablecimiento]],'[2]Establecimiento 2023'!$A$1:$E$183,3,FALSE),0)","v":"105310-Centro de Salud Familiar Pichasca"},{"$f":"IFERROR(VLOOKUP(Tabla_SERIED_11_6[[#This Row],[IdEstablecimiento]],'[2]Establecimiento 2023'!$A$1:$E$183,5,FALSE),0)","v":"04305-Rio Hurtado"},"15900010","2023-07-17T14:51:33",8,4,0.8,3.2]
[6,"5",2023,"105322",{"$f":"IFERROR(VLOOKUP(Tabla_SERIED_11_6[[#This Row],[IdEstablecimiento]],'[2]Establecimiento 2023'!$A$1:$E$183,3,FALSE),0)","v":"105322-Centro de Salud Familiar Marcos Macuada"},{"$f":"IFERROR(VLOOKUP(Tabla_SERIED_11_6[[#This Row],[IdEstablecimiento]],'[2]Establecimiento 2023'!$A$1:$E$183,5,FALSE),0)","v":"04301-Ovalle"},"15060200","2023-07-19T15:48:06",1,0,1,0,0,0,0,0,1,null,null,0,0,0,0]
[6,"5",2023,"200367",{"$f":"IFERROR(VLOOKUP(Tabla_SERIED_11_6[[#This Row],[IdEstablecimiento]],'[2]Establecimiento 2023'!$A$1:$E$183,3,FALSE),0)","v":"200367-Centro Comunitario de Salud Familiar Colonia Limarí"},{"$f":"IFERROR(VLOOKUP(Tabla_SERIED_11_6[[#This Row],[IdEstablecimiento]],'[2]Establecimiento 2023'!$A$1:$E$183,5,FALSE),0)","v":"04301-Ovalle"},"15050200","2023-07-18T09:50:00",1,1,{"$nulls":7},1]
[6,"5",2023,"200499",{"$f":"IFERROR(VLOOKUP(Tabla_SERIED_11_6[[#This Row],[IdEstablecimiento]],'[2]Establecimiento 2023'!$A$1:$E$183,3,FALSE),0)","v":"200499-Centro de Salud Familiar Rural Pan de Azúcar"},{"$f":"IFERROR(VLOOKUP(Tabla_SERIED_11_6[[#This Row],[IdEstablecimiento]],'[2]Establecimiento 2023'!$A$1:$E$183,5,FALSE),0)","v":"04102-Coquimbo"},"15080008","2023-07-18T15:23:28",90,{"$nulls":7},33,null,36,16,5]
[6,"5",2023,"200499",{"$f":"IFERROR(VLOOKUP(Tabla_SERIED_11_6[[#This Row],[IdEstablecimiento]],'[2]Establecimiento 2023'!$A$1:$E$183,3,FALSE),0)","v":"200499-Centro de Salud Familiar Rural Pan de Azúcar"},{"$f":"IFERROR(VLOOKUP(Tabla_SERIED_11_6[[#This Row],[IdEstablecimiento]],'[2]Establecimiento 2023'!$A$1:$E$183,5,FALSE),0)","v":"04102-Coquimbo"},"15900050","2023-07-18T15:23:28",4,3,1,0,1,2,1,0]
[6,"5",2023,"105453",{"$f":"IFERROR(VLOOKUP(Tabla_SERIED_11_6[[#This Row],[IdEstablecimiento]],'[2]Establecimiento 2023'!$A$1:$E$183,3,FALSE),0)","v":"105453-Posta de Salud Rural Tranquilla"},{"$f":"IFERROR(VLOOKUP(Tabla_SERIED_11_6[[#This Row],[IdEstablecimiento]],'[2]Establecimiento 2023'!$A$1:$E$183,5,FALSE),0)","v":"04204-Salamanca"},"15060100","2023-07-17T16:06:48",1,1,{"$nulls":6},1]
[6,"5",2023,"105460",{"$f":"IFERROR(VLOOKUP(Tabla_SERIED_11_6[[#This Row],[IdEstablecimiento]],'[2]Establecimiento 2023'!$A$1:$E$183,3,FALSE),0)","v":"105460-Centro Comunitario de Salud Familiar Cogotí 18"},{"$f":"IFERROR(VLOOKUP(Tabla_SERIED_11_6[[#This Row],[IdEstablecimiento]],'[2]Establecimiento 2023'!$A$1:$E$183,5,FALSE),0)","v":"04302-Combarbalá"},"16200220","2023-08-18T11:33:30",16,7,9]
[6,"5",2023,"105473",{"$f":"IFERROR(VLOOKUP(Tabla_SERIED_11_6[[#This Row],[IdEstablecimiento]],'[2]Establecimiento 2023'!$A$1:$E$183,3,FALSE),0)","v":"105473-Posta de Salud Rural Talcuna"},{"$f":"IFERROR(VLOOKUP(Tabla_SERIED_11_6[[#This Row],[IdEstablecimiento]],'[2]Establecimiento 2023'!$A$1:$E$183,5,FALSE),0)","v":"04106-Vicuña"},"15900010","2023-07-18T15:39:20",18.4,null,9.6,8.8]
[6,"5",2023,"105304",{"$f":"IFERROR(VLOOKUP(Tabla_SERIED_11_6[[#This Row],[IdEstablecimiento]],'[2]Establecimiento 2023'!$A$1:$E$183,3,FALSE),0)","v":"105304-Centro de Salud Familiar Santa Cecilia"},{"$f":"IFERROR(VLOOKUP(Tabla_SERIED_11_6[[#This Row],[IdEstablecimiento]],'[2]Establecimiento 2023'!$A$1:$E$183,5,FALSE),0)","v":"04102-Coquimbo"},"15901500","2023-08-18T11:32:15",5.6,0,0,5.6]
[6,"5",2023,"105433",{"$f":"IFERROR(VLOOKUP(Tabla_SERIED_11_6[[#This Row],[IdEstablecimiento]],'[2]Establecimiento 2023'!$A$1:$E$183,3,FALSE),0)","v":"105433-Posta de Salud Rural San Lorenzo (Combarbalá)"},{"$f":"IFERROR(VLOOKUP(Tabla_SERIED_11_6[[#This Row],[IdEstablecimiento]],'[2]Establecimiento 2023'!$A$1:$E$183,5,FALSE),0)","v":"04302-Combarbalá"},"15010200","2023-07-18T15:55:17",4,{"$nulls":6},4]
[6,"5",2023,"105442",{"$f":"IFERROR(VLOOKUP(Tabla_SERIED_11_6[[#This Row],[IdEstablecimiento]],'[2]Establecimiento 2023'!$A$1:$E$183,3,FALSE),0)","v":"105442-Posta de Salud Rural San Pedro de Quiles"},{"$f":"IFERROR(VLOOKUP(Tabla_SERIED_11_6[[#This Row],[IdEstablecimiento]],'[2]Establecimiento 2023'!$A$1:$E$183,5,FALSE),0)","v":"04304-Punitaqui"},"15050100","2023-07-18T14:50:44",5,4,1,{"$nulls":5},2,3]
[6,"5",2023,"105443",{"$f":"IFERROR(VLOOKUP(Tabla_SERIED_11_6[[#This Row],[IdEstablecimiento]],'[2]Establecimiento 2023'!$A$1:$E$183,3,FALSE),0)","v":"105443-Posta de Salud Rural Cárcamo"},{"$f":"IFERROR(VLOOKUP(Tabla_SERIED_11_6[[#This Row],[IdEstablecimiento]],'[2]Establecimiento 2023'!$A$1:$E$183,5,FALSE),0)","v":"04201-Illapel"},"15050200","2023-07-17T15:52:13",1,null,1,{"$nulls":8},1]
[6,"5",2023,"105312",{"$f":"IFERROR(VLOOKUP(Tabla_SERIED_11_6[[#This Row],[IdEstablecimiento]],'[2]Establecimiento 2023'!$A$1:$E$183,3,FALSE),0)","v":"105312-Centro de Salud Familiar Carén"},{"$f":"IFERROR(VLOOKUP(Tabla_SERIED_11_6[[#This Row],[IdEstablecimiento]],'[2]Establecimiento 2023'!$A$1:$E$183,5,FALSE),0)","v":"04303-Monte Patria"},"15010200","2023-07-17T14:54:36",63,{"$nulls":5},24,39]
[6,"5",2023,"105313",{"$f":"IFERROR(VLOOKUP(Tabla_SERIED_11_6[[#This Row],[IdEstablecimiento]],'[2]Establecimiento 2023'!$A$1:$E$183,3,FALSE),0)","v":"105313-Centro de Salud Familiar Dr. Emilio Schaffhauser"},{"$f":"IFERROR(VLOOKUP(Tabla_SERIED_11_6[[#This Row],[IdEstablecimiento]],'[2]Establecimiento 2023'!$A$1:$E$183,5,FALSE),0)","v":"04101-La Serena"},"15080014","2023-07-17T14:55:07",397,{"$nulls":3},204,178,null,null,6,null,8,1]
[6,"5",2023,"105479",{"$f":"IFERROR(VLOOKUP(Tabla_SERIED_11_6[[#This Row],[IdEstablecimiento]],'[2]Establecimiento 2023'!$A$1:$E$183,3,FALSE),0)","v":"105479-Posta de Salud Rural Guangualí"},{"$f":"IFERROR(VLOOKUP(Tabla_SERIED_11_6[[#This Row],[IdEstablecimiento]],'[2]Establecimiento 2023'!$A$1:$E$183,5,FALSE),0)","v":"04203-Los Vilos"},"16200220","2023-07-17T16:38:38",3,2,1]
[6,"5",2023,"105308",{"$f":"IFERROR(VLOOKUP(Tabla_SERIED_11_6[[#This Row],[IdEstablecimiento]],'[2]Establecimiento 2023'!$A$1:$E$183,3,FALSE),0)","v":"105308-Centro de Salud Familiar Punitaqui"},{"$f":"IFERROR(VLOOKUP(Tabla_SERIED_11_6[[#This Row],[IdEstablecimiento]],'[2]Establecimiento 2023'!$A$1:$E$183,5,FALSE),0)","v":"04304-Punitaqui"},"15080016","2023-07-18T15:52:12",10,{"$nulls":5},8,2]
[6,"5",2023,"105312",{"$f":"IFERROR(VLOOKUP(Tabla_SERIED_11_6[[#This Row],[IdEstablecimiento]],'[2]Establecimiento 2023'!$A$1:$E$183,3,FALSE),0)","v":"105312-Centro de Salud Familiar Carén"},{"$f":"IFERROR(VLOOKUP(Tabla_SERIED_11_6[[#This Row],[IdEstablecimiento]],'[2]Establecimiento 2023'!$A$1:$E$183,5,FALSE),0)","v":"04303-Monte Patria"},"15900010","2023-07-17T14:54:36",12.8,null,7.2,5.6]
[6,"5",2023,"105322",{"$f":"IFERROR(VLOOKUP(Tabla_SERIED_11_6[[#This Row],[IdEstablecimiento]],'[2]Establecimiento 2023'!$A$1:$E$183,3,FALSE),0)","v":"105322-Centro de Salud Familiar Marcos Macuada"},{"$f":"IFERROR(VLOOKUP(Tabla_SERIED_11_6[[#This Row],[IdEstablecimiento]],'[2]Establecimiento 2023'!$A$1:$E$183,5,FALSE),0)","v":"04301-Ovalle"},"15900040","2023-07-19T15:48:06",15.2,0,0,4.4,7.2,3.6,0,0]
[6,"5",2023,"105324",{"$f":"IFERROR(VLOOKUP(Tabla_SERIED_11_6[[#This Row],[IdEstablecimiento]],'[2]Establecimiento 2023'!$A$1:$E$183,3,FALSE),0)","v":"105324-Centro de Salud Familiar Sotaquí"},{"$f":"IFERROR(VLOOKUP(Tabla_SERIED_11_6[[#This Row],[IdEstablecimiento]],'[2]Establecimiento 2023'!$A$1:$E$183,5,FALSE),0)","v":"04301-Ovalle"},"16200210","2023-07-17T15:21:37",3,3]
[6,"5",2023,"105700",{"$f":"IFERROR(VLOOKUP(Tabla_SERIED_11_6[[#This Row],[IdEstablecimiento]],'[2]Establecimiento 2023'!$A$1:$E$183,3,FALSE),0)","v":"105700-Centro Comunitario de Salud Familiar Villa el Indio"},{"$f":"IFERROR(VLOOKUP(Tabla_SERIED_11_6[[#This Row],[IdEstablecimiento]],'[2]Establecimiento 2023'!$A$1:$E$183,5,FALSE),0)","v":"04101-La Serena"},"16090300","2023-07-18T09:43:25",99,99]
[6,"5",2023,"200494",{"$f":"IFERROR(VLOOKUP(Tabla_SERIED_11_6[[#This Row],[IdEstablecimiento]],'[2]Establecimiento 2023'!$A$1:$E$183,3,FALSE),0)","v":"200494-Centro de Salud Familiar El Sauce"},{"$f":"IFERROR(VLOOKUP(Tabla_SERIED_11_6[[#This Row],[IdEstablecimiento]],'[2]Establecimiento 2023'!$A$1:$E$183,5,FALSE),0)","v":"04102-Coquimbo"},"15010400","2023-08-18T11:35:12",8,{"$nulls":5},6,2]
[6,"5",2023,"200607",{"$f":"IFERROR(VLOOKUP(Tabla_SERIED_11_6[[#This Row],[IdEstablecimiento]],'[2]Establecimiento 2023'!$A$1:$E$183,3,FALSE),0)","v":"200607-Centro de Salud Familiar Lila Cortés Godoy"},{"$f":"IFERROR(VLOOKUP(Tabla_SERIED_11_6[[#This Row],[IdEstablecimiento]],'[2]Establecimiento 2023'!$A$1:$E$183,5,FALSE),0)","v":"04102-Coquimbo"},"16100300","2023-07-18T12:30:59",286,120,166]
[6,"5",2023,"105427",{"$f":"IFERROR(VLOOKUP(Tabla_SERIED_11_6[[#This Row],[IdEstablecimiento]],'[2]Establecimiento 2023'!$A$1:$E$183,3,FALSE),0)","v":"105427-Posta de Salud Rural Hacienda Valdivia"},{"$f":"IFERROR(VLOOKUP(Tabla_SERIED_11_6[[#This Row],[IdEstablecimiento]],'[2]Establecimiento 2023'!$A$1:$E$183,5,FALSE),0)","v":"04303-Monte Patria"},"16100300","2023-07-19T15:50:14",41,20,21]
[7,"5",2023,"105405",{"$f":"IFERROR(VLOOKUP(Tabla_SERIED_11_6[[#This Row],[IdEstablecimiento]],'[2]Establecimiento 2023'!$A$1:$E$183,3,FALSE),0)","v":"105405-Posta de Salud Rural Guanaqueros"},{"$f":"IFERROR(VLOOKUP(Tabla_SERIED_11_6[[#This Row],[IdEstablecimiento]],'[2]Establecimiento 2023'!$A$1:$E$183,5,FALSE),0)","v":"04102-Coquimbo"},"15080008","2023-08-18T08:15:44",11,{"$nulls":7},9,null,2,null,0]
[7,"5",2023,"105427",{"$f":"IFERROR(VLOOKUP(Tabla_SERIED_11_6[[#This Row],[IdEstablecimiento]],'[2]Establecimiento 2023'!$A$1:$E$183,3,FALSE),0)","v":"105427-Posta de Salud Rural Hacienda Valdivia"},{"$f":"IFERROR(VLOOKUP(Tabla_SERIED_11_6[[#This Row],[IdEstablecimiento]],'[2]Establecimiento 2023'!$A$1:$E$183,5,FALSE),0)","v":"04303-Monte Patria"},"16200210","2023-08-18T08:24:18",3,3]
[6,"5",2023,"105451",{"$f":"IFERROR(VLOOKUP(Tabla_SERIED_11_6[[#This Row],[IdEstablecimiento]],'[2]Establecimiento 2023'!$A$1:$E$183,3,FALSE),0)","v":"105451-Posta de Salud Rural Agua Fría"},{"$f":"IFERROR(VLOOKUP(Tabla_SERIED_11_6[[#This Row],[IdEstablecimiento]],'[2]Establecimiento 2023'!$A$1:$E$183,5,FALSE),0)","v":"04202-Canela"},"16200210","2023-08-18T11:33:08",4,4]
[6,"5",2023,"105106",{"$f":"IFERROR(VLOOKUP(Tabla_SERIED_11_6[[#This Row],[IdEstablecimiento]],'[2]Establecimiento 2023'!$A$1:$E$183,3,FALSE),0)","v":"105106-Hospital Dr. José Arraño (Andacollo)"},{"$f":"IFERROR(VLOOKUP(Tabla_SERIED_11_6[[#This Row],[IdEstablecimiento]],'[2]Establecimiento 2023'!$A$1:$E$183,5,FALSE),0)","v":"105106-Hospital Andacollo"},"15900050","2023-07-19T12:07:56",2,1,1,null,null,1,1]
[6,"5",2023,"105107",{"$f":"IFERROR(VLOOKUP(Tabla_SERIED_11_6[[#This Row],[IdEstablecimiento]],'[2]Establecimiento 2023'!$A$1:$E$183,3,FALSE),0)","v":"105107-Hospital San Juan de Dios (Vicuña)"},{"$f":"IFERROR(VLOOKUP(Tabla_SERIED_11_6[[#This Row],[IdEstablecimiento]],'[2]Establecimiento 2023'!$A$1:$E$183,5,FALSE),0)","v":"105107-Hospital Vicuña"},"15010500","2023-07-19T12:10:17",22,null,null,2,4,4,8,4]
[6,"5",2023,"105400",{"$f":"IFERROR(VLOOKUP(Tabla_SERIED_11_6[[#This Row],[IdEstablecimiento]],'[2]Establecimiento 2023'!$A$1:$E$183,3,FALSE),0)","v":"105400-Posta de Salud Rural Algarrobito"},{"$f":"IFERROR(VLOOKUP(Tabla_SERIED_11_6[[#This Row],[IdEstablecimiento]],'[2]Establecimiento 2023'!$A$1:$E$183,5,FALSE),0)","v":"04101-La Serena"},"15010100","2023-07-17T15:23:00",4,{"$nulls":3},4]
[6,"5",2023,"105413",{"$f":"IFERROR(VLOOKUP(Tabla_SERIED_11_6[[#This Row],[IdEstablecimiento]],'[2]Establecimiento 2023'!$A$1:$E$183,3,FALSE),0)","v":"105413-Posta de Salud Rural Samo Alto"},{"$f":"IFERROR(VLOOKUP(Tabla_SERIED_11_6[[#This Row],[IdEstablecimiento]],'[2]Establecimiento 2023'!$A$1:$E$183,5,FALSE),0)","v":"04305-Rio Hurtado"},"15050100","2023-07-19T15:49:02",17,6,11,null,null,1,null,null,7,6,1,null,1,null,1]
[6,"5",2023,"105427",{"$f":"IFERROR(VLOOKUP(Tabla_SERIED_11_6[[#This Row],[IdEstablecimiento]],'[2]Establecimiento 2023'!$A$1:$E$183,3,FALSE),0)","v":"105427-Posta de Salud Rural Hacienda Valdivia"},{"$f":"IFERROR(VLOOKUP(Tabla_SERIED_11_6[[#This Row],[IdEstablecimiento]],'[2]Establecimiento 2023'!$A$1:$E$183,5,FALSE),0)","v":"04303-Monte Patria"},"16200100","2023-07-19T15:50:14",10,8,2]
[6,"5",2023,"105432",{"$f":"IFERROR(VLOOKUP(Tabla_SERIED_11_6[[#This Row],[IdEstablecimiento]],'[2]Establecimiento 2023'!$A$1:$E$183,3,FALSE),0)","v":"105432-Posta de Salud Rural Rapel (Monte Patria)"},{"$f":"IFERROR(VLOOKUP(Tabla_SERIED_11_6[[#This Row],[IdEstablecimiento]],'[2]Establecimiento 2023'!$A$1:$E$183,5,FALSE),0)","v":"04303-Monte Patria"},"16200210","2023-07-17T15:46:55",3,3]
[7,"5",2023,"105303",{"$f":"IFERROR(VLOOKUP(Tabla_SERIED_11_6[[#This Row],[IdEstablecimiento]],'[2]Establecimiento 2023'!$A$1:$E$183,3,FALSE),0)","v":"105303-Centro de Salud Familiar San Juan"},{"$f":"IFERROR(VLOOKUP(Tabla_SERIED_11_6[[#This Row],[IdEstablecimiento]],'[2]Establecimiento 2023'!$A$1:$E$183,5,FALSE),0)","v":"04102-Coquimbo"},"15080014","2023-10-17T09:58:05",334,{"$nulls":3},176,158,0,0,0,0,0,0,0]
[7,"5",2023,"105307",{"$f":"IFERROR(VLOOKUP(Tabla_SERIED_11_6[[#This Row],[IdEstablecimiento]],'[2]Establecimiento 2023'!$A$1:$E$183,3,FALSE),0)","v":"105307-Centro de Salud Familiar Monte Patria"},{"$f":"IFERROR(VLOOKUP(Tabla_SERIED_11_6[[#This Row],[IdEstablecimiento]],'[2]Establecimiento 2023'!$A$1:$E$183,5,FALSE),0)","v":"04303-Monte Patria"},"15080016","2023-10-17T10:01:52",2,{"$nulls":4},2]
[7,"5",2023,"105105",{"$f":"IFERROR(VLOOKUP(Tabla_SERIED_11_6[[#This Row],[IdEstablecimiento]],'[2]Establecimiento 2023'!$A$1:$E$183,3,FALSE),0)","v":"105105-Hospital San Juan de Dios (Combarbalá)"},{"$f":"IFERROR(VLOOKUP(Tabla_SERIED_11_6[[#This Row],[IdEstablecimiento]],'[2]Establecimiento 2023'!$A$1:$E$183,5,FALSE),0)","v":"105105-Hospital Combarbalá"},"15010200","2023-08-18T07:55:46",213,{"$nulls":5},88,125]
[7,"5",2023,"105106",{"$f":"IFERROR(VLOOKUP(Tabla_SERIED_11_6[[#This Row],[IdEstablecimiento]],'[2]Establecimiento 2023'!$A$1:$E$183,3,FALSE),0)","v":"105106-Hospital Dr. José Arraño (Andacollo)"},{"$f":"IFERROR(VLOOKUP(Tabla_SERIED_11_6[[#This Row],[IdEstablecimiento]],'[2]Establecimiento 2023'!$A$1:$E$183,5,FALSE),0)","v":"105106-Hospital Andacollo"},"15080008","2023-08-18T07:56:41",45,{"$nulls":7},24,null,10,5,6]
[7,"5",2023,"105105",{"$f":"IFERROR(VLOOKUP(Tabla_SERIED_11_6[[#This Row],[IdEstablecimiento]],'[2]Establecimiento 2023'!$A$1:$E$183,3,FALSE),0)","v":"105105-Hospital San Juan de Dios (Combarbalá)"},{"$f":"IFERROR(VLOOKUP(Tabla_SERIED_11_6[[#This Row],[IdEstablecimiento]],'[2]Establecimiento 2023'!$A$1:$E$183,5,FALSE),0)","v":"105105-Hospital Combarbalá"},"16200210","2023-08-18T07:55:46",27,27]
[7,"5",2023,"105428",{"$f":"IFERROR(VLOOKUP(Tabla_SERIED_11_6[[#This Row],[IdEstablecimiento]],'[2]Establecimiento 2023'!$A$1:$E$183,3,FALSE),0)","v":"105428-Posta de Salud Rural Huatulame"},{"$f":"IFERROR(VLOOKUP(Tabla_SERIED_11_6[[#This Row],[IdEstablecimiento]],'[2]Establecimiento 2023'!$A$1:$E$183,5,FALSE),0)","v":"04303-Monte Patria"},"16200220","2023-10-17T11:27:58",5,2,3]
[7,"5",2023,"105443",{"$f":"IFERROR(VLOOKUP(Tabla_SERIED_11_6[[#This Row],[IdEstablecimiento]],'[2]Establecimiento 2023'!$A$1:$E$183,3,FALSE),0)","v":"105443-Posta de Salud Rural Cárcamo"},{"$f":"IFERROR(VLOOKUP(Tabla_SERIED_11_6[[#This Row],[IdEstablecimiento]],'[2]Establecimiento 2023'!$A$1:$E$183,5,FALSE),0)","v":"04201-Illapel"},"15050200","2023-08-18T09:28:46",1,null,1,{"$nulls":8},1]
[7,"5",2023,"105461",{"$f":"IFERROR(VLOOKUP(Tabla_SERIED_11_6[[#This Row],[IdEstablecimiento]],'[2]Establecimiento 2023'!$A$1:$E$183,3,FALSE),0)","v":"105461-Posta de Salud Rural El Huacho"},{"$f":"IFERROR(VLOOKUP(Tabla_SERIED_11_6[[#This Row],[IdEstablecimiento]],'[2]Establecimiento 2023'!$A$1:$E$183,5,FALSE),0)","v":"04302-Combarbalá"},"16090300","2023-08-18T09:47:41",40,40]
[7,"5",2023,"105463",{"$f":"IFERROR(VLOOKUP(Tabla_SERIED_11_6[[#This Row],[IdEstablecimiento]],'[2]Establecimiento 2023'!$A$1:$E$183,3,FALSE),0)","v":"105463-Posta de Salud Rural Quilitapia"},{"$f":"IFERROR(VLOOKUP(Tabla_SERIED_11_6[[#This Row],[IdEstablecimiento]],'[2]Establecimiento 2023'!$A$1:$E$183,5,FALSE),0)","v":"04302-Combarbalá"},"16200210","2023-08-18T09:48:58",10,10]
[6,"5",2023,"105300",{"$f":"IFERROR(VLOOKUP(Tabla_SERIED_11_6[[#This Row],[IdEstablecimiento]],'[2]Establecimiento 2023'!$A$1:$E$183,3,FALSE),0)","v":"105300-Centro de Salud Familiar Cardenal Caro"},{"$f":"IFERROR(VLOOKUP(Tabla_SERIED_11_6[[#This Row],[IdEstablecimiento]],'[2]Establecimiento 2023'!$A$1:$E$183,5,FALSE),0)","v":"04101-La Serena"},"15030100","2023-07-17T13:19:12",7.2,4,3.2]
[6,"5",2023,"105301",{"$f":"IFERROR(VLOOKUP(Tabla_SERIED_11_6[[#This Row],[IdEstablecimiento]],'[2]Establecimiento 2023'!$A$1:$E$183,3,FALSE),0)","v":"105301-Centro de Salud Familiar Las Compañías"},{"$f":"IFERROR(VLOOKUP(Tabla_SERIED_11_6[[#This Row],[IdEstablecimiento]],'[2]Establecimiento 2023'!$A$1:$E$183,5,FALSE),0)","v":"04101-La Serena"},"16100300","2023-07-17T13:17:33",645,275,370]
[7,"5",2023,"105428",{"$f":"IFERROR(VLOOKUP(Tabla_SERIED_11_6[[#This Row],[IdEstablecimiento]],'[2]Establecimiento 2023'!$A$1:$E$183,3,FALSE),0)","v":"105428-Posta de Salud Rural Huatulame"},{"$f":"IFERROR(VLOOKUP(Tabla_SERIED_11_6[[#This Row],[IdEstablecimiento]],'[2]Establecimiento 2023'!$A$1:$E$183,5,FALSE),0)","v":"04303-Monte Patria"},"15010200","2023-10-17T11:27:58",9,{"$nulls":5},4,5]
[7,"5",2023,"105317",{"$f":"IFERROR(VLOOKUP(Tabla_SERIED_11_6[[#This Row],[IdEstablecimiento]],'[2]Establecimiento 2023'!$A$1:$E$183,3,FALSE),0)","v":"105317-Centro de Salud Familiar Jorge Jordán Domic"},{"$f":"IFERROR(VLOOKUP(Tabla_SERIED_11_6[[#This Row],[IdEstablecimiento]],'[2]Establecimiento 2023'!$A$1:$E$183,5,FALSE),0)","v":"04301-Ovalle"},"15060100","2023-08-18T08:08:52",5,2,3,null,1,null,2,null,null,1,null,null,1]
[7,"5",2023,"105321",{"$f":"IFERROR(VLOOKUP(Tabla_SERIED_11_6[[#This Row],[IdEstablecimiento]],'[2]Establecimiento 2023'!$A$1:$E$183,3,FALSE),0)","v":"105321-Centro de Salud Familiar Tongoy"},{"$f":"IFERROR(VLOOKUP(Tabla_SERIED_11_6[[#This Row],[IdEstablecimiento]],'[2]Establecimiento 2023'!$A$1:$E$183,5,FALSE),0)","v":"04102-Coquimbo"},"15050200","2023-08-18T08:11:01",5,2,3,null,null,1,1,0,2,null,null,1]
[7,"5",2023,"105315",{"$f":"IFERROR(VLOOKUP(Tabla_SERIED_11_6[[#This Row],[IdEstablecimiento]],'[2]Establecimiento 2023'!$A$1:$E$183,3,FALSE),0)","v":"105315-Centro de Salud Familiar Cerrillos de Tamaya"},{"$f":"IFERROR(VLOOKUP(Tabla_SERIED_11_6[[#This Row],[IdEstablecimiento]],'[2]Establecimiento 2023'!$A$1:$E$183,5,FALSE),0)","v":"04301-Ovalle"},"15900040","2023-08-18T08:08:23",8.8,null,4.4,null,4.4]
[6,"5",2023,"105467",{"$f":"IFERROR(VLOOKUP(Tabla_SERIED_11_6[[#This Row],[IdEstablecimiento]],'[2]Establecimiento 2023'!$A$1:$E$183,3,FALSE),0)","v":"105467-Posta de Salud Rural Diaguitas"},{"$f":"IFERROR(VLOOKUP(Tabla_SERIED_11_6[[#This Row],[IdEstablecimiento]],'[2]Establecimiento 2023'!$A$1:$E$183,5,FALSE),0)","v":"04106-Vicuña"},"15080008","2023-07-18T15:33:34",4,{"$nulls":7},2,{"$nulls":3},2]
[6,"5",2023,"105107",{"$f":"IFERROR(VLOOKUP(Tabla_SERIED_11_6[[#This Row],[IdEstablecimiento]],'[2]Establecimiento 2023'!$A$1:$E$183,3,FALSE),0)","v":"105107-Hospital San Juan de Dios (Vicuña)"},{"$f":"IFERROR(VLOOKUP(Tabla_SERIED_11_6[[#This Row],[IdEstablecimiento]],'[2]Establecimiento 2023'!$A$1:$E$183,5,FALSE),0)","v":"105107-Hospital Vicuña"},"15050500","2023-07-19T12:10:17",1,null,1,null,null,1]
[6,"5",2023,"105478",{"$f":"IFERROR(VLOOKUP(Tabla_SERIED_11_6[[#This Row],[IdEstablecimiento]],'[2]Establecimiento 2023'!$A$1:$E$183,3,FALSE),0)","v":"105478-Posta de Salud Rural Caimanes"},{"$f":"IFERROR(VLOOKUP(Tabla_SERIED_11_6[[#This Row],[IdEstablecimiento]],'[2]Establecimiento 2023'!$A$1:$E$183,5,FALSE),0)","v":"04203-Los Vilos"},"15080008","2023-07-17T16:36:24",4,{"$nulls":7},4]
[7,"5",2023,"105322",{"$f":"IFERROR(VLOOKUP(Tabla_SERIED_11_6[[#This Row],[IdEstablecimiento]],'[2]Establecimiento 2023'!$A$1:$E$183,3,FALSE),0)","v":"105322-Centro de Salud Familiar Marcos Macuada"},{"$f":"IFERROR(VLOOKUP(Tabla_SERIED_11_6[[#This Row],[IdEstablecimiento]],'[2]Establecimiento 2023'!$A$1:$E$183,5,FALSE),0)","v":"04301-Ovalle"},"16090300","2023-08-18T08:11:28",840,840]
[7,"5",2023,"105323",{"$f":"IFERROR(VLOOKUP(Tabla_SERIED_11_6[[#This Row],[IdEstablecimiento]],'[2]Establecimiento 2023'!$A$1:$E$183,3,FALSE),0)","v":"105323-Centro de Salud Familiar Dr. Sergio Aguilar Delgado"},{"$f":"IFERROR(VLOOKUP(Tabla_SERIED_11_6[[#This Row],[IdEstablecimiento]],'[2]Establecimiento 2023'!$A$1:$E$183,5,FALSE),0)","v":"04102-Coquimbo"},"15901200","2023-08-18T08:12:04",13.6,null,null,9.6,4]
[7,"5",2023,"105324",{"$f":"IFERROR(VLOOKUP(Tabla_SERIED_11_6[[#This Row],[IdEstablecimiento]],'[2]Establecimiento 2023'!$A$1:$E$183,3,FALSE),0)","v":"105324-Centro de Salud Familiar Sotaquí"},{"$f":"IFERROR(VLOOKUP(Tabla_SERIED_11_6[[#This Row],[IdEstablecimiento]],'[2]Establecimiento 2023'!$A$1:$E$183,5,FALSE),0)","v":"04301-Ovalle"},"16090300","2023-08-18T08:12:32",287,287]
[7,"5",2023,"105300",{"$f":"IFERROR(VLOOKUP(Tabla_SERIED_11_6[[#This Row],[IdEstablecimiento]],'[2]Establecimiento 2023'!$A$1:$E$183,3,FALSE),0)","v":"105300-Centro de Salud Familiar Cardenal Caro"},{"$f":"IFERROR(VLOOKUP(Tabla_SERIED_11_6[[#This Row],[IdEstablecimiento]],'[2]Establecimiento 2023'!$A$1:$E$183,5,FALSE),0)","v":"04101-La Serena"},"15050100","2023-08-18T07:59:29",608,233,375,3,12,55,91,64,107,84,102,null,41,8,41]
[7,"5",2023,"105105",{"$f":"IFERROR(VLOOKUP(Tabla_SERIED_11_6[[#This Row],[IdEstablecimiento]],'[2]Establecimiento 2023'!$A$1:$E$183,3,FALSE),0)","v":"105105-Hospital San Juan de Dios (Combarbalá)"},{"$f":"IFERROR(VLOOKUP(Tabla_SERIED_11_6[[#This Row],[IdEstablecimiento]],'[2]Establecimiento 2023'!$A$1:$E$183,5,FALSE),0)","v":"105105-Hospital Combarbalá"},"16200220","2023-08-18T07:55:46",27,9,18]
[7,"5",2023,"105300",{"$f":"IFERROR(VLOOKUP(Tabla_SERIED_11_6[[#This Row],[IdEstablecimiento]],'[2]Establecimiento 2023'!$A$1:$E$183,3,FALSE),0)","v":"105300-Centro de Salud Familiar Cardenal Caro"},{"$f":"IFERROR(VLOOKUP(Tabla_SERIED_11_6[[#This Row],[IdEstablecimiento]],'[2]Establecimiento 2023'!$A$1:$E$183,5,FALSE),0)","v":"04101-La Serena"},"16200210","2023-08-18T07:59:29",21,21]
[7,"5",2023,"105303",{"$f":"IFERROR(VLOOKUP(Tabla_SERIED_11_6[[#This Row],[IdEstablecimiento]],'[2]Establecimiento 2023'!$A$1:$E$183,3,FALSE),0)","v":"105303-Centro de Salud Familiar San Juan"},{"$f":"IFERROR(VLOOKUP(Tabla_SERIED_11_6[[#This Row],[IdEstablecimiento]],'[2]Establecimiento 2023'!$A$1:$E$183,5,FALSE),0)","v":"04102-Coquimbo"},"16100300","2023-10-17T09:58:05",808,328,480]
[7,"5",2023,"105308",{"$f":"IFERROR(VLOOKUP(Tabla_SERIED_11_6[[#This Row],[IdEstablecimiento]],'[2]Establecimiento 2023'!$A$1:$E$183,3,FALSE),0)","v":"105308-Centro de Salud Familiar Punitaqui"},{"$f":"IFERROR(VLOOKUP(Tabla_SERIED_11_6[[#This Row],[IdEstablecimiento]],'[2]Establecimiento 2023'!$A$1:$E$183,5,FALSE),0)","v":"04304-Punitaqui"},"15010500","2023-08-18T08:04:29",14,{"$nulls":3},2,null,10,2]
[7,"5",2023,"105311",{"$f":"IFERROR(VLOOKUP(Tabla_SERIED_11_6[[#This Row],[IdEstablecimiento]],'[2]Establecimiento 2023'!$A$1:$E$183,3,FALSE),0)","v":"105311-Centro de Salud Familiar Chañaral Alto"},{"$f":"IFERROR(VLOOKUP(Tabla_SERIED_11_6[[#This Row],[IdEstablecimiento]],'[2]Establecimiento 2023'!$A$1:$E$183,5,FALSE),0)","v":"04303-Monte Patria"},"16100300","2023-10-17T10:04:21",275,129,146]
[7,"5",2023,"105313",{"$f":"IFERROR(VLOOKUP(Tabla_SERIED_11_6[[#This Row],[IdEstablecimiento]],'[2]Establecimiento 2023'!$A$1:$E$183,3,FALSE),0)","v":"105313-Centro de Salud Familiar Dr. Emilio Schaffhauser"},{"$f":"IFERROR(VLOOKUP(Tabla_SERIED_11_6[[#This Row],[IdEstablecimiento]],'[2]Establecimiento 2023'!$A$1:$E$183,5,FALSE),0)","v":"04101-La Serena"},"15080015","2023-08-18T08:07:08",459,{"$nulls":5},270,189]
[6,"5",2023,"105305",{"$f":"IFERROR(VLOOKUP(Tabla_SERIED_11_6[[#This Row],[IdEstablecimiento]],'[2]Establecimiento 2023'!$A$1:$E$183,3,FALSE),0)","v":"105305-Centro de Salud Familiar Tierras Blancas"},{"$f":"IFERROR(VLOOKUP(Tabla_SERIED_11_6[[#This Row],[IdEstablecimiento]],'[2]Establecimiento 2023'!$A$1:$E$183,5,FALSE),0)","v":"04102-Coquimbo"},"15080010","2023-07-19T12:12:59",3,{"$nulls":7},1,null,2]
[6,"5",2023,"105466",{"$f":"IFERROR(VLOOKUP(Tabla_SERIED_11_6[[#This Row],[IdEstablecimiento]],'[2]Establecimiento 2023'!$A$1:$E$183,3,FALSE),0)","v":"105466-Posta de Salud Rural Valle Hermoso"},{"$f":"IFERROR(VLOOKUP(Tabla_SERIED_11_6[[#This Row],[IdEstablecimiento]],'[2]Establecimiento 2023'!$A$1:$E$183,5,FALSE),0)","v":"04302-Combarbalá"},"15080014","2023-07-18T15:32:50",4,{"$nulls":4},4]
[6,"5",2023,"105473",{"$f":"IFERROR(VLOOKUP(Tabla_SERIED_11_6[[#This Row],[IdEstablecimiento]],'[2]Establecimiento 2023'!$A$1:$E$183,3,FALSE),0)","v":"105473-Posta de Salud Rural Talcuna"},{"$f":"IFERROR(VLOOKUP(Tabla_SERIED_11_6[[#This Row],[IdEstablecimiento]],'[2]Establecimiento 2023'!$A$1:$E$183,5,FALSE),0)","v":"04106-Vicuña"},"16200220","2023-07-18T15:39:20",5,2,3]
[6,"5",2023,"105484",{"$f":"IFERROR(VLOOKUP(Tabla_SERIED_11_6[[#This Row],[IdEstablecimiento]],'[2]Establecimiento 2023'!$A$1:$E$183,3,FALSE),0)","v":"105484-Posta de Salud Rural Huentelauquén"},{"$f":"IFERROR(VLOOKUP(Tabla_SERIED_11_6[[#This Row],[IdEstablecimiento]],'[2]Establecimiento 2023'!$A$1:$E$183,5,FALSE),0)","v":"04202-Canela"},"16200220","2023-08-18T11:34:36",1,0,1]
[6,"5",2023,"105309",{"$f":"IFERROR(VLOOKUP(Tabla_SERIED_11_6[[#This Row],[IdEstablecimiento]],'[2]Establecimiento 2023'!$A$1:$E$183,3,FALSE),0)","v":"105309-Centro de Salud Familiar Canela"},{"$f":"IFERROR(VLOOKUP(Tabla_SERIED_11_6[[#This Row],[IdEstablecimiento]],'[2]Establecimiento 2023'!$A$1:$E$183,5,FALSE),0)","v":"04202-Canela"},"15900030","2023-08-18T11:32:40",14.4,null,null,3.6,3.2,7.6]
[6,"5",2023,"105484",{"$f":"IFERROR(VLOOKUP(Tabla_SERIED_11_6[[#This Row],[IdEstablecimiento]],'[2]Establecimiento 2023'!$A$1:$E$183,3,FALSE),0)","v":"105484-Posta de Salud Rural Huentelauquén"},{"$f":"IFERROR(VLOOKUP(Tabla_SERIED_11_6[[#This Row],[IdEstablecimiento]],'[2]Establecimiento 2023'!$A$1:$E$183,5,FALSE),0)","v":"04202-Canela"},"15050100","2023-08-18T11:34:36",5,2,3,{"$nulls":3},1,1,2,1]
[6,"5",2023,"105491",{"$f":"IFERROR(VLOOKUP(Tabla_SERIED_11_6[[#This Row],[IdEstablecimiento]],'[2]Establecimiento 2023'!$A$1:$E$183,3,FALSE),0)","v":"105491-Posta de Salud Rural Quelén Bajo"},{"$f":"IFERROR(VLOOKUP(Tabla_SERIED_11_6[[#This Row],[IdEstablecimiento]],'[2]Establecimiento 2023'!$A$1:$E$183,5,FALSE),0)","v":"04204-Salamanca"},"15010200","2023-07-17T16:48:08",52,{"$nulls":5},20,32]
[6,"5",2023,"105497",{"$f":"IFERROR(VLOOKUP(Tabla_SERIED_11_6[[#This Row],[IdEstablecimiento]],'[2]Establecimiento 2023'!$A$1:$E$183,3,FALSE),0)","v":"105497-Posta de Salud Rural Jabonería"},{"$f":"IFERROR(VLOOKUP(Tabla_SERIED_11_6[[#This Row],[IdEstablecimiento]],'[2]Establecimiento 2023'!$A$1:$E$183,5,FALSE),0)","v":"04202-Canela"},"15050100","2023-07-17T16:52:42",1,1,0,{"$nulls":4},1]
[6,"5",2023,"105300",{"$f":"IFERROR(VLOOKUP(Tabla_SERIED_11_6[[#This Row],[IdEstablecimiento]],'[2]Establecimiento 2023'!$A$1:$E$183,3,FALSE),0)","v":"105300-Centro de Salud Familiar Cardenal Caro"},{"$f":"IFERROR(VLOOKUP(Tabla_SERIED_11_6[[#This Row],[IdEstablecimiento]],'[2]Establecimiento 2023'!$A$1:$E$183,5,FALSE),0)","v":"04101-La Serena"},"16090300","2023-07-17T13:19:12",1004,1004]
[6,"5",2023,"105321",{"$f":"IFERROR(VLOOKUP(Tabla_SERIED_11_6[[#This Row],[IdEstablecimiento]],'[2]Establecimiento 2023'!$A$1:$E$183,3,FALSE),0)","v":"105321-Centro de Salud Familiar Tongoy"},{"$f":"IFERROR(VLOOKUP(Tabla_SERIED_11_6[[#This Row],[IdEstablecimiento]],'[2]Establecimiento 2023'!$A$1:$E$183,5,FALSE),0)","v":"04102-Coquimbo"},"15050500","2023-07-18T12:52:38",2,2,null,0,1,1]
[6,"5",2023,"105323",{"$f":"IFERROR(VLOOKUP(Tabla_SERIED_11_6[[#This Row],[IdEstablecimiento]],'[2]Establecimiento 2023'!$A$1:$E$183,3,FALSE),0)","v":"105323-Centro de Salud Familiar Dr. Sergio Aguilar Delgado"},{"$f":"IFERROR(VLOOKUP(Tabla_SERIED_11_6[[#This Row],[IdEstablecimiento]],'[2]Establecimiento 2023'!$A$1:$E$183,5,FALSE),0)","v":"04102-Coquimbo"},"15080018","2023-07-18T12:53:31",30,null,2,14,6,8]
[7,"5",2023,"105108",{"$f":"IFERROR(VLOOKUP(Tabla_SERIED_11_6[[#This Row],[IdEstablecimiento]],'[2]Establecimiento 2023'!$A$1:$E$183,3,FALSE),0)","v":"105108-Hospital San Pedro (Los Vilos)"},{"$f":"IFERROR(VLOOKUP(Tabla_SERIED_11_6[[#This Row],[IdEstablecimiento]],'[2]Establecimiento 2023'!$A$1:$E$183,5,FALSE),0)","v":"105108-Hospital Los Vilos"},"15900020","2023-08-18T07:58:46",3.2,null,null,3.2]
[7,"5",2023,"105475",{"$f":"IFERROR(VLOOKUP(Tabla_SERIED_11_6[[#This Row],[IdEstablecimiento]],'[2]Establecimiento 2023'!$A$1:$E$183,3,FALSE),0)","v":"105475-Posta de Salud Rural Horcón (Paiguano)"},{"$f":"IFERROR(VLOOKUP(Tabla_SERIED_11_6[[#This Row],[IdEstablecimiento]],'[2]Establecimiento 2023'!$A$1:$E$183,5,FALSE),0)","v":"04105-Paihuano"},"16100300","2023-08-18T10:07:21",31,14,17]
[7,"5",2023,"105481",{"$f":"IFERROR(VLOOKUP(Tabla_SERIED_11_6[[#This Row],[IdEstablecimiento]],'[2]Establecimiento 2023'!$A$1:$E$183,3,FALSE),0)","v":"105481-Posta de Salud Rural Tilama"},{"$f":"IFERROR(VLOOKUP(Tabla_SERIED_11_6[[#This Row],[IdEstablecimiento]],'[2]Establecimiento 2023'!$A$1:$E$183,5,FALSE),0)","v":"04203-Los Vilos"},"15050100","2023-08-18T10:11:01",9,2,7,{"$nulls":4},4,1,1,2,{"$nulls":3},1]
[7,"5",2023,"105499",{"$f":"IFERROR(VLOOKUP(Tabla_SERIED_11_6[[#This Row],[IdEstablecimiento]],'[2]Establecimiento 2023'!$A$1:$E$183,3,FALSE),0)","v":"105499-Posta de Salud Rural Lambert"},{"$f":"IFERROR(VLOOKUP(Tabla_SERIED_11_6[[#This Row],[IdEstablecimiento]],'[2]Establecimiento 2023'!$A$1:$E$183,5,FALSE),0)","v":"04101-La Serena"},"16100300","2023-08-18T10:40:48",18,9,9]
[6,"5",2023,"105434",{"$f":"IFERROR(VLOOKUP(Tabla_SERIED_11_6[[#This Row],[IdEstablecimiento]],'[2]Establecimiento 2023'!$A$1:$E$183,3,FALSE),0)","v":"105434-Posta de Salud Rural San Marcos (Combarbalá)"},{"$f":"IFERROR(VLOOKUP(Tabla_SERIED_11_6[[#This Row],[IdEstablecimiento]],'[2]Establecimiento 2023'!$A$1:$E$183,5,FALSE),0)","v":"04302-Combarbalá"},"15010500","2023-07-18T16:50:01",2,{"$nulls":3},2]
[6,"5",2023,"105451",{"$f":"IFERROR(VLOOKUP(Tabla_SERIED_11_6[[#This Row],[IdEstablecimiento]],'[2]Establecimiento 2023'!$A$1:$E$183,3,FALSE),0)","v":"105451-Posta de Salud Rural Agua Fría"},{"$f":"IFERROR(VLOOKUP(Tabla_SERIED_11_6[[#This Row],[IdEstablecimiento]],'[2]Establecimiento 2023'!$A$1:$E$183,5,FALSE),0)","v":"04202-Canela"},"16090300","2023-08-18T11:33:08",85,85]
[6,"5",2023,"105458",{"$f":"IFERROR(VLOOKUP(Tabla_SERIED_11_6[[#This Row],[IdEstablecimiento]],'[2]Establecimiento 2023'!$A$1:$E$183,3,FALSE),0)","v":"105458-Posta de Salud Rural Tahuinco"},{"$f":"IFERROR(VLOOKUP(Tabla_SERIED_11_6[[#This Row],[IdEstablecimiento]],'[2]Establecimiento 2023'!$A$1:$E$183,5,FALSE),0)","v":"04204-Salamanca"},"16200210","2023-07-17T16:15:08",5,5]
[6,"5",2023,"105303",{"$f":"IFERROR(VLOOKUP(Tabla_SERIED_11_6[[#This Row],[IdEstablecimiento]],'[2]Establecimiento 2023'!$A$1:$E$183,3,FALSE),0)","v":"105303-Centro de Salud Familiar San Juan"},{"$f":"IFERROR(VLOOKUP(Tabla_SERIED_11_6[[#This Row],[IdEstablecimiento]],'[2]Establecimiento 2023'!$A$1:$E$183,5,FALSE),0)","v":"04102-Coquimbo"},"15901200","2023-07-19T12:14:03",8.8,4.4,0,4.4,0,0]
[6,"5",2023,"105308",{"$f":"IFERROR(VLOOKUP(Tabla_SERIED_11_6[[#This Row],[IdEstablecimiento]],'[2]Establecimiento 2023'!$A$1:$E$183,3,FALSE),0)","v":"105308-Centro de Salud Familiar Punitaqui"},{"$f":"IFERROR(VLOOKUP(Tabla_SERIED_11_6[[#This Row],[IdEstablecimiento]],'[2]Establecimiento 2023'!$A$1:$E$183,5,FALSE),0)","v":"04304-Punitaqui"},"15900040","2023-07-18T15:52:12",4.8,{"$nulls":3},4.8]
[6,"5",2023,"105310",{"$f":"IFERROR(VLOOKUP(Tabla_SERIED_11_6[[#This Row],[IdEstablecimiento]],'[2]Establecimiento 2023'!$A$1:$E$183,3,FALSE),0)","v":"105310-Centro de Salud Familiar Pichasca"},{"$f":"IFERROR(VLOOKUP(Tabla_SERIED_11_6[[#This Row],[IdEstablecimiento]],'[2]Establecimiento 2023'!$A$1:$E$183,5,FALSE),0)","v":"04305-Rio Hurtado"},"15900040","2023-07-17T14:51:33",4.4,{"$nulls":3},4.4]
[7,"5",2023,"200538",{"$f":"IFERROR(VLOOKUP(Tabla_SERIED_11_6[[#This Row],[IdEstablecimiento]],'[2]Establecimiento 2023'!$A$1:$E$183,3,FALSE),0)","v":"200538-Centro de Salud Familiar San Isidro Calingasta"},{"$f":"IFERROR(VLOOKUP(Tabla_SERIED_11_6[[#This Row],[IdEstablecimiento]],'[2]Establecimiento 2023'!$A$1:$E$183,5,FALSE),0)","v":"04106-Vicuña"},"16200220","2023-08-18T11:12:48",6,1,5]
[7,"5",2023,"200569",{"$f":"IFERROR(VLOOKUP(Tabla_SERIED_11_6[[#This Row],[IdEstablecimiento]],'[2]Establecimiento 2023'!$A$1:$E$183,3,FALSE),0)","v":"200569-Centro de Salud Familiar Fray Jorge"},{"$f":"IFERROR(VLOOKUP(Tabla_SERIED_11_6[[#This Row],[IdEstablecimiento]],'[2]Establecimiento 2023'!$A$1:$E$183,5,FALSE),0)","v":"04301-Ovalle"},"15060600","2023-08-18T11:13:13",1,0,1,0,1,0]
[7,"5",2023,"200494",{"$f":"IFERROR(VLOOKUP(Tabla_SERIED_11_6[[#This Row],[IdEstablecimiento]],'[2]Establecimiento 2023'!$A$1:$E$183,3,FALSE),0)","v":"200494-Centro de Salud Familiar El Sauce"},{"$f":"IFERROR(VLOOKUP(Tabla_SERIED_11_6[[#This Row],[IdEstablecimiento]],'[2]Establecimiento 2023'!$A$1:$E$183,5,FALSE),0)","v":"04102-Coquimbo"},"15900020","2023-08-18T11:11:57",0.8,null,null,0.8]
[7,"5",2023,"105326",{"$f":"IFERROR(VLOOKUP(Tabla_SERIED_11_6[[#This Row],[IdEstablecimiento]],'[2]Establecimiento 2023'!$A$1:$E$183,3,FALSE),0)","v":"105326-Centro de Salud Familiar Villa San Rafael de Rozas"},{"$f":"IFERROR(VLOOKUP(Tabla_SERIED_11_6[[#This Row],[IdEstablecimiento]],'[2]Establecimiento 2023'!$A$1:$E$183,5,FALSE),0)","v":"04201-Illapel"},"15050500","2023-08-18T08:13:32",3,3,null,1,null,2]
[7,"5",2023,"105427",{"$f":"IFERROR(VLOOKUP(Tabla_SERIED_11_6[[#This Row],[IdEstablecimiento]],'[2]Establecimiento 2023'!$A$1:$E$183,3,FALSE),0)","v":"105427-Posta de Salud Rural Hacienda Valdivia"},{"$f":"IFERROR(VLOOKUP(Tabla_SERIED_11_6[[#This Row],[IdEstablecimiento]],'[2]Establecimiento 2023'!$A$1:$E$183,5,FALSE),0)","v":"04303-Monte Patria"},"15080008","2023-08-18T08:24:18",7,{"$nulls":7},4,null,2,1]
[7,"5",2023,"105450",{"$f":"IFERROR(VLOOKUP(Tabla_SERIED_11_6[[#This Row],[IdEstablecimiento]],'[2]Establecimiento 2023'!$A$1:$E$183,3,FALSE),0)","v":"105450-Posta de Salud Rural Mincha Norte"},{"$f":"IFERROR(VLOOKUP(Tabla_SERIED_11_6[[#This Row],[IdEstablecimiento]],'[2]Establecimiento 2023'!$A$1:$E$183,5,FALSE),0)","v":"04202-Canela"},"15050100","2023-08-18T09:32:13",15,7,8,null,null,2,1,2,2,7,1]
[7,"5",2023,"105456",{"$f":"IFERROR(VLOOKUP(Tabla_SERIED_11_6[[#This Row],[IdEstablecimiento]],'[2]Establecimiento 2023'!$A$1:$E$183,3,FALSE),0)","v":"105456-Posta de Salud Rural Llimpo"},{"$f":"IFERROR(VLOOKUP(Tabla_SERIED_11_6[[#This Row],[IdEstablecimiento]],'[2]Establecimiento 2023'!$A$1:$E$183,5,FALSE),0)","v":"04204-Salamanca"},"15050200","2023-08-18T09:42:10",0,1]
[7,"5",2023,"105469",{"$f":"IFERROR(VLOOKUP(Tabla_SERIED_11_6[[#This Row],[IdEstablecimiento]],'[2]Establecimiento 2023'!$A$1:$E$183,3,FALSE),0)","v":"105469-Posta de Salud Rural El Tambo (Vicuña)"},{"$f":"IFERROR(VLOOKUP(Tabla_SERIED_11_6[[#This Row],[IdEstablecimiento]],'[2]Establecimiento 2023'!$A$1:$E$183,5,FALSE),0)","v":"04106-Vicuña"},"15010200","2023-08-18T10:04:09",22,{"$nulls":5},6,16]
[7,"5",2023,"105480",{"$f":"IFERROR(VLOOKUP(Tabla_SERIED_11_6[[#This Row],[IdEstablecimiento]],'[2]Establecimiento 2023'!$A$1:$E$183,3,FALSE),0)","v":"105480-Posta de Salud Rural Quilimarí"},{"$f":"IFERROR(VLOOKUP(Tabla_SERIED_11_6[[#This Row],[IdEstablecimiento]],'[2]Establecimiento 2023'!$A$1:$E$183,5,FALSE),0)","v":"04203-Los Vilos"},"16200220","2023-08-18T10:10:30",1,0,1]
[7,"5",2023,"105486",{"$f":"IFERROR(VLOOKUP(Tabla_SERIED_11_6[[#This Row],[IdEstablecimiento]],'[2]Establecimiento 2023'!$A$1:$E$183,3,FALSE),0)","v":"105486-Posta de Salud Rural Tunga Sur"},{"$f":"IFERROR(VLOOKUP(Tabla_SERIED_11_6[[#This Row],[IdEstablecimiento]],'[2]Establecimiento 2023'!$A$1:$E$183,5,FALSE),0)","v":"04201-Illapel"},"15080008","2023-08-18T10:25:44",3,{"$nulls":7},1,null,2,null,0]
[7,"5",2023,"105105",{"$f":"IFERROR(VLOOKUP(Tabla_SERIED_11_6[[#This Row],[IdEstablecimiento]],'[2]Establecimiento 2023'!$A$1:$E$183,3,FALSE),0)","v":"105105-Hospital San Juan de Dios (Combarbalá)"},{"$f":"IFERROR(VLOOKUP(Tabla_SERIED_11_6[[#This Row],[IdEstablecimiento]],'[2]Establecimiento 2023'!$A$1:$E$183,5,FALSE),0)","v":"105105-Hospital Combarbalá"},"16090600","2023-08-18T07:55:46",1,1]
[7,"5",2023,"105303",{"$f":"IFERROR(VLOOKUP(Tabla_SERIED_11_6[[#This Row],[IdEstablecimiento]],'[2]Establecimiento 2023'!$A$1:$E$183,3,FALSE),0)","v":"105303-Centro de Salud Familiar San Juan"},{"$f":"IFERROR(VLOOKUP(Tabla_SERIED_11_6[[#This Row],[IdEstablecimiento]],'[2]Establecimiento 2023'!$A$1:$E$183,5,FALSE),0)","v":"04102-Coquimbo"},"16200210","2023-10-17T09:58:05",21,21]
[7,"5",2023,"105305",{"$f":"IFERROR(VLOOKUP(Tabla_SERIED_11_6[[#This Row],[IdEstablecimiento]],'[2]Establecimiento 2023'!$A$1:$E$183,3,FALSE),0)","v":"105305-Centro de Salud Familiar Tierras Blancas"},{"$f":"IFERROR(VLOOKUP(Tabla_SERIED_11_6[[#This Row],[IdEstablecimiento]],'[2]Establecimiento 2023'!$A$1:$E$183,5,FALSE),0)","v":"04102-Coquimbo"},"15900010","2023-08-18T08:02:44",244,3.2,52.8,188]
[7,"5",2023,"105434",{"$f":"IFERROR(VLOOKUP(Tabla_SERIED_11_6[[#This Row],[IdEstablecimiento]],'[2]Establecimiento 2023'!$A$1:$E$183,3,FALSE),0)","v":"105434-Posta de Salud Rural San Marcos (Combarbalá)"},{"$f":"IFERROR(VLOOKUP(Tabla_SERIED_11_6[[#This Row],[IdEstablecimiento]],'[2]Establecimiento 2023'!$A$1:$E$183,5,FALSE),0)","v":"04302-Combarbalá"},"15050200","2023-08-18T08:28:04",1,null,1,{"$nulls":3},1]
[7,"5",2023,"105444",{"$f":"IFERROR(VLOOKUP(Tabla_SERIED_11_6[[#This Row],[IdEstablecimiento]],'[2]Establecimiento 2023'!$A$1:$E$183,3,FALSE),0)","v":"105444-Posta de Salud Rural Huintil"},{"$f":"IFERROR(VLOOKUP(Tabla_SERIED_11_6[[#This Row],[IdEstablecimiento]],'[2]Establecimiento 2023'!$A$1:$E$183,5,FALSE),0)","v":"04201-Illapel"},"16100300","2023-08-18T09:29:59",62,32,30]
[7,"5",2023,"105456",{"$f":"IFERROR(VLOOKUP(Tabla_SERIED_11_6[[#This Row],[IdEstablecimiento]],'[2]Establecimiento 2023'!$A$1:$E$183,3,FALSE),0)","v":"105456-Posta de Salud Rural Llimpo"},{"$f":"IFERROR(VLOOKUP(Tabla_SERIED_11_6[[#This Row],[IdEstablecimiento]],'[2]Establecimiento 2023'!$A$1:$E$183,5,FALSE),0)","v":"04204-Salamanca"},"15010200","2023-08-18T09:42:10",18,{"$nulls":5},6,12]
[6,"5",2023,"105723",{"$f":"IFERROR(VLOOKUP(Tabla_SERIED_11_6[[#This Row],[IdEstablecimiento]],'[2]Establecimiento 2023'!$A$1:$E$183,3,FALSE),0)","v":"105723-Centro Comunitario de Salud Familiar Limarí"},{"$f":"IFERROR(VLOOKUP(Tabla_SERIED_11_6[[#This Row],[IdEstablecimiento]],'[2]Establecimiento 2023'!$A$1:$E$183,5,FALSE),0)","v":"04301-Ovalle"},"15050200","2023-07-18T12:34:47",3,2,1,{"$nulls":5},2,1]
[6,"5",2023,"200538",{"$f":"IFERROR(VLOOKUP(Tabla_SERIED_11_6[[#This Row],[IdEstablecimiento]],'[2]Establecimiento 2023'!$A$1:$E$183,3,FALSE),0)","v":"200538-Centro de Salud Familiar San Isidro Calingasta"},{"$f":"IFERROR(VLOOKUP(Tabla_SERIED_11_6[[#This Row],[IdEstablecimiento]],'[2]Establecimiento 2023'!$A$1:$E$183,5,FALSE),0)","v":"04106-Vicuña"},"15050100","2023-08-18T11:35:42",92,42,50,null,null,10,17,20,14,13,7,null,7,1,3]
[6,"5",2023,"105313",{"$f":"IFERROR(VLOOKUP(Tabla_SERIED_11_6[[#This Row],[IdEstablecimiento]],'[2]Establecimiento 2023'!$A$1:$E$183,3,FALSE),0)","v":"105313-Centro de Salud Familiar Dr. Emilio Schaffhauser"},{"$f":"IFERROR(VLOOKUP(Tabla_SERIED_11_6[[#This Row],[IdEstablecimiento]],'[2]Establecimiento 2023'!$A$1:$E$183,5,FALSE),0)","v":"04101-La Serena"},"15080018","2023-07-17T14:55:07",11,1,null,2,4,4]
[6,"5",2023,"105485",{"$f":"IFERROR(VLOOKUP(Tabla_SERIED_11_6[[#This Row],[IdEstablecimiento]],'[2]Establecimiento 2023'!$A$1:$E$183,3,FALSE),0)","v":"105485-Posta de Salud Rural Plan de Hornos"},{"$f":"IFERROR(VLOOKUP(Tabla_SERIED_11_6[[#This Row],[IdEstablecimiento]],'[2]Establecimiento 2023'!$A$1:$E$183,5,FALSE),0)","v":"04201-Illapel"},"16200220","2023-07-17T16:44:36",11,6,5]
[6,"5",2023,"105510",{"$f":"IFERROR(VLOOKUP(Tabla_SERIED_11_6[[#This Row],[IdEstablecimiento]],'[2]Establecimiento 2023'!$A$1:$E$183,3,FALSE),0)","v":"105510-Posta de Salud Rural Recoleta"},{"$f":"IFERROR(VLOOKUP(Tabla_SERIED_11_6[[#This Row],[IdEstablecimiento]],'[2]Establecimiento 2023'!$A$1:$E$183,5,FALSE),0)","v":"04301-Ovalle"},"15080014","2023-07-18T09:41:59",14,{"$nulls":3},8,6]
[6,"5",2023,"105317",{"$f":"IFERROR(VLOOKUP(Tabla_SERIED_11_6[[#This Row],[IdEstablecimiento]],'[2]Establecimiento 2023'!$A$1:$E$183,3,FALSE),0)","v":"105317-Centro de Salud Familiar Jorge Jordán Domic"},{"$f":"IFERROR(VLOOKUP(Tabla_SERIED_11_6[[#This Row],[IdEstablecimiento]],'[2]Establecimiento 2023'!$A$1:$E$183,5,FALSE),0)","v":"04301-Ovalle"},"15900020","2023-07-17T15:15:09",4.8,null,1.6,3.2]
[6,"5",2023,"105323",{"$f":"IFERROR(VLOOKUP(Tabla_SERIED_11_6[[#This Row],[IdEstablecimiento]],'[2]Establecimiento 2023'!$A$1:$E$183,3,FALSE),0)","v":"105323-Centro de Salud Familiar Dr. Sergio Aguilar Delgado"},{"$f":"IFERROR(VLOOKUP(Tabla_SERIED_11_6[[#This Row],[IdEstablecimiento]],'[2]Establecimiento 2023'!$A$1:$E$183,5,FALSE),0)","v":"04102-Coquimbo"},"15900010","2023-07-18T12:53:31",254.4,21.6,72,160.8]
[6,"5",2023,"105326",{"$f":"IFERROR(VLOOKUP(Tabla_SERIED_11_6[[#This Row],[IdEstablecimiento]],'[2]Establecimiento 2023'!$A$1:$E$183,3,FALSE),0)","v":"105326-Centro de Salud Familiar Villa San Rafael de Rozas"},{"$f":"IFERROR(VLOOKUP(Tabla_SERIED_11_6[[#This Row],[IdEstablecimiento]],'[2]Establecimiento 2023'!$A$1:$E$183,5,FALSE),0)","v":"04201-Illapel"},"15030100","2023-07-18T17:01:45",13.6,4.8,null,8.8]
[6,"5",2023,"105723",{"$f":"IFERROR(VLOOKUP(Tabla_SERIED_11_6[[#This Row],[IdEstablecimiento]],'[2]Establecimiento 2023'!$A$1:$E$183,3,FALSE),0)","v":"105723-Centro Comunitario de Salud Familiar Limarí"},{"$f":"IFERROR(VLOOKUP(Tabla_SERIED_11_6[[#This Row],[IdEstablecimiento]],'[2]Establecimiento 2023'!$A$1:$E$183,5,FALSE),0)","v":"04301-Ovalle"},"15050100","2023-07-18T12:34:47",81,32,49,null,null,9,17,7,20,13,8,null,3,null,4]
[7,"5",2023,"105301",{"$f":"IFERROR(VLOOKUP(Tabla_SERIED_11_6[[#This Row],[IdEstablecimiento]],'[2]Establecimiento 2023'!$A$1:$E$183,3,FALSE),0)","v":"105301-Centro de Salud Familiar Las Compañías"},{"$f":"IFERROR(VLOOKUP(Tabla_SERIED_11_6[[#This Row],[IdEstablecimiento]],'[2]Establecimiento 2023'!$A$1:$E$183,5,FALSE),0)","v":"04101-La Serena"},"15050500","2023-08-18T08:00:07",1,1,0,null,null,1]
[7,"5",2023,"105301",{"$f":"IFERROR(VLOOKUP(Tabla_SERIED_11_6[[#This Row],[IdEstablecimiento]],'[2]Establecimiento 2023'!$A$1:$E$183,3,FALSE),0)","v":"105301-Centro de Salud Familiar Las Compañías"},{"$f":"IFERROR(VLOOKUP(Tabla_SERIED_11_6[[#This Row],[IdEstablecimiento]],'[2]Establecimiento 2023'!$A$1:$E$183,5,FALSE),0)","v":"04101-La Serena"},"15900040","2023-08-18T08:00:07",8.4,{"$nulls":3},8.4]
[7,"5",2023,"105309",{"$f":"IFERROR(VLOOKUP(Tabla_SERIED_11_6[[#This Row],[IdEstablecimiento]],'[2]Establecimiento 2023'!$A$1:$E$183,3,FALSE),0)","v":"105309-Centro de Salud Familiar Canela"},{"$f":"IFERROR(VLOOKUP(Tabla_SERIED_11_6[[#This Row],[IdEstablecimiento]],'[2]Establecimiento 2023'!$A$1:$E$183,5,FALSE),0)","v":"04202-Canela"},"15080008","2023-08-18T08:05:05",27,{"$nulls":7},13,null,12,null,2]
[7,"5",2023,"105311",{"$f":"IFERROR(VLOOKUP(Tabla_SERIED_11_6[[#This Row],[IdEstablecimiento]],'[2]Establecimiento 2023'!$A$1:$E$183,3,FALSE),0)","v":"105311-Centro de Salud Familiar Chañaral Alto"},{"$f":"IFERROR(VLOOKUP(Tabla_SERIED_11_6[[#This Row],[IdEstablecimiento]],'[2]Establecimiento 2023'!$A$1:$E$183,5,FALSE),0)","v":"04303-Monte Patria"},"16200220","2023-10-17T10:04:21",34,11,23]
[7,"5",2023,"105511",{"$f":"IFERROR(VLOOKUP(Tabla_SERIED_11_6[[#This Row],[IdEstablecimiento]],'[2]Establecimiento 2023'!$A$1:$E$183,3,FALSE),0)","v":"105511-Posta de Salud Rural Los Cóndores"},{"$f":"IFERROR(VLOOKUP(Tabla_SERIED_11_6[[#This Row],[IdEstablecimiento]],'[2]Establecimiento 2023'!$A$1:$E$183,5,FALSE),0)","v":"04203-Los Vilos"},"16200210","2023-08-18T10:48:54",2,2]
[7,"5",2023,"200366",{"$f":"IFERROR(VLOOKUP(Tabla_SERIED_11_6[[#This Row],[IdEstablecimiento]],'[2]Establecimiento 2023'!$A$1:$E$183,3,FALSE),0)","v":"200366-Centro de Salud Familiar Urbano de Illapel"},{"$f":"IFERROR(VLOOKUP(Tabla_SERIED_11_6[[#This Row],[IdEstablecimiento]],'[2]Establecimiento 2023'!$A$1:$E$183,5,FALSE),0)","v":"04201-Illapel"},"15080014","2023-08-18T11:09:47",173,{"$nulls":3},72,96,null,null,1,null,4]
[7,"5",2023,"200499",{"$f":"IFERROR(VLOOKUP(Tabla_SERIED_11_6[[#This Row],[IdEstablecimiento]],'[2]Establecimiento 2023'!$A$1:$E$183,3,FALSE),0)","v":"200499-Centro de Salud Familiar Rural Pan de Azúcar"},{"$f":"IFERROR(VLOOKUP(Tabla_SERIED_11_6[[#This Row],[IdEstablecimiento]],'[2]Establecimiento 2023'!$A$1:$E$183,5,FALSE),0)","v":"04102-Coquimbo"},"15080008","2023-08-18T11:12:23",102,{"$nulls":7},46,null,24,16,16]
[6,"5",2023,"105452",{"$f":"IFERROR(VLOOKUP(Tabla_SERIED_11_6[[#This Row],[IdEstablecimiento]],'[2]Establecimiento 2023'!$A$1:$E$183,3,FALSE),0)","v":"105452-Posta de Salud Rural Cuncumén(Salamanca)"},{"$f":"IFERROR(VLOOKUP(Tabla_SERIED_11_6[[#This Row],[IdEstablecimiento]],'[2]Establecimiento 2023'!$A$1:$E$183,5,FALSE),0)","v":"04204-Salamanca"},"15900010","2023-07-17T16:04:42",8,null,null,8]
[6,"5",2023,"105463",{"$f":"IFERROR(VLOOKUP(Tabla_SERIED_11_6[[#This Row],[IdEstablecimiento]],'[2]Establecimiento 2023'!$A$1:$E$183,3,FALSE),0)","v":"105463-Posta de Salud Rural Quilitapia"},{"$f":"IFERROR(VLOOKUP(Tabla_SERIED_11_6[[#This Row],[IdEstablecimiento]],'[2]Establecimiento 2023'!$A$1:$E$183,5,FALSE),0)","v":"04302-Combarbalá"},"15010500","2023-07-18T15:31:07",2,null,null,2]
[6,"5",2023,"105468",{"$f":"IFERROR(VLOOKUP(Tabla_SERIED_11_6[[#This Row],[IdEstablecimiento]],'[2]Establecimiento 2023'!$A$1:$E$183,3,FALSE),0)","v":"105468-Posta de Salud Rural El Molle"},{"$f":"IFERROR(VLOOKUP(Tabla_SERIED_11_6[[#This Row],[IdEstablecimiento]],'[2]Establecimiento 2023'!$A$1:$E$183,5,FALSE),0)","v":"04106-Vicuña"},"15080014","2023-07-18T15:35:20",2,{"$nulls":3},2]
[6,"5",2023,"105479",{"$f":"IFERROR(VLOOKUP(Tabla_SERIED_11_6[[#This Row],[IdEstablecimiento]],'[2]Establecimiento 2023'!$A$1:$E$183,3,FALSE),0)","v":"105479-Posta de Salud Rural Guangualí"},{"$f":"IFERROR(VLOOKUP(Tabla_SERIED_11_6[[#This Row],[IdEstablecimiento]],'[2]Establecimiento 2023'!$A$1:$E$183,5,FALSE),0)","v":"04203-Los Vilos"},"15050100","2023-07-17T16:38:38",13,3,10,1,null,1,1,2,4,2,1,{"$nulls":3},1]
[6,"5",2023,"105492",{"$f":"IFERROR(VLOOKUP(Tabla_SERIED_11_6[[#This Row],[IdEstablecimiento]],'[2]Establecimiento 2023'!$A$1:$E$183,3,FALSE),0)","v":"105492-Posta de Salud Rural Camisa"},{"$f":"IFERROR(VLOOKUP(Tabla_SERIED_11_6[[#This Row],[IdEstablecimiento]],'[2]Establecimiento 2023'!$A$1:$E$183,5,FALSE),0)","v":"04204-Salamanca"},"16200210","2023-07-17T16:48:46",4,4]
[6,"5",2023,"105701",{"$f":"IFERROR(VLOOKUP(Tabla_SERIED_11_6[[#This Row],[IdEstablecimiento]],'[2]Establecimiento 2023'!$A$1:$E$183,3,FALSE),0)","v":"105701-Centro Comunitario de Salud Familiar Villa Alemania"},{"$f":"IFERROR(VLOOKUP(Tabla_SERIED_11_6[[#This Row],[IdEstablecimiento]],'[2]Establecimiento 2023'!$A$1:$E$183,5,FALSE),0)","v":"04101-La Serena"},"16090300","2023-07-18T09:44:01",38,38]
[6,"5",2023,"200366",{"$f":"IFERROR(VLOOKUP(Tabla_SERIED_11_6[[#This Row],[IdEstablecimiento]],'[2]Establecimiento 2023'!$A$1:$E$183,3,FALSE),0)","v":"200366-Centro de Salud Familiar Urbano de Illapel"},{"$f":"IFERROR(VLOOKUP(Tabla_SERIED_11_6[[#This Row],[IdEstablecimiento]],'[2]Establecimiento 2023'!$A$1:$E$183,5,FALSE),0)","v":"04201-Illapel"},"15901400","2023-07-18T09:49:39",1,1,0,{"$nulls":3},1]
[6,"5",2023,"200569",{"$f":"IFERROR(VLOOKUP(Tabla_SERIED_11_6[[#This Row],[IdEstablecimiento]],'[2]Establecimiento 2023'!$A$1:$E$183,3,FALSE),0)","v":"200569-Centro de Salud Familiar Fray Jorge"},{"$f":"IFERROR(VLOOKUP(Tabla_SERIED_11_6[[#This Row],[IdEstablecimiento]],'[2]Establecimiento 2023'!$A$1:$E$183,5,FALSE),0)","v":"04301-Ovalle"},"15900050","2023-08-18T11:36:54",9,7,2,1,1,4,3,0]
[7,"5",2023,"105481",{"$f":"IFERROR(VLOOKUP(Tabla_SERIED_11_6[[#This Row],[IdEstablecimiento]],'[2]Establecimiento 2023'!$A$1:$E$183,3,FALSE),0)","v":"105481-Posta de Salud Rural Tilama"},{"$f":"IFERROR(VLOOKUP(Tabla_SERIED_11_6[[#This Row],[IdEstablecimiento]],'[2]Establecimiento 2023'!$A$1:$E$183,5,FALSE),0)","v":"04203-Los Vilos"},"16100300","2023-08-18T10:11:01",21,10,11]
[7,"5",2023,"105313",{"$f":"IFERROR(VLOOKUP(Tabla_SERIED_11_6[[#This Row],[IdEstablecimiento]],'[2]Establecimiento 2023'!$A$1:$E$183,3,FALSE),0)","v":"105313-Centro de Salud Familiar Dr. Emilio Schaffhauser"},{"$f":"IFERROR(VLOOKUP(Tabla_SERIED_11_6[[#This Row],[IdEstablecimiento]],'[2]Establecimiento 2023'!$A$1:$E$183,5,FALSE),0)","v":"04101-La Serena"},"15060100","2023-08-18T08:07:08",12,5,7,1,null,1,3,3,3,1]
[7,"5",2023,"105313",{"$f":"IFERROR(VLOOKUP(Tabla_SERIED_11_6[[#This Row],[IdEstablecimiento]],'[2]Establecimiento 2023'!$A$1:$E$183,3,FALSE),0)","v":"105313-Centro de Salud Familiar Dr. Emilio Schaffhauser"},{"$f":"IFERROR(VLOOKUP(Tabla_SERIED_11_6[[#This Row],[IdEstablecimiento]],'[2]Establecimiento 2023'!$A$1:$E$183,5,FALSE),0)","v":"04101-La Serena"},"16100100","2023-08-18T08:07:08",34,15,19]
[7,"5",2023,"105322",{"$f":"IFERROR(VLOOKUP(Tabla_SERIED_11_6[[#This Row],[IdEstablecimiento]],'[2]Establecimiento 2023'!$A$1:$E$183,3,FALSE),0)","v":"105322-Centro de Salud Familiar Marcos Macuada"},{"$f":"IFERROR(VLOOKUP(Tabla_SERIED_11_6[[#This Row],[IdEstablecimiento]],'[2]Establecimiento 2023'!$A$1:$E$183,5,FALSE),0)","v":"04301-Ovalle"},"15080014","2023-08-18T08:11:28",206,{"$nulls":3},120,86,0,0,0,0,0,0,0]
[7,"5",2023,"105313",{"$f":"IFERROR(VLOOKUP(Tabla_SERIED_11_6[[#This Row],[IdEstablecimiento]],'[2]Establecimiento 2023'!$A$1:$E$183,3,FALSE),0)","v":"105313-Centro de Salud Familiar Dr. Emilio Schaffhauser"},{"$f":"IFERROR(VLOOKUP(Tabla_SERIED_11_6[[#This Row],[IdEstablecimiento]],'[2]Establecimiento 2023'!$A$1:$E$183,5,FALSE),0)","v":"04101-La Serena"},"15900050","2023-08-18T08:07:08",4,5,5,1,null,3]
[7,"5",2023,"105321",{"$f":"IFERROR(VLOOKUP(Tabla_SERIED_11_6[[#This Row],[IdEstablecimiento]],'[2]Establecimiento 2023'!$A$1:$E$183,3,FALSE),0)","v":"105321-Centro de Salud Familiar Tongoy"},{"$f":"IFERROR(VLOOKUP(Tabla_SERIED_11_6[[#This Row],[IdEstablecimiento]],'[2]Establecimiento 2023'!$A$1:$E$183,5,FALSE),0)","v":"04102-Coquimbo"},"15080014","2023-08-18T08:11:01",101,{"$nulls":3},58,42,null,null,1]
[7,"5",2023,"105323",{"$f":"IFERROR(VLOOKUP(Tabla_SERIED_11_6[[#This Row],[IdEstablecimiento]],'[2]Establecimiento 2023'!$A$1:$E$183,3,FALSE),0)","v":"105323-Centro de Salud Familiar Dr. Sergio Aguilar Delgado"},{"$f":"IFERROR(VLOOKUP(Tabla_SERIED_11_6[[#This Row],[IdEstablecimiento]],'[2]Establecimiento 2023'!$A$1:$E$183,5,FALSE),0)","v":"04102-Coquimbo"},"16100300","2023-08-18T08:12:04",1169,429,740]
[7,"5",2023,"105325",{"$f":"IFERROR(VLOOKUP(Tabla_SERIED_11_6[[#This Row],[IdEstablecimiento]],'[2]Establecimiento 2023'!$A$1:$E$183,3,FALSE),0)","v":"105325-Centro de Salud Familiar Juan Pablo II (La Serena)"},{"$f":"IFERROR(VLOOKUP(Tabla_SERIED_11_6[[#This Row],[IdEstablecimiento]],'[2]Establecimiento 2023'!$A$1:$E$183,5,FALSE),0)","v":"04101-La Serena"},"15050100","2023-08-18T08:13:06",792,303,489,10,28,93,87,117,139,139,95,null,30,20,34]
[7,"5",2023,"200258",{"$f":"IFERROR(VLOOKUP(Tabla_SERIED_11_6[[#This Row],[IdEstablecimiento]],'[2]Establecimiento 2023'!$A$1:$E$183,3,FALSE),0)","v":"200258-Centro Comunitario de Salud Familiar Los Copihues"},{"$f":"IFERROR(VLOOKUP(Tabla_SERIED_11_6[[#This Row],[IdEstablecimiento]],'[2]Establecimiento 2023'!$A$1:$E$183,5,FALSE),0)","v":"04301-Ovalle"},"15080019","2023-08-18T11:08:51",2,{"$nulls":5},0,2]
[7,"5",2023,"200569",{"$f":"IFERROR(VLOOKUP(Tabla_SERIED_11_6[[#This Row],[IdEstablecimiento]],'[2]Establecimiento 2023'!$A$1:$E$183,3,FALSE),0)","v":"200569-Centro de Salud Familiar Fray Jorge"},{"$f":"IFERROR(VLOOKUP(Tabla_SERIED_11_6[[#This Row],[IdEstablecimiento]],'[2]Establecimiento 2023'!$A$1:$E$183,5,FALSE),0)","v":"04301-Ovalle"},"15050500","2023-08-18T11:13:13",5,4,1,2,1,2]
[7,"5",2023,"200569",{"$f":"IFERROR(VLOOKUP(Tabla_SERIED_11_6[[#This Row],[IdEstablecimiento]],'[2]Establecimiento 2023'!$A$1:$E$183,3,FALSE),0)","v":"200569-Centro de Salud Familiar Fray Jorge"},{"$f":"IFERROR(VLOOKUP(Tabla_SERIED_11_6[[#This Row],[IdEstablecimiento]],'[2]Establecimiento 2023'!$A$1:$E$183,5,FALSE),0)","v":"04301-Ovalle"},"16200210","2023-08-18T11:13:13",2,2]
[6,"5",2023,"105444",{"$f":"IFERROR(VLOOKUP(Tabla_SERIED_11_6[[#This Row],[IdEstablecimiento]],'[2]Establecimiento 2023'!$A$1:$E$183,3,FALSE),0)","v":"105444-Posta de Salud Rural Huintil"},{"$f":"IFERROR(VLOOKUP(Tabla_SERIED_11_6[[#This Row],[IdEstablecimiento]],'[2]Establecimiento 2023'!$A$1:$E$183,5,FALSE),0)","v":"04201-Illapel"},"16100300","2023-07-17T15:56:07",59,31,28]
[6,"5",2023,"105452",{"$f":"IFERROR(VLOOKUP(Tabla_SERIED_11_6[[#This Row],[IdEstablecimiento]],'[2]Establecimiento 2023'!$A$1:$E$183,3,FALSE),0)","v":"105452-Posta de Salud Rural Cuncumén(Salamanca)"},{"$f":"IFERROR(VLOOKUP(Tabla_SERIED_11_6[[#This Row],[IdEstablecimiento]],'[2]Establecimiento 2023'!$A$1:$E$183,5,FALSE),0)","v":"04204-Salamanca"},"15080014","2023-07-17T16:04:42",8,{"$nulls":3},2,6]
[6,"5",2023,"105461",{"$f":"IFERROR(VLOOKUP(Tabla_SERIED_11_6[[#This Row],[IdEstablecimiento]],'[2]Establecimiento 2023'!$A$1:$E$183,3,FALSE),0)","v":"105461-Posta de Salud Rural El Huacho"},{"$f":"IFERROR(VLOOKUP(Tabla_SERIED_11_6[[#This Row],[IdEstablecimiento]],'[2]Establecimiento 2023'!$A$1:$E$183,5,FALSE),0)","v":"04302-Combarbalá"},"16200210","2023-07-18T15:29:54",1,1]
[7,"5",2023,"200499",{"$f":"IFERROR(VLOOKUP(Tabla_SERIED_11_6[[#This Row],[IdEstablecimiento]],'[2]Establecimiento 2023'!$A$1:$E$183,3,FALSE),0)","v":"200499-Centro de Salud Familiar Rural Pan de Azúcar"},{"$f":"IFERROR(VLOOKUP(Tabla_SERIED_11_6[[#This Row],[IdEstablecimiento]],'[2]Establecimiento 2023'!$A$1:$E$183,5,FALSE),0)","v":"04102-Coquimbo"},"15010500","2023-08-18T11:12:23",4,null,0,0,0,2,0,2]
[7,"5",2023,"105104",{"$f":"IFERROR(VLOOKUP(Tabla_SERIED_11_6[[#This Row],[IdEstablecimiento]],'[2]Establecimiento 2023'!$A$1:$E$183,3,FALSE),0)","v":"105104-Hospital de Salamanca"},{"$f":"IFERROR(VLOOKUP(Tabla_SERIED_11_6[[#This Row],[IdEstablecimiento]],'[2]Establecimiento 2023'!$A$1:$E$183,5,FALSE),0)","v":"105104-Hospital Salamanca"},"15080014","2023-08-18T07:49:07",177,{"$nulls":3},96,81]
[7,"5",2023,"105104",{"$f":"IFERROR(VLOOKUP(Tabla_SERIED_11_6[[#This Row],[IdEstablecimiento]],'[2]Establecimiento 2023'!$A$1:$E$183,3,FALSE),0)","v":"105104-Hospital de Salamanca"},{"$f":"IFERROR(VLOOKUP(Tabla_SERIED_11_6[[#This Row],[IdEstablecimiento]],'[2]Establecimiento 2023'!$A$1:$E$183,5,FALSE),0)","v":"105104-Hospital Salamanca"},"16090300","2023-08-18T07:49:07",514,514]
[7,"5",2023,"105301",{"$f":"IFERROR(VLOOKUP(Tabla_SERIED_11_6[[#This Row],[IdEstablecimiento]],'[2]Establecimiento 2023'!$A$1:$E$183,3,FALSE),0)","v":"105301-Centro de Salud Familiar Las Compañías"},{"$f":"IFERROR(VLOOKUP(Tabla_SERIED_11_6[[#This Row],[IdEstablecimiento]],'[2]Establecimiento 2023'!$A$1:$E$183,5,FALSE),0)","v":"04101-La Serena"},"16090500","2023-08-18T08:00:07",2,2]
[7,"5",2023,"105484",{"$f":"IFERROR(VLOOKUP(Tabla_SERIED_11_6[[#This Row],[IdEstablecimiento]],'[2]Establecimiento 2023'!$A$1:$E$183,3,FALSE),0)","v":"105484-Posta de Salud Rural Huentelauquén"},{"$f":"IFERROR(VLOOKUP(Tabla_SERIED_11_6[[#This Row],[IdEstablecimiento]],'[2]Establecimiento 2023'!$A$1:$E$183,5,FALSE),0)","v":"04202-Canela"},"15050100","2023-08-18T10:22:19",6,2,4,{"$nulls":3},1,null,3,2]
[7,"5",2023,"105489",{"$f":"IFERROR(VLOOKUP(Tabla_SERIED_11_6[[#This Row],[IdEstablecimiento]],'[2]Establecimiento 2023'!$A$1:$E$183,3,FALSE),0)","v":"105489-Posta de Salud Rural Ramadas de Tulahuén"},{"$f":"IFERROR(VLOOKUP(Tabla_SERIED_11_6[[#This Row],[IdEstablecimiento]],'[2]Establecimiento 2023'!$A$1:$E$183,5,FALSE),0)","v":"04303-Monte Patria"},"15080008","2023-08-18T10:27:39",3,{"$nulls":7},1,null,2]
[7,"5",2023,"105310",{"$f":"IFERROR(VLOOKUP(Tabla_SERIED_11_6[[#This Row],[IdEstablecimiento]],'[2]Establecimiento 2023'!$A$1:$E$183,3,FALSE),0)","v":"105310-Centro de Salud Familiar Pichasca"},{"$f":"IFERROR(VLOOKUP(Tabla_SERIED_11_6[[#This Row],[IdEstablecimiento]],'[2]Establecimiento 2023'!$A$1:$E$183,5,FALSE),0)","v":"04305-Rio Hurtado"},"15010500","2023-08-18T08:05:44",6,{"$nulls":3},2,null,4]
[7,"5",2023,"105313",{"$f":"IFERROR(VLOOKUP(Tabla_SERIED_11_6[[#This Row],[IdEstablecimiento]],'[2]Establecimiento 2023'!$A$1:$E$183,3,FALSE),0)","v":"105313-Centro de Salud Familiar Dr. Emilio Schaffhauser"},{"$f":"IFERROR(VLOOKUP(Tabla_SERIED_11_6[[#This Row],[IdEstablecimiento]],'[2]Establecimiento 2023'!$A$1:$E$183,5,FALSE),0)","v":"04101-La Serena"},"15080018","2023-08-18T08:07:08",15,1,null,2,6,6]
[7,"5",2023,"105318",{"$f":"IFERROR(VLOOKUP(Tabla_SERIED_11_6[[#This Row],[IdEstablecimiento]],'[2]Establecimiento 2023'!$A$1:$E$183,3,FALSE),0)","v":"105318-Centro de Salud Familiar El Palqui"},{"$f":"IFERROR(VLOOKUP(Tabla_SERIED_11_6[[#This Row],[IdEstablecimiento]],'[2]Establecimiento 2023'!$A$1:$E$183,5,FALSE),0)","v":"04303-Monte Patria"},"15900020","2023-08-18T08:09:26",5.6,4,1.6]
[6,"5",2023,"105469",{"$f":"IFERROR(VLOOKUP(Tabla_SERIED_11_6[[#This Row],[IdEstablecimiento]],'[2]Establecimiento 2023'!$A$1:$E$183,3,FALSE),0)","v":"105469-Posta de Salud Rural El Tambo (Vicuña)"},{"$f":"IFERROR(VLOOKUP(Tabla_SERIED_11_6[[#This Row],[IdEstablecimiento]],'[2]Establecimiento 2023'!$A$1:$E$183,5,FALSE),0)","v":"04106-Vicuña"},"16200220","2023-08-18T11:33:51",2,1,1]
[6,"5",2023,"105479",{"$f":"IFERROR(VLOOKUP(Tabla_SERIED_11_6[[#This Row],[IdEstablecimiento]],'[2]Establecimiento 2023'!$A$1:$E$183,3,FALSE),0)","v":"105479-Posta de Salud Rural Guangualí"},{"$f":"IFERROR(VLOOKUP(Tabla_SERIED_11_6[[#This Row],[IdEstablecimiento]],'[2]Establecimiento 2023'!$A$1:$E$183,5,FALSE),0)","v":"04203-Los Vilos"},"15080014","2023-07-17T16:38:38",4,{"$nulls":3},2,2]
[6,"5",2023,"105496",{"$f":"IFERROR(VLOOKUP(Tabla_SERIED_11_6[[#This Row],[IdEstablecimiento]],'[2]Establecimiento 2023'!$A$1:$E$183,3,FALSE),0)","v":"105496-Posta de Salud Rural Pintacura Sur"},{"$f":"IFERROR(VLOOKUP(Tabla_SERIED_11_6[[#This Row],[IdEstablecimiento]],'[2]Establecimiento 2023'!$A$1:$E$183,5,FALSE),0)","v":"04201-Illapel"},"15010200","2023-07-17T16:50:39",6,{"$nulls":4},0,4,2]
[7,"5",2023,"105496",{"$f":"IFERROR(VLOOKUP(Tabla_SERIED_11_6[[#This Row],[IdEstablecimiento]],'[2]Establecimiento 2023'!$A$1:$E$183,3,FALSE),0)","v":"105496-Posta de Salud Rural Pintacura Sur"},{"$f":"IFERROR(VLOOKUP(Tabla_SERIED_11_6[[#This Row],[IdEstablecimiento]],'[2]Establecimiento 2023'!$A$1:$E$183,5,FALSE),0)","v":"04201-Illapel"},"16200220","2023-08-18T10:39:29",11,7,4]
[7,"5",2023,"105503",{"$f":"IFERROR(VLOOKUP(Tabla_SERIED_11_6[[#This Row],[IdEstablecimiento]],'[2]Establecimiento 2023'!$A$1:$E$183,3,FALSE),0)","v":"105503-Posta de Salud Rural Tabaqueros"},{"$f":"IFERROR(VLOOKUP(Tabla_SERIED_11_6[[#This Row],[IdEstablecimiento]],'[2]Establecimiento 2023'!$A$1:$E$183,5,FALSE),0)","v":"04305-Rio Hurtado"},"15050100","2023-08-18T10:45:07",6,2,4,{"$nulls":3},1,null,1,2,2]
[7,"5",2023,"105702",{"$f":"IFERROR(VLOOKUP(Tabla_SERIED_11_6[[#This Row],[IdEstablecimiento]],'[2]Establecimiento 2023'!$A$1:$E$183,3,FALSE),0)","v":"105702-Centro Comunitario de Salud Familiar Lambert"},{"$f":"IFERROR(VLOOKUP(Tabla_SERIED_11_6[[#This Row],[IdEstablecimiento]],'[2]Establecimiento 2023'!$A$1:$E$183,5,FALSE),0)","v":"04101-La Serena"},"15080015","2023-08-18T10:50:18",62,{"$nulls":5},42,20]
[7,"5",2023,"200366",{"$f":"IFERROR(VLOOKUP(Tabla_SERIED_11_6[[#This Row],[IdEstablecimiento]],'[2]Establecimiento 2023'!$A$1:$E$183,3,FALSE),0)","v":"200366-Centro de Salud Familiar Urbano de Illapel"},{"$f":"IFERROR(VLOOKUP(Tabla_SERIED_11_6[[#This Row],[IdEstablecimiento]],'[2]Establecimiento 2023'!$A$1:$E$183,5,FALSE),0)","v":"04201-Illapel"},"15050200","2023-08-18T11:09:47",18,9,9,null,null,1,5,2,7,2,null,1]
[7,"5",2023,"200367",{"$f":"IFERROR(VLOOKUP(Tabla_SERIED_11_6[[#This Row],[IdEstablecimiento]],'[2]Establecimiento 2023'!$A$1:$E$183,3,FALSE),0)","v":"200367-Centro Comunitario de Salud Familiar Colonia Limarí"},{"$f":"IFERROR(VLOOKUP(Tabla_SERIED_11_6[[#This Row],[IdEstablecimiento]],'[2]Establecimiento 2023'!$A$1:$E$183,5,FALSE),0)","v":"04301-Ovalle"},"15080008","2023-08-18T11:11:10",13,{"$nulls":7},10,null,2,null,1]
[7,"5",2023,"200569",{"$f":"IFERROR(VLOOKUP(Tabla_SERIED_11_6[[#This Row],[IdEstablecimiento]],'[2]Establecimiento 2023'!$A$1:$E$183,3,FALSE),0)","v":"200569-Centro de Salud Familiar Fray Jorge"},{"$f":"IFERROR(VLOOKUP(Tabla_SERIED_11_6[[#This Row],[IdEstablecimiento]],'[2]Establecimiento 2023'!$A$1:$E$183,5,FALSE),0)","v":"04301-Ovalle"},"15080018","2023-08-18T11:13:13",6,0,0,0,4,2]
[6,"5",2023,"105500",{"$f":"IFERROR(VLOOKUP(Tabla_SERIED_11_6[[#This Row],[IdEstablecimiento]],'[2]Establecimiento 2023'!$A$1:$E$183,3,FALSE),0)","v":"105500-Posta de Salud Rural Caleta Hornos"},{"$f":"IFERROR(VLOOKUP(Tabla_SERIED_11_6[[#This Row],[IdEstablecimiento]],'[2]Establecimiento 2023'!$A$1:$E$183,5,FALSE),0)","v":"04104-La Higuera"},"15050100","2023-07-17T17:03:28",30,18,12,null,null,4,11,4,7,2,2]
[6,"5",2023,"105506",{"$f":"IFERROR(VLOOKUP(Tabla_SERIED_11_6[[#This Row],[IdEstablecimiento]],'[2]Establecimiento 2023'!$A$1:$E$183,3,FALSE),0)","v":"105506-Posta de Salud Rural El Trapiche"},{"$f":"IFERROR(VLOOKUP(Tabla_SERIED_11_6[[#This Row],[IdEstablecimiento]],'[2]Establecimiento 2023'!$A$1:$E$183,5,FALSE),0)","v":"04104-La Higuera"},"15050100","2023-07-18T09:41:11",13,7,6,{"$nulls":3},2,3,2,2,4]
[6,"5",2023,"105511",{"$f":"IFERROR(VLOOKUP(Tabla_SERIED_11_6[[#This Row],[IdEstablecimiento]],'[2]Establecimiento 2023'!$A$1:$E$183,3,FALSE),0)","v":"105511-Posta de Salud Rural Los Cóndores"},{"$f":"IFERROR(VLOOKUP(Tabla_SERIED_11_6[[#This Row],[IdEstablecimiento]],'[2]Establecimiento 2023'!$A$1:$E$183,5,FALSE),0)","v":"04203-Los Vilos"},"16200220","2023-07-18T09:42:49",2,1,1]
[7,"5",2023,"105457",{"$f":"IFERROR(VLOOKUP(Tabla_SERIED_11_6[[#This Row],[IdEstablecimiento]],'[2]Establecimiento 2023'!$A$1:$E$183,3,FALSE),0)","v":"105457-Posta de Salud Rural San Agustín (Salamanca)"},{"$f":"IFERROR(VLOOKUP(Tabla_SERIED_11_6[[#This Row],[IdEstablecimiento]],'[2]Establecimiento 2023'!$A$1:$E$183,5,FALSE),0)","v":"04204-Salamanca"},"15080014","2023-08-18T09:43:28",8,{"$nulls":3},4,4]
[7,"5",2023,"105461",{"$f":"IFERROR(VLOOKUP(Tabla_SERIED_11_6[[#This Row],[IdEstablecimiento]],'[2]Establecimiento 2023'!$A$1:$E$183,3,FALSE),0)","v":"105461-Posta de Salud Rural El Huacho"},{"$f":"IFERROR(VLOOKUP(Tabla_SERIED_11_6[[#This Row],[IdEstablecimiento]],'[2]Establecimiento 2023'!$A$1:$E$183,5,FALSE),0)","v":"04302-Combarbalá"},"15050100","2023-08-18T09:47:41",3,1,2,{"$nulls":3},1,null,null,2]
[7,"5",2023,"105473",{"$f":"IFERROR(VLOOKUP(Tabla_SERIED_11_6[[#This Row],[IdEstablecimiento]],'[2]Establecimiento 2023'!$A$1:$E$183,3,FALSE),0)","v":"105473-Posta de Salud Rural Talcuna"},{"$f":"IFERROR(VLOOKUP(Tabla_SERIED_11_6[[#This Row],[IdEstablecimiento]],'[2]Establecimiento 2023'!$A$1:$E$183,5,FALSE),0)","v":"04106-Vicuña"},"15080008","2023-08-18T10:06:20",7,{"$nulls":7},1,null,4,null,2]
[7,"5",2023,"105479",{"$f":"IFERROR(VLOOKUP(Tabla_SERIED_11_6[[#This Row],[IdEstablecimiento]],'[2]Establecimiento 2023'!$A$1:$E$183,3,FALSE),0)","v":"105479-Posta de Salud Rural Guangualí"},{"$f":"IFERROR(VLOOKUP(Tabla_SERIED_11_6[[#This Row],[IdEstablecimiento]],'[2]Establecimiento 2023'!$A$1:$E$183,5,FALSE),0)","v":"04203-Los Vilos"},"15080008","2023-08-18T10:09:54",1,{"$nulls":7},1]
[7,"5",2023,"105410",{"$f":"IFERROR(VLOOKUP(Tabla_SERIED_11_6[[#This Row],[IdEstablecimiento]],'[2]Establecimiento 2023'!$A$1:$E$183,3,FALSE),0)","v":"105410-Posta de Salud Rural Hurtado"},{"$f":"IFERROR(VLOOKUP(Tabla_SERIED_11_6[[#This Row],[IdEstablecimiento]],'[2]Establecimiento 2023'!$A$1:$E$183,5,FALSE),0)","v":"04305-Rio Hurtado"},"15010200","2023-08-18T08:17:07",10,{"$nulls":5},4,6]
[7,"5",2023,"105422",{"$f":"IFERROR(VLOOKUP(Tabla_SERIED_11_6[[#This Row],[IdEstablecimiento]],'[2]Establecimiento 2023'!$A$1:$E$183,3,FALSE),0)","v":"105422-Posta de Salud Rural Hornillos"},{"$f":"IFERROR(VLOOKUP(Tabla_SERIED_11_6[[#This Row],[IdEstablecimiento]],'[2]Establecimiento 2023'!$A$1:$E$183,5,FALSE),0)","v":"04301-Ovalle"},"16090300","2023-08-18T08:21:41",35,35]
[7,"5",2023,"105427",{"$f":"IFERROR(VLOOKUP(Tabla_SERIED_11_6[[#This Row],[IdEstablecimiento]],'[2]Establecimiento 2023'!$A$1:$E$183,3,FALSE),0)","v":"105427-Posta de Salud Rural Hacienda Valdivia"},{"$f":"IFERROR(VLOOKUP(Tabla_SERIED_11_6[[#This Row],[IdEstablecimiento]],'[2]Establecimiento 2023'!$A$1:$E$183,5,FALSE),0)","v":"04303-Monte Patria"},"16100300","2023-08-18T08:24:18",50,24,26]
[7,"5",2023,"105490",{"$f":"IFERROR(VLOOKUP(Tabla_SERIED_11_6[[#This Row],[IdEstablecimiento]],'[2]Establecimiento 2023'!$A$1:$E$183,3,FALSE),0)","v":"105490-Posta de Salud Rural El Durazno(Combarbalá)"},{"$f":"IFERROR(VLOOKUP(Tabla_SERIED_11_6[[#This Row],[IdEstablecimiento]],'[2]Establecimiento 2023'!$A$1:$E$183,5,FALSE),0)","v":"04302-Combarbalá"},"15900010","2023-08-18T10:28:07",0.8,null,null,0.8]
[7,"5",2023,"105499",{"$f":"IFERROR(VLOOKUP(Tabla_SERIED_11_6[[#This Row],[IdEstablecimiento]],'[2]Establecimiento 2023'!$A$1:$E$183,3,FALSE),0)","v":"105499-Posta de Salud Rural Lambert"},{"$f":"IFERROR(VLOOKUP(Tabla_SERIED_11_6[[#This Row],[IdEstablecimiento]],'[2]Establecimiento 2023'!$A$1:$E$183,5,FALSE),0)","v":"04101-La Serena"},"15900010","2023-08-18T10:40:48",18.6,1.8,null,16.8]
[7,"5",2023,"105700",{"$f":"IFERROR(VLOOKUP(Tabla_SERIED_11_6[[#This Row],[IdEstablecimiento]],'[2]Establecimiento 2023'!$A$1:$E$183,3,FALSE),0)","v":"105700-Centro Comunitario de Salud Familiar Villa el Indio"},{"$f":"IFERROR(VLOOKUP(Tabla_SERIED_11_6[[#This Row],[IdEstablecimiento]],'[2]Establecimiento 2023'!$A$1:$E$183,5,FALSE),0)","v":"04101-La Serena"},"15050100","2023-08-18T10:49:25",46,15,31,null,2,7,8,null,12,7,4,null,2,2,2]
[7,"5",2023,"105304",{"$f":"IFERROR(VLOOKUP(Tabla_SERIED_11_6[[#This Row],[IdEstablecimiento]],'[2]Establecimiento 2023'!$A$1:$E$183,3,FALSE),0)","v":"105304-Centro de Salud Familiar Santa Cecilia"},{"$f":"IFERROR(VLOOKUP(Tabla_SERIED_11_6[[#This Row],[IdEstablecimiento]],'[2]Establecimiento 2023'!$A$1:$E$183,5,FALSE),0)","v":"04102-Coquimbo"},"15080016","2023-08-18T08:01:59",16,{"$nulls":3},8,2,2,4]
[7,"5",2023,"105307",{"$f":"IFERROR(VLOOKUP(Tabla_SERIED_11_6[[#This Row],[IdEstablecimiento]],'[2]Establecimiento 2023'!$A$1:$E$183,3,FALSE),0)","v":"105307-Centro de Salud Familiar Monte Patria"},{"$f":"IFERROR(VLOOKUP(Tabla_SERIED_11_6[[#This Row],[IdEstablecimiento]],'[2]Establecimiento 2023'!$A$1:$E$183,5,FALSE),0)","v":"04303-Monte Patria"},"15900030","2023-10-17T10:01:52",8.8,4.4,4.4]
[7,"5",2023,"105313",{"$f":"IFERROR(VLOOKUP(Tabla_SERIED_11_6[[#This Row],[IdEstablecimiento]],'[2]Establecimiento 2023'!$A$1:$E$183,3,FALSE),0)","v":"105313-Centro de Salud Familiar Dr. Emilio Schaffhauser"},{"$f":"IFERROR(VLOOKUP(Tabla_SERIED_11_6[[#This Row],[IdEstablecimiento]],'[2]Establecimiento 2023'!$A$1:$E$183,5,FALSE),0)","v":"04101-La Serena"},"15901400","2023-08-18T08:07:08",5,3,2,null,null,3,1,1]
[7,"5",2023,"105483",{"$f":"IFERROR(VLOOKUP(Tabla_SERIED_11_6[[#This Row],[IdEstablecimiento]],'[2]Establecimiento 2023'!$A$1:$E$183,3,FALSE),0)","v":"105483-Posta de Salud Rural Los Rulos"},{"$f":"IFERROR(VLOOKUP(Tabla_SERIED_11_6[[#This Row],[IdEstablecimiento]],'[2]Establecimiento 2023'!$A$1:$E$183,5,FALSE),0)","v":"04202-Canela"},"16200210","2023-08-18T10:16:23",2,2]
[7,"5",2023,"105491",{"$f":"IFERROR(VLOOKUP(Tabla_SERIED_11_6[[#This Row],[IdEstablecimiento]],'[2]Establecimiento 2023'!$A$1:$E$183,3,FALSE),0)","v":"105491-Posta de Salud Rural Quelén Bajo"},{"$f":"IFERROR(VLOOKUP(Tabla_SERIED_11_6[[#This Row],[IdEstablecimiento]],'[2]Establecimiento 2023'!$A$1:$E$183,5,FALSE),0)","v":"04204-Salamanca"},"15010500","2023-08-18T10:28:37",8,null,null,2,null,null,2,4]
[7,"5",2023,"105491",{"$f":"IFERROR(VLOOKUP(Tabla_SERIED_11_6[[#This Row],[IdEstablecimiento]],'[2]Establecimiento 2023'!$A$1:$E$183,3,FALSE),0)","v":"105491-Posta de Salud Rural Quelén Bajo"},{"$f":"IFERROR(VLOOKUP(Tabla_SERIED_11_6[[#This Row],[IdEstablecimiento]],'[2]Establecimiento 2023'!$A$1:$E$183,5,FALSE),0)","v":"04204-Salamanca"},"15080014","2023-08-18T10:28:37",20,{"$nulls":3},10,10]
[7,"5",2023,"105498",{"$f":"IFERROR(VLOOKUP(Tabla_SERIED_11_6[[#This Row],[IdEstablecimiento]],'[2]Establecimiento 2023'!$A$1:$E$183,3,FALSE),0)","v":"105498-Posta de Salud Rural Quebrada Linares"},{"$f":"IFERROR(VLOOKUP(Tabla_SERIED_11_6[[#This Row],[IdEstablecimiento]],'[2]Establecimiento 2023'!$A$1:$E$183,5,FALSE),0)","v":"04202-Canela"},"16200220","2023-08-18T10:40:22",4,2,2]
[7,"5",2023,"105435",{"$f":"IFERROR(VLOOKUP(Tabla_SERIED_11_6[[#This Row],[IdEstablecimiento]],'[2]Establecimiento 2023'!$A$1:$E$183,3,FALSE),0)","v":"105435-Posta de Salud Rural Tulahuén"},{"$f":"IFERROR(VLOOKUP(Tabla_SERIED_11_6[[#This Row],[IdEstablecimiento]],'[2]Establecimiento 2023'!$A$1:$E$183,5,FALSE),0)","v":"04303-Monte Patria"},"16100300","2023-08-18T08:28:33",91,39,52]
[7,"5",2023,"105447",{"$f":"IFERROR(VLOOKUP(Tabla_SERIED_11_6[[#This Row],[IdEstablecimiento]],'[2]Establecimiento 2023'!$A$1:$E$183,3,FALSE),0)","v":"105447-Posta de Salud Rural Peralillo Illapel"},{"$f":"IFERROR(VLOOKUP(Tabla_SERIED_11_6[[#This Row],[IdEstablecimiento]],'[2]Establecimiento 2023'!$A$1:$E$183,5,FALSE),0)","v":"04201-Illapel"},"15050100","2023-08-18T09:30:51",21,10,11,null,0,1,3,2,5,6,2,null,1,null,1]
[6,"5",2023,"105448",{"$f":"IFERROR(VLOOKUP(Tabla_SERIED_11_6[[#This Row],[IdEstablecimiento]],'[2]Establecimiento 2023'!$A$1:$E$183,3,FALSE),0)","v":"105448-Posta de Salud Rural Santa Virginia"},{"$f":"IFERROR(VLOOKUP(Tabla_SERIED_11_6[[#This Row],[IdEstablecimiento]],'[2]Establecimiento 2023'!$A$1:$E$183,5,FALSE),0)","v":"04201-Illapel"},"15900030","2023-07-17T16:01:09",4.8,{"$nulls":4},4.8]
[6,"5",2023,"105458",{"$f":"IFERROR(VLOOKUP(Tabla_SERIED_11_6[[#This Row],[IdEstablecimiento]],'[2]Establecimiento 2023'!$A$1:$E$183,3,FALSE),0)","v":"105458-Posta de Salud Rural Tahuinco"},{"$f":"IFERROR(VLOOKUP(Tabla_SERIED_11_6[[#This Row],[IdEstablecimiento]],'[2]Establecimiento 2023'!$A$1:$E$183,5,FALSE),0)","v":"04204-Salamanca"},"15050100","2023-07-17T16:15:08",64,23,41,null,null,8,8,6,16,17,4,null,null,4,1]
[6,"5",2023,"105468",{"$f":"IFERROR(VLOOKUP(Tabla_SERIED_11_6[[#This Row],[IdEstablecimiento]],'[2]Establecimiento 2023'!$A$1:$E$183,3,FALSE),0)","v":"105468-Posta de Salud Rural El Molle"},{"$f":"IFERROR(VLOOKUP(Tabla_SERIED_11_6[[#This Row],[IdEstablecimiento]],'[2]Establecimiento 2023'!$A$1:$E$183,5,FALSE),0)","v":"04106-Vicuña"},"15010100","2023-07-18T15:35:20",2,{"$nulls":3},2]
[6,"5",2023,"105469",{"$f":"IFERROR(VLOOKUP(Tabla_SERIED_11_6[[#This Row],[IdEstablecimiento]],'[2]Establecimiento 2023'!$A$1:$E$183,3,FALSE),0)","v":"105469-Posta de Salud Rural El Tambo (Vicuña)"},{"$f":"IFERROR(VLOOKUP(Tabla_SERIED_11_6[[#This Row],[IdEstablecimiento]],'[2]Establecimiento 2023'!$A$1:$E$183,5,FALSE),0)","v":"04106-Vicuña"},"15050200","2023-08-18T11:33:51",2,2,{"$nulls":3},1,null,null,1,0]
[7,"5",2023,"105319",{"$f":"IFERROR(VLOOKUP(Tabla_SERIED_11_6[[#This Row],[IdEstablecimiento]],'[2]Establecimiento 2023'!$A$1:$E$183,3,FALSE),0)","v":"105319-Centro de Salud Familiar Cardenal Raúl Silva Henríquez de La Serena"},{"$f":"IFERROR(VLOOKUP(Tabla_SERIED_11_6[[#This Row],[IdEstablecimiento]],'[2]Establecimiento 2023'!$A$1:$E$183,5,FALSE),0)","v":"04101-La Serena"},"16090500","2023-08-18T08:10:17",3,3]
[7,"5",2023,"105405",{"$f":"IFERROR(VLOOKUP(Tabla_SERIED_11_6[[#This Row],[IdEstablecimiento]],'[2]Establecimiento 2023'!$A$1:$E$183,3,FALSE),0)","v":"105405-Posta de Salud Rural Guanaqueros"},{"$f":"IFERROR(VLOOKUP(Tabla_SERIED_11_6[[#This Row],[IdEstablecimiento]],'[2]Establecimiento 2023'!$A$1:$E$183,5,FALSE),0)","v":"04102-Coquimbo"},"16090300","2023-08-18T08:15:44",83,83]
[7,"5",2023,"105411",{"$f":"IFERROR(VLOOKUP(Tabla_SERIED_11_6[[#This Row],[IdEstablecimiento]],'[2]Establecimiento 2023'!$A$1:$E$183,3,FALSE),0)","v":"105411-Posta de Salud Rural Las Breas (Río Hurtado)"},{"$f":"IFERROR(VLOOKUP(Tabla_SERIED_11_6[[#This Row],[IdEstablecimiento]],'[2]Establecimiento 2023'!$A$1:$E$183,5,FALSE),0)","v":"04305-Rio Hurtado"},"15080008","2023-08-18T08:17:39",1,{"$nulls":11},1]
[7,"5",2023,"105723",{"$f":"IFERROR(VLOOKUP(Tabla_SERIED_11_6[[#This Row],[IdEstablecimiento]],'[2]Establecimiento 2023'!$A$1:$E$183,3,FALSE),0)","v":"105723-Centro Comunitario de Salud Familiar Limarí"},{"$f":"IFERROR(VLOOKUP(Tabla_SERIED_11_6[[#This Row],[IdEstablecimiento]],'[2]Establecimiento 2023'!$A$1:$E$183,5,FALSE),0)","v":"04301-Ovalle"},"16090300","2023-08-18T10:51:55",290,290]
[7,"5",2023,"105304",{"$f":"IFERROR(VLOOKUP(Tabla_SERIED_11_6[[#This Row],[IdEstablecimiento]],'[2]Establecimiento 2023'!$A$1:$E$183,3,FALSE),0)","v":"105304-Centro de Salud Familiar Santa Cecilia"},{"$f":"IFERROR(VLOOKUP(Tabla_SERIED_11_6[[#This Row],[IdEstablecimiento]],'[2]Establecimiento 2023'!$A$1:$E$183,5,FALSE),0)","v":"04102-Coquimbo"},"15050200","2023-08-18T08:01:59",21,13,8,1,3,7,4,1,1,2,null,2,0,0,0]
[6,"5",2023,"200366",{"$f":"IFERROR(VLOOKUP(Tabla_SERIED_11_6[[#This Row],[IdEstablecimiento]],'[2]Establecimiento 2023'!$A$1:$E$183,3,FALSE),0)","v":"200366-Centro de Salud Familiar Urbano de Illapel"},{"$f":"IFERROR(VLOOKUP(Tabla_SERIED_11_6[[#This Row],[IdEstablecimiento]],'[2]Establecimiento 2023'!$A$1:$E$183,5,FALSE),0)","v":"04201-Illapel"},"16100300","2023-07-18T09:49:39",703,245,458]
[6,"5",2023,"200538",{"$f":"IFERROR(VLOOKUP(Tabla_SERIED_11_6[[#This Row],[IdEstablecimiento]],'[2]Establecimiento 2023'!$A$1:$E$183,3,FALSE),0)","v":"200538-Centro de Salud Familiar San Isidro Calingasta"},{"$f":"IFERROR(VLOOKUP(Tabla_SERIED_11_6[[#This Row],[IdEstablecimiento]],'[2]Establecimiento 2023'!$A$1:$E$183,5,FALSE),0)","v":"04106-Vicuña"},"16200210","2023-08-18T11:35:42",7,7]
[7,"5",2023,"105300",{"$f":"IFERROR(VLOOKUP(Tabla_SERIED_11_6[[#This Row],[IdEstablecimiento]],'[2]Establecimiento 2023'!$A$1:$E$183,3,FALSE),0)","v":"105300-Centro de Salud Familiar Cardenal Caro"},{"$f":"IFERROR(VLOOKUP(Tabla_SERIED_11_6[[#This Row],[IdEstablecimiento]],'[2]Establecimiento 2023'!$A$1:$E$183,5,FALSE),0)","v":"04101-La Serena"},"15060100","2023-08-18T07:59:29",56,30,26,1,2,10,11,16,11,4,1]
[7,"5",2023,"105300",{"$f":"IFERROR(VLOOKUP(Tabla_SERIED_11_6[[#This Row],[IdEstablecimiento]],'[2]Establecimiento 2023'!$A$1:$E$183,3,FALSE),0)","v":"105300-Centro de Salud Familiar Cardenal Caro"},{"$f":"IFERROR(VLOOKUP(Tabla_SERIED_11_6[[#This Row],[IdEstablecimiento]],'[2]Establecimiento 2023'!$A$1:$E$183,5,FALSE),0)","v":"04101-La Serena"},"15080010","2023-08-18T07:59:29",1,{"$nulls":7},1]
[7,"5",2023,"105319",{"$f":"IFERROR(VLOOKUP(Tabla_SERIED_11_6[[#This Row],[IdEstablecimiento]],'[2]Establecimiento 2023'!$A$1:$E$183,3,FALSE),0)","v":"105319-Centro de Salud Familiar Cardenal Raúl Silva Henríquez de La Serena"},{"$f":"IFERROR(VLOOKUP(Tabla_SERIED_11_6[[#This Row],[IdEstablecimiento]],'[2]Establecimiento 2023'!$A$1:$E$183,5,FALSE),0)","v":"04101-La Serena"},"15050100","2023-08-18T08:10:17",759,384,375,7,20,76,91,113,149,165,98,null,20,null,20]
[7,"5",2023,"105325",{"$f":"IFERROR(VLOOKUP(Tabla_SERIED_11_6[[#This Row],[IdEstablecimiento]],'[2]Establecimiento 2023'!$A$1:$E$183,3,FALSE),0)","v":"105325-Centro de Salud Familiar Juan Pablo II (La Serena)"},{"$f":"IFERROR(VLOOKUP(Tabla_SERIED_11_6[[#This Row],[IdEstablecimiento]],'[2]Establecimiento 2023'!$A$1:$E$183,5,FALSE),0)","v":"04101-La Serena"},"15900010","2023-08-18T08:13:06",340.8,24,80.8,236]
[7,"5",2023,"105326",{"$f":"IFERROR(VLOOKUP(Tabla_SERIED_11_6[[#This Row],[IdEstablecimiento]],'[2]Establecimiento 2023'!$A$1:$E$183,3,FALSE),0)","v":"105326-Centro de Salud Familiar Villa San Rafael de Rozas"},{"$f":"IFERROR(VLOOKUP(Tabla_SERIED_11_6[[#This Row],[IdEstablecimiento]],'[2]Establecimiento 2023'!$A$1:$E$183,5,FALSE),0)","v":"04201-Illapel"},"16090500","2023-08-18T08:13:32",6,6]
[7,"5",2023,"105301",{"$f":"IFERROR(VLOOKUP(Tabla_SERIED_11_6[[#This Row],[IdEstablecimiento]],'[2]Establecimiento 2023'!$A$1:$E$183,3,FALSE),0)","v":"105301-Centro de Salud Familiar Las Compañías"},{"$f":"IFERROR(VLOOKUP(Tabla_SERIED_11_6[[#This Row],[IdEstablecimiento]],'[2]Establecimiento 2023'!$A$1:$E$183,5,FALSE),0)","v":"04101-La Serena"},"15080018","2023-08-18T08:00:07",12,null,null,2,6,4]
[7,"5",2023,"105304",{"$f":"IFERROR(VLOOKUP(Tabla_SERIED_11_6[[#This Row],[IdEstablecimiento]],'[2]Establecimiento 2023'!$A$1:$E$183,3,FALSE),0)","v":"105304-Centro de Salud Familiar Santa Cecilia"},{"$f":"IFERROR(VLOOKUP(Tabla_SERIED_11_6[[#This Row],[IdEstablecimiento]],'[2]Establecimiento 2023'!$A$1:$E$183,5,FALSE),0)","v":"04102-Coquimbo"},"15010500","2023-08-18T08:01:59",31,null,1,14,8,2,2,4]
[7,"5",2023,"105308",{"$f":"IFERROR(VLOOKUP(Tabla_SERIED_11_6[[#This Row],[IdEstablecimiento]],'[2]Establecimiento 2023'!$A$1:$E$183,3,FALSE),0)","v":"105308-Centro de Salud Familiar Punitaqui"},{"$f":"IFERROR(VLOOKUP(Tabla_SERIED_11_6[[#This Row],[IdEstablecimiento]],'[2]Establecimiento 2023'!$A$1:$E$183,5,FALSE),0)","v":"04304-Punitaqui"},"16100300","2023-08-18T08:04:29",508,221,287]
[7,"5",2023,"105317",{"$f":"IFERROR(VLOOKUP(Tabla_SERIED_11_6[[#This Row],[IdEstablecimiento]],'[2]Establecimiento 2023'!$A$1:$E$183,3,FALSE),0)","v":"105317-Centro de Salud Familiar Jorge Jordán Domic"},{"$f":"IFERROR(VLOOKUP(Tabla_SERIED_11_6[[#This Row],[IdEstablecimiento]],'[2]Establecimiento 2023'!$A$1:$E$183,5,FALSE),0)","v":"04301-Ovalle"},"15050200","2023-08-18T08:08:52",12,5,7,{"$nulls":3},2,1,4,2,null,3]
[7,"5",2023,"105317",{"$f":"IFERROR(VLOOKUP(Tabla_SERIED_11_6[[#This Row],[IdEstablecimiento]],'[2]Establecimiento 2023'!$A$1:$E$183,3,FALSE),0)","v":"105317-Centro de Salud Familiar Jorge Jordán Domic"},{"$f":"IFERROR(VLOOKUP(Tabla_SERIED_11_6[[#This Row],[IdEstablecimiento]],'[2]Establecimiento 2023'!$A$1:$E$183,5,FALSE),0)","v":"04301-Ovalle"},"16100300","2023-08-18T08:08:52",700,294,406]
[7,"5",2023,"105401",{"$f":"IFERROR(VLOOKUP(Tabla_SERIED_11_6[[#This Row],[IdEstablecimiento]],'[2]Establecimiento 2023'!$A$1:$E$183,3,FALSE),0)","v":"105401-Posta de Salud Rural Las Rojas"},{"$f":"IFERROR(VLOOKUP(Tabla_SERIED_11_6[[#This Row],[IdEstablecimiento]],'[2]Establecimiento 2023'!$A$1:$E$183,5,FALSE),0)","v":"04101-La Serena"},"15900010","2023-08-18T08:14:33",4.5,null,null,4.5]
[7,"5",2023,"105414",{"$f":"IFERROR(VLOOKUP(Tabla_SERIED_11_6[[#This Row],[IdEstablecimiento]],'[2]Establecimiento 2023'!$A$1:$E$183,3,FALSE),0)","v":"105414-Posta de Salud Rural Serón"},{"$f":"IFERROR(VLOOKUP(Tabla_SERIED_11_6[[#This Row],[IdEstablecimiento]],'[2]Establecimiento 2023'!$A$1:$E$183,5,FALSE),0)","v":"04305-Rio Hurtado"},"15050100","2023-08-18T08:18:56",14,6,8,null,1,null,2,1,2,6,1,null,null,1]
[6,"5",2023,"200499",{"$f":"IFERROR(VLOOKUP(Tabla_SERIED_11_6[[#This Row],[IdEstablecimiento]],'[2]Establecimiento 2023'!$A$1:$E$183,3,FALSE),0)","v":"200499-Centro de Salud Familiar Rural Pan de Azúcar"},{"$f":"IFERROR(VLOOKUP(Tabla_SERIED_11_6[[#This Row],[IdEstablecimiento]],'[2]Establecimiento 2023'!$A$1:$E$183,5,FALSE),0)","v":"04102-Coquimbo"},"16200220","2023-07-18T15:23:28",87,41,46]
[7,"5",2023,"105315",{"$f":"IFERROR(VLOOKUP(Tabla_SERIED_11_6[[#This Row],[IdEstablecimiento]],'[2]Establecimiento 2023'!$A$1:$E$183,3,FALSE),0)","v":"105315-Centro de Salud Familiar Cerrillos de Tamaya"},{"$f":"IFERROR(VLOOKUP(Tabla_SERIED_11_6[[#This Row],[IdEstablecimiento]],'[2]Establecimiento 2023'!$A$1:$E$183,5,FALSE),0)","v":"04301-Ovalle"},"15050500","2023-08-18T08:08:23",1,1,null,1]
[7,"5",2023,"105317",{"$f":"IFERROR(VLOOKUP(Tabla_SERIED_11_6[[#This Row],[IdEstablecimiento]],'[2]Establecimiento 2023'!$A$1:$E$183,3,FALSE),0)","v":"105317-Centro de Salud Familiar Jorge Jordán Domic"},{"$f":"IFERROR(VLOOKUP(Tabla_SERIED_11_6[[#This Row],[IdEstablecimiento]],'[2]Establecimiento 2023'!$A$1:$E$183,5,FALSE),0)","v":"04301-Ovalle"},"15080008","2023-08-18T08:08:52",232,{"$nulls":7},92,null,88,18,34]
[7,"5",2023,"105325",{"$f":"IFERROR(VLOOKUP(Tabla_SERIED_11_6[[#This Row],[IdEstablecimiento]],'[2]Establecimiento 2023'!$A$1:$E$183,3,FALSE),0)","v":"105325-Centro de Salud Familiar Juan Pablo II (La Serena)"},{"$f":"IFERROR(VLOOKUP(Tabla_SERIED_11_6[[#This Row],[IdEstablecimiento]],'[2]Establecimiento 2023'!$A$1:$E$183,5,FALSE),0)","v":"04101-La Serena"},"16090300","2023-08-18T08:13:06",362,362]
[7,"5",2023,"105405",{"$f":"IFERROR(VLOOKUP(Tabla_SERIED_11_6[[#This Row],[IdEstablecimiento]],'[2]Establecimiento 2023'!$A$1:$E$183,3,FALSE),0)","v":"105405-Posta de Salud Rural Guanaqueros"},{"$f":"IFERROR(VLOOKUP(Tabla_SERIED_11_6[[#This Row],[IdEstablecimiento]],'[2]Establecimiento 2023'!$A$1:$E$183,5,FALSE),0)","v":"04102-Coquimbo"},"16200220","2023-08-18T08:15:44",3,1,2]
[7,"5",2023,"105410",{"$f":"IFERROR(VLOOKUP(Tabla_SERIED_11_6[[#This Row],[IdEstablecimiento]],'[2]Establecimiento 2023'!$A$1:$E$183,3,FALSE),0)","v":"105410-Posta de Salud Rural Hurtado"},{"$f":"IFERROR(VLOOKUP(Tabla_SERIED_11_6[[#This Row],[IdEstablecimiento]],'[2]Establecimiento 2023'!$A$1:$E$183,5,FALSE),0)","v":"04305-Rio Hurtado"},"16090300","2023-08-18T08:17:07",36,36]
[7,"5",2023,"105431",{"$f":"IFERROR(VLOOKUP(Tabla_SERIED_11_6[[#This Row],[IdEstablecimiento]],'[2]Establecimiento 2023'!$A$1:$E$183,3,FALSE),0)","v":"105431-Posta de Salud Rural Pedregal"},{"$f":"IFERROR(VLOOKUP(Tabla_SERIED_11_6[[#This Row],[IdEstablecimiento]],'[2]Establecimiento 2023'!$A$1:$E$183,5,FALSE),0)","v":"04303-Monte Patria"},"15080015","2023-08-18T08:25:57",7,{"$nulls":5},2,5]
[7,"5",2023,"105449",{"$f":"IFERROR(VLOOKUP(Tabla_SERIED_11_6[[#This Row],[IdEstablecimiento]],'[2]Establecimiento 2023'!$A$1:$E$183,3,FALSE),0)","v":"105449-Posta de Salud Rural Tunga Norte"},{"$f":"IFERROR(VLOOKUP(Tabla_SERIED_11_6[[#This Row],[IdEstablecimiento]],'[2]Establecimiento 2023'!$A$1:$E$183,5,FALSE),0)","v":"04201-Illapel"},"16100300","2023-08-18T09:31:48",27,13,14]
[7,"5",2023,"105454",{"$f":"IFERROR(VLOOKUP(Tabla_SERIED_11_6[[#This Row],[IdEstablecimiento]],'[2]Establecimiento 2023'!$A$1:$E$183,3,FALSE),0)","v":"105454-Posta de Salud Rural Cunlagua"},{"$f":"IFERROR(VLOOKUP(Tabla_SERIED_11_6[[#This Row],[IdEstablecimiento]],'[2]Establecimiento 2023'!$A$1:$E$183,5,FALSE),0)","v":"04204-Salamanca"},"16100300","2023-08-18T09:34:34",47,28,19]
[7,"5",2023,"105465",{"$f":"IFERROR(VLOOKUP(Tabla_SERIED_11_6[[#This Row],[IdEstablecimiento]],'[2]Establecimiento 2023'!$A$1:$E$183,3,FALSE),0)","v":"105465-Posta de Salud Rural Ramadilla"},{"$f":"IFERROR(VLOOKUP(Tabla_SERIED_11_6[[#This Row],[IdEstablecimiento]],'[2]Establecimiento 2023'!$A$1:$E$183,5,FALSE),0)","v":"04302-Combarbalá"},"16090300","2023-08-18T09:50:42",84,84]
[7,"5",2023,"105475",{"$f":"IFERROR(VLOOKUP(Tabla_SERIED_11_6[[#This Row],[IdEstablecimiento]],'[2]Establecimiento 2023'!$A$1:$E$183,3,FALSE),0)","v":"105475-Posta de Salud Rural Horcón (Paiguano)"},{"$f":"IFERROR(VLOOKUP(Tabla_SERIED_11_6[[#This Row],[IdEstablecimiento]],'[2]Establecimiento 2023'!$A$1:$E$183,5,FALSE),0)","v":"04105-Paihuano"},"15010200","2023-08-18T10:07:21",12,{"$nulls":5},6,6]
[7,"5",2023,"105106",{"$f":"IFERROR(VLOOKUP(Tabla_SERIED_11_6[[#This Row],[IdEstablecimiento]],'[2]Establecimiento 2023'!$A$1:$E$183,3,FALSE),0)","v":"105106-Hospital Dr. José Arraño (Andacollo)"},{"$f":"IFERROR(VLOOKUP(Tabla_SERIED_11_6[[#This Row],[IdEstablecimiento]],'[2]Establecimiento 2023'!$A$1:$E$183,5,FALSE),0)","v":"105106-Hospital Andacollo"},"15060100","2023-08-18T07:56:41",8,4,4,null,null,1,2,null,4,1]
[6,"5",2023,"105318",{"$f":"IFERROR(VLOOKUP(Tabla_SERIED_11_6[[#This Row],[IdEstablecimiento]],'[2]Establecimiento 2023'!$A$1:$E$183,3,FALSE),0)","v":"105318-Centro de Salud Familiar El Palqui"},{"$f":"IFERROR(VLOOKUP(Tabla_SERIED_11_6[[#This Row],[IdEstablecimiento]],'[2]Establecimiento 2023'!$A$1:$E$183,5,FALSE),0)","v":"04303-Monte Patria"},"16200220","2023-07-19T11:44:42",20,9,11]
[6,"5",2023,"105322",{"$f":"IFERROR(VLOOKUP(Tabla_SERIED_11_6[[#This Row],[IdEstablecimiento]],'[2]Establecimiento 2023'!$A$1:$E$183,3,FALSE),0)","v":"105322-Centro de Salud Familiar Marcos Macuada"},{"$f":"IFERROR(VLOOKUP(Tabla_SERIED_11_6[[#This Row],[IdEstablecimiento]],'[2]Establecimiento 2023'!$A$1:$E$183,5,FALSE),0)","v":"04301-Ovalle"},"15080014","2023-07-19T15:48:06",212,{"$nulls":3},116,96,0,0,0,0,0,0,0]
[6,"5",2023,"105326",{"$f":"IFERROR(VLOOKUP(Tabla_SERIED_11_6[[#This Row],[IdEstablecimiento]],'[2]Establecimiento 2023'!$A$1:$E$183,3,FALSE),0)","v":"105326-Centro de Salud Familiar Villa San Rafael de Rozas"},{"$f":"IFERROR(VLOOKUP(Tabla_SERIED_11_6[[#This Row],[IdEstablecimiento]],'[2]Establecimiento 2023'!$A$1:$E$183,5,FALSE),0)","v":"04201-Illapel"},"15010200","2023-07-18T17:01:45",143,{"$nulls":5},78,65]
[7,"5",2023,"105434",{"$f":"IFERROR(VLOOKUP(Tabla_SERIED_11_6[[#This Row],[IdEstablecimiento]],'[2]Establecimiento 2023'!$A$1:$E$183,3,FALSE),0)","v":"105434-Posta de Salud Rural San Marcos (Combarbalá)"},{"$f":"IFERROR(VLOOKUP(Tabla_SERIED_11_6[[#This Row],[IdEstablecimiento]],'[2]Establecimiento 2023'!$A$1:$E$183,5,FALSE),0)","v":"04302-Combarbalá"},"16100300","2023-08-18T08:28:04",54,27,27]
[7,"5",2023,"105444",{"$f":"IFERROR(VLOOKUP(Tabla_SERIED_11_6[[#This Row],[IdEstablecimiento]],'[2]Establecimiento 2023'!$A$1:$E$183,3,FALSE),0)","v":"105444-Posta de Salud Rural Huintil"},{"$f":"IFERROR(VLOOKUP(Tabla_SERIED_11_6[[#This Row],[IdEstablecimiento]],'[2]Establecimiento 2023'!$A$1:$E$183,5,FALSE),0)","v":"04201-Illapel"},"15080014","2023-08-18T09:29:59",2,{"$nulls":3},2]
[7,"5",2023,"105455",{"$f":"IFERROR(VLOOKUP(Tabla_SERIED_11_6[[#This Row],[IdEstablecimiento]],'[2]Establecimiento 2023'!$A$1:$E$183,3,FALSE),0)","v":"105455-CESFAM Valle Alto"},{"$f":"IFERROR(VLOOKUP(Tabla_SERIED_11_6[[#This Row],[IdEstablecimiento]],'[2]Establecimiento 2023'!$A$1:$E$183,5,FALSE),0)","v":"04204-Salamanca"},"15900040","2023-08-18T09:35:15",2.8,{"$nulls":3},2.8]
[7,"5",2023,"200569",{"$f":"IFERROR(VLOOKUP(Tabla_SERIED_11_6[[#This Row],[IdEstablecimiento]],'[2]Establecimiento 2023'!$A$1:$E$183,3,FALSE),0)","v":"200569-Centro de Salud Familiar Fray Jorge"},{"$f":"IFERROR(VLOOKUP(Tabla_SERIED_11_6[[#This Row],[IdEstablecimiento]],'[2]Establecimiento 2023'!$A$1:$E$183,5,FALSE),0)","v":"04301-Ovalle"},"15020200","2023-08-18T11:13:13",6,{"$nulls":5},6,0]
[8,"5",2023,"105478",{"$f":"IFERROR(VLOOKUP(Tabla_SERIED_11_6[[#This Row],[IdEstablecimiento]],'[2]Establecimiento 2023'!$A$1:$E$183,3,FALSE),0)","v":"105478-Posta de Salud Rural Caimanes"},{"$f":"IFERROR(VLOOKUP(Tabla_SERIED_11_6[[#This Row],[IdEstablecimiento]],'[2]Establecimiento 2023'!$A$1:$E$183,5,FALSE),0)","v":"04203-Los Vilos"},"15900040","2023-09-25T10:26:53",4.8,{"$nulls":3},4.8]
[8,"5",2023,"105486",{"$f":"IFERROR(VLOOKUP(Tabla_SERIED_11_6[[#This Row],[IdEstablecimiento]],'[2]Establecimiento 2023'!$A$1:$E$183,3,FALSE),0)","v":"105486-Posta de Salud Rural Tunga Sur"},{"$f":"IFERROR(VLOOKUP(Tabla_SERIED_11_6[[#This Row],[IdEstablecimiento]],'[2]Establecimiento 2023'!$A$1:$E$183,5,FALSE),0)","v":"04201-Illapel"},"15050100","2023-09-25T10:32:46",8,6,2,{"$nulls":3},1,1,4,2,0,null,0]
[8,"5",2023,"105500",{"$f":"IFERROR(VLOOKUP(Tabla_SERIED_11_6[[#This Row],[IdEstablecimiento]],'[2]Establecimiento 2023'!$A$1:$E$183,3,FALSE),0)","v":"105500-Posta de Salud Rural Caleta Hornos"},{"$f":"IFERROR(VLOOKUP(Tabla_SERIED_11_6[[#This Row],[IdEstablecimiento]],'[2]Establecimiento 2023'!$A$1:$E$183,5,FALSE),0)","v":"04104-La Higuera"},"15050100","2023-10-17T15:08:00",20,13,7,null,null,2,3,4,5,3,3]
[8,"5",2023,"105303",{"$f":"IFERROR(VLOOKUP(Tabla_SERIED_11_6[[#This Row],[IdEstablecimiento]],'[2]Establecimiento 2023'!$A$1:$E$183,3,FALSE),0)","v":"105303-Centro de Salud Familiar San Juan"},{"$f":"IFERROR(VLOOKUP(Tabla_SERIED_11_6[[#This Row],[IdEstablecimiento]],'[2]Establecimiento 2023'!$A$1:$E$183,5,FALSE),0)","v":"04102-Coquimbo"},"15900010","2023-10-17T09:58:43",203.2,2.4,60,140.8]
[8,"5",2023,"105308",{"$f":"IFERROR(VLOOKUP(Tabla_SERIED_11_6[[#This Row],[IdEstablecimiento]],'[2]Establecimiento 2023'!$A$1:$E$183,3,FALSE),0)","v":"105308-Centro de Salud Familiar Punitaqui"},{"$f":"IFERROR(VLOOKUP(Tabla_SERIED_11_6[[#This Row],[IdEstablecimiento]],'[2]Establecimiento 2023'!$A$1:$E$183,5,FALSE),0)","v":"04304-Punitaqui"},"15010200","2023-09-15T11:59:36",22,{"$nulls":5},16,6]
[8,"5",2023,"105313",{"$f":"IFERROR(VLOOKUP(Tabla_SERIED_11_6[[#This Row],[IdEstablecimiento]],'[2]Establecimiento 2023'!$A$1:$E$183,3,FALSE),0)","v":"105313-Centro de Salud Familiar Dr. Emilio Schaffhauser"},{"$f":"IFERROR(VLOOKUP(Tabla_SERIED_11_6[[#This Row],[IdEstablecimiento]],'[2]Establecimiento 2023'!$A$1:$E$183,5,FALSE),0)","v":"04101-La Serena"},"15900010","2023-09-25T09:20:26",331.2,28.8,77.6,224.8]
[7,"5",2023,"105432",{"$f":"IFERROR(VLOOKUP(Tabla_SERIED_11_6[[#This Row],[IdEstablecimiento]],'[2]Establecimiento 2023'!$A$1:$E$183,3,FALSE),0)","v":"105432-Posta de Salud Rural Rapel (Monte Patria)"},{"$f":"IFERROR(VLOOKUP(Tabla_SERIED_11_6[[#This Row],[IdEstablecimiento]],'[2]Establecimiento 2023'!$A$1:$E$183,5,FALSE),0)","v":"04303-Monte Patria"},"15080008","2023-08-18T08:26:30",5,{"$nulls":7},3,null,1,null,1]
[7,"5",2023,"105439",{"$f":"IFERROR(VLOOKUP(Tabla_SERIED_11_6[[#This Row],[IdEstablecimiento]],'[2]Establecimiento 2023'!$A$1:$E$183,3,FALSE),0)","v":"105439-Posta de Salud Rural Cerro Blanco"},{"$f":"IFERROR(VLOOKUP(Tabla_SERIED_11_6[[#This Row],[IdEstablecimiento]],'[2]Establecimiento 2023'!$A$1:$E$183,5,FALSE),0)","v":"04301-Ovalle"},"16200220","2023-08-18T08:39:33",3,3]
[7,"5",2023,"105302",{"$f":"IFERROR(VLOOKUP(Tabla_SERIED_11_6[[#This Row],[IdEstablecimiento]],'[2]Establecimiento 2023'!$A$1:$E$183,3,FALSE),0)","v":"105302-Centro de Salud Familiar Pedro Aguirre Cerda"},{"$f":"IFERROR(VLOOKUP(Tabla_SERIED_11_6[[#This Row],[IdEstablecimiento]],'[2]Establecimiento 2023'!$A$1:$E$183,5,FALSE),0)","v":"04101-La Serena"},"15080016","2023-08-18T08:00:41",2,{"$nulls":5},2]
[7,"5",2023,"105303",{"$f":"IFERROR(VLOOKUP(Tabla_SERIED_11_6[[#This Row],[IdEstablecimiento]],'[2]Establecimiento 2023'!$A$1:$E$183,3,FALSE),0)","v":"105303-Centro de Salud Familiar San Juan"},{"$f":"IFERROR(VLOOKUP(Tabla_SERIED_11_6[[#This Row],[IdEstablecimiento]],'[2]Establecimiento 2023'!$A$1:$E$183,5,FALSE),0)","v":"04102-Coquimbo"},"15080008","2023-10-17T09:58:05",163,{"$nulls":7},80,null,42,34,7]
[7,"5",2023,"105305",{"$f":"IFERROR(VLOOKUP(Tabla_SERIED_11_6[[#This Row],[IdEstablecimiento]],'[2]Establecimiento 2023'!$A$1:$E$183,3,FALSE),0)","v":"105305-Centro de Salud Familiar Tierras Blancas"},{"$f":"IFERROR(VLOOKUP(Tabla_SERIED_11_6[[#This Row],[IdEstablecimiento]],'[2]Establecimiento 2023'!$A$1:$E$183,5,FALSE),0)","v":"04102-Coquimbo"},"15080019","2023-08-18T08:02:44",12,{"$nulls":5},8,4]
[7,"5",2023,"105312",{"$f":"IFERROR(VLOOKUP(Tabla_SERIED_11_6[[#This Row],[IdEstablecimiento]],'[2]Establecimiento 2023'!$A$1:$E$183,3,FALSE),0)","v":"105312-Centro de Salud Familiar Carén"},{"$f":"IFERROR(VLOOKUP(Tabla_SERIED_11_6[[#This Row],[IdEstablecimiento]],'[2]Establecimiento 2023'!$A$1:$E$183,5,FALSE),0)","v":"04303-Monte Patria"},"15080016","2023-10-17T10:05:32",2,{"$nulls":4},2]
[8,"5",2023,"105108",{"$f":"IFERROR(VLOOKUP(Tabla_SERIED_11_6[[#This Row],[IdEstablecimiento]],'[2]Establecimiento 2023'!$A$1:$E$183,3,FALSE),0)","v":"105108-Hospital San Pedro (Los Vilos)"},{"$f":"IFERROR(VLOOKUP(Tabla_SERIED_11_6[[#This Row],[IdEstablecimiento]],'[2]Establecimiento 2023'!$A$1:$E$183,5,FALSE),0)","v":"105108-Hospital Los Vilos"},"15050500","2023-09-15T11:53:14",3,1,2,1,1,1]
[8,"5",2023,"105300",{"$f":"IFERROR(VLOOKUP(Tabla_SERIED_11_6[[#This Row],[IdEstablecimiento]],'[2]Establecimiento 2023'!$A$1:$E$183,3,FALSE),0)","v":"105300-Centro de Salud Familiar Cardenal Caro"},{"$f":"IFERROR(VLOOKUP(Tabla_SERIED_11_6[[#This Row],[IdEstablecimiento]],'[2]Establecimiento 2023'!$A$1:$E$183,5,FALSE),0)","v":"04101-La Serena"},"15060100","2023-09-15T11:54:46",45,23,22,1,null,7,7,11,14,2,2,null,1]
[8,"5",2023,"105303",{"$f":"IFERROR(VLOOKUP(Tabla_SERIED_11_6[[#This Row],[IdEstablecimiento]],'[2]Establecimiento 2023'!$A$1:$E$183,3,FALSE),0)","v":"105303-Centro de Salud Familiar San Juan"},{"$f":"IFERROR(VLOOKUP(Tabla_SERIED_11_6[[#This Row],[IdEstablecimiento]],'[2]Establecimiento 2023'!$A$1:$E$183,5,FALSE),0)","v":"04102-Coquimbo"},"15010500","2023-10-17T09:58:43",10,null,0,0,2,0,6,2]
[7,"5",2023,"105323",{"$f":"IFERROR(VLOOKUP(Tabla_SERIED_11_6[[#This Row],[IdEstablecimiento]],'[2]Establecimiento 2023'!$A$1:$E$183,3,FALSE),0)","v":"105323-Centro de Salud Familiar Dr. Sergio Aguilar Delgado"},{"$f":"IFERROR(VLOOKUP(Tabla_SERIED_11_6[[#This Row],[IdEstablecimiento]],'[2]Establecimiento 2023'!$A$1:$E$183,5,FALSE),0)","v":"04102-Coquimbo"},"16090300","2023-08-18T08:12:04",1169,1169]
[7,"5",2023,"105400",{"$f":"IFERROR(VLOOKUP(Tabla_SERIED_11_6[[#This Row],[IdEstablecimiento]],'[2]Establecimiento 2023'!$A$1:$E$183,3,FALSE),0)","v":"105400-Posta de Salud Rural Algarrobito"},{"$f":"IFERROR(VLOOKUP(Tabla_SERIED_11_6[[#This Row],[IdEstablecimiento]],'[2]Establecimiento 2023'!$A$1:$E$183,5,FALSE),0)","v":"04101-La Serena"},"15080008","2023-08-18T08:14:04",21,{"$nulls":7},14,null,4,null,3]
[7,"5",2023,"105416",{"$f":"IFERROR(VLOOKUP(Tabla_SERIED_11_6[[#This Row],[IdEstablecimiento]],'[2]Establecimiento 2023'!$A$1:$E$183,3,FALSE),0)","v":"105416-Posta de Salud Rural Camarico (Ovalle)"},{"$f":"IFERROR(VLOOKUP(Tabla_SERIED_11_6[[#This Row],[IdEstablecimiento]],'[2]Establecimiento 2023'!$A$1:$E$183,5,FALSE),0)","v":"04301-Ovalle"},"15900010","2023-08-18T08:20:07",5.6,null,null,5.6]
[7,"5",2023,"105449",{"$f":"IFERROR(VLOOKUP(Tabla_SERIED_11_6[[#This Row],[IdEstablecimiento]],'[2]Establecimiento 2023'!$A$1:$E$183,3,FALSE),0)","v":"105449-Posta de Salud Rural Tunga Norte"},{"$f":"IFERROR(VLOOKUP(Tabla_SERIED_11_6[[#This Row],[IdEstablecimiento]],'[2]Establecimiento 2023'!$A$1:$E$183,5,FALSE),0)","v":"04201-Illapel"},"16100600","2023-08-18T09:31:48",1,1,0]
[7,"5",2023,"105453",{"$f":"IFERROR(VLOOKUP(Tabla_SERIED_11_6[[#This Row],[IdEstablecimiento]],'[2]Establecimiento 2023'!$A$1:$E$183,3,FALSE),0)","v":"105453-Posta de Salud Rural Tranquilla"},{"$f":"IFERROR(VLOOKUP(Tabla_SERIED_11_6[[#This Row],[IdEstablecimiento]],'[2]Establecimiento 2023'!$A$1:$E$183,5,FALSE),0)","v":"04204-Salamanca"},"15080014","2023-08-18T09:34:00",9,{"$nulls":3},4,4,null,null,1]
[7,"5",2023,"105464",{"$f":"IFERROR(VLOOKUP(Tabla_SERIED_11_6[[#This Row],[IdEstablecimiento]],'[2]Establecimiento 2023'!$A$1:$E$183,3,FALSE),0)","v":"105464-Posta de Salud Rural La Ligua"},{"$f":"IFERROR(VLOOKUP(Tabla_SERIED_11_6[[#This Row],[IdEstablecimiento]],'[2]Establecimiento 2023'!$A$1:$E$183,5,FALSE),0)","v":"04302-Combarbalá"},"16090500","2023-08-18T09:50:00",1,1]
[7,"5",2023,"105107",{"$f":"IFERROR(VLOOKUP(Tabla_SERIED_11_6[[#This Row],[IdEstablecimiento]],'[2]Establecimiento 2023'!$A$1:$E$183,3,FALSE),0)","v":"105107-Hospital San Juan de Dios (Vicuña)"},{"$f":"IFERROR(VLOOKUP(Tabla_SERIED_11_6[[#This Row],[IdEstablecimiento]],'[2]Establecimiento 2023'!$A$1:$E$183,5,FALSE),0)","v":"105107-Hospital Vicuña"},"15900030","2023-08-18T07:57:30",16,null,4,null,12]
[8,"5",2023,"105105",{"$f":"IFERROR(VLOOKUP(Tabla_SERIED_11_6[[#This Row],[IdEstablecimiento]],'[2]Establecimiento 2023'!$A$1:$E$183,3,FALSE),0)","v":"105105-Hospital San Juan de Dios (Combarbalá)"},{"$f":"IFERROR(VLOOKUP(Tabla_SERIED_11_6[[#This Row],[IdEstablecimiento]],'[2]Establecimiento 2023'!$A$1:$E$183,5,FALSE),0)","v":"105105-Hospital Combarbalá"},"15080008","2023-09-15T11:46:04",62,{"$nulls":7},20,null,24,4,14]
[8,"5",2023,"105472",{"$f":"IFERROR(VLOOKUP(Tabla_SERIED_11_6[[#This Row],[IdEstablecimiento]],'[2]Establecimiento 2023'!$A$1:$E$183,3,FALSE),0)","v":"105472-Posta de Salud Rural Rivadavia"},{"$f":"IFERROR(VLOOKUP(Tabla_SERIED_11_6[[#This Row],[IdEstablecimiento]],'[2]Establecimiento 2023'!$A$1:$E$183,5,FALSE),0)","v":"04106-Vicuña"},"16100300","2023-09-25T10:22:56",55,28,27]
[7,"5",2023,"105310",{"$f":"IFERROR(VLOOKUP(Tabla_SERIED_11_6[[#This Row],[IdEstablecimiento]],'[2]Establecimiento 2023'!$A$1:$E$183,3,FALSE),0)","v":"105310-Centro de Salud Familiar Pichasca"},{"$f":"IFERROR(VLOOKUP(Tabla_SERIED_11_6[[#This Row],[IdEstablecimiento]],'[2]Establecimiento 2023'!$A$1:$E$183,5,FALSE),0)","v":"04305-Rio Hurtado"},"15080015","2023-08-18T08:05:44",28,{"$nulls":5},14,14]
[7,"5",2023,"105315",{"$f":"IFERROR(VLOOKUP(Tabla_SERIED_11_6[[#This Row],[IdEstablecimiento]],'[2]Establecimiento 2023'!$A$1:$E$183,3,FALSE),0)","v":"105315-Centro de Salud Familiar Cerrillos de Tamaya"},{"$f":"IFERROR(VLOOKUP(Tabla_SERIED_11_6[[#This Row],[IdEstablecimiento]],'[2]Establecimiento 2023'!$A$1:$E$183,5,FALSE),0)","v":"04301-Ovalle"},"15080014","2023-08-18T08:08:23",120,{"$nulls":3},68,52]
[7,"5",2023,"105318",{"$f":"IFERROR(VLOOKUP(Tabla_SERIED_11_6[[#This Row],[IdEstablecimiento]],'[2]Establecimiento 2023'!$A$1:$E$183,3,FALSE),0)","v":"105318-Centro de Salud Familiar El Palqui"},{"$f":"IFERROR(VLOOKUP(Tabla_SERIED_11_6[[#This Row],[IdEstablecimiento]],'[2]Establecimiento 2023'!$A$1:$E$183,5,FALSE),0)","v":"04303-Monte Patria"},"15060100","2023-08-18T08:09:26",1,1,{"$nulls":6},1]
[7,"5",2023,"105499",{"$f":"IFERROR(VLOOKUP(Tabla_SERIED_11_6[[#This Row],[IdEstablecimiento]],'[2]Establecimiento 2023'!$A$1:$E$183,3,FALSE),0)","v":"105499-Posta de Salud Rural Lambert"},{"$f":"IFERROR(VLOOKUP(Tabla_SERIED_11_6[[#This Row],[IdEstablecimiento]],'[2]Establecimiento 2023'!$A$1:$E$183,5,FALSE),0)","v":"04101-La Serena"},"15080015","2023-08-18T10:40:48",28,{"$nulls":5},14,14]
[7,"5",2023,"105500",{"$f":"IFERROR(VLOOKUP(Tabla_SERIED_11_6[[#This Row],[IdEstablecimiento]],'[2]Establecimiento 2023'!$A$1:$E$183,3,FALSE),0)","v":"105500-Posta de Salud Rural Caleta Hornos"},{"$f":"IFERROR(VLOOKUP(Tabla_SERIED_11_6[[#This Row],[IdEstablecimiento]],'[2]Establecimiento 2023'!$A$1:$E$183,5,FALSE),0)","v":"04104-La Higuera"},"16200220","2023-08-18T10:44:12",1,null,1]
[7,"5",2023,"105511",{"$f":"IFERROR(VLOOKUP(Tabla_SERIED_11_6[[#This Row],[IdEstablecimiento]],'[2]Establecimiento 2023'!$A$1:$E$183,3,FALSE),0)","v":"105511-Posta de Salud Rural Los Cóndores"},{"$f":"IFERROR(VLOOKUP(Tabla_SERIED_11_6[[#This Row],[IdEstablecimiento]],'[2]Establecimiento 2023'!$A$1:$E$183,5,FALSE),0)","v":"04203-Los Vilos"},"15080015","2023-08-18T10:48:54",48,{"$nulls":5},18,30]
[7,"5",2023,"200366",{"$f":"IFERROR(VLOOKUP(Tabla_SERIED_11_6[[#This Row],[IdEstablecimiento]],'[2]Establecimiento 2023'!$A$1:$E$183,3,FALSE),0)","v":"200366-Centro de Salud Familiar Urbano de Illapel"},{"$f":"IFERROR(VLOOKUP(Tabla_SERIED_11_6[[#This Row],[IdEstablecimiento]],'[2]Establecimiento 2023'!$A$1:$E$183,5,FALSE),0)","v":"04201-Illapel"},"15050100","2023-08-18T11:09:47",343,137,206,2,2,11,36,48,108,80,41,null,6,null,9]
[8,"5",2023,"200402",{"$f":"IFERROR(VLOOKUP(Tabla_SERIED_11_6[[#This Row],[IdEstablecimiento]],'[2]Establecimiento 2023'!$A$1:$E$183,3,FALSE),0)","v":"200402-Centro Comunitario de Salud Familiar Arcos de Pinamar"},{"$f":"IFERROR(VLOOKUP(Tabla_SERIED_11_6[[#This Row],[IdEstablecimiento]],'[2]Establecimiento 2023'!$A$1:$E$183,5,FALSE),0)","v":"04101-La Serena"},"15080008","2023-09-25T11:04:20",28,{"$nulls":7},12,null,8,4,4]
[8,"5",2023,"200607",{"$f":"IFERROR(VLOOKUP(Tabla_SERIED_11_6[[#This Row],[IdEstablecimiento]],'[2]Establecimiento 2023'!$A$1:$E$183,3,FALSE),0)","v":"200607-Centro de Salud Familiar Lila Cortés Godoy"},{"$f":"IFERROR(VLOOKUP(Tabla_SERIED_11_6[[#This Row],[IdEstablecimiento]],'[2]Establecimiento 2023'!$A$1:$E$183,5,FALSE),0)","v":"04102-Coquimbo"},"15050500","2023-09-25T11:07:27",2,1,1,null,1,1]
[8,"5",2023,"105318",{"$f":"IFERROR(VLOOKUP(Tabla_SERIED_11_6[[#This Row],[IdEstablecimiento]],'[2]Establecimiento 2023'!$A$1:$E$183,3,FALSE),0)","v":"105318-Centro de Salud Familiar El Palqui"},{"$f":"IFERROR(VLOOKUP(Tabla_SERIED_11_6[[#This Row],[IdEstablecimiento]],'[2]Establecimiento 2023'!$A$1:$E$183,5,FALSE),0)","v":"04303-Monte Patria"},"16100300","2023-09-15T12:16:26",349,155,194]
[8,"5",2023,"105321",{"$f":"IFERROR(VLOOKUP(Tabla_SERIED_11_6[[#This Row],[IdEstablecimiento]],'[2]Establecimiento 2023'!$A$1:$E$183,3,FALSE),0)","v":"105321-Centro de Salud Familiar Tongoy"},{"$f":"IFERROR(VLOOKUP(Tabla_SERIED_11_6[[#This Row],[IdEstablecimiento]],'[2]Establecimiento 2023'!$A$1:$E$183,5,FALSE),0)","v":"04102-Coquimbo"},"15900010","2023-09-15T12:17:40",87.2,8.8,20,58.4]
[8,"5",2023,"105323",{"$f":"IFERROR(VLOOKUP(Tabla_SERIED_11_6[[#This Row],[IdEstablecimiento]],'[2]Establecimiento 2023'!$A$1:$E$183,3,FALSE),0)","v":"105323-Centro de Salud Familiar Dr. Sergio Aguilar Delgado"},{"$f":"IFERROR(VLOOKUP(Tabla_SERIED_11_6[[#This Row],[IdEstablecimiento]],'[2]Establecimiento 2023'!$A$1:$E$183,5,FALSE),0)","v":"04102-Coquimbo"},"15080008","2023-09-15T12:19:22",204,{"$nulls":7},88,null,50,19,47]
[8,"5",2023,"105326",{"$f":"IFERROR(VLOOKUP(Tabla_SERIED_11_6[[#This Row],[IdEstablecimiento]],'[2]Establecimiento 2023'!$A$1:$E$183,3,FALSE),0)","v":"105326-Centro de Salud Familiar Villa San Rafael de Rozas"},{"$f":"IFERROR(VLOOKUP(Tabla_SERIED_11_6[[#This Row],[IdEstablecimiento]],'[2]Establecimiento 2023'!$A$1:$E$183,5,FALSE),0)","v":"04201-Illapel"},"15900020","2023-09-15T12:21:59",4.8,null,1.6,3.2]
[8,"5",2023,"105506",{"$f":"IFERROR(VLOOKUP(Tabla_SERIED_11_6[[#This Row],[IdEstablecimiento]],'[2]Establecimiento 2023'!$A$1:$E$183,3,FALSE),0)","v":"105506-Posta de Salud Rural El Trapiche"},{"$f":"IFERROR(VLOOKUP(Tabla_SERIED_11_6[[#This Row],[IdEstablecimiento]],'[2]Establecimiento 2023'!$A$1:$E$183,5,FALSE),0)","v":"04104-La Higuera"},"15010200","2023-10-17T15:15:27",15,{"$nulls":5},10,5]
[8,"5",2023,"105702",{"$f":"IFERROR(VLOOKUP(Tabla_SERIED_11_6[[#This Row],[IdEstablecimiento]],'[2]Establecimiento 2023'!$A$1:$E$183,3,FALSE),0)","v":"105702-Centro Comunitario de Salud Familiar Lambert"},{"$f":"IFERROR(VLOOKUP(Tabla_SERIED_11_6[[#This Row],[IdEstablecimiento]],'[2]Establecimiento 2023'!$A$1:$E$183,5,FALSE),0)","v":"04101-La Serena"},"15900040","2023-09-25T10:59:37",3.2,null,null,3.2]
[8,"5",2023,"200367",{"$f":"IFERROR(VLOOKUP(Tabla_SERIED_11_6[[#This Row],[IdEstablecimiento]],'[2]Establecimiento 2023'!$A$1:$E$183,3,FALSE),0)","v":"200367-Centro Comunitario de Salud Familiar Colonia Limarí"},{"$f":"IFERROR(VLOOKUP(Tabla_SERIED_11_6[[#This Row],[IdEstablecimiento]],'[2]Establecimiento 2023'!$A$1:$E$183,5,FALSE),0)","v":"04301-Ovalle"},"15050200","2023-09-25T11:03:02",2,{"$nulls":7},1,1]
[8,"5",2023,"200499",{"$f":"IFERROR(VLOOKUP(Tabla_SERIED_11_6[[#This Row],[IdEstablecimiento]],'[2]Establecimiento 2023'!$A$1:$E$183,3,FALSE),0)","v":"200499-Centro de Salud Familiar Rural Pan de Azúcar"},{"$f":"IFERROR(VLOOKUP(Tabla_SERIED_11_6[[#This Row],[IdEstablecimiento]],'[2]Establecimiento 2023'!$A$1:$E$183,5,FALSE),0)","v":"04102-Coquimbo"},"15050500","2023-09-25T11:05:50",1,0,1,1,0,0]
[8,"5",2023,"105487",{"$f":"IFERROR(VLOOKUP(Tabla_SERIED_11_6[[#This Row],[IdEstablecimiento]],'[2]Establecimiento 2023'!$A$1:$E$183,3,FALSE),0)","v":"105487-Posta de Salud Rural Cañas Uno"},{"$f":"IFERROR(VLOOKUP(Tabla_SERIED_11_6[[#This Row],[IdEstablecimiento]],'[2]Establecimiento 2023'!$A$1:$E$183,5,FALSE),0)","v":"04201-Illapel"},"16100300","2023-09-25T10:32:49",156,81,75]
[8,"5",2023,"105491",{"$f":"IFERROR(VLOOKUP(Tabla_SERIED_11_6[[#This Row],[IdEstablecimiento]],'[2]Establecimiento 2023'!$A$1:$E$183,3,FALSE),0)","v":"105491-Posta de Salud Rural Quelén Bajo"},{"$f":"IFERROR(VLOOKUP(Tabla_SERIED_11_6[[#This Row],[IdEstablecimiento]],'[2]Establecimiento 2023'!$A$1:$E$183,5,FALSE),0)","v":"04204-Salamanca"},"15900010","2023-09-25T10:35:19",6.4,null,null,6.4]
[8,"5",2023,"105499",{"$f":"IFERROR(VLOOKUP(Tabla_SERIED_11_6[[#This Row],[IdEstablecimiento]],'[2]Establecimiento 2023'!$A$1:$E$183,3,FALSE),0)","v":"105499-Posta de Salud Rural Lambert"},{"$f":"IFERROR(VLOOKUP(Tabla_SERIED_11_6[[#This Row],[IdEstablecimiento]],'[2]Establecimiento 2023'!$A$1:$E$183,5,FALSE),0)","v":"04101-La Serena"},"15050100","2023-09-25T10:39:37",23,9,14,null,1,5,5,3,4,1,2,{"$nulls":3},2]
[8,"5",2023,"105313",{"$f":"IFERROR(VLOOKUP(Tabla_SERIED_11_6[[#This Row],[IdEstablecimiento]],'[2]Establecimiento 2023'!$A$1:$E$183,3,FALSE),0)","v":"105313-Centro de Salud Familiar Dr. Emilio Schaffhauser"},{"$f":"IFERROR(VLOOKUP(Tabla_SERIED_11_6[[#This Row],[IdEstablecimiento]],'[2]Establecimiento 2023'!$A$1:$E$183,5,FALSE),0)","v":"04101-La Serena"},"16100300","2023-09-25T09:20:26",1099,447,652]
[8,"5",2023,"105318",{"$f":"IFERROR(VLOOKUP(Tabla_SERIED_11_6[[#This Row],[IdEstablecimiento]],'[2]Establecimiento 2023'!$A$1:$E$183,3,FALSE),0)","v":"105318-Centro de Salud Familiar El Palqui"},{"$f":"IFERROR(VLOOKUP(Tabla_SERIED_11_6[[#This Row],[IdEstablecimiento]],'[2]Establecimiento 2023'!$A$1:$E$183,5,FALSE),0)","v":"04303-Monte Patria"},"15900040","2023-09-15T12:16:26",12,null,null,8.8,null,3.2]
[8,"5",2023,"105479",{"$f":"IFERROR(VLOOKUP(Tabla_SERIED_11_6[[#This Row],[IdEstablecimiento]],'[2]Establecimiento 2023'!$A$1:$E$183,3,FALSE),0)","v":"105479-Posta de Salud Rural Guangualí"},{"$f":"IFERROR(VLOOKUP(Tabla_SERIED_11_6[[#This Row],[IdEstablecimiento]],'[2]Establecimiento 2023'!$A$1:$E$183,5,FALSE),0)","v":"04203-Los Vilos"},"15010200","2023-09-25T10:26:58",2,{"$nulls":5},2]
[8,"5",2023,"105480",{"$f":"IFERROR(VLOOKUP(Tabla_SERIED_11_6[[#This Row],[IdEstablecimiento]],'[2]Establecimiento 2023'!$A$1:$E$183,3,FALSE),0)","v":"105480-Posta de Salud Rural Quilimarí"},{"$f":"IFERROR(VLOOKUP(Tabla_SERIED_11_6[[#This Row],[IdEstablecimiento]],'[2]Establecimiento 2023'!$A$1:$E$183,5,FALSE),0)","v":"04203-Los Vilos"},"16100300","2023-09-25T10:28:06",82,34,48]
[8,"5",2023,"105400",{"$f":"IFERROR(VLOOKUP(Tabla_SERIED_11_6[[#This Row],[IdEstablecimiento]],'[2]Establecimiento 2023'!$A$1:$E$183,3,FALSE),0)","v":"105400-Posta de Salud Rural Algarrobito"},{"$f":"IFERROR(VLOOKUP(Tabla_SERIED_11_6[[#This Row],[IdEstablecimiento]],'[2]Establecimiento 2023'!$A$1:$E$183,5,FALSE),0)","v":"04101-La Serena"},"15050200","2023-09-15T12:22:06",1,1,{"$nulls":5},1]
[8,"5",2023,"105413",{"$f":"IFERROR(VLOOKUP(Tabla_SERIED_11_6[[#This Row],[IdEstablecimiento]],'[2]Establecimiento 2023'!$A$1:$E$183,3,FALSE),0)","v":"105413-Posta de Salud Rural Samo Alto"},{"$f":"IFERROR(VLOOKUP(Tabla_SERIED_11_6[[#This Row],[IdEstablecimiento]],'[2]Establecimiento 2023'!$A$1:$E$183,5,FALSE),0)","v":"04305-Rio Hurtado"},"15900010","2023-09-15T15:33:51",3.2,null,null,3.2]
[8,"5",2023,"105416",{"$f":"IFERROR(VLOOKUP(Tabla_SERIED_11_6[[#This Row],[IdEstablecimiento]],'[2]Establecimiento 2023'!$A$1:$E$183,3,FALSE),0)","v":"105416-Posta de Salud Rural Camarico (Ovalle)"},{"$f":"IFERROR(VLOOKUP(Tabla_SERIED_11_6[[#This Row],[IdEstablecimiento]],'[2]Establecimiento 2023'!$A$1:$E$183,5,FALSE),0)","v":"04301-Ovalle"},"15010500","2023-09-25T14:33:42",4,{"$nulls":5},2,2]
[8,"5",2023,"105432",{"$f":"IFERROR(VLOOKUP(Tabla_SERIED_11_6[[#This Row],[IdEstablecimiento]],'[2]Establecimiento 2023'!$A$1:$E$183,3,FALSE),0)","v":"105432-Posta de Salud Rural Rapel (Monte Patria)"},{"$f":"IFERROR(VLOOKUP(Tabla_SERIED_11_6[[#This Row],[IdEstablecimiento]],'[2]Establecimiento 2023'!$A$1:$E$183,5,FALSE),0)","v":"04303-Monte Patria"},"16200100","2023-09-25T14:04:27",1,1]
[8,"5",2023,"105107",{"$f":"IFERROR(VLOOKUP(Tabla_SERIED_11_6[[#This Row],[IdEstablecimiento]],'[2]Establecimiento 2023'!$A$1:$E$183,3,FALSE),0)","v":"105107-Hospital San Juan de Dios (Vicuña)"},{"$f":"IFERROR(VLOOKUP(Tabla_SERIED_11_6[[#This Row],[IdEstablecimiento]],'[2]Establecimiento 2023'!$A$1:$E$183,5,FALSE),0)","v":"105107-Hospital Vicuña"},"15010500","2023-09-15T11:53:17",16,null,null,2,null,2,8,4]
[8,"5",2023,"105301",{"$f":"IFERROR(VLOOKUP(Tabla_SERIED_11_6[[#This Row],[IdEstablecimiento]],'[2]Establecimiento 2023'!$A$1:$E$183,3,FALSE),0)","v":"105301-Centro de Salud Familiar Las Compañías"},{"$f":"IFERROR(VLOOKUP(Tabla_SERIED_11_6[[#This Row],[IdEstablecimiento]],'[2]Establecimiento 2023'!$A$1:$E$183,5,FALSE),0)","v":"04101-La Serena"},"15080014","2023-09-15T11:54:49",232,{"$nulls":3},134,98]
[8,"5",2023,"105304",{"$f":"IFERROR(VLOOKUP(Tabla_SERIED_11_6[[#This Row],[IdEstablecimiento]],'[2]Establecimiento 2023'!$A$1:$E$183,3,FALSE),0)","v":"105304-Centro de Salud Familiar Santa Cecilia"},{"$f":"IFERROR(VLOOKUP(Tabla_SERIED_11_6[[#This Row],[IdEstablecimiento]],'[2]Establecimiento 2023'!$A$1:$E$183,5,FALSE),0)","v":"04102-Coquimbo"},"16200220","2023-09-15T11:56:49",75,29,46]
[8,"5",2023,"105491",{"$f":"IFERROR(VLOOKUP(Tabla_SERIED_11_6[[#This Row],[IdEstablecimiento]],'[2]Establecimiento 2023'!$A$1:$E$183,3,FALSE),0)","v":"105491-Posta de Salud Rural Quelén Bajo"},{"$f":"IFERROR(VLOOKUP(Tabla_SERIED_11_6[[#This Row],[IdEstablecimiento]],'[2]Establecimiento 2023'!$A$1:$E$183,5,FALSE),0)","v":"04204-Salamanca"},"15010200","2023-09-25T10:35:19",44,{"$nulls":5},16,28]
[8,"5",2023,"105416",{"$f":"IFERROR(VLOOKUP(Tabla_SERIED_11_6[[#This Row],[IdEstablecimiento]],'[2]Establecimiento 2023'!$A$1:$E$183,3,FALSE),0)","v":"105416-Posta de Salud Rural Camarico (Ovalle)"},{"$f":"IFERROR(VLOOKUP(Tabla_SERIED_11_6[[#This Row],[IdEstablecimiento]],'[2]Establecimiento 2023'!$A$1:$E$183,5,FALSE),0)","v":"04301-Ovalle"},"16090300","2023-09-25T14:33:42",90,90]
[8,"5",2023,"105434",{"$f":"IFERROR(VLOOKUP(Tabla_SERIED_11_6[[#This Row],[IdEstablecimiento]],'[2]Establecimiento 2023'!$A$1:$E$183,3,FALSE),0)","v":"105434-Posta de Salud Rural San Marcos (Combarbalá)"},{"$f":"IFERROR(VLOOKUP(Tabla_SERIED_11_6[[#This Row],[IdEstablecimiento]],'[2]Establecimiento 2023'!$A$1:$E$183,5,FALSE),0)","v":"04302-Combarbalá"},"15080015","2023-09-25T09:39:34",16,{"$nulls":5},6,10]
[8,"5",2023,"105434",{"$f":"IFERROR(VLOOKUP(Tabla_SERIED_11_6[[#This Row],[IdEstablecimiento]],'[2]Establecimiento 2023'!$A$1:$E$183,3,FALSE),0)","v":"105434-Posta de Salud Rural San Marcos (Combarbalá)"},{"$f":"IFERROR(VLOOKUP(Tabla_SERIED_11_6[[#This Row],[IdEstablecimiento]],'[2]Establecimiento 2023'!$A$1:$E$183,5,FALSE),0)","v":"04302-Combarbalá"},"15900010","2023-09-25T09:39:34",4,null,1.6,2.4]
[8,"5",2023,"105323",{"$f":"IFERROR(VLOOKUP(Tabla_SERIED_11_6[[#This Row],[IdEstablecimiento]],'[2]Establecimiento 2023'!$A$1:$E$183,3,FALSE),0)","v":"105323-Centro de Salud Familiar Dr. Sergio Aguilar Delgado"},{"$f":"IFERROR(VLOOKUP(Tabla_SERIED_11_6[[#This Row],[IdEstablecimiento]],'[2]Establecimiento 2023'!$A$1:$E$183,5,FALSE),0)","v":"04102-Coquimbo"},"15080015","2023-09-15T12:19:22",433,{"$nulls":5},242,191]
[8,"5",2023,"105416",{"$f":"IFERROR(VLOOKUP(Tabla_SERIED_11_6[[#This Row],[IdEstablecimiento]],'[2]Establecimiento 2023'!$A$1:$E$183,3,FALSE),0)","v":"105416-Posta de Salud Rural Camarico (Ovalle)"},{"$f":"IFERROR(VLOOKUP(Tabla_SERIED_11_6[[#This Row],[IdEstablecimiento]],'[2]Establecimiento 2023'!$A$1:$E$183,5,FALSE),0)","v":"04301-Ovalle"},"15010200","2023-09-25T14:33:42",27,{"$nulls":5},14,13]
[8,"5",2023,"105422",{"$f":"IFERROR(VLOOKUP(Tabla_SERIED_11_6[[#This Row],[IdEstablecimiento]],'[2]Establecimiento 2023'!$A$1:$E$183,3,FALSE),0)","v":"105422-Posta de Salud Rural Hornillos"},{"$f":"IFERROR(VLOOKUP(Tabla_SERIED_11_6[[#This Row],[IdEstablecimiento]],'[2]Establecimiento 2023'!$A$1:$E$183,5,FALSE),0)","v":"04301-Ovalle"},"15080014","2023-09-15T15:41:29",10,{"$nulls":3},2,8]
[7,"5",2023,"105462",{"$f":"IFERROR(VLOOKUP(Tabla_SERIED_11_6[[#This Row],[IdEstablecimiento]],'[2]Establecimiento 2023'!$A$1:$E$183,3,FALSE),0)","v":"105462-Posta de Salud Rural El Sauce (Combarbalá)"},{"$f":"IFERROR(VLOOKUP(Tabla_SERIED_11_6[[#This Row],[IdEstablecimiento]],'[2]Establecimiento 2023'!$A$1:$E$183,5,FALSE),0)","v":"04302-Combarbalá"},"15080008","2023-08-18T09:48:24",3,{"$nulls":7},1,null,2]
[7,"5",2023,"105471",{"$f":"IFERROR(VLOOKUP(Tabla_SERIED_11_6[[#This Row],[IdEstablecimiento]],'[2]Establecimiento 2023'!$A$1:$E$183,3,FALSE),0)","v":"105471-Posta de Salud Rural Peralillo Vicuña"},{"$f":"IFERROR(VLOOKUP(Tabla_SERIED_11_6[[#This Row],[IdEstablecimiento]],'[2]Establecimiento 2023'!$A$1:$E$183,5,FALSE),0)","v":"04106-Vicuña"},"16090300","2023-08-18T10:04:59",77,77]
[7,"5",2023,"105475",{"$f":"IFERROR(VLOOKUP(Tabla_SERIED_11_6[[#This Row],[IdEstablecimiento]],'[2]Establecimiento 2023'!$A$1:$E$183,3,FALSE),0)","v":"105475-Posta de Salud Rural Horcón (Paiguano)"},{"$f":"IFERROR(VLOOKUP(Tabla_SERIED_11_6[[#This Row],[IdEstablecimiento]],'[2]Establecimiento 2023'!$A$1:$E$183,5,FALSE),0)","v":"04105-Paihuano"},"16200100","2023-08-18T10:07:21",1,1,0]
[8,"5",2023,"105105",{"$f":"IFERROR(VLOOKUP(Tabla_SERIED_11_6[[#This Row],[IdEstablecimiento]],'[2]Establecimiento 2023'!$A$1:$E$183,3,FALSE),0)","v":"105105-Hospital San Juan de Dios (Combarbalá)"},{"$f":"IFERROR(VLOOKUP(Tabla_SERIED_11_6[[#This Row],[IdEstablecimiento]],'[2]Establecimiento 2023'!$A$1:$E$183,5,FALSE),0)","v":"105105-Hospital Combarbalá"},"15900010","2023-09-15T11:46:04",22.4,1.6,5.6,15.2]
[8,"5",2023,"105300",{"$f":"IFERROR(VLOOKUP(Tabla_SERIED_11_6[[#This Row],[IdEstablecimiento]],'[2]Establecimiento 2023'!$A$1:$E$183,3,FALSE),0)","v":"105300-Centro de Salud Familiar Cardenal Caro"},{"$f":"IFERROR(VLOOKUP(Tabla_SERIED_11_6[[#This Row],[IdEstablecimiento]],'[2]Establecimiento 2023'!$A$1:$E$183,5,FALSE),0)","v":"04101-La Serena"},"16200210","2023-09-15T11:54:46",40,40]
[8,"5",2023,"105302",{"$f":"IFERROR(VLOOKUP(Tabla_SERIED_11_6[[#This Row],[IdEstablecimiento]],'[2]Establecimiento 2023'!$A$1:$E$183,3,FALSE),0)","v":"105302-Centro de Salud Familiar Pedro Aguirre Cerda"},{"$f":"IFERROR(VLOOKUP(Tabla_SERIED_11_6[[#This Row],[IdEstablecimiento]],'[2]Establecimiento 2023'!$A$1:$E$183,5,FALSE),0)","v":"04101-La Serena"},"15080015","2023-09-15T11:55:42",470,{"$nulls":5},228,242]
[8,"5",2023,"105309",{"$f":"IFERROR(VLOOKUP(Tabla_SERIED_11_6[[#This Row],[IdEstablecimiento]],'[2]Establecimiento 2023'!$A$1:$E$183,3,FALSE),0)","v":"105309-Centro de Salud Familiar Canela"},{"$f":"IFERROR(VLOOKUP(Tabla_SERIED_11_6[[#This Row],[IdEstablecimiento]],'[2]Establecimiento 2023'!$A$1:$E$183,5,FALSE),0)","v":"04202-Canela"},"15050100","2023-09-15T11:59:47",187,98,89,9,4,18,22,22,40,48,15,null,5,null,4]
[8,"5",2023,"105459",{"$f":"IFERROR(VLOOKUP(Tabla_SERIED_11_6[[#This Row],[IdEstablecimiento]],'[2]Establecimiento 2023'!$A$1:$E$183,3,FALSE),0)","v":"105459-Posta de Salud Rural Barrancas"},{"$f":"IFERROR(VLOOKUP(Tabla_SERIED_11_6[[#This Row],[IdEstablecimiento]],'[2]Establecimiento 2023'!$A$1:$E$183,5,FALSE),0)","v":"04302-Combarbalá"},"16100600","2023-09-25T09:55:21",4,1,3]
[8,"5",2023,"105465",{"$f":"IFERROR(VLOOKUP(Tabla_SERIED_11_6[[#This Row],[IdEstablecimiento]],'[2]Establecimiento 2023'!$A$1:$E$183,3,FALSE),0)","v":"105465-Posta de Salud Rural Ramadilla"},{"$f":"IFERROR(VLOOKUP(Tabla_SERIED_11_6[[#This Row],[IdEstablecimiento]],'[2]Establecimiento 2023'!$A$1:$E$183,5,FALSE),0)","v":"04302-Combarbalá"},"15050100","2023-09-25T10:01:06",17,6,11,{"$nulls":4},1,6,7,null,null,2,null,1]
[7,"5",2023,"105452",{"$f":"IFERROR(VLOOKUP(Tabla_SERIED_11_6[[#This Row],[IdEstablecimiento]],'[2]Establecimiento 2023'!$A$1:$E$183,3,FALSE),0)","v":"105452-Posta de Salud Rural Cuncumén(Salamanca)"},{"$f":"IFERROR(VLOOKUP(Tabla_SERIED_11_6[[#This Row],[IdEstablecimiento]],'[2]Establecimiento 2023'!$A$1:$E$183,5,FALSE),0)","v":"04204-Salamanca"},"15900010","2023-08-18T09:33:17",3.2,null,null,3.2]
[7,"5",2023,"105462",{"$f":"IFERROR(VLOOKUP(Tabla_SERIED_11_6[[#This Row],[IdEstablecimiento]],'[2]Establecimiento 2023'!$A$1:$E$183,3,FALSE),0)","v":"105462-Posta de Salud Rural El Sauce (Combarbalá)"},{"$f":"IFERROR(VLOOKUP(Tabla_SERIED_11_6[[#This Row],[IdEstablecimiento]],'[2]Establecimiento 2023'!$A$1:$E$183,5,FALSE),0)","v":"04302-Combarbalá"},"15900010","2023-08-18T09:48:24",1.6,null,null,1.6]
[7,"5",2023,"105472",{"$f":"IFERROR(VLOOKUP(Tabla_SERIED_11_6[[#This Row],[IdEstablecimiento]],'[2]Establecimiento 2023'!$A$1:$E$183,3,FALSE),0)","v":"105472-Posta de Salud Rural Rivadavia"},{"$f":"IFERROR(VLOOKUP(Tabla_SERIED_11_6[[#This Row],[IdEstablecimiento]],'[2]Establecimiento 2023'!$A$1:$E$183,5,FALSE),0)","v":"04106-Vicuña"},"16100300","2023-08-18T10:05:34",45,23,22]
[7,"5",2023,"105477",{"$f":"IFERROR(VLOOKUP(Tabla_SERIED_11_6[[#This Row],[IdEstablecimiento]],'[2]Establecimiento 2023'!$A$1:$E$183,3,FALSE),0)","v":"105477-Posta de Salud Rural Pisco Elqui"},{"$f":"IFERROR(VLOOKUP(Tabla_SERIED_11_6[[#This Row],[IdEstablecimiento]],'[2]Establecimiento 2023'!$A$1:$E$183,5,FALSE),0)","v":"04105-Paihuano"},"16200220","2023-08-18T10:08:53",1,0,1]
[7,"5",2023,"105441",{"$f":"IFERROR(VLOOKUP(Tabla_SERIED_11_6[[#This Row],[IdEstablecimiento]],'[2]Establecimiento 2023'!$A$1:$E$183,3,FALSE),0)","v":"105441-Posta de Salud Rural Manquehua"},{"$f":"IFERROR(VLOOKUP(Tabla_SERIED_11_6[[#This Row],[IdEstablecimiento]],'[2]Establecimiento 2023'!$A$1:$E$183,5,FALSE),0)","v":"04302-Combarbalá"},"16090300","2023-08-18T08:43:36",103,103]
[7,"5",2023,"105445",{"$f":"IFERROR(VLOOKUP(Tabla_SERIED_11_6[[#This Row],[IdEstablecimiento]],'[2]Establecimiento 2023'!$A$1:$E$183,3,FALSE),0)","v":"105445-Posta de Salud Rural Limáhuida"},{"$f":"IFERROR(VLOOKUP(Tabla_SERIED_11_6[[#This Row],[IdEstablecimiento]],'[2]Establecimiento 2023'!$A$1:$E$183,5,FALSE),0)","v":"04201-Illapel"},"15010200","2023-08-18T09:29:05",19,{"$nulls":4},0,12,7]
[7,"5",2023,"105486",{"$f":"IFERROR(VLOOKUP(Tabla_SERIED_11_6[[#This Row],[IdEstablecimiento]],'[2]Establecimiento 2023'!$A$1:$E$183,3,FALSE),0)","v":"105486-Posta de Salud Rural Tunga Sur"},{"$f":"IFERROR(VLOOKUP(Tabla_SERIED_11_6[[#This Row],[IdEstablecimiento]],'[2]Establecimiento 2023'!$A$1:$E$183,5,FALSE),0)","v":"04201-Illapel"},"15080014","2023-08-18T10:25:44",4,{"$nulls":3},2,2]
[8,"5",2023,"105314",{"$f":"IFERROR(VLOOKUP(Tabla_SERIED_11_6[[#This Row],[IdEstablecimiento]],'[2]Establecimiento 2023'!$A$1:$E$183,3,FALSE),0)","v":"105314-Centro de Salud Familiar La Higuera"},{"$f":"IFERROR(VLOOKUP(Tabla_SERIED_11_6[[#This Row],[IdEstablecimiento]],'[2]Establecimiento 2023'!$A$1:$E$183,5,FALSE),0)","v":"04104-La Higuera"},"15080016","2023-10-17T10:17:15",2,{"$nulls":3},2]
[8,"5",2023,"105319",{"$f":"IFERROR(VLOOKUP(Tabla_SERIED_11_6[[#This Row],[IdEstablecimiento]],'[2]Establecimiento 2023'!$A$1:$E$183,3,FALSE),0)","v":"105319-Centro de Salud Familiar Cardenal Raúl Silva Henríquez de La Serena"},{"$f":"IFERROR(VLOOKUP(Tabla_SERIED_11_6[[#This Row],[IdEstablecimiento]],'[2]Establecimiento 2023'!$A$1:$E$183,5,FALSE),0)","v":"04101-La Serena"},"15900010","2023-09-15T12:17:37",268,16,75.2,176.8]
[8,"5",2023,"105326",{"$f":"IFERROR(VLOOKUP(Tabla_SERIED_11_6[[#This Row],[IdEstablecimiento]],'[2]Establecimiento 2023'!$A$1:$E$183,3,FALSE),0)","v":"105326-Centro de Salud Familiar Villa San Rafael de Rozas"},{"$f":"IFERROR(VLOOKUP(Tabla_SERIED_11_6[[#This Row],[IdEstablecimiento]],'[2]Establecimiento 2023'!$A$1:$E$183,5,FALSE),0)","v":"04201-Illapel"},"15080016","2023-09-15T12:21:59",4,{"$nulls":5},2,2]
[7,"5",2023,"105428",{"$f":"IFERROR(VLOOKUP(Tabla_SERIED_11_6[[#This Row],[IdEstablecimiento]],'[2]Establecimiento 2023'!$A$1:$E$183,3,FALSE),0)","v":"105428-Posta de Salud Rural Huatulame"},{"$f":"IFERROR(VLOOKUP(Tabla_SERIED_11_6[[#This Row],[IdEstablecimiento]],'[2]Establecimiento 2023'!$A$1:$E$183,5,FALSE),0)","v":"04303-Monte Patria"},"15080014","2023-10-17T11:27:58",6,{"$nulls":3},2,4]
[7,"5",2023,"105434",{"$f":"IFERROR(VLOOKUP(Tabla_SERIED_11_6[[#This Row],[IdEstablecimiento]],'[2]Establecimiento 2023'!$A$1:$E$183,3,FALSE),0)","v":"105434-Posta de Salud Rural San Marcos (Combarbalá)"},{"$f":"IFERROR(VLOOKUP(Tabla_SERIED_11_6[[#This Row],[IdEstablecimiento]],'[2]Establecimiento 2023'!$A$1:$E$183,5,FALSE),0)","v":"04302-Combarbalá"},"15080008","2023-08-18T08:28:04",3,{"$nulls":9},2,1]
[7,"5",2023,"105437",{"$f":"IFERROR(VLOOKUP(Tabla_SERIED_11_6[[#This Row],[IdEstablecimiento]],'[2]Establecimiento 2023'!$A$1:$E$183,3,FALSE),0)","v":"105437-Posta de Salud Rural Chalinga"},{"$f":"IFERROR(VLOOKUP(Tabla_SERIED_11_6[[#This Row],[IdEstablecimiento]],'[2]Establecimiento 2023'!$A$1:$E$183,5,FALSE),0)","v":"04301-Ovalle"},"15050500","2023-08-18T08:38:29",2,null,2,null,2]
[7,"5",2023,"105322",{"$f":"IFERROR(VLOOKUP(Tabla_SERIED_11_6[[#This Row],[IdEstablecimiento]],'[2]Establecimiento 2023'!$A$1:$E$183,3,FALSE),0)","v":"105322-Centro de Salud Familiar Marcos Macuada"},{"$f":"IFERROR(VLOOKUP(Tabla_SERIED_11_6[[#This Row],[IdEstablecimiento]],'[2]Establecimiento 2023'!$A$1:$E$183,5,FALSE),0)","v":"04301-Ovalle"},"16090100","2023-08-18T08:11:28",42,42]
[7,"5",2023,"105402",{"$f":"IFERROR(VLOOKUP(Tabla_SERIED_11_6[[#This Row],[IdEstablecimiento]],'[2]Establecimiento 2023'!$A$1:$E$183,3,FALSE),0)","v":"105402-Posta de Salud Rural El Romero"},{"$f":"IFERROR(VLOOKUP(Tabla_SERIED_11_6[[#This Row],[IdEstablecimiento]],'[2]Establecimiento 2023'!$A$1:$E$183,5,FALSE),0)","v":"04101-La Serena"},"15900010","2023-10-17T11:09:21",8.8,null,1.6,7.2]
[7,"5",2023,"105415",{"$f":"IFERROR(VLOOKUP(Tabla_SERIED_11_6[[#This Row],[IdEstablecimiento]],'[2]Establecimiento 2023'!$A$1:$E$183,3,FALSE),0)","v":"105415-Posta de Salud Rural Barraza"},{"$f":"IFERROR(VLOOKUP(Tabla_SERIED_11_6[[#This Row],[IdEstablecimiento]],'[2]Establecimiento 2023'!$A$1:$E$183,5,FALSE),0)","v":"04301-Ovalle"},"16200210","2023-08-18T08:19:26",2,2]
[7,"5",2023,"105105",{"$f":"IFERROR(VLOOKUP(Tabla_SERIED_11_6[[#This Row],[IdEstablecimiento]],'[2]Establecimiento 2023'!$A$1:$E$183,3,FALSE),0)","v":"105105-Hospital San Juan de Dios (Combarbalá)"},{"$f":"IFERROR(VLOOKUP(Tabla_SERIED_11_6[[#This Row],[IdEstablecimiento]],'[2]Establecimiento 2023'!$A$1:$E$183,5,FALSE),0)","v":"105105-Hospital Combarbalá"},"16100300","2023-08-18T07:55:46",388,143,245]
[7,"5",2023,"105301",{"$f":"IFERROR(VLOOKUP(Tabla_SERIED_11_6[[#This Row],[IdEstablecimiento]],'[2]Establecimiento 2023'!$A$1:$E$183,3,FALSE),0)","v":"105301-Centro de Salud Familiar Las Compañías"},{"$f":"IFERROR(VLOOKUP(Tabla_SERIED_11_6[[#This Row],[IdEstablecimiento]],'[2]Establecimiento 2023'!$A$1:$E$183,5,FALSE),0)","v":"04101-La Serena"},"16090300","2023-08-18T08:00:07",680,680]
[7,"5",2023,"105425",{"$f":"IFERROR(VLOOKUP(Tabla_SERIED_11_6[[#This Row],[IdEstablecimiento]],'[2]Establecimiento 2023'!$A$1:$E$183,3,FALSE),0)","v":"105425-Posta de Salud Rural Chilecito"},{"$f":"IFERROR(VLOOKUP(Tabla_SERIED_11_6[[#This Row],[IdEstablecimiento]],'[2]Establecimiento 2023'!$A$1:$E$183,5,FALSE),0)","v":"04303-Monte Patria"},"15080014","2023-10-17T11:25:50",2,{"$nulls":3},2]
[7,"5",2023,"105430",{"$f":"IFERROR(VLOOKUP(Tabla_SERIED_11_6[[#This Row],[IdEstablecimiento]],'[2]Establecimiento 2023'!$A$1:$E$183,3,FALSE),0)","v":"105430-Posta de Salud Rural Mialqui"},{"$f":"IFERROR(VLOOKUP(Tabla_SERIED_11_6[[#This Row],[IdEstablecimiento]],'[2]Establecimiento 2023'!$A$1:$E$183,5,FALSE),0)","v":"04303-Monte Patria"},"15080016","2023-08-18T08:25:26",2,{"$nulls":4},2]
[7,"5",2023,"105441",{"$f":"IFERROR(VLOOKUP(Tabla_SERIED_11_6[[#This Row],[IdEstablecimiento]],'[2]Establecimiento 2023'!$A$1:$E$183,3,FALSE),0)","v":"105441-Posta de Salud Rural Manquehua"},{"$f":"IFERROR(VLOOKUP(Tabla_SERIED_11_6[[#This Row],[IdEstablecimiento]],'[2]Establecimiento 2023'!$A$1:$E$183,5,FALSE),0)","v":"04302-Combarbalá"},"16200210","2023-08-18T08:43:36",12,12]
[7,"5",2023,"105454",{"$f":"IFERROR(VLOOKUP(Tabla_SERIED_11_6[[#This Row],[IdEstablecimiento]],'[2]Establecimiento 2023'!$A$1:$E$183,3,FALSE),0)","v":"105454-Posta de Salud Rural Cunlagua"},{"$f":"IFERROR(VLOOKUP(Tabla_SERIED_11_6[[#This Row],[IdEstablecimiento]],'[2]Establecimiento 2023'!$A$1:$E$183,5,FALSE),0)","v":"04204-Salamanca"},"16090300","2023-08-18T09:34:34",47,47]
[7,"5",2023,"105312",{"$f":"IFERROR(VLOOKUP(Tabla_SERIED_11_6[[#This Row],[IdEstablecimiento]],'[2]Establecimiento 2023'!$A$1:$E$183,3,FALSE),0)","v":"105312-Centro de Salud Familiar Carén"},{"$f":"IFERROR(VLOOKUP(Tabla_SERIED_11_6[[#This Row],[IdEstablecimiento]],'[2]Establecimiento 2023'!$A$1:$E$183,5,FALSE),0)","v":"04303-Monte Patria"},"15900010","2023-10-17T10:05:32",11.2,0.8,3.2,7.2]
[8,"5",2023,"105425",{"$f":"IFERROR(VLOOKUP(Tabla_SERIED_11_6[[#This Row],[IdEstablecimiento]],'[2]Establecimiento 2023'!$A$1:$E$183,3,FALSE),0)","v":"105425-Posta de Salud Rural Chilecito"},{"$f":"IFERROR(VLOOKUP(Tabla_SERIED_11_6[[#This Row],[IdEstablecimiento]],'[2]Establecimiento 2023'!$A$1:$E$183,5,FALSE),0)","v":"04303-Monte Patria"},"16090300","2023-09-25T14:04:24",61,61]
[8,"5",2023,"105434",{"$f":"IFERROR(VLOOKUP(Tabla_SERIED_11_6[[#This Row],[IdEstablecimiento]],'[2]Establecimiento 2023'!$A$1:$E$183,3,FALSE),0)","v":"105434-Posta de Salud Rural San Marcos (Combarbalá)"},{"$f":"IFERROR(VLOOKUP(Tabla_SERIED_11_6[[#This Row],[IdEstablecimiento]],'[2]Establecimiento 2023'!$A$1:$E$183,5,FALSE),0)","v":"04302-Combarbalá"},"15010500","2023-09-25T09:39:34",2,{"$nulls":3},2]
[8,"5",2023,"105449",{"$f":"IFERROR(VLOOKUP(Tabla_SERIED_11_6[[#This Row],[IdEstablecimiento]],'[2]Establecimiento 2023'!$A$1:$E$183,3,FALSE),0)","v":"105449-Posta de Salud Rural Tunga Norte"},{"$f":"IFERROR(VLOOKUP(Tabla_SERIED_11_6[[#This Row],[IdEstablecimiento]],'[2]Establecimiento 2023'!$A$1:$E$183,5,FALSE),0)","v":"04201-Illapel"},"15010200","2023-09-25T09:48:28",4,{"$nulls":6},4]
[7,"5",2023,"105450",{"$f":"IFERROR(VLOOKUP(Tabla_SERIED_11_6[[#This Row],[IdEstablecimiento]],'[2]Establecimiento 2023'!$A$1:$E$183,3,FALSE),0)","v":"105450-Posta de Salud Rural Mincha Norte"},{"$f":"IFERROR(VLOOKUP(Tabla_SERIED_11_6[[#This Row],[IdEstablecimiento]],'[2]Establecimiento 2023'!$A$1:$E$183,5,FALSE),0)","v":"04202-Canela"},"15010200","2023-08-18T09:32:13",18,{"$nulls":5},4,14]
[7,"5",2023,"105454",{"$f":"IFERROR(VLOOKUP(Tabla_SERIED_11_6[[#This Row],[IdEstablecimiento]],'[2]Establecimiento 2023'!$A$1:$E$183,3,FALSE),0)","v":"105454-Posta de Salud Rural Cunlagua"},{"$f":"IFERROR(VLOOKUP(Tabla_SERIED_11_6[[#This Row],[IdEstablecimiento]],'[2]Establecimiento 2023'!$A$1:$E$183,5,FALSE),0)","v":"04204-Salamanca"},"15080014","2023-08-18T09:34:34",2,{"$nulls":4},2]
[7,"5",2023,"105460",{"$f":"IFERROR(VLOOKUP(Tabla_SERIED_11_6[[#This Row],[IdEstablecimiento]],'[2]Establecimiento 2023'!$A$1:$E$183,3,FALSE),0)","v":"105460-Centro Comunitario de Salud Familiar Cogotí 18"},{"$f":"IFERROR(VLOOKUP(Tabla_SERIED_11_6[[#This Row],[IdEstablecimiento]],'[2]Establecimiento 2023'!$A$1:$E$183,5,FALSE),0)","v":"04302-Combarbalá"},"15080016","2023-08-18T09:47:10",2,{"$nulls":6},2]
[7,"5",2023,"105472",{"$f":"IFERROR(VLOOKUP(Tabla_SERIED_11_6[[#This Row],[IdEstablecimiento]],'[2]Establecimiento 2023'!$A$1:$E$183,3,FALSE),0)","v":"105472-Posta de Salud Rural Rivadavia"},{"$f":"IFERROR(VLOOKUP(Tabla_SERIED_11_6[[#This Row],[IdEstablecimiento]],'[2]Establecimiento 2023'!$A$1:$E$183,5,FALSE),0)","v":"04106-Vicuña"},"15010400","2023-08-18T10:05:34",2,{"$nulls":5},2]
[8,"5",2023,"105444",{"$f":"IFERROR(VLOOKUP(Tabla_SERIED_11_6[[#This Row],[IdEstablecimiento]],'[2]Establecimiento 2023'!$A$1:$E$183,3,FALSE),0)","v":"105444-Posta de Salud Rural Huintil"},{"$f":"IFERROR(VLOOKUP(Tabla_SERIED_11_6[[#This Row],[IdEstablecimiento]],'[2]Establecimiento 2023'!$A$1:$E$183,5,FALSE),0)","v":"04201-Illapel"},"16090300","2023-09-25T09:45:17",62,62]
[8,"5",2023,"105108",{"$f":"IFERROR(VLOOKUP(Tabla_SERIED_11_6[[#This Row],[IdEstablecimiento]],'[2]Establecimiento 2023'!$A$1:$E$183,3,FALSE),0)","v":"105108-Hospital San Pedro (Los Vilos)"},{"$f":"IFERROR(VLOOKUP(Tabla_SERIED_11_6[[#This Row],[IdEstablecimiento]],'[2]Establecimiento 2023'!$A$1:$E$183,5,FALSE),0)","v":"105108-Hospital Los Vilos"},"15900030","2023-09-15T11:53:14",22,null,4,12,4,2]
[8,"5",2023,"105455",{"$f":"IFERROR(VLOOKUP(Tabla_SERIED_11_6[[#This Row],[IdEstablecimiento]],'[2]Establecimiento 2023'!$A$1:$E$183,3,FALSE),0)","v":"105455-CESFAM Valle Alto"},{"$f":"IFERROR(VLOOKUP(Tabla_SERIED_11_6[[#This Row],[IdEstablecimiento]],'[2]Establecimiento 2023'!$A$1:$E$183,5,FALSE),0)","v":"04204-Salamanca"},"15080015","2023-09-25T09:52:24",27,{"$nulls":5},18,9]
[8,"5",2023,"105467",{"$f":"IFERROR(VLOOKUP(Tabla_SERIED_11_6[[#This Row],[IdEstablecimiento]],'[2]Establecimiento 2023'!$A$1:$E$183,3,FALSE),0)","v":"105467-Posta de Salud Rural Diaguitas"},{"$f":"IFERROR(VLOOKUP(Tabla_SERIED_11_6[[#This Row],[IdEstablecimiento]],'[2]Establecimiento 2023'!$A$1:$E$183,5,FALSE),0)","v":"04106-Vicuña"},"15900040","2023-09-25T10:04:25",4.8,null,null,4.8]
[8,"5",2023,"105477",{"$f":"IFERROR(VLOOKUP(Tabla_SERIED_11_6[[#This Row],[IdEstablecimiento]],'[2]Establecimiento 2023'!$A$1:$E$183,3,FALSE),0)","v":"105477-Posta de Salud Rural Pisco Elqui"},{"$f":"IFERROR(VLOOKUP(Tabla_SERIED_11_6[[#This Row],[IdEstablecimiento]],'[2]Establecimiento 2023'!$A$1:$E$183,5,FALSE),0)","v":"04105-Paihuano"},"16200220","2023-09-25T10:25:45",2,2]
[8,"5",2023,"105479",{"$f":"IFERROR(VLOOKUP(Tabla_SERIED_11_6[[#This Row],[IdEstablecimiento]],'[2]Establecimiento 2023'!$A$1:$E$183,3,FALSE),0)","v":"105479-Posta de Salud Rural Guangualí"},{"$f":"IFERROR(VLOOKUP(Tabla_SERIED_11_6[[#This Row],[IdEstablecimiento]],'[2]Establecimiento 2023'!$A$1:$E$183,5,FALSE),0)","v":"04203-Los Vilos"},"16200210","2023-09-25T10:26:58",3,3]
[7,"5",2023,"200258",{"$f":"IFERROR(VLOOKUP(Tabla_SERIED_11_6[[#This Row],[IdEstablecimiento]],'[2]Establecimiento 2023'!$A$1:$E$183,3,FALSE),0)","v":"200258-Centro Comunitario de Salud Familiar Los Copihues"},{"$f":"IFERROR(VLOOKUP(Tabla_SERIED_11_6[[#This Row],[IdEstablecimiento]],'[2]Establecimiento 2023'!$A$1:$E$183,5,FALSE),0)","v":"04301-Ovalle"},"15010200","2023-08-18T11:08:51",6,{"$nulls":5},2,4]
[7,"5",2023,"200494",{"$f":"IFERROR(VLOOKUP(Tabla_SERIED_11_6[[#This Row],[IdEstablecimiento]],'[2]Establecimiento 2023'!$A$1:$E$183,3,FALSE),0)","v":"200494-Centro de Salud Familiar El Sauce"},{"$f":"IFERROR(VLOOKUP(Tabla_SERIED_11_6[[#This Row],[IdEstablecimiento]],'[2]Establecimiento 2023'!$A$1:$E$183,5,FALSE),0)","v":"04102-Coquimbo"},"15030100","2023-08-18T11:11:57",4,null,null,4]
[7,"5",2023,"105459",{"$f":"IFERROR(VLOOKUP(Tabla_SERIED_11_6[[#This Row],[IdEstablecimiento]],'[2]Establecimiento 2023'!$A$1:$E$183,3,FALSE),0)","v":"105459-Posta de Salud Rural Barrancas"},{"$f":"IFERROR(VLOOKUP(Tabla_SERIED_11_6[[#This Row],[IdEstablecimiento]],'[2]Establecimiento 2023'!$A$1:$E$183,5,FALSE),0)","v":"04302-Combarbalá"},"15050100","2023-08-18T09:44:36",13,7,6,{"$nulls":3},1,4,2,4,2]
[7,"5",2023,"105464",{"$f":"IFERROR(VLOOKUP(Tabla_SERIED_11_6[[#This Row],[IdEstablecimiento]],'[2]Establecimiento 2023'!$A$1:$E$183,3,FALSE),0)","v":"105464-Posta de Salud Rural La Ligua"},{"$f":"IFERROR(VLOOKUP(Tabla_SERIED_11_6[[#This Row],[IdEstablecimiento]],'[2]Establecimiento 2023'!$A$1:$E$183,5,FALSE),0)","v":"04302-Combarbalá"},"16200210","2023-08-18T09:50:00",4,4]
[7,"5",2023,"105470",{"$f":"IFERROR(VLOOKUP(Tabla_SERIED_11_6[[#This Row],[IdEstablecimiento]],'[2]Establecimiento 2023'!$A$1:$E$183,3,FALSE),0)","v":"105470-Posta de Salud Rural Huanta"},{"$f":"IFERROR(VLOOKUP(Tabla_SERIED_11_6[[#This Row],[IdEstablecimiento]],'[2]Establecimiento 2023'!$A$1:$E$183,5,FALSE),0)","v":"04106-Vicuña"},"16090300","2023-08-18T10:04:33",9,9]
[7,"5",2023,"105487",{"$f":"IFERROR(VLOOKUP(Tabla_SERIED_11_6[[#This Row],[IdEstablecimiento]],'[2]Establecimiento 2023'!$A$1:$E$183,3,FALSE),0)","v":"105487-Posta de Salud Rural Cañas Uno"},{"$f":"IFERROR(VLOOKUP(Tabla_SERIED_11_6[[#This Row],[IdEstablecimiento]],'[2]Establecimiento 2023'!$A$1:$E$183,5,FALSE),0)","v":"04201-Illapel"},"15050100","2023-08-18T10:26:17",50,18,32,{"$nulls":3},9,6,11,15,4,null,3,null,2]
[8,"5",2023,"105702",{"$f":"IFERROR(VLOOKUP(Tabla_SERIED_11_6[[#This Row],[IdEstablecimiento]],'[2]Establecimiento 2023'!$A$1:$E$183,3,FALSE),0)","v":"105702-Centro Comunitario de Salud Familiar Lambert"},{"$f":"IFERROR(VLOOKUP(Tabla_SERIED_11_6[[#This Row],[IdEstablecimiento]],'[2]Establecimiento 2023'!$A$1:$E$183,5,FALSE),0)","v":"04101-La Serena"},"16090300","2023-09-25T10:59:37",58,58]
[8,"5",2023,"105723",{"$f":"IFERROR(VLOOKUP(Tabla_SERIED_11_6[[#This Row],[IdEstablecimiento]],'[2]Establecimiento 2023'!$A$1:$E$183,3,FALSE),0)","v":"105723-Centro Comunitario de Salud Familiar Limarí"},{"$f":"IFERROR(VLOOKUP(Tabla_SERIED_11_6[[#This Row],[IdEstablecimiento]],'[2]Establecimiento 2023'!$A$1:$E$183,5,FALSE),0)","v":"04301-Ovalle"},"16100300","2023-09-25T10:59:40",281,98,183]
[8,"5",2023,"105443",{"$f":"IFERROR(VLOOKUP(Tabla_SERIED_11_6[[#This Row],[IdEstablecimiento]],'[2]Establecimiento 2023'!$A$1:$E$183,3,FALSE),0)","v":"105443-Posta de Salud Rural Cárcamo"},{"$f":"IFERROR(VLOOKUP(Tabla_SERIED_11_6[[#This Row],[IdEstablecimiento]],'[2]Establecimiento 2023'!$A$1:$E$183,5,FALSE),0)","v":"04201-Illapel"},"15050100","2023-09-25T09:44:09",17,8,9,null,2,2,2,1,5,3,2]
[8,"5",2023,"105447",{"$f":"IFERROR(VLOOKUP(Tabla_SERIED_11_6[[#This Row],[IdEstablecimiento]],'[2]Establecimiento 2023'!$A$1:$E$183,3,FALSE),0)","v":"105447-Posta de Salud Rural Peralillo Illapel"},{"$f":"IFERROR(VLOOKUP(Tabla_SERIED_11_6[[#This Row],[IdEstablecimiento]],'[2]Establecimiento 2023'!$A$1:$E$183,5,FALSE),0)","v":"04201-Illapel"},"15080015","2023-09-25T09:47:15",28,{"$nulls":5},12,16]
[8,"5",2023,"105451",{"$f":"IFERROR(VLOOKUP(Tabla_SERIED_11_6[[#This Row],[IdEstablecimiento]],'[2]Establecimiento 2023'!$A$1:$E$183,3,FALSE),0)","v":"105451-Posta de Salud Rural Agua Fría"},{"$f":"IFERROR(VLOOKUP(Tabla_SERIED_11_6[[#This Row],[IdEstablecimiento]],'[2]Establecimiento 2023'!$A$1:$E$183,5,FALSE),0)","v":"04202-Canela"},"16200220","2023-09-25T09:49:48",4,1,3]
[8,"5",2023,"105460",{"$f":"IFERROR(VLOOKUP(Tabla_SERIED_11_6[[#This Row],[IdEstablecimiento]],'[2]Establecimiento 2023'!$A$1:$E$183,3,FALSE),0)","v":"105460-Centro Comunitario de Salud Familiar Cogotí 18"},{"$f":"IFERROR(VLOOKUP(Tabla_SERIED_11_6[[#This Row],[IdEstablecimiento]],'[2]Establecimiento 2023'!$A$1:$E$183,5,FALSE),0)","v":"04302-Combarbalá"},"16100300","2023-09-25T09:58:22",137,48,89]
[8,"5",2023,"105307",{"$f":"IFERROR(VLOOKUP(Tabla_SERIED_11_6[[#This Row],[IdEstablecimiento]],'[2]Establecimiento 2023'!$A$1:$E$183,3,FALSE),0)","v":"105307-Centro de Salud Familiar Monte Patria"},{"$f":"IFERROR(VLOOKUP(Tabla_SERIED_11_6[[#This Row],[IdEstablecimiento]],'[2]Establecimiento 2023'!$A$1:$E$183,5,FALSE),0)","v":"04303-Monte Patria"},"16090300","2023-09-15T11:58:27",313,313]
[8,"5",2023,"105313",{"$f":"IFERROR(VLOOKUP(Tabla_SERIED_11_6[[#This Row],[IdEstablecimiento]],'[2]Establecimiento 2023'!$A$1:$E$183,3,FALSE),0)","v":"105313-Centro de Salud Familiar Dr. Emilio Schaffhauser"},{"$f":"IFERROR(VLOOKUP(Tabla_SERIED_11_6[[#This Row],[IdEstablecimiento]],'[2]Establecimiento 2023'!$A$1:$E$183,5,FALSE),0)","v":"04101-La Serena"},"15900030","2023-09-25T09:20:26",29.6,null,4.8,11.2,10.4,3.2]
[8,"5",2023,"105322",{"$f":"IFERROR(VLOOKUP(Tabla_SERIED_11_6[[#This Row],[IdEstablecimiento]],'[2]Establecimiento 2023'!$A$1:$E$183,3,FALSE),0)","v":"105322-Centro de Salud Familiar Marcos Macuada"},{"$f":"IFERROR(VLOOKUP(Tabla_SERIED_11_6[[#This Row],[IdEstablecimiento]],'[2]Establecimiento 2023'!$A$1:$E$183,5,FALSE),0)","v":"04301-Ovalle"},"15030100","2023-09-15T12:19:18",12,4,4,4]
[8,"5",2023,"105322",{"$f":"IFERROR(VLOOKUP(Tabla_SERIED_11_6[[#This Row],[IdEstablecimiento]],'[2]Establecimiento 2023'!$A$1:$E$183,3,FALSE),0)","v":"105322-Centro de Salud Familiar Marcos Macuada"},{"$f":"IFERROR(VLOOKUP(Tabla_SERIED_11_6[[#This Row],[IdEstablecimiento]],'[2]Establecimiento 2023'!$A$1:$E$183,5,FALSE),0)","v":"04301-Ovalle"},"15080014","2023-09-15T12:19:18",218,{"$nulls":3},108,110]
[8,"5",2023,"105456",{"$f":"IFERROR(VLOOKUP(Tabla_SERIED_11_6[[#This Row],[IdEstablecimiento]],'[2]Establecimiento 2023'!$A$1:$E$183,3,FALSE),0)","v":"105456-Posta de Salud Rural Llimpo"},{"$f":"IFERROR(VLOOKUP(Tabla_SERIED_11_6[[#This Row],[IdEstablecimiento]],'[2]Establecimiento 2023'!$A$1:$E$183,5,FALSE),0)","v":"04204-Salamanca"},"16100300","2023-09-25T09:53:44",37,18,19]
[8,"5",2023,"105462",{"$f":"IFERROR(VLOOKUP(Tabla_SERIED_11_6[[#This Row],[IdEstablecimiento]],'[2]Establecimiento 2023'!$A$1:$E$183,3,FALSE),0)","v":"105462-Posta de Salud Rural El Sauce (Combarbalá)"},{"$f":"IFERROR(VLOOKUP(Tabla_SERIED_11_6[[#This Row],[IdEstablecimiento]],'[2]Establecimiento 2023'!$A$1:$E$183,5,FALSE),0)","v":"04302-Combarbalá"},"16100300","2023-09-25T09:59:43",68,33,35]
[8,"5",2023,"105308",{"$f":"IFERROR(VLOOKUP(Tabla_SERIED_11_6[[#This Row],[IdEstablecimiento]],'[2]Establecimiento 2023'!$A$1:$E$183,3,FALSE),0)","v":"105308-Centro de Salud Familiar Punitaqui"},{"$f":"IFERROR(VLOOKUP(Tabla_SERIED_11_6[[#This Row],[IdEstablecimiento]],'[2]Establecimiento 2023'!$A$1:$E$183,5,FALSE),0)","v":"04304-Punitaqui"},"15900050","2023-09-15T11:59:36",2,1,1,{"$nulls":3},1,1]
[8,"5",2023,"105492",{"$f":"IFERROR(VLOOKUP(Tabla_SERIED_11_6[[#This Row],[IdEstablecimiento]],'[2]Establecimiento 2023'!$A$1:$E$183,3,FALSE),0)","v":"105492-Posta de Salud Rural Camisa"},{"$f":"IFERROR(VLOOKUP(Tabla_SERIED_11_6[[#This Row],[IdEstablecimiento]],'[2]Establecimiento 2023'!$A$1:$E$183,5,FALSE),0)","v":"04204-Salamanca"},"15050100","2023-09-25T10:37:02",18,9,9,null,null,1,null,2,3,7,2,null,1,null,2]
[8,"5",2023,"105504",{"$f":"IFERROR(VLOOKUP(Tabla_SERIED_11_6[[#This Row],[IdEstablecimiento]],'[2]Establecimiento 2023'!$A$1:$E$183,3,FALSE),0)","v":"105504-Posta de Salud Rural Socavón"},{"$f":"IFERROR(VLOOKUP(Tabla_SERIED_11_6[[#This Row],[IdEstablecimiento]],'[2]Establecimiento 2023'!$A$1:$E$183,5,FALSE),0)","v":"04201-Illapel"},"15050100","2023-09-25T10:52:35",4,2,2,{"$nulls":3},0,1,1,2,0,null,0]
[8,"5",2023,"105507",{"$f":"IFERROR(VLOOKUP(Tabla_SERIED_11_6[[#This Row],[IdEstablecimiento]],'[2]Establecimiento 2023'!$A$1:$E$183,3,FALSE),0)","v":"105507-Posta de Salud Rural Huamalata"},{"$f":"IFERROR(VLOOKUP(Tabla_SERIED_11_6[[#This Row],[IdEstablecimiento]],'[2]Establecimiento 2023'!$A$1:$E$183,5,FALSE),0)","v":"04301-Ovalle"},"15010200","2023-09-25T10:52:42",42,{"$nulls":5},26,16]
[8,"5",2023,"105317",{"$f":"IFERROR(VLOOKUP(Tabla_SERIED_11_6[[#This Row],[IdEstablecimiento]],'[2]Establecimiento 2023'!$A$1:$E$183,3,FALSE),0)","v":"105317-Centro de Salud Familiar Jorge Jordán Domic"},{"$f":"IFERROR(VLOOKUP(Tabla_SERIED_11_6[[#This Row],[IdEstablecimiento]],'[2]Establecimiento 2023'!$A$1:$E$183,5,FALSE),0)","v":"04301-Ovalle"},"15010500","2023-09-15T12:16:19",18,{"$nulls":3},4,null,8,6]
[8,"5",2023,"200499",{"$f":"IFERROR(VLOOKUP(Tabla_SERIED_11_6[[#This Row],[IdEstablecimiento]],'[2]Establecimiento 2023'!$A$1:$E$183,3,FALSE),0)","v":"200499-Centro de Salud Familiar Rural Pan de Azúcar"},{"$f":"IFERROR(VLOOKUP(Tabla_SERIED_11_6[[#This Row],[IdEstablecimiento]],'[2]Establecimiento 2023'!$A$1:$E$183,5,FALSE),0)","v":"04102-Coquimbo"},"15900030","2023-09-25T11:05:50",3.2,0,0,0,0,3.2]
[8,"5",2023,"200569",{"$f":"IFERROR(VLOOKUP(Tabla_SERIED_11_6[[#This Row],[IdEstablecimiento]],'[2]Establecimiento 2023'!$A$1:$E$183,3,FALSE),0)","v":"200569-Centro de Salud Familiar Fray Jorge"},{"$f":"IFERROR(VLOOKUP(Tabla_SERIED_11_6[[#This Row],[IdEstablecimiento]],'[2]Establecimiento 2023'!$A$1:$E$183,5,FALSE),0)","v":"04301-Ovalle"},"15050100","2023-09-25T11:07:23",685,269,416,4,15,52,80,105,136,120,84,null,39,9,41]
[7,"5",2023,"105496",{"$f":"IFERROR(VLOOKUP(Tabla_SERIED_11_6[[#This Row],[IdEstablecimiento]],'[2]Establecimiento 2023'!$A$1:$E$183,3,FALSE),0)","v":"105496-Posta de Salud Rural Pintacura Sur"},{"$f":"IFERROR(VLOOKUP(Tabla_SERIED_11_6[[#This Row],[IdEstablecimiento]],'[2]Establecimiento 2023'!$A$1:$E$183,5,FALSE),0)","v":"04201-Illapel"},"16200210","2023-08-18T10:39:29",11,11]
[7,"5",2023,"105506",{"$f":"IFERROR(VLOOKUP(Tabla_SERIED_11_6[[#This Row],[IdEstablecimiento]],'[2]Establecimiento 2023'!$A$1:$E$183,3,FALSE),0)","v":"105506-Posta de Salud Rural El Trapiche"},{"$f":"IFERROR(VLOOKUP(Tabla_SERIED_11_6[[#This Row],[IdEstablecimiento]],'[2]Establecimiento 2023'!$A$1:$E$183,5,FALSE),0)","v":"04104-La Higuera"},"15050100","2023-08-18T10:46:29",10,3,7,{"$nulls":3},1,2,2,4,1]
[7,"5",2023,"105722",{"$f":"IFERROR(VLOOKUP(Tabla_SERIED_11_6[[#This Row],[IdEstablecimiento]],'[2]Establecimiento 2023'!$A$1:$E$183,3,FALSE),0)","v":"105722-Centro Comunitario de Salud Familiar San José de la Dehesa"},{"$f":"IFERROR(VLOOKUP(Tabla_SERIED_11_6[[#This Row],[IdEstablecimiento]],'[2]Establecimiento 2023'!$A$1:$E$183,5,FALSE),0)","v":"04301-Ovalle"},"15900030","2023-08-18T10:51:15",4.4,null,null,4.4]
[8,"5",2023,"105470",{"$f":"IFERROR(VLOOKUP(Tabla_SERIED_11_6[[#This Row],[IdEstablecimiento]],'[2]Establecimiento 2023'!$A$1:$E$183,3,FALSE),0)","v":"105470-Posta de Salud Rural Huanta"},{"$f":"IFERROR(VLOOKUP(Tabla_SERIED_11_6[[#This Row],[IdEstablecimiento]],'[2]Establecimiento 2023'!$A$1:$E$183,5,FALSE),0)","v":"04106-Vicuña"},"16090300","2023-09-25T10:07:07",12,12]
[8,"5",2023,"105478",{"$f":"IFERROR(VLOOKUP(Tabla_SERIED_11_6[[#This Row],[IdEstablecimiento]],'[2]Establecimiento 2023'!$A$1:$E$183,3,FALSE),0)","v":"105478-Posta de Salud Rural Caimanes"},{"$f":"IFERROR(VLOOKUP(Tabla_SERIED_11_6[[#This Row],[IdEstablecimiento]],'[2]Establecimiento 2023'!$A$1:$E$183,5,FALSE),0)","v":"04203-Los Vilos"},"16100300","2023-09-25T10:26:53",35,16,19]
[8,"5",2023,"105484",{"$f":"IFERROR(VLOOKUP(Tabla_SERIED_11_6[[#This Row],[IdEstablecimiento]],'[2]Establecimiento 2023'!$A$1:$E$183,3,FALSE),0)","v":"105484-Posta de Salud Rural Huentelauquén"},{"$f":"IFERROR(VLOOKUP(Tabla_SERIED_11_6[[#This Row],[IdEstablecimiento]],'[2]Establecimiento 2023'!$A$1:$E$183,5,FALSE),0)","v":"04202-Canela"},"16200100","2023-09-25T10:31:28",1,1]
[8,"5",2023,"105486",{"$f":"IFERROR(VLOOKUP(Tabla_SERIED_11_6[[#This Row],[IdEstablecimiento]],'[2]Establecimiento 2023'!$A$1:$E$183,3,FALSE),0)","v":"105486-Posta de Salud Rural Tunga Sur"},{"$f":"IFERROR(VLOOKUP(Tabla_SERIED_11_6[[#This Row],[IdEstablecimiento]],'[2]Establecimiento 2023'!$A$1:$E$183,5,FALSE),0)","v":"04201-Illapel"},"16100300","2023-09-25T10:32:46",51,20,31]
[8,"5",2023,"105510",{"$f":"IFERROR(VLOOKUP(Tabla_SERIED_11_6[[#This Row],[IdEstablecimiento]],'[2]Establecimiento 2023'!$A$1:$E$183,3,FALSE),0)","v":"105510-Posta de Salud Rural Recoleta"},{"$f":"IFERROR(VLOOKUP(Tabla_SERIED_11_6[[#This Row],[IdEstablecimiento]],'[2]Establecimiento 2023'!$A$1:$E$183,5,FALSE),0)","v":"04301-Ovalle"},"15010200","2023-09-25T10:56:01",29,{"$nulls":5},20,9]
[8,"5",2023,"200366",{"$f":"IFERROR(VLOOKUP(Tabla_SERIED_11_6[[#This Row],[IdEstablecimiento]],'[2]Establecimiento 2023'!$A$1:$E$183,3,FALSE),0)","v":"200366-Centro de Salud Familiar Urbano de Illapel"},{"$f":"IFERROR(VLOOKUP(Tabla_SERIED_11_6[[#This Row],[IdEstablecimiento]],'[2]Establecimiento 2023'!$A$1:$E$183,5,FALSE),0)","v":"04201-Illapel"},"15080018","2023-09-25T11:02:59",4,{"$nulls":3},2,2]
[8,"5",2023,"200402",{"$f":"IFERROR(VLOOKUP(Tabla_SERIED_11_6[[#This Row],[IdEstablecimiento]],'[2]Establecimiento 2023'!$A$1:$E$183,3,FALSE),0)","v":"200402-Centro Comunitario de Salud Familiar Arcos de Pinamar"},{"$f":"IFERROR(VLOOKUP(Tabla_SERIED_11_6[[#This Row],[IdEstablecimiento]],'[2]Establecimiento 2023'!$A$1:$E$183,5,FALSE),0)","v":"04101-La Serena"},"16200210","2023-09-25T11:04:20",7,7]
[6,"5",2023,"105484",{"$f":"IFERROR(VLOOKUP(Tabla_SERIED_11_6[[#This Row],[IdEstablecimiento]],'[2]Establecimiento 2023'!$A$1:$E$183,3,FALSE),0)","v":"105484-Posta de Salud Rural Huentelauquén"},{"$f":"IFERROR(VLOOKUP(Tabla_SERIED_11_6[[#This Row],[IdEstablecimiento]],'[2]Establecimiento 2023'!$A$1:$E$183,5,FALSE),0)","v":"04202-Canela"},"16090300","2023-08-18T11:34:36",55,55]
[6,"5",2023,"105500",{"$f":"IFERROR(VLOOKUP(Tabla_SERIED_11_6[[#This Row],[IdEstablecimiento]],'[2]Establecimiento 2023'!$A$1:$E$183,3,FALSE),0)","v":"105500-Posta de Salud Rural Caleta Hornos"},{"$f":"IFERROR(VLOOKUP(Tabla_SERIED_11_6[[#This Row],[IdEstablecimiento]],'[2]Establecimiento 2023'!$A$1:$E$183,5,FALSE),0)","v":"04104-La Higuera"},"16090300","2023-07-17T17:03:28",31,31]
[8,"5",2023,"105319",{"$f":"IFERROR(VLOOKUP(Tabla_SERIED_11_6[[#This Row],[IdEstablecimiento]],'[2]Establecimiento 2023'!$A$1:$E$183,3,FALSE),0)","v":"105319-Centro de Salud Familiar Cardenal Raúl Silva Henríquez de La Serena"},{"$f":"IFERROR(VLOOKUP(Tabla_SERIED_11_6[[#This Row],[IdEstablecimiento]],'[2]Establecimiento 2023'!$A$1:$E$183,5,FALSE),0)","v":"04101-La Serena"},"16090300","2023-09-15T12:17:37",752,752]
[8,"5",2023,"105323",{"$f":"IFERROR(VLOOKUP(Tabla_SERIED_11_6[[#This Row],[IdEstablecimiento]],'[2]Establecimiento 2023'!$A$1:$E$183,3,FALSE),0)","v":"105323-Centro de Salud Familiar Dr. Sergio Aguilar Delgado"},{"$f":"IFERROR(VLOOKUP(Tabla_SERIED_11_6[[#This Row],[IdEstablecimiento]],'[2]Establecimiento 2023'!$A$1:$E$183,5,FALSE),0)","v":"04102-Coquimbo"},"15900020","2023-09-15T12:19:22",24,3.2,8.8,12]
[8,"5",2023,"105324",{"$f":"IFERROR(VLOOKUP(Tabla_SERIED_11_6[[#This Row],[IdEstablecimiento]],'[2]Establecimiento 2023'!$A$1:$E$183,3,FALSE),0)","v":"105324-Centro de Salud Familiar Sotaquí"},{"$f":"IFERROR(VLOOKUP(Tabla_SERIED_11_6[[#This Row],[IdEstablecimiento]],'[2]Establecimiento 2023'!$A$1:$E$183,5,FALSE),0)","v":"04301-Ovalle"},"15080014","2023-09-15T12:20:35",107,{"$nulls":3},56,50,{"$nulls":6},1]
[8,"5",2023,"105405",{"$f":"IFERROR(VLOOKUP(Tabla_SERIED_11_6[[#This Row],[IdEstablecimiento]],'[2]Establecimiento 2023'!$A$1:$E$183,3,FALSE),0)","v":"105405-Posta de Salud Rural Guanaqueros"},{"$f":"IFERROR(VLOOKUP(Tabla_SERIED_11_6[[#This Row],[IdEstablecimiento]],'[2]Establecimiento 2023'!$A$1:$E$183,5,FALSE),0)","v":"04102-Coquimbo"},"15010200","2023-09-15T12:24:58",6,{"$nulls":5},0,6]
[8,"5",2023,"105107",{"$f":"IFERROR(VLOOKUP(Tabla_SERIED_11_6[[#This Row],[IdEstablecimiento]],'[2]Establecimiento 2023'!$A$1:$E$183,3,FALSE),0)","v":"105107-Hospital San Juan de Dios (Vicuña)"},{"$f":"IFERROR(VLOOKUP(Tabla_SERIED_11_6[[#This Row],[IdEstablecimiento]],'[2]Establecimiento 2023'!$A$1:$E$183,5,FALSE),0)","v":"105107-Hospital Vicuña"},"15900020","2023-09-15T11:53:17",3.2,null,null,3.2]
[8,"5",2023,"105491",{"$f":"IFERROR(VLOOKUP(Tabla_SERIED_11_6[[#This Row],[IdEstablecimiento]],'[2]Establecimiento 2023'!$A$1:$E$183,3,FALSE),0)","v":"105491-Posta de Salud Rural Quelén Bajo"},{"$f":"IFERROR(VLOOKUP(Tabla_SERIED_11_6[[#This Row],[IdEstablecimiento]],'[2]Establecimiento 2023'!$A$1:$E$183,5,FALSE),0)","v":"04204-Salamanca"},"15080008","2023-09-25T10:35:19",12,{"$nulls":7},4,null,6,null,2]
[8,"5",2023,"105500",{"$f":"IFERROR(VLOOKUP(Tabla_SERIED_11_6[[#This Row],[IdEstablecimiento]],'[2]Establecimiento 2023'!$A$1:$E$183,3,FALSE),0)","v":"105500-Posta de Salud Rural Caleta Hornos"},{"$f":"IFERROR(VLOOKUP(Tabla_SERIED_11_6[[#This Row],[IdEstablecimiento]],'[2]Establecimiento 2023'!$A$1:$E$183,5,FALSE),0)","v":"04104-La Higuera"},"15900030","2023-10-17T15:08:00",3.2,{"$nulls":3},3.2]
[8,"5",2023,"105306",{"$f":"IFERROR(VLOOKUP(Tabla_SERIED_11_6[[#This Row],[IdEstablecimiento]],'[2]Establecimiento 2023'!$A$1:$E$183,3,FALSE),0)","v":"105306-Centro de Salud Familiar Paihuano"},{"$f":"IFERROR(VLOOKUP(Tabla_SERIED_11_6[[#This Row],[IdEstablecimiento]],'[2]Establecimiento 2023'!$A$1:$E$183,5,FALSE),0)","v":"04105-Paihuano"},"15080008","2023-09-15T11:58:25",16,{"$nulls":7},11,null,4,1]
[8,"5",2023,"105309",{"$f":"IFERROR(VLOOKUP(Tabla_SERIED_11_6[[#This Row],[IdEstablecimiento]],'[2]Establecimiento 2023'!$A$1:$E$183,3,FALSE),0)","v":"105309-Centro de Salud Familiar Canela"},{"$f":"IFERROR(VLOOKUP(Tabla_SERIED_11_6[[#This Row],[IdEstablecimiento]],'[2]Establecimiento 2023'!$A$1:$E$183,5,FALSE),0)","v":"04202-Canela"},"16100300","2023-09-15T11:59:47",328,148,180]
[8,"5",2023,"105450",{"$f":"IFERROR(VLOOKUP(Tabla_SERIED_11_6[[#This Row],[IdEstablecimiento]],'[2]Establecimiento 2023'!$A$1:$E$183,3,FALSE),0)","v":"105450-Posta de Salud Rural Mincha Norte"},{"$f":"IFERROR(VLOOKUP(Tabla_SERIED_11_6[[#This Row],[IdEstablecimiento]],'[2]Establecimiento 2023'!$A$1:$E$183,5,FALSE),0)","v":"04202-Canela"},"15010200","2023-09-25T09:49:41",6,{"$nulls":5},2,4]
[8,"5",2023,"105457",{"$f":"IFERROR(VLOOKUP(Tabla_SERIED_11_6[[#This Row],[IdEstablecimiento]],'[2]Establecimiento 2023'!$A$1:$E$183,3,FALSE),0)","v":"105457-Posta de Salud Rural San Agustín (Salamanca)"},{"$f":"IFERROR(VLOOKUP(Tabla_SERIED_11_6[[#This Row],[IdEstablecimiento]],'[2]Establecimiento 2023'!$A$1:$E$183,5,FALSE),0)","v":"04204-Salamanca"},"15900010","2023-09-25T09:53:56",3.2,null,null,3.2]
[8,"5",2023,"105458",{"$f":"IFERROR(VLOOKUP(Tabla_SERIED_11_6[[#This Row],[IdEstablecimiento]],'[2]Establecimiento 2023'!$A$1:$E$183,3,FALSE),0)","v":"105458-Posta de Salud Rural Tahuinco"},{"$f":"IFERROR(VLOOKUP(Tabla_SERIED_11_6[[#This Row],[IdEstablecimiento]],'[2]Establecimiento 2023'!$A$1:$E$183,5,FALSE),0)","v":"04204-Salamanca"},"16200220","2023-09-25T09:55:16",8,2,6]
[8,"5",2023,"105471",{"$f":"IFERROR(VLOOKUP(Tabla_SERIED_11_6[[#This Row],[IdEstablecimiento]],'[2]Establecimiento 2023'!$A$1:$E$183,3,FALSE),0)","v":"105471-Posta de Salud Rural Peralillo Vicuña"},{"$f":"IFERROR(VLOOKUP(Tabla_SERIED_11_6[[#This Row],[IdEstablecimiento]],'[2]Establecimiento 2023'!$A$1:$E$183,5,FALSE),0)","v":"04106-Vicuña"},"15080014","2023-09-25T10:07:13",18,{"$nulls":3},4,14]
[8,"5",2023,"200494",{"$f":"IFERROR(VLOOKUP(Tabla_SERIED_11_6[[#This Row],[IdEstablecimiento]],'[2]Establecimiento 2023'!$A$1:$E$183,3,FALSE),0)","v":"200494-Centro de Salud Familiar El Sauce"},{"$f":"IFERROR(VLOOKUP(Tabla_SERIED_11_6[[#This Row],[IdEstablecimiento]],'[2]Establecimiento 2023'!$A$1:$E$183,5,FALSE),0)","v":"04102-Coquimbo"},"15050100","2023-09-25T11:04:28",628,249,379,11,15,44,96,86,136,94,71,null,32,10,33]
[8,"5",2023,"200607",{"$f":"IFERROR(VLOOKUP(Tabla_SERIED_11_6[[#This Row],[IdEstablecimiento]],'[2]Establecimiento 2023'!$A$1:$E$183,3,FALSE),0)","v":"200607-Centro de Salud Familiar Lila Cortés Godoy"},{"$f":"IFERROR(VLOOKUP(Tabla_SERIED_11_6[[#This Row],[IdEstablecimiento]],'[2]Establecimiento 2023'!$A$1:$E$183,5,FALSE),0)","v":"04102-Coquimbo"},"15080009","2023-09-25T11:07:27",9,{"$nulls":8},6,3]
[8,"5",2023,"105106",{"$f":"IFERROR(VLOOKUP(Tabla_SERIED_11_6[[#This Row],[IdEstablecimiento]],'[2]Establecimiento 2023'!$A$1:$E$183,3,FALSE),0)","v":"105106-Hospital Dr. José Arraño (Andacollo)"},{"$f":"IFERROR(VLOOKUP(Tabla_SERIED_11_6[[#This Row],[IdEstablecimiento]],'[2]Establecimiento 2023'!$A$1:$E$183,5,FALSE),0)","v":"105106-Hospital Andacollo"},"15050100","2023-09-15T11:50:39",217,92,125,2,11,24,34,21,45,44,19,null,8,4,5]
[8,"5",2023,"105487",{"$f":"IFERROR(VLOOKUP(Tabla_SERIED_11_6[[#This Row],[IdEstablecimiento]],'[2]Establecimiento 2023'!$A$1:$E$183,3,FALSE),0)","v":"105487-Posta de Salud Rural Cañas Uno"},{"$f":"IFERROR(VLOOKUP(Tabla_SERIED_11_6[[#This Row],[IdEstablecimiento]],'[2]Establecimiento 2023'!$A$1:$E$183,5,FALSE),0)","v":"04201-Illapel"},"15050100","2023-09-25T10:32:49",55,23,32,2,null,2,12,3,18,8,4,null,3,0,3]
[8,"5",2023,"105489",{"$f":"IFERROR(VLOOKUP(Tabla_SERIED_11_6[[#This Row],[IdEstablecimiento]],'[2]Establecimiento 2023'!$A$1:$E$183,3,FALSE),0)","v":"105489-Posta de Salud Rural Ramadas de Tulahuén"},{"$f":"IFERROR(VLOOKUP(Tabla_SERIED_11_6[[#This Row],[IdEstablecimiento]],'[2]Establecimiento 2023'!$A$1:$E$183,5,FALSE),0)","v":"04303-Monte Patria"},"16100300","2023-09-25T10:34:06",40,22,18]
[8,"5",2023,"105510",{"$f":"IFERROR(VLOOKUP(Tabla_SERIED_11_6[[#This Row],[IdEstablecimiento]],'[2]Establecimiento 2023'!$A$1:$E$183,3,FALSE),0)","v":"105510-Posta de Salud Rural Recoleta"},{"$f":"IFERROR(VLOOKUP(Tabla_SERIED_11_6[[#This Row],[IdEstablecimiento]],'[2]Establecimiento 2023'!$A$1:$E$183,5,FALSE),0)","v":"04301-Ovalle"},"15080015","2023-09-25T10:56:01",5,{"$nulls":6},5]
[6,"5",2023,"200366",{"$f":"IFERROR(VLOOKUP(Tabla_SERIED_11_6[[#This Row],[IdEstablecimiento]],'[2]Establecimiento 2023'!$A$1:$E$183,3,FALSE),0)","v":"200366-Centro de Salud Familiar Urbano de Illapel"},{"$f":"IFERROR(VLOOKUP(Tabla_SERIED_11_6[[#This Row],[IdEstablecimiento]],'[2]Establecimiento 2023'!$A$1:$E$183,5,FALSE),0)","v":"04201-Illapel"},"15900010","2023-07-18T09:49:39",44,11.2,6.4,26.4]
[6,"5",2023,"200367",{"$f":"IFERROR(VLOOKUP(Tabla_SERIED_11_6[[#This Row],[IdEstablecimiento]],'[2]Establecimiento 2023'!$A$1:$E$183,3,FALSE),0)","v":"200367-Centro Comunitario de Salud Familiar Colonia Limarí"},{"$f":"IFERROR(VLOOKUP(Tabla_SERIED_11_6[[#This Row],[IdEstablecimiento]],'[2]Establecimiento 2023'!$A$1:$E$183,5,FALSE),0)","v":"04301-Ovalle"},"15080016","2023-07-18T09:50:00",2,{"$nulls":6},2]
[8,"5",2023,"105496",{"$f":"IFERROR(VLOOKUP(Tabla_SERIED_11_6[[#This Row],[IdEstablecimiento]],'[2]Establecimiento 2023'!$A$1:$E$183,3,FALSE),0)","v":"105496-Posta de Salud Rural Pintacura Sur"},{"$f":"IFERROR(VLOOKUP(Tabla_SERIED_11_6[[#This Row],[IdEstablecimiento]],'[2]Establecimiento 2023'!$A$1:$E$183,5,FALSE),0)","v":"04201-Illapel"},"15010200","2023-09-25T10:38:02",7,{"$nulls":4},0,6,1]
[8,"5",2023,"105300",{"$f":"IFERROR(VLOOKUP(Tabla_SERIED_11_6[[#This Row],[IdEstablecimiento]],'[2]Establecimiento 2023'!$A$1:$E$183,3,FALSE),0)","v":"105300-Centro de Salud Familiar Cardenal Caro"},{"$f":"IFERROR(VLOOKUP(Tabla_SERIED_11_6[[#This Row],[IdEstablecimiento]],'[2]Establecimiento 2023'!$A$1:$E$183,5,FALSE),0)","v":"04101-La Serena"},"15900030","2023-09-15T11:54:46",12,null,6,2,4]
[8,"5",2023,"105302",{"$f":"IFERROR(VLOOKUP(Tabla_SERIED_11_6[[#This Row],[IdEstablecimiento]],'[2]Establecimiento 2023'!$A$1:$E$183,3,FALSE),0)","v":"105302-Centro de Salud Familiar Pedro Aguirre Cerda"},{"$f":"IFERROR(VLOOKUP(Tabla_SERIED_11_6[[#This Row],[IdEstablecimiento]],'[2]Establecimiento 2023'!$A$1:$E$183,5,FALSE),0)","v":"04101-La Serena"},"15080008","2023-09-15T11:55:42",250,{"$nulls":7},102,null,86,6,56]
[8,"5",2023,"105307",{"$f":"IFERROR(VLOOKUP(Tabla_SERIED_11_6[[#This Row],[IdEstablecimiento]],'[2]Establecimiento 2023'!$A$1:$E$183,3,FALSE),0)","v":"105307-Centro de Salud Familiar Monte Patria"},{"$f":"IFERROR(VLOOKUP(Tabla_SERIED_11_6[[#This Row],[IdEstablecimiento]],'[2]Establecimiento 2023'!$A$1:$E$183,5,FALSE),0)","v":"04303-Monte Patria"},"15080016","2023-09-15T11:58:27",4,{"$nulls":4},2,2]
[7,"5",2023,"200366",{"$f":"IFERROR(VLOOKUP(Tabla_SERIED_11_6[[#This Row],[IdEstablecimiento]],'[2]Establecimiento 2023'!$A$1:$E$183,3,FALSE),0)","v":"200366-Centro de Salud Familiar Urbano de Illapel"},{"$f":"IFERROR(VLOOKUP(Tabla_SERIED_11_6[[#This Row],[IdEstablecimiento]],'[2]Establecimiento 2023'!$A$1:$E$183,5,FALSE),0)","v":"04201-Illapel"},"15080019","2023-08-18T11:09:47",4,{"$nulls":5},2,2]
[7,"5",2023,"200402",{"$f":"IFERROR(VLOOKUP(Tabla_SERIED_11_6[[#This Row],[IdEstablecimiento]],'[2]Establecimiento 2023'!$A$1:$E$183,3,FALSE),0)","v":"200402-Centro Comunitario de Salud Familiar Arcos de Pinamar"},{"$f":"IFERROR(VLOOKUP(Tabla_SERIED_11_6[[#This Row],[IdEstablecimiento]],'[2]Establecimiento 2023'!$A$1:$E$183,5,FALSE),0)","v":"04101-La Serena"},"15080008","2023-08-18T11:11:34",29,{"$nulls":7},11,null,10,3,5]
[7,"5",2023,"200494",{"$f":"IFERROR(VLOOKUP(Tabla_SERIED_11_6[[#This Row],[IdEstablecimiento]],'[2]Establecimiento 2023'!$A$1:$E$183,3,FALSE),0)","v":"200494-Centro de Salud Familiar El Sauce"},{"$f":"IFERROR(VLOOKUP(Tabla_SERIED_11_6[[#This Row],[IdEstablecimiento]],'[2]Establecimiento 2023'!$A$1:$E$183,5,FALSE),0)","v":"04102-Coquimbo"},"16200230","2023-08-18T11:11:57",5,2,3]
[7,"5",2023,"105314",{"$f":"IFERROR(VLOOKUP(Tabla_SERIED_11_6[[#This Row],[IdEstablecimiento]],'[2]Establecimiento 2023'!$A$1:$E$183,3,FALSE),0)","v":"105314-Centro de Salud Familiar La Higuera"},{"$f":"IFERROR(VLOOKUP(Tabla_SERIED_11_6[[#This Row],[IdEstablecimiento]],'[2]Establecimiento 2023'!$A$1:$E$183,5,FALSE),0)","v":"04104-La Higuera"},"15900010","2023-08-18T08:07:39",36,11.2,4,20.8]
[7,"5",2023,"105317",{"$f":"IFERROR(VLOOKUP(Tabla_SERIED_11_6[[#This Row],[IdEstablecimiento]],'[2]Establecimiento 2023'!$A$1:$E$183,3,FALSE),0)","v":"105317-Centro de Salud Familiar Jorge Jordán Domic"},{"$f":"IFERROR(VLOOKUP(Tabla_SERIED_11_6[[#This Row],[IdEstablecimiento]],'[2]Establecimiento 2023'!$A$1:$E$183,5,FALSE),0)","v":"04301-Ovalle"},"15080018","2023-08-18T08:08:52",6,null,2,null,4]
[7,"5",2023,"105323",{"$f":"IFERROR(VLOOKUP(Tabla_SERIED_11_6[[#This Row],[IdEstablecimiento]],'[2]Establecimiento 2023'!$A$1:$E$183,3,FALSE),0)","v":"105323-Centro de Salud Familiar Dr. Sergio Aguilar Delgado"},{"$f":"IFERROR(VLOOKUP(Tabla_SERIED_11_6[[#This Row],[IdEstablecimiento]],'[2]Establecimiento 2023'!$A$1:$E$183,5,FALSE),0)","v":"04102-Coquimbo"},"15901300","2023-08-18T08:12:04",15.6,null,null,2,9.2,4.4]
[7,"5",2023,"105464",{"$f":"IFERROR(VLOOKUP(Tabla_SERIED_11_6[[#This Row],[IdEstablecimiento]],'[2]Establecimiento 2023'!$A$1:$E$183,3,FALSE),0)","v":"105464-Posta de Salud Rural La Ligua"},{"$f":"IFERROR(VLOOKUP(Tabla_SERIED_11_6[[#This Row],[IdEstablecimiento]],'[2]Establecimiento 2023'!$A$1:$E$183,5,FALSE),0)","v":"04302-Combarbalá"},"15080008","2023-08-18T09:50:00",3,{"$nulls":7},3]
[8,"5",2023,"105511",{"$f":"IFERROR(VLOOKUP(Tabla_SERIED_11_6[[#This Row],[IdEstablecimiento]],'[2]Establecimiento 2023'!$A$1:$E$183,3,FALSE),0)","v":"105511-Posta de Salud Rural Los Cóndores"},{"$f":"IFERROR(VLOOKUP(Tabla_SERIED_11_6[[#This Row],[IdEstablecimiento]],'[2]Establecimiento 2023'!$A$1:$E$183,5,FALSE),0)","v":"04203-Los Vilos"},"16090600","2023-09-25T10:56:05",1,1]
[8,"5",2023,"200366",{"$f":"IFERROR(VLOOKUP(Tabla_SERIED_11_6[[#This Row],[IdEstablecimiento]],'[2]Establecimiento 2023'!$A$1:$E$183,3,FALSE),0)","v":"200366-Centro de Salud Familiar Urbano de Illapel"},{"$f":"IFERROR(VLOOKUP(Tabla_SERIED_11_6[[#This Row],[IdEstablecimiento]],'[2]Establecimiento 2023'!$A$1:$E$183,5,FALSE),0)","v":"04201-Illapel"},"15010500","2023-09-25T11:02:59",36,{"$nulls":3},6,4,18,8]
[8,"5",2023,"200402",{"$f":"IFERROR(VLOOKUP(Tabla_SERIED_11_6[[#This Row],[IdEstablecimiento]],'[2]Establecimiento 2023'!$A$1:$E$183,3,FALSE),0)","v":"200402-Centro Comunitario de Salud Familiar Arcos de Pinamar"},{"$f":"IFERROR(VLOOKUP(Tabla_SERIED_11_6[[#This Row],[IdEstablecimiento]],'[2]Establecimiento 2023'!$A$1:$E$183,5,FALSE),0)","v":"04101-La Serena"},"15080009","2023-09-25T11:04:20",2,{"$nulls":10},2]
[8,"5",2023,"105318",{"$f":"IFERROR(VLOOKUP(Tabla_SERIED_11_6[[#This Row],[IdEstablecimiento]],'[2]Establecimiento 2023'!$A$1:$E$183,3,FALSE),0)","v":"105318-Centro de Salud Familiar El Palqui"},{"$f":"IFERROR(VLOOKUP(Tabla_SERIED_11_6[[#This Row],[IdEstablecimiento]],'[2]Establecimiento 2023'!$A$1:$E$183,5,FALSE),0)","v":"04303-Monte Patria"},"15080008","2023-09-15T12:16:26",82,{"$nulls":7},48,null,16,1,17]
[8,"5",2023,"105401",{"$f":"IFERROR(VLOOKUP(Tabla_SERIED_11_6[[#This Row],[IdEstablecimiento]],'[2]Establecimiento 2023'!$A$1:$E$183,3,FALSE),0)","v":"105401-Posta de Salud Rural Las Rojas"},{"$f":"IFERROR(VLOOKUP(Tabla_SERIED_11_6[[#This Row],[IdEstablecimiento]],'[2]Establecimiento 2023'!$A$1:$E$183,5,FALSE),0)","v":"04101-La Serena"},"15050200","2023-09-15T12:23:17",1,1,{"$nulls":7},1]
[8,"5",2023,"105702",{"$f":"IFERROR(VLOOKUP(Tabla_SERIED_11_6[[#This Row],[IdEstablecimiento]],'[2]Establecimiento 2023'!$A$1:$E$183,3,FALSE),0)","v":"105702-Centro Comunitario de Salud Familiar Lambert"},{"$f":"IFERROR(VLOOKUP(Tabla_SERIED_11_6[[#This Row],[IdEstablecimiento]],'[2]Establecimiento 2023'!$A$1:$E$183,5,FALSE),0)","v":"04101-La Serena"},"16200210","2023-09-25T10:59:37",2,2]
[8,"5",2023,"105702",{"$f":"IFERROR(VLOOKUP(Tabla_SERIED_11_6[[#This Row],[IdEstablecimiento]],'[2]Establecimiento 2023'!$A$1:$E$183,3,FALSE),0)","v":"105702-Centro Comunitario de Salud Familiar Lambert"},{"$f":"IFERROR(VLOOKUP(Tabla_SERIED_11_6[[#This Row],[IdEstablecimiento]],'[2]Establecimiento 2023'!$A$1:$E$183,5,FALSE),0)","v":"04101-La Serena"},"15900050","2023-09-25T10:59:37",1,null,1,null,null,1]
[8,"5",2023,"200366",{"$f":"IFERROR(VLOOKUP(Tabla_SERIED_11_6[[#This Row],[IdEstablecimiento]],'[2]Establecimiento 2023'!$A$1:$E$183,3,FALSE),0)","v":"200366-Centro de Salud Familiar Urbano de Illapel"},{"$f":"IFERROR(VLOOKUP(Tabla_SERIED_11_6[[#This Row],[IdEstablecimiento]],'[2]Establecimiento 2023'!$A$1:$E$183,5,FALSE),0)","v":"04201-Illapel"},"15080014","2023-09-25T11:02:59",216,{"$nulls":3},90,120,null,null,2,null,4]
[8,"5",2023,"105323",{"$f":"IFERROR(VLOOKUP(Tabla_SERIED_11_6[[#This Row],[IdEstablecimiento]],'[2]Establecimiento 2023'!$A$1:$E$183,3,FALSE),0)","v":"105323-Centro de Salud Familiar Dr. Sergio Aguilar Delgado"},{"$f":"IFERROR(VLOOKUP(Tabla_SERIED_11_6[[#This Row],[IdEstablecimiento]],'[2]Establecimiento 2023'!$A$1:$E$183,5,FALSE),0)","v":"04102-Coquimbo"},"15040100","2023-09-15T12:19:22",4.8,null,4.8]
[8,"5",2023,"105319",{"$f":"IFERROR(VLOOKUP(Tabla_SERIED_11_6[[#This Row],[IdEstablecimiento]],'[2]Establecimiento 2023'!$A$1:$E$183,3,FALSE),0)","v":"105319-Centro de Salud Familiar Cardenal Raúl Silva Henríquez de La Serena"},{"$f":"IFERROR(VLOOKUP(Tabla_SERIED_11_6[[#This Row],[IdEstablecimiento]],'[2]Establecimiento 2023'!$A$1:$E$183,5,FALSE),0)","v":"04101-La Serena"},"16200210","2023-09-15T12:17:37",68,68]
[8,"5",2023,"105321",{"$f":"IFERROR(VLOOKUP(Tabla_SERIED_11_6[[#This Row],[IdEstablecimiento]],'[2]Establecimiento 2023'!$A$1:$E$183,3,FALSE),0)","v":"105321-Centro de Salud Familiar Tongoy"},{"$f":"IFERROR(VLOOKUP(Tabla_SERIED_11_6[[#This Row],[IdEstablecimiento]],'[2]Establecimiento 2023'!$A$1:$E$183,5,FALSE),0)","v":"04102-Coquimbo"},"16100300","2023-09-15T12:17:40",187,74,113]
[8,"5",2023,"105325",{"$f":"IFERROR(VLOOKUP(Tabla_SERIED_11_6[[#This Row],[IdEstablecimiento]],'[2]Establecimiento 2023'!$A$1:$E$183,3,FALSE),0)","v":"105325-Centro de Salud Familiar Juan Pablo II (La Serena)"},{"$f":"IFERROR(VLOOKUP(Tabla_SERIED_11_6[[#This Row],[IdEstablecimiento]],'[2]Establecimiento 2023'!$A$1:$E$183,5,FALSE),0)","v":"04101-La Serena"},"15050200","2023-09-15T12:20:38",22,12,5,0,0,4,1,0,10,5,null,2,0,0,0]
[8,"5",2023,"105409",{"$f":"IFERROR(VLOOKUP(Tabla_SERIED_11_6[[#This Row],[IdEstablecimiento]],'[2]Establecimiento 2023'!$A$1:$E$183,3,FALSE),0)","v":"105409-Posta de Salud Rural El Chañar"},{"$f":"IFERROR(VLOOKUP(Tabla_SERIED_11_6[[#This Row],[IdEstablecimiento]],'[2]Establecimiento 2023'!$A$1:$E$183,5,FALSE),0)","v":"04305-Rio Hurtado"},"15050100","2023-09-15T15:32:49",2,null,2,{"$nulls":3},1,null,1]
[8,"5",2023,"105443",{"$f":"IFERROR(VLOOKUP(Tabla_SERIED_11_6[[#This Row],[IdEstablecimiento]],'[2]Establecimiento 2023'!$A$1:$E$183,3,FALSE),0)","v":"105443-Posta de Salud Rural Cárcamo"},{"$f":"IFERROR(VLOOKUP(Tabla_SERIED_11_6[[#This Row],[IdEstablecimiento]],'[2]Establecimiento 2023'!$A$1:$E$183,5,FALSE),0)","v":"04201-Illapel"},"16100300","2023-09-25T09:44:09",114,52,62]
[8,"5",2023,"105453",{"$f":"IFERROR(VLOOKUP(Tabla_SERIED_11_6[[#This Row],[IdEstablecimiento]],'[2]Establecimiento 2023'!$A$1:$E$183,3,FALSE),0)","v":"105453-Posta de Salud Rural Tranquilla"},{"$f":"IFERROR(VLOOKUP(Tabla_SERIED_11_6[[#This Row],[IdEstablecimiento]],'[2]Establecimiento 2023'!$A$1:$E$183,5,FALSE),0)","v":"04204-Salamanca"},"15050200","2023-09-25T09:50:57",2,2,{"$nulls":4},1,null,null,1]
[8,"5",2023,"105456",{"$f":"IFERROR(VLOOKUP(Tabla_SERIED_11_6[[#This Row],[IdEstablecimiento]],'[2]Establecimiento 2023'!$A$1:$E$183,3,FALSE),0)","v":"105456-Posta de Salud Rural Llimpo"},{"$f":"IFERROR(VLOOKUP(Tabla_SERIED_11_6[[#This Row],[IdEstablecimiento]],'[2]Establecimiento 2023'!$A$1:$E$183,5,FALSE),0)","v":"04204-Salamanca"},"15900010","2023-09-25T09:53:44",10.4,null,7.2,3.2]
[8,"5",2023,"105417",{"$f":"IFERROR(VLOOKUP(Tabla_SERIED_11_6[[#This Row],[IdEstablecimiento]],'[2]Establecimiento 2023'!$A$1:$E$183,3,FALSE),0)","v":"105417-Posta de Salud Rural Alcones Bajo"},{"$f":"IFERROR(VLOOKUP(Tabla_SERIED_11_6[[#This Row],[IdEstablecimiento]],'[2]Establecimiento 2023'!$A$1:$E$183,5,FALSE),0)","v":"04301-Ovalle"},"16200210","2023-09-15T15:40:17",9,9]
[8,"5",2023,"200538",{"$f":"IFERROR(VLOOKUP(Tabla_SERIED_11_6[[#This Row],[IdEstablecimiento]],'[2]Establecimiento 2023'!$A$1:$E$183,3,FALSE),0)","v":"200538-Centro de Salud Familiar San Isidro Calingasta"},{"$f":"IFERROR(VLOOKUP(Tabla_SERIED_11_6[[#This Row],[IdEstablecimiento]],'[2]Establecimiento 2023'!$A$1:$E$183,5,FALSE),0)","v":"04106-Vicuña"},"15010200","2023-10-17T15:44:46",1,{"$nulls":6},1]
[8,"5",2023,"200569",{"$f":"IFERROR(VLOOKUP(Tabla_SERIED_11_6[[#This Row],[IdEstablecimiento]],'[2]Establecimiento 2023'!$A$1:$E$183,3,FALSE),0)","v":"200569-Centro de Salud Familiar Fray Jorge"},{"$f":"IFERROR(VLOOKUP(Tabla_SERIED_11_6[[#This Row],[IdEstablecimiento]],'[2]Establecimiento 2023'!$A$1:$E$183,5,FALSE),0)","v":"04301-Ovalle"},"15900050","2023-09-25T11:07:23",9,5,4,1,3,2,3,0]
[8,"5",2023,"200494",{"$f":"IFERROR(VLOOKUP(Tabla_SERIED_11_6[[#This Row],[IdEstablecimiento]],'[2]Establecimiento 2023'!$A$1:$E$183,3,FALSE),0)","v":"200494-Centro de Salud Familiar El Sauce"},{"$f":"IFERROR(VLOOKUP(Tabla_SERIED_11_6[[#This Row],[IdEstablecimiento]],'[2]Establecimiento 2023'!$A$1:$E$183,5,FALSE),0)","v":"04102-Coquimbo"},"16090300","2023-09-25T11:04:28",374,374]
[8,"5",2023,"105413",{"$f":"IFERROR(VLOOKUP(Tabla_SERIED_11_6[[#This Row],[IdEstablecimiento]],'[2]Establecimiento 2023'!$A$1:$E$183,3,FALSE),0)","v":"105413-Posta de Salud Rural Samo Alto"},{"$f":"IFERROR(VLOOKUP(Tabla_SERIED_11_6[[#This Row],[IdEstablecimiento]],'[2]Establecimiento 2023'!$A$1:$E$183,5,FALSE),0)","v":"04305-Rio Hurtado"},"15010200","2023-09-15T15:33:51",11,{"$nulls":5},6,5]
[8,"5",2023,"105430",{"$f":"IFERROR(VLOOKUP(Tabla_SERIED_11_6[[#This Row],[IdEstablecimiento]],'[2]Establecimiento 2023'!$A$1:$E$183,3,FALSE),0)","v":"105430-Posta de Salud Rural Mialqui"},{"$f":"IFERROR(VLOOKUP(Tabla_SERIED_11_6[[#This Row],[IdEstablecimiento]],'[2]Establecimiento 2023'!$A$1:$E$183,5,FALSE),0)","v":"04303-Monte Patria"},"16200210","2023-09-15T16:30:20",12,12]
[8,"5",2023,"105436",{"$f":"IFERROR(VLOOKUP(Tabla_SERIED_11_6[[#This Row],[IdEstablecimiento]],'[2]Establecimiento 2023'!$A$1:$E$183,3,FALSE),0)","v":"105436-Posta de Salud Rural El Maitén"},{"$f":"IFERROR(VLOOKUP(Tabla_SERIED_11_6[[#This Row],[IdEstablecimiento]],'[2]Establecimiento 2023'!$A$1:$E$183,5,FALSE),0)","v":"04303-Monte Patria"},"16200220","2023-09-25T09:40:44",1,null,1]
[8,"5",2023,"105457",{"$f":"IFERROR(VLOOKUP(Tabla_SERIED_11_6[[#This Row],[IdEstablecimiento]],'[2]Establecimiento 2023'!$A$1:$E$183,3,FALSE),0)","v":"105457-Posta de Salud Rural San Agustín (Salamanca)"},{"$f":"IFERROR(VLOOKUP(Tabla_SERIED_11_6[[#This Row],[IdEstablecimiento]],'[2]Establecimiento 2023'!$A$1:$E$183,5,FALSE),0)","v":"04204-Salamanca"},"16200210","2023-09-25T09:53:56",5,5]
[8,"5",2023,"105460",{"$f":"IFERROR(VLOOKUP(Tabla_SERIED_11_6[[#This Row],[IdEstablecimiento]],'[2]Establecimiento 2023'!$A$1:$E$183,3,FALSE),0)","v":"105460-Centro Comunitario de Salud Familiar Cogotí 18"},{"$f":"IFERROR(VLOOKUP(Tabla_SERIED_11_6[[#This Row],[IdEstablecimiento]],'[2]Establecimiento 2023'!$A$1:$E$183,5,FALSE),0)","v":"04302-Combarbalá"},"15900010","2023-09-25T09:58:22",8,null,null,8]
[8,"5",2023,"105440",{"$f":"IFERROR(VLOOKUP(Tabla_SERIED_11_6[[#This Row],[IdEstablecimiento]],'[2]Establecimiento 2023'!$A$1:$E$183,3,FALSE),0)","v":"105440-Posta de Salud Rural Divisadero"},{"$f":"IFERROR(VLOOKUP(Tabla_SERIED_11_6[[#This Row],[IdEstablecimiento]],'[2]Establecimiento 2023'!$A$1:$E$183,5,FALSE),0)","v":"04304-Punitaqui"},"15080015","2023-09-25T09:42:51",2,{"$nulls":6},2]
[8,"5",2023,"105442",{"$f":"IFERROR(VLOOKUP(Tabla_SERIED_11_6[[#This Row],[IdEstablecimiento]],'[2]Establecimiento 2023'!$A$1:$E$183,3,FALSE),0)","v":"105442-Posta de Salud Rural San Pedro de Quiles"},{"$f":"IFERROR(VLOOKUP(Tabla_SERIED_11_6[[#This Row],[IdEstablecimiento]],'[2]Establecimiento 2023'!$A$1:$E$183,5,FALSE),0)","v":"04304-Punitaqui"},"15080015","2023-09-25T09:44:06",4,{"$nulls":5},2,2]
[8,"5",2023,"105452",{"$f":"IFERROR(VLOOKUP(Tabla_SERIED_11_6[[#This Row],[IdEstablecimiento]],'[2]Establecimiento 2023'!$A$1:$E$183,3,FALSE),0)","v":"105452-Posta de Salud Rural Cuncumén(Salamanca)"},{"$f":"IFERROR(VLOOKUP(Tabla_SERIED_11_6[[#This Row],[IdEstablecimiento]],'[2]Establecimiento 2023'!$A$1:$E$183,5,FALSE),0)","v":"04204-Salamanca"},"16200220","2023-09-25T09:50:52",3,1,2]
[8,"5",2023,"105460",{"$f":"IFERROR(VLOOKUP(Tabla_SERIED_11_6[[#This Row],[IdEstablecimiento]],'[2]Establecimiento 2023'!$A$1:$E$183,3,FALSE),0)","v":"105460-Centro Comunitario de Salud Familiar Cogotí 18"},{"$f":"IFERROR(VLOOKUP(Tabla_SERIED_11_6[[#This Row],[IdEstablecimiento]],'[2]Establecimiento 2023'!$A$1:$E$183,5,FALSE),0)","v":"04302-Combarbalá"},"16200210","2023-09-25T09:58:22",21,21]
[8,"5",2023,"105468",{"$f":"IFERROR(VLOOKUP(Tabla_SERIED_11_6[[#This Row],[IdEstablecimiento]],'[2]Establecimiento 2023'!$A$1:$E$183,3,FALSE),0)","v":"105468-Posta de Salud Rural El Molle"},{"$f":"IFERROR(VLOOKUP(Tabla_SERIED_11_6[[#This Row],[IdEstablecimiento]],'[2]Establecimiento 2023'!$A$1:$E$183,5,FALSE),0)","v":"04106-Vicuña"},"16090300","2023-09-25T10:05:35",60,60]
[8,"5",2023,"105474",{"$f":"IFERROR(VLOOKUP(Tabla_SERIED_11_6[[#This Row],[IdEstablecimiento]],'[2]Establecimiento 2023'!$A$1:$E$183,3,FALSE),0)","v":"105474-Posta de Salud Rural Chapilca"},{"$f":"IFERROR(VLOOKUP(Tabla_SERIED_11_6[[#This Row],[IdEstablecimiento]],'[2]Establecimiento 2023'!$A$1:$E$183,5,FALSE),0)","v":"04106-Vicuña"},"16200220","2023-09-25T10:24:36",1,null,1]
[8,"5",2023,"105467",{"$f":"IFERROR(VLOOKUP(Tabla_SERIED_11_6[[#This Row],[IdEstablecimiento]],'[2]Establecimiento 2023'!$A$1:$E$183,3,FALSE),0)","v":"105467-Posta de Salud Rural Diaguitas"},{"$f":"IFERROR(VLOOKUP(Tabla_SERIED_11_6[[#This Row],[IdEstablecimiento]],'[2]Establecimiento 2023'!$A$1:$E$183,5,FALSE),0)","v":"04106-Vicuña"},"16100300","2023-09-25T10:04:25",36,18,18]
[8,"5",2023,"105478",{"$f":"IFERROR(VLOOKUP(Tabla_SERIED_11_6[[#This Row],[IdEstablecimiento]],'[2]Establecimiento 2023'!$A$1:$E$183,3,FALSE),0)","v":"105478-Posta de Salud Rural Caimanes"},{"$f":"IFERROR(VLOOKUP(Tabla_SERIED_11_6[[#This Row],[IdEstablecimiento]],'[2]Establecimiento 2023'!$A$1:$E$183,5,FALSE),0)","v":"04203-Los Vilos"},"16200210","2023-09-25T10:26:53",1,1]
[8,"5",2023,"105496",{"$f":"IFERROR(VLOOKUP(Tabla_SERIED_11_6[[#This Row],[IdEstablecimiento]],'[2]Establecimiento 2023'!$A$1:$E$183,3,FALSE),0)","v":"105496-Posta de Salud Rural Pintacura Sur"},{"$f":"IFERROR(VLOOKUP(Tabla_SERIED_11_6[[#This Row],[IdEstablecimiento]],'[2]Establecimiento 2023'!$A$1:$E$183,5,FALSE),0)","v":"04201-Illapel"},"15080008","2023-09-25T10:38:02",1,{"$nulls":10},1,0]
[8,"5",2023,"105496",{"$f":"IFERROR(VLOOKUP(Tabla_SERIED_11_6[[#This Row],[IdEstablecimiento]],'[2]Establecimiento 2023'!$A$1:$E$183,3,FALSE),0)","v":"105496-Posta de Salud Rural Pintacura Sur"},{"$f":"IFERROR(VLOOKUP(Tabla_SERIED_11_6[[#This Row],[IdEstablecimiento]],'[2]Establecimiento 2023'!$A$1:$E$183,5,FALSE),0)","v":"04201-Illapel"},"16090300","2023-09-25T10:38:02",43,43]
[7,"5",2023,"105478",{"$f":"IFERROR(VLOOKUP(Tabla_SERIED_11_6[[#This Row],[IdEstablecimiento]],'[2]Establecimiento 2023'!$A$1:$E$183,3,FALSE),0)","v":"105478-Posta de Salud Rural Caimanes"},{"$f":"IFERROR(VLOOKUP(Tabla_SERIED_11_6[[#This Row],[IdEstablecimiento]],'[2]Establecimiento 2023'!$A$1:$E$183,5,FALSE),0)","v":"04203-Los Vilos"},"15080016","2023-08-18T10:09:22",2,{"$nulls":5},2]
[7,"5",2023,"105490",{"$f":"IFERROR(VLOOKUP(Tabla_SERIED_11_6[[#This Row],[IdEstablecimiento]],'[2]Establecimiento 2023'!$A$1:$E$183,3,FALSE),0)","v":"105490-Posta de Salud Rural El Durazno(Combarbalá)"},{"$f":"IFERROR(VLOOKUP(Tabla_SERIED_11_6[[#This Row],[IdEstablecimiento]],'[2]Establecimiento 2023'!$A$1:$E$183,5,FALSE),0)","v":"04302-Combarbalá"},"16100300","2023-08-18T10:28:07",39,18,21]
[8,"5",2023,"105301",{"$f":"IFERROR(VLOOKUP(Tabla_SERIED_11_6[[#This Row],[IdEstablecimiento]],'[2]Establecimiento 2023'!$A$1:$E$183,3,FALSE),0)","v":"105301-Centro de Salud Familiar Las Compañías"},{"$f":"IFERROR(VLOOKUP(Tabla_SERIED_11_6[[#This Row],[IdEstablecimiento]],'[2]Establecimiento 2023'!$A$1:$E$183,5,FALSE),0)","v":"04101-La Serena"},"15050100","2023-09-15T11:54:49",457,166,291,3,15,36,67,49,95,81,64,null,17,4,26]
[8,"5",2023,"105303",{"$f":"IFERROR(VLOOKUP(Tabla_SERIED_11_6[[#This Row],[IdEstablecimiento]],'[2]Establecimiento 2023'!$A$1:$E$183,3,FALSE),0)","v":"105303-Centro de Salud Familiar San Juan"},{"$f":"IFERROR(VLOOKUP(Tabla_SERIED_11_6[[#This Row],[IdEstablecimiento]],'[2]Establecimiento 2023'!$A$1:$E$183,5,FALSE),0)","v":"04102-Coquimbo"},"15050200","2023-10-17T09:58:43",5,4,1,0,0,0,1,0,3,1,null,0,0,0,0]
[8,"5",2023,"105308",{"$f":"IFERROR(VLOOKUP(Tabla_SERIED_11_6[[#This Row],[IdEstablecimiento]],'[2]Establecimiento 2023'!$A$1:$E$183,3,FALSE),0)","v":"105308-Centro de Salud Familiar Punitaqui"},{"$f":"IFERROR(VLOOKUP(Tabla_SERIED_11_6[[#This Row],[IdEstablecimiento]],'[2]Establecimiento 2023'!$A$1:$E$183,5,FALSE),0)","v":"04304-Punitaqui"},"15030100","2023-09-15T11:59:36",4,null,4]
[8,"5",2023,"105510",{"$f":"IFERROR(VLOOKUP(Tabla_SERIED_11_6[[#This Row],[IdEstablecimiento]],'[2]Establecimiento 2023'!$A$1:$E$183,3,FALSE),0)","v":"105510-Posta de Salud Rural Recoleta"},{"$f":"IFERROR(VLOOKUP(Tabla_SERIED_11_6[[#This Row],[IdEstablecimiento]],'[2]Establecimiento 2023'!$A$1:$E$183,5,FALSE),0)","v":"04301-Ovalle"},"15900010","2023-09-25T10:56:01",8.5,null,5.8,2.7]
[8,"5",2023,"105723",{"$f":"IFERROR(VLOOKUP(Tabla_SERIED_11_6[[#This Row],[IdEstablecimiento]],'[2]Establecimiento 2023'!$A$1:$E$183,3,FALSE),0)","v":"105723-Centro Comunitario de Salud Familiar Limarí"},{"$f":"IFERROR(VLOOKUP(Tabla_SERIED_11_6[[#This Row],[IdEstablecimiento]],'[2]Establecimiento 2023'!$A$1:$E$183,5,FALSE),0)","v":"04301-Ovalle"},"15080016","2023-09-25T10:59:40",14,{"$nulls":3},2,null,6,6]
[8,"5",2023,"200402",{"$f":"IFERROR(VLOOKUP(Tabla_SERIED_11_6[[#This Row],[IdEstablecimiento]],'[2]Establecimiento 2023'!$A$1:$E$183,3,FALSE),0)","v":"200402-Centro Comunitario de Salud Familiar Arcos de Pinamar"},{"$f":"IFERROR(VLOOKUP(Tabla_SERIED_11_6[[#This Row],[IdEstablecimiento]],'[2]Establecimiento 2023'!$A$1:$E$183,5,FALSE),0)","v":"04101-La Serena"},"15080018","2023-09-25T11:04:20",2,{"$nulls":3},2]
[8,"5",2023,"200499",{"$f":"IFERROR(VLOOKUP(Tabla_SERIED_11_6[[#This Row],[IdEstablecimiento]],'[2]Establecimiento 2023'!$A$1:$E$183,3,FALSE),0)","v":"200499-Centro de Salud Familiar Rural Pan de Azúcar"},{"$f":"IFERROR(VLOOKUP(Tabla_SERIED_11_6[[#This Row],[IdEstablecimiento]],'[2]Establecimiento 2023'!$A$1:$E$183,5,FALSE),0)","v":"04102-Coquimbo"},"15080008","2023-09-25T11:05:50",100,{"$nulls":7},47,null,28,12,13]
[8,"5",2023,"105510",{"$f":"IFERROR(VLOOKUP(Tabla_SERIED_11_6[[#This Row],[IdEstablecimiento]],'[2]Establecimiento 2023'!$A$1:$E$183,3,FALSE),0)","v":"105510-Posta de Salud Rural Recoleta"},{"$f":"IFERROR(VLOOKUP(Tabla_SERIED_11_6[[#This Row],[IdEstablecimiento]],'[2]Establecimiento 2023'!$A$1:$E$183,5,FALSE),0)","v":"04301-Ovalle"},"15080014","2023-09-25T10:56:01",14,{"$nulls":3},12,2]
[8,"5",2023,"200366",{"$f":"IFERROR(VLOOKUP(Tabla_SERIED_11_6[[#This Row],[IdEstablecimiento]],'[2]Establecimiento 2023'!$A$1:$E$183,3,FALSE),0)","v":"200366-Centro de Salud Familiar Urbano de Illapel"},{"$f":"IFERROR(VLOOKUP(Tabla_SERIED_11_6[[#This Row],[IdEstablecimiento]],'[2]Establecimiento 2023'!$A$1:$E$183,5,FALSE),0)","v":"04201-Illapel"},"16200220","2023-09-25T11:02:59",46,13,33]
[8,"5",2023,"200494",{"$f":"IFERROR(VLOOKUP(Tabla_SERIED_11_6[[#This Row],[IdEstablecimiento]],'[2]Establecimiento 2023'!$A$1:$E$183,3,FALSE),0)","v":"200494-Centro de Salud Familiar El Sauce"},{"$f":"IFERROR(VLOOKUP(Tabla_SERIED_11_6[[#This Row],[IdEstablecimiento]],'[2]Establecimiento 2023'!$A$1:$E$183,5,FALSE),0)","v":"04102-Coquimbo"},"16200100","2023-09-25T11:04:28",25,12,13]
[8,"5",2023,"105474",{"$f":"IFERROR(VLOOKUP(Tabla_SERIED_11_6[[#This Row],[IdEstablecimiento]],'[2]Establecimiento 2023'!$A$1:$E$183,3,FALSE),0)","v":"105474-Posta de Salud Rural Chapilca"},{"$f":"IFERROR(VLOOKUP(Tabla_SERIED_11_6[[#This Row],[IdEstablecimiento]],'[2]Establecimiento 2023'!$A$1:$E$183,5,FALSE),0)","v":"04106-Vicuña"},"16100300","2023-09-25T10:24:36",21,8,13]
[8,"5",2023,"105107",{"$f":"IFERROR(VLOOKUP(Tabla_SERIED_11_6[[#This Row],[IdEstablecimiento]],'[2]Establecimiento 2023'!$A$1:$E$183,3,FALSE),0)","v":"105107-Hospital San Juan de Dios (Vicuña)"},{"$f":"IFERROR(VLOOKUP(Tabla_SERIED_11_6[[#This Row],[IdEstablecimiento]],'[2]Establecimiento 2023'!$A$1:$E$183,5,FALSE),0)","v":"105107-Hospital Vicuña"},"15900040","2023-09-15T11:53:17",4.4,null,null,4.4]
[8,"5",2023,"105303",{"$f":"IFERROR(VLOOKUP(Tabla_SERIED_11_6[[#This Row],[IdEstablecimiento]],'[2]Establecimiento 2023'!$A$1:$E$183,3,FALSE),0)","v":"105303-Centro de Salud Familiar San Juan"},{"$f":"IFERROR(VLOOKUP(Tabla_SERIED_11_6[[#This Row],[IdEstablecimiento]],'[2]Establecimiento 2023'!$A$1:$E$183,5,FALSE),0)","v":"04102-Coquimbo"},"15901300","2023-10-17T09:58:43",4.4,0,4.4,0,0,0,0,0]
[8,"5",2023,"105304",{"$f":"IFERROR(VLOOKUP(Tabla_SERIED_11_6[[#This Row],[IdEstablecimiento]],'[2]Establecimiento 2023'!$A$1:$E$183,3,FALSE),0)","v":"105304-Centro de Salud Familiar Santa Cecilia"},{"$f":"IFERROR(VLOOKUP(Tabla_SERIED_11_6[[#This Row],[IdEstablecimiento]],'[2]Establecimiento 2023'!$A$1:$E$183,5,FALSE),0)","v":"04102-Coquimbo"},"15050500","2023-09-15T11:56:49",1,0,1,0,0,1]
[7,"5",2023,"105702",{"$f":"IFERROR(VLOOKUP(Tabla_SERIED_11_6[[#This Row],[IdEstablecimiento]],'[2]Establecimiento 2023'!$A$1:$E$183,3,FALSE),0)","v":"105702-Centro Comunitario de Salud Familiar Lambert"},{"$f":"IFERROR(VLOOKUP(Tabla_SERIED_11_6[[#This Row],[IdEstablecimiento]],'[2]Establecimiento 2023'!$A$1:$E$183,5,FALSE),0)","v":"04101-La Serena"},"15080009","2023-08-18T10:50:18",3,{"$nulls":8},3]
[7,"5",2023,"200258",{"$f":"IFERROR(VLOOKUP(Tabla_SERIED_11_6[[#This Row],[IdEstablecimiento]],'[2]Establecimiento 2023'!$A$1:$E$183,3,FALSE),0)","v":"200258-Centro Comunitario de Salud Familiar Los Copihues"},{"$f":"IFERROR(VLOOKUP(Tabla_SERIED_11_6[[#This Row],[IdEstablecimiento]],'[2]Establecimiento 2023'!$A$1:$E$183,5,FALSE),0)","v":"04301-Ovalle"},"15080008","2023-08-18T11:08:51",17,{"$nulls":7},9,null,4,1,3]
[7,"5",2023,"105701",{"$f":"IFERROR(VLOOKUP(Tabla_SERIED_11_6[[#This Row],[IdEstablecimiento]],'[2]Establecimiento 2023'!$A$1:$E$183,3,FALSE),0)","v":"105701-Centro Comunitario de Salud Familiar Villa Alemania"},{"$f":"IFERROR(VLOOKUP(Tabla_SERIED_11_6[[#This Row],[IdEstablecimiento]],'[2]Establecimiento 2023'!$A$1:$E$183,5,FALSE),0)","v":"04101-La Serena"},"15050200","2023-08-18T10:49:54",1,null,1,{"$nulls":6},1]
[7,"5",2023,"200402",{"$f":"IFERROR(VLOOKUP(Tabla_SERIED_11_6[[#This Row],[IdEstablecimiento]],'[2]Establecimiento 2023'!$A$1:$E$183,3,FALSE),0)","v":"200402-Centro Comunitario de Salud Familiar Arcos de Pinamar"},{"$f":"IFERROR(VLOOKUP(Tabla_SERIED_11_6[[#This Row],[IdEstablecimiento]],'[2]Establecimiento 2023'!$A$1:$E$183,5,FALSE),0)","v":"04101-La Serena"},"15050100","2023-08-18T11:11:34",100,42,58,3,2,6,14,6,29,16,11,null,5,3,5]
[9,"5",2023,"105485",{"$f":"IFERROR(VLOOKUP(Tabla_SERIED_11_6[[#This Row],[IdEstablecimiento]],'[2]Establecimiento 2023'!$A$1:$E$183,3,FALSE),0)","v":"105485-Posta de Salud Rural Plan de Hornos"},{"$f":"IFERROR(VLOOKUP(Tabla_SERIED_11_6[[#This Row],[IdEstablecimiento]],'[2]Establecimiento 2023'!$A$1:$E$183,5,FALSE),0)","v":"04201-Illapel"},"15080014","2023-10-17T14:46:57",8,{"$nulls":3},2,6]
[8,"5",2023,"105400",{"$f":"IFERROR(VLOOKUP(Tabla_SERIED_11_6[[#This Row],[IdEstablecimiento]],'[2]Establecimiento 2023'!$A$1:$E$183,3,FALSE),0)","v":"105400-Posta de Salud Rural Algarrobito"},{"$f":"IFERROR(VLOOKUP(Tabla_SERIED_11_6[[#This Row],[IdEstablecimiento]],'[2]Establecimiento 2023'!$A$1:$E$183,5,FALSE),0)","v":"04101-La Serena"},"16090300","2023-09-15T12:22:06",209,209]
[8,"5",2023,"105405",{"$f":"IFERROR(VLOOKUP(Tabla_SERIED_11_6[[#This Row],[IdEstablecimiento]],'[2]Establecimiento 2023'!$A$1:$E$183,3,FALSE),0)","v":"105405-Posta de Salud Rural Guanaqueros"},{"$f":"IFERROR(VLOOKUP(Tabla_SERIED_11_6[[#This Row],[IdEstablecimiento]],'[2]Establecimiento 2023'!$A$1:$E$183,5,FALSE),0)","v":"04102-Coquimbo"},"15050200","2023-09-15T12:24:58",1,0,1,{"$nulls":3},0,0,0,1]
[8,"5",2023,"105425",{"$f":"IFERROR(VLOOKUP(Tabla_SERIED_11_6[[#This Row],[IdEstablecimiento]],'[2]Establecimiento 2023'!$A$1:$E$183,3,FALSE),0)","v":"105425-Posta de Salud Rural Chilecito"},{"$f":"IFERROR(VLOOKUP(Tabla_SERIED_11_6[[#This Row],[IdEstablecimiento]],'[2]Establecimiento 2023'!$A$1:$E$183,5,FALSE),0)","v":"04303-Monte Patria"},"15010500","2023-09-25T14:04:24",2,{"$nulls":5},2]
[8,"5",2023,"105436",{"$f":"IFERROR(VLOOKUP(Tabla_SERIED_11_6[[#This Row],[IdEstablecimiento]],'[2]Establecimiento 2023'!$A$1:$E$183,3,FALSE),0)","v":"105436-Posta de Salud Rural El Maitén"},{"$f":"IFERROR(VLOOKUP(Tabla_SERIED_11_6[[#This Row],[IdEstablecimiento]],'[2]Establecimiento 2023'!$A$1:$E$183,5,FALSE),0)","v":"04303-Monte Patria"},"16200210","2023-09-25T09:40:44",1,1]
[9,"5",2023,"105510",{"$f":"IFERROR(VLOOKUP(Tabla_SERIED_11_6[[#This Row],[IdEstablecimiento]],'[2]Establecimiento 2023'!$A$1:$E$183,3,FALSE),0)","v":"105510-Posta de Salud Rural Recoleta"},{"$f":"IFERROR(VLOOKUP(Tabla_SERIED_11_6[[#This Row],[IdEstablecimiento]],'[2]Establecimiento 2023'!$A$1:$E$183,5,FALSE),0)","v":"04301-Ovalle"},"15080008","2023-10-17T15:34:58",12,{"$nulls":7},7,null,4,null,1]
[9,"5",2023,"200366",{"$f":"IFERROR(VLOOKUP(Tabla_SERIED_11_6[[#This Row],[IdEstablecimiento]],'[2]Establecimiento 2023'!$A$1:$E$183,3,FALSE),0)","v":"200366-Centro de Salud Familiar Urbano de Illapel"},{"$f":"IFERROR(VLOOKUP(Tabla_SERIED_11_6[[#This Row],[IdEstablecimiento]],'[2]Establecimiento 2023'!$A$1:$E$183,5,FALSE),0)","v":"04201-Illapel"},"15050100","2023-10-17T15:41:37",338,130,208,6,5,10,50,43,86,74,47,null,8,null,9]
[9,"5",2023,"200499",{"$f":"IFERROR(VLOOKUP(Tabla_SERIED_11_6[[#This Row],[IdEstablecimiento]],'[2]Establecimiento 2023'!$A$1:$E$183,3,FALSE),0)","v":"200499-Centro de Salud Familiar Rural Pan de Azúcar"},{"$f":"IFERROR(VLOOKUP(Tabla_SERIED_11_6[[#This Row],[IdEstablecimiento]],'[2]Establecimiento 2023'!$A$1:$E$183,5,FALSE),0)","v":"04102-Coquimbo"},"15900040","2023-10-17T15:43:43",3.6,0,0,0,0,3.6]
[9,"5",2023,"105302",{"$f":"IFERROR(VLOOKUP(Tabla_SERIED_11_6[[#This Row],[IdEstablecimiento]],'[2]Establecimiento 2023'!$A$1:$E$183,3,FALSE),0)","v":"105302-Centro de Salud Familiar Pedro Aguirre Cerda"},{"$f":"IFERROR(VLOOKUP(Tabla_SERIED_11_6[[#This Row],[IdEstablecimiento]],'[2]Establecimiento 2023'!$A$1:$E$183,5,FALSE),0)","v":"04101-La Serena"},"15901400","2023-10-17T09:56:49",4,2,2,1,null,1,2]
[9,"5",2023,"105313",{"$f":"IFERROR(VLOOKUP(Tabla_SERIED_11_6[[#This Row],[IdEstablecimiento]],'[2]Establecimiento 2023'!$A$1:$E$183,3,FALSE),0)","v":"105313-Centro de Salud Familiar Dr. Emilio Schaffhauser"},{"$f":"IFERROR(VLOOKUP(Tabla_SERIED_11_6[[#This Row],[IdEstablecimiento]],'[2]Establecimiento 2023'!$A$1:$E$183,5,FALSE),0)","v":"04101-La Serena"},"15060100","2023-10-17T10:06:10",8,4,4,null,1,2,4,null,1]
[8,"5",2023,"105304",{"$f":"IFERROR(VLOOKUP(Tabla_SERIED_11_6[[#This Row],[IdEstablecimiento]],'[2]Establecimiento 2023'!$A$1:$E$183,3,FALSE),0)","v":"105304-Centro de Salud Familiar Santa Cecilia"},{"$f":"IFERROR(VLOOKUP(Tabla_SERIED_11_6[[#This Row],[IdEstablecimiento]],'[2]Establecimiento 2023'!$A$1:$E$183,5,FALSE),0)","v":"04102-Coquimbo"},"15080012","2023-09-15T11:56:49",2,null,0,2]
[8,"5",2023,"105305",{"$f":"IFERROR(VLOOKUP(Tabla_SERIED_11_6[[#This Row],[IdEstablecimiento]],'[2]Establecimiento 2023'!$A$1:$E$183,3,FALSE),0)","v":"105305-Centro de Salud Familiar Tierras Blancas"},{"$f":"IFERROR(VLOOKUP(Tabla_SERIED_11_6[[#This Row],[IdEstablecimiento]],'[2]Establecimiento 2023'!$A$1:$E$183,5,FALSE),0)","v":"04102-Coquimbo"},"16200210","2023-09-15T11:56:55",115,115]
[8,"5",2023,"105310",{"$f":"IFERROR(VLOOKUP(Tabla_SERIED_11_6[[#This Row],[IdEstablecimiento]],'[2]Establecimiento 2023'!$A$1:$E$183,3,FALSE),0)","v":"105310-Centro de Salud Familiar Pichasca"},{"$f":"IFERROR(VLOOKUP(Tabla_SERIED_11_6[[#This Row],[IdEstablecimiento]],'[2]Establecimiento 2023'!$A$1:$E$183,5,FALSE),0)","v":"04305-Rio Hurtado"},"15050100","2023-09-15T12:05:42",38,17,21,null,1,2,9,null,7,11,5,null,2,null,1]
[8,"5",2023,"105314",{"$f":"IFERROR(VLOOKUP(Tabla_SERIED_11_6[[#This Row],[IdEstablecimiento]],'[2]Establecimiento 2023'!$A$1:$E$183,3,FALSE),0)","v":"105314-Centro de Salud Familiar La Higuera"},{"$f":"IFERROR(VLOOKUP(Tabla_SERIED_11_6[[#This Row],[IdEstablecimiento]],'[2]Establecimiento 2023'!$A$1:$E$183,5,FALSE),0)","v":"04104-La Higuera"},"15010500","2023-10-17T10:17:15",6,null,null,4,2]
[9,"5",2023,"105321",{"$f":"IFERROR(VLOOKUP(Tabla_SERIED_11_6[[#This Row],[IdEstablecimiento]],'[2]Establecimiento 2023'!$A$1:$E$183,3,FALSE),0)","v":"105321-Centro de Salud Familiar Tongoy"},{"$f":"IFERROR(VLOOKUP(Tabla_SERIED_11_6[[#This Row],[IdEstablecimiento]],'[2]Establecimiento 2023'!$A$1:$E$183,5,FALSE),0)","v":"04102-Coquimbo"},"16200220","2023-10-17T11:02:58",5,3,2]
[9,"5",2023,"105322",{"$f":"IFERROR(VLOOKUP(Tabla_SERIED_11_6[[#This Row],[IdEstablecimiento]],'[2]Establecimiento 2023'!$A$1:$E$183,3,FALSE),0)","v":"105322-Centro de Salud Familiar Marcos Macuada"},{"$f":"IFERROR(VLOOKUP(Tabla_SERIED_11_6[[#This Row],[IdEstablecimiento]],'[2]Establecimiento 2023'!$A$1:$E$183,5,FALSE),0)","v":"04301-Ovalle"},"16090100","2023-10-17T11:04:22",41,41]
[8,"5",2023,"105448",{"$f":"IFERROR(VLOOKUP(Tabla_SERIED_11_6[[#This Row],[IdEstablecimiento]],'[2]Establecimiento 2023'!$A$1:$E$183,3,FALSE),0)","v":"105448-Posta de Salud Rural Santa Virginia"},{"$f":"IFERROR(VLOOKUP(Tabla_SERIED_11_6[[#This Row],[IdEstablecimiento]],'[2]Establecimiento 2023'!$A$1:$E$183,5,FALSE),0)","v":"04201-Illapel"},"16100300","2023-09-25T09:48:26",50,24,26]
[8,"5",2023,"105464",{"$f":"IFERROR(VLOOKUP(Tabla_SERIED_11_6[[#This Row],[IdEstablecimiento]],'[2]Establecimiento 2023'!$A$1:$E$183,3,FALSE),0)","v":"105464-Posta de Salud Rural La Ligua"},{"$f":"IFERROR(VLOOKUP(Tabla_SERIED_11_6[[#This Row],[IdEstablecimiento]],'[2]Establecimiento 2023'!$A$1:$E$183,5,FALSE),0)","v":"04302-Combarbalá"},"16100600","2023-09-25T10:01:02",1,null,1]
[8,"5",2023,"105475",{"$f":"IFERROR(VLOOKUP(Tabla_SERIED_11_6[[#This Row],[IdEstablecimiento]],'[2]Establecimiento 2023'!$A$1:$E$183,3,FALSE),0)","v":"105475-Posta de Salud Rural Horcón (Paiguano)"},{"$f":"IFERROR(VLOOKUP(Tabla_SERIED_11_6[[#This Row],[IdEstablecimiento]],'[2]Establecimiento 2023'!$A$1:$E$183,5,FALSE),0)","v":"04105-Paihuano"},"15080014","2023-09-25T10:24:17",8,{"$nulls":3},4,4]
[8,"5",2023,"105476",{"$f":"IFERROR(VLOOKUP(Tabla_SERIED_11_6[[#This Row],[IdEstablecimiento]],'[2]Establecimiento 2023'!$A$1:$E$183,3,FALSE),0)","v":"105476-Posta de Salud Rural Monte Grande"},{"$f":"IFERROR(VLOOKUP(Tabla_SERIED_11_6[[#This Row],[IdEstablecimiento]],'[2]Establecimiento 2023'!$A$1:$E$183,5,FALSE),0)","v":"04105-Paihuano"},"16100300","2023-09-25T10:25:36",14,7,7]
[8,"5",2023,"105511",{"$f":"IFERROR(VLOOKUP(Tabla_SERIED_11_6[[#This Row],[IdEstablecimiento]],'[2]Establecimiento 2023'!$A$1:$E$183,3,FALSE),0)","v":"105511-Posta de Salud Rural Los Cóndores"},{"$f":"IFERROR(VLOOKUP(Tabla_SERIED_11_6[[#This Row],[IdEstablecimiento]],'[2]Establecimiento 2023'!$A$1:$E$183,5,FALSE),0)","v":"04203-Los Vilos"},"16090300","2023-09-25T10:56:05",59,59]
[8,"5",2023,"105723",{"$f":"IFERROR(VLOOKUP(Tabla_SERIED_11_6[[#This Row],[IdEstablecimiento]],'[2]Establecimiento 2023'!$A$1:$E$183,3,FALSE),0)","v":"105723-Centro Comunitario de Salud Familiar Limarí"},{"$f":"IFERROR(VLOOKUP(Tabla_SERIED_11_6[[#This Row],[IdEstablecimiento]],'[2]Establecimiento 2023'!$A$1:$E$183,5,FALSE),0)","v":"04301-Ovalle"},"16200100","2023-09-25T10:59:40",41,22,19]
[8,"5",2023,"105415",{"$f":"IFERROR(VLOOKUP(Tabla_SERIED_11_6[[#This Row],[IdEstablecimiento]],'[2]Establecimiento 2023'!$A$1:$E$183,3,FALSE),0)","v":"105415-Posta de Salud Rural Barraza"},{"$f":"IFERROR(VLOOKUP(Tabla_SERIED_11_6[[#This Row],[IdEstablecimiento]],'[2]Establecimiento 2023'!$A$1:$E$183,5,FALSE),0)","v":"04301-Ovalle"},"16200210","2023-09-15T15:38:53",1,1]
[8,"5",2023,"105312",{"$f":"IFERROR(VLOOKUP(Tabla_SERIED_11_6[[#This Row],[IdEstablecimiento]],'[2]Establecimiento 2023'!$A$1:$E$183,3,FALSE),0)","v":"105312-Centro de Salud Familiar Carén"},{"$f":"IFERROR(VLOOKUP(Tabla_SERIED_11_6[[#This Row],[IdEstablecimiento]],'[2]Establecimiento 2023'!$A$1:$E$183,5,FALSE),0)","v":"04303-Monte Patria"},"15080015","2023-09-15T12:07:17",48,{"$nulls":5},24,24]
[8,"5",2023,"105313",{"$f":"IFERROR(VLOOKUP(Tabla_SERIED_11_6[[#This Row],[IdEstablecimiento]],'[2]Establecimiento 2023'!$A$1:$E$183,3,FALSE),0)","v":"105313-Centro de Salud Familiar Dr. Emilio Schaffhauser"},{"$f":"IFERROR(VLOOKUP(Tabla_SERIED_11_6[[#This Row],[IdEstablecimiento]],'[2]Establecimiento 2023'!$A$1:$E$183,5,FALSE),0)","v":"04101-La Serena"},"15080014","2023-09-25T09:20:26",424,{"$nulls":3},210,200,null,null,3,null,10,null,1]
[8,"5",2023,"105323",{"$f":"IFERROR(VLOOKUP(Tabla_SERIED_11_6[[#This Row],[IdEstablecimiento]],'[2]Establecimiento 2023'!$A$1:$E$183,3,FALSE),0)","v":"105323-Centro de Salud Familiar Dr. Sergio Aguilar Delgado"},{"$f":"IFERROR(VLOOKUP(Tabla_SERIED_11_6[[#This Row],[IdEstablecimiento]],'[2]Establecimiento 2023'!$A$1:$E$183,5,FALSE),0)","v":"04102-Coquimbo"},"15900050","2023-09-15T12:19:22",6,4,2,null,1,null,4,1]
[8,"5",2023,"105431",{"$f":"IFERROR(VLOOKUP(Tabla_SERIED_11_6[[#This Row],[IdEstablecimiento]],'[2]Establecimiento 2023'!$A$1:$E$183,3,FALSE),0)","v":"105431-Posta de Salud Rural Pedregal"},{"$f":"IFERROR(VLOOKUP(Tabla_SERIED_11_6[[#This Row],[IdEstablecimiento]],'[2]Establecimiento 2023'!$A$1:$E$183,5,FALSE),0)","v":"04303-Monte Patria"},"15900010","2023-09-25T09:13:25",0.8,null,null,0.8]
[8,"5",2023,"105432",{"$f":"IFERROR(VLOOKUP(Tabla_SERIED_11_6[[#This Row],[IdEstablecimiento]],'[2]Establecimiento 2023'!$A$1:$E$183,3,FALSE),0)","v":"105432-Posta de Salud Rural Rapel (Monte Patria)"},{"$f":"IFERROR(VLOOKUP(Tabla_SERIED_11_6[[#This Row],[IdEstablecimiento]],'[2]Establecimiento 2023'!$A$1:$E$183,5,FALSE),0)","v":"04303-Monte Patria"},"15080008","2023-09-25T14:04:27",4,{"$nulls":7},3,{"$nulls":3},1]
[9,"5",2023,"105302",{"$f":"IFERROR(VLOOKUP(Tabla_SERIED_11_6[[#This Row],[IdEstablecimiento]],'[2]Establecimiento 2023'!$A$1:$E$183,3,FALSE),0)","v":"105302-Centro de Salud Familiar Pedro Aguirre Cerda"},{"$f":"IFERROR(VLOOKUP(Tabla_SERIED_11_6[[#This Row],[IdEstablecimiento]],'[2]Establecimiento 2023'!$A$1:$E$183,5,FALSE),0)","v":"04101-La Serena"},"15050500","2023-10-17T09:56:49",2,null,2,null,null,2]
[9,"5",2023,"105304",{"$f":"IFERROR(VLOOKUP(Tabla_SERIED_11_6[[#This Row],[IdEstablecimiento]],'[2]Establecimiento 2023'!$A$1:$E$183,3,FALSE),0)","v":"105304-Centro de Salud Familiar Santa Cecilia"},{"$f":"IFERROR(VLOOKUP(Tabla_SERIED_11_6[[#This Row],[IdEstablecimiento]],'[2]Establecimiento 2023'!$A$1:$E$183,5,FALSE),0)","v":"04102-Coquimbo"},"15080009","2023-10-17T09:59:19",3,{"$nulls":8},3,0,0,0]
[8,"5",2023,"200366",{"$f":"IFERROR(VLOOKUP(Tabla_SERIED_11_6[[#This Row],[IdEstablecimiento]],'[2]Establecimiento 2023'!$A$1:$E$183,3,FALSE),0)","v":"200366-Centro de Salud Familiar Urbano de Illapel"},{"$f":"IFERROR(VLOOKUP(Tabla_SERIED_11_6[[#This Row],[IdEstablecimiento]],'[2]Establecimiento 2023'!$A$1:$E$183,5,FALSE),0)","v":"04201-Illapel"},"15050500","2023-09-25T11:02:59",1,0,1,1]
[8,"5",2023,"200607",{"$f":"IFERROR(VLOOKUP(Tabla_SERIED_11_6[[#This Row],[IdEstablecimiento]],'[2]Establecimiento 2023'!$A$1:$E$183,3,FALSE),0)","v":"200607-Centro de Salud Familiar Lila Cortés Godoy"},{"$f":"IFERROR(VLOOKUP(Tabla_SERIED_11_6[[#This Row],[IdEstablecimiento]],'[2]Establecimiento 2023'!$A$1:$E$183,5,FALSE),0)","v":"04102-Coquimbo"},"15060100","2023-09-25T11:07:27",7,3,4,{"$nulls":3},2,4,null,null,1]
[8,"5",2023,"105107",{"$f":"IFERROR(VLOOKUP(Tabla_SERIED_11_6[[#This Row],[IdEstablecimiento]],'[2]Establecimiento 2023'!$A$1:$E$183,3,FALSE),0)","v":"105107-Hospital San Juan de Dios (Vicuña)"},{"$f":"IFERROR(VLOOKUP(Tabla_SERIED_11_6[[#This Row],[IdEstablecimiento]],'[2]Establecimiento 2023'!$A$1:$E$183,5,FALSE),0)","v":"105107-Hospital Vicuña"},"15080015","2023-09-15T11:53:17",221,{"$nulls":5},144,77]
[8,"5",2023,"105326",{"$f":"IFERROR(VLOOKUP(Tabla_SERIED_11_6[[#This Row],[IdEstablecimiento]],'[2]Establecimiento 2023'!$A$1:$E$183,3,FALSE),0)","v":"105326-Centro de Salud Familiar Villa San Rafael de Rozas"},{"$f":"IFERROR(VLOOKUP(Tabla_SERIED_11_6[[#This Row],[IdEstablecimiento]],'[2]Establecimiento 2023'!$A$1:$E$183,5,FALSE),0)","v":"04201-Illapel"},"15030100","2023-09-15T12:21:59",8,2,2,4]
[8,"5",2023,"105410",{"$f":"IFERROR(VLOOKUP(Tabla_SERIED_11_6[[#This Row],[IdEstablecimiento]],'[2]Establecimiento 2023'!$A$1:$E$183,3,FALSE),0)","v":"105410-Posta de Salud Rural Hurtado"},{"$f":"IFERROR(VLOOKUP(Tabla_SERIED_11_6[[#This Row],[IdEstablecimiento]],'[2]Establecimiento 2023'!$A$1:$E$183,5,FALSE),0)","v":"04305-Rio Hurtado"},"16200220","2023-09-15T15:32:53",2,1,1]
[8,"5",2023,"105425",{"$f":"IFERROR(VLOOKUP(Tabla_SERIED_11_6[[#This Row],[IdEstablecimiento]],'[2]Establecimiento 2023'!$A$1:$E$183,3,FALSE),0)","v":"105425-Posta de Salud Rural Chilecito"},{"$f":"IFERROR(VLOOKUP(Tabla_SERIED_11_6[[#This Row],[IdEstablecimiento]],'[2]Establecimiento 2023'!$A$1:$E$183,5,FALSE),0)","v":"04303-Monte Patria"},"15050100","2023-09-25T14:04:24",8,3,5,null,null,1,1,null,1,3,null,null,2]
[8,"5",2023,"105319",{"$f":"IFERROR(VLOOKUP(Tabla_SERIED_11_6[[#This Row],[IdEstablecimiento]],'[2]Establecimiento 2023'!$A$1:$E$183,3,FALSE),0)","v":"105319-Centro de Salud Familiar Cardenal Raúl Silva Henríquez de La Serena"},{"$f":"IFERROR(VLOOKUP(Tabla_SERIED_11_6[[#This Row],[IdEstablecimiento]],'[2]Establecimiento 2023'!$A$1:$E$183,5,FALSE),0)","v":"04101-La Serena"},"15050100","2023-09-15T12:17:37",678,312,366,6,26,67,84,101,159,100,100,null,18,3,14]
[8,"5",2023,"105325",{"$f":"IFERROR(VLOOKUP(Tabla_SERIED_11_6[[#This Row],[IdEstablecimiento]],'[2]Establecimiento 2023'!$A$1:$E$183,3,FALSE),0)","v":"105325-Centro de Salud Familiar Juan Pablo II (La Serena)"},{"$f":"IFERROR(VLOOKUP(Tabla_SERIED_11_6[[#This Row],[IdEstablecimiento]],'[2]Establecimiento 2023'!$A$1:$E$183,5,FALSE),0)","v":"04101-La Serena"},"16090500","2023-09-15T12:20:38",1,1]
[9,"5",2023,"200538",{"$f":"IFERROR(VLOOKUP(Tabla_SERIED_11_6[[#This Row],[IdEstablecimiento]],'[2]Establecimiento 2023'!$A$1:$E$183,3,FALSE),0)","v":"200538-Centro de Salud Familiar San Isidro Calingasta"},{"$f":"IFERROR(VLOOKUP(Tabla_SERIED_11_6[[#This Row],[IdEstablecimiento]],'[2]Establecimiento 2023'!$A$1:$E$183,5,FALSE),0)","v":"04106-Vicuña"},"16200220","2023-10-17T15:45:21",5,1,4]
[9,"5",2023,"105315",{"$f":"IFERROR(VLOOKUP(Tabla_SERIED_11_6[[#This Row],[IdEstablecimiento]],'[2]Establecimiento 2023'!$A$1:$E$183,3,FALSE),0)","v":"105315-Centro de Salud Familiar Cerrillos de Tamaya"},{"$f":"IFERROR(VLOOKUP(Tabla_SERIED_11_6[[#This Row],[IdEstablecimiento]],'[2]Establecimiento 2023'!$A$1:$E$183,5,FALSE),0)","v":"04301-Ovalle"},"15050200","2023-10-17T15:50:02",5,2,3,null,null,2,null,null,1,{"$nulls":4},2]
[9,"5",2023,"105106",{"$f":"IFERROR(VLOOKUP(Tabla_SERIED_11_6[[#This Row],[IdEstablecimiento]],'[2]Establecimiento 2023'!$A$1:$E$183,3,FALSE),0)","v":"105106-Hospital Dr. José Arraño (Andacollo)"},{"$f":"IFERROR(VLOOKUP(Tabla_SERIED_11_6[[#This Row],[IdEstablecimiento]],'[2]Establecimiento 2023'!$A$1:$E$183,5,FALSE),0)","v":"105106-Hospital Andacollo"},"15060100","2023-10-17T09:51:53",4,2,2,null,null,1,null,1,1,1]
[9,"5",2023,"105301",{"$f":"IFERROR(VLOOKUP(Tabla_SERIED_11_6[[#This Row],[IdEstablecimiento]],'[2]Establecimiento 2023'!$A$1:$E$183,3,FALSE),0)","v":"105301-Centro de Salud Familiar Las Compañías"},{"$f":"IFERROR(VLOOKUP(Tabla_SERIED_11_6[[#This Row],[IdEstablecimiento]],'[2]Establecimiento 2023'!$A$1:$E$183,5,FALSE),0)","v":"04101-La Serena"},"16200220","2023-10-17T09:57:10",98,30,68]
[9,"5",2023,"105305",{"$f":"IFERROR(VLOOKUP(Tabla_SERIED_11_6[[#This Row],[IdEstablecimiento]],'[2]Establecimiento 2023'!$A$1:$E$183,3,FALSE),0)","v":"105305-Centro de Salud Familiar Tierras Blancas"},{"$f":"IFERROR(VLOOKUP(Tabla_SERIED_11_6[[#This Row],[IdEstablecimiento]],'[2]Establecimiento 2023'!$A$1:$E$183,5,FALSE),0)","v":"04102-Coquimbo"},"15080008","2023-10-17T10:00:18",189,{"$nulls":7},103,null,58,11,17]
[9,"5",2023,"105318",{"$f":"IFERROR(VLOOKUP(Tabla_SERIED_11_6[[#This Row],[IdEstablecimiento]],'[2]Establecimiento 2023'!$A$1:$E$183,3,FALSE),0)","v":"105318-Centro de Salud Familiar El Palqui"},{"$f":"IFERROR(VLOOKUP(Tabla_SERIED_11_6[[#This Row],[IdEstablecimiento]],'[2]Establecimiento 2023'!$A$1:$E$183,5,FALSE),0)","v":"04303-Monte Patria"},"15080014","2023-10-17T11:00:51",152,{"$nulls":3},76,76]
[9,"5",2023,"105405",{"$f":"IFERROR(VLOOKUP(Tabla_SERIED_11_6[[#This Row],[IdEstablecimiento]],'[2]Establecimiento 2023'!$A$1:$E$183,3,FALSE),0)","v":"105405-Posta de Salud Rural Guanaqueros"},{"$f":"IFERROR(VLOOKUP(Tabla_SERIED_11_6[[#This Row],[IdEstablecimiento]],'[2]Establecimiento 2023'!$A$1:$E$183,5,FALSE),0)","v":"04102-Coquimbo"},"16090300","2023-10-17T11:13:10",65,65]
[8,"5",2023,"105105",{"$f":"IFERROR(VLOOKUP(Tabla_SERIED_11_6[[#This Row],[IdEstablecimiento]],'[2]Establecimiento 2023'!$A$1:$E$183,3,FALSE),0)","v":"105105-Hospital San Juan de Dios (Combarbalá)"},{"$f":"IFERROR(VLOOKUP(Tabla_SERIED_11_6[[#This Row],[IdEstablecimiento]],'[2]Establecimiento 2023'!$A$1:$E$183,5,FALSE),0)","v":"105105-Hospital Combarbalá"},"15080016","2023-09-15T11:46:04",20,{"$nulls":4},2,8,10]
[8,"5",2023,"105481",{"$f":"IFERROR(VLOOKUP(Tabla_SERIED_11_6[[#This Row],[IdEstablecimiento]],'[2]Establecimiento 2023'!$A$1:$E$183,3,FALSE),0)","v":"105481-Posta de Salud Rural Tilama"},{"$f":"IFERROR(VLOOKUP(Tabla_SERIED_11_6[[#This Row],[IdEstablecimiento]],'[2]Establecimiento 2023'!$A$1:$E$183,5,FALSE),0)","v":"04203-Los Vilos"},"15080008","2023-09-25T10:28:12",1,{"$nulls":11},1]
[8,"5",2023,"105491",{"$f":"IFERROR(VLOOKUP(Tabla_SERIED_11_6[[#This Row],[IdEstablecimiento]],'[2]Establecimiento 2023'!$A$1:$E$183,3,FALSE),0)","v":"105491-Posta de Salud Rural Quelén Bajo"},{"$f":"IFERROR(VLOOKUP(Tabla_SERIED_11_6[[#This Row],[IdEstablecimiento]],'[2]Establecimiento 2023'!$A$1:$E$183,5,FALSE),0)","v":"04204-Salamanca"},"15900020","2023-09-25T10:35:19",3.2,null,null,3.2]
[8,"5",2023,"105313",{"$f":"IFERROR(VLOOKUP(Tabla_SERIED_11_6[[#This Row],[IdEstablecimiento]],'[2]Establecimiento 2023'!$A$1:$E$183,3,FALSE),0)","v":"105313-Centro de Salud Familiar Dr. Emilio Schaffhauser"},{"$f":"IFERROR(VLOOKUP(Tabla_SERIED_11_6[[#This Row],[IdEstablecimiento]],'[2]Establecimiento 2023'!$A$1:$E$183,5,FALSE),0)","v":"04101-La Serena"},"15901400","2023-09-25T09:20:26",2,1,1,null,1,1]
[8,"5",2023,"105322",{"$f":"IFERROR(VLOOKUP(Tabla_SERIED_11_6[[#This Row],[IdEstablecimiento]],'[2]Establecimiento 2023'!$A$1:$E$183,3,FALSE),0)","v":"105322-Centro de Salud Familiar Marcos Macuada"},{"$f":"IFERROR(VLOOKUP(Tabla_SERIED_11_6[[#This Row],[IdEstablecimiento]],'[2]Establecimiento 2023'!$A$1:$E$183,5,FALSE),0)","v":"04301-Ovalle"},"16200210","2023-09-15T12:19:18",48,48]
[8,"5",2023,"105324",{"$f":"IFERROR(VLOOKUP(Tabla_SERIED_11_6[[#This Row],[IdEstablecimiento]],'[2]Establecimiento 2023'!$A$1:$E$183,3,FALSE),0)","v":"105324-Centro de Salud Familiar Sotaquí"},{"$f":"IFERROR(VLOOKUP(Tabla_SERIED_11_6[[#This Row],[IdEstablecimiento]],'[2]Establecimiento 2023'!$A$1:$E$183,5,FALSE),0)","v":"04301-Ovalle"},"15050200","2023-09-15T12:20:35",8,4,5,{"$nulls":3},1,null,3,4]
[8,"5",2023,"105326",{"$f":"IFERROR(VLOOKUP(Tabla_SERIED_11_6[[#This Row],[IdEstablecimiento]],'[2]Establecimiento 2023'!$A$1:$E$183,3,FALSE),0)","v":"105326-Centro de Salud Familiar Villa San Rafael de Rozas"},{"$f":"IFERROR(VLOOKUP(Tabla_SERIED_11_6[[#This Row],[IdEstablecimiento]],'[2]Establecimiento 2023'!$A$1:$E$183,5,FALSE),0)","v":"04201-Illapel"},"16090300","2023-09-15T12:21:59",244,244]
[8,"5",2023,"105409",{"$f":"IFERROR(VLOOKUP(Tabla_SERIED_11_6[[#This Row],[IdEstablecimiento]],'[2]Establecimiento 2023'!$A$1:$E$183,3,FALSE),0)","v":"105409-Posta de Salud Rural El Chañar"},{"$f":"IFERROR(VLOOKUP(Tabla_SERIED_11_6[[#This Row],[IdEstablecimiento]],'[2]Establecimiento 2023'!$A$1:$E$183,5,FALSE),0)","v":"04305-Rio Hurtado"},"16100300","2023-09-15T15:32:49",21,7,14]
[8,"5",2023,"105425",{"$f":"IFERROR(VLOOKUP(Tabla_SERIED_11_6[[#This Row],[IdEstablecimiento]],'[2]Establecimiento 2023'!$A$1:$E$183,3,FALSE),0)","v":"105425-Posta de Salud Rural Chilecito"},{"$f":"IFERROR(VLOOKUP(Tabla_SERIED_11_6[[#This Row],[IdEstablecimiento]],'[2]Establecimiento 2023'!$A$1:$E$183,5,FALSE),0)","v":"04303-Monte Patria"},"15050200","2023-09-25T14:04:24",1,1,{"$nulls":6},1]
[8,"5",2023,"105435",{"$f":"IFERROR(VLOOKUP(Tabla_SERIED_11_6[[#This Row],[IdEstablecimiento]],'[2]Establecimiento 2023'!$A$1:$E$183,3,FALSE),0)","v":"105435-Posta de Salud Rural Tulahuén"},{"$f":"IFERROR(VLOOKUP(Tabla_SERIED_11_6[[#This Row],[IdEstablecimiento]],'[2]Establecimiento 2023'!$A$1:$E$183,5,FALSE),0)","v":"04303-Monte Patria"},"15080015","2023-09-25T09:40:41",26,{"$nulls":5},16,10]
[8,"5",2023,"105445",{"$f":"IFERROR(VLOOKUP(Tabla_SERIED_11_6[[#This Row],[IdEstablecimiento]],'[2]Establecimiento 2023'!$A$1:$E$183,3,FALSE),0)","v":"105445-Posta de Salud Rural Limáhuida"},{"$f":"IFERROR(VLOOKUP(Tabla_SERIED_11_6[[#This Row],[IdEstablecimiento]],'[2]Establecimiento 2023'!$A$1:$E$183,5,FALSE),0)","v":"04201-Illapel"},"16200220","2023-09-25T09:45:56",3,3,0]
[8,"5",2023,"105452",{"$f":"IFERROR(VLOOKUP(Tabla_SERIED_11_6[[#This Row],[IdEstablecimiento]],'[2]Establecimiento 2023'!$A$1:$E$183,3,FALSE),0)","v":"105452-Posta de Salud Rural Cuncumén(Salamanca)"},{"$f":"IFERROR(VLOOKUP(Tabla_SERIED_11_6[[#This Row],[IdEstablecimiento]],'[2]Establecimiento 2023'!$A$1:$E$183,5,FALSE),0)","v":"04204-Salamanca"},"15080014","2023-09-25T09:50:52",10,{"$nulls":3},8,2]
[8,"5",2023,"105454",{"$f":"IFERROR(VLOOKUP(Tabla_SERIED_11_6[[#This Row],[IdEstablecimiento]],'[2]Establecimiento 2023'!$A$1:$E$183,3,FALSE),0)","v":"105454-Posta de Salud Rural Cunlagua"},{"$f":"IFERROR(VLOOKUP(Tabla_SERIED_11_6[[#This Row],[IdEstablecimiento]],'[2]Establecimiento 2023'!$A$1:$E$183,5,FALSE),0)","v":"04204-Salamanca"},"15010200","2023-09-25T09:52:18",4,{"$nulls":5},2,2]
[9,"5",2023,"105432",{"$f":"IFERROR(VLOOKUP(Tabla_SERIED_11_6[[#This Row],[IdEstablecimiento]],'[2]Establecimiento 2023'!$A$1:$E$183,3,FALSE),0)","v":"105432-Posta de Salud Rural Rapel (Monte Patria)"},{"$f":"IFERROR(VLOOKUP(Tabla_SERIED_11_6[[#This Row],[IdEstablecimiento]],'[2]Establecimiento 2023'!$A$1:$E$183,5,FALSE),0)","v":"04303-Monte Patria"},"16090300","2023-10-17T11:29:54",101,101]
[9,"5",2023,"105434",{"$f":"IFERROR(VLOOKUP(Tabla_SERIED_11_6[[#This Row],[IdEstablecimiento]],'[2]Establecimiento 2023'!$A$1:$E$183,3,FALSE),0)","v":"105434-Posta de Salud Rural San Marcos (Combarbalá)"},{"$f":"IFERROR(VLOOKUP(Tabla_SERIED_11_6[[#This Row],[IdEstablecimiento]],'[2]Establecimiento 2023'!$A$1:$E$183,5,FALSE),0)","v":"04302-Combarbalá"},"15080015","2023-10-17T11:32:09",13,{"$nulls":5},2,11]
[9,"5",2023,"105444",{"$f":"IFERROR(VLOOKUP(Tabla_SERIED_11_6[[#This Row],[IdEstablecimiento]],'[2]Establecimiento 2023'!$A$1:$E$183,3,FALSE),0)","v":"105444-Posta de Salud Rural Huintil"},{"$f":"IFERROR(VLOOKUP(Tabla_SERIED_11_6[[#This Row],[IdEstablecimiento]],'[2]Establecimiento 2023'!$A$1:$E$183,5,FALSE),0)","v":"04201-Illapel"},"15050100","2023-10-17T11:44:06",16,7,9,null,null,1,3,1,6,4,null,null,1]
[9,"5",2023,"105417",{"$f":"IFERROR(VLOOKUP(Tabla_SERIED_11_6[[#This Row],[IdEstablecimiento]],'[2]Establecimiento 2023'!$A$1:$E$183,3,FALSE),0)","v":"105417-Posta de Salud Rural Alcones Bajo"},{"$f":"IFERROR(VLOOKUP(Tabla_SERIED_11_6[[#This Row],[IdEstablecimiento]],'[2]Establecimiento 2023'!$A$1:$E$183,5,FALSE),0)","v":"04301-Ovalle"},"16200210","2023-10-17T11:21:25",10,10]
[9,"5",2023,"105105",{"$f":"IFERROR(VLOOKUP(Tabla_SERIED_11_6[[#This Row],[IdEstablecimiento]],'[2]Establecimiento 2023'!$A$1:$E$183,3,FALSE),0)","v":"105105-Hospital San Juan de Dios (Combarbalá)"},{"$f":"IFERROR(VLOOKUP(Tabla_SERIED_11_6[[#This Row],[IdEstablecimiento]],'[2]Establecimiento 2023'!$A$1:$E$183,5,FALSE),0)","v":"105105-Hospital Combarbalá"},"15900030","2023-10-17T09:51:49",2.8,null,null,2.8]
[9,"5",2023,"105313",{"$f":"IFERROR(VLOOKUP(Tabla_SERIED_11_6[[#This Row],[IdEstablecimiento]],'[2]Establecimiento 2023'!$A$1:$E$183,3,FALSE),0)","v":"105313-Centro de Salud Familiar Dr. Emilio Schaffhauser"},{"$f":"IFERROR(VLOOKUP(Tabla_SERIED_11_6[[#This Row],[IdEstablecimiento]],'[2]Establecimiento 2023'!$A$1:$E$183,5,FALSE),0)","v":"04101-La Serena"},"15080019","2023-10-17T10:06:10",2,{"$nulls":5},2]
[9,"5",2023,"105319",{"$f":"IFERROR(VLOOKUP(Tabla_SERIED_11_6[[#This Row],[IdEstablecimiento]],'[2]Establecimiento 2023'!$A$1:$E$183,3,FALSE),0)","v":"105319-Centro de Salud Familiar Cardenal Raúl Silva Henríquez de La Serena"},{"$f":"IFERROR(VLOOKUP(Tabla_SERIED_11_6[[#This Row],[IdEstablecimiento]],'[2]Establecimiento 2023'!$A$1:$E$183,5,FALSE),0)","v":"04101-La Serena"},"15030100","2023-10-17T11:01:16",4.8,4.8]
[9,"5",2023,"105324",{"$f":"IFERROR(VLOOKUP(Tabla_SERIED_11_6[[#This Row],[IdEstablecimiento]],'[2]Establecimiento 2023'!$A$1:$E$183,3,FALSE),0)","v":"105324-Centro de Salud Familiar Sotaquí"},{"$f":"IFERROR(VLOOKUP(Tabla_SERIED_11_6[[#This Row],[IdEstablecimiento]],'[2]Establecimiento 2023'!$A$1:$E$183,5,FALSE),0)","v":"04301-Ovalle"},"15900030","2023-10-17T11:06:34",0.8,null,null,0.8]
[9,"5",2023,"105300",{"$f":"IFERROR(VLOOKUP(Tabla_SERIED_11_6[[#This Row],[IdEstablecimiento]],'[2]Establecimiento 2023'!$A$1:$E$183,3,FALSE),0)","v":"105300-Centro de Salud Familiar Cardenal Caro"},{"$f":"IFERROR(VLOOKUP(Tabla_SERIED_11_6[[#This Row],[IdEstablecimiento]],'[2]Establecimiento 2023'!$A$1:$E$183,5,FALSE),0)","v":"04101-La Serena"},"15030100","2023-10-17T09:56:24",7.2,0,4,3.2]
[9,"5",2023,"105302",{"$f":"IFERROR(VLOOKUP(Tabla_SERIED_11_6[[#This Row],[IdEstablecimiento]],'[2]Establecimiento 2023'!$A$1:$E$183,3,FALSE),0)","v":"105302-Centro de Salud Familiar Pedro Aguirre Cerda"},{"$f":"IFERROR(VLOOKUP(Tabla_SERIED_11_6[[#This Row],[IdEstablecimiento]],'[2]Establecimiento 2023'!$A$1:$E$183,5,FALSE),0)","v":"04101-La Serena"},"16100700","2023-10-17T09:56:49",2,1,1]
[8,"5",2023,"105106",{"$f":"IFERROR(VLOOKUP(Tabla_SERIED_11_6[[#This Row],[IdEstablecimiento]],'[2]Establecimiento 2023'!$A$1:$E$183,3,FALSE),0)","v":"105106-Hospital Dr. José Arraño (Andacollo)"},{"$f":"IFERROR(VLOOKUP(Tabla_SERIED_11_6[[#This Row],[IdEstablecimiento]],'[2]Establecimiento 2023'!$A$1:$E$183,5,FALSE),0)","v":"105106-Hospital Andacollo"},"15050200","2023-09-15T11:50:39",6,2,4,{"$nulls":4},1,3,2]
[8,"5",2023,"105466",{"$f":"IFERROR(VLOOKUP(Tabla_SERIED_11_6[[#This Row],[IdEstablecimiento]],'[2]Establecimiento 2023'!$A$1:$E$183,3,FALSE),0)","v":"105466-Posta de Salud Rural Valle Hermoso"},{"$f":"IFERROR(VLOOKUP(Tabla_SERIED_11_6[[#This Row],[IdEstablecimiento]],'[2]Establecimiento 2023'!$A$1:$E$183,5,FALSE),0)","v":"04302-Combarbalá"},"15050100","2023-09-25T10:04:20",3,1,2,{"$nulls":3},1,1,1]
[9,"5",2023,"105451",{"$f":"IFERROR(VLOOKUP(Tabla_SERIED_11_6[[#This Row],[IdEstablecimiento]],'[2]Establecimiento 2023'!$A$1:$E$183,3,FALSE),0)","v":"105451-Posta de Salud Rural Agua Fría"},{"$f":"IFERROR(VLOOKUP(Tabla_SERIED_11_6[[#This Row],[IdEstablecimiento]],'[2]Establecimiento 2023'!$A$1:$E$183,5,FALSE),0)","v":"04202-Canela"},"16200210","2023-10-17T11:49:28",5,5]
[9,"5",2023,"105458",{"$f":"IFERROR(VLOOKUP(Tabla_SERIED_11_6[[#This Row],[IdEstablecimiento]],'[2]Establecimiento 2023'!$A$1:$E$183,3,FALSE),0)","v":"105458-Posta de Salud Rural Tahuinco"},{"$f":"IFERROR(VLOOKUP(Tabla_SERIED_11_6[[#This Row],[IdEstablecimiento]],'[2]Establecimiento 2023'!$A$1:$E$183,5,FALSE),0)","v":"04204-Salamanca"},"16200220","2023-10-17T11:54:22",8,3,5]
[9,"5",2023,"105475",{"$f":"IFERROR(VLOOKUP(Tabla_SERIED_11_6[[#This Row],[IdEstablecimiento]],'[2]Establecimiento 2023'!$A$1:$E$183,3,FALSE),0)","v":"105475-Posta de Salud Rural Horcón (Paiguano)"},{"$f":"IFERROR(VLOOKUP(Tabla_SERIED_11_6[[#This Row],[IdEstablecimiento]],'[2]Establecimiento 2023'!$A$1:$E$183,5,FALSE),0)","v":"04105-Paihuano"},"15050100","2023-10-17T17:06:01",10,3,7,{"$nulls":3},1,5,1,1,0,null,1,null,1]
[8,"5",2023,"105483",{"$f":"IFERROR(VLOOKUP(Tabla_SERIED_11_6[[#This Row],[IdEstablecimiento]],'[2]Establecimiento 2023'!$A$1:$E$183,3,FALSE),0)","v":"105483-Posta de Salud Rural Los Rulos"},{"$f":"IFERROR(VLOOKUP(Tabla_SERIED_11_6[[#This Row],[IdEstablecimiento]],'[2]Establecimiento 2023'!$A$1:$E$183,5,FALSE),0)","v":"04202-Canela"},"15010200","2023-09-25T10:29:34",2,{"$nulls":5},2]
[8,"5",2023,"105485",{"$f":"IFERROR(VLOOKUP(Tabla_SERIED_11_6[[#This Row],[IdEstablecimiento]],'[2]Establecimiento 2023'!$A$1:$E$183,3,FALSE),0)","v":"105485-Posta de Salud Rural Plan de Hornos"},{"$f":"IFERROR(VLOOKUP(Tabla_SERIED_11_6[[#This Row],[IdEstablecimiento]],'[2]Establecimiento 2023'!$A$1:$E$183,5,FALSE),0)","v":"04201-Illapel"},"16200210","2023-09-25T10:31:30",9,9]
[8,"5",2023,"105301",{"$f":"IFERROR(VLOOKUP(Tabla_SERIED_11_6[[#This Row],[IdEstablecimiento]],'[2]Establecimiento 2023'!$A$1:$E$183,3,FALSE),0)","v":"105301-Centro de Salud Familiar Las Compañías"},{"$f":"IFERROR(VLOOKUP(Tabla_SERIED_11_6[[#This Row],[IdEstablecimiento]],'[2]Establecimiento 2023'!$A$1:$E$183,5,FALSE),0)","v":"04101-La Serena"},"16100600","2023-09-15T11:54:49",1,0,1]
[8,"5",2023,"105308",{"$f":"IFERROR(VLOOKUP(Tabla_SERIED_11_6[[#This Row],[IdEstablecimiento]],'[2]Establecimiento 2023'!$A$1:$E$183,3,FALSE),0)","v":"105308-Centro de Salud Familiar Punitaqui"},{"$f":"IFERROR(VLOOKUP(Tabla_SERIED_11_6[[#This Row],[IdEstablecimiento]],'[2]Establecimiento 2023'!$A$1:$E$183,5,FALSE),0)","v":"04304-Punitaqui"},"16100300","2023-09-15T11:59:36",604,263,341]
[9,"5",2023,"105105",{"$f":"IFERROR(VLOOKUP(Tabla_SERIED_11_6[[#This Row],[IdEstablecimiento]],'[2]Establecimiento 2023'!$A$1:$E$183,3,FALSE),0)","v":"105105-Hospital San Juan de Dios (Combarbalá)"},{"$f":"IFERROR(VLOOKUP(Tabla_SERIED_11_6[[#This Row],[IdEstablecimiento]],'[2]Establecimiento 2023'!$A$1:$E$183,5,FALSE),0)","v":"105105-Hospital Combarbalá"},"15010500","2023-10-17T09:51:49",16,null,null,2,null,null,6,8]
[9,"5",2023,"105301",{"$f":"IFERROR(VLOOKUP(Tabla_SERIED_11_6[[#This Row],[IdEstablecimiento]],'[2]Establecimiento 2023'!$A$1:$E$183,3,FALSE),0)","v":"105301-Centro de Salud Familiar Las Compañías"},{"$f":"IFERROR(VLOOKUP(Tabla_SERIED_11_6[[#This Row],[IdEstablecimiento]],'[2]Establecimiento 2023'!$A$1:$E$183,5,FALSE),0)","v":"04101-La Serena"},"15900010","2023-10-17T09:57:10",144.8,14.4,35.2,95.2]
[9,"5",2023,"105308",{"$f":"IFERROR(VLOOKUP(Tabla_SERIED_11_6[[#This Row],[IdEstablecimiento]],'[2]Establecimiento 2023'!$A$1:$E$183,3,FALSE),0)","v":"105308-Centro de Salud Familiar Punitaqui"},{"$f":"IFERROR(VLOOKUP(Tabla_SERIED_11_6[[#This Row],[IdEstablecimiento]],'[2]Establecimiento 2023'!$A$1:$E$183,5,FALSE),0)","v":"04304-Punitaqui"},"15900010","2023-10-17T10:02:23",134.6,null,12.8,121.8]
[9,"5",2023,"105313",{"$f":"IFERROR(VLOOKUP(Tabla_SERIED_11_6[[#This Row],[IdEstablecimiento]],'[2]Establecimiento 2023'!$A$1:$E$183,3,FALSE),0)","v":"105313-Centro de Salud Familiar Dr. Emilio Schaffhauser"},{"$f":"IFERROR(VLOOKUP(Tabla_SERIED_11_6[[#This Row],[IdEstablecimiento]],'[2]Establecimiento 2023'!$A$1:$E$183,5,FALSE),0)","v":"04101-La Serena"},"16090100","2023-10-17T10:06:10",48,48]
[9,"5",2023,"105319",{"$f":"IFERROR(VLOOKUP(Tabla_SERIED_11_6[[#This Row],[IdEstablecimiento]],'[2]Establecimiento 2023'!$A$1:$E$183,3,FALSE),0)","v":"105319-Centro de Salud Familiar Cardenal Raúl Silva Henríquez de La Serena"},{"$f":"IFERROR(VLOOKUP(Tabla_SERIED_11_6[[#This Row],[IdEstablecimiento]],'[2]Establecimiento 2023'!$A$1:$E$183,5,FALSE),0)","v":"04101-La Serena"},"15900050","2023-10-17T11:01:16",8,3,5,null,null,2,5,1]
[9,"5",2023,"105323",{"$f":"IFERROR(VLOOKUP(Tabla_SERIED_11_6[[#This Row],[IdEstablecimiento]],'[2]Establecimiento 2023'!$A$1:$E$183,3,FALSE),0)","v":"105323-Centro de Salud Familiar Dr. Sergio Aguilar Delgado"},{"$f":"IFERROR(VLOOKUP(Tabla_SERIED_11_6[[#This Row],[IdEstablecimiento]],'[2]Establecimiento 2023'!$A$1:$E$183,5,FALSE),0)","v":"04102-Coquimbo"},"15080015","2023-10-17T11:04:16",354,{"$nulls":5},196,158]
[8,"5",2023,"200569",{"$f":"IFERROR(VLOOKUP(Tabla_SERIED_11_6[[#This Row],[IdEstablecimiento]],'[2]Establecimiento 2023'!$A$1:$E$183,3,FALSE),0)","v":"200569-Centro de Salud Familiar Fray Jorge"},{"$f":"IFERROR(VLOOKUP(Tabla_SERIED_11_6[[#This Row],[IdEstablecimiento]],'[2]Establecimiento 2023'!$A$1:$E$183,5,FALSE),0)","v":"04301-Ovalle"},"15080016","2023-09-25T11:07:23",26,{"$nulls":4},10,6,10]
[8,"5",2023,"200607",{"$f":"IFERROR(VLOOKUP(Tabla_SERIED_11_6[[#This Row],[IdEstablecimiento]],'[2]Establecimiento 2023'!$A$1:$E$183,3,FALSE),0)","v":"200607-Centro de Salud Familiar Lila Cortés Godoy"},{"$f":"IFERROR(VLOOKUP(Tabla_SERIED_11_6[[#This Row],[IdEstablecimiento]],'[2]Establecimiento 2023'!$A$1:$E$183,5,FALSE),0)","v":"04102-Coquimbo"},"15080016","2023-09-25T11:07:27",18,{"$nulls":4},4,10,4]
[9,"5",2023,"105442",{"$f":"IFERROR(VLOOKUP(Tabla_SERIED_11_6[[#This Row],[IdEstablecimiento]],'[2]Establecimiento 2023'!$A$1:$E$183,3,FALSE),0)","v":"105442-Posta de Salud Rural San Pedro de Quiles"},{"$f":"IFERROR(VLOOKUP(Tabla_SERIED_11_6[[#This Row],[IdEstablecimiento]],'[2]Establecimiento 2023'!$A$1:$E$183,5,FALSE),0)","v":"04304-Punitaqui"},"15050100","2023-10-17T11:42:47",2,2,{"$nulls":7},2]
[9,"5",2023,"105450",{"$f":"IFERROR(VLOOKUP(Tabla_SERIED_11_6[[#This Row],[IdEstablecimiento]],'[2]Establecimiento 2023'!$A$1:$E$183,3,FALSE),0)","v":"105450-Posta de Salud Rural Mincha Norte"},{"$f":"IFERROR(VLOOKUP(Tabla_SERIED_11_6[[#This Row],[IdEstablecimiento]],'[2]Establecimiento 2023'!$A$1:$E$183,5,FALSE),0)","v":"04202-Canela"},"16090600","2023-10-17T11:48:56",1,1]
[9,"5",2023,"105460",{"$f":"IFERROR(VLOOKUP(Tabla_SERIED_11_6[[#This Row],[IdEstablecimiento]],'[2]Establecimiento 2023'!$A$1:$E$183,3,FALSE),0)","v":"105460-Centro Comunitario de Salud Familiar Cogotí 18"},{"$f":"IFERROR(VLOOKUP(Tabla_SERIED_11_6[[#This Row],[IdEstablecimiento]],'[2]Establecimiento 2023'!$A$1:$E$183,5,FALSE),0)","v":"04302-Combarbalá"},"15080014","2023-10-17T11:55:52",6,{"$nulls":4},6]
[9,"5",2023,"105464",{"$f":"IFERROR(VLOOKUP(Tabla_SERIED_11_6[[#This Row],[IdEstablecimiento]],'[2]Establecimiento 2023'!$A$1:$E$183,3,FALSE),0)","v":"105464-Posta de Salud Rural La Ligua"},{"$f":"IFERROR(VLOOKUP(Tabla_SERIED_11_6[[#This Row],[IdEstablecimiento]],'[2]Establecimiento 2023'!$A$1:$E$183,5,FALSE),0)","v":"04302-Combarbalá"},"16100600","2023-10-17T12:00:47",1,null,1]
[7,"5",2023,"105468",{"$f":"IFERROR(VLOOKUP(Tabla_SERIED_11_6[[#This Row],[IdEstablecimiento]],'[2]Establecimiento 2023'!$A$1:$E$183,3,FALSE),0)","v":"105468-Posta de Salud Rural El Molle"},{"$f":"IFERROR(VLOOKUP(Tabla_SERIED_11_6[[#This Row],[IdEstablecimiento]],'[2]Establecimiento 2023'!$A$1:$E$183,5,FALSE),0)","v":"04106-Vicuña"},"15080008","2023-08-18T10:03:28",5,{"$nulls":7},4,{"$nulls":3},1]
[7,"5",2023,"105478",{"$f":"IFERROR(VLOOKUP(Tabla_SERIED_11_6[[#This Row],[IdEstablecimiento]],'[2]Establecimiento 2023'!$A$1:$E$183,3,FALSE),0)","v":"105478-Posta de Salud Rural Caimanes"},{"$f":"IFERROR(VLOOKUP(Tabla_SERIED_11_6[[#This Row],[IdEstablecimiento]],'[2]Establecimiento 2023'!$A$1:$E$183,5,FALSE),0)","v":"04203-Los Vilos"},"16100300","2023-08-18T10:09:22",31,14,17]
[7,"5",2023,"105482",{"$f":"IFERROR(VLOOKUP(Tabla_SERIED_11_6[[#This Row],[IdEstablecimiento]],'[2]Establecimiento 2023'!$A$1:$E$183,3,FALSE),0)","v":"105482-Posta de Salud Rural Canela Alta"},{"$f":"IFERROR(VLOOKUP(Tabla_SERIED_11_6[[#This Row],[IdEstablecimiento]],'[2]Establecimiento 2023'!$A$1:$E$183,5,FALSE),0)","v":"04202-Canela"},"16100300","2023-08-18T10:13:43",97,43,54]
[7,"5",2023,"105402",{"$f":"IFERROR(VLOOKUP(Tabla_SERIED_11_6[[#This Row],[IdEstablecimiento]],'[2]Establecimiento 2023'!$A$1:$E$183,3,FALSE),0)","v":"105402-Posta de Salud Rural El Romero"},{"$f":"IFERROR(VLOOKUP(Tabla_SERIED_11_6[[#This Row],[IdEstablecimiento]],'[2]Establecimiento 2023'!$A$1:$E$183,5,FALSE),0)","v":"04101-La Serena"},"15080015","2023-10-17T11:09:21",27,{"$nulls":5},12,15]
[7,"5",2023,"105411",{"$f":"IFERROR(VLOOKUP(Tabla_SERIED_11_6[[#This Row],[IdEstablecimiento]],'[2]Establecimiento 2023'!$A$1:$E$183,3,FALSE),0)","v":"105411-Posta de Salud Rural Las Breas (Río Hurtado)"},{"$f":"IFERROR(VLOOKUP(Tabla_SERIED_11_6[[#This Row],[IdEstablecimiento]],'[2]Establecimiento 2023'!$A$1:$E$183,5,FALSE),0)","v":"04305-Rio Hurtado"},"16100300","2023-08-18T08:17:39",46,23,23]
[8,"5",2023,"105313",{"$f":"IFERROR(VLOOKUP(Tabla_SERIED_11_6[[#This Row],[IdEstablecimiento]],'[2]Establecimiento 2023'!$A$1:$E$183,3,FALSE),0)","v":"105313-Centro de Salud Familiar Dr. Emilio Schaffhauser"},{"$f":"IFERROR(VLOOKUP(Tabla_SERIED_11_6[[#This Row],[IdEstablecimiento]],'[2]Establecimiento 2023'!$A$1:$E$183,5,FALSE),0)","v":"04101-La Serena"},"15030100","2023-09-25T09:20:26",7.6,3.2,null,4.4]
[8,"5",2023,"105107",{"$f":"IFERROR(VLOOKUP(Tabla_SERIED_11_6[[#This Row],[IdEstablecimiento]],'[2]Establecimiento 2023'!$A$1:$E$183,3,FALSE),0)","v":"105107-Hospital San Juan de Dios (Vicuña)"},{"$f":"IFERROR(VLOOKUP(Tabla_SERIED_11_6[[#This Row],[IdEstablecimiento]],'[2]Establecimiento 2023'!$A$1:$E$183,5,FALSE),0)","v":"105107-Hospital Vicuña"},"16090600","2023-09-15T11:53:17",1,1]
[8,"5",2023,"105302",{"$f":"IFERROR(VLOOKUP(Tabla_SERIED_11_6[[#This Row],[IdEstablecimiento]],'[2]Establecimiento 2023'!$A$1:$E$183,3,FALSE),0)","v":"105302-Centro de Salud Familiar Pedro Aguirre Cerda"},{"$f":"IFERROR(VLOOKUP(Tabla_SERIED_11_6[[#This Row],[IdEstablecimiento]],'[2]Establecimiento 2023'!$A$1:$E$183,5,FALSE),0)","v":"04101-La Serena"},"15080018","2023-09-15T11:55:42",26,null,null,10,6,10]
[8,"5",2023,"105310",{"$f":"IFERROR(VLOOKUP(Tabla_SERIED_11_6[[#This Row],[IdEstablecimiento]],'[2]Establecimiento 2023'!$A$1:$E$183,3,FALSE),0)","v":"105310-Centro de Salud Familiar Pichasca"},{"$f":"IFERROR(VLOOKUP(Tabla_SERIED_11_6[[#This Row],[IdEstablecimiento]],'[2]Establecimiento 2023'!$A$1:$E$183,5,FALSE),0)","v":"04305-Rio Hurtado"},"15080016","2023-09-15T12:05:42",6,{"$nulls":5},2,4]
[9,"5",2023,"105475",{"$f":"IFERROR(VLOOKUP(Tabla_SERIED_11_6[[#This Row],[IdEstablecimiento]],'[2]Establecimiento 2023'!$A$1:$E$183,3,FALSE),0)","v":"105475-Posta de Salud Rural Horcón (Paiguano)"},{"$f":"IFERROR(VLOOKUP(Tabla_SERIED_11_6[[#This Row],[IdEstablecimiento]],'[2]Establecimiento 2023'!$A$1:$E$183,5,FALSE),0)","v":"04105-Paihuano"},"16100300","2023-10-17T17:06:01",21,10,11]
[9,"5",2023,"105480",{"$f":"IFERROR(VLOOKUP(Tabla_SERIED_11_6[[#This Row],[IdEstablecimiento]],'[2]Establecimiento 2023'!$A$1:$E$183,3,FALSE),0)","v":"105480-Posta de Salud Rural Quilimarí"},{"$f":"IFERROR(VLOOKUP(Tabla_SERIED_11_6[[#This Row],[IdEstablecimiento]],'[2]Establecimiento 2023'!$A$1:$E$183,5,FALSE),0)","v":"04203-Los Vilos"},"15080014","2023-10-17T14:44:35",46,{"$nulls":3},26,20]
[9,"5",2023,"105482",{"$f":"IFERROR(VLOOKUP(Tabla_SERIED_11_6[[#This Row],[IdEstablecimiento]],'[2]Establecimiento 2023'!$A$1:$E$183,3,FALSE),0)","v":"105482-Posta de Salud Rural Canela Alta"},{"$f":"IFERROR(VLOOKUP(Tabla_SERIED_11_6[[#This Row],[IdEstablecimiento]],'[2]Establecimiento 2023'!$A$1:$E$183,5,FALSE),0)","v":"04202-Canela"},"15050100","2023-10-17T14:45:43",3,1,2,{"$nulls":3},2,1]
[9,"5",2023,"105498",{"$f":"IFERROR(VLOOKUP(Tabla_SERIED_11_6[[#This Row],[IdEstablecimiento]],'[2]Establecimiento 2023'!$A$1:$E$183,3,FALSE),0)","v":"105498-Posta de Salud Rural Quebrada Linares"},{"$f":"IFERROR(VLOOKUP(Tabla_SERIED_11_6[[#This Row],[IdEstablecimiento]],'[2]Establecimiento 2023'!$A$1:$E$183,5,FALSE),0)","v":"04202-Canela"},"16200220","2023-10-17T15:02:54",4,2,2]
[7,"5",2023,"105302",{"$f":"IFERROR(VLOOKUP(Tabla_SERIED_11_6[[#This Row],[IdEstablecimiento]],'[2]Establecimiento 2023'!$A$1:$E$183,3,FALSE),0)","v":"105302-Centro de Salud Familiar Pedro Aguirre Cerda"},{"$f":"IFERROR(VLOOKUP(Tabla_SERIED_11_6[[#This Row],[IdEstablecimiento]],'[2]Establecimiento 2023'!$A$1:$E$183,5,FALSE),0)","v":"04101-La Serena"},"15080018","2023-08-18T08:00:41",18,null,2,2,8,6]
[7,"5",2023,"105479",{"$f":"IFERROR(VLOOKUP(Tabla_SERIED_11_6[[#This Row],[IdEstablecimiento]],'[2]Establecimiento 2023'!$A$1:$E$183,3,FALSE),0)","v":"105479-Posta de Salud Rural Guangualí"},{"$f":"IFERROR(VLOOKUP(Tabla_SERIED_11_6[[#This Row],[IdEstablecimiento]],'[2]Establecimiento 2023'!$A$1:$E$183,5,FALSE),0)","v":"04203-Los Vilos"},"16200210","2023-08-18T10:09:54",1,1]
[9,"5",2023,"200607",{"$f":"IFERROR(VLOOKUP(Tabla_SERIED_11_6[[#This Row],[IdEstablecimiento]],'[2]Establecimiento 2023'!$A$1:$E$183,3,FALSE),0)","v":"200607-Centro de Salud Familiar Lila Cortés Godoy"},{"$f":"IFERROR(VLOOKUP(Tabla_SERIED_11_6[[#This Row],[IdEstablecimiento]],'[2]Establecimiento 2023'!$A$1:$E$183,5,FALSE),0)","v":"04102-Coquimbo"},"16200100","2023-10-17T15:46:21",12,6,6]
[9,"5",2023,"105431",{"$f":"IFERROR(VLOOKUP(Tabla_SERIED_11_6[[#This Row],[IdEstablecimiento]],'[2]Establecimiento 2023'!$A$1:$E$183,3,FALSE),0)","v":"105431-Posta de Salud Rural Pedregal"},{"$f":"IFERROR(VLOOKUP(Tabla_SERIED_11_6[[#This Row],[IdEstablecimiento]],'[2]Establecimiento 2023'!$A$1:$E$183,5,FALSE),0)","v":"04303-Monte Patria"},"15900010","2023-10-17T11:29:24",0.8,null,null,0.8]
[9,"5",2023,"105455",{"$f":"IFERROR(VLOOKUP(Tabla_SERIED_11_6[[#This Row],[IdEstablecimiento]],'[2]Establecimiento 2023'!$A$1:$E$183,3,FALSE),0)","v":"105455-CESFAM Valle Alto"},{"$f":"IFERROR(VLOOKUP(Tabla_SERIED_11_6[[#This Row],[IdEstablecimiento]],'[2]Establecimiento 2023'!$A$1:$E$183,5,FALSE),0)","v":"04204-Salamanca"},"15900050","2023-10-17T11:52:35",1,null,1,{"$nulls":3},1]
[9,"5",2023,"105458",{"$f":"IFERROR(VLOOKUP(Tabla_SERIED_11_6[[#This Row],[IdEstablecimiento]],'[2]Establecimiento 2023'!$A$1:$E$183,3,FALSE),0)","v":"105458-Posta de Salud Rural Tahuinco"},{"$f":"IFERROR(VLOOKUP(Tabla_SERIED_11_6[[#This Row],[IdEstablecimiento]],'[2]Establecimiento 2023'!$A$1:$E$183,5,FALSE),0)","v":"04204-Salamanca"},"15010200","2023-10-17T11:54:22",127,{"$nulls":5},80,47]
[9,"5",2023,"105463",{"$f":"IFERROR(VLOOKUP(Tabla_SERIED_11_6[[#This Row],[IdEstablecimiento]],'[2]Establecimiento 2023'!$A$1:$E$183,3,FALSE),0)","v":"105463-Posta de Salud Rural Quilitapia"},{"$f":"IFERROR(VLOOKUP(Tabla_SERIED_11_6[[#This Row],[IdEstablecimiento]],'[2]Establecimiento 2023'!$A$1:$E$183,5,FALSE),0)","v":"04302-Combarbalá"},"15010500","2023-10-17T12:00:52",2,null,null,2]
[9,"5",2023,"105480",{"$f":"IFERROR(VLOOKUP(Tabla_SERIED_11_6[[#This Row],[IdEstablecimiento]],'[2]Establecimiento 2023'!$A$1:$E$183,3,FALSE),0)","v":"105480-Posta de Salud Rural Quilimarí"},{"$f":"IFERROR(VLOOKUP(Tabla_SERIED_11_6[[#This Row],[IdEstablecimiento]],'[2]Establecimiento 2023'!$A$1:$E$183,5,FALSE),0)","v":"04203-Los Vilos"},"15900010","2023-10-17T14:44:35",34.4,7.2,3.2,24]
[9,"5",2023,"105492",{"$f":"IFERROR(VLOOKUP(Tabla_SERIED_11_6[[#This Row],[IdEstablecimiento]],'[2]Establecimiento 2023'!$A$1:$E$183,3,FALSE),0)","v":"105492-Posta de Salud Rural Camisa"},{"$f":"IFERROR(VLOOKUP(Tabla_SERIED_11_6[[#This Row],[IdEstablecimiento]],'[2]Establecimiento 2023'!$A$1:$E$183,5,FALSE),0)","v":"04204-Salamanca"},"16090300","2023-10-17T14:54:13",53,53]
[9,"5",2023,"105402",{"$f":"IFERROR(VLOOKUP(Tabla_SERIED_11_6[[#This Row],[IdEstablecimiento]],'[2]Establecimiento 2023'!$A$1:$E$183,3,FALSE),0)","v":"105402-Posta de Salud Rural El Romero"},{"$f":"IFERROR(VLOOKUP(Tabla_SERIED_11_6[[#This Row],[IdEstablecimiento]],'[2]Establecimiento 2023'!$A$1:$E$183,5,FALSE),0)","v":"04101-La Serena"},"15010500","2023-10-17T11:09:25",2,{"$nulls":5},2]
[9,"5",2023,"105410",{"$f":"IFERROR(VLOOKUP(Tabla_SERIED_11_6[[#This Row],[IdEstablecimiento]],'[2]Establecimiento 2023'!$A$1:$E$183,3,FALSE),0)","v":"105410-Posta de Salud Rural Hurtado"},{"$f":"IFERROR(VLOOKUP(Tabla_SERIED_11_6[[#This Row],[IdEstablecimiento]],'[2]Establecimiento 2023'!$A$1:$E$183,5,FALSE),0)","v":"04305-Rio Hurtado"},"16090300","2023-10-17T11:17:18",39,39]
[8,"5",2023,"105430",{"$f":"IFERROR(VLOOKUP(Tabla_SERIED_11_6[[#This Row],[IdEstablecimiento]],'[2]Establecimiento 2023'!$A$1:$E$183,3,FALSE),0)","v":"105430-Posta de Salud Rural Mialqui"},{"$f":"IFERROR(VLOOKUP(Tabla_SERIED_11_6[[#This Row],[IdEstablecimiento]],'[2]Establecimiento 2023'!$A$1:$E$183,5,FALSE),0)","v":"04303-Monte Patria"},"16200220","2023-09-15T16:30:20",12,4,8]
[8,"5",2023,"105437",{"$f":"IFERROR(VLOOKUP(Tabla_SERIED_11_6[[#This Row],[IdEstablecimiento]],'[2]Establecimiento 2023'!$A$1:$E$183,3,FALSE),0)","v":"105437-Posta de Salud Rural Chalinga"},{"$f":"IFERROR(VLOOKUP(Tabla_SERIED_11_6[[#This Row],[IdEstablecimiento]],'[2]Establecimiento 2023'!$A$1:$E$183,5,FALSE),0)","v":"04301-Ovalle"},"15080014","2023-09-25T09:41:41",2,{"$nulls":4},2]
[8,"5",2023,"105437",{"$f":"IFERROR(VLOOKUP(Tabla_SERIED_11_6[[#This Row],[IdEstablecimiento]],'[2]Establecimiento 2023'!$A$1:$E$183,3,FALSE),0)","v":"105437-Posta de Salud Rural Chalinga"},{"$f":"IFERROR(VLOOKUP(Tabla_SERIED_11_6[[#This Row],[IdEstablecimiento]],'[2]Establecimiento 2023'!$A$1:$E$183,5,FALSE),0)","v":"04301-Ovalle"},"16090300","2023-09-25T09:41:41",113,113]
[8,"5",2023,"105454",{"$f":"IFERROR(VLOOKUP(Tabla_SERIED_11_6[[#This Row],[IdEstablecimiento]],'[2]Establecimiento 2023'!$A$1:$E$183,3,FALSE),0)","v":"105454-Posta de Salud Rural Cunlagua"},{"$f":"IFERROR(VLOOKUP(Tabla_SERIED_11_6[[#This Row],[IdEstablecimiento]],'[2]Establecimiento 2023'!$A$1:$E$183,5,FALSE),0)","v":"04204-Salamanca"},"15050100","2023-09-25T09:52:18",2,2,{"$nulls":6},1,1]
[7,"5",2023,"105498",{"$f":"IFERROR(VLOOKUP(Tabla_SERIED_11_6[[#This Row],[IdEstablecimiento]],'[2]Establecimiento 2023'!$A$1:$E$183,3,FALSE),0)","v":"105498-Posta de Salud Rural Quebrada Linares"},{"$f":"IFERROR(VLOOKUP(Tabla_SERIED_11_6[[#This Row],[IdEstablecimiento]],'[2]Establecimiento 2023'!$A$1:$E$183,5,FALSE),0)","v":"04202-Canela"},"16200210","2023-08-18T10:40:22",4,4]
[7,"5",2023,"105454",{"$f":"IFERROR(VLOOKUP(Tabla_SERIED_11_6[[#This Row],[IdEstablecimiento]],'[2]Establecimiento 2023'!$A$1:$E$183,3,FALSE),0)","v":"105454-Posta de Salud Rural Cunlagua"},{"$f":"IFERROR(VLOOKUP(Tabla_SERIED_11_6[[#This Row],[IdEstablecimiento]],'[2]Establecimiento 2023'!$A$1:$E$183,5,FALSE),0)","v":"04204-Salamanca"},"16200220","2023-08-18T09:34:34",2,1,1]
[7,"5",2023,"105468",{"$f":"IFERROR(VLOOKUP(Tabla_SERIED_11_6[[#This Row],[IdEstablecimiento]],'[2]Establecimiento 2023'!$A$1:$E$183,3,FALSE),0)","v":"105468-Posta de Salud Rural El Molle"},{"$f":"IFERROR(VLOOKUP(Tabla_SERIED_11_6[[#This Row],[IdEstablecimiento]],'[2]Establecimiento 2023'!$A$1:$E$183,5,FALSE),0)","v":"04106-Vicuña"},"15010200","2023-08-18T10:03:28",38,{"$nulls":5},22,16]
[7,"5",2023,"105478",{"$f":"IFERROR(VLOOKUP(Tabla_SERIED_11_6[[#This Row],[IdEstablecimiento]],'[2]Establecimiento 2023'!$A$1:$E$183,3,FALSE),0)","v":"105478-Posta de Salud Rural Caimanes"},{"$f":"IFERROR(VLOOKUP(Tabla_SERIED_11_6[[#This Row],[IdEstablecimiento]],'[2]Establecimiento 2023'!$A$1:$E$183,5,FALSE),0)","v":"04203-Los Vilos"},"15010500","2023-08-18T10:09:22",2,{"$nulls":5},2]
[7,"5",2023,"105480",{"$f":"IFERROR(VLOOKUP(Tabla_SERIED_11_6[[#This Row],[IdEstablecimiento]],'[2]Establecimiento 2023'!$A$1:$E$183,3,FALSE),0)","v":"105480-Posta de Salud Rural Quilimarí"},{"$f":"IFERROR(VLOOKUP(Tabla_SERIED_11_6[[#This Row],[IdEstablecimiento]],'[2]Establecimiento 2023'!$A$1:$E$183,5,FALSE),0)","v":"04203-Los Vilos"},"15900050","2023-08-18T10:10:30",1,1,0,null,null,1]
[7,"5",2023,"105303",{"$f":"IFERROR(VLOOKUP(Tabla_SERIED_11_6[[#This Row],[IdEstablecimiento]],'[2]Establecimiento 2023'!$A$1:$E$183,3,FALSE),0)","v":"105303-Centro de Salud Familiar San Juan"},{"$f":"IFERROR(VLOOKUP(Tabla_SERIED_11_6[[#This Row],[IdEstablecimiento]],'[2]Establecimiento 2023'!$A$1:$E$183,5,FALSE),0)","v":"04102-Coquimbo"},"15900010","2023-10-17T09:58:05",199.2,7.2,93.6,98.4]
[8,"5",2023,"105467",{"$f":"IFERROR(VLOOKUP(Tabla_SERIED_11_6[[#This Row],[IdEstablecimiento]],'[2]Establecimiento 2023'!$A$1:$E$183,3,FALSE),0)","v":"105467-Posta de Salud Rural Diaguitas"},{"$f":"IFERROR(VLOOKUP(Tabla_SERIED_11_6[[#This Row],[IdEstablecimiento]],'[2]Establecimiento 2023'!$A$1:$E$183,5,FALSE),0)","v":"04106-Vicuña"},"15010200","2023-09-25T10:04:25",32,{"$nulls":5},22,10]
[8,"5",2023,"105468",{"$f":"IFERROR(VLOOKUP(Tabla_SERIED_11_6[[#This Row],[IdEstablecimiento]],'[2]Establecimiento 2023'!$A$1:$E$183,3,FALSE),0)","v":"105468-Posta de Salud Rural El Molle"},{"$f":"IFERROR(VLOOKUP(Tabla_SERIED_11_6[[#This Row],[IdEstablecimiento]],'[2]Establecimiento 2023'!$A$1:$E$183,5,FALSE),0)","v":"04106-Vicuña"},"15080008","2023-09-25T10:05:35",8,{"$nulls":7},4,null,4]
[8,"5",2023,"105488",{"$f":"IFERROR(VLOOKUP(Tabla_SERIED_11_6[[#This Row],[IdEstablecimiento]],'[2]Establecimiento 2023'!$A$1:$E$183,3,FALSE),0)","v":"105488-Posta de Salud Rural Espíritu Santo"},{"$f":"IFERROR(VLOOKUP(Tabla_SERIED_11_6[[#This Row],[IdEstablecimiento]],'[2]Establecimiento 2023'!$A$1:$E$183,5,FALSE),0)","v":"04202-Canela"},"16100300","2023-09-25T10:34:02",23,15,8]
[7,"5",2023,"105304",{"$f":"IFERROR(VLOOKUP(Tabla_SERIED_11_6[[#This Row],[IdEstablecimiento]],'[2]Establecimiento 2023'!$A$1:$E$183,3,FALSE),0)","v":"105304-Centro de Salud Familiar Santa Cecilia"},{"$f":"IFERROR(VLOOKUP(Tabla_SERIED_11_6[[#This Row],[IdEstablecimiento]],'[2]Establecimiento 2023'!$A$1:$E$183,5,FALSE),0)","v":"04102-Coquimbo"},"15901400","2023-08-18T08:01:59",1,0,1,0,1,0,0,0]
[7,"5",2023,"105309",{"$f":"IFERROR(VLOOKUP(Tabla_SERIED_11_6[[#This Row],[IdEstablecimiento]],'[2]Establecimiento 2023'!$A$1:$E$183,3,FALSE),0)","v":"105309-Centro de Salud Familiar Canela"},{"$f":"IFERROR(VLOOKUP(Tabla_SERIED_11_6[[#This Row],[IdEstablecimiento]],'[2]Establecimiento 2023'!$A$1:$E$183,5,FALSE),0)","v":"04202-Canela"},"16100300","2023-08-18T08:05:05",302,133,169]
[7,"5",2023,"105314",{"$f":"IFERROR(VLOOKUP(Tabla_SERIED_11_6[[#This Row],[IdEstablecimiento]],'[2]Establecimiento 2023'!$A$1:$E$183,3,FALSE),0)","v":"105314-Centro de Salud Familiar La Higuera"},{"$f":"IFERROR(VLOOKUP(Tabla_SERIED_11_6[[#This Row],[IdEstablecimiento]],'[2]Establecimiento 2023'!$A$1:$E$183,5,FALSE),0)","v":"04104-La Higuera"},"15080008","2023-08-18T08:07:39",9,{"$nulls":7},9]
[9,"5",2023,"105505",{"$f":"IFERROR(VLOOKUP(Tabla_SERIED_11_6[[#This Row],[IdEstablecimiento]],'[2]Establecimiento 2023'!$A$1:$E$183,3,FALSE),0)","v":"105505-Posta de Salud Rural Los Choros"},{"$f":"IFERROR(VLOOKUP(Tabla_SERIED_11_6[[#This Row],[IdEstablecimiento]],'[2]Establecimiento 2023'!$A$1:$E$183,5,FALSE),0)","v":"04104-La Higuera"},"15050200","2023-10-17T15:13:21",1,1,{"$nulls":5},1]
[9,"5",2023,"105700",{"$f":"IFERROR(VLOOKUP(Tabla_SERIED_11_6[[#This Row],[IdEstablecimiento]],'[2]Establecimiento 2023'!$A$1:$E$183,3,FALSE),0)","v":"105700-Centro Comunitario de Salud Familiar Villa el Indio"},{"$f":"IFERROR(VLOOKUP(Tabla_SERIED_11_6[[#This Row],[IdEstablecimiento]],'[2]Establecimiento 2023'!$A$1:$E$183,5,FALSE),0)","v":"04101-La Serena"},"15050100","2023-10-17T15:36:26",27,13,14,null,1,4,2,4,7,3,2,null,2,null,2]
[9,"5",2023,"105702",{"$f":"IFERROR(VLOOKUP(Tabla_SERIED_11_6[[#This Row],[IdEstablecimiento]],'[2]Establecimiento 2023'!$A$1:$E$183,3,FALSE),0)","v":"105702-Centro Comunitario de Salud Familiar Lambert"},{"$f":"IFERROR(VLOOKUP(Tabla_SERIED_11_6[[#This Row],[IdEstablecimiento]],'[2]Establecimiento 2023'!$A$1:$E$183,5,FALSE),0)","v":"04101-La Serena"},"15080015","2023-10-17T15:37:26",52,{"$nulls":5},34,18]
[9,"5",2023,"200402",{"$f":"IFERROR(VLOOKUP(Tabla_SERIED_11_6[[#This Row],[IdEstablecimiento]],'[2]Establecimiento 2023'!$A$1:$E$183,3,FALSE),0)","v":"200402-Centro Comunitario de Salud Familiar Arcos de Pinamar"},{"$f":"IFERROR(VLOOKUP(Tabla_SERIED_11_6[[#This Row],[IdEstablecimiento]],'[2]Establecimiento 2023'!$A$1:$E$183,5,FALSE),0)","v":"04101-La Serena"},"15010500","2023-10-17T15:43:12",4,{"$nulls":3},4]
[9,"5",2023,"200402",{"$f":"IFERROR(VLOOKUP(Tabla_SERIED_11_6[[#This Row],[IdEstablecimiento]],'[2]Establecimiento 2023'!$A$1:$E$183,3,FALSE),0)","v":"200402-Centro Comunitario de Salud Familiar Arcos de Pinamar"},{"$f":"IFERROR(VLOOKUP(Tabla_SERIED_11_6[[#This Row],[IdEstablecimiento]],'[2]Establecimiento 2023'!$A$1:$E$183,5,FALSE),0)","v":"04101-La Serena"},"15080015","2023-10-17T15:43:12",66,{"$nulls":5},32,34]
[9,"5",2023,"200494",{"$f":"IFERROR(VLOOKUP(Tabla_SERIED_11_6[[#This Row],[IdEstablecimiento]],'[2]Establecimiento 2023'!$A$1:$E$183,3,FALSE),0)","v":"200494-Centro de Salud Familiar El Sauce"},{"$f":"IFERROR(VLOOKUP(Tabla_SERIED_11_6[[#This Row],[IdEstablecimiento]],'[2]Establecimiento 2023'!$A$1:$E$183,5,FALSE),0)","v":"04102-Coquimbo"},"15080009","2023-10-17T15:43:08",3,{"$nulls":8},3]
[9,"5",2023,"200494",{"$f":"IFERROR(VLOOKUP(Tabla_SERIED_11_6[[#This Row],[IdEstablecimiento]],'[2]Establecimiento 2023'!$A$1:$E$183,3,FALSE),0)","v":"200494-Centro de Salud Familiar El Sauce"},{"$f":"IFERROR(VLOOKUP(Tabla_SERIED_11_6[[#This Row],[IdEstablecimiento]],'[2]Establecimiento 2023'!$A$1:$E$183,5,FALSE),0)","v":"04102-Coquimbo"},"15080019","2023-10-17T15:43:08",8,{"$nulls":5},4,4]
[7,"5",2023,"105511",{"$f":"IFERROR(VLOOKUP(Tabla_SERIED_11_6[[#This Row],[IdEstablecimiento]],'[2]Establecimiento 2023'!$A$1:$E$183,3,FALSE),0)","v":"105511-Posta de Salud Rural Los Cóndores"},{"$f":"IFERROR(VLOOKUP(Tabla_SERIED_11_6[[#This Row],[IdEstablecimiento]],'[2]Establecimiento 2023'!$A$1:$E$183,5,FALSE),0)","v":"04203-Los Vilos"},"15080014","2023-08-18T10:48:54",28,{"$nulls":3},14,14]
[7,"5",2023,"105700",{"$f":"IFERROR(VLOOKUP(Tabla_SERIED_11_6[[#This Row],[IdEstablecimiento]],'[2]Establecimiento 2023'!$A$1:$E$183,3,FALSE),0)","v":"105700-Centro Comunitario de Salud Familiar Villa el Indio"},{"$f":"IFERROR(VLOOKUP(Tabla_SERIED_11_6[[#This Row],[IdEstablecimiento]],'[2]Establecimiento 2023'!$A$1:$E$183,5,FALSE),0)","v":"04101-La Serena"},"15010200","2023-08-18T10:49:25",28,{"$nulls":5},18,10]
[7,"5",2023,"105702",{"$f":"IFERROR(VLOOKUP(Tabla_SERIED_11_6[[#This Row],[IdEstablecimiento]],'[2]Establecimiento 2023'!$A$1:$E$183,3,FALSE),0)","v":"105702-Centro Comunitario de Salud Familiar Lambert"},{"$f":"IFERROR(VLOOKUP(Tabla_SERIED_11_6[[#This Row],[IdEstablecimiento]],'[2]Establecimiento 2023'!$A$1:$E$183,5,FALSE),0)","v":"04101-La Serena"},"15050100","2023-08-18T10:50:18",65,26,39,1,null,4,11,6,21,10,7,null,2,null,3]
[7,"5",2023,"105702",{"$f":"IFERROR(VLOOKUP(Tabla_SERIED_11_6[[#This Row],[IdEstablecimiento]],'[2]Establecimiento 2023'!$A$1:$E$183,3,FALSE),0)","v":"105702-Centro Comunitario de Salud Familiar Lambert"},{"$f":"IFERROR(VLOOKUP(Tabla_SERIED_11_6[[#This Row],[IdEstablecimiento]],'[2]Establecimiento 2023'!$A$1:$E$183,5,FALSE),0)","v":"04101-La Serena"},"16090300","2023-08-18T10:50:18",63,63]
[7,"5",2023,"105702",{"$f":"IFERROR(VLOOKUP(Tabla_SERIED_11_6[[#This Row],[IdEstablecimiento]],'[2]Establecimiento 2023'!$A$1:$E$183,3,FALSE),0)","v":"105702-Centro Comunitario de Salud Familiar Lambert"},{"$f":"IFERROR(VLOOKUP(Tabla_SERIED_11_6[[#This Row],[IdEstablecimiento]],'[2]Establecimiento 2023'!$A$1:$E$183,5,FALSE),0)","v":"04101-La Serena"},"16200210","2023-08-18T10:50:18",3,3]
[7,"5",2023,"105722",{"$f":"IFERROR(VLOOKUP(Tabla_SERIED_11_6[[#This Row],[IdEstablecimiento]],'[2]Establecimiento 2023'!$A$1:$E$183,3,FALSE),0)","v":"105722-Centro Comunitario de Salud Familiar San José de la Dehesa"},{"$f":"IFERROR(VLOOKUP(Tabla_SERIED_11_6[[#This Row],[IdEstablecimiento]],'[2]Establecimiento 2023'!$A$1:$E$183,5,FALSE),0)","v":"04301-Ovalle"},"15900040","2023-08-18T10:51:15",8,null,null,8]
[7,"5",2023,"105723",{"$f":"IFERROR(VLOOKUP(Tabla_SERIED_11_6[[#This Row],[IdEstablecimiento]],'[2]Establecimiento 2023'!$A$1:$E$183,3,FALSE),0)","v":"105723-Centro Comunitario de Salud Familiar Limarí"},{"$f":"IFERROR(VLOOKUP(Tabla_SERIED_11_6[[#This Row],[IdEstablecimiento]],'[2]Establecimiento 2023'!$A$1:$E$183,5,FALSE),0)","v":"04301-Ovalle"},"15010500","2023-08-18T10:51:55",12,{"$nulls":3},2,null,6,4]
[7,"5",2023,"105723",{"$f":"IFERROR(VLOOKUP(Tabla_SERIED_11_6[[#This Row],[IdEstablecimiento]],'[2]Establecimiento 2023'!$A$1:$E$183,3,FALSE),0)","v":"105723-Centro Comunitario de Salud Familiar Limarí"},{"$f":"IFERROR(VLOOKUP(Tabla_SERIED_11_6[[#This Row],[IdEstablecimiento]],'[2]Establecimiento 2023'!$A$1:$E$183,5,FALSE),0)","v":"04301-Ovalle"},"15050100","2023-08-18T10:51:55",88,40,48,2,null,6,17,6,22,23,6,null,3,1,2]
[7,"5",2023,"105723",{"$f":"IFERROR(VLOOKUP(Tabla_SERIED_11_6[[#This Row],[IdEstablecimiento]],'[2]Establecimiento 2023'!$A$1:$E$183,3,FALSE),0)","v":"105723-Centro Comunitario de Salud Familiar Limarí"},{"$f":"IFERROR(VLOOKUP(Tabla_SERIED_11_6[[#This Row],[IdEstablecimiento]],'[2]Establecimiento 2023'!$A$1:$E$183,5,FALSE),0)","v":"04301-Ovalle"},"15900020","2023-08-18T10:51:55",3.2,3.2]
[7,"5",2023,"105723",{"$f":"IFERROR(VLOOKUP(Tabla_SERIED_11_6[[#This Row],[IdEstablecimiento]],'[2]Establecimiento 2023'!$A$1:$E$183,3,FALSE),0)","v":"105723-Centro Comunitario de Salud Familiar Limarí"},{"$f":"IFERROR(VLOOKUP(Tabla_SERIED_11_6[[#This Row],[IdEstablecimiento]],'[2]Establecimiento 2023'!$A$1:$E$183,5,FALSE),0)","v":"04301-Ovalle"},"16200220","2023-08-18T10:51:55",6,2,4]
[7,"5",2023,"200273",{"$f":"IFERROR(VLOOKUP(Tabla_SERIED_11_6[[#This Row],[IdEstablecimiento]],'[2]Establecimiento 2023'!$A$1:$E$183,3,FALSE),0)","v":"200273-Centro Comunitario de Salud Familiar Punta Mira"},{"$f":"IFERROR(VLOOKUP(Tabla_SERIED_11_6[[#This Row],[IdEstablecimiento]],'[2]Establecimiento 2023'!$A$1:$E$183,5,FALSE),0)","v":"04102-Coquimbo"},"15080009","2023-08-18T11:09:21",1,{"$nulls":8},0,0,0,1]
[7,"5",2023,"200273",{"$f":"IFERROR(VLOOKUP(Tabla_SERIED_11_6[[#This Row],[IdEstablecimiento]],'[2]Establecimiento 2023'!$A$1:$E$183,3,FALSE),0)","v":"200273-Centro Comunitario de Salud Familiar Punta Mira"},{"$f":"IFERROR(VLOOKUP(Tabla_SERIED_11_6[[#This Row],[IdEstablecimiento]],'[2]Establecimiento 2023'!$A$1:$E$183,5,FALSE),0)","v":"04102-Coquimbo"},"16200220","2023-08-18T11:09:21",1,1,0]
[7,"5",2023,"200366",{"$f":"IFERROR(VLOOKUP(Tabla_SERIED_11_6[[#This Row],[IdEstablecimiento]],'[2]Establecimiento 2023'!$A$1:$E$183,3,FALSE),0)","v":"200366-Centro de Salud Familiar Urbano de Illapel"},{"$f":"IFERROR(VLOOKUP(Tabla_SERIED_11_6[[#This Row],[IdEstablecimiento]],'[2]Establecimiento 2023'!$A$1:$E$183,5,FALSE),0)","v":"04201-Illapel"},"15020200","2023-08-18T11:09:47",2,{"$nulls":5},2]
[7,"5",2023,"200366",{"$f":"IFERROR(VLOOKUP(Tabla_SERIED_11_6[[#This Row],[IdEstablecimiento]],'[2]Establecimiento 2023'!$A$1:$E$183,3,FALSE),0)","v":"200366-Centro de Salud Familiar Urbano de Illapel"},{"$f":"IFERROR(VLOOKUP(Tabla_SERIED_11_6[[#This Row],[IdEstablecimiento]],'[2]Establecimiento 2023'!$A$1:$E$183,5,FALSE),0)","v":"04201-Illapel"},"15900050","2023-08-18T11:09:47",1,1,0,null,null,1]
[7,"5",2023,"200366",{"$f":"IFERROR(VLOOKUP(Tabla_SERIED_11_6[[#This Row],[IdEstablecimiento]],'[2]Establecimiento 2023'!$A$1:$E$183,3,FALSE),0)","v":"200366-Centro de Salud Familiar Urbano de Illapel"},{"$f":"IFERROR(VLOOKUP(Tabla_SERIED_11_6[[#This Row],[IdEstablecimiento]],'[2]Establecimiento 2023'!$A$1:$E$183,5,FALSE),0)","v":"04201-Illapel"},"16200220","2023-08-18T11:09:47",39,14,25]
[7,"5",2023,"200367",{"$f":"IFERROR(VLOOKUP(Tabla_SERIED_11_6[[#This Row],[IdEstablecimiento]],'[2]Establecimiento 2023'!$A$1:$E$183,3,FALSE),0)","v":"200367-Centro Comunitario de Salud Familiar Colonia Limarí"},{"$f":"IFERROR(VLOOKUP(Tabla_SERIED_11_6[[#This Row],[IdEstablecimiento]],'[2]Establecimiento 2023'!$A$1:$E$183,5,FALSE),0)","v":"04301-Ovalle"},"15010500","2023-08-18T11:11:10",2,{"$nulls":6},2]
[7,"5",2023,"200402",{"$f":"IFERROR(VLOOKUP(Tabla_SERIED_11_6[[#This Row],[IdEstablecimiento]],'[2]Establecimiento 2023'!$A$1:$E$183,3,FALSE),0)","v":"200402-Centro Comunitario de Salud Familiar Arcos de Pinamar"},{"$f":"IFERROR(VLOOKUP(Tabla_SERIED_11_6[[#This Row],[IdEstablecimiento]],'[2]Establecimiento 2023'!$A$1:$E$183,5,FALSE),0)","v":"04101-La Serena"},"15010500","2023-08-18T11:11:34",5,null,null,2,2,null,1]
[7,"5",2023,"200402",{"$f":"IFERROR(VLOOKUP(Tabla_SERIED_11_6[[#This Row],[IdEstablecimiento]],'[2]Establecimiento 2023'!$A$1:$E$183,3,FALSE),0)","v":"200402-Centro Comunitario de Salud Familiar Arcos de Pinamar"},{"$f":"IFERROR(VLOOKUP(Tabla_SERIED_11_6[[#This Row],[IdEstablecimiento]],'[2]Establecimiento 2023'!$A$1:$E$183,5,FALSE),0)","v":"04101-La Serena"},"15050200","2023-08-18T11:11:34",3,3,{"$nulls":4},1,null,1,{"$nulls":4},0,1]
[7,"5",2023,"200402",{"$f":"IFERROR(VLOOKUP(Tabla_SERIED_11_6[[#This Row],[IdEstablecimiento]],'[2]Establecimiento 2023'!$A$1:$E$183,3,FALSE),0)","v":"200402-Centro Comunitario de Salud Familiar Arcos de Pinamar"},{"$f":"IFERROR(VLOOKUP(Tabla_SERIED_11_6[[#This Row],[IdEstablecimiento]],'[2]Establecimiento 2023'!$A$1:$E$183,5,FALSE),0)","v":"04101-La Serena"},"15060100","2023-08-18T11:11:34",2,1,1,null,null,1,{"$nulls":7},1]
[7,"5",2023,"200402",{"$f":"IFERROR(VLOOKUP(Tabla_SERIED_11_6[[#This Row],[IdEstablecimiento]],'[2]Establecimiento 2023'!$A$1:$E$183,3,FALSE),0)","v":"200402-Centro Comunitario de Salud Familiar Arcos de Pinamar"},{"$f":"IFERROR(VLOOKUP(Tabla_SERIED_11_6[[#This Row],[IdEstablecimiento]],'[2]Establecimiento 2023'!$A$1:$E$183,5,FALSE),0)","v":"04101-La Serena"},"15080014","2023-08-18T11:11:34",40,{"$nulls":3},28,12]
[7,"5",2023,"200402",{"$f":"IFERROR(VLOOKUP(Tabla_SERIED_11_6[[#This Row],[IdEstablecimiento]],'[2]Establecimiento 2023'!$A$1:$E$183,3,FALSE),0)","v":"200402-Centro Comunitario de Salud Familiar Arcos de Pinamar"},{"$f":"IFERROR(VLOOKUP(Tabla_SERIED_11_6[[#This Row],[IdEstablecimiento]],'[2]Establecimiento 2023'!$A$1:$E$183,5,FALSE),0)","v":"04101-La Serena"},"16090300","2023-08-18T11:11:34",64,64]
[7,"5",2023,"105481",{"$f":"IFERROR(VLOOKUP(Tabla_SERIED_11_6[[#This Row],[IdEstablecimiento]],'[2]Establecimiento 2023'!$A$1:$E$183,3,FALSE),0)","v":"105481-Posta de Salud Rural Tilama"},{"$f":"IFERROR(VLOOKUP(Tabla_SERIED_11_6[[#This Row],[IdEstablecimiento]],'[2]Establecimiento 2023'!$A$1:$E$183,5,FALSE),0)","v":"04203-Los Vilos"},"15080014","2023-08-18T10:11:01",8,{"$nulls":4},8]
[7,"5",2023,"105481",{"$f":"IFERROR(VLOOKUP(Tabla_SERIED_11_6[[#This Row],[IdEstablecimiento]],'[2]Establecimiento 2023'!$A$1:$E$183,3,FALSE),0)","v":"105481-Posta de Salud Rural Tilama"},{"$f":"IFERROR(VLOOKUP(Tabla_SERIED_11_6[[#This Row],[IdEstablecimiento]],'[2]Establecimiento 2023'!$A$1:$E$183,5,FALSE),0)","v":"04203-Los Vilos"},"16090300","2023-08-18T10:11:01",21,21]
[7,"5",2023,"105482",{"$f":"IFERROR(VLOOKUP(Tabla_SERIED_11_6[[#This Row],[IdEstablecimiento]],'[2]Establecimiento 2023'!$A$1:$E$183,3,FALSE),0)","v":"105482-Posta de Salud Rural Canela Alta"},{"$f":"IFERROR(VLOOKUP(Tabla_SERIED_11_6[[#This Row],[IdEstablecimiento]],'[2]Establecimiento 2023'!$A$1:$E$183,5,FALSE),0)","v":"04202-Canela"},"16200220","2023-08-18T10:13:43",4,1,3]
[9,"5",2023,"105414",{"$f":"IFERROR(VLOOKUP(Tabla_SERIED_11_6[[#This Row],[IdEstablecimiento]],'[2]Establecimiento 2023'!$A$1:$E$183,3,FALSE),0)","v":"105414-Posta de Salud Rural Serón"},{"$f":"IFERROR(VLOOKUP(Tabla_SERIED_11_6[[#This Row],[IdEstablecimiento]],'[2]Establecimiento 2023'!$A$1:$E$183,5,FALSE),0)","v":"04305-Rio Hurtado"},"16200210","2023-10-17T11:19:49",2,2]
[9,"5",2023,"105415",{"$f":"IFERROR(VLOOKUP(Tabla_SERIED_11_6[[#This Row],[IdEstablecimiento]],'[2]Establecimiento 2023'!$A$1:$E$183,3,FALSE),0)","v":"105415-Posta de Salud Rural Barraza"},{"$f":"IFERROR(VLOOKUP(Tabla_SERIED_11_6[[#This Row],[IdEstablecimiento]],'[2]Establecimiento 2023'!$A$1:$E$183,5,FALSE),0)","v":"04301-Ovalle"},"16200210","2023-10-17T11:20:19",2,2]
[9,"5",2023,"105416",{"$f":"IFERROR(VLOOKUP(Tabla_SERIED_11_6[[#This Row],[IdEstablecimiento]],'[2]Establecimiento 2023'!$A$1:$E$183,3,FALSE),0)","v":"105416-Posta de Salud Rural Camarico (Ovalle)"},{"$f":"IFERROR(VLOOKUP(Tabla_SERIED_11_6[[#This Row],[IdEstablecimiento]],'[2]Establecimiento 2023'!$A$1:$E$183,5,FALSE),0)","v":"04301-Ovalle"},"15080014","2023-10-17T11:21:31",10,{"$nulls":3},4,6]
[9,"5",2023,"105416",{"$f":"IFERROR(VLOOKUP(Tabla_SERIED_11_6[[#This Row],[IdEstablecimiento]],'[2]Establecimiento 2023'!$A$1:$E$183,3,FALSE),0)","v":"105416-Posta de Salud Rural Camarico (Ovalle)"},{"$f":"IFERROR(VLOOKUP(Tabla_SERIED_11_6[[#This Row],[IdEstablecimiento]],'[2]Establecimiento 2023'!$A$1:$E$183,5,FALSE),0)","v":"04301-Ovalle"},"15080015","2023-10-17T11:21:31",24,{"$nulls":5},6,18]
[9,"5",2023,"105417",{"$f":"IFERROR(VLOOKUP(Tabla_SERIED_11_6[[#This Row],[IdEstablecimiento]],'[2]Establecimiento 2023'!$A$1:$E$183,3,FALSE),0)","v":"105417-Posta de Salud Rural Alcones Bajo"},{"$f":"IFERROR(VLOOKUP(Tabla_SERIED_11_6[[#This Row],[IdEstablecimiento]],'[2]Establecimiento 2023'!$A$1:$E$183,5,FALSE),0)","v":"04301-Ovalle"},"15080014","2023-10-17T11:21:25",12,{"$nulls":3},10,2]
[9,"5",2023,"105417",{"$f":"IFERROR(VLOOKUP(Tabla_SERIED_11_6[[#This Row],[IdEstablecimiento]],'[2]Establecimiento 2023'!$A$1:$E$183,3,FALSE),0)","v":"105417-Posta de Salud Rural Alcones Bajo"},{"$f":"IFERROR(VLOOKUP(Tabla_SERIED_11_6[[#This Row],[IdEstablecimiento]],'[2]Establecimiento 2023'!$A$1:$E$183,5,FALSE),0)","v":"04301-Ovalle"},"16200100","2023-10-17T11:21:25",4,4]
[9,"5",2023,"105430",{"$f":"IFERROR(VLOOKUP(Tabla_SERIED_11_6[[#This Row],[IdEstablecimiento]],'[2]Establecimiento 2023'!$A$1:$E$183,3,FALSE),0)","v":"105430-Posta de Salud Rural Mialqui"},{"$f":"IFERROR(VLOOKUP(Tabla_SERIED_11_6[[#This Row],[IdEstablecimiento]],'[2]Establecimiento 2023'!$A$1:$E$183,5,FALSE),0)","v":"04303-Monte Patria"},"15080014","2023-10-17T11:28:45",10,{"$nulls":3},4,6]
[9,"5",2023,"105433",{"$f":"IFERROR(VLOOKUP(Tabla_SERIED_11_6[[#This Row],[IdEstablecimiento]],'[2]Establecimiento 2023'!$A$1:$E$183,3,FALSE),0)","v":"105433-Posta de Salud Rural San Lorenzo (Combarbalá)"},{"$f":"IFERROR(VLOOKUP(Tabla_SERIED_11_6[[#This Row],[IdEstablecimiento]],'[2]Establecimiento 2023'!$A$1:$E$183,5,FALSE),0)","v":"04302-Combarbalá"},"15050100","2023-10-17T11:31:34",1,null,1,{"$nulls":6},1]
[9,"5",2023,"105437",{"$f":"IFERROR(VLOOKUP(Tabla_SERIED_11_6[[#This Row],[IdEstablecimiento]],'[2]Establecimiento 2023'!$A$1:$E$183,3,FALSE),0)","v":"105437-Posta de Salud Rural Chalinga"},{"$f":"IFERROR(VLOOKUP(Tabla_SERIED_11_6[[#This Row],[IdEstablecimiento]],'[2]Establecimiento 2023'!$A$1:$E$183,5,FALSE),0)","v":"04301-Ovalle"},"15010500","2023-10-17T11:35:22",2,{"$nulls":6},2]
[9,"5",2023,"105437",{"$f":"IFERROR(VLOOKUP(Tabla_SERIED_11_6[[#This Row],[IdEstablecimiento]],'[2]Establecimiento 2023'!$A$1:$E$183,3,FALSE),0)","v":"105437-Posta de Salud Rural Chalinga"},{"$f":"IFERROR(VLOOKUP(Tabla_SERIED_11_6[[#This Row],[IdEstablecimiento]],'[2]Establecimiento 2023'!$A$1:$E$183,5,FALSE),0)","v":"04301-Ovalle"},"15080014","2023-10-17T11:35:22",2,{"$nulls":4},2]
[9,"5",2023,"105441",{"$f":"IFERROR(VLOOKUP(Tabla_SERIED_11_6[[#This Row],[IdEstablecimiento]],'[2]Establecimiento 2023'!$A$1:$E$183,3,FALSE),0)","v":"105441-Posta de Salud Rural Manquehua"},{"$f":"IFERROR(VLOOKUP(Tabla_SERIED_11_6[[#This Row],[IdEstablecimiento]],'[2]Establecimiento 2023'!$A$1:$E$183,5,FALSE),0)","v":"04302-Combarbalá"},"16200210","2023-10-17T11:42:03",13,13]
[9,"5",2023,"105442",{"$f":"IFERROR(VLOOKUP(Tabla_SERIED_11_6[[#This Row],[IdEstablecimiento]],'[2]Establecimiento 2023'!$A$1:$E$183,3,FALSE),0)","v":"105442-Posta de Salud Rural San Pedro de Quiles"},{"$f":"IFERROR(VLOOKUP(Tabla_SERIED_11_6[[#This Row],[IdEstablecimiento]],'[2]Establecimiento 2023'!$A$1:$E$183,5,FALSE),0)","v":"04304-Punitaqui"},"15080015","2023-10-17T11:42:47",4,{"$nulls":6},4]
[9,"5",2023,"105442",{"$f":"IFERROR(VLOOKUP(Tabla_SERIED_11_6[[#This Row],[IdEstablecimiento]],'[2]Establecimiento 2023'!$A$1:$E$183,3,FALSE),0)","v":"105442-Posta de Salud Rural San Pedro de Quiles"},{"$f":"IFERROR(VLOOKUP(Tabla_SERIED_11_6[[#This Row],[IdEstablecimiento]],'[2]Establecimiento 2023'!$A$1:$E$183,5,FALSE),0)","v":"04304-Punitaqui"},"16100300","2023-10-17T11:42:47",26,12,14]
[9,"5",2023,"105445",{"$f":"IFERROR(VLOOKUP(Tabla_SERIED_11_6[[#This Row],[IdEstablecimiento]],'[2]Establecimiento 2023'!$A$1:$E$183,3,FALSE),0)","v":"105445-Posta de Salud Rural Limáhuida"},{"$f":"IFERROR(VLOOKUP(Tabla_SERIED_11_6[[#This Row],[IdEstablecimiento]],'[2]Establecimiento 2023'!$A$1:$E$183,5,FALSE),0)","v":"04201-Illapel"},"15010200","2023-10-17T11:45:24",20,{"$nulls":5},16,4]
[9,"5",2023,"105448",{"$f":"IFERROR(VLOOKUP(Tabla_SERIED_11_6[[#This Row],[IdEstablecimiento]],'[2]Establecimiento 2023'!$A$1:$E$183,3,FALSE),0)","v":"105448-Posta de Salud Rural Santa Virginia"},{"$f":"IFERROR(VLOOKUP(Tabla_SERIED_11_6[[#This Row],[IdEstablecimiento]],'[2]Establecimiento 2023'!$A$1:$E$183,5,FALSE),0)","v":"04201-Illapel"},"15900030","2023-10-17T11:47:40",4.4,{"$nulls":4},4.4]
[9,"5",2023,"105449",{"$f":"IFERROR(VLOOKUP(Tabla_SERIED_11_6[[#This Row],[IdEstablecimiento]],'[2]Establecimiento 2023'!$A$1:$E$183,3,FALSE),0)","v":"105449-Posta de Salud Rural Tunga Norte"},{"$f":"IFERROR(VLOOKUP(Tabla_SERIED_11_6[[#This Row],[IdEstablecimiento]],'[2]Establecimiento 2023'!$A$1:$E$183,5,FALSE),0)","v":"04201-Illapel"},"16100600","2023-10-17T11:48:22",1,1,0]
[9,"5",2023,"105450",{"$f":"IFERROR(VLOOKUP(Tabla_SERIED_11_6[[#This Row],[IdEstablecimiento]],'[2]Establecimiento 2023'!$A$1:$E$183,3,FALSE),0)","v":"105450-Posta de Salud Rural Mincha Norte"},{"$f":"IFERROR(VLOOKUP(Tabla_SERIED_11_6[[#This Row],[IdEstablecimiento]],'[2]Establecimiento 2023'!$A$1:$E$183,5,FALSE),0)","v":"04202-Canela"},"15080015","2023-10-17T11:48:56",18,{"$nulls":5},2,16]
[9,"5",2023,"105453",{"$f":"IFERROR(VLOOKUP(Tabla_SERIED_11_6[[#This Row],[IdEstablecimiento]],'[2]Establecimiento 2023'!$A$1:$E$183,3,FALSE),0)","v":"105453-Posta de Salud Rural Tranquilla"},{"$f":"IFERROR(VLOOKUP(Tabla_SERIED_11_6[[#This Row],[IdEstablecimiento]],'[2]Establecimiento 2023'!$A$1:$E$183,5,FALSE),0)","v":"04204-Salamanca"},"15010200","2023-10-17T11:50:47",68,{"$nulls":5},40,28]
[9,"5",2023,"105453",{"$f":"IFERROR(VLOOKUP(Tabla_SERIED_11_6[[#This Row],[IdEstablecimiento]],'[2]Establecimiento 2023'!$A$1:$E$183,3,FALSE),0)","v":"105453-Posta de Salud Rural Tranquilla"},{"$f":"IFERROR(VLOOKUP(Tabla_SERIED_11_6[[#This Row],[IdEstablecimiento]],'[2]Establecimiento 2023'!$A$1:$E$183,5,FALSE),0)","v":"04204-Salamanca"},"16200220","2023-10-17T11:50:47",2,1,1]
[8,"5",2023,"105484",{"$f":"IFERROR(VLOOKUP(Tabla_SERIED_11_6[[#This Row],[IdEstablecimiento]],'[2]Establecimiento 2023'!$A$1:$E$183,3,FALSE),0)","v":"105484-Posta de Salud Rural Huentelauquén"},{"$f":"IFERROR(VLOOKUP(Tabla_SERIED_11_6[[#This Row],[IdEstablecimiento]],'[2]Establecimiento 2023'!$A$1:$E$183,5,FALSE),0)","v":"04202-Canela"},"16100300","2023-09-25T10:31:28",53,20,33]
[8,"5",2023,"105490",{"$f":"IFERROR(VLOOKUP(Tabla_SERIED_11_6[[#This Row],[IdEstablecimiento]],'[2]Establecimiento 2023'!$A$1:$E$183,3,FALSE),0)","v":"105490-Posta de Salud Rural El Durazno(Combarbalá)"},{"$f":"IFERROR(VLOOKUP(Tabla_SERIED_11_6[[#This Row],[IdEstablecimiento]],'[2]Establecimiento 2023'!$A$1:$E$183,5,FALSE),0)","v":"04302-Combarbalá"},"16100300","2023-09-25T10:35:14",39,18,21]
[8,"5",2023,"105490",{"$f":"IFERROR(VLOOKUP(Tabla_SERIED_11_6[[#This Row],[IdEstablecimiento]],'[2]Establecimiento 2023'!$A$1:$E$183,3,FALSE),0)","v":"105490-Posta de Salud Rural El Durazno(Combarbalá)"},{"$f":"IFERROR(VLOOKUP(Tabla_SERIED_11_6[[#This Row],[IdEstablecimiento]],'[2]Establecimiento 2023'!$A$1:$E$183,5,FALSE),0)","v":"04302-Combarbalá"},"16200220","2023-09-25T10:35:14",12,6,6]
[8,"5",2023,"105491",{"$f":"IFERROR(VLOOKUP(Tabla_SERIED_11_6[[#This Row],[IdEstablecimiento]],'[2]Establecimiento 2023'!$A$1:$E$183,3,FALSE),0)","v":"105491-Posta de Salud Rural Quelén Bajo"},{"$f":"IFERROR(VLOOKUP(Tabla_SERIED_11_6[[#This Row],[IdEstablecimiento]],'[2]Establecimiento 2023'!$A$1:$E$183,5,FALSE),0)","v":"04204-Salamanca"},"16200220","2023-09-25T10:35:19",4,2,2]
[8,"5",2023,"105496",{"$f":"IFERROR(VLOOKUP(Tabla_SERIED_11_6[[#This Row],[IdEstablecimiento]],'[2]Establecimiento 2023'!$A$1:$E$183,3,FALSE),0)","v":"105496-Posta de Salud Rural Pintacura Sur"},{"$f":"IFERROR(VLOOKUP(Tabla_SERIED_11_6[[#This Row],[IdEstablecimiento]],'[2]Establecimiento 2023'!$A$1:$E$183,5,FALSE),0)","v":"04201-Illapel"},"15050100","2023-09-25T10:38:02",5,1,4,{"$nulls":4},0,3,1,0,null,null,1,0]
[7,"5",2023,"105484",{"$f":"IFERROR(VLOOKUP(Tabla_SERIED_11_6[[#This Row],[IdEstablecimiento]],'[2]Establecimiento 2023'!$A$1:$E$183,3,FALSE),0)","v":"105484-Posta de Salud Rural Huentelauquén"},{"$f":"IFERROR(VLOOKUP(Tabla_SERIED_11_6[[#This Row],[IdEstablecimiento]],'[2]Establecimiento 2023'!$A$1:$E$183,5,FALSE),0)","v":"04202-Canela"},"16100300","2023-08-18T10:22:19",55,21,34]
[7,"5",2023,"105485",{"$f":"IFERROR(VLOOKUP(Tabla_SERIED_11_6[[#This Row],[IdEstablecimiento]],'[2]Establecimiento 2023'!$A$1:$E$183,3,FALSE),0)","v":"105485-Posta de Salud Rural Plan de Hornos"},{"$f":"IFERROR(VLOOKUP(Tabla_SERIED_11_6[[#This Row],[IdEstablecimiento]],'[2]Establecimiento 2023'!$A$1:$E$183,5,FALSE),0)","v":"04201-Illapel"},"16200210","2023-08-18T10:23:38",8,8]
[7,"5",2023,"105488",{"$f":"IFERROR(VLOOKUP(Tabla_SERIED_11_6[[#This Row],[IdEstablecimiento]],'[2]Establecimiento 2023'!$A$1:$E$183,3,FALSE),0)","v":"105488-Posta de Salud Rural Espíritu Santo"},{"$f":"IFERROR(VLOOKUP(Tabla_SERIED_11_6[[#This Row],[IdEstablecimiento]],'[2]Establecimiento 2023'!$A$1:$E$183,5,FALSE),0)","v":"04202-Canela"},"15080015","2023-08-18T10:26:52",2,{"$nulls":5},2]
[7,"5",2023,"105489",{"$f":"IFERROR(VLOOKUP(Tabla_SERIED_11_6[[#This Row],[IdEstablecimiento]],'[2]Establecimiento 2023'!$A$1:$E$183,3,FALSE),0)","v":"105489-Posta de Salud Rural Ramadas de Tulahuén"},{"$f":"IFERROR(VLOOKUP(Tabla_SERIED_11_6[[#This Row],[IdEstablecimiento]],'[2]Establecimiento 2023'!$A$1:$E$183,5,FALSE),0)","v":"04303-Monte Patria"},"16200220","2023-08-18T10:27:39",5,2,3]
[7,"5",2023,"105491",{"$f":"IFERROR(VLOOKUP(Tabla_SERIED_11_6[[#This Row],[IdEstablecimiento]],'[2]Establecimiento 2023'!$A$1:$E$183,3,FALSE),0)","v":"105491-Posta de Salud Rural Quelén Bajo"},{"$f":"IFERROR(VLOOKUP(Tabla_SERIED_11_6[[#This Row],[IdEstablecimiento]],'[2]Establecimiento 2023'!$A$1:$E$183,5,FALSE),0)","v":"04204-Salamanca"},"15010200","2023-08-18T10:28:37",86,{"$nulls":5},36,50]
[7,"5",2023,"105491",{"$f":"IFERROR(VLOOKUP(Tabla_SERIED_11_6[[#This Row],[IdEstablecimiento]],'[2]Establecimiento 2023'!$A$1:$E$183,3,FALSE),0)","v":"105491-Posta de Salud Rural Quelén Bajo"},{"$f":"IFERROR(VLOOKUP(Tabla_SERIED_11_6[[#This Row],[IdEstablecimiento]],'[2]Establecimiento 2023'!$A$1:$E$183,5,FALSE),0)","v":"04204-Salamanca"},"16100300","2023-08-18T10:28:37",139,76,63]
[7,"5",2023,"105492",{"$f":"IFERROR(VLOOKUP(Tabla_SERIED_11_6[[#This Row],[IdEstablecimiento]],'[2]Establecimiento 2023'!$A$1:$E$183,3,FALSE),0)","v":"105492-Posta de Salud Rural Camisa"},{"$f":"IFERROR(VLOOKUP(Tabla_SERIED_11_6[[#This Row],[IdEstablecimiento]],'[2]Establecimiento 2023'!$A$1:$E$183,5,FALSE),0)","v":"04204-Salamanca"},"15010200","2023-08-18T10:29:07",18,{"$nulls":5},12,6]
[7,"5",2023,"105492",{"$f":"IFERROR(VLOOKUP(Tabla_SERIED_11_6[[#This Row],[IdEstablecimiento]],'[2]Establecimiento 2023'!$A$1:$E$183,3,FALSE),0)","v":"105492-Posta de Salud Rural Camisa"},{"$f":"IFERROR(VLOOKUP(Tabla_SERIED_11_6[[#This Row],[IdEstablecimiento]],'[2]Establecimiento 2023'!$A$1:$E$183,5,FALSE),0)","v":"04204-Salamanca"},"16200210","2023-08-18T10:29:07",4,4]
[7,"5",2023,"105500",{"$f":"IFERROR(VLOOKUP(Tabla_SERIED_11_6[[#This Row],[IdEstablecimiento]],'[2]Establecimiento 2023'!$A$1:$E$183,3,FALSE),0)","v":"105500-Posta de Salud Rural Caleta Hornos"},{"$f":"IFERROR(VLOOKUP(Tabla_SERIED_11_6[[#This Row],[IdEstablecimiento]],'[2]Establecimiento 2023'!$A$1:$E$183,5,FALSE),0)","v":"04104-La Higuera"},"15010200","2023-08-18T10:44:12",16,{"$nulls":5},10,6]
[7,"5",2023,"105501",{"$f":"IFERROR(VLOOKUP(Tabla_SERIED_11_6[[#This Row],[IdEstablecimiento]],'[2]Establecimiento 2023'!$A$1:$E$183,3,FALSE),0)","v":"105501-Posta de Salud Rural Arboleda Grande"},{"$f":"IFERROR(VLOOKUP(Tabla_SERIED_11_6[[#This Row],[IdEstablecimiento]],'[2]Establecimiento 2023'!$A$1:$E$183,5,FALSE),0)","v":"04204-Salamanca"},"15010200","2023-08-18T10:44:37",40,{"$nulls":5},24,16]
[7,"5",2023,"105501",{"$f":"IFERROR(VLOOKUP(Tabla_SERIED_11_6[[#This Row],[IdEstablecimiento]],'[2]Establecimiento 2023'!$A$1:$E$183,3,FALSE),0)","v":"105501-Posta de Salud Rural Arboleda Grande"},{"$f":"IFERROR(VLOOKUP(Tabla_SERIED_11_6[[#This Row],[IdEstablecimiento]],'[2]Establecimiento 2023'!$A$1:$E$183,5,FALSE),0)","v":"04204-Salamanca"},"15900010","2023-08-18T10:44:37",4.8,null,1.6,3.2]
[7,"5",2023,"105507",{"$f":"IFERROR(VLOOKUP(Tabla_SERIED_11_6[[#This Row],[IdEstablecimiento]],'[2]Establecimiento 2023'!$A$1:$E$183,3,FALSE),0)","v":"105507-Posta de Salud Rural Huamalata"},{"$f":"IFERROR(VLOOKUP(Tabla_SERIED_11_6[[#This Row],[IdEstablecimiento]],'[2]Establecimiento 2023'!$A$1:$E$183,5,FALSE),0)","v":"04301-Ovalle"},"15010200","2023-08-18T10:47:03",28,{"$nulls":5},12,16]
[7,"5",2023,"105510",{"$f":"IFERROR(VLOOKUP(Tabla_SERIED_11_6[[#This Row],[IdEstablecimiento]],'[2]Establecimiento 2023'!$A$1:$E$183,3,FALSE),0)","v":"105510-Posta de Salud Rural Recoleta"},{"$f":"IFERROR(VLOOKUP(Tabla_SERIED_11_6[[#This Row],[IdEstablecimiento]],'[2]Establecimiento 2023'!$A$1:$E$183,5,FALSE),0)","v":"04301-Ovalle"},"15900010","2023-08-18T10:48:23",8,2.4,3.2,2.4]
[7,"5",2023,"105511",{"$f":"IFERROR(VLOOKUP(Tabla_SERIED_11_6[[#This Row],[IdEstablecimiento]],'[2]Establecimiento 2023'!$A$1:$E$183,3,FALSE),0)","v":"105511-Posta de Salud Rural Los Cóndores"},{"$f":"IFERROR(VLOOKUP(Tabla_SERIED_11_6[[#This Row],[IdEstablecimiento]],'[2]Establecimiento 2023'!$A$1:$E$183,5,FALSE),0)","v":"04203-Los Vilos"},"15050100","2023-08-18T10:48:54",51,20,31,1,1,3,7,7,12,15,1,null,1,1,2]
[7,"5",2023,"105700",{"$f":"IFERROR(VLOOKUP(Tabla_SERIED_11_6[[#This Row],[IdEstablecimiento]],'[2]Establecimiento 2023'!$A$1:$E$183,3,FALSE),0)","v":"105700-Centro Comunitario de Salud Familiar Villa el Indio"},{"$f":"IFERROR(VLOOKUP(Tabla_SERIED_11_6[[#This Row],[IdEstablecimiento]],'[2]Establecimiento 2023'!$A$1:$E$183,5,FALSE),0)","v":"04101-La Serena"},"15080015","2023-08-18T10:49:25",10,{"$nulls":5},6,4]
[7,"5",2023,"105700",{"$f":"IFERROR(VLOOKUP(Tabla_SERIED_11_6[[#This Row],[IdEstablecimiento]],'[2]Establecimiento 2023'!$A$1:$E$183,3,FALSE),0)","v":"105700-Centro Comunitario de Salud Familiar Villa el Indio"},{"$f":"IFERROR(VLOOKUP(Tabla_SERIED_11_6[[#This Row],[IdEstablecimiento]],'[2]Establecimiento 2023'!$A$1:$E$183,5,FALSE),0)","v":"04101-La Serena"},"15900010","2023-08-18T10:49:25",23.2,null,4.8,18.4]
[7,"5",2023,"105702",{"$f":"IFERROR(VLOOKUP(Tabla_SERIED_11_6[[#This Row],[IdEstablecimiento]],'[2]Establecimiento 2023'!$A$1:$E$183,3,FALSE),0)","v":"105702-Centro Comunitario de Salud Familiar Lambert"},{"$f":"IFERROR(VLOOKUP(Tabla_SERIED_11_6[[#This Row],[IdEstablecimiento]],'[2]Establecimiento 2023'!$A$1:$E$183,5,FALSE),0)","v":"04101-La Serena"},"15900010","2023-08-18T10:50:18",12,1.6,null,10.4]
[7,"5",2023,"105722",{"$f":"IFERROR(VLOOKUP(Tabla_SERIED_11_6[[#This Row],[IdEstablecimiento]],'[2]Establecimiento 2023'!$A$1:$E$183,3,FALSE),0)","v":"105722-Centro Comunitario de Salud Familiar San José de la Dehesa"},{"$f":"IFERROR(VLOOKUP(Tabla_SERIED_11_6[[#This Row],[IdEstablecimiento]],'[2]Establecimiento 2023'!$A$1:$E$183,5,FALSE),0)","v":"04301-Ovalle"},"15080014","2023-08-18T10:51:15",64,{"$nulls":3},40,24]
[7,"5",2023,"105723",{"$f":"IFERROR(VLOOKUP(Tabla_SERIED_11_6[[#This Row],[IdEstablecimiento]],'[2]Establecimiento 2023'!$A$1:$E$183,3,FALSE),0)","v":"105723-Centro Comunitario de Salud Familiar Limarí"},{"$f":"IFERROR(VLOOKUP(Tabla_SERIED_11_6[[#This Row],[IdEstablecimiento]],'[2]Establecimiento 2023'!$A$1:$E$183,5,FALSE),0)","v":"04301-Ovalle"},"15080016","2023-08-18T10:51:55",12,{"$nulls":3},2,null,6,4]
[7,"5",2023,"105723",{"$f":"IFERROR(VLOOKUP(Tabla_SERIED_11_6[[#This Row],[IdEstablecimiento]],'[2]Establecimiento 2023'!$A$1:$E$183,3,FALSE),0)","v":"105723-Centro Comunitario de Salud Familiar Limarí"},{"$f":"IFERROR(VLOOKUP(Tabla_SERIED_11_6[[#This Row],[IdEstablecimiento]],'[2]Establecimiento 2023'!$A$1:$E$183,5,FALSE),0)","v":"04301-Ovalle"},"15900040","2023-08-18T10:51:55",3.2,{"$nulls":4},3.2]
[7,"5",2023,"200258",{"$f":"IFERROR(VLOOKUP(Tabla_SERIED_11_6[[#This Row],[IdEstablecimiento]],'[2]Establecimiento 2023'!$A$1:$E$183,3,FALSE),0)","v":"200258-Centro Comunitario de Salud Familiar Los Copihues"},{"$f":"IFERROR(VLOOKUP(Tabla_SERIED_11_6[[#This Row],[IdEstablecimiento]],'[2]Establecimiento 2023'!$A$1:$E$183,5,FALSE),0)","v":"04301-Ovalle"},"16200220","2023-08-18T11:08:51",10,3,7]
[8,"5",2023,"105497",{"$f":"IFERROR(VLOOKUP(Tabla_SERIED_11_6[[#This Row],[IdEstablecimiento]],'[2]Establecimiento 2023'!$A$1:$E$183,3,FALSE),0)","v":"105497-Posta de Salud Rural Jabonería"},{"$f":"IFERROR(VLOOKUP(Tabla_SERIED_11_6[[#This Row],[IdEstablecimiento]],'[2]Establecimiento 2023'!$A$1:$E$183,5,FALSE),0)","v":"04202-Canela"},"16090300","2023-09-25T10:38:07",25,25]
[8,"5",2023,"105503",{"$f":"IFERROR(VLOOKUP(Tabla_SERIED_11_6[[#This Row],[IdEstablecimiento]],'[2]Establecimiento 2023'!$A$1:$E$183,3,FALSE),0)","v":"105503-Posta de Salud Rural Tabaqueros"},{"$f":"IFERROR(VLOOKUP(Tabla_SERIED_11_6[[#This Row],[IdEstablecimiento]],'[2]Establecimiento 2023'!$A$1:$E$183,5,FALSE),0)","v":"04305-Rio Hurtado"},"15010500","2023-09-25T10:51:12",2,{"$nulls":6},2]
[8,"5",2023,"105505",{"$f":"IFERROR(VLOOKUP(Tabla_SERIED_11_6[[#This Row],[IdEstablecimiento]],'[2]Establecimiento 2023'!$A$1:$E$183,3,FALSE),0)","v":"105505-Posta de Salud Rural Los Choros"},{"$f":"IFERROR(VLOOKUP(Tabla_SERIED_11_6[[#This Row],[IdEstablecimiento]],'[2]Establecimiento 2023'!$A$1:$E$183,5,FALSE),0)","v":"04104-La Higuera"},"15080014","2023-10-17T15:13:24",8,{"$nulls":3},4,4]
[8,"5",2023,"105509",{"$f":"IFERROR(VLOOKUP(Tabla_SERIED_11_6[[#This Row],[IdEstablecimiento]],'[2]Establecimiento 2023'!$A$1:$E$183,3,FALSE),0)","v":"105509-Posta de Salud Rural Gualliguaica"},{"$f":"IFERROR(VLOOKUP(Tabla_SERIED_11_6[[#This Row],[IdEstablecimiento]],'[2]Establecimiento 2023'!$A$1:$E$183,5,FALSE),0)","v":"04106-Vicuña"},"15050100","2023-09-25T10:54:09",13,5,8,{"$nulls":3},2,2,4,2,2,null,1]
[8,"5",2023,"105511",{"$f":"IFERROR(VLOOKUP(Tabla_SERIED_11_6[[#This Row],[IdEstablecimiento]],'[2]Establecimiento 2023'!$A$1:$E$183,3,FALSE),0)","v":"105511-Posta de Salud Rural Los Cóndores"},{"$f":"IFERROR(VLOOKUP(Tabla_SERIED_11_6[[#This Row],[IdEstablecimiento]],'[2]Establecimiento 2023'!$A$1:$E$183,5,FALSE),0)","v":"04203-Los Vilos"},"15080015","2023-09-25T10:56:05",49,{"$nulls":5},33,16]
[8,"5",2023,"105511",{"$f":"IFERROR(VLOOKUP(Tabla_SERIED_11_6[[#This Row],[IdEstablecimiento]],'[2]Establecimiento 2023'!$A$1:$E$183,3,FALSE),0)","v":"105511-Posta de Salud Rural Los Cóndores"},{"$f":"IFERROR(VLOOKUP(Tabla_SERIED_11_6[[#This Row],[IdEstablecimiento]],'[2]Establecimiento 2023'!$A$1:$E$183,5,FALSE),0)","v":"04203-Los Vilos"},"16090500","2023-09-25T10:56:05",1,1]
[8,"5",2023,"105723",{"$f":"IFERROR(VLOOKUP(Tabla_SERIED_11_6[[#This Row],[IdEstablecimiento]],'[2]Establecimiento 2023'!$A$1:$E$183,3,FALSE),0)","v":"105723-Centro Comunitario de Salud Familiar Limarí"},{"$f":"IFERROR(VLOOKUP(Tabla_SERIED_11_6[[#This Row],[IdEstablecimiento]],'[2]Establecimiento 2023'!$A$1:$E$183,5,FALSE),0)","v":"04301-Ovalle"},"15010500","2023-09-25T10:59:40",14,{"$nulls":3},2,null,6,6]
[8,"5",2023,"200258",{"$f":"IFERROR(VLOOKUP(Tabla_SERIED_11_6[[#This Row],[IdEstablecimiento]],'[2]Establecimiento 2023'!$A$1:$E$183,3,FALSE),0)","v":"200258-Centro Comunitario de Salud Familiar Los Copihues"},{"$f":"IFERROR(VLOOKUP(Tabla_SERIED_11_6[[#This Row],[IdEstablecimiento]],'[2]Establecimiento 2023'!$A$1:$E$183,5,FALSE),0)","v":"04301-Ovalle"},"15080015","2023-09-25T11:01:48",93,{"$nulls":5},50,43]
[8,"5",2023,"200258",{"$f":"IFERROR(VLOOKUP(Tabla_SERIED_11_6[[#This Row],[IdEstablecimiento]],'[2]Establecimiento 2023'!$A$1:$E$183,3,FALSE),0)","v":"200258-Centro Comunitario de Salud Familiar Los Copihues"},{"$f":"IFERROR(VLOOKUP(Tabla_SERIED_11_6[[#This Row],[IdEstablecimiento]],'[2]Establecimiento 2023'!$A$1:$E$183,5,FALSE),0)","v":"04301-Ovalle"},"15080016","2023-09-25T11:01:48",2,{"$nulls":3},0,0,2,0]
[8,"5",2023,"200258",{"$f":"IFERROR(VLOOKUP(Tabla_SERIED_11_6[[#This Row],[IdEstablecimiento]],'[2]Establecimiento 2023'!$A$1:$E$183,3,FALSE),0)","v":"200258-Centro Comunitario de Salud Familiar Los Copihues"},{"$f":"IFERROR(VLOOKUP(Tabla_SERIED_11_6[[#This Row],[IdEstablecimiento]],'[2]Establecimiento 2023'!$A$1:$E$183,5,FALSE),0)","v":"04301-Ovalle"},"16100300","2023-09-25T11:01:48",135,55,80]
[8,"5",2023,"200273",{"$f":"IFERROR(VLOOKUP(Tabla_SERIED_11_6[[#This Row],[IdEstablecimiento]],'[2]Establecimiento 2023'!$A$1:$E$183,3,FALSE),0)","v":"200273-Centro Comunitario de Salud Familiar Punta Mira"},{"$f":"IFERROR(VLOOKUP(Tabla_SERIED_11_6[[#This Row],[IdEstablecimiento]],'[2]Establecimiento 2023'!$A$1:$E$183,5,FALSE),0)","v":"04102-Coquimbo"},"15080019","2023-09-25T11:01:51",6,{"$nulls":5},2,4]
[8,"5",2023,"200366",{"$f":"IFERROR(VLOOKUP(Tabla_SERIED_11_6[[#This Row],[IdEstablecimiento]],'[2]Establecimiento 2023'!$A$1:$E$183,3,FALSE),0)","v":"200366-Centro de Salud Familiar Urbano de Illapel"},{"$f":"IFERROR(VLOOKUP(Tabla_SERIED_11_6[[#This Row],[IdEstablecimiento]],'[2]Establecimiento 2023'!$A$1:$E$183,5,FALSE),0)","v":"04201-Illapel"},"15060100","2023-09-25T11:02:59",5,4,1,{"$nulls":3},1,1,1,2]
[8,"5",2023,"200402",{"$f":"IFERROR(VLOOKUP(Tabla_SERIED_11_6[[#This Row],[IdEstablecimiento]],'[2]Establecimiento 2023'!$A$1:$E$183,3,FALSE),0)","v":"200402-Centro Comunitario de Salud Familiar Arcos de Pinamar"},{"$f":"IFERROR(VLOOKUP(Tabla_SERIED_11_6[[#This Row],[IdEstablecimiento]],'[2]Establecimiento 2023'!$A$1:$E$183,5,FALSE),0)","v":"04101-La Serena"},"15060100","2023-09-25T11:04:20",2,null,2,{"$nulls":3},1,null,1]
[8,"5",2023,"200402",{"$f":"IFERROR(VLOOKUP(Tabla_SERIED_11_6[[#This Row],[IdEstablecimiento]],'[2]Establecimiento 2023'!$A$1:$E$183,3,FALSE),0)","v":"200402-Centro Comunitario de Salud Familiar Arcos de Pinamar"},{"$f":"IFERROR(VLOOKUP(Tabla_SERIED_11_6[[#This Row],[IdEstablecimiento]],'[2]Establecimiento 2023'!$A$1:$E$183,5,FALSE),0)","v":"04101-La Serena"},"15900010","2023-09-25T11:04:20",24.8,10.4,1.6,12.8]
[8,"5",2023,"200402",{"$f":"IFERROR(VLOOKUP(Tabla_SERIED_11_6[[#This Row],[IdEstablecimiento]],'[2]Establecimiento 2023'!$A$1:$E$183,3,FALSE),0)","v":"200402-Centro Comunitario de Salud Familiar Arcos de Pinamar"},{"$f":"IFERROR(VLOOKUP(Tabla_SERIED_11_6[[#This Row],[IdEstablecimiento]],'[2]Establecimiento 2023'!$A$1:$E$183,5,FALSE),0)","v":"04101-La Serena"},"15900020","2023-09-25T11:04:20",2.4,null,null,2.4]
[8,"5",2023,"200494",{"$f":"IFERROR(VLOOKUP(Tabla_SERIED_11_6[[#This Row],[IdEstablecimiento]],'[2]Establecimiento 2023'!$A$1:$E$183,3,FALSE),0)","v":"200494-Centro de Salud Familiar El Sauce"},{"$f":"IFERROR(VLOOKUP(Tabla_SERIED_11_6[[#This Row],[IdEstablecimiento]],'[2]Establecimiento 2023'!$A$1:$E$183,5,FALSE),0)","v":"04102-Coquimbo"},"15060100","2023-09-25T11:04:28",14,7,7,{"$nulls":3},4,4,3,3]
[8,"5",2023,"200494",{"$f":"IFERROR(VLOOKUP(Tabla_SERIED_11_6[[#This Row],[IdEstablecimiento]],'[2]Establecimiento 2023'!$A$1:$E$183,3,FALSE),0)","v":"200494-Centro de Salud Familiar El Sauce"},{"$f":"IFERROR(VLOOKUP(Tabla_SERIED_11_6[[#This Row],[IdEstablecimiento]],'[2]Establecimiento 2023'!$A$1:$E$183,5,FALSE),0)","v":"04102-Coquimbo"},"15080016","2023-09-25T11:04:28",14,{"$nulls":3},8,6]
[8,"5",2023,"200494",{"$f":"IFERROR(VLOOKUP(Tabla_SERIED_11_6[[#This Row],[IdEstablecimiento]],'[2]Establecimiento 2023'!$A$1:$E$183,3,FALSE),0)","v":"200494-Centro de Salud Familiar El Sauce"},{"$f":"IFERROR(VLOOKUP(Tabla_SERIED_11_6[[#This Row],[IdEstablecimiento]],'[2]Establecimiento 2023'!$A$1:$E$183,5,FALSE),0)","v":"04102-Coquimbo"},"15900050","2023-09-25T11:04:28",11,5,6,null,2,3,5,1]
[8,"5",2023,"200499",{"$f":"IFERROR(VLOOKUP(Tabla_SERIED_11_6[[#This Row],[IdEstablecimiento]],'[2]Establecimiento 2023'!$A$1:$E$183,3,FALSE),0)","v":"200499-Centro de Salud Familiar Rural Pan de Azúcar"},{"$f":"IFERROR(VLOOKUP(Tabla_SERIED_11_6[[#This Row],[IdEstablecimiento]],'[2]Establecimiento 2023'!$A$1:$E$183,5,FALSE),0)","v":"04102-Coquimbo"},"15050100","2023-09-25T11:05:50",384,151,233,8,12,36,54,47,80,61,47,null,14,12,13]
[9,"5",2023,"105454",{"$f":"IFERROR(VLOOKUP(Tabla_SERIED_11_6[[#This Row],[IdEstablecimiento]],'[2]Establecimiento 2023'!$A$1:$E$183,3,FALSE),0)","v":"105454-Posta de Salud Rural Cunlagua"},{"$f":"IFERROR(VLOOKUP(Tabla_SERIED_11_6[[#This Row],[IdEstablecimiento]],'[2]Establecimiento 2023'!$A$1:$E$183,5,FALSE),0)","v":"04204-Salamanca"},"16200210","2023-10-17T11:51:48",2,2]
[9,"5",2023,"105454",{"$f":"IFERROR(VLOOKUP(Tabla_SERIED_11_6[[#This Row],[IdEstablecimiento]],'[2]Establecimiento 2023'!$A$1:$E$183,3,FALSE),0)","v":"105454-Posta de Salud Rural Cunlagua"},{"$f":"IFERROR(VLOOKUP(Tabla_SERIED_11_6[[#This Row],[IdEstablecimiento]],'[2]Establecimiento 2023'!$A$1:$E$183,5,FALSE),0)","v":"04204-Salamanca"},"16200220","2023-10-17T11:51:48",2,1,1]
[9,"5",2023,"105457",{"$f":"IFERROR(VLOOKUP(Tabla_SERIED_11_6[[#This Row],[IdEstablecimiento]],'[2]Establecimiento 2023'!$A$1:$E$183,3,FALSE),0)","v":"105457-Posta de Salud Rural San Agustín (Salamanca)"},{"$f":"IFERROR(VLOOKUP(Tabla_SERIED_11_6[[#This Row],[IdEstablecimiento]],'[2]Establecimiento 2023'!$A$1:$E$183,5,FALSE),0)","v":"04204-Salamanca"},"16100300","2023-10-17T11:53:40",62,20,42]
[9,"5",2023,"105462",{"$f":"IFERROR(VLOOKUP(Tabla_SERIED_11_6[[#This Row],[IdEstablecimiento]],'[2]Establecimiento 2023'!$A$1:$E$183,3,FALSE),0)","v":"105462-Posta de Salud Rural El Sauce (Combarbalá)"},{"$f":"IFERROR(VLOOKUP(Tabla_SERIED_11_6[[#This Row],[IdEstablecimiento]],'[2]Establecimiento 2023'!$A$1:$E$183,5,FALSE),0)","v":"04302-Combarbalá"},"15900010","2023-10-17T11:57:06",1.6,null,null,1.6]
[9,"5",2023,"105498",{"$f":"IFERROR(VLOOKUP(Tabla_SERIED_11_6[[#This Row],[IdEstablecimiento]],'[2]Establecimiento 2023'!$A$1:$E$183,3,FALSE),0)","v":"105498-Posta de Salud Rural Quebrada Linares"},{"$f":"IFERROR(VLOOKUP(Tabla_SERIED_11_6[[#This Row],[IdEstablecimiento]],'[2]Establecimiento 2023'!$A$1:$E$183,5,FALSE),0)","v":"04202-Canela"},"16200100","2023-10-17T15:02:54",1,1]
[9,"5",2023,"105499",{"$f":"IFERROR(VLOOKUP(Tabla_SERIED_11_6[[#This Row],[IdEstablecimiento]],'[2]Establecimiento 2023'!$A$1:$E$183,3,FALSE),0)","v":"105499-Posta de Salud Rural Lambert"},{"$f":"IFERROR(VLOOKUP(Tabla_SERIED_11_6[[#This Row],[IdEstablecimiento]],'[2]Establecimiento 2023'!$A$1:$E$183,5,FALSE),0)","v":"04101-La Serena"},"15080015","2023-10-17T15:02:58",20,{"$nulls":5},8,12]
[9,"5",2023,"105499",{"$f":"IFERROR(VLOOKUP(Tabla_SERIED_11_6[[#This Row],[IdEstablecimiento]],'[2]Establecimiento 2023'!$A$1:$E$183,3,FALSE),0)","v":"105499-Posta de Salud Rural Lambert"},{"$f":"IFERROR(VLOOKUP(Tabla_SERIED_11_6[[#This Row],[IdEstablecimiento]],'[2]Establecimiento 2023'!$A$1:$E$183,5,FALSE),0)","v":"04101-La Serena"},"16090300","2023-10-17T15:02:58",16,16]
[9,"5",2023,"105500",{"$f":"IFERROR(VLOOKUP(Tabla_SERIED_11_6[[#This Row],[IdEstablecimiento]],'[2]Establecimiento 2023'!$A$1:$E$183,3,FALSE),0)","v":"105500-Posta de Salud Rural Caleta Hornos"},{"$f":"IFERROR(VLOOKUP(Tabla_SERIED_11_6[[#This Row],[IdEstablecimiento]],'[2]Establecimiento 2023'!$A$1:$E$183,5,FALSE),0)","v":"04104-La Higuera"},"15080014","2023-10-17T15:06:03",28,{"$nulls":3},14,14]
[9,"5",2023,"105500",{"$f":"IFERROR(VLOOKUP(Tabla_SERIED_11_6[[#This Row],[IdEstablecimiento]],'[2]Establecimiento 2023'!$A$1:$E$183,3,FALSE),0)","v":"105500-Posta de Salud Rural Caleta Hornos"},{"$f":"IFERROR(VLOOKUP(Tabla_SERIED_11_6[[#This Row],[IdEstablecimiento]],'[2]Establecimiento 2023'!$A$1:$E$183,5,FALSE),0)","v":"04104-La Higuera"},"15900030","2023-10-17T15:06:03",3.2,{"$nulls":3},3.2]
[9,"5",2023,"105507",{"$f":"IFERROR(VLOOKUP(Tabla_SERIED_11_6[[#This Row],[IdEstablecimiento]],'[2]Establecimiento 2023'!$A$1:$E$183,3,FALSE),0)","v":"105507-Posta de Salud Rural Huamalata"},{"$f":"IFERROR(VLOOKUP(Tabla_SERIED_11_6[[#This Row],[IdEstablecimiento]],'[2]Establecimiento 2023'!$A$1:$E$183,5,FALSE),0)","v":"04301-Ovalle"},"15080015","2023-10-17T15:33:07",17,{"$nulls":5},8,9]
[9,"5",2023,"105509",{"$f":"IFERROR(VLOOKUP(Tabla_SERIED_11_6[[#This Row],[IdEstablecimiento]],'[2]Establecimiento 2023'!$A$1:$E$183,3,FALSE),0)","v":"105509-Posta de Salud Rural Gualliguaica"},{"$f":"IFERROR(VLOOKUP(Tabla_SERIED_11_6[[#This Row],[IdEstablecimiento]],'[2]Establecimiento 2023'!$A$1:$E$183,5,FALSE),0)","v":"04106-Vicuña"},"15080015","2023-10-17T15:34:26",12,{"$nulls":5},2,10]
[9,"5",2023,"105510",{"$f":"IFERROR(VLOOKUP(Tabla_SERIED_11_6[[#This Row],[IdEstablecimiento]],'[2]Establecimiento 2023'!$A$1:$E$183,3,FALSE),0)","v":"105510-Posta de Salud Rural Recoleta"},{"$f":"IFERROR(VLOOKUP(Tabla_SERIED_11_6[[#This Row],[IdEstablecimiento]],'[2]Establecimiento 2023'!$A$1:$E$183,5,FALSE),0)","v":"04301-Ovalle"},"16090300","2023-10-17T15:34:58",114,114]
[9,"5",2023,"105511",{"$f":"IFERROR(VLOOKUP(Tabla_SERIED_11_6[[#This Row],[IdEstablecimiento]],'[2]Establecimiento 2023'!$A$1:$E$183,3,FALSE),0)","v":"105511-Posta de Salud Rural Los Cóndores"},{"$f":"IFERROR(VLOOKUP(Tabla_SERIED_11_6[[#This Row],[IdEstablecimiento]],'[2]Establecimiento 2023'!$A$1:$E$183,5,FALSE),0)","v":"04203-Los Vilos"},"16090500","2023-10-17T15:35:31",1,1]
[9,"5",2023,"105700",{"$f":"IFERROR(VLOOKUP(Tabla_SERIED_11_6[[#This Row],[IdEstablecimiento]],'[2]Establecimiento 2023'!$A$1:$E$183,3,FALSE),0)","v":"105700-Centro Comunitario de Salud Familiar Villa el Indio"},{"$f":"IFERROR(VLOOKUP(Tabla_SERIED_11_6[[#This Row],[IdEstablecimiento]],'[2]Establecimiento 2023'!$A$1:$E$183,5,FALSE),0)","v":"04101-La Serena"},"15900010","2023-10-17T15:36:26",13.6,null,1.6,12]
[9,"5",2023,"105700",{"$f":"IFERROR(VLOOKUP(Tabla_SERIED_11_6[[#This Row],[IdEstablecimiento]],'[2]Establecimiento 2023'!$A$1:$E$183,3,FALSE),0)","v":"105700-Centro Comunitario de Salud Familiar Villa el Indio"},{"$f":"IFERROR(VLOOKUP(Tabla_SERIED_11_6[[#This Row],[IdEstablecimiento]],'[2]Establecimiento 2023'!$A$1:$E$183,5,FALSE),0)","v":"04101-La Serena"},"16100300","2023-10-17T15:36:26",104,47,57]
[9,"5",2023,"105701",{"$f":"IFERROR(VLOOKUP(Tabla_SERIED_11_6[[#This Row],[IdEstablecimiento]],'[2]Establecimiento 2023'!$A$1:$E$183,3,FALSE),0)","v":"105701-Centro Comunitario de Salud Familiar Villa Alemania"},{"$f":"IFERROR(VLOOKUP(Tabla_SERIED_11_6[[#This Row],[IdEstablecimiento]],'[2]Establecimiento 2023'!$A$1:$E$183,5,FALSE),0)","v":"04101-La Serena"},"16100300","2023-10-17T15:36:54",45,18,27]
[9,"5",2023,"200258",{"$f":"IFERROR(VLOOKUP(Tabla_SERIED_11_6[[#This Row],[IdEstablecimiento]],'[2]Establecimiento 2023'!$A$1:$E$183,3,FALSE),0)","v":"200258-Centro Comunitario de Salud Familiar Los Copihues"},{"$f":"IFERROR(VLOOKUP(Tabla_SERIED_11_6[[#This Row],[IdEstablecimiento]],'[2]Establecimiento 2023'!$A$1:$E$183,5,FALSE),0)","v":"04301-Ovalle"},"16100300","2023-10-17T15:40:47",126,51,75]
[9,"5",2023,"200273",{"$f":"IFERROR(VLOOKUP(Tabla_SERIED_11_6[[#This Row],[IdEstablecimiento]],'[2]Establecimiento 2023'!$A$1:$E$183,3,FALSE),0)","v":"200273-Centro Comunitario de Salud Familiar Punta Mira"},{"$f":"IFERROR(VLOOKUP(Tabla_SERIED_11_6[[#This Row],[IdEstablecimiento]],'[2]Establecimiento 2023'!$A$1:$E$183,5,FALSE),0)","v":"04102-Coquimbo"},"15900010","2023-10-17T15:40:43",14.4,0,4,10.4]
[9,"5",2023,"200366",{"$f":"IFERROR(VLOOKUP(Tabla_SERIED_11_6[[#This Row],[IdEstablecimiento]],'[2]Establecimiento 2023'!$A$1:$E$183,3,FALSE),0)","v":"200366-Centro de Salud Familiar Urbano de Illapel"},{"$f":"IFERROR(VLOOKUP(Tabla_SERIED_11_6[[#This Row],[IdEstablecimiento]],'[2]Establecimiento 2023'!$A$1:$E$183,5,FALSE),0)","v":"04201-Illapel"},"15080014","2023-10-17T15:41:37",192,{"$nulls":3},100,86,null,null,2,null,4]
[9,"5",2023,"200366",{"$f":"IFERROR(VLOOKUP(Tabla_SERIED_11_6[[#This Row],[IdEstablecimiento]],'[2]Establecimiento 2023'!$A$1:$E$183,3,FALSE),0)","v":"200366-Centro de Salud Familiar Urbano de Illapel"},{"$f":"IFERROR(VLOOKUP(Tabla_SERIED_11_6[[#This Row],[IdEstablecimiento]],'[2]Establecimiento 2023'!$A$1:$E$183,5,FALSE),0)","v":"04201-Illapel"},"15900050","2023-10-17T15:41:37",2,2,0,null,null,1,1]
[9,"5",2023,"200366",{"$f":"IFERROR(VLOOKUP(Tabla_SERIED_11_6[[#This Row],[IdEstablecimiento]],'[2]Establecimiento 2023'!$A$1:$E$183,3,FALSE),0)","v":"200366-Centro de Salud Familiar Urbano de Illapel"},{"$f":"IFERROR(VLOOKUP(Tabla_SERIED_11_6[[#This Row],[IdEstablecimiento]],'[2]Establecimiento 2023'!$A$1:$E$183,5,FALSE),0)","v":"04201-Illapel"},"16200100","2023-10-17T15:41:37",22,17,5]
[9,"5",2023,"200366",{"$f":"IFERROR(VLOOKUP(Tabla_SERIED_11_6[[#This Row],[IdEstablecimiento]],'[2]Establecimiento 2023'!$A$1:$E$183,3,FALSE),0)","v":"200366-Centro de Salud Familiar Urbano de Illapel"},{"$f":"IFERROR(VLOOKUP(Tabla_SERIED_11_6[[#This Row],[IdEstablecimiento]],'[2]Establecimiento 2023'!$A$1:$E$183,5,FALSE),0)","v":"04201-Illapel"},"16200220","2023-10-17T15:41:37",44,11,33]
[9,"5",2023,"200402",{"$f":"IFERROR(VLOOKUP(Tabla_SERIED_11_6[[#This Row],[IdEstablecimiento]],'[2]Establecimiento 2023'!$A$1:$E$183,3,FALSE),0)","v":"200402-Centro Comunitario de Salud Familiar Arcos de Pinamar"},{"$f":"IFERROR(VLOOKUP(Tabla_SERIED_11_6[[#This Row],[IdEstablecimiento]],'[2]Establecimiento 2023'!$A$1:$E$183,5,FALSE),0)","v":"04101-La Serena"},"16200220","2023-10-17T15:43:12",7,3,4]
[9,"5",2023,"200494",{"$f":"IFERROR(VLOOKUP(Tabla_SERIED_11_6[[#This Row],[IdEstablecimiento]],'[2]Establecimiento 2023'!$A$1:$E$183,3,FALSE),0)","v":"200494-Centro de Salud Familiar El Sauce"},{"$f":"IFERROR(VLOOKUP(Tabla_SERIED_11_6[[#This Row],[IdEstablecimiento]],'[2]Establecimiento 2023'!$A$1:$E$183,5,FALSE),0)","v":"04102-Coquimbo"},"15050100","2023-10-17T15:43:08",572,203,378,8,19,37,80,78,125,95,60,null,32,18,20]
[9,"5",2023,"200494",{"$f":"IFERROR(VLOOKUP(Tabla_SERIED_11_6[[#This Row],[IdEstablecimiento]],'[2]Establecimiento 2023'!$A$1:$E$183,3,FALSE),0)","v":"200494-Centro de Salud Familiar El Sauce"},{"$f":"IFERROR(VLOOKUP(Tabla_SERIED_11_6[[#This Row],[IdEstablecimiento]],'[2]Establecimiento 2023'!$A$1:$E$183,5,FALSE),0)","v":"04102-Coquimbo"},"15060100","2023-10-17T15:43:08",10,3,7,{"$nulls":3},1,3,2,2,2]
[9,"5",2023,"200494",{"$f":"IFERROR(VLOOKUP(Tabla_SERIED_11_6[[#This Row],[IdEstablecimiento]],'[2]Establecimiento 2023'!$A$1:$E$183,3,FALSE),0)","v":"200494-Centro de Salud Familiar El Sauce"},{"$f":"IFERROR(VLOOKUP(Tabla_SERIED_11_6[[#This Row],[IdEstablecimiento]],'[2]Establecimiento 2023'!$A$1:$E$183,5,FALSE),0)","v":"04102-Coquimbo"},"15901300","2023-10-17T15:43:08",4.4,null,null,4.4]
[9,"5",2023,"200494",{"$f":"IFERROR(VLOOKUP(Tabla_SERIED_11_6[[#This Row],[IdEstablecimiento]],'[2]Establecimiento 2023'!$A$1:$E$183,3,FALSE),0)","v":"200494-Centro de Salud Familiar El Sauce"},{"$f":"IFERROR(VLOOKUP(Tabla_SERIED_11_6[[#This Row],[IdEstablecimiento]],'[2]Establecimiento 2023'!$A$1:$E$183,5,FALSE),0)","v":"04102-Coquimbo"},"16200220","2023-10-17T15:43:08",45,18,27]
[9,"5",2023,"200499",{"$f":"IFERROR(VLOOKUP(Tabla_SERIED_11_6[[#This Row],[IdEstablecimiento]],'[2]Establecimiento 2023'!$A$1:$E$183,3,FALSE),0)","v":"200499-Centro de Salud Familiar Rural Pan de Azúcar"},{"$f":"IFERROR(VLOOKUP(Tabla_SERIED_11_6[[#This Row],[IdEstablecimiento]],'[2]Establecimiento 2023'!$A$1:$E$183,5,FALSE),0)","v":"04102-Coquimbo"},"16200210","2023-10-17T15:43:43",43,43]
[9,"5",2023,"105462",{"$f":"IFERROR(VLOOKUP(Tabla_SERIED_11_6[[#This Row],[IdEstablecimiento]],'[2]Establecimiento 2023'!$A$1:$E$183,3,FALSE),0)","v":"105462-Posta de Salud Rural El Sauce (Combarbalá)"},{"$f":"IFERROR(VLOOKUP(Tabla_SERIED_11_6[[#This Row],[IdEstablecimiento]],'[2]Establecimiento 2023'!$A$1:$E$183,5,FALSE),0)","v":"04302-Combarbalá"},"16090300","2023-10-17T11:57:06",68,68]
[9,"5",2023,"105462",{"$f":"IFERROR(VLOOKUP(Tabla_SERIED_11_6[[#This Row],[IdEstablecimiento]],'[2]Establecimiento 2023'!$A$1:$E$183,3,FALSE),0)","v":"105462-Posta de Salud Rural El Sauce (Combarbalá)"},{"$f":"IFERROR(VLOOKUP(Tabla_SERIED_11_6[[#This Row],[IdEstablecimiento]],'[2]Establecimiento 2023'!$A$1:$E$183,5,FALSE),0)","v":"04302-Combarbalá"},"16100300","2023-10-17T11:57:06",68,30,38]
[9,"5",2023,"105463",{"$f":"IFERROR(VLOOKUP(Tabla_SERIED_11_6[[#This Row],[IdEstablecimiento]],'[2]Establecimiento 2023'!$A$1:$E$183,3,FALSE),0)","v":"105463-Posta de Salud Rural Quilitapia"},{"$f":"IFERROR(VLOOKUP(Tabla_SERIED_11_6[[#This Row],[IdEstablecimiento]],'[2]Establecimiento 2023'!$A$1:$E$183,5,FALSE),0)","v":"04302-Combarbalá"},"15080008","2023-10-17T12:00:52",1,{"$nulls":11},1]
[9,"5",2023,"105463",{"$f":"IFERROR(VLOOKUP(Tabla_SERIED_11_6[[#This Row],[IdEstablecimiento]],'[2]Establecimiento 2023'!$A$1:$E$183,3,FALSE),0)","v":"105463-Posta de Salud Rural Quilitapia"},{"$f":"IFERROR(VLOOKUP(Tabla_SERIED_11_6[[#This Row],[IdEstablecimiento]],'[2]Establecimiento 2023'!$A$1:$E$183,5,FALSE),0)","v":"04302-Combarbalá"},"16200210","2023-10-17T12:00:52",11,11]
[9,"5",2023,"105467",{"$f":"IFERROR(VLOOKUP(Tabla_SERIED_11_6[[#This Row],[IdEstablecimiento]],'[2]Establecimiento 2023'!$A$1:$E$183,3,FALSE),0)","v":"105467-Posta de Salud Rural Diaguitas"},{"$f":"IFERROR(VLOOKUP(Tabla_SERIED_11_6[[#This Row],[IdEstablecimiento]],'[2]Establecimiento 2023'!$A$1:$E$183,5,FALSE),0)","v":"04106-Vicuña"},"15050100","2023-10-17T12:07:13",14,8,6,null,null,4,null,2,4,3,{"$nulls":4},1]
[9,"5",2023,"105468",{"$f":"IFERROR(VLOOKUP(Tabla_SERIED_11_6[[#This Row],[IdEstablecimiento]],'[2]Establecimiento 2023'!$A$1:$E$183,3,FALSE),0)","v":"105468-Posta de Salud Rural El Molle"},{"$f":"IFERROR(VLOOKUP(Tabla_SERIED_11_6[[#This Row],[IdEstablecimiento]],'[2]Establecimiento 2023'!$A$1:$E$183,5,FALSE),0)","v":"04106-Vicuña"},"15050100","2023-10-17T14:04:13",26,14,12,null,null,4,2,3,7,7,3,null,0]
[9,"5",2023,"105468",{"$f":"IFERROR(VLOOKUP(Tabla_SERIED_11_6[[#This Row],[IdEstablecimiento]],'[2]Establecimiento 2023'!$A$1:$E$183,3,FALSE),0)","v":"105468-Posta de Salud Rural El Molle"},{"$f":"IFERROR(VLOOKUP(Tabla_SERIED_11_6[[#This Row],[IdEstablecimiento]],'[2]Establecimiento 2023'!$A$1:$E$183,5,FALSE),0)","v":"04106-Vicuña"},"16100300","2023-10-17T14:04:13",46,21,25]
[9,"5",2023,"105469",{"$f":"IFERROR(VLOOKUP(Tabla_SERIED_11_6[[#This Row],[IdEstablecimiento]],'[2]Establecimiento 2023'!$A$1:$E$183,3,FALSE),0)","v":"105469-Posta de Salud Rural El Tambo (Vicuña)"},{"$f":"IFERROR(VLOOKUP(Tabla_SERIED_11_6[[#This Row],[IdEstablecimiento]],'[2]Establecimiento 2023'!$A$1:$E$183,5,FALSE),0)","v":"04106-Vicuña"},"15050100","2023-10-17T14:04:10",23,11,14,null,1,2,4,2,8,3,3]
[9,"5",2023,"105469",{"$f":"IFERROR(VLOOKUP(Tabla_SERIED_11_6[[#This Row],[IdEstablecimiento]],'[2]Establecimiento 2023'!$A$1:$E$183,3,FALSE),0)","v":"105469-Posta de Salud Rural El Tambo (Vicuña)"},{"$f":"IFERROR(VLOOKUP(Tabla_SERIED_11_6[[#This Row],[IdEstablecimiento]],'[2]Establecimiento 2023'!$A$1:$E$183,5,FALSE),0)","v":"04106-Vicuña"},"15080015","2023-10-17T14:04:10",22,{"$nulls":5},16,6]
[9,"5",2023,"105471",{"$f":"IFERROR(VLOOKUP(Tabla_SERIED_11_6[[#This Row],[IdEstablecimiento]],'[2]Establecimiento 2023'!$A$1:$E$183,3,FALSE),0)","v":"105471-Posta de Salud Rural Peralillo Vicuña"},{"$f":"IFERROR(VLOOKUP(Tabla_SERIED_11_6[[#This Row],[IdEstablecimiento]],'[2]Establecimiento 2023'!$A$1:$E$183,5,FALSE),0)","v":"04106-Vicuña"},"15050100","2023-10-17T14:05:27",29,13,16,1,null,4,3,2,12,5,1,null,1]
[9,"5",2023,"105471",{"$f":"IFERROR(VLOOKUP(Tabla_SERIED_11_6[[#This Row],[IdEstablecimiento]],'[2]Establecimiento 2023'!$A$1:$E$183,3,FALSE),0)","v":"105471-Posta de Salud Rural Peralillo Vicuña"},{"$f":"IFERROR(VLOOKUP(Tabla_SERIED_11_6[[#This Row],[IdEstablecimiento]],'[2]Establecimiento 2023'!$A$1:$E$183,5,FALSE),0)","v":"04106-Vicuña"},"16100300","2023-10-17T14:05:27",74,41,33]
[9,"5",2023,"105471",{"$f":"IFERROR(VLOOKUP(Tabla_SERIED_11_6[[#This Row],[IdEstablecimiento]],'[2]Establecimiento 2023'!$A$1:$E$183,3,FALSE),0)","v":"105471-Posta de Salud Rural Peralillo Vicuña"},{"$f":"IFERROR(VLOOKUP(Tabla_SERIED_11_6[[#This Row],[IdEstablecimiento]],'[2]Establecimiento 2023'!$A$1:$E$183,5,FALSE),0)","v":"04106-Vicuña"},"16200210","2023-10-17T14:05:27",2,2]
[9,"5",2023,"105471",{"$f":"IFERROR(VLOOKUP(Tabla_SERIED_11_6[[#This Row],[IdEstablecimiento]],'[2]Establecimiento 2023'!$A$1:$E$183,3,FALSE),0)","v":"105471-Posta de Salud Rural Peralillo Vicuña"},{"$f":"IFERROR(VLOOKUP(Tabla_SERIED_11_6[[#This Row],[IdEstablecimiento]],'[2]Establecimiento 2023'!$A$1:$E$183,5,FALSE),0)","v":"04106-Vicuña"},"16200220","2023-10-17T14:05:27",2,1,1]
[9,"5",2023,"105472",{"$f":"IFERROR(VLOOKUP(Tabla_SERIED_11_6[[#This Row],[IdEstablecimiento]],'[2]Establecimiento 2023'!$A$1:$E$183,3,FALSE),0)","v":"105472-Posta de Salud Rural Rivadavia"},{"$f":"IFERROR(VLOOKUP(Tabla_SERIED_11_6[[#This Row],[IdEstablecimiento]],'[2]Establecimiento 2023'!$A$1:$E$183,5,FALSE),0)","v":"04106-Vicuña"},"16090500","2023-10-17T14:07:06",3,3]
[9,"5",2023,"105472",{"$f":"IFERROR(VLOOKUP(Tabla_SERIED_11_6[[#This Row],[IdEstablecimiento]],'[2]Establecimiento 2023'!$A$1:$E$183,3,FALSE),0)","v":"105472-Posta de Salud Rural Rivadavia"},{"$f":"IFERROR(VLOOKUP(Tabla_SERIED_11_6[[#This Row],[IdEstablecimiento]],'[2]Establecimiento 2023'!$A$1:$E$183,5,FALSE),0)","v":"04106-Vicuña"},"16100300","2023-10-17T14:07:06",49,23,26]
[9,"5",2023,"105474",{"$f":"IFERROR(VLOOKUP(Tabla_SERIED_11_6[[#This Row],[IdEstablecimiento]],'[2]Establecimiento 2023'!$A$1:$E$183,3,FALSE),0)","v":"105474-Posta de Salud Rural Chapilca"},{"$f":"IFERROR(VLOOKUP(Tabla_SERIED_11_6[[#This Row],[IdEstablecimiento]],'[2]Establecimiento 2023'!$A$1:$E$183,5,FALSE),0)","v":"04106-Vicuña"},"16100300","2023-10-17T14:08:14",17,6,11]
[9,"5",2023,"105481",{"$f":"IFERROR(VLOOKUP(Tabla_SERIED_11_6[[#This Row],[IdEstablecimiento]],'[2]Establecimiento 2023'!$A$1:$E$183,3,FALSE),0)","v":"105481-Posta de Salud Rural Tilama"},{"$f":"IFERROR(VLOOKUP(Tabla_SERIED_11_6[[#This Row],[IdEstablecimiento]],'[2]Establecimiento 2023'!$A$1:$E$183,5,FALSE),0)","v":"04203-Los Vilos"},"15010500","2023-10-17T14:44:31",2,{"$nulls":5},2]
[9,"5",2023,"105482",{"$f":"IFERROR(VLOOKUP(Tabla_SERIED_11_6[[#This Row],[IdEstablecimiento]],'[2]Establecimiento 2023'!$A$1:$E$183,3,FALSE),0)","v":"105482-Posta de Salud Rural Canela Alta"},{"$f":"IFERROR(VLOOKUP(Tabla_SERIED_11_6[[#This Row],[IdEstablecimiento]],'[2]Establecimiento 2023'!$A$1:$E$183,5,FALSE),0)","v":"04202-Canela"},"16200220","2023-10-17T14:45:43",4,1,3]
[9,"5",2023,"105484",{"$f":"IFERROR(VLOOKUP(Tabla_SERIED_11_6[[#This Row],[IdEstablecimiento]],'[2]Establecimiento 2023'!$A$1:$E$183,3,FALSE),0)","v":"105484-Posta de Salud Rural Huentelauquén"},{"$f":"IFERROR(VLOOKUP(Tabla_SERIED_11_6[[#This Row],[IdEstablecimiento]],'[2]Establecimiento 2023'!$A$1:$E$183,5,FALSE),0)","v":"04202-Canela"},"15050100","2023-10-17T14:47:04",10,3,7,{"$nulls":4},1,6,3]
[10,"5",2023,"105476",{"$f":"IFERROR(VLOOKUP(Tabla_SERIED_11_6[[#This Row],[IdEstablecimiento]],'[2]Establecimiento 2023'!$A$1:$E$183,3,FALSE),0)","v":"105476-Posta de Salud Rural Monte Grande"},{"$f":"IFERROR(VLOOKUP(Tabla_SERIED_11_6[[#This Row],[IdEstablecimiento]],'[2]Establecimiento 2023'!$A$1:$E$183,5,FALSE),0)","v":"04105-Paihuano"},"16100300","2023-11-22T13:07:10",11,4,7]
[8,"5",2023,"200499",{"$f":"IFERROR(VLOOKUP(Tabla_SERIED_11_6[[#This Row],[IdEstablecimiento]],'[2]Establecimiento 2023'!$A$1:$E$183,3,FALSE),0)","v":"200499-Centro de Salud Familiar Rural Pan de Azúcar"},{"$f":"IFERROR(VLOOKUP(Tabla_SERIED_11_6[[#This Row],[IdEstablecimiento]],'[2]Establecimiento 2023'!$A$1:$E$183,5,FALSE),0)","v":"04102-Coquimbo"},"16090300","2023-09-25T11:05:50",454,454]
[8,"5",2023,"200538",{"$f":"IFERROR(VLOOKUP(Tabla_SERIED_11_6[[#This Row],[IdEstablecimiento]],'[2]Establecimiento 2023'!$A$1:$E$183,3,FALSE),0)","v":"200538-Centro de Salud Familiar San Isidro Calingasta"},{"$f":"IFERROR(VLOOKUP(Tabla_SERIED_11_6[[#This Row],[IdEstablecimiento]],'[2]Establecimiento 2023'!$A$1:$E$183,5,FALSE),0)","v":"04106-Vicuña"},"15080016","2023-10-17T15:44:46",10,{"$nulls":4},2,6,2]
[8,"5",2023,"200538",{"$f":"IFERROR(VLOOKUP(Tabla_SERIED_11_6[[#This Row],[IdEstablecimiento]],'[2]Establecimiento 2023'!$A$1:$E$183,3,FALSE),0)","v":"200538-Centro de Salud Familiar San Isidro Calingasta"},{"$f":"IFERROR(VLOOKUP(Tabla_SERIED_11_6[[#This Row],[IdEstablecimiento]],'[2]Establecimiento 2023'!$A$1:$E$183,5,FALSE),0)","v":"04106-Vicuña"},"16090500","2023-10-17T15:44:46",1,1]
[8,"5",2023,"200538",{"$f":"IFERROR(VLOOKUP(Tabla_SERIED_11_6[[#This Row],[IdEstablecimiento]],'[2]Establecimiento 2023'!$A$1:$E$183,3,FALSE),0)","v":"200538-Centro de Salud Familiar San Isidro Calingasta"},{"$f":"IFERROR(VLOOKUP(Tabla_SERIED_11_6[[#This Row],[IdEstablecimiento]],'[2]Establecimiento 2023'!$A$1:$E$183,5,FALSE),0)","v":"04106-Vicuña"},"16100600","2023-10-17T15:44:46",1,null,1]
[9,"5",2023,"200538",{"$f":"IFERROR(VLOOKUP(Tabla_SERIED_11_6[[#This Row],[IdEstablecimiento]],'[2]Establecimiento 2023'!$A$1:$E$183,3,FALSE),0)","v":"200538-Centro de Salud Familiar San Isidro Calingasta"},{"$f":"IFERROR(VLOOKUP(Tabla_SERIED_11_6[[#This Row],[IdEstablecimiento]],'[2]Establecimiento 2023'!$A$1:$E$183,5,FALSE),0)","v":"04106-Vicuña"},"15080016","2023-10-17T15:45:21",10,{"$nulls":3},0,2,6,2]
[9,"5",2023,"200569",{"$f":"IFERROR(VLOOKUP(Tabla_SERIED_11_6[[#This Row],[IdEstablecimiento]],'[2]Establecimiento 2023'!$A$1:$E$183,3,FALSE),0)","v":"200569-Centro de Salud Familiar Fray Jorge"},{"$f":"IFERROR(VLOOKUP(Tabla_SERIED_11_6[[#This Row],[IdEstablecimiento]],'[2]Establecimiento 2023'!$A$1:$E$183,5,FALSE),0)","v":"04301-Ovalle"},"15050500","2023-10-17T15:45:54",3,1,2,0,0,3]
[9,"5",2023,"200569",{"$f":"IFERROR(VLOOKUP(Tabla_SERIED_11_6[[#This Row],[IdEstablecimiento]],'[2]Establecimiento 2023'!$A$1:$E$183,3,FALSE),0)","v":"200569-Centro de Salud Familiar Fray Jorge"},{"$f":"IFERROR(VLOOKUP(Tabla_SERIED_11_6[[#This Row],[IdEstablecimiento]],'[2]Establecimiento 2023'!$A$1:$E$183,5,FALSE),0)","v":"04301-Ovalle"},"15060100","2023-10-17T15:45:54",2,null,2,{"$nulls":3},1,null,1,null,0,null,0,0,0]
[9,"5",2023,"200569",{"$f":"IFERROR(VLOOKUP(Tabla_SERIED_11_6[[#This Row],[IdEstablecimiento]],'[2]Establecimiento 2023'!$A$1:$E$183,3,FALSE),0)","v":"200569-Centro de Salud Familiar Fray Jorge"},{"$f":"IFERROR(VLOOKUP(Tabla_SERIED_11_6[[#This Row],[IdEstablecimiento]],'[2]Establecimiento 2023'!$A$1:$E$183,5,FALSE),0)","v":"04301-Ovalle"},"15080014","2023-10-17T15:45:54",329,{"$nulls":3},162,166,null,null,1]
[9,"5",2023,"200607",{"$f":"IFERROR(VLOOKUP(Tabla_SERIED_11_6[[#This Row],[IdEstablecimiento]],'[2]Establecimiento 2023'!$A$1:$E$183,3,FALSE),0)","v":"200607-Centro de Salud Familiar Lila Cortés Godoy"},{"$f":"IFERROR(VLOOKUP(Tabla_SERIED_11_6[[#This Row],[IdEstablecimiento]],'[2]Establecimiento 2023'!$A$1:$E$183,5,FALSE),0)","v":"04102-Coquimbo"},"15900030","2023-10-17T15:46:21",29.6,4.4,4.4,8.8,4.8,7.2]
[8,"5",2023,"200607",{"$f":"IFERROR(VLOOKUP(Tabla_SERIED_11_6[[#This Row],[IdEstablecimiento]],'[2]Establecimiento 2023'!$A$1:$E$183,3,FALSE),0)","v":"200607-Centro de Salud Familiar Lila Cortés Godoy"},{"$f":"IFERROR(VLOOKUP(Tabla_SERIED_11_6[[#This Row],[IdEstablecimiento]],'[2]Establecimiento 2023'!$A$1:$E$183,5,FALSE),0)","v":"04102-Coquimbo"},"15050100","2023-09-25T11:07:27",726,277,449,18,19,76,111,97,139,111,89,null,32,22,12]
[8,"5",2023,"200607",{"$f":"IFERROR(VLOOKUP(Tabla_SERIED_11_6[[#This Row],[IdEstablecimiento]],'[2]Establecimiento 2023'!$A$1:$E$183,3,FALSE),0)","v":"200607-Centro de Salud Familiar Lila Cortés Godoy"},{"$f":"IFERROR(VLOOKUP(Tabla_SERIED_11_6[[#This Row],[IdEstablecimiento]],'[2]Establecimiento 2023'!$A$1:$E$183,5,FALSE),0)","v":"04102-Coquimbo"},"15901500","2023-09-25T11:07:27",4.8,null,null,4.8]
[9,"5",2023,"105304",{"$f":"IFERROR(VLOOKUP(Tabla_SERIED_11_6[[#This Row],[IdEstablecimiento]],'[2]Establecimiento 2023'!$A$1:$E$183,3,FALSE),0)","v":"105304-Centro de Salud Familiar Santa Cecilia"},{"$f":"IFERROR(VLOOKUP(Tabla_SERIED_11_6[[#This Row],[IdEstablecimiento]],'[2]Establecimiento 2023'!$A$1:$E$183,5,FALSE),0)","v":"04102-Coquimbo"},"15060100","2023-10-17T09:59:19",6,0,6,0,0,0,1,3,2,0,0,null,0,0,0]
[9,"5",2023,"105304",{"$f":"IFERROR(VLOOKUP(Tabla_SERIED_11_6[[#This Row],[IdEstablecimiento]],'[2]Establecimiento 2023'!$A$1:$E$183,3,FALSE),0)","v":"105304-Centro de Salud Familiar Santa Cecilia"},{"$f":"IFERROR(VLOOKUP(Tabla_SERIED_11_6[[#This Row],[IdEstablecimiento]],'[2]Establecimiento 2023'!$A$1:$E$183,5,FALSE),0)","v":"04102-Coquimbo"},"15080008","2023-10-17T09:59:19",164,{"$nulls":7},89,null,36,6,33]
[9,"5",2023,"105305",{"$f":"IFERROR(VLOOKUP(Tabla_SERIED_11_6[[#This Row],[IdEstablecimiento]],'[2]Establecimiento 2023'!$A$1:$E$183,3,FALSE),0)","v":"105305-Centro de Salud Familiar Tierras Blancas"},{"$f":"IFERROR(VLOOKUP(Tabla_SERIED_11_6[[#This Row],[IdEstablecimiento]],'[2]Establecimiento 2023'!$A$1:$E$183,5,FALSE),0)","v":"04102-Coquimbo"},"15010500","2023-10-17T10:00:18",18,{"$nulls":3},4,2,6,6]
[9,"5",2023,"105306",{"$f":"IFERROR(VLOOKUP(Tabla_SERIED_11_6[[#This Row],[IdEstablecimiento]],'[2]Establecimiento 2023'!$A$1:$E$183,3,FALSE),0)","v":"105306-Centro de Salud Familiar Paihuano"},{"$f":"IFERROR(VLOOKUP(Tabla_SERIED_11_6[[#This Row],[IdEstablecimiento]],'[2]Establecimiento 2023'!$A$1:$E$183,5,FALSE),0)","v":"04105-Paihuano"},"15080014","2023-10-17T10:00:47",8,{"$nulls":3},6,2]
[9,"5",2023,"105306",{"$f":"IFERROR(VLOOKUP(Tabla_SERIED_11_6[[#This Row],[IdEstablecimiento]],'[2]Establecimiento 2023'!$A$1:$E$183,3,FALSE),0)","v":"105306-Centro de Salud Familiar Paihuano"},{"$f":"IFERROR(VLOOKUP(Tabla_SERIED_11_6[[#This Row],[IdEstablecimiento]],'[2]Establecimiento 2023'!$A$1:$E$183,5,FALSE),0)","v":"04105-Paihuano"},"16090300","2023-10-17T10:00:47",55,55]
[9,"5",2023,"105306",{"$f":"IFERROR(VLOOKUP(Tabla_SERIED_11_6[[#This Row],[IdEstablecimiento]],'[2]Establecimiento 2023'!$A$1:$E$183,3,FALSE),0)","v":"105306-Centro de Salud Familiar Paihuano"},{"$f":"IFERROR(VLOOKUP(Tabla_SERIED_11_6[[#This Row],[IdEstablecimiento]],'[2]Establecimiento 2023'!$A$1:$E$183,5,FALSE),0)","v":"04105-Paihuano"},"16100300","2023-10-17T10:00:47",55,24,31]
[9,"5",2023,"105307",{"$f":"IFERROR(VLOOKUP(Tabla_SERIED_11_6[[#This Row],[IdEstablecimiento]],'[2]Establecimiento 2023'!$A$1:$E$183,3,FALSE),0)","v":"105307-Centro de Salud Familiar Monte Patria"},{"$f":"IFERROR(VLOOKUP(Tabla_SERIED_11_6[[#This Row],[IdEstablecimiento]],'[2]Establecimiento 2023'!$A$1:$E$183,5,FALSE),0)","v":"04303-Monte Patria"},"15080008","2023-10-17T10:01:17",95,{"$nulls":7},34,null,42,2,17]
[9,"5",2023,"105308",{"$f":"IFERROR(VLOOKUP(Tabla_SERIED_11_6[[#This Row],[IdEstablecimiento]],'[2]Establecimiento 2023'!$A$1:$E$183,3,FALSE),0)","v":"105308-Centro de Salud Familiar Punitaqui"},{"$f":"IFERROR(VLOOKUP(Tabla_SERIED_11_6[[#This Row],[IdEstablecimiento]],'[2]Establecimiento 2023'!$A$1:$E$183,5,FALSE),0)","v":"04304-Punitaqui"},"15050100","2023-10-17T10:02:23",298,129,169,null,null,45,33,34,54,67,44,null,13,null,8]
[9,"5",2023,"105308",{"$f":"IFERROR(VLOOKUP(Tabla_SERIED_11_6[[#This Row],[IdEstablecimiento]],'[2]Establecimiento 2023'!$A$1:$E$183,3,FALSE),0)","v":"105308-Centro de Salud Familiar Punitaqui"},{"$f":"IFERROR(VLOOKUP(Tabla_SERIED_11_6[[#This Row],[IdEstablecimiento]],'[2]Establecimiento 2023'!$A$1:$E$183,5,FALSE),0)","v":"04304-Punitaqui"},"15080008","2023-10-17T10:02:23",78,{"$nulls":7},44,null,26,null,8]
[9,"5",2023,"105309",{"$f":"IFERROR(VLOOKUP(Tabla_SERIED_11_6[[#This Row],[IdEstablecimiento]],'[2]Establecimiento 2023'!$A$1:$E$183,3,FALSE),0)","v":"105309-Centro de Salud Familiar Canela"},{"$f":"IFERROR(VLOOKUP(Tabla_SERIED_11_6[[#This Row],[IdEstablecimiento]],'[2]Establecimiento 2023'!$A$1:$E$183,5,FALSE),0)","v":"04202-Canela"},"15050200","2023-10-17T10:02:58",2,1,1,{"$nulls":5},1,null,null,1]
[9,"5",2023,"105309",{"$f":"IFERROR(VLOOKUP(Tabla_SERIED_11_6[[#This Row],[IdEstablecimiento]],'[2]Establecimiento 2023'!$A$1:$E$183,3,FALSE),0)","v":"105309-Centro de Salud Familiar Canela"},{"$f":"IFERROR(VLOOKUP(Tabla_SERIED_11_6[[#This Row],[IdEstablecimiento]],'[2]Establecimiento 2023'!$A$1:$E$183,5,FALSE),0)","v":"04202-Canela"},"16100300","2023-10-17T10:02:58",278,123,155]
[9,"5",2023,"105311",{"$f":"IFERROR(VLOOKUP(Tabla_SERIED_11_6[[#This Row],[IdEstablecimiento]],'[2]Establecimiento 2023'!$A$1:$E$183,3,FALSE),0)","v":"105311-Centro de Salud Familiar Chañaral Alto"},{"$f":"IFERROR(VLOOKUP(Tabla_SERIED_11_6[[#This Row],[IdEstablecimiento]],'[2]Establecimiento 2023'!$A$1:$E$183,5,FALSE),0)","v":"04303-Monte Patria"},"15080008","2023-10-17T10:03:53",28,{"$nulls":7},8,null,14,null,6]
[9,"5",2023,"105315",{"$f":"IFERROR(VLOOKUP(Tabla_SERIED_11_6[[#This Row],[IdEstablecimiento]],'[2]Establecimiento 2023'!$A$1:$E$183,3,FALSE),0)","v":"105315-Centro de Salud Familiar Cerrillos de Tamaya"},{"$f":"IFERROR(VLOOKUP(Tabla_SERIED_11_6[[#This Row],[IdEstablecimiento]],'[2]Establecimiento 2023'!$A$1:$E$183,5,FALSE),0)","v":"04301-Ovalle"},"15010500","2023-10-17T15:50:02",6,null,null,4,null,null,2]
[9,"5",2023,"105315",{"$f":"IFERROR(VLOOKUP(Tabla_SERIED_11_6[[#This Row],[IdEstablecimiento]],'[2]Establecimiento 2023'!$A$1:$E$183,3,FALSE),0)","v":"105315-Centro de Salud Familiar Cerrillos de Tamaya"},{"$f":"IFERROR(VLOOKUP(Tabla_SERIED_11_6[[#This Row],[IdEstablecimiento]],'[2]Establecimiento 2023'!$A$1:$E$183,5,FALSE),0)","v":"04301-Ovalle"},"15030100","2023-10-17T15:50:02",2.4,2.4]
[9,"5",2023,"105315",{"$f":"IFERROR(VLOOKUP(Tabla_SERIED_11_6[[#This Row],[IdEstablecimiento]],'[2]Establecimiento 2023'!$A$1:$E$183,3,FALSE),0)","v":"105315-Centro de Salud Familiar Cerrillos de Tamaya"},{"$f":"IFERROR(VLOOKUP(Tabla_SERIED_11_6[[#This Row],[IdEstablecimiento]],'[2]Establecimiento 2023'!$A$1:$E$183,5,FALSE),0)","v":"04301-Ovalle"},"15050100","2023-10-17T15:50:02",239,71,168,6,6,12,34,26,50,37,35,null,16,10,7]
[9,"5",2023,"105433",{"$f":"IFERROR(VLOOKUP(Tabla_SERIED_11_6[[#This Row],[IdEstablecimiento]],'[2]Establecimiento 2023'!$A$1:$E$183,3,FALSE),0)","v":"105433-Posta de Salud Rural San Lorenzo (Combarbalá)"},{"$f":"IFERROR(VLOOKUP(Tabla_SERIED_11_6[[#This Row],[IdEstablecimiento]],'[2]Establecimiento 2023'!$A$1:$E$183,5,FALSE),0)","v":"04302-Combarbalá"},"16200210","2023-10-17T11:31:34",3,3]
[9,"5",2023,"105439",{"$f":"IFERROR(VLOOKUP(Tabla_SERIED_11_6[[#This Row],[IdEstablecimiento]],'[2]Establecimiento 2023'!$A$1:$E$183,3,FALSE),0)","v":"105439-Posta de Salud Rural Cerro Blanco"},{"$f":"IFERROR(VLOOKUP(Tabla_SERIED_11_6[[#This Row],[IdEstablecimiento]],'[2]Establecimiento 2023'!$A$1:$E$183,5,FALSE),0)","v":"04301-Ovalle"},"16100300","2023-10-17T11:41:27",47,22,25]
[9,"5",2023,"105439",{"$f":"IFERROR(VLOOKUP(Tabla_SERIED_11_6[[#This Row],[IdEstablecimiento]],'[2]Establecimiento 2023'!$A$1:$E$183,3,FALSE),0)","v":"105439-Posta de Salud Rural Cerro Blanco"},{"$f":"IFERROR(VLOOKUP(Tabla_SERIED_11_6[[#This Row],[IdEstablecimiento]],'[2]Establecimiento 2023'!$A$1:$E$183,5,FALSE),0)","v":"04301-Ovalle"},"16200220","2023-10-17T11:41:27",2,2]
[9,"5",2023,"105441",{"$f":"IFERROR(VLOOKUP(Tabla_SERIED_11_6[[#This Row],[IdEstablecimiento]],'[2]Establecimiento 2023'!$A$1:$E$183,3,FALSE),0)","v":"105441-Posta de Salud Rural Manquehua"},{"$f":"IFERROR(VLOOKUP(Tabla_SERIED_11_6[[#This Row],[IdEstablecimiento]],'[2]Establecimiento 2023'!$A$1:$E$183,5,FALSE),0)","v":"04302-Combarbalá"},"16090300","2023-10-17T11:42:03",105,105]
[9,"5",2023,"105445",{"$f":"IFERROR(VLOOKUP(Tabla_SERIED_11_6[[#This Row],[IdEstablecimiento]],'[2]Establecimiento 2023'!$A$1:$E$183,3,FALSE),0)","v":"105445-Posta de Salud Rural Limáhuida"},{"$f":"IFERROR(VLOOKUP(Tabla_SERIED_11_6[[#This Row],[IdEstablecimiento]],'[2]Establecimiento 2023'!$A$1:$E$183,5,FALSE),0)","v":"04201-Illapel"},"15080015","2023-10-17T11:45:24",2,{"$nulls":6},2]
[9,"5",2023,"105445",{"$f":"IFERROR(VLOOKUP(Tabla_SERIED_11_6[[#This Row],[IdEstablecimiento]],'[2]Establecimiento 2023'!$A$1:$E$183,3,FALSE),0)","v":"105445-Posta de Salud Rural Limáhuida"},{"$f":"IFERROR(VLOOKUP(Tabla_SERIED_11_6[[#This Row],[IdEstablecimiento]],'[2]Establecimiento 2023'!$A$1:$E$183,5,FALSE),0)","v":"04201-Illapel"},"15900050","2023-10-17T11:45:24",1,null,1,null,1]
[9,"5",2023,"105447",{"$f":"IFERROR(VLOOKUP(Tabla_SERIED_11_6[[#This Row],[IdEstablecimiento]],'[2]Establecimiento 2023'!$A$1:$E$183,3,FALSE),0)","v":"105447-Posta de Salud Rural Peralillo Illapel"},{"$f":"IFERROR(VLOOKUP(Tabla_SERIED_11_6[[#This Row],[IdEstablecimiento]],'[2]Establecimiento 2023'!$A$1:$E$183,5,FALSE),0)","v":"04201-Illapel"},"16090300","2023-10-17T11:46:43",47,47]
[9,"5",2023,"105448",{"$f":"IFERROR(VLOOKUP(Tabla_SERIED_11_6[[#This Row],[IdEstablecimiento]],'[2]Establecimiento 2023'!$A$1:$E$183,3,FALSE),0)","v":"105448-Posta de Salud Rural Santa Virginia"},{"$f":"IFERROR(VLOOKUP(Tabla_SERIED_11_6[[#This Row],[IdEstablecimiento]],'[2]Establecimiento 2023'!$A$1:$E$183,5,FALSE),0)","v":"04201-Illapel"},"15050100","2023-10-17T11:47:40",23,11,12,{"$nulls":3},3,7,6,2,2,null,2,null,1]
[9,"5",2023,"105452",{"$f":"IFERROR(VLOOKUP(Tabla_SERIED_11_6[[#This Row],[IdEstablecimiento]],'[2]Establecimiento 2023'!$A$1:$E$183,3,FALSE),0)","v":"105452-Posta de Salud Rural Cuncumén(Salamanca)"},{"$f":"IFERROR(VLOOKUP(Tabla_SERIED_11_6[[#This Row],[IdEstablecimiento]],'[2]Establecimiento 2023'!$A$1:$E$183,5,FALSE),0)","v":"04204-Salamanca"},"15050100","2023-10-17T11:50:01",16,7,9,{"$nulls":3},5,1,5,5]
[9,"5",2023,"105452",{"$f":"IFERROR(VLOOKUP(Tabla_SERIED_11_6[[#This Row],[IdEstablecimiento]],'[2]Establecimiento 2023'!$A$1:$E$183,3,FALSE),0)","v":"105452-Posta de Salud Rural Cuncumén(Salamanca)"},{"$f":"IFERROR(VLOOKUP(Tabla_SERIED_11_6[[#This Row],[IdEstablecimiento]],'[2]Establecimiento 2023'!$A$1:$E$183,5,FALSE),0)","v":"04204-Salamanca"},"16200210","2023-10-17T11:50:01",1,1]
[9,"5",2023,"105455",{"$f":"IFERROR(VLOOKUP(Tabla_SERIED_11_6[[#This Row],[IdEstablecimiento]],'[2]Establecimiento 2023'!$A$1:$E$183,3,FALSE),0)","v":"105455-CESFAM Valle Alto"},{"$f":"IFERROR(VLOOKUP(Tabla_SERIED_11_6[[#This Row],[IdEstablecimiento]],'[2]Establecimiento 2023'!$A$1:$E$183,5,FALSE),0)","v":"04204-Salamanca"},"16090300","2023-10-17T11:52:35",72,72]
[9,"5",2023,"105458",{"$f":"IFERROR(VLOOKUP(Tabla_SERIED_11_6[[#This Row],[IdEstablecimiento]],'[2]Establecimiento 2023'!$A$1:$E$183,3,FALSE),0)","v":"105458-Posta de Salud Rural Tahuinco"},{"$f":"IFERROR(VLOOKUP(Tabla_SERIED_11_6[[#This Row],[IdEstablecimiento]],'[2]Establecimiento 2023'!$A$1:$E$183,5,FALSE),0)","v":"04204-Salamanca"},"16200210","2023-10-17T11:54:22",8,8]
[9,"5",2023,"105459",{"$f":"IFERROR(VLOOKUP(Tabla_SERIED_11_6[[#This Row],[IdEstablecimiento]],'[2]Establecimiento 2023'!$A$1:$E$183,3,FALSE),0)","v":"105459-Posta de Salud Rural Barrancas"},{"$f":"IFERROR(VLOOKUP(Tabla_SERIED_11_6[[#This Row],[IdEstablecimiento]],'[2]Establecimiento 2023'!$A$1:$E$183,5,FALSE),0)","v":"04302-Combarbalá"},"16090500","2023-10-17T11:55:56",5,5]
[9,"5",2023,"105462",{"$f":"IFERROR(VLOOKUP(Tabla_SERIED_11_6[[#This Row],[IdEstablecimiento]],'[2]Establecimiento 2023'!$A$1:$E$183,3,FALSE),0)","v":"105462-Posta de Salud Rural El Sauce (Combarbalá)"},{"$f":"IFERROR(VLOOKUP(Tabla_SERIED_11_6[[#This Row],[IdEstablecimiento]],'[2]Establecimiento 2023'!$A$1:$E$183,5,FALSE),0)","v":"04302-Combarbalá"},"15050100","2023-10-17T11:57:06",15,4,11,null,null,1,2,1,6,4,{"$nulls":4},1]
[9,"5",2023,"105462",{"$f":"IFERROR(VLOOKUP(Tabla_SERIED_11_6[[#This Row],[IdEstablecimiento]],'[2]Establecimiento 2023'!$A$1:$E$183,3,FALSE),0)","v":"105462-Posta de Salud Rural El Sauce (Combarbalá)"},{"$f":"IFERROR(VLOOKUP(Tabla_SERIED_11_6[[#This Row],[IdEstablecimiento]],'[2]Establecimiento 2023'!$A$1:$E$183,5,FALSE),0)","v":"04302-Combarbalá"},"15080008","2023-10-17T11:57:06",1,{"$nulls":11},1]
[9,"5",2023,"105463",{"$f":"IFERROR(VLOOKUP(Tabla_SERIED_11_6[[#This Row],[IdEstablecimiento]],'[2]Establecimiento 2023'!$A$1:$E$183,3,FALSE),0)","v":"105463-Posta de Salud Rural Quilitapia"},{"$f":"IFERROR(VLOOKUP(Tabla_SERIED_11_6[[#This Row],[IdEstablecimiento]],'[2]Establecimiento 2023'!$A$1:$E$183,5,FALSE),0)","v":"04302-Combarbalá"},"15900010","2023-10-17T12:00:52",3.2,null,3.2]
[9,"5",2023,"105463",{"$f":"IFERROR(VLOOKUP(Tabla_SERIED_11_6[[#This Row],[IdEstablecimiento]],'[2]Establecimiento 2023'!$A$1:$E$183,3,FALSE),0)","v":"105463-Posta de Salud Rural Quilitapia"},{"$f":"IFERROR(VLOOKUP(Tabla_SERIED_11_6[[#This Row],[IdEstablecimiento]],'[2]Establecimiento 2023'!$A$1:$E$183,5,FALSE),0)","v":"04302-Combarbalá"},"15900030","2023-10-17T12:00:52",3.6,{"$nulls":5},3.6]
[9,"5",2023,"105463",{"$f":"IFERROR(VLOOKUP(Tabla_SERIED_11_6[[#This Row],[IdEstablecimiento]],'[2]Establecimiento 2023'!$A$1:$E$183,3,FALSE),0)","v":"105463-Posta de Salud Rural Quilitapia"},{"$f":"IFERROR(VLOOKUP(Tabla_SERIED_11_6[[#This Row],[IdEstablecimiento]],'[2]Establecimiento 2023'!$A$1:$E$183,5,FALSE),0)","v":"04302-Combarbalá"},"16200220","2023-10-17T12:00:52",11,5,6]
[9,"5",2023,"105464",{"$f":"IFERROR(VLOOKUP(Tabla_SERIED_11_6[[#This Row],[IdEstablecimiento]],'[2]Establecimiento 2023'!$A$1:$E$183,3,FALSE),0)","v":"105464-Posta de Salud Rural La Ligua"},{"$f":"IFERROR(VLOOKUP(Tabla_SERIED_11_6[[#This Row],[IdEstablecimiento]],'[2]Establecimiento 2023'!$A$1:$E$183,5,FALSE),0)","v":"04302-Combarbalá"},"15080008","2023-10-17T12:00:47",5,{"$nulls":7},1,null,4]
[9,"5",2023,"105465",{"$f":"IFERROR(VLOOKUP(Tabla_SERIED_11_6[[#This Row],[IdEstablecimiento]],'[2]Establecimiento 2023'!$A$1:$E$183,3,FALSE),0)","v":"105465-Posta de Salud Rural Ramadilla"},{"$f":"IFERROR(VLOOKUP(Tabla_SERIED_11_6[[#This Row],[IdEstablecimiento]],'[2]Establecimiento 2023'!$A$1:$E$183,5,FALSE),0)","v":"04302-Combarbalá"},"16090300","2023-10-17T12:02:49",84,84]
[9,"5",2023,"105467",{"$f":"IFERROR(VLOOKUP(Tabla_SERIED_11_6[[#This Row],[IdEstablecimiento]],'[2]Establecimiento 2023'!$A$1:$E$183,3,FALSE),0)","v":"105467-Posta de Salud Rural Diaguitas"},{"$f":"IFERROR(VLOOKUP(Tabla_SERIED_11_6[[#This Row],[IdEstablecimiento]],'[2]Establecimiento 2023'!$A$1:$E$183,5,FALSE),0)","v":"04106-Vicuña"},"15080008","2023-10-17T12:07:13",1,{"$nulls":11},1]
[9,"5",2023,"105472",{"$f":"IFERROR(VLOOKUP(Tabla_SERIED_11_6[[#This Row],[IdEstablecimiento]],'[2]Establecimiento 2023'!$A$1:$E$183,3,FALSE),0)","v":"105472-Posta de Salud Rural Rivadavia"},{"$f":"IFERROR(VLOOKUP(Tabla_SERIED_11_6[[#This Row],[IdEstablecimiento]],'[2]Establecimiento 2023'!$A$1:$E$183,5,FALSE),0)","v":"04106-Vicuña"},"15050200","2023-10-17T14:07:06",2,0,2,{"$nulls":3},1,null,1]
[9,"5",2023,"105472",{"$f":"IFERROR(VLOOKUP(Tabla_SERIED_11_6[[#This Row],[IdEstablecimiento]],'[2]Establecimiento 2023'!$A$1:$E$183,3,FALSE),0)","v":"105472-Posta de Salud Rural Rivadavia"},{"$f":"IFERROR(VLOOKUP(Tabla_SERIED_11_6[[#This Row],[IdEstablecimiento]],'[2]Establecimiento 2023'!$A$1:$E$183,5,FALSE),0)","v":"04106-Vicuña"},"15080008","2023-10-17T14:07:06",1,{"$nulls":7},1]
[9,"5",2023,"105475",{"$f":"IFERROR(VLOOKUP(Tabla_SERIED_11_6[[#This Row],[IdEstablecimiento]],'[2]Establecimiento 2023'!$A$1:$E$183,3,FALSE),0)","v":"105475-Posta de Salud Rural Horcón (Paiguano)"},{"$f":"IFERROR(VLOOKUP(Tabla_SERIED_11_6[[#This Row],[IdEstablecimiento]],'[2]Establecimiento 2023'!$A$1:$E$183,5,FALSE),0)","v":"04105-Paihuano"},"16090300","2023-10-17T17:06:01",21,21]
[9,"5",2023,"105325",{"$f":"IFERROR(VLOOKUP(Tabla_SERIED_11_6[[#This Row],[IdEstablecimiento]],'[2]Establecimiento 2023'!$A$1:$E$183,3,FALSE),0)","v":"105325-Centro de Salud Familiar Juan Pablo II (La Serena)"},{"$f":"IFERROR(VLOOKUP(Tabla_SERIED_11_6[[#This Row],[IdEstablecimiento]],'[2]Establecimiento 2023'!$A$1:$E$183,5,FALSE),0)","v":"04101-La Serena"},"16200220","2023-10-17T11:06:28",54,20,34]
[9,"5",2023,"105326",{"$f":"IFERROR(VLOOKUP(Tabla_SERIED_11_6[[#This Row],[IdEstablecimiento]],'[2]Establecimiento 2023'!$A$1:$E$183,3,FALSE),0)","v":"105326-Centro de Salud Familiar Villa San Rafael de Rozas"},{"$f":"IFERROR(VLOOKUP(Tabla_SERIED_11_6[[#This Row],[IdEstablecimiento]],'[2]Establecimiento 2023'!$A$1:$E$183,5,FALSE),0)","v":"04201-Illapel"},"15030100","2023-10-17T11:07:10",2.4,null,null,2.4]
[9,"5",2023,"105326",{"$f":"IFERROR(VLOOKUP(Tabla_SERIED_11_6[[#This Row],[IdEstablecimiento]],'[2]Establecimiento 2023'!$A$1:$E$183,3,FALSE),0)","v":"105326-Centro de Salud Familiar Villa San Rafael de Rozas"},{"$f":"IFERROR(VLOOKUP(Tabla_SERIED_11_6[[#This Row],[IdEstablecimiento]],'[2]Establecimiento 2023'!$A$1:$E$183,5,FALSE),0)","v":"04201-Illapel"},"15080014","2023-10-17T11:07:10",96,{"$nulls":3},52,44]
[9,"5",2023,"105400",{"$f":"IFERROR(VLOOKUP(Tabla_SERIED_11_6[[#This Row],[IdEstablecimiento]],'[2]Establecimiento 2023'!$A$1:$E$183,3,FALSE),0)","v":"105400-Posta de Salud Rural Algarrobito"},{"$f":"IFERROR(VLOOKUP(Tabla_SERIED_11_6[[#This Row],[IdEstablecimiento]],'[2]Establecimiento 2023'!$A$1:$E$183,5,FALSE),0)","v":"04101-La Serena"},"15050100","2023-10-17T11:07:46",61,26,35,null,4,1,7,8,17,15,9]
[9,"5",2023,"105401",{"$f":"IFERROR(VLOOKUP(Tabla_SERIED_11_6[[#This Row],[IdEstablecimiento]],'[2]Establecimiento 2023'!$A$1:$E$183,3,FALSE),0)","v":"105401-Posta de Salud Rural Las Rojas"},{"$f":"IFERROR(VLOOKUP(Tabla_SERIED_11_6[[#This Row],[IdEstablecimiento]],'[2]Establecimiento 2023'!$A$1:$E$183,5,FALSE),0)","v":"04101-La Serena"},"15080014","2023-10-17T11:08:18",12,{"$nulls":3},2,10]
[9,"5",2023,"105401",{"$f":"IFERROR(VLOOKUP(Tabla_SERIED_11_6[[#This Row],[IdEstablecimiento]],'[2]Establecimiento 2023'!$A$1:$E$183,3,FALSE),0)","v":"105401-Posta de Salud Rural Las Rojas"},{"$f":"IFERROR(VLOOKUP(Tabla_SERIED_11_6[[#This Row],[IdEstablecimiento]],'[2]Establecimiento 2023'!$A$1:$E$183,5,FALSE),0)","v":"04101-La Serena"},"15900010","2023-10-17T11:08:18",4,null,0.8,3.2]
[9,"5",2023,"105402",{"$f":"IFERROR(VLOOKUP(Tabla_SERIED_11_6[[#This Row],[IdEstablecimiento]],'[2]Establecimiento 2023'!$A$1:$E$183,3,FALSE),0)","v":"105402-Posta de Salud Rural El Romero"},{"$f":"IFERROR(VLOOKUP(Tabla_SERIED_11_6[[#This Row],[IdEstablecimiento]],'[2]Establecimiento 2023'!$A$1:$E$183,5,FALSE),0)","v":"04101-La Serena"},"15080008","2023-10-17T11:09:25",12,{"$nulls":7},2,null,10]
[9,"5",2023,"105402",{"$f":"IFERROR(VLOOKUP(Tabla_SERIED_11_6[[#This Row],[IdEstablecimiento]],'[2]Establecimiento 2023'!$A$1:$E$183,3,FALSE),0)","v":"105402-Posta de Salud Rural El Romero"},{"$f":"IFERROR(VLOOKUP(Tabla_SERIED_11_6[[#This Row],[IdEstablecimiento]],'[2]Establecimiento 2023'!$A$1:$E$183,5,FALSE),0)","v":"04101-La Serena"},"15080014","2023-10-17T11:09:25",30,{"$nulls":3},10,20]
[9,"5",2023,"105402",{"$f":"IFERROR(VLOOKUP(Tabla_SERIED_11_6[[#This Row],[IdEstablecimiento]],'[2]Establecimiento 2023'!$A$1:$E$183,3,FALSE),0)","v":"105402-Posta de Salud Rural El Romero"},{"$f":"IFERROR(VLOOKUP(Tabla_SERIED_11_6[[#This Row],[IdEstablecimiento]],'[2]Establecimiento 2023'!$A$1:$E$183,5,FALSE),0)","v":"04101-La Serena"},"15080016","2023-10-17T11:09:25",2,{"$nulls":5},2]
[9,"5",2023,"105405",{"$f":"IFERROR(VLOOKUP(Tabla_SERIED_11_6[[#This Row],[IdEstablecimiento]],'[2]Establecimiento 2023'!$A$1:$E$183,3,FALSE),0)","v":"105405-Posta de Salud Rural Guanaqueros"},{"$f":"IFERROR(VLOOKUP(Tabla_SERIED_11_6[[#This Row],[IdEstablecimiento]],'[2]Establecimiento 2023'!$A$1:$E$183,5,FALSE),0)","v":"04102-Coquimbo"},"15050100","2023-10-17T11:13:10",45,21,24,2,2,4,11,6,14,2,2,null,2,null,0]
[9,"5",2023,"105407",{"$f":"IFERROR(VLOOKUP(Tabla_SERIED_11_6[[#This Row],[IdEstablecimiento]],'[2]Establecimiento 2023'!$A$1:$E$183,3,FALSE),0)","v":"105407-Posta de Salud Rural Tambillo"},{"$f":"IFERROR(VLOOKUP(Tabla_SERIED_11_6[[#This Row],[IdEstablecimiento]],'[2]Establecimiento 2023'!$A$1:$E$183,5,FALSE),0)","v":"04102-Coquimbo"},"15900040","2023-10-17T11:12:30",4.4,0,4.4,0,0,0]
[9,"5",2023,"105414",{"$f":"IFERROR(VLOOKUP(Tabla_SERIED_11_6[[#This Row],[IdEstablecimiento]],'[2]Establecimiento 2023'!$A$1:$E$183,3,FALSE),0)","v":"105414-Posta de Salud Rural Serón"},{"$f":"IFERROR(VLOOKUP(Tabla_SERIED_11_6[[#This Row],[IdEstablecimiento]],'[2]Establecimiento 2023'!$A$1:$E$183,5,FALSE),0)","v":"04305-Rio Hurtado"},"16090300","2023-10-17T11:19:49",33,33]
[9,"5",2023,"105416",{"$f":"IFERROR(VLOOKUP(Tabla_SERIED_11_6[[#This Row],[IdEstablecimiento]],'[2]Establecimiento 2023'!$A$1:$E$183,3,FALSE),0)","v":"105416-Posta de Salud Rural Camarico (Ovalle)"},{"$f":"IFERROR(VLOOKUP(Tabla_SERIED_11_6[[#This Row],[IdEstablecimiento]],'[2]Establecimiento 2023'!$A$1:$E$183,5,FALSE),0)","v":"04301-Ovalle"},"15080008","2023-10-17T11:21:31",6,{"$nulls":7},3,null,2,null,1]
[9,"5",2023,"105422",{"$f":"IFERROR(VLOOKUP(Tabla_SERIED_11_6[[#This Row],[IdEstablecimiento]],'[2]Establecimiento 2023'!$A$1:$E$183,3,FALSE),0)","v":"105422-Posta de Salud Rural Hornillos"},{"$f":"IFERROR(VLOOKUP(Tabla_SERIED_11_6[[#This Row],[IdEstablecimiento]],'[2]Establecimiento 2023'!$A$1:$E$183,5,FALSE),0)","v":"04301-Ovalle"},"15080014","2023-10-17T11:24:30",10,{"$nulls":3},4,6]
[9,"5",2023,"105425",{"$f":"IFERROR(VLOOKUP(Tabla_SERIED_11_6[[#This Row],[IdEstablecimiento]],'[2]Establecimiento 2023'!$A$1:$E$183,3,FALSE),0)","v":"105425-Posta de Salud Rural Chilecito"},{"$f":"IFERROR(VLOOKUP(Tabla_SERIED_11_6[[#This Row],[IdEstablecimiento]],'[2]Establecimiento 2023'!$A$1:$E$183,5,FALSE),0)","v":"04303-Monte Patria"},"15080014","2023-10-17T11:25:07",4,{"$nulls":3},2,2]
[9,"5",2023,"105425",{"$f":"IFERROR(VLOOKUP(Tabla_SERIED_11_6[[#This Row],[IdEstablecimiento]],'[2]Establecimiento 2023'!$A$1:$E$183,3,FALSE),0)","v":"105425-Posta de Salud Rural Chilecito"},{"$f":"IFERROR(VLOOKUP(Tabla_SERIED_11_6[[#This Row],[IdEstablecimiento]],'[2]Establecimiento 2023'!$A$1:$E$183,5,FALSE),0)","v":"04303-Monte Patria"},"16100300","2023-10-17T11:25:07",56,24,32]
[9,"5",2023,"105427",{"$f":"IFERROR(VLOOKUP(Tabla_SERIED_11_6[[#This Row],[IdEstablecimiento]],'[2]Establecimiento 2023'!$A$1:$E$183,3,FALSE),0)","v":"105427-Posta de Salud Rural Hacienda Valdivia"},{"$f":"IFERROR(VLOOKUP(Tabla_SERIED_11_6[[#This Row],[IdEstablecimiento]],'[2]Establecimiento 2023'!$A$1:$E$183,5,FALSE),0)","v":"04303-Monte Patria"},"16200100","2023-10-17T11:26:28",11,8,3]
[9,"5",2023,"105430",{"$f":"IFERROR(VLOOKUP(Tabla_SERIED_11_6[[#This Row],[IdEstablecimiento]],'[2]Establecimiento 2023'!$A$1:$E$183,3,FALSE),0)","v":"105430-Posta de Salud Rural Mialqui"},{"$f":"IFERROR(VLOOKUP(Tabla_SERIED_11_6[[#This Row],[IdEstablecimiento]],'[2]Establecimiento 2023'!$A$1:$E$183,5,FALSE),0)","v":"04303-Monte Patria"},"15050100","2023-10-17T11:28:45",8,2,6,{"$nulls":3},2,3,null,1,2]
[9,"5",2023,"105430",{"$f":"IFERROR(VLOOKUP(Tabla_SERIED_11_6[[#This Row],[IdEstablecimiento]],'[2]Establecimiento 2023'!$A$1:$E$183,3,FALSE),0)","v":"105430-Posta de Salud Rural Mialqui"},{"$f":"IFERROR(VLOOKUP(Tabla_SERIED_11_6[[#This Row],[IdEstablecimiento]],'[2]Establecimiento 2023'!$A$1:$E$183,5,FALSE),0)","v":"04303-Monte Patria"},"16090300","2023-10-17T11:28:45",34,34]
[9,"5",2023,"105432",{"$f":"IFERROR(VLOOKUP(Tabla_SERIED_11_6[[#This Row],[IdEstablecimiento]],'[2]Establecimiento 2023'!$A$1:$E$183,3,FALSE),0)","v":"105432-Posta de Salud Rural Rapel (Monte Patria)"},{"$f":"IFERROR(VLOOKUP(Tabla_SERIED_11_6[[#This Row],[IdEstablecimiento]],'[2]Establecimiento 2023'!$A$1:$E$183,5,FALSE),0)","v":"04303-Monte Patria"},"16200220","2023-10-17T11:29:54",6,3,3]
[9,"5",2023,"105434",{"$f":"IFERROR(VLOOKUP(Tabla_SERIED_11_6[[#This Row],[IdEstablecimiento]],'[2]Establecimiento 2023'!$A$1:$E$183,3,FALSE),0)","v":"105434-Posta de Salud Rural San Marcos (Combarbalá)"},{"$f":"IFERROR(VLOOKUP(Tabla_SERIED_11_6[[#This Row],[IdEstablecimiento]],'[2]Establecimiento 2023'!$A$1:$E$183,5,FALSE),0)","v":"04302-Combarbalá"},"15010500","2023-10-17T11:32:09",2,{"$nulls":3},2]
[9,"5",2023,"105434",{"$f":"IFERROR(VLOOKUP(Tabla_SERIED_11_6[[#This Row],[IdEstablecimiento]],'[2]Establecimiento 2023'!$A$1:$E$183,3,FALSE),0)","v":"105434-Posta de Salud Rural San Marcos (Combarbalá)"},{"$f":"IFERROR(VLOOKUP(Tabla_SERIED_11_6[[#This Row],[IdEstablecimiento]],'[2]Establecimiento 2023'!$A$1:$E$183,5,FALSE),0)","v":"04302-Combarbalá"},"15050100","2023-10-17T11:32:09",16,6,10,null,1,1,4,null,1,6,1,null,null,1,1]
[9,"5",2023,"105435",{"$f":"IFERROR(VLOOKUP(Tabla_SERIED_11_6[[#This Row],[IdEstablecimiento]],'[2]Establecimiento 2023'!$A$1:$E$183,3,FALSE),0)","v":"105435-Posta de Salud Rural Tulahuén"},{"$f":"IFERROR(VLOOKUP(Tabla_SERIED_11_6[[#This Row],[IdEstablecimiento]],'[2]Establecimiento 2023'!$A$1:$E$183,5,FALSE),0)","v":"04303-Monte Patria"},"16090300","2023-10-17T11:34:19",102,102]
[9,"5",2023,"105315",{"$f":"IFERROR(VLOOKUP(Tabla_SERIED_11_6[[#This Row],[IdEstablecimiento]],'[2]Establecimiento 2023'!$A$1:$E$183,3,FALSE),0)","v":"105315-Centro de Salud Familiar Cerrillos de Tamaya"},{"$f":"IFERROR(VLOOKUP(Tabla_SERIED_11_6[[#This Row],[IdEstablecimiento]],'[2]Establecimiento 2023'!$A$1:$E$183,5,FALSE),0)","v":"04301-Ovalle"},"15080009","2023-10-17T15:50:02",2,{"$nulls":10},2]
[9,"5",2023,"105318",{"$f":"IFERROR(VLOOKUP(Tabla_SERIED_11_6[[#This Row],[IdEstablecimiento]],'[2]Establecimiento 2023'!$A$1:$E$183,3,FALSE),0)","v":"105318-Centro de Salud Familiar El Palqui"},{"$f":"IFERROR(VLOOKUP(Tabla_SERIED_11_6[[#This Row],[IdEstablecimiento]],'[2]Establecimiento 2023'!$A$1:$E$183,5,FALSE),0)","v":"04303-Monte Patria"},"15050200","2023-10-17T11:00:51",12,7,5,null,null,1,3,0,6,1,null,1]
[9,"5",2023,"105318",{"$f":"IFERROR(VLOOKUP(Tabla_SERIED_11_6[[#This Row],[IdEstablecimiento]],'[2]Establecimiento 2023'!$A$1:$E$183,3,FALSE),0)","v":"105318-Centro de Salud Familiar El Palqui"},{"$f":"IFERROR(VLOOKUP(Tabla_SERIED_11_6[[#This Row],[IdEstablecimiento]],'[2]Establecimiento 2023'!$A$1:$E$183,5,FALSE),0)","v":"04303-Monte Patria"},"15900050","2023-10-17T11:00:51",3,2,1,null,null,2,1,0]
[9,"5",2023,"105319",{"$f":"IFERROR(VLOOKUP(Tabla_SERIED_11_6[[#This Row],[IdEstablecimiento]],'[2]Establecimiento 2023'!$A$1:$E$183,3,FALSE),0)","v":"105319-Centro de Salud Familiar Cardenal Raúl Silva Henríquez de La Serena"},{"$f":"IFERROR(VLOOKUP(Tabla_SERIED_11_6[[#This Row],[IdEstablecimiento]],'[2]Establecimiento 2023'!$A$1:$E$183,5,FALSE),0)","v":"04101-La Serena"},"16200220","2023-10-17T11:01:16",45,25,20]
[9,"5",2023,"105321",{"$f":"IFERROR(VLOOKUP(Tabla_SERIED_11_6[[#This Row],[IdEstablecimiento]],'[2]Establecimiento 2023'!$A$1:$E$183,3,FALSE),0)","v":"105321-Centro de Salud Familiar Tongoy"},{"$f":"IFERROR(VLOOKUP(Tabla_SERIED_11_6[[#This Row],[IdEstablecimiento]],'[2]Establecimiento 2023'!$A$1:$E$183,5,FALSE),0)","v":"04102-Coquimbo"},"15050500","2023-10-17T11:02:58",1,1,null,0,0,1]
[9,"5",2023,"105322",{"$f":"IFERROR(VLOOKUP(Tabla_SERIED_11_6[[#This Row],[IdEstablecimiento]],'[2]Establecimiento 2023'!$A$1:$E$183,3,FALSE),0)","v":"105322-Centro de Salud Familiar Marcos Macuada"},{"$f":"IFERROR(VLOOKUP(Tabla_SERIED_11_6[[#This Row],[IdEstablecimiento]],'[2]Establecimiento 2023'!$A$1:$E$183,5,FALSE),0)","v":"04301-Ovalle"},"16100600","2023-10-17T11:04:22",3,1,2]
[9,"5",2023,"105323",{"$f":"IFERROR(VLOOKUP(Tabla_SERIED_11_6[[#This Row],[IdEstablecimiento]],'[2]Establecimiento 2023'!$A$1:$E$183,3,FALSE),0)","v":"105323-Centro de Salud Familiar Dr. Sergio Aguilar Delgado"},{"$f":"IFERROR(VLOOKUP(Tabla_SERIED_11_6[[#This Row],[IdEstablecimiento]],'[2]Establecimiento 2023'!$A$1:$E$183,5,FALSE),0)","v":"04102-Coquimbo"},"16100300","2023-10-17T11:04:16",1055,385,670]
[9,"5",2023,"105325",{"$f":"IFERROR(VLOOKUP(Tabla_SERIED_11_6[[#This Row],[IdEstablecimiento]],'[2]Establecimiento 2023'!$A$1:$E$183,3,FALSE),0)","v":"105325-Centro de Salud Familiar Juan Pablo II (La Serena)"},{"$f":"IFERROR(VLOOKUP(Tabla_SERIED_11_6[[#This Row],[IdEstablecimiento]],'[2]Establecimiento 2023'!$A$1:$E$183,5,FALSE),0)","v":"04101-La Serena"},"15050500","2023-10-17T11:06:28",2,2,0,1,1,0]
[8,"5",2023,"105496",{"$f":"IFERROR(VLOOKUP(Tabla_SERIED_11_6[[#This Row],[IdEstablecimiento]],'[2]Establecimiento 2023'!$A$1:$E$183,3,FALSE),0)","v":"105496-Posta de Salud Rural Pintacura Sur"},{"$f":"IFERROR(VLOOKUP(Tabla_SERIED_11_6[[#This Row],[IdEstablecimiento]],'[2]Establecimiento 2023'!$A$1:$E$183,5,FALSE),0)","v":"04201-Illapel"},"15050200","2023-09-25T10:38:02",1,null,1,null,null,1]
[8,"5",2023,"105496",{"$f":"IFERROR(VLOOKUP(Tabla_SERIED_11_6[[#This Row],[IdEstablecimiento]],'[2]Establecimiento 2023'!$A$1:$E$183,3,FALSE),0)","v":"105496-Posta de Salud Rural Pintacura Sur"},{"$f":"IFERROR(VLOOKUP(Tabla_SERIED_11_6[[#This Row],[IdEstablecimiento]],'[2]Establecimiento 2023'!$A$1:$E$183,5,FALSE),0)","v":"04201-Illapel"},"16200220","2023-09-25T10:38:02",10,7,3]
[8,"5",2023,"105499",{"$f":"IFERROR(VLOOKUP(Tabla_SERIED_11_6[[#This Row],[IdEstablecimiento]],'[2]Establecimiento 2023'!$A$1:$E$183,3,FALSE),0)","v":"105499-Posta de Salud Rural Lambert"},{"$f":"IFERROR(VLOOKUP(Tabla_SERIED_11_6[[#This Row],[IdEstablecimiento]],'[2]Establecimiento 2023'!$A$1:$E$183,5,FALSE),0)","v":"04101-La Serena"},"16090300","2023-09-25T10:39:37",16,16]
[9,"5",2023,"105511",{"$f":"IFERROR(VLOOKUP(Tabla_SERIED_11_6[[#This Row],[IdEstablecimiento]],'[2]Establecimiento 2023'!$A$1:$E$183,3,FALSE),0)","v":"105511-Posta de Salud Rural Los Cóndores"},{"$f":"IFERROR(VLOOKUP(Tabla_SERIED_11_6[[#This Row],[IdEstablecimiento]],'[2]Establecimiento 2023'!$A$1:$E$183,5,FALSE),0)","v":"04203-Los Vilos"},"16100300","2023-10-17T15:35:31",57,24,33]
[9,"5",2023,"105469",{"$f":"IFERROR(VLOOKUP(Tabla_SERIED_11_6[[#This Row],[IdEstablecimiento]],'[2]Establecimiento 2023'!$A$1:$E$183,3,FALSE),0)","v":"105469-Posta de Salud Rural El Tambo (Vicuña)"},{"$f":"IFERROR(VLOOKUP(Tabla_SERIED_11_6[[#This Row],[IdEstablecimiento]],'[2]Establecimiento 2023'!$A$1:$E$183,5,FALSE),0)","v":"04106-Vicuña"},"16200210","2023-10-17T14:04:10",2,2]
[9,"5",2023,"105471",{"$f":"IFERROR(VLOOKUP(Tabla_SERIED_11_6[[#This Row],[IdEstablecimiento]],'[2]Establecimiento 2023'!$A$1:$E$183,3,FALSE),0)","v":"105471-Posta de Salud Rural Peralillo Vicuña"},{"$f":"IFERROR(VLOOKUP(Tabla_SERIED_11_6[[#This Row],[IdEstablecimiento]],'[2]Establecimiento 2023'!$A$1:$E$183,5,FALSE),0)","v":"04106-Vicuña"},"15010500","2023-10-17T14:05:27",2,{"$nulls":4},2]
[9,"5",2023,"105472",{"$f":"IFERROR(VLOOKUP(Tabla_SERIED_11_6[[#This Row],[IdEstablecimiento]],'[2]Establecimiento 2023'!$A$1:$E$183,3,FALSE),0)","v":"105472-Posta de Salud Rural Rivadavia"},{"$f":"IFERROR(VLOOKUP(Tabla_SERIED_11_6[[#This Row],[IdEstablecimiento]],'[2]Establecimiento 2023'!$A$1:$E$183,5,FALSE),0)","v":"04106-Vicuña"},"15080015","2023-10-17T14:07:06",12,{"$nulls":5},6,6]
[9,"5",2023,"105473",{"$f":"IFERROR(VLOOKUP(Tabla_SERIED_11_6[[#This Row],[IdEstablecimiento]],'[2]Establecimiento 2023'!$A$1:$E$183,3,FALSE),0)","v":"105473-Posta de Salud Rural Talcuna"},{"$f":"IFERROR(VLOOKUP(Tabla_SERIED_11_6[[#This Row],[IdEstablecimiento]],'[2]Establecimiento 2023'!$A$1:$E$183,5,FALSE),0)","v":"04106-Vicuña"},"16200220","2023-10-17T14:07:03",4,1,3]
[9,"5",2023,"105474",{"$f":"IFERROR(VLOOKUP(Tabla_SERIED_11_6[[#This Row],[IdEstablecimiento]],'[2]Establecimiento 2023'!$A$1:$E$183,3,FALSE),0)","v":"105474-Posta de Salud Rural Chapilca"},{"$f":"IFERROR(VLOOKUP(Tabla_SERIED_11_6[[#This Row],[IdEstablecimiento]],'[2]Establecimiento 2023'!$A$1:$E$183,5,FALSE),0)","v":"04106-Vicuña"},"15080008","2023-10-17T14:08:14",1,{"$nulls":7},1]
[9,"5",2023,"105475",{"$f":"IFERROR(VLOOKUP(Tabla_SERIED_11_6[[#This Row],[IdEstablecimiento]],'[2]Establecimiento 2023'!$A$1:$E$183,3,FALSE),0)","v":"105475-Posta de Salud Rural Horcón (Paiguano)"},{"$f":"IFERROR(VLOOKUP(Tabla_SERIED_11_6[[#This Row],[IdEstablecimiento]],'[2]Establecimiento 2023'!$A$1:$E$183,5,FALSE),0)","v":"04105-Paihuano"},"15080014","2023-10-17T17:06:01",12,{"$nulls":3},2,10]
[9,"5",2023,"105479",{"$f":"IFERROR(VLOOKUP(Tabla_SERIED_11_6[[#This Row],[IdEstablecimiento]],'[2]Establecimiento 2023'!$A$1:$E$183,3,FALSE),0)","v":"105479-Posta de Salud Rural Guangualí"},{"$f":"IFERROR(VLOOKUP(Tabla_SERIED_11_6[[#This Row],[IdEstablecimiento]],'[2]Establecimiento 2023'!$A$1:$E$183,5,FALSE),0)","v":"04203-Los Vilos"},"15080008","2023-10-17T14:41:33",3,{"$nulls":7},1,{"$nulls":3},2]
[9,"5",2023,"105479",{"$f":"IFERROR(VLOOKUP(Tabla_SERIED_11_6[[#This Row],[IdEstablecimiento]],'[2]Establecimiento 2023'!$A$1:$E$183,3,FALSE),0)","v":"105479-Posta de Salud Rural Guangualí"},{"$f":"IFERROR(VLOOKUP(Tabla_SERIED_11_6[[#This Row],[IdEstablecimiento]],'[2]Establecimiento 2023'!$A$1:$E$183,5,FALSE),0)","v":"04203-Los Vilos"},"16100300","2023-10-17T14:41:33",76,27,49]
[9,"5",2023,"105481",{"$f":"IFERROR(VLOOKUP(Tabla_SERIED_11_6[[#This Row],[IdEstablecimiento]],'[2]Establecimiento 2023'!$A$1:$E$183,3,FALSE),0)","v":"105481-Posta de Salud Rural Tilama"},{"$f":"IFERROR(VLOOKUP(Tabla_SERIED_11_6[[#This Row],[IdEstablecimiento]],'[2]Establecimiento 2023'!$A$1:$E$183,5,FALSE),0)","v":"04203-Los Vilos"},"15080008","2023-10-17T14:44:31",2,{"$nulls":7},2]
[9,"5",2023,"105484",{"$f":"IFERROR(VLOOKUP(Tabla_SERIED_11_6[[#This Row],[IdEstablecimiento]],'[2]Establecimiento 2023'!$A$1:$E$183,3,FALSE),0)","v":"105484-Posta de Salud Rural Huentelauquén"},{"$f":"IFERROR(VLOOKUP(Tabla_SERIED_11_6[[#This Row],[IdEstablecimiento]],'[2]Establecimiento 2023'!$A$1:$E$183,5,FALSE),0)","v":"04202-Canela"},"15080015","2023-10-17T14:47:04",18,{"$nulls":5},12,6]
[9,"5",2023,"105484",{"$f":"IFERROR(VLOOKUP(Tabla_SERIED_11_6[[#This Row],[IdEstablecimiento]],'[2]Establecimiento 2023'!$A$1:$E$183,3,FALSE),0)","v":"105484-Posta de Salud Rural Huentelauquén"},{"$f":"IFERROR(VLOOKUP(Tabla_SERIED_11_6[[#This Row],[IdEstablecimiento]],'[2]Establecimiento 2023'!$A$1:$E$183,5,FALSE),0)","v":"04202-Canela"},"16090300","2023-10-17T14:47:04",53,53]
[9,"5",2023,"105485",{"$f":"IFERROR(VLOOKUP(Tabla_SERIED_11_6[[#This Row],[IdEstablecimiento]],'[2]Establecimiento 2023'!$A$1:$E$183,3,FALSE),0)","v":"105485-Posta de Salud Rural Plan de Hornos"},{"$f":"IFERROR(VLOOKUP(Tabla_SERIED_11_6[[#This Row],[IdEstablecimiento]],'[2]Establecimiento 2023'!$A$1:$E$183,5,FALSE),0)","v":"04201-Illapel"},"16100300","2023-10-17T14:46:57",76,31,45]
[9,"5",2023,"105490",{"$f":"IFERROR(VLOOKUP(Tabla_SERIED_11_6[[#This Row],[IdEstablecimiento]],'[2]Establecimiento 2023'!$A$1:$E$183,3,FALSE),0)","v":"105490-Posta de Salud Rural El Durazno(Combarbalá)"},{"$f":"IFERROR(VLOOKUP(Tabla_SERIED_11_6[[#This Row],[IdEstablecimiento]],'[2]Establecimiento 2023'!$A$1:$E$183,5,FALSE),0)","v":"04302-Combarbalá"},"16200210","2023-10-17T14:51:41",12,12]
[9,"5",2023,"105491",{"$f":"IFERROR(VLOOKUP(Tabla_SERIED_11_6[[#This Row],[IdEstablecimiento]],'[2]Establecimiento 2023'!$A$1:$E$183,3,FALSE),0)","v":"105491-Posta de Salud Rural Quelén Bajo"},{"$f":"IFERROR(VLOOKUP(Tabla_SERIED_11_6[[#This Row],[IdEstablecimiento]],'[2]Establecimiento 2023'!$A$1:$E$183,5,FALSE),0)","v":"04204-Salamanca"},"15010500","2023-10-17T14:51:37",10,null,null,4,null,null,2,4]
[9,"5",2023,"105493",{"$f":"IFERROR(VLOOKUP(Tabla_SERIED_11_6[[#This Row],[IdEstablecimiento]],'[2]Establecimiento 2023'!$A$1:$E$183,3,FALSE),0)","v":"105493-Posta de Salud Rural Mincha Sur"},{"$f":"IFERROR(VLOOKUP(Tabla_SERIED_11_6[[#This Row],[IdEstablecimiento]],'[2]Establecimiento 2023'!$A$1:$E$183,5,FALSE),0)","v":"04202-Canela"},"16200210","2023-10-17T14:54:07",2,2]
[9,"5",2023,"105496",{"$f":"IFERROR(VLOOKUP(Tabla_SERIED_11_6[[#This Row],[IdEstablecimiento]],'[2]Establecimiento 2023'!$A$1:$E$183,3,FALSE),0)","v":"105496-Posta de Salud Rural Pintacura Sur"},{"$f":"IFERROR(VLOOKUP(Tabla_SERIED_11_6[[#This Row],[IdEstablecimiento]],'[2]Establecimiento 2023'!$A$1:$E$183,5,FALSE),0)","v":"04201-Illapel"},"16200210","2023-10-17T14:56:55",10,10]
[9,"5",2023,"105497",{"$f":"IFERROR(VLOOKUP(Tabla_SERIED_11_6[[#This Row],[IdEstablecimiento]],'[2]Establecimiento 2023'!$A$1:$E$183,3,FALSE),0)","v":"105497-Posta de Salud Rural Jabonería"},{"$f":"IFERROR(VLOOKUP(Tabla_SERIED_11_6[[#This Row],[IdEstablecimiento]],'[2]Establecimiento 2023'!$A$1:$E$183,5,FALSE),0)","v":"04202-Canela"},"15080015","2023-10-17T14:56:58",2,{"$nulls":5},2]
[9,"5",2023,"105497",{"$f":"IFERROR(VLOOKUP(Tabla_SERIED_11_6[[#This Row],[IdEstablecimiento]],'[2]Establecimiento 2023'!$A$1:$E$183,3,FALSE),0)","v":"105497-Posta de Salud Rural Jabonería"},{"$f":"IFERROR(VLOOKUP(Tabla_SERIED_11_6[[#This Row],[IdEstablecimiento]],'[2]Establecimiento 2023'!$A$1:$E$183,5,FALSE),0)","v":"04202-Canela"},"16200210","2023-10-17T14:56:58",2,2]
[9,"5",2023,"105499",{"$f":"IFERROR(VLOOKUP(Tabla_SERIED_11_6[[#This Row],[IdEstablecimiento]],'[2]Establecimiento 2023'!$A$1:$E$183,3,FALSE),0)","v":"105499-Posta de Salud Rural Lambert"},{"$f":"IFERROR(VLOOKUP(Tabla_SERIED_11_6[[#This Row],[IdEstablecimiento]],'[2]Establecimiento 2023'!$A$1:$E$183,5,FALSE),0)","v":"04101-La Serena"},"15080014","2023-10-17T15:02:58",18,{"$nulls":3},16,2]
[9,"5",2023,"105500",{"$f":"IFERROR(VLOOKUP(Tabla_SERIED_11_6[[#This Row],[IdEstablecimiento]],'[2]Establecimiento 2023'!$A$1:$E$183,3,FALSE),0)","v":"105500-Posta de Salud Rural Caleta Hornos"},{"$f":"IFERROR(VLOOKUP(Tabla_SERIED_11_6[[#This Row],[IdEstablecimiento]],'[2]Establecimiento 2023'!$A$1:$E$183,5,FALSE),0)","v":"04104-La Higuera"},"15900010","2023-10-17T15:06:03",12.8,null,3.2,9.6]
[9,"5",2023,"105500",{"$f":"IFERROR(VLOOKUP(Tabla_SERIED_11_6[[#This Row],[IdEstablecimiento]],'[2]Establecimiento 2023'!$A$1:$E$183,3,FALSE),0)","v":"105500-Posta de Salud Rural Caleta Hornos"},{"$f":"IFERROR(VLOOKUP(Tabla_SERIED_11_6[[#This Row],[IdEstablecimiento]],'[2]Establecimiento 2023'!$A$1:$E$183,5,FALSE),0)","v":"04104-La Higuera"},"16090300","2023-10-17T15:06:03",28,28]
[9,"5",2023,"105501",{"$f":"IFERROR(VLOOKUP(Tabla_SERIED_11_6[[#This Row],[IdEstablecimiento]],'[2]Establecimiento 2023'!$A$1:$E$183,3,FALSE),0)","v":"105501-Posta de Salud Rural Arboleda Grande"},{"$f":"IFERROR(VLOOKUP(Tabla_SERIED_11_6[[#This Row],[IdEstablecimiento]],'[2]Establecimiento 2023'!$A$1:$E$183,5,FALSE),0)","v":"04204-Salamanca"},"15010200","2023-10-17T15:05:59",75,{"$nulls":5},44,31]
[9,"5",2023,"105501",{"$f":"IFERROR(VLOOKUP(Tabla_SERIED_11_6[[#This Row],[IdEstablecimiento]],'[2]Establecimiento 2023'!$A$1:$E$183,3,FALSE),0)","v":"105501-Posta de Salud Rural Arboleda Grande"},{"$f":"IFERROR(VLOOKUP(Tabla_SERIED_11_6[[#This Row],[IdEstablecimiento]],'[2]Establecimiento 2023'!$A$1:$E$183,5,FALSE),0)","v":"04204-Salamanca"},"15050100","2023-10-17T15:05:59",35,18,17,null,null,3,3,2,14,10,{"$nulls":3},2,1]
[9,"5",2023,"105325",{"$f":"IFERROR(VLOOKUP(Tabla_SERIED_11_6[[#This Row],[IdEstablecimiento]],'[2]Establecimiento 2023'!$A$1:$E$183,3,FALSE),0)","v":"105325-Centro de Salud Familiar Juan Pablo II (La Serena)"},{"$f":"IFERROR(VLOOKUP(Tabla_SERIED_11_6[[#This Row],[IdEstablecimiento]],'[2]Establecimiento 2023'!$A$1:$E$183,5,FALSE),0)","v":"04101-La Serena"},"15900020","2023-10-17T11:06:28",6.4,0,0,6.4]
[9,"5",2023,"105325",{"$f":"IFERROR(VLOOKUP(Tabla_SERIED_11_6[[#This Row],[IdEstablecimiento]],'[2]Establecimiento 2023'!$A$1:$E$183,3,FALSE),0)","v":"105325-Centro de Salud Familiar Juan Pablo II (La Serena)"},{"$f":"IFERROR(VLOOKUP(Tabla_SERIED_11_6[[#This Row],[IdEstablecimiento]],'[2]Establecimiento 2023'!$A$1:$E$183,5,FALSE),0)","v":"04101-La Serena"},"16090300","2023-10-17T11:06:28",368,368]
[9,"5",2023,"105326",{"$f":"IFERROR(VLOOKUP(Tabla_SERIED_11_6[[#This Row],[IdEstablecimiento]],'[2]Establecimiento 2023'!$A$1:$E$183,3,FALSE),0)","v":"105326-Centro de Salud Familiar Villa San Rafael de Rozas"},{"$f":"IFERROR(VLOOKUP(Tabla_SERIED_11_6[[#This Row],[IdEstablecimiento]],'[2]Establecimiento 2023'!$A$1:$E$183,5,FALSE),0)","v":"04201-Illapel"},"15050200","2023-10-17T11:07:10",8,1,7,null,1,2,1,null,1,1,null,1,null,1]
[9,"5",2023,"105326",{"$f":"IFERROR(VLOOKUP(Tabla_SERIED_11_6[[#This Row],[IdEstablecimiento]],'[2]Establecimiento 2023'!$A$1:$E$183,3,FALSE),0)","v":"105326-Centro de Salud Familiar Villa San Rafael de Rozas"},{"$f":"IFERROR(VLOOKUP(Tabla_SERIED_11_6[[#This Row],[IdEstablecimiento]],'[2]Establecimiento 2023'!$A$1:$E$183,5,FALSE),0)","v":"04201-Illapel"},"15080019","2023-10-17T11:07:10",2,{"$nulls":5},2]
[9,"5",2023,"105400",{"$f":"IFERROR(VLOOKUP(Tabla_SERIED_11_6[[#This Row],[IdEstablecimiento]],'[2]Establecimiento 2023'!$A$1:$E$183,3,FALSE),0)","v":"105400-Posta de Salud Rural Algarrobito"},{"$f":"IFERROR(VLOOKUP(Tabla_SERIED_11_6[[#This Row],[IdEstablecimiento]],'[2]Establecimiento 2023'!$A$1:$E$183,5,FALSE),0)","v":"04101-La Serena"},"15080016","2023-10-17T11:07:46",2,{"$nulls":5},2]
[9,"5",2023,"105400",{"$f":"IFERROR(VLOOKUP(Tabla_SERIED_11_6[[#This Row],[IdEstablecimiento]],'[2]Establecimiento 2023'!$A$1:$E$183,3,FALSE),0)","v":"105400-Posta de Salud Rural Algarrobito"},{"$f":"IFERROR(VLOOKUP(Tabla_SERIED_11_6[[#This Row],[IdEstablecimiento]],'[2]Establecimiento 2023'!$A$1:$E$183,5,FALSE),0)","v":"04101-La Serena"},"16100300","2023-10-17T11:07:46",239,104,135]
[9,"5",2023,"105407",{"$f":"IFERROR(VLOOKUP(Tabla_SERIED_11_6[[#This Row],[IdEstablecimiento]],'[2]Establecimiento 2023'!$A$1:$E$183,3,FALSE),0)","v":"105407-Posta de Salud Rural Tambillo"},{"$f":"IFERROR(VLOOKUP(Tabla_SERIED_11_6[[#This Row],[IdEstablecimiento]],'[2]Establecimiento 2023'!$A$1:$E$183,5,FALSE),0)","v":"04102-Coquimbo"},"15010200","2023-10-17T11:12:30",1,{"$nulls":5},0,1]
[9,"5",2023,"105407",{"$f":"IFERROR(VLOOKUP(Tabla_SERIED_11_6[[#This Row],[IdEstablecimiento]],'[2]Establecimiento 2023'!$A$1:$E$183,3,FALSE),0)","v":"105407-Posta de Salud Rural Tambillo"},{"$f":"IFERROR(VLOOKUP(Tabla_SERIED_11_6[[#This Row],[IdEstablecimiento]],'[2]Establecimiento 2023'!$A$1:$E$183,5,FALSE),0)","v":"04102-Coquimbo"},"16090300","2023-10-17T11:12:30",43,43]
[9,"5",2023,"105411",{"$f":"IFERROR(VLOOKUP(Tabla_SERIED_11_6[[#This Row],[IdEstablecimiento]],'[2]Establecimiento 2023'!$A$1:$E$183,3,FALSE),0)","v":"105411-Posta de Salud Rural Las Breas (Río Hurtado)"},{"$f":"IFERROR(VLOOKUP(Tabla_SERIED_11_6[[#This Row],[IdEstablecimiento]],'[2]Establecimiento 2023'!$A$1:$E$183,5,FALSE),0)","v":"04305-Rio Hurtado"},"15010500","2023-10-17T11:19:18",2,{"$nulls":4},2]
[9,"5",2023,"105411",{"$f":"IFERROR(VLOOKUP(Tabla_SERIED_11_6[[#This Row],[IdEstablecimiento]],'[2]Establecimiento 2023'!$A$1:$E$183,3,FALSE),0)","v":"105411-Posta de Salud Rural Las Breas (Río Hurtado)"},{"$f":"IFERROR(VLOOKUP(Tabla_SERIED_11_6[[#This Row],[IdEstablecimiento]],'[2]Establecimiento 2023'!$A$1:$E$183,5,FALSE),0)","v":"04305-Rio Hurtado"},"15080015","2023-10-17T11:19:18",2,{"$nulls":5},2]
[9,"5",2023,"105413",{"$f":"IFERROR(VLOOKUP(Tabla_SERIED_11_6[[#This Row],[IdEstablecimiento]],'[2]Establecimiento 2023'!$A$1:$E$183,3,FALSE),0)","v":"105413-Posta de Salud Rural Samo Alto"},{"$f":"IFERROR(VLOOKUP(Tabla_SERIED_11_6[[#This Row],[IdEstablecimiento]],'[2]Establecimiento 2023'!$A$1:$E$183,5,FALSE),0)","v":"04305-Rio Hurtado"},"15080008","2023-10-17T11:19:13",5,{"$nulls":7},1,null,4]
[9,"5",2023,"105413",{"$f":"IFERROR(VLOOKUP(Tabla_SERIED_11_6[[#This Row],[IdEstablecimiento]],'[2]Establecimiento 2023'!$A$1:$E$183,3,FALSE),0)","v":"105413-Posta de Salud Rural Samo Alto"},{"$f":"IFERROR(VLOOKUP(Tabla_SERIED_11_6[[#This Row],[IdEstablecimiento]],'[2]Establecimiento 2023'!$A$1:$E$183,5,FALSE),0)","v":"04305-Rio Hurtado"},"16100300","2023-10-17T11:19:13",84,29,55]
[9,"5",2023,"105413",{"$f":"IFERROR(VLOOKUP(Tabla_SERIED_11_6[[#This Row],[IdEstablecimiento]],'[2]Establecimiento 2023'!$A$1:$E$183,3,FALSE),0)","v":"105413-Posta de Salud Rural Samo Alto"},{"$f":"IFERROR(VLOOKUP(Tabla_SERIED_11_6[[#This Row],[IdEstablecimiento]],'[2]Establecimiento 2023'!$A$1:$E$183,5,FALSE),0)","v":"04305-Rio Hurtado"},"16200100","2023-10-17T11:19:13",2,2]
[9,"5",2023,"105414",{"$f":"IFERROR(VLOOKUP(Tabla_SERIED_11_6[[#This Row],[IdEstablecimiento]],'[2]Establecimiento 2023'!$A$1:$E$183,3,FALSE),0)","v":"105414-Posta de Salud Rural Serón"},{"$f":"IFERROR(VLOOKUP(Tabla_SERIED_11_6[[#This Row],[IdEstablecimiento]],'[2]Establecimiento 2023'!$A$1:$E$183,5,FALSE),0)","v":"04305-Rio Hurtado"},"15050200","2023-10-17T11:19:49",1,{"$nulls":4},1]
[9,"5",2023,"105414",{"$f":"IFERROR(VLOOKUP(Tabla_SERIED_11_6[[#This Row],[IdEstablecimiento]],'[2]Establecimiento 2023'!$A$1:$E$183,3,FALSE),0)","v":"105414-Posta de Salud Rural Serón"},{"$f":"IFERROR(VLOOKUP(Tabla_SERIED_11_6[[#This Row],[IdEstablecimiento]],'[2]Establecimiento 2023'!$A$1:$E$183,5,FALSE),0)","v":"04305-Rio Hurtado"},"15900020","2023-10-17T11:19:49",4,null,null,4]
[9,"5",2023,"105415",{"$f":"IFERROR(VLOOKUP(Tabla_SERIED_11_6[[#This Row],[IdEstablecimiento]],'[2]Establecimiento 2023'!$A$1:$E$183,3,FALSE),0)","v":"105415-Posta de Salud Rural Barraza"},{"$f":"IFERROR(VLOOKUP(Tabla_SERIED_11_6[[#This Row],[IdEstablecimiento]],'[2]Establecimiento 2023'!$A$1:$E$183,5,FALSE),0)","v":"04301-Ovalle"},"16200220","2023-10-17T11:20:19",2,1,1]
[9,"5",2023,"105479",{"$f":"IFERROR(VLOOKUP(Tabla_SERIED_11_6[[#This Row],[IdEstablecimiento]],'[2]Establecimiento 2023'!$A$1:$E$183,3,FALSE),0)","v":"105479-Posta de Salud Rural Guangualí"},{"$f":"IFERROR(VLOOKUP(Tabla_SERIED_11_6[[#This Row],[IdEstablecimiento]],'[2]Establecimiento 2023'!$A$1:$E$183,5,FALSE),0)","v":"04203-Los Vilos"},"15050100","2023-10-17T14:41:33",27,9,18,0,1,1,3,4,7,8,1,null,0,0,2]
[9,"5",2023,"105479",{"$f":"IFERROR(VLOOKUP(Tabla_SERIED_11_6[[#This Row],[IdEstablecimiento]],'[2]Establecimiento 2023'!$A$1:$E$183,3,FALSE),0)","v":"105479-Posta de Salud Rural Guangualí"},{"$f":"IFERROR(VLOOKUP(Tabla_SERIED_11_6[[#This Row],[IdEstablecimiento]],'[2]Establecimiento 2023'!$A$1:$E$183,5,FALSE),0)","v":"04203-Los Vilos"},"15080014","2023-10-17T14:41:33",14,{"$nulls":3},6,8]
[9,"5",2023,"105480",{"$f":"IFERROR(VLOOKUP(Tabla_SERIED_11_6[[#This Row],[IdEstablecimiento]],'[2]Establecimiento 2023'!$A$1:$E$183,3,FALSE),0)","v":"105480-Posta de Salud Rural Quilimarí"},{"$f":"IFERROR(VLOOKUP(Tabla_SERIED_11_6[[#This Row],[IdEstablecimiento]],'[2]Establecimiento 2023'!$A$1:$E$183,5,FALSE),0)","v":"04203-Los Vilos"},"15080008","2023-10-17T14:44:35",3,{"$nulls":7},3]
[9,"5",2023,"105477",{"$f":"IFERROR(VLOOKUP(Tabla_SERIED_11_6[[#This Row],[IdEstablecimiento]],'[2]Establecimiento 2023'!$A$1:$E$183,3,FALSE),0)","v":"105477-Posta de Salud Rural Pisco Elqui"},{"$f":"IFERROR(VLOOKUP(Tabla_SERIED_11_6[[#This Row],[IdEstablecimiento]],'[2]Establecimiento 2023'!$A$1:$E$183,5,FALSE),0)","v":"04105-Paihuano"},"16090300","2023-11-22T13:07:54",47,47]
[9,"5",2023,"105481",{"$f":"IFERROR(VLOOKUP(Tabla_SERIED_11_6[[#This Row],[IdEstablecimiento]],'[2]Establecimiento 2023'!$A$1:$E$183,3,FALSE),0)","v":"105481-Posta de Salud Rural Tilama"},{"$f":"IFERROR(VLOOKUP(Tabla_SERIED_11_6[[#This Row],[IdEstablecimiento]],'[2]Establecimiento 2023'!$A$1:$E$183,5,FALSE),0)","v":"04203-Los Vilos"},"15080015","2023-10-17T14:44:31",6,{"$nulls":5},2,4]
[9,"5",2023,"105482",{"$f":"IFERROR(VLOOKUP(Tabla_SERIED_11_6[[#This Row],[IdEstablecimiento]],'[2]Establecimiento 2023'!$A$1:$E$183,3,FALSE),0)","v":"105482-Posta de Salud Rural Canela Alta"},{"$f":"IFERROR(VLOOKUP(Tabla_SERIED_11_6[[#This Row],[IdEstablecimiento]],'[2]Establecimiento 2023'!$A$1:$E$183,5,FALSE),0)","v":"04202-Canela"},"16200210","2023-10-17T14:45:43",4,4]
[9,"5",2023,"105484",{"$f":"IFERROR(VLOOKUP(Tabla_SERIED_11_6[[#This Row],[IdEstablecimiento]],'[2]Establecimiento 2023'!$A$1:$E$183,3,FALSE),0)","v":"105484-Posta de Salud Rural Huentelauquén"},{"$f":"IFERROR(VLOOKUP(Tabla_SERIED_11_6[[#This Row],[IdEstablecimiento]],'[2]Establecimiento 2023'!$A$1:$E$183,5,FALSE),0)","v":"04202-Canela"},"16200210","2023-10-17T14:47:04",1,1]
[9,"5",2023,"105484",{"$f":"IFERROR(VLOOKUP(Tabla_SERIED_11_6[[#This Row],[IdEstablecimiento]],'[2]Establecimiento 2023'!$A$1:$E$183,3,FALSE),0)","v":"105484-Posta de Salud Rural Huentelauquén"},{"$f":"IFERROR(VLOOKUP(Tabla_SERIED_11_6[[#This Row],[IdEstablecimiento]],'[2]Establecimiento 2023'!$A$1:$E$183,5,FALSE),0)","v":"04202-Canela"},"16200220","2023-10-17T14:47:04",1,0,1]
[9,"5",2023,"105486",{"$f":"IFERROR(VLOOKUP(Tabla_SERIED_11_6[[#This Row],[IdEstablecimiento]],'[2]Establecimiento 2023'!$A$1:$E$183,3,FALSE),0)","v":"105486-Posta de Salud Rural Tunga Sur"},{"$f":"IFERROR(VLOOKUP(Tabla_SERIED_11_6[[#This Row],[IdEstablecimiento]],'[2]Establecimiento 2023'!$A$1:$E$183,5,FALSE),0)","v":"04201-Illapel"},"16200220","2023-10-17T14:48:59",12,3,9]
[9,"5",2023,"105490",{"$f":"IFERROR(VLOOKUP(Tabla_SERIED_11_6[[#This Row],[IdEstablecimiento]],'[2]Establecimiento 2023'!$A$1:$E$183,3,FALSE),0)","v":"105490-Posta de Salud Rural El Durazno(Combarbalá)"},{"$f":"IFERROR(VLOOKUP(Tabla_SERIED_11_6[[#This Row],[IdEstablecimiento]],'[2]Establecimiento 2023'!$A$1:$E$183,5,FALSE),0)","v":"04302-Combarbalá"},"15080015","2023-10-17T14:51:41",4,{"$nulls":5},4]
[9,"5",2023,"105491",{"$f":"IFERROR(VLOOKUP(Tabla_SERIED_11_6[[#This Row],[IdEstablecimiento]],'[2]Establecimiento 2023'!$A$1:$E$183,3,FALSE),0)","v":"105491-Posta de Salud Rural Quelén Bajo"},{"$f":"IFERROR(VLOOKUP(Tabla_SERIED_11_6[[#This Row],[IdEstablecimiento]],'[2]Establecimiento 2023'!$A$1:$E$183,5,FALSE),0)","v":"04204-Salamanca"},"15010200","2023-10-17T14:51:37",97,{"$nulls":5},44,53]
[9,"5",2023,"105496",{"$f":"IFERROR(VLOOKUP(Tabla_SERIED_11_6[[#This Row],[IdEstablecimiento]],'[2]Establecimiento 2023'!$A$1:$E$183,3,FALSE),0)","v":"105496-Posta de Salud Rural Pintacura Sur"},{"$f":"IFERROR(VLOOKUP(Tabla_SERIED_11_6[[#This Row],[IdEstablecimiento]],'[2]Establecimiento 2023'!$A$1:$E$183,5,FALSE),0)","v":"04201-Illapel"},"16090300","2023-10-17T14:56:55",44,44]
[9,"5",2023,"105498",{"$f":"IFERROR(VLOOKUP(Tabla_SERIED_11_6[[#This Row],[IdEstablecimiento]],'[2]Establecimiento 2023'!$A$1:$E$183,3,FALSE),0)","v":"105498-Posta de Salud Rural Quebrada Linares"},{"$f":"IFERROR(VLOOKUP(Tabla_SERIED_11_6[[#This Row],[IdEstablecimiento]],'[2]Establecimiento 2023'!$A$1:$E$183,5,FALSE),0)","v":"04202-Canela"},"16200210","2023-10-17T15:02:54",4,4]
[9,"5",2023,"105500",{"$f":"IFERROR(VLOOKUP(Tabla_SERIED_11_6[[#This Row],[IdEstablecimiento]],'[2]Establecimiento 2023'!$A$1:$E$183,3,FALSE),0)","v":"105500-Posta de Salud Rural Caleta Hornos"},{"$f":"IFERROR(VLOOKUP(Tabla_SERIED_11_6[[#This Row],[IdEstablecimiento]],'[2]Establecimiento 2023'!$A$1:$E$183,5,FALSE),0)","v":"04104-La Higuera"},"15080008","2023-10-17T15:06:03",4,{"$nulls":7},4]
[9,"5",2023,"105500",{"$f":"IFERROR(VLOOKUP(Tabla_SERIED_11_6[[#This Row],[IdEstablecimiento]],'[2]Establecimiento 2023'!$A$1:$E$183,3,FALSE),0)","v":"105500-Posta de Salud Rural Caleta Hornos"},{"$f":"IFERROR(VLOOKUP(Tabla_SERIED_11_6[[#This Row],[IdEstablecimiento]],'[2]Establecimiento 2023'!$A$1:$E$183,5,FALSE),0)","v":"04104-La Higuera"},"16200210","2023-10-17T15:06:03",3,3]
[9,"5",2023,"105506",{"$f":"IFERROR(VLOOKUP(Tabla_SERIED_11_6[[#This Row],[IdEstablecimiento]],'[2]Establecimiento 2023'!$A$1:$E$183,3,FALSE),0)","v":"105506-Posta de Salud Rural El Trapiche"},{"$f":"IFERROR(VLOOKUP(Tabla_SERIED_11_6[[#This Row],[IdEstablecimiento]],'[2]Establecimiento 2023'!$A$1:$E$183,5,FALSE),0)","v":"04104-La Higuera"},"15900010","2023-10-17T15:15:20",3.2,null,null,3.2]
[9,"5",2023,"105506",{"$f":"IFERROR(VLOOKUP(Tabla_SERIED_11_6[[#This Row],[IdEstablecimiento]],'[2]Establecimiento 2023'!$A$1:$E$183,3,FALSE),0)","v":"105506-Posta de Salud Rural El Trapiche"},{"$f":"IFERROR(VLOOKUP(Tabla_SERIED_11_6[[#This Row],[IdEstablecimiento]],'[2]Establecimiento 2023'!$A$1:$E$183,5,FALSE),0)","v":"04104-La Higuera"},"16100300","2023-10-17T15:15:20",21,8,13]
[9,"5",2023,"105507",{"$f":"IFERROR(VLOOKUP(Tabla_SERIED_11_6[[#This Row],[IdEstablecimiento]],'[2]Establecimiento 2023'!$A$1:$E$183,3,FALSE),0)","v":"105507-Posta de Salud Rural Huamalata"},{"$f":"IFERROR(VLOOKUP(Tabla_SERIED_11_6[[#This Row],[IdEstablecimiento]],'[2]Establecimiento 2023'!$A$1:$E$183,5,FALSE),0)","v":"04301-Ovalle"},"15080008","2023-10-17T15:33:07",3,{"$nulls":7},3]
[9,"5",2023,"105510",{"$f":"IFERROR(VLOOKUP(Tabla_SERIED_11_6[[#This Row],[IdEstablecimiento]],'[2]Establecimiento 2023'!$A$1:$E$183,3,FALSE),0)","v":"105510-Posta de Salud Rural Recoleta"},{"$f":"IFERROR(VLOOKUP(Tabla_SERIED_11_6[[#This Row],[IdEstablecimiento]],'[2]Establecimiento 2023'!$A$1:$E$183,5,FALSE),0)","v":"04301-Ovalle"},"15050100","2023-10-17T15:34:58",32,10,22,null,2,1,6,2,6,5,7,null,2,null,1]
[9,"5",2023,"105511",{"$f":"IFERROR(VLOOKUP(Tabla_SERIED_11_6[[#This Row],[IdEstablecimiento]],'[2]Establecimiento 2023'!$A$1:$E$183,3,FALSE),0)","v":"105511-Posta de Salud Rural Los Cóndores"},{"$f":"IFERROR(VLOOKUP(Tabla_SERIED_11_6[[#This Row],[IdEstablecimiento]],'[2]Establecimiento 2023'!$A$1:$E$183,5,FALSE),0)","v":"04203-Los Vilos"},"16200220","2023-10-17T15:35:31",1,0,1]
[9,"5",2023,"105722",{"$f":"IFERROR(VLOOKUP(Tabla_SERIED_11_6[[#This Row],[IdEstablecimiento]],'[2]Establecimiento 2023'!$A$1:$E$183,3,FALSE),0)","v":"105722-Centro Comunitario de Salud Familiar San José de la Dehesa"},{"$f":"IFERROR(VLOOKUP(Tabla_SERIED_11_6[[#This Row],[IdEstablecimiento]],'[2]Establecimiento 2023'!$A$1:$E$183,5,FALSE),0)","v":"04301-Ovalle"},"15900020","2023-10-17T15:39:04",3.2,null,3.2]
[9,"5",2023,"105722",{"$f":"IFERROR(VLOOKUP(Tabla_SERIED_11_6[[#This Row],[IdEstablecimiento]],'[2]Establecimiento 2023'!$A$1:$E$183,3,FALSE),0)","v":"105722-Centro Comunitario de Salud Familiar San José de la Dehesa"},{"$f":"IFERROR(VLOOKUP(Tabla_SERIED_11_6[[#This Row],[IdEstablecimiento]],'[2]Establecimiento 2023'!$A$1:$E$183,5,FALSE),0)","v":"04301-Ovalle"},"15900030","2023-10-17T15:39:04",4.4,null,null,4.4]
[9,"5",2023,"105723",{"$f":"IFERROR(VLOOKUP(Tabla_SERIED_11_6[[#This Row],[IdEstablecimiento]],'[2]Establecimiento 2023'!$A$1:$E$183,3,FALSE),0)","v":"105723-Centro Comunitario de Salud Familiar Limarí"},{"$f":"IFERROR(VLOOKUP(Tabla_SERIED_11_6[[#This Row],[IdEstablecimiento]],'[2]Establecimiento 2023'!$A$1:$E$183,5,FALSE),0)","v":"04301-Ovalle"},"15010500","2023-10-17T15:39:00",12,{"$nulls":3},2,null,6,4]
[9,"5",2023,"105723",{"$f":"IFERROR(VLOOKUP(Tabla_SERIED_11_6[[#This Row],[IdEstablecimiento]],'[2]Establecimiento 2023'!$A$1:$E$183,3,FALSE),0)","v":"105723-Centro Comunitario de Salud Familiar Limarí"},{"$f":"IFERROR(VLOOKUP(Tabla_SERIED_11_6[[#This Row],[IdEstablecimiento]],'[2]Establecimiento 2023'!$A$1:$E$183,5,FALSE),0)","v":"04301-Ovalle"},"15060100","2023-10-17T15:39:00",1,null,1,{"$nulls":5},1]
[9,"5",2023,"105436",{"$f":"IFERROR(VLOOKUP(Tabla_SERIED_11_6[[#This Row],[IdEstablecimiento]],'[2]Establecimiento 2023'!$A$1:$E$183,3,FALSE),0)","v":"105436-Posta de Salud Rural El Maitén"},{"$f":"IFERROR(VLOOKUP(Tabla_SERIED_11_6[[#This Row],[IdEstablecimiento]],'[2]Establecimiento 2023'!$A$1:$E$183,5,FALSE),0)","v":"04303-Monte Patria"},"16100300","2023-10-17T11:35:26",49,24,25]
[9,"5",2023,"105437",{"$f":"IFERROR(VLOOKUP(Tabla_SERIED_11_6[[#This Row],[IdEstablecimiento]],'[2]Establecimiento 2023'!$A$1:$E$183,3,FALSE),0)","v":"105437-Posta de Salud Rural Chalinga"},{"$f":"IFERROR(VLOOKUP(Tabla_SERIED_11_6[[#This Row],[IdEstablecimiento]],'[2]Establecimiento 2023'!$A$1:$E$183,5,FALSE),0)","v":"04301-Ovalle"},"15080008","2023-10-17T11:35:22",4,{"$nulls":9},2,null,2]
[9,"5",2023,"105437",{"$f":"IFERROR(VLOOKUP(Tabla_SERIED_11_6[[#This Row],[IdEstablecimiento]],'[2]Establecimiento 2023'!$A$1:$E$183,3,FALSE),0)","v":"105437-Posta de Salud Rural Chalinga"},{"$f":"IFERROR(VLOOKUP(Tabla_SERIED_11_6[[#This Row],[IdEstablecimiento]],'[2]Establecimiento 2023'!$A$1:$E$183,5,FALSE),0)","v":"04301-Ovalle"},"16090300","2023-10-17T11:35:22",112,112]
[9,"5",2023,"105443",{"$f":"IFERROR(VLOOKUP(Tabla_SERIED_11_6[[#This Row],[IdEstablecimiento]],'[2]Establecimiento 2023'!$A$1:$E$183,3,FALSE),0)","v":"105443-Posta de Salud Rural Cárcamo"},{"$f":"IFERROR(VLOOKUP(Tabla_SERIED_11_6[[#This Row],[IdEstablecimiento]],'[2]Establecimiento 2023'!$A$1:$E$183,5,FALSE),0)","v":"04201-Illapel"},"16200100","2023-10-17T11:43:39",16,12,4]
[9,"5",2023,"105444",{"$f":"IFERROR(VLOOKUP(Tabla_SERIED_11_6[[#This Row],[IdEstablecimiento]],'[2]Establecimiento 2023'!$A$1:$E$183,3,FALSE),0)","v":"105444-Posta de Salud Rural Huintil"},{"$f":"IFERROR(VLOOKUP(Tabla_SERIED_11_6[[#This Row],[IdEstablecimiento]],'[2]Establecimiento 2023'!$A$1:$E$183,5,FALSE),0)","v":"04201-Illapel"},"15080008","2023-10-17T11:44:06",2,{"$nulls":9},2]
[9,"5",2023,"105444",{"$f":"IFERROR(VLOOKUP(Tabla_SERIED_11_6[[#This Row],[IdEstablecimiento]],'[2]Establecimiento 2023'!$A$1:$E$183,3,FALSE),0)","v":"105444-Posta de Salud Rural Huintil"},{"$f":"IFERROR(VLOOKUP(Tabla_SERIED_11_6[[#This Row],[IdEstablecimiento]],'[2]Establecimiento 2023'!$A$1:$E$183,5,FALSE),0)","v":"04201-Illapel"},"16200100","2023-10-17T11:44:06",2,null,2]
[9,"5",2023,"105446",{"$f":"IFERROR(VLOOKUP(Tabla_SERIED_11_6[[#This Row],[IdEstablecimiento]],'[2]Establecimiento 2023'!$A$1:$E$183,3,FALSE),0)","v":"105446-Posta de Salud Rural Matancilla"},{"$f":"IFERROR(VLOOKUP(Tabla_SERIED_11_6[[#This Row],[IdEstablecimiento]],'[2]Establecimiento 2023'!$A$1:$E$183,5,FALSE),0)","v":"04201-Illapel"},"16090300","2023-10-17T11:45:59",6,6]
[9,"5",2023,"105447",{"$f":"IFERROR(VLOOKUP(Tabla_SERIED_11_6[[#This Row],[IdEstablecimiento]],'[2]Establecimiento 2023'!$A$1:$E$183,3,FALSE),0)","v":"105447-Posta de Salud Rural Peralillo Illapel"},{"$f":"IFERROR(VLOOKUP(Tabla_SERIED_11_6[[#This Row],[IdEstablecimiento]],'[2]Establecimiento 2023'!$A$1:$E$183,5,FALSE),0)","v":"04201-Illapel"},"15080008","2023-10-17T11:46:43",2,{"$nulls":7},2,null,0,0,0]
[9,"5",2023,"200499",{"$f":"IFERROR(VLOOKUP(Tabla_SERIED_11_6[[#This Row],[IdEstablecimiento]],'[2]Establecimiento 2023'!$A$1:$E$183,3,FALSE),0)","v":"200499-Centro de Salud Familiar Rural Pan de Azúcar"},{"$f":"IFERROR(VLOOKUP(Tabla_SERIED_11_6[[#This Row],[IdEstablecimiento]],'[2]Establecimiento 2023'!$A$1:$E$183,5,FALSE),0)","v":"04102-Coquimbo"},"15050100","2023-10-17T15:43:43",364,173,191,5,12,27,49,39,89,62,50,null,17,5,9]
[9,"5",2023,"200499",{"$f":"IFERROR(VLOOKUP(Tabla_SERIED_11_6[[#This Row],[IdEstablecimiento]],'[2]Establecimiento 2023'!$A$1:$E$183,3,FALSE),0)","v":"200499-Centro de Salud Familiar Rural Pan de Azúcar"},{"$f":"IFERROR(VLOOKUP(Tabla_SERIED_11_6[[#This Row],[IdEstablecimiento]],'[2]Establecimiento 2023'!$A$1:$E$183,5,FALSE),0)","v":"04102-Coquimbo"},"15900030","2023-10-17T15:43:43",6.4,2.4,0,4,0,0]
[9,"5",2023,"200499",{"$f":"IFERROR(VLOOKUP(Tabla_SERIED_11_6[[#This Row],[IdEstablecimiento]],'[2]Establecimiento 2023'!$A$1:$E$183,3,FALSE),0)","v":"200499-Centro de Salud Familiar Rural Pan de Azúcar"},{"$f":"IFERROR(VLOOKUP(Tabla_SERIED_11_6[[#This Row],[IdEstablecimiento]],'[2]Establecimiento 2023'!$A$1:$E$183,5,FALSE),0)","v":"04102-Coquimbo"},"15900050","2023-10-17T15:43:43",3,2,1,1,0,1,0,1]
[9,"5",2023,"200538",{"$f":"IFERROR(VLOOKUP(Tabla_SERIED_11_6[[#This Row],[IdEstablecimiento]],'[2]Establecimiento 2023'!$A$1:$E$183,3,FALSE),0)","v":"200538-Centro de Salud Familiar San Isidro Calingasta"},{"$f":"IFERROR(VLOOKUP(Tabla_SERIED_11_6[[#This Row],[IdEstablecimiento]],'[2]Establecimiento 2023'!$A$1:$E$183,5,FALSE),0)","v":"04106-Vicuña"},"16100300","2023-10-17T15:45:21",123,53,70]
[9,"5",2023,"200569",{"$f":"IFERROR(VLOOKUP(Tabla_SERIED_11_6[[#This Row],[IdEstablecimiento]],'[2]Establecimiento 2023'!$A$1:$E$183,3,FALSE),0)","v":"200569-Centro de Salud Familiar Fray Jorge"},{"$f":"IFERROR(VLOOKUP(Tabla_SERIED_11_6[[#This Row],[IdEstablecimiento]],'[2]Establecimiento 2023'!$A$1:$E$183,5,FALSE),0)","v":"04301-Ovalle"},"15080015","2023-10-17T15:45:54",457,{"$nulls":5},232,225]
[9,"5",2023,"200569",{"$f":"IFERROR(VLOOKUP(Tabla_SERIED_11_6[[#This Row],[IdEstablecimiento]],'[2]Establecimiento 2023'!$A$1:$E$183,3,FALSE),0)","v":"200569-Centro de Salud Familiar Fray Jorge"},{"$f":"IFERROR(VLOOKUP(Tabla_SERIED_11_6[[#This Row],[IdEstablecimiento]],'[2]Establecimiento 2023'!$A$1:$E$183,5,FALSE),0)","v":"04301-Ovalle"},"15080016","2023-10-17T15:45:54",22,{"$nulls":3},4,6,6,6]
[9,"5",2023,"200569",{"$f":"IFERROR(VLOOKUP(Tabla_SERIED_11_6[[#This Row],[IdEstablecimiento]],'[2]Establecimiento 2023'!$A$1:$E$183,3,FALSE),0)","v":"200569-Centro de Salud Familiar Fray Jorge"},{"$f":"IFERROR(VLOOKUP(Tabla_SERIED_11_6[[#This Row],[IdEstablecimiento]],'[2]Establecimiento 2023'!$A$1:$E$183,5,FALSE),0)","v":"04301-Ovalle"},"15900030","2023-10-17T15:45:54",22.8,5.2,0,11.2,2.8,3.6]
[9,"5",2023,"200607",{"$f":"IFERROR(VLOOKUP(Tabla_SERIED_11_6[[#This Row],[IdEstablecimiento]],'[2]Establecimiento 2023'!$A$1:$E$183,3,FALSE),0)","v":"200607-Centro de Salud Familiar Lila Cortés Godoy"},{"$f":"IFERROR(VLOOKUP(Tabla_SERIED_11_6[[#This Row],[IdEstablecimiento]],'[2]Establecimiento 2023'!$A$1:$E$183,5,FALSE),0)","v":"04102-Coquimbo"},"15080009","2023-10-17T15:46:21",9,{"$nulls":8},6,3]
[9,"5",2023,"200607",{"$f":"IFERROR(VLOOKUP(Tabla_SERIED_11_6[[#This Row],[IdEstablecimiento]],'[2]Establecimiento 2023'!$A$1:$E$183,3,FALSE),0)","v":"200607-Centro de Salud Familiar Lila Cortés Godoy"},{"$f":"IFERROR(VLOOKUP(Tabla_SERIED_11_6[[#This Row],[IdEstablecimiento]],'[2]Establecimiento 2023'!$A$1:$E$183,5,FALSE),0)","v":"04102-Coquimbo"},"15901300","2023-10-17T15:46:21",2,null,null,2]
[9,"5",2023,"105447",{"$f":"IFERROR(VLOOKUP(Tabla_SERIED_11_6[[#This Row],[IdEstablecimiento]],'[2]Establecimiento 2023'!$A$1:$E$183,3,FALSE),0)","v":"105447-Posta de Salud Rural Peralillo Illapel"},{"$f":"IFERROR(VLOOKUP(Tabla_SERIED_11_6[[#This Row],[IdEstablecimiento]],'[2]Establecimiento 2023'!$A$1:$E$183,5,FALSE),0)","v":"04201-Illapel"},"15080015","2023-10-17T11:46:43",12,{"$nulls":5},4,8]
[9,"5",2023,"105448",{"$f":"IFERROR(VLOOKUP(Tabla_SERIED_11_6[[#This Row],[IdEstablecimiento]],'[2]Establecimiento 2023'!$A$1:$E$183,3,FALSE),0)","v":"105448-Posta de Salud Rural Santa Virginia"},{"$f":"IFERROR(VLOOKUP(Tabla_SERIED_11_6[[#This Row],[IdEstablecimiento]],'[2]Establecimiento 2023'!$A$1:$E$183,5,FALSE),0)","v":"04201-Illapel"},"16200220","2023-10-17T11:47:40",14,7,7]
[9,"5",2023,"105449",{"$f":"IFERROR(VLOOKUP(Tabla_SERIED_11_6[[#This Row],[IdEstablecimiento]],'[2]Establecimiento 2023'!$A$1:$E$183,3,FALSE),0)","v":"105449-Posta de Salud Rural Tunga Norte"},{"$f":"IFERROR(VLOOKUP(Tabla_SERIED_11_6[[#This Row],[IdEstablecimiento]],'[2]Establecimiento 2023'!$A$1:$E$183,5,FALSE),0)","v":"04201-Illapel"},"16200210","2023-10-17T11:48:22",3,3]
[9,"5",2023,"105450",{"$f":"IFERROR(VLOOKUP(Tabla_SERIED_11_6[[#This Row],[IdEstablecimiento]],'[2]Establecimiento 2023'!$A$1:$E$183,3,FALSE),0)","v":"105450-Posta de Salud Rural Mincha Norte"},{"$f":"IFERROR(VLOOKUP(Tabla_SERIED_11_6[[#This Row],[IdEstablecimiento]],'[2]Establecimiento 2023'!$A$1:$E$183,5,FALSE),0)","v":"04202-Canela"},"15080014","2023-10-17T11:48:56",10,{"$nulls":3},10]
[9,"5",2023,"105450",{"$f":"IFERROR(VLOOKUP(Tabla_SERIED_11_6[[#This Row],[IdEstablecimiento]],'[2]Establecimiento 2023'!$A$1:$E$183,3,FALSE),0)","v":"105450-Posta de Salud Rural Mincha Norte"},{"$f":"IFERROR(VLOOKUP(Tabla_SERIED_11_6[[#This Row],[IdEstablecimiento]],'[2]Establecimiento 2023'!$A$1:$E$183,5,FALSE),0)","v":"04202-Canela"},"16100700","2023-10-17T11:48:56",1,1]
[9,"5",2023,"105452",{"$f":"IFERROR(VLOOKUP(Tabla_SERIED_11_6[[#This Row],[IdEstablecimiento]],'[2]Establecimiento 2023'!$A$1:$E$183,3,FALSE),0)","v":"105452-Posta de Salud Rural Cuncumén(Salamanca)"},{"$f":"IFERROR(VLOOKUP(Tabla_SERIED_11_6[[#This Row],[IdEstablecimiento]],'[2]Establecimiento 2023'!$A$1:$E$183,5,FALSE),0)","v":"04204-Salamanca"},"15080014","2023-10-17T11:50:01",12,{"$nulls":3},10,2]
[9,"5",2023,"105453",{"$f":"IFERROR(VLOOKUP(Tabla_SERIED_11_6[[#This Row],[IdEstablecimiento]],'[2]Establecimiento 2023'!$A$1:$E$183,3,FALSE),0)","v":"105453-Posta de Salud Rural Tranquilla"},{"$f":"IFERROR(VLOOKUP(Tabla_SERIED_11_6[[#This Row],[IdEstablecimiento]],'[2]Establecimiento 2023'!$A$1:$E$183,5,FALSE),0)","v":"04204-Salamanca"},"15080008","2023-10-17T11:50:47",3,{"$nulls":9},2,1]
[9,"5",2023,"105454",{"$f":"IFERROR(VLOOKUP(Tabla_SERIED_11_6[[#This Row],[IdEstablecimiento]],'[2]Establecimiento 2023'!$A$1:$E$183,3,FALSE),0)","v":"105454-Posta de Salud Rural Cunlagua"},{"$f":"IFERROR(VLOOKUP(Tabla_SERIED_11_6[[#This Row],[IdEstablecimiento]],'[2]Establecimiento 2023'!$A$1:$E$183,5,FALSE),0)","v":"04204-Salamanca"},"15050100","2023-10-17T11:51:48",2,1,1,{"$nulls":5},2]
[9,"5",2023,"105455",{"$f":"IFERROR(VLOOKUP(Tabla_SERIED_11_6[[#This Row],[IdEstablecimiento]],'[2]Establecimiento 2023'!$A$1:$E$183,3,FALSE),0)","v":"105455-CESFAM Valle Alto"},{"$f":"IFERROR(VLOOKUP(Tabla_SERIED_11_6[[#This Row],[IdEstablecimiento]],'[2]Establecimiento 2023'!$A$1:$E$183,5,FALSE),0)","v":"04204-Salamanca"},"15080014","2023-10-17T11:52:35",18,{"$nulls":3},8,10]
[9,"5",2023,"105456",{"$f":"IFERROR(VLOOKUP(Tabla_SERIED_11_6[[#This Row],[IdEstablecimiento]],'[2]Establecimiento 2023'!$A$1:$E$183,3,FALSE),0)","v":"105456-Posta de Salud Rural Llimpo"},{"$f":"IFERROR(VLOOKUP(Tabla_SERIED_11_6[[#This Row],[IdEstablecimiento]],'[2]Establecimiento 2023'!$A$1:$E$183,5,FALSE),0)","v":"04204-Salamanca"},"15050100","2023-10-17T11:53:06",36,17,19,null,1,2,3,2,5,12,3,null,3,2,3]
[9,"5",2023,"105456",{"$f":"IFERROR(VLOOKUP(Tabla_SERIED_11_6[[#This Row],[IdEstablecimiento]],'[2]Establecimiento 2023'!$A$1:$E$183,3,FALSE),0)","v":"105456-Posta de Salud Rural Llimpo"},{"$f":"IFERROR(VLOOKUP(Tabla_SERIED_11_6[[#This Row],[IdEstablecimiento]],'[2]Establecimiento 2023'!$A$1:$E$183,5,FALSE),0)","v":"04204-Salamanca"},"16200220","2023-10-17T11:53:06",2,2]
[9,"5",2023,"105457",{"$f":"IFERROR(VLOOKUP(Tabla_SERIED_11_6[[#This Row],[IdEstablecimiento]],'[2]Establecimiento 2023'!$A$1:$E$183,3,FALSE),0)","v":"105457-Posta de Salud Rural San Agustín (Salamanca)"},{"$f":"IFERROR(VLOOKUP(Tabla_SERIED_11_6[[#This Row],[IdEstablecimiento]],'[2]Establecimiento 2023'!$A$1:$E$183,5,FALSE),0)","v":"04204-Salamanca"},"15900010","2023-10-17T11:53:40",2.4,null,null,2.4]
[9,"5",2023,"105457",{"$f":"IFERROR(VLOOKUP(Tabla_SERIED_11_6[[#This Row],[IdEstablecimiento]],'[2]Establecimiento 2023'!$A$1:$E$183,3,FALSE),0)","v":"105457-Posta de Salud Rural San Agustín (Salamanca)"},{"$f":"IFERROR(VLOOKUP(Tabla_SERIED_11_6[[#This Row],[IdEstablecimiento]],'[2]Establecimiento 2023'!$A$1:$E$183,5,FALSE),0)","v":"04204-Salamanca"},"16200220","2023-10-17T11:53:40",5,3,2]
[9,"5",2023,"105460",{"$f":"IFERROR(VLOOKUP(Tabla_SERIED_11_6[[#This Row],[IdEstablecimiento]],'[2]Establecimiento 2023'!$A$1:$E$183,3,FALSE),0)","v":"105460-Centro Comunitario de Salud Familiar Cogotí 18"},{"$f":"IFERROR(VLOOKUP(Tabla_SERIED_11_6[[#This Row],[IdEstablecimiento]],'[2]Establecimiento 2023'!$A$1:$E$183,5,FALSE),0)","v":"04302-Combarbalá"},"15050200","2023-10-17T11:55:52",1,null,1,null,null,1]
[9,"5",2023,"105460",{"$f":"IFERROR(VLOOKUP(Tabla_SERIED_11_6[[#This Row],[IdEstablecimiento]],'[2]Establecimiento 2023'!$A$1:$E$183,3,FALSE),0)","v":"105460-Centro Comunitario de Salud Familiar Cogotí 18"},{"$f":"IFERROR(VLOOKUP(Tabla_SERIED_11_6[[#This Row],[IdEstablecimiento]],'[2]Establecimiento 2023'!$A$1:$E$183,5,FALSE),0)","v":"04302-Combarbalá"},"16100300","2023-10-17T11:55:52",97,37,60]
[9,"5",2023,"105461",{"$f":"IFERROR(VLOOKUP(Tabla_SERIED_11_6[[#This Row],[IdEstablecimiento]],'[2]Establecimiento 2023'!$A$1:$E$183,3,FALSE),0)","v":"105461-Posta de Salud Rural El Huacho"},{"$f":"IFERROR(VLOOKUP(Tabla_SERIED_11_6[[#This Row],[IdEstablecimiento]],'[2]Establecimiento 2023'!$A$1:$E$183,5,FALSE),0)","v":"04302-Combarbalá"},"16100300","2023-10-17T11:57:11",36,13,23]
[9,"5",2023,"200273",{"$f":"IFERROR(VLOOKUP(Tabla_SERIED_11_6[[#This Row],[IdEstablecimiento]],'[2]Establecimiento 2023'!$A$1:$E$183,3,FALSE),0)","v":"200273-Centro Comunitario de Salud Familiar Punta Mira"},{"$f":"IFERROR(VLOOKUP(Tabla_SERIED_11_6[[#This Row],[IdEstablecimiento]],'[2]Establecimiento 2023'!$A$1:$E$183,5,FALSE),0)","v":"04102-Coquimbo"},"15080019","2023-10-17T15:40:43",2,{"$nulls":5},0,2]
[9,"5",2023,"200273",{"$f":"IFERROR(VLOOKUP(Tabla_SERIED_11_6[[#This Row],[IdEstablecimiento]],'[2]Establecimiento 2023'!$A$1:$E$183,3,FALSE),0)","v":"200273-Centro Comunitario de Salud Familiar Punta Mira"},{"$f":"IFERROR(VLOOKUP(Tabla_SERIED_11_6[[#This Row],[IdEstablecimiento]],'[2]Establecimiento 2023'!$A$1:$E$183,5,FALSE),0)","v":"04102-Coquimbo"},"16090300","2023-10-17T15:40:43",56,56]
[9,"5",2023,"200273",{"$f":"IFERROR(VLOOKUP(Tabla_SERIED_11_6[[#This Row],[IdEstablecimiento]],'[2]Establecimiento 2023'!$A$1:$E$183,3,FALSE),0)","v":"200273-Centro Comunitario de Salud Familiar Punta Mira"},{"$f":"IFERROR(VLOOKUP(Tabla_SERIED_11_6[[#This Row],[IdEstablecimiento]],'[2]Establecimiento 2023'!$A$1:$E$183,5,FALSE),0)","v":"04102-Coquimbo"},"16100300","2023-10-17T15:40:43",56,20,36]
[9,"5",2023,"200366",{"$f":"IFERROR(VLOOKUP(Tabla_SERIED_11_6[[#This Row],[IdEstablecimiento]],'[2]Establecimiento 2023'!$A$1:$E$183,3,FALSE),0)","v":"200366-Centro de Salud Familiar Urbano de Illapel"},{"$f":"IFERROR(VLOOKUP(Tabla_SERIED_11_6[[#This Row],[IdEstablecimiento]],'[2]Establecimiento 2023'!$A$1:$E$183,5,FALSE),0)","v":"04201-Illapel"},"15010400","2023-10-17T15:41:37",2,{"$nulls":6},2]
[9,"5",2023,"200366",{"$f":"IFERROR(VLOOKUP(Tabla_SERIED_11_6[[#This Row],[IdEstablecimiento]],'[2]Establecimiento 2023'!$A$1:$E$183,3,FALSE),0)","v":"200366-Centro de Salud Familiar Urbano de Illapel"},{"$f":"IFERROR(VLOOKUP(Tabla_SERIED_11_6[[#This Row],[IdEstablecimiento]],'[2]Establecimiento 2023'!$A$1:$E$183,5,FALSE),0)","v":"04201-Illapel"},"15050200","2023-10-17T15:41:37",23,12,11,null,null,1,5,1,12,3,null,null,1]
[9,"5",2023,"200366",{"$f":"IFERROR(VLOOKUP(Tabla_SERIED_11_6[[#This Row],[IdEstablecimiento]],'[2]Establecimiento 2023'!$A$1:$E$183,3,FALSE),0)","v":"200366-Centro de Salud Familiar Urbano de Illapel"},{"$f":"IFERROR(VLOOKUP(Tabla_SERIED_11_6[[#This Row],[IdEstablecimiento]],'[2]Establecimiento 2023'!$A$1:$E$183,5,FALSE),0)","v":"04201-Illapel"},"15060100","2023-10-17T15:41:37",4,2,2,{"$nulls":5},1,3]
[9,"5",2023,"200367",{"$f":"IFERROR(VLOOKUP(Tabla_SERIED_11_6[[#This Row],[IdEstablecimiento]],'[2]Establecimiento 2023'!$A$1:$E$183,3,FALSE),0)","v":"200367-Centro Comunitario de Salud Familiar Colonia Limarí"},{"$f":"IFERROR(VLOOKUP(Tabla_SERIED_11_6[[#This Row],[IdEstablecimiento]],'[2]Establecimiento 2023'!$A$1:$E$183,5,FALSE),0)","v":"04301-Ovalle"},"15010500","2023-10-17T15:42:04",2,{"$nulls":6},2]
[9,"5",2023,"200402",{"$f":"IFERROR(VLOOKUP(Tabla_SERIED_11_6[[#This Row],[IdEstablecimiento]],'[2]Establecimiento 2023'!$A$1:$E$183,3,FALSE),0)","v":"200402-Centro Comunitario de Salud Familiar Arcos de Pinamar"},{"$f":"IFERROR(VLOOKUP(Tabla_SERIED_11_6[[#This Row],[IdEstablecimiento]],'[2]Establecimiento 2023'!$A$1:$E$183,5,FALSE),0)","v":"04101-La Serena"},"15080018","2023-10-17T15:43:12",2,2]
[9,"5",2023,"200499",{"$f":"IFERROR(VLOOKUP(Tabla_SERIED_11_6[[#This Row],[IdEstablecimiento]],'[2]Establecimiento 2023'!$A$1:$E$183,3,FALSE),0)","v":"200499-Centro de Salud Familiar Rural Pan de Azúcar"},{"$f":"IFERROR(VLOOKUP(Tabla_SERIED_11_6[[#This Row],[IdEstablecimiento]],'[2]Establecimiento 2023'!$A$1:$E$183,5,FALSE),0)","v":"04102-Coquimbo"},"15010500","2023-10-17T15:43:43",12,null,0,4,2,0,2,4]
[9,"5",2023,"200538",{"$f":"IFERROR(VLOOKUP(Tabla_SERIED_11_6[[#This Row],[IdEstablecimiento]],'[2]Establecimiento 2023'!$A$1:$E$183,3,FALSE),0)","v":"200538-Centro de Salud Familiar San Isidro Calingasta"},{"$f":"IFERROR(VLOOKUP(Tabla_SERIED_11_6[[#This Row],[IdEstablecimiento]],'[2]Establecimiento 2023'!$A$1:$E$183,5,FALSE),0)","v":"04106-Vicuña"},"16090300","2023-10-17T15:45:21",123,123]
[9,"5",2023,"105501",{"$f":"IFERROR(VLOOKUP(Tabla_SERIED_11_6[[#This Row],[IdEstablecimiento]],'[2]Establecimiento 2023'!$A$1:$E$183,3,FALSE),0)","v":"105501-Posta de Salud Rural Arboleda Grande"},{"$f":"IFERROR(VLOOKUP(Tabla_SERIED_11_6[[#This Row],[IdEstablecimiento]],'[2]Establecimiento 2023'!$A$1:$E$183,5,FALSE),0)","v":"04204-Salamanca"},"15080014","2023-10-17T15:05:59",10,{"$nulls":3},6,4]
[9,"5",2023,"105701",{"$f":"IFERROR(VLOOKUP(Tabla_SERIED_11_6[[#This Row],[IdEstablecimiento]],'[2]Establecimiento 2023'!$A$1:$E$183,3,FALSE),0)","v":"105701-Centro Comunitario de Salud Familiar Villa Alemania"},{"$f":"IFERROR(VLOOKUP(Tabla_SERIED_11_6[[#This Row],[IdEstablecimiento]],'[2]Establecimiento 2023'!$A$1:$E$183,5,FALSE),0)","v":"04101-La Serena"},"16200220","2023-10-17T15:36:54",24,4,20]
[9,"5",2023,"105702",{"$f":"IFERROR(VLOOKUP(Tabla_SERIED_11_6[[#This Row],[IdEstablecimiento]],'[2]Establecimiento 2023'!$A$1:$E$183,3,FALSE),0)","v":"105702-Centro Comunitario de Salud Familiar Lambert"},{"$f":"IFERROR(VLOOKUP(Tabla_SERIED_11_6[[#This Row],[IdEstablecimiento]],'[2]Establecimiento 2023'!$A$1:$E$183,5,FALSE),0)","v":"04101-La Serena"},"16100300","2023-10-17T15:37:26",57,18,39]
[9,"5",2023,"200258",{"$f":"IFERROR(VLOOKUP(Tabla_SERIED_11_6[[#This Row],[IdEstablecimiento]],'[2]Establecimiento 2023'!$A$1:$E$183,3,FALSE),0)","v":"200258-Centro Comunitario de Salud Familiar Los Copihues"},{"$f":"IFERROR(VLOOKUP(Tabla_SERIED_11_6[[#This Row],[IdEstablecimiento]],'[2]Establecimiento 2023'!$A$1:$E$183,5,FALSE),0)","v":"04301-Ovalle"},"15080015","2023-10-17T15:40:47",52,{"$nulls":5},34,18]
[9,"5",2023,"200273",{"$f":"IFERROR(VLOOKUP(Tabla_SERIED_11_6[[#This Row],[IdEstablecimiento]],'[2]Establecimiento 2023'!$A$1:$E$183,3,FALSE),0)","v":"200273-Centro Comunitario de Salud Familiar Punta Mira"},{"$f":"IFERROR(VLOOKUP(Tabla_SERIED_11_6[[#This Row],[IdEstablecimiento]],'[2]Establecimiento 2023'!$A$1:$E$183,5,FALSE),0)","v":"04102-Coquimbo"},"15080010","2023-10-17T15:40:43",2,{"$nulls":7},0,null,2,0,0]
[9,"5",2023,"200366",{"$f":"IFERROR(VLOOKUP(Tabla_SERIED_11_6[[#This Row],[IdEstablecimiento]],'[2]Establecimiento 2023'!$A$1:$E$183,3,FALSE),0)","v":"200366-Centro de Salud Familiar Urbano de Illapel"},{"$f":"IFERROR(VLOOKUP(Tabla_SERIED_11_6[[#This Row],[IdEstablecimiento]],'[2]Establecimiento 2023'!$A$1:$E$183,5,FALSE),0)","v":"04201-Illapel"},"15050500","2023-10-17T15:41:37",1,0,1,null,1]
[9,"5",2023,"200367",{"$f":"IFERROR(VLOOKUP(Tabla_SERIED_11_6[[#This Row],[IdEstablecimiento]],'[2]Establecimiento 2023'!$A$1:$E$183,3,FALSE),0)","v":"200367-Centro Comunitario de Salud Familiar Colonia Limarí"},{"$f":"IFERROR(VLOOKUP(Tabla_SERIED_11_6[[#This Row],[IdEstablecimiento]],'[2]Establecimiento 2023'!$A$1:$E$183,5,FALSE),0)","v":"04301-Ovalle"},"15050200","2023-10-17T15:42:04",1,1,{"$nulls":7},1]
[9,"5",2023,"200402",{"$f":"IFERROR(VLOOKUP(Tabla_SERIED_11_6[[#This Row],[IdEstablecimiento]],'[2]Establecimiento 2023'!$A$1:$E$183,3,FALSE),0)","v":"200402-Centro Comunitario de Salud Familiar Arcos de Pinamar"},{"$f":"IFERROR(VLOOKUP(Tabla_SERIED_11_6[[#This Row],[IdEstablecimiento]],'[2]Establecimiento 2023'!$A$1:$E$183,5,FALSE),0)","v":"04101-La Serena"},"16100300","2023-10-17T15:43:12",66,34,32]
[9,"5",2023,"200494",{"$f":"IFERROR(VLOOKUP(Tabla_SERIED_11_6[[#This Row],[IdEstablecimiento]],'[2]Establecimiento 2023'!$A$1:$E$183,3,FALSE),0)","v":"200494-Centro de Salud Familiar El Sauce"},{"$f":"IFERROR(VLOOKUP(Tabla_SERIED_11_6[[#This Row],[IdEstablecimiento]],'[2]Establecimiento 2023'!$A$1:$E$183,5,FALSE),0)","v":"04102-Coquimbo"},"15050200","2023-10-17T15:43:08",16,9,7,null,1,2,2,2,4,4,null,1]
[9,"5",2023,"200494",{"$f":"IFERROR(VLOOKUP(Tabla_SERIED_11_6[[#This Row],[IdEstablecimiento]],'[2]Establecimiento 2023'!$A$1:$E$183,3,FALSE),0)","v":"200494-Centro de Salud Familiar El Sauce"},{"$f":"IFERROR(VLOOKUP(Tabla_SERIED_11_6[[#This Row],[IdEstablecimiento]],'[2]Establecimiento 2023'!$A$1:$E$183,5,FALSE),0)","v":"04102-Coquimbo"},"15080010","2023-10-17T15:43:08",2,{"$nulls":7},2]
[9,"5",2023,"200494",{"$f":"IFERROR(VLOOKUP(Tabla_SERIED_11_6[[#This Row],[IdEstablecimiento]],'[2]Establecimiento 2023'!$A$1:$E$183,3,FALSE),0)","v":"200494-Centro de Salud Familiar El Sauce"},{"$f":"IFERROR(VLOOKUP(Tabla_SERIED_11_6[[#This Row],[IdEstablecimiento]],'[2]Establecimiento 2023'!$A$1:$E$183,5,FALSE),0)","v":"04102-Coquimbo"},"15080018","2023-10-17T15:43:08",8,{"$nulls":3},2,6]
[9,"5",2023,"200494",{"$f":"IFERROR(VLOOKUP(Tabla_SERIED_11_6[[#This Row],[IdEstablecimiento]],'[2]Establecimiento 2023'!$A$1:$E$183,3,FALSE),0)","v":"200494-Centro de Salud Familiar El Sauce"},{"$f":"IFERROR(VLOOKUP(Tabla_SERIED_11_6[[#This Row],[IdEstablecimiento]],'[2]Establecimiento 2023'!$A$1:$E$183,5,FALSE),0)","v":"04102-Coquimbo"},"15900020","2023-10-17T15:43:08",5.8,null,2.4,3.4]
[9,"5",2023,"200569",{"$f":"IFERROR(VLOOKUP(Tabla_SERIED_11_6[[#This Row],[IdEstablecimiento]],'[2]Establecimiento 2023'!$A$1:$E$183,3,FALSE),0)","v":"200569-Centro de Salud Familiar Fray Jorge"},{"$f":"IFERROR(VLOOKUP(Tabla_SERIED_11_6[[#This Row],[IdEstablecimiento]],'[2]Establecimiento 2023'!$A$1:$E$183,5,FALSE),0)","v":"04301-Ovalle"},"15050100","2023-10-17T15:45:54",600,223,377,null,14,45,81,83,116,114,76,null,31,12,28]
[9,"5",2023,"200569",{"$f":"IFERROR(VLOOKUP(Tabla_SERIED_11_6[[#This Row],[IdEstablecimiento]],'[2]Establecimiento 2023'!$A$1:$E$183,3,FALSE),0)","v":"200569-Centro de Salud Familiar Fray Jorge"},{"$f":"IFERROR(VLOOKUP(Tabla_SERIED_11_6[[#This Row],[IdEstablecimiento]],'[2]Establecimiento 2023'!$A$1:$E$183,5,FALSE),0)","v":"04301-Ovalle"},"15050200","2023-10-17T15:45:54",12,9,3,{"$nulls":3},2,3,3,3,null,1,0,0,0]
[9,"5",2023,"200569",{"$f":"IFERROR(VLOOKUP(Tabla_SERIED_11_6[[#This Row],[IdEstablecimiento]],'[2]Establecimiento 2023'!$A$1:$E$183,3,FALSE),0)","v":"200569-Centro de Salud Familiar Fray Jorge"},{"$f":"IFERROR(VLOOKUP(Tabla_SERIED_11_6[[#This Row],[IdEstablecimiento]],'[2]Establecimiento 2023'!$A$1:$E$183,5,FALSE),0)","v":"04301-Ovalle"},"15901400","2023-10-17T15:45:54",3,1,2,null,null,2,1]
[9,"5",2023,"200607",{"$f":"IFERROR(VLOOKUP(Tabla_SERIED_11_6[[#This Row],[IdEstablecimiento]],'[2]Establecimiento 2023'!$A$1:$E$183,3,FALSE),0)","v":"200607-Centro de Salud Familiar Lila Cortés Godoy"},{"$f":"IFERROR(VLOOKUP(Tabla_SERIED_11_6[[#This Row],[IdEstablecimiento]],'[2]Establecimiento 2023'!$A$1:$E$183,5,FALSE),0)","v":"04102-Coquimbo"},"15080010","2023-10-17T15:46:21",1,{"$nulls":7},1]
[9,"5",2023,"200607",{"$f":"IFERROR(VLOOKUP(Tabla_SERIED_11_6[[#This Row],[IdEstablecimiento]],'[2]Establecimiento 2023'!$A$1:$E$183,3,FALSE),0)","v":"200607-Centro de Salud Familiar Lila Cortés Godoy"},{"$f":"IFERROR(VLOOKUP(Tabla_SERIED_11_6[[#This Row],[IdEstablecimiento]],'[2]Establecimiento 2023'!$A$1:$E$183,5,FALSE),0)","v":"04102-Coquimbo"},"15080018","2023-10-17T15:46:21",10,null,null,2,2,6]
[9,"5",2023,"200607",{"$f":"IFERROR(VLOOKUP(Tabla_SERIED_11_6[[#This Row],[IdEstablecimiento]],'[2]Establecimiento 2023'!$A$1:$E$183,3,FALSE),0)","v":"200607-Centro de Salud Familiar Lila Cortés Godoy"},{"$f":"IFERROR(VLOOKUP(Tabla_SERIED_11_6[[#This Row],[IdEstablecimiento]],'[2]Establecimiento 2023'!$A$1:$E$183,5,FALSE),0)","v":"04102-Coquimbo"},"15900040","2023-10-17T15:46:21",2.4,{"$nulls":5},2.4]
[9,"5",2023,"200607",{"$f":"IFERROR(VLOOKUP(Tabla_SERIED_11_6[[#This Row],[IdEstablecimiento]],'[2]Establecimiento 2023'!$A$1:$E$183,3,FALSE),0)","v":"200607-Centro de Salud Familiar Lila Cortés Godoy"},{"$f":"IFERROR(VLOOKUP(Tabla_SERIED_11_6[[#This Row],[IdEstablecimiento]],'[2]Establecimiento 2023'!$A$1:$E$183,5,FALSE),0)","v":"04102-Coquimbo"},"16100300","2023-10-17T15:46:21",259,104,155]
[9,"5",2023,"105107",{"$f":"IFERROR(VLOOKUP(Tabla_SERIED_11_6[[#This Row],[IdEstablecimiento]],'[2]Establecimiento 2023'!$A$1:$E$183,3,FALSE),0)","v":"105107-Hospital San Juan de Dios (Vicuña)"},{"$f":"IFERROR(VLOOKUP(Tabla_SERIED_11_6[[#This Row],[IdEstablecimiento]],'[2]Establecimiento 2023'!$A$1:$E$183,5,FALSE),0)","v":"105107-Hospital Vicuña"},"15050100","2023-10-17T09:53:51",297,115,182,2,6,21,52,46,60,50,36,null,11,2,11]
[9,"5",2023,"105107",{"$f":"IFERROR(VLOOKUP(Tabla_SERIED_11_6[[#This Row],[IdEstablecimiento]],'[2]Establecimiento 2023'!$A$1:$E$183,3,FALSE),0)","v":"105107-Hospital San Juan de Dios (Vicuña)"},{"$f":"IFERROR(VLOOKUP(Tabla_SERIED_11_6[[#This Row],[IdEstablecimiento]],'[2]Establecimiento 2023'!$A$1:$E$183,5,FALSE),0)","v":"105107-Hospital Vicuña"},"15080015","2023-10-17T09:53:51",219,{"$nulls":5},120,99]
[9,"5",2023,"105107",{"$f":"IFERROR(VLOOKUP(Tabla_SERIED_11_6[[#This Row],[IdEstablecimiento]],'[2]Establecimiento 2023'!$A$1:$E$183,3,FALSE),0)","v":"105107-Hospital San Juan de Dios (Vicuña)"},{"$f":"IFERROR(VLOOKUP(Tabla_SERIED_11_6[[#This Row],[IdEstablecimiento]],'[2]Establecimiento 2023'!$A$1:$E$183,5,FALSE),0)","v":"105107-Hospital Vicuña"},"15900020","2023-10-17T09:53:51",2.4,null,2.4]
[9,"5",2023,"105108",{"$f":"IFERROR(VLOOKUP(Tabla_SERIED_11_6[[#This Row],[IdEstablecimiento]],'[2]Establecimiento 2023'!$A$1:$E$183,3,FALSE),0)","v":"105108-Hospital San Pedro (Los Vilos)"},{"$f":"IFERROR(VLOOKUP(Tabla_SERIED_11_6[[#This Row],[IdEstablecimiento]],'[2]Establecimiento 2023'!$A$1:$E$183,5,FALSE),0)","v":"105108-Hospital Los Vilos"},"15900040","2023-10-17T09:54:40",3.6,null,null,3.6]
[9,"5",2023,"105300",{"$f":"IFERROR(VLOOKUP(Tabla_SERIED_11_6[[#This Row],[IdEstablecimiento]],'[2]Establecimiento 2023'!$A$1:$E$183,3,FALSE),0)","v":"105300-Centro de Salud Familiar Cardenal Caro"},{"$f":"IFERROR(VLOOKUP(Tabla_SERIED_11_6[[#This Row],[IdEstablecimiento]],'[2]Establecimiento 2023'!$A$1:$E$183,5,FALSE),0)","v":"04101-La Serena"},"15080010","2023-10-17T09:56:24",2,{"$nulls":7},2]
[9,"5",2023,"105300",{"$f":"IFERROR(VLOOKUP(Tabla_SERIED_11_6[[#This Row],[IdEstablecimiento]],'[2]Establecimiento 2023'!$A$1:$E$183,3,FALSE),0)","v":"105300-Centro de Salud Familiar Cardenal Caro"},{"$f":"IFERROR(VLOOKUP(Tabla_SERIED_11_6[[#This Row],[IdEstablecimiento]],'[2]Establecimiento 2023'!$A$1:$E$183,5,FALSE),0)","v":"04101-La Serena"},"15900030","2023-10-17T09:56:24",16,0,2,4,10,0]
[9,"5",2023,"105501",{"$f":"IFERROR(VLOOKUP(Tabla_SERIED_11_6[[#This Row],[IdEstablecimiento]],'[2]Establecimiento 2023'!$A$1:$E$183,3,FALSE),0)","v":"105501-Posta de Salud Rural Arboleda Grande"},{"$f":"IFERROR(VLOOKUP(Tabla_SERIED_11_6[[#This Row],[IdEstablecimiento]],'[2]Establecimiento 2023'!$A$1:$E$183,5,FALSE),0)","v":"04204-Salamanca"},"16090300","2023-10-17T15:05:59",129,129]
[9,"5",2023,"105504",{"$f":"IFERROR(VLOOKUP(Tabla_SERIED_11_6[[#This Row],[IdEstablecimiento]],'[2]Establecimiento 2023'!$A$1:$E$183,3,FALSE),0)","v":"105504-Posta de Salud Rural Socavón"},{"$f":"IFERROR(VLOOKUP(Tabla_SERIED_11_6[[#This Row],[IdEstablecimiento]],'[2]Establecimiento 2023'!$A$1:$E$183,5,FALSE),0)","v":"04201-Illapel"},"16090300","2023-10-17T15:09:09",32,32]
[9,"5",2023,"105504",{"$f":"IFERROR(VLOOKUP(Tabla_SERIED_11_6[[#This Row],[IdEstablecimiento]],'[2]Establecimiento 2023'!$A$1:$E$183,3,FALSE),0)","v":"105504-Posta de Salud Rural Socavón"},{"$f":"IFERROR(VLOOKUP(Tabla_SERIED_11_6[[#This Row],[IdEstablecimiento]],'[2]Establecimiento 2023'!$A$1:$E$183,5,FALSE),0)","v":"04201-Illapel"},"16200220","2023-10-17T15:09:09",10,2,8]
[9,"5",2023,"105509",{"$f":"IFERROR(VLOOKUP(Tabla_SERIED_11_6[[#This Row],[IdEstablecimiento]],'[2]Establecimiento 2023'!$A$1:$E$183,3,FALSE),0)","v":"105509-Posta de Salud Rural Gualliguaica"},{"$f":"IFERROR(VLOOKUP(Tabla_SERIED_11_6[[#This Row],[IdEstablecimiento]],'[2]Establecimiento 2023'!$A$1:$E$183,5,FALSE),0)","v":"04106-Vicuña"},"16090300","2023-10-17T15:34:26",24,24]
[9,"5",2023,"105510",{"$f":"IFERROR(VLOOKUP(Tabla_SERIED_11_6[[#This Row],[IdEstablecimiento]],'[2]Establecimiento 2023'!$A$1:$E$183,3,FALSE),0)","v":"105510-Posta de Salud Rural Recoleta"},{"$f":"IFERROR(VLOOKUP(Tabla_SERIED_11_6[[#This Row],[IdEstablecimiento]],'[2]Establecimiento 2023'!$A$1:$E$183,5,FALSE),0)","v":"04301-Ovalle"},"15080014","2023-10-17T15:34:58",16,{"$nulls":3},12,4]
[9,"5",2023,"105510",{"$f":"IFERROR(VLOOKUP(Tabla_SERIED_11_6[[#This Row],[IdEstablecimiento]],'[2]Establecimiento 2023'!$A$1:$E$183,3,FALSE),0)","v":"105510-Posta de Salud Rural Recoleta"},{"$f":"IFERROR(VLOOKUP(Tabla_SERIED_11_6[[#This Row],[IdEstablecimiento]],'[2]Establecimiento 2023'!$A$1:$E$183,5,FALSE),0)","v":"04301-Ovalle"},"16200220","2023-10-17T15:34:58",17,8,9]
[9,"5",2023,"105511",{"$f":"IFERROR(VLOOKUP(Tabla_SERIED_11_6[[#This Row],[IdEstablecimiento]],'[2]Establecimiento 2023'!$A$1:$E$183,3,FALSE),0)","v":"105511-Posta de Salud Rural Los Cóndores"},{"$f":"IFERROR(VLOOKUP(Tabla_SERIED_11_6[[#This Row],[IdEstablecimiento]],'[2]Establecimiento 2023'!$A$1:$E$183,5,FALSE),0)","v":"04203-Los Vilos"},"15080008","2023-10-17T15:35:31",8,{"$nulls":7},2,null,2,2,2]
[9,"5",2023,"105701",{"$f":"IFERROR(VLOOKUP(Tabla_SERIED_11_6[[#This Row],[IdEstablecimiento]],'[2]Establecimiento 2023'!$A$1:$E$183,3,FALSE),0)","v":"105701-Centro Comunitario de Salud Familiar Villa Alemania"},{"$f":"IFERROR(VLOOKUP(Tabla_SERIED_11_6[[#This Row],[IdEstablecimiento]],'[2]Establecimiento 2023'!$A$1:$E$183,5,FALSE),0)","v":"04101-La Serena"},"15080015","2023-10-17T15:36:54",46,{"$nulls":5},26,20]
[9,"5",2023,"105702",{"$f":"IFERROR(VLOOKUP(Tabla_SERIED_11_6[[#This Row],[IdEstablecimiento]],'[2]Establecimiento 2023'!$A$1:$E$183,3,FALSE),0)","v":"105702-Centro Comunitario de Salud Familiar Lambert"},{"$f":"IFERROR(VLOOKUP(Tabla_SERIED_11_6[[#This Row],[IdEstablecimiento]],'[2]Establecimiento 2023'!$A$1:$E$183,5,FALSE),0)","v":"04101-La Serena"},"15080008","2023-10-17T15:37:26",19,{"$nulls":7},13,null,6]
[9,"5",2023,"105722",{"$f":"IFERROR(VLOOKUP(Tabla_SERIED_11_6[[#This Row],[IdEstablecimiento]],'[2]Establecimiento 2023'!$A$1:$E$183,3,FALSE),0)","v":"105722-Centro Comunitario de Salud Familiar San José de la Dehesa"},{"$f":"IFERROR(VLOOKUP(Tabla_SERIED_11_6[[#This Row],[IdEstablecimiento]],'[2]Establecimiento 2023'!$A$1:$E$183,5,FALSE),0)","v":"04301-Ovalle"},"15050100","2023-10-17T15:39:04",137,38,99,1,4,5,23,15,26,30,18,null,6,2,7]
[9,"5",2023,"105722",{"$f":"IFERROR(VLOOKUP(Tabla_SERIED_11_6[[#This Row],[IdEstablecimiento]],'[2]Establecimiento 2023'!$A$1:$E$183,3,FALSE),0)","v":"105722-Centro Comunitario de Salud Familiar San José de la Dehesa"},{"$f":"IFERROR(VLOOKUP(Tabla_SERIED_11_6[[#This Row],[IdEstablecimiento]],'[2]Establecimiento 2023'!$A$1:$E$183,5,FALSE),0)","v":"04301-Ovalle"},"15080015","2023-10-17T15:39:04",111,{"$nulls":5},52,59]
[9,"5",2023,"105722",{"$f":"IFERROR(VLOOKUP(Tabla_SERIED_11_6[[#This Row],[IdEstablecimiento]],'[2]Establecimiento 2023'!$A$1:$E$183,3,FALSE),0)","v":"105722-Centro Comunitario de Salud Familiar San José de la Dehesa"},{"$f":"IFERROR(VLOOKUP(Tabla_SERIED_11_6[[#This Row],[IdEstablecimiento]],'[2]Establecimiento 2023'!$A$1:$E$183,5,FALSE),0)","v":"04301-Ovalle"},"15080016","2023-10-17T15:39:04",2,{"$nulls":5},2]
[9,"5",2023,"105723",{"$f":"IFERROR(VLOOKUP(Tabla_SERIED_11_6[[#This Row],[IdEstablecimiento]],'[2]Establecimiento 2023'!$A$1:$E$183,3,FALSE),0)","v":"105723-Centro Comunitario de Salud Familiar Limarí"},{"$f":"IFERROR(VLOOKUP(Tabla_SERIED_11_6[[#This Row],[IdEstablecimiento]],'[2]Establecimiento 2023'!$A$1:$E$183,5,FALSE),0)","v":"04301-Ovalle"},"15080015","2023-10-17T15:39:00",98,{"$nulls":5},52,46]
[9,"5",2023,"200258",{"$f":"IFERROR(VLOOKUP(Tabla_SERIED_11_6[[#This Row],[IdEstablecimiento]],'[2]Establecimiento 2023'!$A$1:$E$183,3,FALSE),0)","v":"200258-Centro Comunitario de Salud Familiar Los Copihues"},{"$f":"IFERROR(VLOOKUP(Tabla_SERIED_11_6[[#This Row],[IdEstablecimiento]],'[2]Establecimiento 2023'!$A$1:$E$183,5,FALSE),0)","v":"04301-Ovalle"},"15050100","2023-10-17T15:40:47",76,38,38,2,1,8,11,14,17,9,5,null,2,3,4]
[9,"5",2023,"200258",{"$f":"IFERROR(VLOOKUP(Tabla_SERIED_11_6[[#This Row],[IdEstablecimiento]],'[2]Establecimiento 2023'!$A$1:$E$183,3,FALSE),0)","v":"200258-Centro Comunitario de Salud Familiar Los Copihues"},{"$f":"IFERROR(VLOOKUP(Tabla_SERIED_11_6[[#This Row],[IdEstablecimiento]],'[2]Establecimiento 2023'!$A$1:$E$183,5,FALSE),0)","v":"04301-Ovalle"},"15900010","2023-10-17T15:40:47",23.2,4,1.6,17.6]
[9,"5",2023,"200273",{"$f":"IFERROR(VLOOKUP(Tabla_SERIED_11_6[[#This Row],[IdEstablecimiento]],'[2]Establecimiento 2023'!$A$1:$E$183,3,FALSE),0)","v":"200273-Centro Comunitario de Salud Familiar Punta Mira"},{"$f":"IFERROR(VLOOKUP(Tabla_SERIED_11_6[[#This Row],[IdEstablecimiento]],'[2]Establecimiento 2023'!$A$1:$E$183,5,FALSE),0)","v":"04102-Coquimbo"},"15050200","2023-10-17T15:40:43",1,0,1,0,0,0,1,0,0,0,null,0,0,0,0]
[9,"5",2023,"200366",{"$f":"IFERROR(VLOOKUP(Tabla_SERIED_11_6[[#This Row],[IdEstablecimiento]],'[2]Establecimiento 2023'!$A$1:$E$183,3,FALSE),0)","v":"200366-Centro de Salud Familiar Urbano de Illapel"},{"$f":"IFERROR(VLOOKUP(Tabla_SERIED_11_6[[#This Row],[IdEstablecimiento]],'[2]Establecimiento 2023'!$A$1:$E$183,5,FALSE),0)","v":"04201-Illapel"},"15080009","2023-10-17T15:41:37",3,{"$nulls":9},3]
[9,"5",2023,"200367",{"$f":"IFERROR(VLOOKUP(Tabla_SERIED_11_6[[#This Row],[IdEstablecimiento]],'[2]Establecimiento 2023'!$A$1:$E$183,3,FALSE),0)","v":"200367-Centro Comunitario de Salud Familiar Colonia Limarí"},{"$f":"IFERROR(VLOOKUP(Tabla_SERIED_11_6[[#This Row],[IdEstablecimiento]],'[2]Establecimiento 2023'!$A$1:$E$183,5,FALSE),0)","v":"04301-Ovalle"},"15080015","2023-10-17T15:42:04",48,{"$nulls":5},20,28]
[9,"5",2023,"200402",{"$f":"IFERROR(VLOOKUP(Tabla_SERIED_11_6[[#This Row],[IdEstablecimiento]],'[2]Establecimiento 2023'!$A$1:$E$183,3,FALSE),0)","v":"200402-Centro Comunitario de Salud Familiar Arcos de Pinamar"},{"$f":"IFERROR(VLOOKUP(Tabla_SERIED_11_6[[#This Row],[IdEstablecimiento]],'[2]Establecimiento 2023'!$A$1:$E$183,5,FALSE),0)","v":"04101-La Serena"},"15900040","2023-10-17T15:43:12",16.8,null,13.2,3.6]
[9,"5",2023,"200494",{"$f":"IFERROR(VLOOKUP(Tabla_SERIED_11_6[[#This Row],[IdEstablecimiento]],'[2]Establecimiento 2023'!$A$1:$E$183,3,FALSE),0)","v":"200494-Centro de Salud Familiar El Sauce"},{"$f":"IFERROR(VLOOKUP(Tabla_SERIED_11_6[[#This Row],[IdEstablecimiento]],'[2]Establecimiento 2023'!$A$1:$E$183,5,FALSE),0)","v":"04102-Coquimbo"},"15010500","2023-10-17T15:43:08",28,null,null,4,4,4,8,8]
[9,"5",2023,"200494",{"$f":"IFERROR(VLOOKUP(Tabla_SERIED_11_6[[#This Row],[IdEstablecimiento]],'[2]Establecimiento 2023'!$A$1:$E$183,3,FALSE),0)","v":"200494-Centro de Salud Familiar El Sauce"},{"$f":"IFERROR(VLOOKUP(Tabla_SERIED_11_6[[#This Row],[IdEstablecimiento]],'[2]Establecimiento 2023'!$A$1:$E$183,5,FALSE),0)","v":"04102-Coquimbo"},"15900030","2023-10-17T15:43:08",13.6,null,4,null,2.4,4.8,2.4]
[9,"5",2023,"200499",{"$f":"IFERROR(VLOOKUP(Tabla_SERIED_11_6[[#This Row],[IdEstablecimiento]],'[2]Establecimiento 2023'!$A$1:$E$183,3,FALSE),0)","v":"200499-Centro de Salud Familiar Rural Pan de Azúcar"},{"$f":"IFERROR(VLOOKUP(Tabla_SERIED_11_6[[#This Row],[IdEstablecimiento]],'[2]Establecimiento 2023'!$A$1:$E$183,5,FALSE),0)","v":"04102-Coquimbo"},"15080015","2023-10-17T15:43:43",302,{"$nulls":5},178,124]
[9,"5",2023,"200499",{"$f":"IFERROR(VLOOKUP(Tabla_SERIED_11_6[[#This Row],[IdEstablecimiento]],'[2]Establecimiento 2023'!$A$1:$E$183,3,FALSE),0)","v":"200499-Centro de Salud Familiar Rural Pan de Azúcar"},{"$f":"IFERROR(VLOOKUP(Tabla_SERIED_11_6[[#This Row],[IdEstablecimiento]],'[2]Establecimiento 2023'!$A$1:$E$183,5,FALSE),0)","v":"04102-Coquimbo"},"15080016","2023-10-17T15:43:43",8,{"$nulls":3},2,0,2,4]
[9,"5",2023,"200538",{"$f":"IFERROR(VLOOKUP(Tabla_SERIED_11_6[[#This Row],[IdEstablecimiento]],'[2]Establecimiento 2023'!$A$1:$E$183,3,FALSE),0)","v":"200538-Centro de Salud Familiar San Isidro Calingasta"},{"$f":"IFERROR(VLOOKUP(Tabla_SERIED_11_6[[#This Row],[IdEstablecimiento]],'[2]Establecimiento 2023'!$A$1:$E$183,5,FALSE),0)","v":"04106-Vicuña"},"15900050","2023-10-17T15:45:21",2,null,2,null,1,1]
[9,"5",2023,"200569",{"$f":"IFERROR(VLOOKUP(Tabla_SERIED_11_6[[#This Row],[IdEstablecimiento]],'[2]Establecimiento 2023'!$A$1:$E$183,3,FALSE),0)","v":"200569-Centro de Salud Familiar Fray Jorge"},{"$f":"IFERROR(VLOOKUP(Tabla_SERIED_11_6[[#This Row],[IdEstablecimiento]],'[2]Establecimiento 2023'!$A$1:$E$183,5,FALSE),0)","v":"04301-Ovalle"},"15060600","2023-10-17T15:45:54",1,null,null,1]
[9,"5",2023,"200569",{"$f":"IFERROR(VLOOKUP(Tabla_SERIED_11_6[[#This Row],[IdEstablecimiento]],'[2]Establecimiento 2023'!$A$1:$E$183,3,FALSE),0)","v":"200569-Centro de Salud Familiar Fray Jorge"},{"$f":"IFERROR(VLOOKUP(Tabla_SERIED_11_6[[#This Row],[IdEstablecimiento]],'[2]Establecimiento 2023'!$A$1:$E$183,5,FALSE),0)","v":"04301-Ovalle"},"15080018","2023-10-17T15:45:54",2,{"$nulls":3},2]
[9,"5",2023,"200569",{"$f":"IFERROR(VLOOKUP(Tabla_SERIED_11_6[[#This Row],[IdEstablecimiento]],'[2]Establecimiento 2023'!$A$1:$E$183,3,FALSE),0)","v":"200569-Centro de Salud Familiar Fray Jorge"},{"$f":"IFERROR(VLOOKUP(Tabla_SERIED_11_6[[#This Row],[IdEstablecimiento]],'[2]Establecimiento 2023'!$A$1:$E$183,5,FALSE),0)","v":"04301-Ovalle"},"15900010","2023-10-17T15:45:54",166.4,0,41.6,124.8]
[9,"5",2023,"200569",{"$f":"IFERROR(VLOOKUP(Tabla_SERIED_11_6[[#This Row],[IdEstablecimiento]],'[2]Establecimiento 2023'!$A$1:$E$183,3,FALSE),0)","v":"200569-Centro de Salud Familiar Fray Jorge"},{"$f":"IFERROR(VLOOKUP(Tabla_SERIED_11_6[[#This Row],[IdEstablecimiento]],'[2]Establecimiento 2023'!$A$1:$E$183,5,FALSE),0)","v":"04301-Ovalle"},"15900040","2023-10-17T15:45:54",3.6,0,3.6,0,0,0]
[9,"5",2023,"200607",{"$f":"IFERROR(VLOOKUP(Tabla_SERIED_11_6[[#This Row],[IdEstablecimiento]],'[2]Establecimiento 2023'!$A$1:$E$183,3,FALSE),0)","v":"200607-Centro de Salud Familiar Lila Cortés Godoy"},{"$f":"IFERROR(VLOOKUP(Tabla_SERIED_11_6[[#This Row],[IdEstablecimiento]],'[2]Establecimiento 2023'!$A$1:$E$183,5,FALSE),0)","v":"04102-Coquimbo"},"15060100","2023-10-17T15:46:21",7,1,6,null,null,1,1,3,null,1,1]
[9,"5",2023,"200607",{"$f":"IFERROR(VLOOKUP(Tabla_SERIED_11_6[[#This Row],[IdEstablecimiento]],'[2]Establecimiento 2023'!$A$1:$E$183,3,FALSE),0)","v":"200607-Centro de Salud Familiar Lila Cortés Godoy"},{"$f":"IFERROR(VLOOKUP(Tabla_SERIED_11_6[[#This Row],[IdEstablecimiento]],'[2]Establecimiento 2023'!$A$1:$E$183,5,FALSE),0)","v":"04102-Coquimbo"},"16090300","2023-10-17T15:46:21",259,259]
[9,"5",2023,"105301",{"$f":"IFERROR(VLOOKUP(Tabla_SERIED_11_6[[#This Row],[IdEstablecimiento]],'[2]Establecimiento 2023'!$A$1:$E$183,3,FALSE),0)","v":"105301-Centro de Salud Familiar Las Compañías"},{"$f":"IFERROR(VLOOKUP(Tabla_SERIED_11_6[[#This Row],[IdEstablecimiento]],'[2]Establecimiento 2023'!$A$1:$E$183,5,FALSE),0)","v":"04101-La Serena"},"15060100","2023-10-17T09:57:10",5,2,3,{"$nulls":3},1,1,2,1]
[9,"5",2023,"105301",{"$f":"IFERROR(VLOOKUP(Tabla_SERIED_11_6[[#This Row],[IdEstablecimiento]],'[2]Establecimiento 2023'!$A$1:$E$183,3,FALSE),0)","v":"105301-Centro de Salud Familiar Las Compañías"},{"$f":"IFERROR(VLOOKUP(Tabla_SERIED_11_6[[#This Row],[IdEstablecimiento]],'[2]Establecimiento 2023'!$A$1:$E$183,5,FALSE),0)","v":"04101-La Serena"},"15080009","2023-10-17T09:57:10",9,{"$nulls":8},9]
[9,"5",2023,"105302",{"$f":"IFERROR(VLOOKUP(Tabla_SERIED_11_6[[#This Row],[IdEstablecimiento]],'[2]Establecimiento 2023'!$A$1:$E$183,3,FALSE),0)","v":"105302-Centro de Salud Familiar Pedro Aguirre Cerda"},{"$f":"IFERROR(VLOOKUP(Tabla_SERIED_11_6[[#This Row],[IdEstablecimiento]],'[2]Establecimiento 2023'!$A$1:$E$183,5,FALSE),0)","v":"04101-La Serena"},"15900040","2023-10-17T09:56:49",31.6,3.6,3.6,7.6,7.6,9.2]
[9,"5",2023,"105304",{"$f":"IFERROR(VLOOKUP(Tabla_SERIED_11_6[[#This Row],[IdEstablecimiento]],'[2]Establecimiento 2023'!$A$1:$E$183,3,FALSE),0)","v":"105304-Centro de Salud Familiar Santa Cecilia"},{"$f":"IFERROR(VLOOKUP(Tabla_SERIED_11_6[[#This Row],[IdEstablecimiento]],'[2]Establecimiento 2023'!$A$1:$E$183,5,FALSE),0)","v":"04102-Coquimbo"},"15080015","2023-10-17T09:59:19",509,{"$nulls":5},286,223]
[9,"5",2023,"105305",{"$f":"IFERROR(VLOOKUP(Tabla_SERIED_11_6[[#This Row],[IdEstablecimiento]],'[2]Establecimiento 2023'!$A$1:$E$183,3,FALSE),0)","v":"105305-Centro de Salud Familiar Tierras Blancas"},{"$f":"IFERROR(VLOOKUP(Tabla_SERIED_11_6[[#This Row],[IdEstablecimiento]],'[2]Establecimiento 2023'!$A$1:$E$183,5,FALSE),0)","v":"04102-Coquimbo"},"15050100","2023-10-17T10:00:18",702,311,391,3,20,69,100,80,143,127,103,null,29,11,17]
[9,"5",2023,"105305",{"$f":"IFERROR(VLOOKUP(Tabla_SERIED_11_6[[#This Row],[IdEstablecimiento]],'[2]Establecimiento 2023'!$A$1:$E$183,3,FALSE),0)","v":"105305-Centro de Salud Familiar Tierras Blancas"},{"$f":"IFERROR(VLOOKUP(Tabla_SERIED_11_6[[#This Row],[IdEstablecimiento]],'[2]Establecimiento 2023'!$A$1:$E$183,5,FALSE),0)","v":"04102-Coquimbo"},"15080014","2023-10-17T10:00:18",360,{"$nulls":3},200,160]
[9,"5",2023,"105305",{"$f":"IFERROR(VLOOKUP(Tabla_SERIED_11_6[[#This Row],[IdEstablecimiento]],'[2]Establecimiento 2023'!$A$1:$E$183,3,FALSE),0)","v":"105305-Centro de Salud Familiar Tierras Blancas"},{"$f":"IFERROR(VLOOKUP(Tabla_SERIED_11_6[[#This Row],[IdEstablecimiento]],'[2]Establecimiento 2023'!$A$1:$E$183,5,FALSE),0)","v":"04102-Coquimbo"},"15900030","2023-10-17T10:00:18",27.2,1.2,null,16.8,6.8,null,2.4]
[9,"5",2023,"105305",{"$f":"IFERROR(VLOOKUP(Tabla_SERIED_11_6[[#This Row],[IdEstablecimiento]],'[2]Establecimiento 2023'!$A$1:$E$183,3,FALSE),0)","v":"105305-Centro de Salud Familiar Tierras Blancas"},{"$f":"IFERROR(VLOOKUP(Tabla_SERIED_11_6[[#This Row],[IdEstablecimiento]],'[2]Establecimiento 2023'!$A$1:$E$183,5,FALSE),0)","v":"04102-Coquimbo"},"15900050","2023-10-17T10:00:18",9,3,6,1,null,5,2,null,1]
[9,"5",2023,"105305",{"$f":"IFERROR(VLOOKUP(Tabla_SERIED_11_6[[#This Row],[IdEstablecimiento]],'[2]Establecimiento 2023'!$A$1:$E$183,3,FALSE),0)","v":"105305-Centro de Salud Familiar Tierras Blancas"},{"$f":"IFERROR(VLOOKUP(Tabla_SERIED_11_6[[#This Row],[IdEstablecimiento]],'[2]Establecimiento 2023'!$A$1:$E$183,5,FALSE),0)","v":"04102-Coquimbo"},"16200210","2023-10-17T10:00:18",108,108]
[9,"5",2023,"105306",{"$f":"IFERROR(VLOOKUP(Tabla_SERIED_11_6[[#This Row],[IdEstablecimiento]],'[2]Establecimiento 2023'!$A$1:$E$183,3,FALSE),0)","v":"105306-Centro de Salud Familiar Paihuano"},{"$f":"IFERROR(VLOOKUP(Tabla_SERIED_11_6[[#This Row],[IdEstablecimiento]],'[2]Establecimiento 2023'!$A$1:$E$183,5,FALSE),0)","v":"04105-Paihuano"},"15900050","2023-10-17T10:00:47",2,1,1,1,0,1,0,0,0,0]
[9,"5",2023,"105306",{"$f":"IFERROR(VLOOKUP(Tabla_SERIED_11_6[[#This Row],[IdEstablecimiento]],'[2]Establecimiento 2023'!$A$1:$E$183,3,FALSE),0)","v":"105306-Centro de Salud Familiar Paihuano"},{"$f":"IFERROR(VLOOKUP(Tabla_SERIED_11_6[[#This Row],[IdEstablecimiento]],'[2]Establecimiento 2023'!$A$1:$E$183,5,FALSE),0)","v":"04105-Paihuano"},"16200210","2023-10-17T10:00:47",6,6]
[9,"5",2023,"105307",{"$f":"IFERROR(VLOOKUP(Tabla_SERIED_11_6[[#This Row],[IdEstablecimiento]],'[2]Establecimiento 2023'!$A$1:$E$183,3,FALSE),0)","v":"105307-Centro de Salud Familiar Monte Patria"},{"$f":"IFERROR(VLOOKUP(Tabla_SERIED_11_6[[#This Row],[IdEstablecimiento]],'[2]Establecimiento 2023'!$A$1:$E$183,5,FALSE),0)","v":"04303-Monte Patria"},"15080016","2023-10-17T10:01:17",6,{"$nulls":3},2,null,4]
[9,"5",2023,"105307",{"$f":"IFERROR(VLOOKUP(Tabla_SERIED_11_6[[#This Row],[IdEstablecimiento]],'[2]Establecimiento 2023'!$A$1:$E$183,3,FALSE),0)","v":"105307-Centro de Salud Familiar Monte Patria"},{"$f":"IFERROR(VLOOKUP(Tabla_SERIED_11_6[[#This Row],[IdEstablecimiento]],'[2]Establecimiento 2023'!$A$1:$E$183,5,FALSE),0)","v":"04303-Monte Patria"},"16090300","2023-10-17T10:01:17",283,283]
[9,"5",2023,"105309",{"$f":"IFERROR(VLOOKUP(Tabla_SERIED_11_6[[#This Row],[IdEstablecimiento]],'[2]Establecimiento 2023'!$A$1:$E$183,3,FALSE),0)","v":"105309-Centro de Salud Familiar Canela"},{"$f":"IFERROR(VLOOKUP(Tabla_SERIED_11_6[[#This Row],[IdEstablecimiento]],'[2]Establecimiento 2023'!$A$1:$E$183,5,FALSE),0)","v":"04202-Canela"},"15080015","2023-10-17T10:02:58",147,{"$nulls":5},62,85]
[9,"5",2023,"105311",{"$f":"IFERROR(VLOOKUP(Tabla_SERIED_11_6[[#This Row],[IdEstablecimiento]],'[2]Establecimiento 2023'!$A$1:$E$183,3,FALSE),0)","v":"105311-Centro de Salud Familiar Chañaral Alto"},{"$f":"IFERROR(VLOOKUP(Tabla_SERIED_11_6[[#This Row],[IdEstablecimiento]],'[2]Establecimiento 2023'!$A$1:$E$183,5,FALSE),0)","v":"04303-Monte Patria"},"15050200","2023-10-17T10:03:53",7,3,4,null,null,1,1,2,1,2]
[9,"5",2023,"105311",{"$f":"IFERROR(VLOOKUP(Tabla_SERIED_11_6[[#This Row],[IdEstablecimiento]],'[2]Establecimiento 2023'!$A$1:$E$183,3,FALSE),0)","v":"105311-Centro de Salud Familiar Chañaral Alto"},{"$f":"IFERROR(VLOOKUP(Tabla_SERIED_11_6[[#This Row],[IdEstablecimiento]],'[2]Establecimiento 2023'!$A$1:$E$183,5,FALSE),0)","v":"04303-Monte Patria"},"16090300","2023-10-17T10:03:53",251,251]
[9,"5",2023,"105311",{"$f":"IFERROR(VLOOKUP(Tabla_SERIED_11_6[[#This Row],[IdEstablecimiento]],'[2]Establecimiento 2023'!$A$1:$E$183,3,FALSE),0)","v":"105311-Centro de Salud Familiar Chañaral Alto"},{"$f":"IFERROR(VLOOKUP(Tabla_SERIED_11_6[[#This Row],[IdEstablecimiento]],'[2]Establecimiento 2023'!$A$1:$E$183,5,FALSE),0)","v":"04303-Monte Patria"},"16100300","2023-10-17T10:03:53",251,119,132]
[9,"5",2023,"105313",{"$f":"IFERROR(VLOOKUP(Tabla_SERIED_11_6[[#This Row],[IdEstablecimiento]],'[2]Establecimiento 2023'!$A$1:$E$183,3,FALSE),0)","v":"105313-Centro de Salud Familiar Dr. Emilio Schaffhauser"},{"$f":"IFERROR(VLOOKUP(Tabla_SERIED_11_6[[#This Row],[IdEstablecimiento]],'[2]Establecimiento 2023'!$A$1:$E$183,5,FALSE),0)","v":"04101-La Serena"},"15010500","2023-10-17T10:06:10",18,{"$nulls":4},4,2,12]
[9,"5",2023,"105313",{"$f":"IFERROR(VLOOKUP(Tabla_SERIED_11_6[[#This Row],[IdEstablecimiento]],'[2]Establecimiento 2023'!$A$1:$E$183,3,FALSE),0)","v":"105313-Centro de Salud Familiar Dr. Emilio Schaffhauser"},{"$f":"IFERROR(VLOOKUP(Tabla_SERIED_11_6[[#This Row],[IdEstablecimiento]],'[2]Establecimiento 2023'!$A$1:$E$183,5,FALSE),0)","v":"04101-La Serena"},"15080018","2023-10-17T10:06:10",14,null,2,4,8]
[9,"5",2023,"105313",{"$f":"IFERROR(VLOOKUP(Tabla_SERIED_11_6[[#This Row],[IdEstablecimiento]],'[2]Establecimiento 2023'!$A$1:$E$183,3,FALSE),0)","v":"105313-Centro de Salud Familiar Dr. Emilio Schaffhauser"},{"$f":"IFERROR(VLOOKUP(Tabla_SERIED_11_6[[#This Row],[IdEstablecimiento]],'[2]Establecimiento 2023'!$A$1:$E$183,5,FALSE),0)","v":"04101-La Serena"},"15901400","2023-10-17T10:06:10",4,2,2,null,1,1,1,1]
[9,"5",2023,"105313",{"$f":"IFERROR(VLOOKUP(Tabla_SERIED_11_6[[#This Row],[IdEstablecimiento]],'[2]Establecimiento 2023'!$A$1:$E$183,3,FALSE),0)","v":"105313-Centro de Salud Familiar Dr. Emilio Schaffhauser"},{"$f":"IFERROR(VLOOKUP(Tabla_SERIED_11_6[[#This Row],[IdEstablecimiento]],'[2]Establecimiento 2023'!$A$1:$E$183,5,FALSE),0)","v":"04101-La Serena"},"15901500","2023-10-17T10:06:10",6.4,null,null,6.4]
[9,"5",2023,"105314",{"$f":"IFERROR(VLOOKUP(Tabla_SERIED_11_6[[#This Row],[IdEstablecimiento]],'[2]Establecimiento 2023'!$A$1:$E$183,3,FALSE),0)","v":"105314-Centro de Salud Familiar La Higuera"},{"$f":"IFERROR(VLOOKUP(Tabla_SERIED_11_6[[#This Row],[IdEstablecimiento]],'[2]Establecimiento 2023'!$A$1:$E$183,5,FALSE),0)","v":"04104-La Higuera"},"15080008","2023-10-17T10:16:58",11,{"$nulls":7},9,null,2]
[9,"5",2023,"105314",{"$f":"IFERROR(VLOOKUP(Tabla_SERIED_11_6[[#This Row],[IdEstablecimiento]],'[2]Establecimiento 2023'!$A$1:$E$183,3,FALSE),0)","v":"105314-Centro de Salud Familiar La Higuera"},{"$f":"IFERROR(VLOOKUP(Tabla_SERIED_11_6[[#This Row],[IdEstablecimiento]],'[2]Establecimiento 2023'!$A$1:$E$183,5,FALSE),0)","v":"04104-La Higuera"},"15900010","2023-10-17T10:16:58",31.2,4,8,19.2]
[9,"5",2023,"105317",{"$f":"IFERROR(VLOOKUP(Tabla_SERIED_11_6[[#This Row],[IdEstablecimiento]],'[2]Establecimiento 2023'!$A$1:$E$183,3,FALSE),0)","v":"105317-Centro de Salud Familiar Jorge Jordán Domic"},{"$f":"IFERROR(VLOOKUP(Tabla_SERIED_11_6[[#This Row],[IdEstablecimiento]],'[2]Establecimiento 2023'!$A$1:$E$183,5,FALSE),0)","v":"04301-Ovalle"},"15080015","2023-10-17T10:55:44",452,{"$nulls":5},236,216]
[9,"5",2023,"105317",{"$f":"IFERROR(VLOOKUP(Tabla_SERIED_11_6[[#This Row],[IdEstablecimiento]],'[2]Establecimiento 2023'!$A$1:$E$183,3,FALSE),0)","v":"105317-Centro de Salud Familiar Jorge Jordán Domic"},{"$f":"IFERROR(VLOOKUP(Tabla_SERIED_11_6[[#This Row],[IdEstablecimiento]],'[2]Establecimiento 2023'!$A$1:$E$183,5,FALSE),0)","v":"04301-Ovalle"},"15900010","2023-10-17T10:55:44",140,12.8,53.6,73.6]
[9,"5",2023,"105317",{"$f":"IFERROR(VLOOKUP(Tabla_SERIED_11_6[[#This Row],[IdEstablecimiento]],'[2]Establecimiento 2023'!$A$1:$E$183,3,FALSE),0)","v":"105317-Centro de Salud Familiar Jorge Jordán Domic"},{"$f":"IFERROR(VLOOKUP(Tabla_SERIED_11_6[[#This Row],[IdEstablecimiento]],'[2]Establecimiento 2023'!$A$1:$E$183,5,FALSE),0)","v":"04301-Ovalle"},"15901500","2023-10-17T10:55:44",9.6,8,0.8,0.8]
[9,"5",2023,"105319",{"$f":"IFERROR(VLOOKUP(Tabla_SERIED_11_6[[#This Row],[IdEstablecimiento]],'[2]Establecimiento 2023'!$A$1:$E$183,3,FALSE),0)","v":"105319-Centro de Salud Familiar Cardenal Raúl Silva Henríquez de La Serena"},{"$f":"IFERROR(VLOOKUP(Tabla_SERIED_11_6[[#This Row],[IdEstablecimiento]],'[2]Establecimiento 2023'!$A$1:$E$183,5,FALSE),0)","v":"04101-La Serena"},"15050100","2023-10-17T11:01:16",667,347,320,8,26,61,69,101,135,124,102,null,13,10,18]
[9,"5",2023,"105323",{"$f":"IFERROR(VLOOKUP(Tabla_SERIED_11_6[[#This Row],[IdEstablecimiento]],'[2]Establecimiento 2023'!$A$1:$E$183,3,FALSE),0)","v":"105323-Centro de Salud Familiar Dr. Sergio Aguilar Delgado"},{"$f":"IFERROR(VLOOKUP(Tabla_SERIED_11_6[[#This Row],[IdEstablecimiento]],'[2]Establecimiento 2023'!$A$1:$E$183,5,FALSE),0)","v":"04102-Coquimbo"},"15040100","2023-10-17T11:04:16",4.8,null,4.8]
[9,"5",2023,"105323",{"$f":"IFERROR(VLOOKUP(Tabla_SERIED_11_6[[#This Row],[IdEstablecimiento]],'[2]Establecimiento 2023'!$A$1:$E$183,3,FALSE),0)","v":"105323-Centro de Salud Familiar Dr. Sergio Aguilar Delgado"},{"$f":"IFERROR(VLOOKUP(Tabla_SERIED_11_6[[#This Row],[IdEstablecimiento]],'[2]Establecimiento 2023'!$A$1:$E$183,5,FALSE),0)","v":"04102-Coquimbo"},"15060100","2023-10-17T11:04:16",21,10,11,2,1,5,1,5,2,5]
[9,"5",2023,"105323",{"$f":"IFERROR(VLOOKUP(Tabla_SERIED_11_6[[#This Row],[IdEstablecimiento]],'[2]Establecimiento 2023'!$A$1:$E$183,3,FALSE),0)","v":"105323-Centro de Salud Familiar Dr. Sergio Aguilar Delgado"},{"$f":"IFERROR(VLOOKUP(Tabla_SERIED_11_6[[#This Row],[IdEstablecimiento]],'[2]Establecimiento 2023'!$A$1:$E$183,5,FALSE),0)","v":"04102-Coquimbo"},"15901300","2023-10-17T11:04:16",22,null,null,4,9.6,8.4]
[9,"5",2023,"105324",{"$f":"IFERROR(VLOOKUP(Tabla_SERIED_11_6[[#This Row],[IdEstablecimiento]],'[2]Establecimiento 2023'!$A$1:$E$183,3,FALSE),0)","v":"105324-Centro de Salud Familiar Sotaquí"},{"$f":"IFERROR(VLOOKUP(Tabla_SERIED_11_6[[#This Row],[IdEstablecimiento]],'[2]Establecimiento 2023'!$A$1:$E$183,5,FALSE),0)","v":"04301-Ovalle"},"15901400","2023-10-17T11:06:34",1,1,{"$nulls":5},1]
[9,"5",2023,"105324",{"$f":"IFERROR(VLOOKUP(Tabla_SERIED_11_6[[#This Row],[IdEstablecimiento]],'[2]Establecimiento 2023'!$A$1:$E$183,3,FALSE),0)","v":"105324-Centro de Salud Familiar Sotaquí"},{"$f":"IFERROR(VLOOKUP(Tabla_SERIED_11_6[[#This Row],[IdEstablecimiento]],'[2]Establecimiento 2023'!$A$1:$E$183,5,FALSE),0)","v":"04301-Ovalle"},"16200220","2023-10-17T11:06:34",9,1,8]
[9,"5",2023,"105325",{"$f":"IFERROR(VLOOKUP(Tabla_SERIED_11_6[[#This Row],[IdEstablecimiento]],'[2]Establecimiento 2023'!$A$1:$E$183,3,FALSE),0)","v":"105325-Centro de Salud Familiar Juan Pablo II (La Serena)"},{"$f":"IFERROR(VLOOKUP(Tabla_SERIED_11_6[[#This Row],[IdEstablecimiento]],'[2]Establecimiento 2023'!$A$1:$E$183,5,FALSE),0)","v":"04101-La Serena"},"15080019","2023-10-17T11:06:28",8,{"$nulls":5},2,6]
[9,"5",2023,"105325",{"$f":"IFERROR(VLOOKUP(Tabla_SERIED_11_6[[#This Row],[IdEstablecimiento]],'[2]Establecimiento 2023'!$A$1:$E$183,3,FALSE),0)","v":"105325-Centro de Salud Familiar Juan Pablo II (La Serena)"},{"$f":"IFERROR(VLOOKUP(Tabla_SERIED_11_6[[#This Row],[IdEstablecimiento]],'[2]Establecimiento 2023'!$A$1:$E$183,5,FALSE),0)","v":"04101-La Serena"},"15900030","2023-10-17T11:06:28",20,0,4,8.8,0,7.2]
[9,"5",2023,"105326",{"$f":"IFERROR(VLOOKUP(Tabla_SERIED_11_6[[#This Row],[IdEstablecimiento]],'[2]Establecimiento 2023'!$A$1:$E$183,3,FALSE),0)","v":"105326-Centro de Salud Familiar Villa San Rafael de Rozas"},{"$f":"IFERROR(VLOOKUP(Tabla_SERIED_11_6[[#This Row],[IdEstablecimiento]],'[2]Establecimiento 2023'!$A$1:$E$183,5,FALSE),0)","v":"04201-Illapel"},"15080008","2023-10-17T11:07:10",29,{"$nulls":7},9,null,12,1,7]
[9,"5",2023,"105326",{"$f":"IFERROR(VLOOKUP(Tabla_SERIED_11_6[[#This Row],[IdEstablecimiento]],'[2]Establecimiento 2023'!$A$1:$E$183,3,FALSE),0)","v":"105326-Centro de Salud Familiar Villa San Rafael de Rozas"},{"$f":"IFERROR(VLOOKUP(Tabla_SERIED_11_6[[#This Row],[IdEstablecimiento]],'[2]Establecimiento 2023'!$A$1:$E$183,5,FALSE),0)","v":"04201-Illapel"},"15080015","2023-10-17T11:07:10",197,{"$nulls":5},118,79]
[9,"5",2023,"105326",{"$f":"IFERROR(VLOOKUP(Tabla_SERIED_11_6[[#This Row],[IdEstablecimiento]],'[2]Establecimiento 2023'!$A$1:$E$183,3,FALSE),0)","v":"105326-Centro de Salud Familiar Villa San Rafael de Rozas"},{"$f":"IFERROR(VLOOKUP(Tabla_SERIED_11_6[[#This Row],[IdEstablecimiento]],'[2]Establecimiento 2023'!$A$1:$E$183,5,FALSE),0)","v":"04201-Illapel"},"16090500","2023-10-17T11:07:10",3,3]
[9,"5",2023,"105401",{"$f":"IFERROR(VLOOKUP(Tabla_SERIED_11_6[[#This Row],[IdEstablecimiento]],'[2]Establecimiento 2023'!$A$1:$E$183,3,FALSE),0)","v":"105401-Posta de Salud Rural Las Rojas"},{"$f":"IFERROR(VLOOKUP(Tabla_SERIED_11_6[[#This Row],[IdEstablecimiento]],'[2]Establecimiento 2023'!$A$1:$E$183,5,FALSE),0)","v":"04101-La Serena"},"15050200","2023-10-17T11:08:18",1,1,{"$nulls":5},1]
[9,"5",2023,"105401",{"$f":"IFERROR(VLOOKUP(Tabla_SERIED_11_6[[#This Row],[IdEstablecimiento]],'[2]Establecimiento 2023'!$A$1:$E$183,3,FALSE),0)","v":"105401-Posta de Salud Rural Las Rojas"},{"$f":"IFERROR(VLOOKUP(Tabla_SERIED_11_6[[#This Row],[IdEstablecimiento]],'[2]Establecimiento 2023'!$A$1:$E$183,5,FALSE),0)","v":"04101-La Serena"},"15050500","2023-10-17T11:08:18",1,null,1,null,1]
[9,"5",2023,"105401",{"$f":"IFERROR(VLOOKUP(Tabla_SERIED_11_6[[#This Row],[IdEstablecimiento]],'[2]Establecimiento 2023'!$A$1:$E$183,3,FALSE),0)","v":"105401-Posta de Salud Rural Las Rojas"},{"$f":"IFERROR(VLOOKUP(Tabla_SERIED_11_6[[#This Row],[IdEstablecimiento]],'[2]Establecimiento 2023'!$A$1:$E$183,5,FALSE),0)","v":"04101-La Serena"},"15080016","2023-10-17T11:08:18",2,{"$nulls":4},2]
[9,"5",2023,"105401",{"$f":"IFERROR(VLOOKUP(Tabla_SERIED_11_6[[#This Row],[IdEstablecimiento]],'[2]Establecimiento 2023'!$A$1:$E$183,3,FALSE),0)","v":"105401-Posta de Salud Rural Las Rojas"},{"$f":"IFERROR(VLOOKUP(Tabla_SERIED_11_6[[#This Row],[IdEstablecimiento]],'[2]Establecimiento 2023'!$A$1:$E$183,5,FALSE),0)","v":"04101-La Serena"},"16090300","2023-10-17T11:08:18",64,64]
[9,"5",2023,"105405",{"$f":"IFERROR(VLOOKUP(Tabla_SERIED_11_6[[#This Row],[IdEstablecimiento]],'[2]Establecimiento 2023'!$A$1:$E$183,3,FALSE),0)","v":"105405-Posta de Salud Rural Guanaqueros"},{"$f":"IFERROR(VLOOKUP(Tabla_SERIED_11_6[[#This Row],[IdEstablecimiento]],'[2]Establecimiento 2023'!$A$1:$E$183,5,FALSE),0)","v":"04102-Coquimbo"},"15080014","2023-10-17T11:13:10",34,{"$nulls":3},22,12]
[9,"5",2023,"105410",{"$f":"IFERROR(VLOOKUP(Tabla_SERIED_11_6[[#This Row],[IdEstablecimiento]],'[2]Establecimiento 2023'!$A$1:$E$183,3,FALSE),0)","v":"105410-Posta de Salud Rural Hurtado"},{"$f":"IFERROR(VLOOKUP(Tabla_SERIED_11_6[[#This Row],[IdEstablecimiento]],'[2]Establecimiento 2023'!$A$1:$E$183,5,FALSE),0)","v":"04305-Rio Hurtado"},"16200220","2023-10-17T11:17:18",2,1,1]
[9,"5",2023,"105417",{"$f":"IFERROR(VLOOKUP(Tabla_SERIED_11_6[[#This Row],[IdEstablecimiento]],'[2]Establecimiento 2023'!$A$1:$E$183,3,FALSE),0)","v":"105417-Posta de Salud Rural Alcones Bajo"},{"$f":"IFERROR(VLOOKUP(Tabla_SERIED_11_6[[#This Row],[IdEstablecimiento]],'[2]Establecimiento 2023'!$A$1:$E$183,5,FALSE),0)","v":"04301-Ovalle"},"15050200","2023-10-17T11:21:25",1,{"$nulls":4},1]
[9,"5",2023,"105417",{"$f":"IFERROR(VLOOKUP(Tabla_SERIED_11_6[[#This Row],[IdEstablecimiento]],'[2]Establecimiento 2023'!$A$1:$E$183,3,FALSE),0)","v":"105417-Posta de Salud Rural Alcones Bajo"},{"$f":"IFERROR(VLOOKUP(Tabla_SERIED_11_6[[#This Row],[IdEstablecimiento]],'[2]Establecimiento 2023'!$A$1:$E$183,5,FALSE),0)","v":"04301-Ovalle"},"16090300","2023-10-17T11:21:25",102,102]
[9,"5",2023,"105417",{"$f":"IFERROR(VLOOKUP(Tabla_SERIED_11_6[[#This Row],[IdEstablecimiento]],'[2]Establecimiento 2023'!$A$1:$E$183,3,FALSE),0)","v":"105417-Posta de Salud Rural Alcones Bajo"},{"$f":"IFERROR(VLOOKUP(Tabla_SERIED_11_6[[#This Row],[IdEstablecimiento]],'[2]Establecimiento 2023'!$A$1:$E$183,5,FALSE),0)","v":"04301-Ovalle"},"16100300","2023-10-17T11:21:25",102,53,49]
[9,"5",2023,"105417",{"$f":"IFERROR(VLOOKUP(Tabla_SERIED_11_6[[#This Row],[IdEstablecimiento]],'[2]Establecimiento 2023'!$A$1:$E$183,3,FALSE),0)","v":"105417-Posta de Salud Rural Alcones Bajo"},{"$f":"IFERROR(VLOOKUP(Tabla_SERIED_11_6[[#This Row],[IdEstablecimiento]],'[2]Establecimiento 2023'!$A$1:$E$183,5,FALSE),0)","v":"04301-Ovalle"},"16200220","2023-10-17T11:21:25",10,2,8]
[5,"5",2023,"105322",{"$f":"IFERROR(VLOOKUP(Tabla_SERIED_11_6[[#This Row],[IdEstablecimiento]],'[2]Establecimiento 2023'!$A$1:$E$183,3,FALSE),0)","v":"105322-Centro de Salud Familiar Marcos Macuada"},{"$f":"IFERROR(VLOOKUP(Tabla_SERIED_11_6[[#This Row],[IdEstablecimiento]],'[2]Establecimiento 2023'!$A$1:$E$183,5,FALSE),0)","v":"04301-Ovalle"},"15060200","2023-06-22T11:15:30",2,1,1,0,0,0,0,0,2,0,null,0,0,0,0]
[5,"5",2023,"105323",{"$f":"IFERROR(VLOOKUP(Tabla_SERIED_11_6[[#This Row],[IdEstablecimiento]],'[2]Establecimiento 2023'!$A$1:$E$183,3,FALSE),0)","v":"105323-Centro de Salud Familiar Dr. Sergio Aguilar Delgado"},{"$f":"IFERROR(VLOOKUP(Tabla_SERIED_11_6[[#This Row],[IdEstablecimiento]],'[2]Establecimiento 2023'!$A$1:$E$183,5,FALSE),0)","v":"04102-Coquimbo"},"15010200","2023-06-22T11:15:42",420,{"$nulls":4},16,216,188]
[5,"5",2023,"105323",{"$f":"IFERROR(VLOOKUP(Tabla_SERIED_11_6[[#This Row],[IdEstablecimiento]],'[2]Establecimiento 2023'!$A$1:$E$183,3,FALSE),0)","v":"105323-Centro de Salud Familiar Dr. Sergio Aguilar Delgado"},{"$f":"IFERROR(VLOOKUP(Tabla_SERIED_11_6[[#This Row],[IdEstablecimiento]],'[2]Establecimiento 2023'!$A$1:$E$183,5,FALSE),0)","v":"04102-Coquimbo"},"15010500","2023-06-22T11:15:42",48,null,null,18,2,4,14,10]
[5,"5",2023,"105323",{"$f":"IFERROR(VLOOKUP(Tabla_SERIED_11_6[[#This Row],[IdEstablecimiento]],'[2]Establecimiento 2023'!$A$1:$E$183,3,FALSE),0)","v":"105323-Centro de Salud Familiar Dr. Sergio Aguilar Delgado"},{"$f":"IFERROR(VLOOKUP(Tabla_SERIED_11_6[[#This Row],[IdEstablecimiento]],'[2]Establecimiento 2023'!$A$1:$E$183,5,FALSE),0)","v":"04102-Coquimbo"},"15901300","2023-06-22T11:15:42",16.8,null,null,12.4,4.4]
[5,"5",2023,"105324",{"$f":"IFERROR(VLOOKUP(Tabla_SERIED_11_6[[#This Row],[IdEstablecimiento]],'[2]Establecimiento 2023'!$A$1:$E$183,3,FALSE),0)","v":"105324-Centro de Salud Familiar Sotaquí"},{"$f":"IFERROR(VLOOKUP(Tabla_SERIED_11_6[[#This Row],[IdEstablecimiento]],'[2]Establecimiento 2023'!$A$1:$E$183,5,FALSE),0)","v":"04301-Ovalle"},"15030100","2023-06-22T11:15:56",4,null,null,4]
[5,"5",2023,"105324",{"$f":"IFERROR(VLOOKUP(Tabla_SERIED_11_6[[#This Row],[IdEstablecimiento]],'[2]Establecimiento 2023'!$A$1:$E$183,3,FALSE),0)","v":"105324-Centro de Salud Familiar Sotaquí"},{"$f":"IFERROR(VLOOKUP(Tabla_SERIED_11_6[[#This Row],[IdEstablecimiento]],'[2]Establecimiento 2023'!$A$1:$E$183,5,FALSE),0)","v":"04301-Ovalle"},"15900020","2023-06-22T11:15:56",4,null,null,4]
[5,"5",2023,"105324",{"$f":"IFERROR(VLOOKUP(Tabla_SERIED_11_6[[#This Row],[IdEstablecimiento]],'[2]Establecimiento 2023'!$A$1:$E$183,3,FALSE),0)","v":"105324-Centro de Salud Familiar Sotaquí"},{"$f":"IFERROR(VLOOKUP(Tabla_SERIED_11_6[[#This Row],[IdEstablecimiento]],'[2]Establecimiento 2023'!$A$1:$E$183,5,FALSE),0)","v":"04301-Ovalle"},"15901400","2023-06-22T11:15:56",1,1,{"$nulls":5},1]
[5,"5",2023,"105325",{"$f":"IFERROR(VLOOKUP(Tabla_SERIED_11_6[[#This Row],[IdEstablecimiento]],'[2]Establecimiento 2023'!$A$1:$E$183,3,FALSE),0)","v":"105325-Centro de Salud Familiar Juan Pablo II (La Serena)"},{"$f":"IFERROR(VLOOKUP(Tabla_SERIED_11_6[[#This Row],[IdEstablecimiento]],'[2]Establecimiento 2023'!$A$1:$E$183,5,FALSE),0)","v":"04101-La Serena"},"15060100","2023-06-22T11:16:28",6,3,3,1,0,0,2,0,1,2,0,null,0,0,0]
[5,"5",2023,"105325",{"$f":"IFERROR(VLOOKUP(Tabla_SERIED_11_6[[#This Row],[IdEstablecimiento]],'[2]Establecimiento 2023'!$A$1:$E$183,3,FALSE),0)","v":"105325-Centro de Salud Familiar Juan Pablo II (La Serena)"},{"$f":"IFERROR(VLOOKUP(Tabla_SERIED_11_6[[#This Row],[IdEstablecimiento]],'[2]Establecimiento 2023'!$A$1:$E$183,5,FALSE),0)","v":"04101-La Serena"},"15900040","2023-06-22T11:16:28",4,0,0,0,4,0]
[5,"5",2023,"105325",{"$f":"IFERROR(VLOOKUP(Tabla_SERIED_11_6[[#This Row],[IdEstablecimiento]],'[2]Establecimiento 2023'!$A$1:$E$183,3,FALSE),0)","v":"105325-Centro de Salud Familiar Juan Pablo II (La Serena)"},{"$f":"IFERROR(VLOOKUP(Tabla_SERIED_11_6[[#This Row],[IdEstablecimiento]],'[2]Establecimiento 2023'!$A$1:$E$183,5,FALSE),0)","v":"04101-La Serena"},"16090300","2023-06-22T11:16:28",304,304]
[5,"5",2023,"105325",{"$f":"IFERROR(VLOOKUP(Tabla_SERIED_11_6[[#This Row],[IdEstablecimiento]],'[2]Establecimiento 2023'!$A$1:$E$183,3,FALSE),0)","v":"105325-Centro de Salud Familiar Juan Pablo II (La Serena)"},{"$f":"IFERROR(VLOOKUP(Tabla_SERIED_11_6[[#This Row],[IdEstablecimiento]],'[2]Establecimiento 2023'!$A$1:$E$183,5,FALSE),0)","v":"04101-La Serena"},"16200210","2023-06-22T11:16:28",50,50]
[5,"5",2023,"105400",{"$f":"IFERROR(VLOOKUP(Tabla_SERIED_11_6[[#This Row],[IdEstablecimiento]],'[2]Establecimiento 2023'!$A$1:$E$183,3,FALSE),0)","v":"105400-Posta de Salud Rural Algarrobito"},{"$f":"IFERROR(VLOOKUP(Tabla_SERIED_11_6[[#This Row],[IdEstablecimiento]],'[2]Establecimiento 2023'!$A$1:$E$183,5,FALSE),0)","v":"04101-La Serena"},"15010500","2023-06-22T11:23:15",2,{"$nulls":5},2]
[5,"5",2023,"105400",{"$f":"IFERROR(VLOOKUP(Tabla_SERIED_11_6[[#This Row],[IdEstablecimiento]],'[2]Establecimiento 2023'!$A$1:$E$183,3,FALSE),0)","v":"105400-Posta de Salud Rural Algarrobito"},{"$f":"IFERROR(VLOOKUP(Tabla_SERIED_11_6[[#This Row],[IdEstablecimiento]],'[2]Establecimiento 2023'!$A$1:$E$183,5,FALSE),0)","v":"04101-La Serena"},"15020200","2023-06-22T11:23:15",2,{"$nulls":5},2]
[5,"5",2023,"105401",{"$f":"IFERROR(VLOOKUP(Tabla_SERIED_11_6[[#This Row],[IdEstablecimiento]],'[2]Establecimiento 2023'!$A$1:$E$183,3,FALSE),0)","v":"105401-Posta de Salud Rural Las Rojas"},{"$f":"IFERROR(VLOOKUP(Tabla_SERIED_11_6[[#This Row],[IdEstablecimiento]],'[2]Establecimiento 2023'!$A$1:$E$183,5,FALSE),0)","v":"04101-La Serena"},"15050100","2023-06-22T11:23:43",25,8,17,null,null,1,2,2,5,4,7,null,4]
[5,"5",2023,"105405",{"$f":"IFERROR(VLOOKUP(Tabla_SERIED_11_6[[#This Row],[IdEstablecimiento]],'[2]Establecimiento 2023'!$A$1:$E$183,3,FALSE),0)","v":"105405-Posta de Salud Rural Guanaqueros"},{"$f":"IFERROR(VLOOKUP(Tabla_SERIED_11_6[[#This Row],[IdEstablecimiento]],'[2]Establecimiento 2023'!$A$1:$E$183,5,FALSE),0)","v":"04102-Coquimbo"},"15010200","2023-06-22T11:24:48",40,{"$nulls":5},16,24]
[5,"5",2023,"105405",{"$f":"IFERROR(VLOOKUP(Tabla_SERIED_11_6[[#This Row],[IdEstablecimiento]],'[2]Establecimiento 2023'!$A$1:$E$183,3,FALSE),0)","v":"105405-Posta de Salud Rural Guanaqueros"},{"$f":"IFERROR(VLOOKUP(Tabla_SERIED_11_6[[#This Row],[IdEstablecimiento]],'[2]Establecimiento 2023'!$A$1:$E$183,5,FALSE),0)","v":"04102-Coquimbo"},"15080016","2023-06-22T11:24:48",2,{"$nulls":3},0,null,null,2]
[5,"5",2023,"105405",{"$f":"IFERROR(VLOOKUP(Tabla_SERIED_11_6[[#This Row],[IdEstablecimiento]],'[2]Establecimiento 2023'!$A$1:$E$183,3,FALSE),0)","v":"105405-Posta de Salud Rural Guanaqueros"},{"$f":"IFERROR(VLOOKUP(Tabla_SERIED_11_6[[#This Row],[IdEstablecimiento]],'[2]Establecimiento 2023'!$A$1:$E$183,5,FALSE),0)","v":"04102-Coquimbo"},"15900010","2023-06-22T11:24:48",26.4,3.2,0,23.2]
[5,"5",2023,"105411",{"$f":"IFERROR(VLOOKUP(Tabla_SERIED_11_6[[#This Row],[IdEstablecimiento]],'[2]Establecimiento 2023'!$A$1:$E$183,3,FALSE),0)","v":"105411-Posta de Salud Rural Las Breas (Río Hurtado)"},{"$f":"IFERROR(VLOOKUP(Tabla_SERIED_11_6[[#This Row],[IdEstablecimiento]],'[2]Establecimiento 2023'!$A$1:$E$183,5,FALSE),0)","v":"04305-Rio Hurtado"},"15010400","2023-06-22T11:26:09",2,{"$nulls":5},2]
[5,"5",2023,"105413",{"$f":"IFERROR(VLOOKUP(Tabla_SERIED_11_6[[#This Row],[IdEstablecimiento]],'[2]Establecimiento 2023'!$A$1:$E$183,3,FALSE),0)","v":"105413-Posta de Salud Rural Samo Alto"},{"$f":"IFERROR(VLOOKUP(Tabla_SERIED_11_6[[#This Row],[IdEstablecimiento]],'[2]Establecimiento 2023'!$A$1:$E$183,5,FALSE),0)","v":"04305-Rio Hurtado"},"16200100","2023-06-22T11:26:28",4,2,2]
[10,"5",2023,"105108",{"$f":"IFERROR(VLOOKUP(Tabla_SERIED_11_6[[#This Row],[IdEstablecimiento]],'[2]Establecimiento 2023'!$A$1:$E$183,3,FALSE),0)","v":"105108-Hospital San Pedro (Los Vilos)"},{"$f":"IFERROR(VLOOKUP(Tabla_SERIED_11_6[[#This Row],[IdEstablecimiento]],'[2]Establecimiento 2023'!$A$1:$E$183,5,FALSE),0)","v":"105108-Hospital Los Vilos"},"16100300","2023-11-16T12:12:54",407,187,220]
[10,"5",2023,"105108",{"$f":"IFERROR(VLOOKUP(Tabla_SERIED_11_6[[#This Row],[IdEstablecimiento]],'[2]Establecimiento 2023'!$A$1:$E$183,3,FALSE),0)","v":"105108-Hospital San Pedro (Los Vilos)"},{"$f":"IFERROR(VLOOKUP(Tabla_SERIED_11_6[[#This Row],[IdEstablecimiento]],'[2]Establecimiento 2023'!$A$1:$E$183,5,FALSE),0)","v":"105108-Hospital Los Vilos"},"16200220","2023-11-16T12:12:54",5,3,2]
[10,"5",2023,"105307",{"$f":"IFERROR(VLOOKUP(Tabla_SERIED_11_6[[#This Row],[IdEstablecimiento]],'[2]Establecimiento 2023'!$A$1:$E$183,3,FALSE),0)","v":"105307-Centro de Salud Familiar Monte Patria"},{"$f":"IFERROR(VLOOKUP(Tabla_SERIED_11_6[[#This Row],[IdEstablecimiento]],'[2]Establecimiento 2023'!$A$1:$E$183,5,FALSE),0)","v":"04303-Monte Patria"},"15080014","2023-11-16T12:13:15",164,{"$nulls":3},66,98]
[10,"5",2023,"105307",{"$f":"IFERROR(VLOOKUP(Tabla_SERIED_11_6[[#This Row],[IdEstablecimiento]],'[2]Establecimiento 2023'!$A$1:$E$183,3,FALSE),0)","v":"105307-Centro de Salud Familiar Monte Patria"},{"$f":"IFERROR(VLOOKUP(Tabla_SERIED_11_6[[#This Row],[IdEstablecimiento]],'[2]Establecimiento 2023'!$A$1:$E$183,5,FALSE),0)","v":"04303-Monte Patria"},"15080015","2023-11-16T12:13:15",247,{"$nulls":5},128,119]
[10,"5",2023,"105307",{"$f":"IFERROR(VLOOKUP(Tabla_SERIED_11_6[[#This Row],[IdEstablecimiento]],'[2]Establecimiento 2023'!$A$1:$E$183,3,FALSE),0)","v":"105307-Centro de Salud Familiar Monte Patria"},{"$f":"IFERROR(VLOOKUP(Tabla_SERIED_11_6[[#This Row],[IdEstablecimiento]],'[2]Establecimiento 2023'!$A$1:$E$183,5,FALSE),0)","v":"04303-Monte Patria"},"15080008","2023-11-16T12:13:15",90,{"$nulls":7},41,null,30,4,15]
[10,"5",2023,"105307",{"$f":"IFERROR(VLOOKUP(Tabla_SERIED_11_6[[#This Row],[IdEstablecimiento]],'[2]Establecimiento 2023'!$A$1:$E$183,3,FALSE),0)","v":"105307-Centro de Salud Familiar Monte Patria"},{"$f":"IFERROR(VLOOKUP(Tabla_SERIED_11_6[[#This Row],[IdEstablecimiento]],'[2]Establecimiento 2023'!$A$1:$E$183,5,FALSE),0)","v":"04303-Monte Patria"},"15900010","2023-11-16T12:13:15",59.9,null,13.1,46.8]
[10,"5",2023,"105307",{"$f":"IFERROR(VLOOKUP(Tabla_SERIED_11_6[[#This Row],[IdEstablecimiento]],'[2]Establecimiento 2023'!$A$1:$E$183,3,FALSE),0)","v":"105307-Centro de Salud Familiar Monte Patria"},{"$f":"IFERROR(VLOOKUP(Tabla_SERIED_11_6[[#This Row],[IdEstablecimiento]],'[2]Establecimiento 2023'!$A$1:$E$183,5,FALSE),0)","v":"04303-Monte Patria"},"15080016","2023-11-16T12:13:15",10,{"$nulls":3},2,2,4,2]
[10,"5",2023,"105307",{"$f":"IFERROR(VLOOKUP(Tabla_SERIED_11_6[[#This Row],[IdEstablecimiento]],'[2]Establecimiento 2023'!$A$1:$E$183,3,FALSE),0)","v":"105307-Centro de Salud Familiar Monte Patria"},{"$f":"IFERROR(VLOOKUP(Tabla_SERIED_11_6[[#This Row],[IdEstablecimiento]],'[2]Establecimiento 2023'!$A$1:$E$183,5,FALSE),0)","v":"04303-Monte Patria"},"15010500","2023-11-16T12:13:15",14,null,null,4,2,2,4,2]
[10,"5",2023,"105309",{"$f":"IFERROR(VLOOKUP(Tabla_SERIED_11_6[[#This Row],[IdEstablecimiento]],'[2]Establecimiento 2023'!$A$1:$E$183,3,FALSE),0)","v":"105309-Centro de Salud Familiar Canela"},{"$f":"IFERROR(VLOOKUP(Tabla_SERIED_11_6[[#This Row],[IdEstablecimiento]],'[2]Establecimiento 2023'!$A$1:$E$183,5,FALSE),0)","v":"04202-Canela"},"15050100","2023-11-16T12:13:36",193,102,91,4,6,21,25,17,50,49,15,null,2,null,4]
[10,"5",2023,"105309",{"$f":"IFERROR(VLOOKUP(Tabla_SERIED_11_6[[#This Row],[IdEstablecimiento]],'[2]Establecimiento 2023'!$A$1:$E$183,3,FALSE),0)","v":"105309-Centro de Salud Familiar Canela"},{"$f":"IFERROR(VLOOKUP(Tabla_SERIED_11_6[[#This Row],[IdEstablecimiento]],'[2]Establecimiento 2023'!$A$1:$E$183,5,FALSE),0)","v":"04202-Canela"},"15900050","2023-11-16T12:13:36",2,2,{"$nulls":3},1,null,1]
[10,"5",2023,"105309",{"$f":"IFERROR(VLOOKUP(Tabla_SERIED_11_6[[#This Row],[IdEstablecimiento]],'[2]Establecimiento 2023'!$A$1:$E$183,3,FALSE),0)","v":"105309-Centro de Salud Familiar Canela"},{"$f":"IFERROR(VLOOKUP(Tabla_SERIED_11_6[[#This Row],[IdEstablecimiento]],'[2]Establecimiento 2023'!$A$1:$E$183,5,FALSE),0)","v":"04202-Canela"},"16090300","2023-11-16T12:13:36",319,319]
[10,"5",2023,"105309",{"$f":"IFERROR(VLOOKUP(Tabla_SERIED_11_6[[#This Row],[IdEstablecimiento]],'[2]Establecimiento 2023'!$A$1:$E$183,3,FALSE),0)","v":"105309-Centro de Salud Familiar Canela"},{"$f":"IFERROR(VLOOKUP(Tabla_SERIED_11_6[[#This Row],[IdEstablecimiento]],'[2]Establecimiento 2023'!$A$1:$E$183,5,FALSE),0)","v":"04202-Canela"},"16200210","2023-11-16T12:13:36",28,28]
[10,"5",2023,"105309",{"$f":"IFERROR(VLOOKUP(Tabla_SERIED_11_6[[#This Row],[IdEstablecimiento]],'[2]Establecimiento 2023'!$A$1:$E$183,3,FALSE),0)","v":"105309-Centro de Salud Familiar Canela"},{"$f":"IFERROR(VLOOKUP(Tabla_SERIED_11_6[[#This Row],[IdEstablecimiento]],'[2]Establecimiento 2023'!$A$1:$E$183,5,FALSE),0)","v":"04202-Canela"},"16090500","2023-11-16T12:13:36",2,2]
[10,"5",2023,"105309",{"$f":"IFERROR(VLOOKUP(Tabla_SERIED_11_6[[#This Row],[IdEstablecimiento]],'[2]Establecimiento 2023'!$A$1:$E$183,3,FALSE),0)","v":"105309-Centro de Salud Familiar Canela"},{"$f":"IFERROR(VLOOKUP(Tabla_SERIED_11_6[[#This Row],[IdEstablecimiento]],'[2]Establecimiento 2023'!$A$1:$E$183,5,FALSE),0)","v":"04202-Canela"},"16090600","2023-11-16T12:13:36",1,1]
[10,"5",2023,"105309",{"$f":"IFERROR(VLOOKUP(Tabla_SERIED_11_6[[#This Row],[IdEstablecimiento]],'[2]Establecimiento 2023'!$A$1:$E$183,3,FALSE),0)","v":"105309-Centro de Salud Familiar Canela"},{"$f":"IFERROR(VLOOKUP(Tabla_SERIED_11_6[[#This Row],[IdEstablecimiento]],'[2]Establecimiento 2023'!$A$1:$E$183,5,FALSE),0)","v":"04202-Canela"},"16100300","2023-11-16T12:13:36",319,148,171]
[10,"5",2023,"105309",{"$f":"IFERROR(VLOOKUP(Tabla_SERIED_11_6[[#This Row],[IdEstablecimiento]],'[2]Establecimiento 2023'!$A$1:$E$183,3,FALSE),0)","v":"105309-Centro de Salud Familiar Canela"},{"$f":"IFERROR(VLOOKUP(Tabla_SERIED_11_6[[#This Row],[IdEstablecimiento]],'[2]Establecimiento 2023'!$A$1:$E$183,5,FALSE),0)","v":"04202-Canela"},"16200220","2023-11-16T12:13:36",28,12,16]
[10,"5",2023,"105104",{"$f":"IFERROR(VLOOKUP(Tabla_SERIED_11_6[[#This Row],[IdEstablecimiento]],'[2]Establecimiento 2023'!$A$1:$E$183,3,FALSE),0)","v":"105104-Hospital de Salamanca"},{"$f":"IFERROR(VLOOKUP(Tabla_SERIED_11_6[[#This Row],[IdEstablecimiento]],'[2]Establecimiento 2023'!$A$1:$E$183,5,FALSE),0)","v":"105104-Hospital Salamanca"},"15050100","2023-11-16T12:11:40",333,153,180,5,10,42,44,45,74,53,35,null,17,0,8]
[10,"5",2023,"105105",{"$f":"IFERROR(VLOOKUP(Tabla_SERIED_11_6[[#This Row],[IdEstablecimiento]],'[2]Establecimiento 2023'!$A$1:$E$183,3,FALSE),0)","v":"105105-Hospital San Juan de Dios (Combarbalá)"},{"$f":"IFERROR(VLOOKUP(Tabla_SERIED_11_6[[#This Row],[IdEstablecimiento]],'[2]Establecimiento 2023'!$A$1:$E$183,5,FALSE),0)","v":"105105-Hospital Combarbalá"},"15900020","2023-11-16T12:12:02",2.4,null,null,2.4]
[10,"5",2023,"105105",{"$f":"IFERROR(VLOOKUP(Tabla_SERIED_11_6[[#This Row],[IdEstablecimiento]],'[2]Establecimiento 2023'!$A$1:$E$183,3,FALSE),0)","v":"105105-Hospital San Juan de Dios (Combarbalá)"},{"$f":"IFERROR(VLOOKUP(Tabla_SERIED_11_6[[#This Row],[IdEstablecimiento]],'[2]Establecimiento 2023'!$A$1:$E$183,5,FALSE),0)","v":"105105-Hospital Combarbalá"},"15900030","2023-11-16T12:12:02",4,{"$nulls":3},4]
[10,"5",2023,"105105",{"$f":"IFERROR(VLOOKUP(Tabla_SERIED_11_6[[#This Row],[IdEstablecimiento]],'[2]Establecimiento 2023'!$A$1:$E$183,3,FALSE),0)","v":"105105-Hospital San Juan de Dios (Combarbalá)"},{"$f":"IFERROR(VLOOKUP(Tabla_SERIED_11_6[[#This Row],[IdEstablecimiento]],'[2]Establecimiento 2023'!$A$1:$E$183,5,FALSE),0)","v":"105105-Hospital Combarbalá"},"15900040","2023-11-16T12:12:02",8.4,{"$nulls":3},8.4]
[10,"5",2023,"105105",{"$f":"IFERROR(VLOOKUP(Tabla_SERIED_11_6[[#This Row],[IdEstablecimiento]],'[2]Establecimiento 2023'!$A$1:$E$183,3,FALSE),0)","v":"105105-Hospital San Juan de Dios (Combarbalá)"},{"$f":"IFERROR(VLOOKUP(Tabla_SERIED_11_6[[#This Row],[IdEstablecimiento]],'[2]Establecimiento 2023'!$A$1:$E$183,5,FALSE),0)","v":"105105-Hospital Combarbalá"},"15050100","2023-11-16T12:12:02",185,74,111,2,2,7,24,25,38,52,16,null,9,2,8]
[10,"5",2023,"105105",{"$f":"IFERROR(VLOOKUP(Tabla_SERIED_11_6[[#This Row],[IdEstablecimiento]],'[2]Establecimiento 2023'!$A$1:$E$183,3,FALSE),0)","v":"105105-Hospital San Juan de Dios (Combarbalá)"},{"$f":"IFERROR(VLOOKUP(Tabla_SERIED_11_6[[#This Row],[IdEstablecimiento]],'[2]Establecimiento 2023'!$A$1:$E$183,5,FALSE),0)","v":"105105-Hospital Combarbalá"},"15050200","2023-11-16T12:12:02",9,6,4,0,0,1,0,0,3,5]
[10,"5",2023,"105105",{"$f":"IFERROR(VLOOKUP(Tabla_SERIED_11_6[[#This Row],[IdEstablecimiento]],'[2]Establecimiento 2023'!$A$1:$E$183,3,FALSE),0)","v":"105105-Hospital San Juan de Dios (Combarbalá)"},{"$f":"IFERROR(VLOOKUP(Tabla_SERIED_11_6[[#This Row],[IdEstablecimiento]],'[2]Establecimiento 2023'!$A$1:$E$183,5,FALSE),0)","v":"105105-Hospital Combarbalá"},"15900050","2023-11-16T12:12:02",3,1,2,{"$nulls":3},3]
[10,"5",2023,"105105",{"$f":"IFERROR(VLOOKUP(Tabla_SERIED_11_6[[#This Row],[IdEstablecimiento]],'[2]Establecimiento 2023'!$A$1:$E$183,3,FALSE),0)","v":"105105-Hospital San Juan de Dios (Combarbalá)"},{"$f":"IFERROR(VLOOKUP(Tabla_SERIED_11_6[[#This Row],[IdEstablecimiento]],'[2]Establecimiento 2023'!$A$1:$E$183,5,FALSE),0)","v":"105105-Hospital Combarbalá"},"16090300","2023-11-16T12:12:02",364,364]
[10,"5",2023,"105309",{"$f":"IFERROR(VLOOKUP(Tabla_SERIED_11_6[[#This Row],[IdEstablecimiento]],'[2]Establecimiento 2023'!$A$1:$E$183,3,FALSE),0)","v":"105309-Centro de Salud Familiar Canela"},{"$f":"IFERROR(VLOOKUP(Tabla_SERIED_11_6[[#This Row],[IdEstablecimiento]],'[2]Establecimiento 2023'!$A$1:$E$183,5,FALSE),0)","v":"04202-Canela"},"16100600","2023-11-16T12:13:36",2,null,2]
[10,"5",2023,"105309",{"$f":"IFERROR(VLOOKUP(Tabla_SERIED_11_6[[#This Row],[IdEstablecimiento]],'[2]Establecimiento 2023'!$A$1:$E$183,3,FALSE),0)","v":"105309-Centro de Salud Familiar Canela"},{"$f":"IFERROR(VLOOKUP(Tabla_SERIED_11_6[[#This Row],[IdEstablecimiento]],'[2]Establecimiento 2023'!$A$1:$E$183,5,FALSE),0)","v":"04202-Canela"},"16100700","2023-11-16T12:13:36",1,1]
[10,"5",2023,"105309",{"$f":"IFERROR(VLOOKUP(Tabla_SERIED_11_6[[#This Row],[IdEstablecimiento]],'[2]Establecimiento 2023'!$A$1:$E$183,3,FALSE),0)","v":"105309-Centro de Salud Familiar Canela"},{"$f":"IFERROR(VLOOKUP(Tabla_SERIED_11_6[[#This Row],[IdEstablecimiento]],'[2]Establecimiento 2023'!$A$1:$E$183,5,FALSE),0)","v":"04202-Canela"},"16200100","2023-11-16T12:13:36",2,1,1]
[10,"5",2023,"105311",{"$f":"IFERROR(VLOOKUP(Tabla_SERIED_11_6[[#This Row],[IdEstablecimiento]],'[2]Establecimiento 2023'!$A$1:$E$183,3,FALSE),0)","v":"105311-Centro de Salud Familiar Chañaral Alto"},{"$f":"IFERROR(VLOOKUP(Tabla_SERIED_11_6[[#This Row],[IdEstablecimiento]],'[2]Establecimiento 2023'!$A$1:$E$183,5,FALSE),0)","v":"04303-Monte Patria"},"15080014","2023-11-16T12:14:56",70,{"$nulls":3},46,24]
[10,"5",2023,"105311",{"$f":"IFERROR(VLOOKUP(Tabla_SERIED_11_6[[#This Row],[IdEstablecimiento]],'[2]Establecimiento 2023'!$A$1:$E$183,3,FALSE),0)","v":"105311-Centro de Salud Familiar Chañaral Alto"},{"$f":"IFERROR(VLOOKUP(Tabla_SERIED_11_6[[#This Row],[IdEstablecimiento]],'[2]Establecimiento 2023'!$A$1:$E$183,5,FALSE),0)","v":"04303-Monte Patria"},"15080015","2023-11-16T12:14:56",114,{"$nulls":5},60,54]
[10,"5",2023,"105311",{"$f":"IFERROR(VLOOKUP(Tabla_SERIED_11_6[[#This Row],[IdEstablecimiento]],'[2]Establecimiento 2023'!$A$1:$E$183,3,FALSE),0)","v":"105311-Centro de Salud Familiar Chañaral Alto"},{"$f":"IFERROR(VLOOKUP(Tabla_SERIED_11_6[[#This Row],[IdEstablecimiento]],'[2]Establecimiento 2023'!$A$1:$E$183,5,FALSE),0)","v":"04303-Monte Patria"},"15080008","2023-11-16T12:14:56",24,{"$nulls":7},9,null,10,null,5]
[10,"5",2023,"105311",{"$f":"IFERROR(VLOOKUP(Tabla_SERIED_11_6[[#This Row],[IdEstablecimiento]],'[2]Establecimiento 2023'!$A$1:$E$183,3,FALSE),0)","v":"105311-Centro de Salud Familiar Chañaral Alto"},{"$f":"IFERROR(VLOOKUP(Tabla_SERIED_11_6[[#This Row],[IdEstablecimiento]],'[2]Establecimiento 2023'!$A$1:$E$183,5,FALSE),0)","v":"04303-Monte Patria"},"15900010","2023-11-16T12:14:56",21.9,null,null,21.9]
[10,"5",2023,"105311",{"$f":"IFERROR(VLOOKUP(Tabla_SERIED_11_6[[#This Row],[IdEstablecimiento]],'[2]Establecimiento 2023'!$A$1:$E$183,3,FALSE),0)","v":"105311-Centro de Salud Familiar Chañaral Alto"},{"$f":"IFERROR(VLOOKUP(Tabla_SERIED_11_6[[#This Row],[IdEstablecimiento]],'[2]Establecimiento 2023'!$A$1:$E$183,5,FALSE),0)","v":"04303-Monte Patria"},"15080016","2023-11-16T12:14:56",14,{"$nulls":4},6,4,4]
[10,"5",2023,"105105",{"$f":"IFERROR(VLOOKUP(Tabla_SERIED_11_6[[#This Row],[IdEstablecimiento]],'[2]Establecimiento 2023'!$A$1:$E$183,3,FALSE),0)","v":"105105-Hospital San Juan de Dios (Combarbalá)"},{"$f":"IFERROR(VLOOKUP(Tabla_SERIED_11_6[[#This Row],[IdEstablecimiento]],'[2]Establecimiento 2023'!$A$1:$E$183,5,FALSE),0)","v":"105105-Hospital Combarbalá"},"16200210","2023-11-16T12:12:02",29,29]
[10,"5",2023,"105106",{"$f":"IFERROR(VLOOKUP(Tabla_SERIED_11_6[[#This Row],[IdEstablecimiento]],'[2]Establecimiento 2023'!$A$1:$E$183,3,FALSE),0)","v":"105106-Hospital Dr. José Arraño (Andacollo)"},{"$f":"IFERROR(VLOOKUP(Tabla_SERIED_11_6[[#This Row],[IdEstablecimiento]],'[2]Establecimiento 2023'!$A$1:$E$183,5,FALSE),0)","v":"105106-Hospital Andacollo"},"15050100","2023-11-16T12:12:33",225,95,130,6,9,18,32,24,48,54,24,null,4,2,4]
[10,"5",2023,"105106",{"$f":"IFERROR(VLOOKUP(Tabla_SERIED_11_6[[#This Row],[IdEstablecimiento]],'[2]Establecimiento 2023'!$A$1:$E$183,3,FALSE),0)","v":"105106-Hospital Dr. José Arraño (Andacollo)"},{"$f":"IFERROR(VLOOKUP(Tabla_SERIED_11_6[[#This Row],[IdEstablecimiento]],'[2]Establecimiento 2023'!$A$1:$E$183,5,FALSE),0)","v":"105106-Hospital Andacollo"},"15050200","2023-11-16T12:12:33",4,2,2,{"$nulls":5},1,3]
[10,"5",2023,"105106",{"$f":"IFERROR(VLOOKUP(Tabla_SERIED_11_6[[#This Row],[IdEstablecimiento]],'[2]Establecimiento 2023'!$A$1:$E$183,3,FALSE),0)","v":"105106-Hospital Dr. José Arraño (Andacollo)"},{"$f":"IFERROR(VLOOKUP(Tabla_SERIED_11_6[[#This Row],[IdEstablecimiento]],'[2]Establecimiento 2023'!$A$1:$E$183,5,FALSE),0)","v":"105106-Hospital Andacollo"},"15080018","2023-11-16T12:12:33",4,null,null,2,2]
[10,"5",2023,"105106",{"$f":"IFERROR(VLOOKUP(Tabla_SERIED_11_6[[#This Row],[IdEstablecimiento]],'[2]Establecimiento 2023'!$A$1:$E$183,3,FALSE),0)","v":"105106-Hospital Dr. José Arraño (Andacollo)"},{"$f":"IFERROR(VLOOKUP(Tabla_SERIED_11_6[[#This Row],[IdEstablecimiento]],'[2]Establecimiento 2023'!$A$1:$E$183,5,FALSE),0)","v":"105106-Hospital Andacollo"},"15080019","2023-11-16T12:12:33",8,{"$nulls":5},4,4]
[10,"5",2023,"105106",{"$f":"IFERROR(VLOOKUP(Tabla_SERIED_11_6[[#This Row],[IdEstablecimiento]],'[2]Establecimiento 2023'!$A$1:$E$183,3,FALSE),0)","v":"105106-Hospital Dr. José Arraño (Andacollo)"},{"$f":"IFERROR(VLOOKUP(Tabla_SERIED_11_6[[#This Row],[IdEstablecimiento]],'[2]Establecimiento 2023'!$A$1:$E$183,5,FALSE),0)","v":"105106-Hospital Andacollo"},"15060100","2023-11-16T12:12:33",6,3,3,{"$nulls":3},1,1,2,2]
[10,"5",2023,"105106",{"$f":"IFERROR(VLOOKUP(Tabla_SERIED_11_6[[#This Row],[IdEstablecimiento]],'[2]Establecimiento 2023'!$A$1:$E$183,3,FALSE),0)","v":"105106-Hospital Dr. José Arraño (Andacollo)"},{"$f":"IFERROR(VLOOKUP(Tabla_SERIED_11_6[[#This Row],[IdEstablecimiento]],'[2]Establecimiento 2023'!$A$1:$E$183,5,FALSE),0)","v":"105106-Hospital Andacollo"},"16090300","2023-11-16T12:12:33",319,319]
[10,"5",2023,"105106",{"$f":"IFERROR(VLOOKUP(Tabla_SERIED_11_6[[#This Row],[IdEstablecimiento]],'[2]Establecimiento 2023'!$A$1:$E$183,3,FALSE),0)","v":"105106-Hospital Dr. José Arraño (Andacollo)"},{"$f":"IFERROR(VLOOKUP(Tabla_SERIED_11_6[[#This Row],[IdEstablecimiento]],'[2]Establecimiento 2023'!$A$1:$E$183,5,FALSE),0)","v":"105106-Hospital Andacollo"},"16200210","2023-11-16T12:12:33",29,29]
[10,"5",2023,"105311",{"$f":"IFERROR(VLOOKUP(Tabla_SERIED_11_6[[#This Row],[IdEstablecimiento]],'[2]Establecimiento 2023'!$A$1:$E$183,3,FALSE),0)","v":"105311-Centro de Salud Familiar Chañaral Alto"},{"$f":"IFERROR(VLOOKUP(Tabla_SERIED_11_6[[#This Row],[IdEstablecimiento]],'[2]Establecimiento 2023'!$A$1:$E$183,5,FALSE),0)","v":"04303-Monte Patria"},"15010500","2023-11-16T12:14:56",16,null,null,2,null,6,4,4]
[10,"5",2023,"105311",{"$f":"IFERROR(VLOOKUP(Tabla_SERIED_11_6[[#This Row],[IdEstablecimiento]],'[2]Establecimiento 2023'!$A$1:$E$183,3,FALSE),0)","v":"105311-Centro de Salud Familiar Chañaral Alto"},{"$f":"IFERROR(VLOOKUP(Tabla_SERIED_11_6[[#This Row],[IdEstablecimiento]],'[2]Establecimiento 2023'!$A$1:$E$183,5,FALSE),0)","v":"04303-Monte Patria"},"15900020","2023-11-16T12:14:56",3.6,null,null,3.6]
[10,"5",2023,"105311",{"$f":"IFERROR(VLOOKUP(Tabla_SERIED_11_6[[#This Row],[IdEstablecimiento]],'[2]Establecimiento 2023'!$A$1:$E$183,3,FALSE),0)","v":"105311-Centro de Salud Familiar Chañaral Alto"},{"$f":"IFERROR(VLOOKUP(Tabla_SERIED_11_6[[#This Row],[IdEstablecimiento]],'[2]Establecimiento 2023'!$A$1:$E$183,5,FALSE),0)","v":"04303-Monte Patria"},"15900030","2023-11-16T12:14:56",4.4,null,null,4.4]
[10,"5",2023,"105311",{"$f":"IFERROR(VLOOKUP(Tabla_SERIED_11_6[[#This Row],[IdEstablecimiento]],'[2]Establecimiento 2023'!$A$1:$E$183,3,FALSE),0)","v":"105311-Centro de Salud Familiar Chañaral Alto"},{"$f":"IFERROR(VLOOKUP(Tabla_SERIED_11_6[[#This Row],[IdEstablecimiento]],'[2]Establecimiento 2023'!$A$1:$E$183,5,FALSE),0)","v":"04303-Monte Patria"},"15900040","2023-11-16T12:14:56",5.6,{"$nulls":3},2.4,3.2]
[10,"5",2023,"105311",{"$f":"IFERROR(VLOOKUP(Tabla_SERIED_11_6[[#This Row],[IdEstablecimiento]],'[2]Establecimiento 2023'!$A$1:$E$183,3,FALSE),0)","v":"105311-Centro de Salud Familiar Chañaral Alto"},{"$f":"IFERROR(VLOOKUP(Tabla_SERIED_11_6[[#This Row],[IdEstablecimiento]],'[2]Establecimiento 2023'!$A$1:$E$183,5,FALSE),0)","v":"04303-Monte Patria"},"15050100","2023-11-16T12:14:56",119,47,72,null,null,8,23,12,30,27,9,null,5,null,5]
[10,"5",2023,"105311",{"$f":"IFERROR(VLOOKUP(Tabla_SERIED_11_6[[#This Row],[IdEstablecimiento]],'[2]Establecimiento 2023'!$A$1:$E$183,3,FALSE),0)","v":"105311-Centro de Salud Familiar Chañaral Alto"},{"$f":"IFERROR(VLOOKUP(Tabla_SERIED_11_6[[#This Row],[IdEstablecimiento]],'[2]Establecimiento 2023'!$A$1:$E$183,5,FALSE),0)","v":"04303-Monte Patria"},"15050200","2023-11-16T12:14:56",8,3,5,null,null,1,null,3,2,2]
[10,"5",2023,"105311",{"$f":"IFERROR(VLOOKUP(Tabla_SERIED_11_6[[#This Row],[IdEstablecimiento]],'[2]Establecimiento 2023'!$A$1:$E$183,3,FALSE),0)","v":"105311-Centro de Salud Familiar Chañaral Alto"},{"$f":"IFERROR(VLOOKUP(Tabla_SERIED_11_6[[#This Row],[IdEstablecimiento]],'[2]Establecimiento 2023'!$A$1:$E$183,5,FALSE),0)","v":"04303-Monte Patria"},"15900050","2023-11-16T12:14:56",3,1,2,null,null,1,1,1]
[10,"5",2023,"105311",{"$f":"IFERROR(VLOOKUP(Tabla_SERIED_11_6[[#This Row],[IdEstablecimiento]],'[2]Establecimiento 2023'!$A$1:$E$183,3,FALSE),0)","v":"105311-Centro de Salud Familiar Chañaral Alto"},{"$f":"IFERROR(VLOOKUP(Tabla_SERIED_11_6[[#This Row],[IdEstablecimiento]],'[2]Establecimiento 2023'!$A$1:$E$183,5,FALSE),0)","v":"04303-Monte Patria"},"16090300","2023-11-16T12:14:56",279,279]